{"text_format":"1","workbook":"xlsx","n_sheets":28,"sheets":["NOMBRE","A01","A02","A03","A04","A05","A06","A07","A08","A09","A11","A11a","A19a","A19b","A21","A23","A24","A25","A26","A27","A28","A29","A30","A31","A32","A33","Contro","MACROS"],"not_rendered":{"charts":0,"images":0,"macros":1,"external_links":0,"defined_names":4,"comments":1,"pivot_tables":0},"unopened":[],"bounds":{"document_bytes":16777216,"sheet_cells":100000,"rows_first":2000,"rows_last":500,"rows_between":2000,"halvings":0,"cell_chars":16384,"cell_head_chars":4096},"cells_cut":0,"cells_raw":0,"read":"whole","date_system":"1900"}

{"sheet":"NOMBRE","index":0,"n_rows":37,"n_cols":33,"rows_kept":37,"cut":false,"hidden":false,"merged":[[0,2,0,7],[16,1,18,1],[0,0,0,1],[8,0,8,1],[14,0,14,1],[8,6,13,9],[16,6,16,9]]}
[null,null,"CÓDIGOS"]
["NOMBRE DE COMUNA",null,null,null,null,null,null,null,{"$f":"IF(OR(NOMBRE!C2=\"\",NOMBRE!D2=\"\",NOMBRE!E2=\"\",NOMBRE!F2=\"\",NOMBRE!G2=\"\"),\"Falta Cód. Com.\",\"\")","v":"Falta Cód. Com."},null,null,null,null,null,null,null,null,null,null,null,null,null,null,null,null,null,null,null,null,null,null,null,{"$f":"IF(I2>\"\",1,0)","v":1}]
["NOMBRE ESTABLECIMIENTO/ESTRATEGIA",null,null,null,null,null,null,null,{"$f":"IF(OR(NOMBRE!C3=\"\",NOMBRE!D3=\"\",NOMBRE!E3=\"\",NOMBRE!F3=\"\",NOMBRE!G3=\"\",NOMBRE!H3=\"\"),\"Falta Cód. Est.\",\"\")","v":"Falta Cód. Est."},null,null,null,null,null,null,null,null,null,null,null,null,null,null,null,null,null,null,null,null,null,null,null,{"$f":"IF(I3>\"\",1,0)","v":1}]
["TIPO DE ESTABLECIMIENTO/ESTRATEGIA",null,null,null,null,null,null,null,{"$f":"IF(OR(NOMBRE!B4=\"\"),\"Falta Tipo. Est.\",\"\")","v":"Falta Tipo. Est."},null,null,null,null,null,null,null,null,null,null,null,null,null,null,null,null,null,null,null,null,null,null,null,{"$f":"IF(I4>\"\",1,0)","v":1}]
["DEPENDENCIA",null,null,null,null,null,null,null,{"$f":"IF(OR(NOMBRE!B5=\"\"),\"Falta Dependencia. Est.\",\"\")","v":"Falta Dependencia. Est."},null,null,null,null,null,null,null,null,null,null,null,null,null,null,null,null,null,null,null,null,null,null,null,{"$f":"IF(I5>\"\",1,0)","v":1}]
["MES:",null,null,null,null,null,null,null,{"$f":"IF(OR(NOMBRE!C6=\"\",NOMBRE!D6=\"\"),\"Falta Cód. Mes.\",\"\")","v":"Falta Cód. Mes."},null,null,null,null,null,null,null,null,null,null,null,null,null,null,null,null,null,null,null,null,null,null,null,{"$f":"IF(I6>\"\",1,0)","v":1}]
["AÑO:",2023,null,null,null,null,null,null,null,null,null,null,null,null,null,null,null,null,null,null,null,null,null,null,null,null,null,null,null,null,null,null,{"$f":"SUM(AG2:AG6)","v":5}]
[]
["Versión 1.0: Febrero 2023 ",null,null,null,null,null,"Para habilitar el contenido de las celdas \"Tipo de Establecimiento\", \"Dependencia\" y \"Mes\", presione el boton \"Verificar Habilitacion de Macros\".                                   Para poder tener un 100% de funcionalidad debe hablitar la opcion Macros en esta planilla."]
[]
["Director Servicio de Salud o Director Establecimiento",null,null,null,null,null,null,null,null,null,null,null,null,null,null,null,null,null,null,null,null,null,null,null,null,null,"ENERO","Establecimiento de Mayor Complejidad (EMAYC)","SERVICIO DE SALUD"]
["Jefe de Estadísticas",null,null,null,null,null,null,null,null,null,null,null,null,null,null,null,null,null,null,null,null,null,null,null,null,null,"FEBRERO","Establecimiento de Mediana Complejidad (EMEDC)","MUNICIPAL"]
[null,null,null,null,null,null,null,null,null,null,null," ",null,null,null,null,null,null,null,null,null,null,null,null,null,null,"MARZO","Establecimiento de Menor Complejidad (EMENC)","OTRA INSTITUCION (Delegado)"]
[null,null,null,null,null,null,null,null,null,null,null,null,null,null,null,null,null,null,null,null,null,null,null,null,null,null,"ABRIL","Centros de Diagnóstico Terapeutico (CDT)"]
["MINSAL - DEIS",null,null,null,null,null,null,null,null,null,null,null,null,null,null,null,null,null,null,null,null,null,null,null,null,null,"MAYO","Centro de Referencia de Salud (CRS)"]
[null,null,null,null,null,null,null,null,null,null,null,null,null,null,null,null,null,null,null,null,null,null,null,null,null,null,"JUNIO","Centro de Salud Familiar (CESFAM)"]
[null,"SERIE A",null,null,null,null,"ESTADO MACROS:",null,null,null,null,null,null,null,null,null,null,null,null,null,null,null,null,null,null,null,"JULIO","Centro de Salud Familiar (CESFAM) con SAPU/SUR/SAR"]
[null,null,null,null,null,null,null,null,"HABILITADO",null,null,null,null,null,null,null,null,null,null,null,null,null,null,null,null,null,"AGOSTO","Consultorio General Urbano (CGU)"]
[null,null,null,null,null,null,null,null,null,null,null,null,null,null,null,null,null,null,null,null,null,null,null,null,null,null,"SEPTIEMBRE","Consultorio General Urbano(CGU) con SAPU/SUR/SAR"]
[null,null,null,null,null,null,null,null,null,null,null,null,null,null,null,null,null,null,null,null,null,null,null,null,null,null,"OCTUBRE","Consultorio General Rural (CGR)"]
[null,null,null,null,null,null,null,null,null,null,null,null,null,null,null,null,null,null,null,null,null,null,null,null,null,null,"NOVIEMBRE","Consultorio General Rural (CGR) con SAPU/SAR/SUR"]
[null,null,null,null,null,null,null,null,null,null,null,null,null,null,null,null,null,null,null,null,null,null,null,null,null,null,"DICIEMBRE","Posta de Salud Rural (PSR)"]
[null,null,null,null,null,null,null,null,null,null,null,null,null,null,null,null,null,null,null,null,null,null,null,null,null,null,null,"Centro Comunitario de Salud Familiar (CECOSF)"]
[null,null,null,null,null,null,null,null,null,null,null,null,null,null,null,null,null,null,null,null,null,null,null,null,null,null,null,"Consultorio de Salud Mental (COSAM)"]
[null,null,null,null,null,null,null,null,null,null,null,null,null,null,null,null,null,null,null,null,null,null,null,null,null,null,null,"Programa de Reparación y Atención Integral de Salud (PRAIS)"]
[null,null,null,null,null,null,null,null,null,null,null,null,null,null,null,null,null,null,null,null,null,null,null,null,null,null,null,"Unidad de Salud de Funcionarios (USF)"]
[null,null,null,null,null,null,null,null,null,null,null,null,null,null,null,null,null,null,null,null,null,null,null,null,null,null,null,"ClÍnica Dental Móvil (CDM)"]
[null,null,null,null,null,null,null,null,null,null,null,null,null,null,null,null,null,null,null,null,null,null,null,null,null,null,null,"Dirección Servicio de Salud (DSS)"]
[null,null,null,null,null,null,null,null,null,null,null,null,null,null,null,null,null,null,null,null,null,null,null,null,null,null,null,"Servicio de Atención Primaria de Urgencia (SAPU)"]
[null,null,null,null,null,null,null,null,null,null,null,null,null,null,null,null,null,null,null,null,null,null,null,null,null,null,null,"Servicio de Urgencia Rural (SUR)"]
[null,null,null,null,null,null,null,null,null,null,null,null,null,null,null,null,null,null,null,null,null,null,null,null,null,null,null,"Servicio de Alta Resolución (SAR)"]
[null,null,null,null,null,null,null,null,null,null,null,null,null,null,null,null,null,null,null,null,null,null,null,null,null,null,null,"Laboratorio Clínico o Dental"]
[null,null,null,null,null,null,null,null,null,null,null,null,null,null,null,null,null,null,null,null,null,null,null,null,null,null,null,"Servicio de Atención Primaria de Urgencia Dental (SAPUDENT)"]
[null,null,null,null,null,null,null,null,null,null,null,null,null,null,null,null,null,null,null,null,null,null,null,null,null,null,null,"Centro de Rehabilitación (CR)"]
[null,null,null,null,null,null,null,null,null,null,null,null,null,null,null,null,null,null,null,null,null,null,null,null,null,null,null,"Hospital de Campaña"]
[null,null,null,null,null,null,null,null,null,null,null,null,null,null,null,null,null,null,null,null,null,null,null,null,null,null,null,"Centro Oncologico"]
[null,null,null,null,null,null,null,null,null,null,null,null,null,null,null,null,null,null,null,null,null,null,null,null,null,null,null,"SAMU"]

{"sheet":"A01","index":1,"n_rows":189,"n_cols":120,"rows_kept":189,"cut":false,"hidden":false,"merged":[[81,8,82,8],[5,0,5,15],[6,0,6,11],[32,0,35,0],[38,13,38,14],[38,15,38,16],[9,3,9,19],[38,5,38,6],[17,0,18,0],[21,0,22,0],[23,0,24,0],[27,0,28,0],[30,0,31,0],[25,0,26,0],[30,2,30,4],[30,1,31,1],[19,0,20,0],[11,0,12,0],[13,0,14,0],[15,0,16,0],[9,2,10,2],[9,0,10,0],[53,0,58,0],[50,0,52,0],[68,0,68,1],[66,0,66,1],[64,0,65,1],[64,12,65,12],[64,13,65,13],[9,1,10,1],[67,0,67,1],[59,0,62,0],[37,0,39,0],[37,1,39,1],[40,0,43,0],[44,0,46,0],[47,0,49,0],[37,2,38,4],[64,2,64,6],[64,7,64,11],[90,4,90,5],[90,6,90,7],[69,0,69,1],[90,8,90,9],[70,0,70,1],[89,0,91,0],[89,1,90,3],[89,4,89,31],[73,0,74,0],[73,1,74,1],[90,10,90,11],[90,12,90,13],[90,14,90,15],[90,16,90,17],[81,0,82,0],[81,1,82,1],[81,2,82,2],[81,3,81,4],[81,5,82,5],[73,4,74,4],[73,5,74,5],[73,2,73,3],[81,6,82,6],[81,7,82,7],[9,23,10,23],[38,31,38,32],[38,25,38,26],[38,27,38,28],[38,17,38,18],[38,19,38,20],[38,29,38,30],[90,28,90,29],[90,30,90,31],[90,18,90,19],[90,20,90,21],[90,22,90,23],[90,24,90,25],[90,26,90,27],[9,27,10,27],[9,28,10,28],[9,22,10,22],[9,20,9,21],[9,24,10,24],[9,25,10,25],[89,32,91,32],[9,26,10,26],[37,5,37,38],[89,33,91,33],[37,40,39,40],[73,6,74,6],[37,39,39,39],[30,5,30,33],[30,37,31,37],[38,37,38,38],[38,33,38,34],[38,35,38,36],[38,11,38,12],[38,7,38,8],[38,9,38,10],[30,34,30,35],[30,38,31,38],[30,39,31,39],[30,36,31,36],[73,7,74,7],[38,21,38,22],[38,23,38,24]]}
["SERVICIO DE SALUD"]
[{"$f":"CONCATENATE(\"COMUNA: \",NOMBRE!B2,\" - \",\"( \",NOMBRE!C2,NOMBRE!D2,NOMBRE!E2,NOMBRE!F2,NOMBRE!G2,\" )\")","v":"COMUNA:  - (  )"}]
[{"$f":"CONCATENATE(\"ESTABLECIMIENTO/ESTRATEGIA: \",NOMBRE!B3,\" - \",\"( \",NOMBRE!C3,NOMBRE!D3,NOMBRE!E3,NOMBRE!F3,NOMBRE!G3,NOMBRE!H3,\" )\")","v":"ESTABLECIMIENTO/ESTRATEGIA:  - (  )"}]
[{"$f":"CONCATENATE(\"MES: \",NOMBRE!B6,\" - \",\"( \",NOMBRE!C6,NOMBRE!D6,\" )\")","v":"MES:  - (  )"}]
[{"$f":"CONCATENATE(\"AÑO: \",NOMBRE!B7)","v":"AÑO: 2023"}]
["REM-A01.   CONTROLES DE SALUD"]
[]
[]
["SECCIÓN A: CONTROLES DE SALUD SEXUAL Y REPRODUCTIVA"]
["TIPO DE CONTROL","PROFESIONAL","TOTAL      ","POR EDAD",null,null,null,null,null,null,null,null,null,null,null,null,null,null,null,null,"SEXO",null,"Control con pareja familiar u otro","Control de diada con presencia del padre","Espacios Amigables","Niños, Niñas, Adolescentes y Jóvenes SENAME","Niños, Niñas, Adolescentes y Jóvenes Mejor Niñez","Pueblos Originarios","Migrantes"]
[null,null,null,"Menor de 4 años"," 5  -  9 años"," 10 - 14 años","15 a 19 años","20 - 24 años","25 - 29 años","30 - 34 años","35 - 39 años","40 - 44 años","45 - 49 años","50 - 54 años","55 - 59 años","60 - 64 años","65 - 69 años","70 - 74 años","75 - 79 años","80 y más años","HOMBRES","MUJERES"]
[" PRE-\nCONCEPCIONAL ","MÉDICO/A",{"$f":"SUM(F12:O12)","v":0}]
[null,"MATRONA/ÓN",0]
["PRENATAL","MÉDICO/A",0,null,null,null,null,null,null,null,null,null,null,null,null,null,null,null,null,null,null,null,null,null,null,null,null,null,null,null,null,null,null,null,null,null,null,null,null,null,null,null,null,null,null,null,null,null,null,null,null,null,null,null,null,null,null,null,null,null,null,null,null,null,null,null,null,null,null,null,null,null,null,null,null,null,null,null,null,null,null,null,null,null,null,null,null,null,null,null,null,null,null,null,null,null,null,null,null,null,null,null,null,null,0,0,null,null,0,0,0,0,0,0,0,0,0,0,0,0]
[null,"MATRONA/ÓN",0]
["POST PARTO ","MÉDICO/A",0]
[null,"MATRONA/ÓN",0]
["POST ABORTO","MÉDICO/A",0]
[null,"MATRONA/ÓN",0]
["PUÉRPERA CON RECIÉN NACIDO HASTA 10 DÍAS DE VIDA","MÉDICO/A",0,null,null,null,null,null,null,null,null,null,null,null,null,null,null,null,null,null,null,null,null,null,null,null,null,null,null,null,null,null,null,null,null,null,null,null,null,null,null,null,null,null,null,null,null,null,null,null,null,null,null,null,null,null,null,null,null,null,null,null,null,null,null,null,null,null,null,null,null,null,null,null,null,null,null,null,null,null,null,null,null,null,null,null,null,null,null,null,null,null,null,null,null,null,null,null,null,null,null,null,null,null,0,0,0,null,0,0,0,0,0,0,0,0,0,0,0,0]
[null,"MATRONA/ÓN",0]
["PUÉRPERA CON RECIÉN NACIDO ENTRE 11 y 28 DÍAS","MÉDICO/A",0]
[null,"MATRONA/ÓN",0]
["GINECOLÓGICO ","MÉDICO/A",{"$f":"SUM(D24:T24)","v":0},null,null,null,null,null,null,null,null,null,null,null,null,null,null,null,null,null,null,null,null,null,null,null,null,null,null,null,null,null,null,null,null,null,null,null,null,null,null,null,null,null,null,null,null,null,null,null,null,null,null,null,null,null,null,null,null,null,null,null,null,null,null,null,null,null,null,null,null,null,null,null,null,null,null,null,null,null,null,null,null,null,null,null,null,null,null,null,null,null,null,null,null,null,null,null,null,null,null,null,null,null,0,null,null,null,0,0,0,0,0,0,0,0,0,0,0,0]
[null,"MATRONA/ÓN",{"$f":"SUM(D25:T25)","v":0}]
["CLIMATERIO ","MÉDICO/A",{"$f":"SUM(M26:P26)","v":0},null,null,null,null,null,null,null,null,null,null,null,null,null,null,null,null,null,null,null,null,null,null,null,null,null,null,null,null,null,null,null,null,null,null,null,null,null,null,null,null,null,null,null,null,null,null,null,null,null,null,null,null,null,null,null,null,null,null,null,null,null,null,null,null,null,null,null,null,null,null,null,null,null,null,null,null,null,null,null,null,null,null,null,null,null,null,null,null,null,null,null,null,null,null,null,null,null,null,null,null,null,0,null,null,null,0,0,0,0,0,0,0,0,0,0,0,0]
[null,"MATRONA/ÓN",{"$f":"SUM(M27:P27)","v":0}]
["REGULACIÓN DE FECUNDIDAD","MÉDICO/A",{"$f":"SUM(F28:T28)","v":0}]
[null,"MATRONA/ÓN",{"$f":"SUM(F29:T29)","v":0}]
["SECCIÓN B: CONTROLES DE SALUD SEGÚN CICLO VITAL"]
["TIPO DE CONTROL","PROFESIONAL","TOTAL",null,null,"POR EDAD ",null,null,null,null,null,null,null,null,null,null,null,null,null,null,null,null,null,null,null,null,null,null,null,null,null,null,null,null,"Control con Presencia del Padre",null,"Niños, Niñas, Adolescentes y Jóvenes  SENAME","Niños, Niñas, Adolescentes y Jóvenes Mejor Niñez","Pueblos Originarios","Migrantes"]
[null,null,"Ambos Sexos","Hombres","Mujeres","Menor de 1 mes","1 mes","2 meses","3 meses","4 meses"," 5 meses","6 meses"," 7  -  11 meses","12 a 17 meses","18  - 23  meses","24  - 47  meses","48  - 59  meses","60  - 71  meses"," 6  -  9 "," 10 - 14 ","15 - 19","20 - 24","25 - 29","30 - 34","35 - 39","40 - 44","45 - 49","50 - 54","55 - 59","60 - 64","65 - 69","70 - 74","75 - 79","80 y mas","menor 1 año","1 año a 3 años 11 meses 29 días"]
["DE SALUD","MÉDICO/A",{"$f":"SUM(F33:AH33)","v":0},null,null,null,null,null,null,null,null,null,null,null,null,null,null,null,null,null,null,null,null,null,null,null,null,null,null,null,null,null,null,null,null,null,null,null,null,null,null,null,null,null,null,null,null,null,null,null,null,null,null,null,null,null,null,null,null,null,null,null,null,null,null,null,null,null,null,null,null,null,null,null,null,null,null,null,null,null,null,null,null,null,null,null,null,null,null,null,null,null,null,null,null,null,null,null,null,null,null,null,null,null,0,0,0]
[null,"ENFERMERA/O",{"$f":"SUM(F34:AH34)","v":0},null,null,null,null,null,null,null,null,null,null,null,null,null,null,null,null,null,null,null,null,null,null,null,null,null,null,null,null,null,null,null,null,null,null,null,null,null,null,null,null,null,null,null,null,null,null,null,null,null,null,null,null,null,null,null,null,null,null,null,null,null,null,null,null,null,null,null,null,null,null,null,null,null,null,null,null,null,null,null,null,null,null,null,null,null,null,null,null,null,null,null,null,null,null,null,null,null,null,null,null,null,0,0,0]
[null,"MATRONA/ÓN",{"$f":"SUM(F35+T35+U35+V35+W35+X35+Y35+Z35+AA35+AB35+AC35+AD35+AE35+AF35+AG35+AH35)","v":0},null,null,null,null,null,null,null,null,null,null,null,null,null,null,null,null,null,null,null,null,null,null,null,null,null,null,null,null,null,null,null,null,null,null,null,null,null,null,null,null,null,null,null,null,null,null,null,null,null,null,null,null,null,null,null,null,null,null,null,null,null,null,null,null,null,null,null,null,null,null,null,null,null,null,null,null,null,null,null,null,null,null,null,null,null,null,null,null,null,null,null,null,null,null,null,null,null,null,null,null,null,0,null,0]
[null,"TÉCNICO EN ENFERMERÍA (rural)",{"$f":"SUM(N36:S36)","v":0},null,null,null,null,null,null,null,null,null,null,null,null,null,null,null,null,null,null,null,null,null,null,null,null,null,null,null,null,null,null,null,null,null,null,null,null,null,null,null,null,null,null,null,null,null,null,null,null,null,null,null,null,null,null,null,null,null,null,null,null,null,null,null,null,null,null,null,null,null,null,null,null,null,null,null,null,null,null,null,null,null,null,null,null,null,null,null,null,null,null,null,null,null,null,null,null,null,null,null,null,null,null,0,0]
["SECCIÓN C: CONTROLES SEGÚN PROBLEMA DE SALUD"]
["TIPO DE CONTROL","PROFESIONAL","TOTAL",null,null,"POR EDAD ",null,null,null,null,null,null,null,null,null,null,null,null,null,null,null,null,null,null,null,null,null,null,null,null,null,null,null,null,null,null,null,null,null,"Pueblos Originarios","Migrantes"]
[null,null,null,null,null," 0  -  4 años",null," 5  -  9 años",null," 10 - 14 años",null,"15 a 19 años",null,"20 - 24 años",null,"25 - 29 años",null,"30 - 34 años",null,"35 - 39 años",null,"40 - 44 años",null,"45 - 49 años",null,"50 - 54 años",null,"55 - 59 años",null,"60 - 64 años",null,"65 - 69 años",null,"70 - 74 años",null,"75 - 79 años",null,"80 y más años"]
[null,null,"Ambos Sexos","Hombres","Mujeres","Hombres","Mujeres","Hombres","Mujeres","Hombres","Mujeres","Hombres","Mujeres","Hombres","Mujeres","Hombres","Mujeres","Hombres","Mujeres","Hombres","Mujeres","Hombres","Mujeres","Hombres","Mujeres","Hombres","Mujeres","Hombres","Mujeres","Hombres","Mujeres","Hombres","Mujeres","Hombres","Mujeres","Hombres","Mujeres","Hombres","Mujeres"]
["DE SALUD CARDIOVASCULAR","MÉDICO/A",{"$f":"SUM(D41:E41)","v":0},{"$f":"SUM(L41+N41+P41+R41+T41+V41+X41+Z41+AB41+AD41+AF41+AH41+AJ41+AL41)","v":0},{"$f":"SUM(M41+O41+Q41+S41+U41+W41+Y41+AA41+AC41+AE41+AG41+AI41+AK41+AM41)","v":0}]
[null,"ENFERMERA/O",{"$f":"SUM(D42:E42)","v":0},0,0]
[null,"NUTRICIONISTA",0,0,0]
[null,"TÉCNICO EN ENFERMERÍA (rural)",0,0,0]
["SEGUIMIENTO AUTOVALENTE CON RIESGO","MÉDICO/A",0,{"$f":"SUM(AF45+AH45+AJ45+AL45)","v":0},{"$f":"SUM(AG45+AI45+AK45+AM45)","v":0}]
[null,"ENFERMERA/O",0,{"$f":"SUM(AF46+AH46+AJ46+AL46)","v":0},{"$f":"SUM(AG46+AI46+AK46+AM46)","v":0}]
[null,"OTROS PROFESIONALES DEBIDAMENTE CAPACITADOS",0,0,0]
["SEGUIMIENTO RIESGO DEPENDENCIA","MÉDICO/A",0,0,0]
[null,"ENFERMERA/O",0,{"$f":"SUM(AF49+AH49+AJ49+AL49)","v":0},{"$f":"SUM(AG49+AI49+AK49+AM49)","v":0}]
[null,"OTROS PROFESIONALES DEBIDAMENTE CAPACITADOS",0,0,0]
["DE  INFECCIÓN TRANSMISIÓN SEXUAL","MÉDICO/A",0,{"$f":"SUM(F51+H51+J51+L51+N51+P51+R51+T51+V51+X51+Z51+AB51+AD51+AF51+AH51+AJ51+AL51)","v":0},{"$f":"SUM(G51+I51+K51+M51+O51+Q51+S51+U51+W51+Y51+AA51+AC51+AE51+AG51+AI51+AK51+AM51)","v":0}]
[null,"ENFERMERA/O",0,{"$f":"SUM(F52+H52+J52+L52+N52+P52+R52+T52+V52+X52+Z52+AB52+AD52+AF52+AH52+AJ52+AL52)","v":0},0]
[null,"MATRONA/ÓN",0,{"$f":"SUM(F53+H53+J53+L53+N53+P53+R53+T53+V53+X53+Z53+AB53+AD53+AF53+AH53+AJ53+AL53)","v":0},0]
["OTROS PROBLEMAS DE SALUD","MÉDICO/A",0,{"$f":"SUM(F54+H54+J54+L54+N54+P54+R54+T54+V54+X54+Z54+AB54+AD54+AF54+AH54+AJ54+AL54)","v":0},0]
[null,"ENFERMERA/O",0,0,0]
[null,"MATRONA/ÓN",0,0,0]
[null,"NUTRICIONISTA",0,0,0]
[null,"TÉCNICO EN ENFERMERÍA (rural)",0,0,0]
[null,"OTROS PROFESIONALES DEBIDAMENTE CAPACITADOS",{"$f":"SUM(D59:E59)","v":0},{"$f":"SUM(F59+H59+J59+L59+N59+P59+R59+T59+V59+X59+Z59+AB59+AD59+AF59+AH59+AJ59+AL59)","v":0},{"$f":"SUM(G59+I59+K59+M59+O59+Q59+S59+U59+W59+Y59+AA59+AC59+AE59+AG59+AI59+AK59+AM59)","v":0}]
["NIÑOS CON NECESIDADES ESPECIALES","MÉDICO/A",0,{"$f":"SUM(F60+H60+J60+L60)","v":0},{"$f":"SUM(G60+I60+K60+M60)","v":0}]
[null,"ENFERMERA/O",0,0,{"$f":"SUM(G61+I61+K61+M61)","v":0}]
[null,"MATRONA/ÓN",0,0,0]
[null,"NUTRICIONISTA",0,0,0]
["SECCIÓN D: CONTROL DE SALUD INTEGRAL DE ADOLESCENTES (incluidos en sección B)"]
["LUGAR DEL CONTROL, SEGÚN EDAD",null,"10 A 14 AÑOS",null,null,null,null,"15 A 19 AÑOS",null,null,null,null,"Niños, Niñas, Adolescentes y Jóvenes SENAME","Niños, Niñas, Adolescentes y Jóvenes Mejor Niñez"]
[null,null,"Ambos Sexos","Hombres","Mujeres","Pueblos Originarios","Migrantes","Ambos Sexos","Hombres","Mujeres","Pueblos Originarios","Migrantes"]
["EN ESPACIO AMIGABLE",null,{"$f":"SUM(D67:E67)","v":0},null,null,null,null,{"$f":"SUM(I67:J67)","v":0}]
["EN OTROS ESPACIOS DEL ESTABLECIMIENTO DE SALUD",null,{"$f":"SUM(D68:E68)","v":0},null,null,null,null,{"$f":"SUM(I68:J68)","v":0}]
["EN ESTABLECIMIENTOS EDUCACIONALES",null,{"$f":"SUM(D69:E69)","v":0},null,null,null,null,{"$f":"SUM(I69:J69)","v":0}]
["EN OTROS LUGARES FUERA DEL ESTABLECIMIENTO DE SALUD",null,{"$f":"SUM(D70:E70)","v":0},null,null,null,null,{"$f":"SUM(I70:J70)","v":0}]
["TOTAL",null,{"$f":"SUM(C67:C70)","v":0},0,0,0,{"$f":"SUM(G67:G70)","v":0},0,0,0,0,0,{"$f":"SUM(M67:M70)","v":0},{"$f":"SUM(N67:N70)","v":0}]
["SECCIÓN E: CONTROLES DE SALUD EN ESTABLECIMIENTOS EDUCACIONALES"]
["SECCIÓN E1: CONTROLES INDIVIDUALES"]
["CURSO","TOTAL","SEXO",null,"Pueblos Originarios","Migrantes","Niños, Niñas, Adolescentes y Jóvenes SENAME","Niños, Niñas, Adolescentes y Jóvenes Mejor Niñez"]
[null,null,"Hombres","Mujeres"]
["KÍNDER",{"$f":"SUM(C76:D76)","v":0}]
["PRIMERO BÁSICO ",{"$f":"SUM(C77:D77)","v":0}]
["SEGUNDO BÁSICO",{"$f":"SUM(C78:D78)","v":0}]
["TERCERO BÁSICO",{"$f":"SUM(C79:D79)","v":0}]
["CUARTO BÁSICO",{"$f":"SUM(C80:D80)","v":0}]
["SECCIÓN E2: CONTROLES GRUPALES"]
["CURSO","TOTAL DE GRUPOS","TOTAL NIÑOS Y NIÑAS","SEXO",null,"Pueblos Originarios","Migrantes","Niños, Niñas, Adolescentes y Jóvenes SENAME","Niños, Niñas, Adolescentes y Jóvenes Mejor Niñez"]
[null,null,null,"Hombres","Mujeres"]
["KÍNDER",null,{"$f":"SUM(D84:E84)","v":0}]
["PRIMERO BÁSICO ",null,{"$f":"SUM(D85:E85)","v":0}]
["SEGUNDO BÁSICO",null,{"$f":"SUM(D86:E86)","v":0}]
["TERCERO BÁSICO",null,{"$f":"SUM(D87:E87)","v":0}]
["CUARTO BÁSICO",null,{"$f":"SUM(D88:E88)","v":0}]
["SECCIÓN F: CONTROLES INTEGRALES DE PERSONAS CON CONDICIONES CRÓNICAS (incluidos en Secciones B y C)"]
["TIPO DE CONTROL","TOTAL",null,null,"POR EDAD ",null,null,null,null,null,null,null,null,null,null,null,null,null,null,null,null,null,null,null,null,null,null,null,null,null,null,null,"Migrantes","Pueblos Originarios"]
[null,null,null,null,"15 - 19 años",null,"20 - 24 años",null,"25 - 29 años",null,"30 - 34 años",null,"35 - 39 años",null,"40 - 44 años",null,"45 - 49 años",null,"50 - 54 años",null,"55 - 59 años",null,"60 - 64 años",null,"65 - 69 años",null,"70 - 74 años",null,"75 - 79 años",null,"80 y más años"]
[null,"Ambos Sexos","Hombres","Mujeres","Hombres","Mujeres","Hombres","Mujeres","Hombres","Mujeres","Hombres","Mujeres","Hombres","Mujeres","Hombres","Mujeres","Hombres","Mujeres","Hombres","Mujeres","Hombres","Mujeres","Hombres","Mujeres","Hombres","Mujeres","Hombres","Mujeres","Hombres","Mujeres","Hombres","Mujeres"]
["CONTROL INTEGRAL CON RIESGO LEVE (G1)",{"$f":"SUM(C93:D93)","v":0},{"$f":"SUM(E93+G93+I93+K93+M93+O93+Q93+S93+U93+W93+Y93+AA93+AC93+AE93)","v":0},0]
["CONTROL INTEGRAL CON RIESGO MODERADO (G2)",{"$f":"SUM(C94:D94)","v":0},0,0]
["CONTROL INTEGRAL CON RIESGO ALTO (G3)",{"$f":"SUM(C95:D95)","v":0},0,0]
[]
[]
[]
[]
[]
[]
[]
[]
[]
[]
[]
[]
[]
[]
[]
[]
[]
[]
[]
[]
[]
[]
[]
[]
[]
[]
[]
[]
[]
[]
[]
[]
[]
[]
[]
[]
[]
[]
[]
[]
[]
[]
[]
[]
[]
[]
[]
[]
[]
[]
[]
[]
[]
[]
[]
[]
[]
[]
[]
[]
[]
[]
[]
[]
[]
[]
[]
[]
[]
[]
[]
[]
[]
[]
[]
[]
[]
[]
[]
[]
[]
[]
[]
[]
[]
[]
[]
[]
[]
[]
[]
[]
[]
[{"$f":"SUM(C12:C29,U28:V29,X20:X23,W14:W15,C33:C36,D33:E36,C41:E63,C67:C71,H67:H71,B76:B80,C84:C88,B93:B95)","v":0},{"$f":"SUM(DA1:DZ95)","v":0}]

{"sheet":"A02","index":2,"n_rows":195,"n_cols":105,"rows_kept":195,"cut":false,"hidden":false,"merged":[[31,30,31,31],[31,14,31,15],[31,16,31,17],[31,18,31,19],[31,20,31,21],[31,22,31,23],[31,24,31,25],[26,30,26,31],[31,0,32,0],[31,1,31,3],[31,4,31,5],[31,6,31,7],[31,8,31,9],[31,10,31,11],[31,12,31,13],[26,14,26,15],[26,16,26,17],[26,18,26,19],[26,20,26,21],[26,22,26,23],[26,24,26,25],[31,26,31,27],[31,28,31,29],[18,30,18,31],[26,0,27,0],[26,1,26,3],[26,4,26,5],[26,6,26,7],[26,8,26,9],[26,10,26,11],[26,12,26,13],[18,14,18,15],[18,16,18,17],[18,18,18,19],[18,20,18,21],[18,22,18,23],[18,24,18,25],[26,26,26,27],[26,28,26,29],[5,0,5,29],[8,0,9,0],[8,1,8,3],[18,0,19,0],[18,1,18,3],[18,4,18,5],[18,6,18,7],[18,8,18,9],[18,10,18,11],[18,12,18,13],[18,26,18,27],[18,28,18,29],[8,4,9,4],[8,5,9,5],[31,32,32,32],[31,33,32,33],[18,32,19,32],[18,33,19,33],[26,32,27,32],[26,33,27,33]]}
["SERVICIO DE SALUD"]
[{"$f":"CONCATENATE(\"COMUNA: \",NOMBRE!B2,\" - \",\"( \",NOMBRE!C2,NOMBRE!D2,NOMBRE!E2,NOMBRE!F2,NOMBRE!G2,\" )\")","v":"COMUNA:  - (  )"}]
[{"$f":"CONCATENATE(\"ESTABLECIMIENTO/ESTRATEGIA: \",NOMBRE!B3,\" - \",\"( \",NOMBRE!C3,NOMBRE!D3,NOMBRE!E3,NOMBRE!F3,NOMBRE!G3,NOMBRE!H3,\" )\")","v":"ESTABLECIMIENTO/ESTRATEGIA:  - (  )"}]
[{"$f":"CONCATENATE(\"MES: \",NOMBRE!B6,\" - \",\"( \",NOMBRE!C6,NOMBRE!D6,\" )\")","v":"MES:  - (  )"}]
[{"$f":"CONCATENATE(\"AÑO: \",NOMBRE!B7)","v":"AÑO: 2023"}]
["REM-A02.   EXAMEN DE MEDICINA PREVENTIVA EN MAYORES DE 15 AÑOS"]
[]
["SECCIÓN A: EMP REALIZADO POR PROFESIONAL"]
["PROFESIONAL","TOTAL",null,null,"Pueblos Originarios","Migrantes"]
[null,"Ambos Sexos","Hombres","Mujeres"]
["TOTAL ",{"$f":"SUM(B12:B17)","v":0},{"$f":"SUM(C12:C17)","v":0},{"$f":"SUM(D12:D17)","v":0},{"$f":"SUM(E12:E17)","v":0},{"$f":"SUM(F12:F17)","v":0}]
["MÉDICO/A",{"$f":"SUM(C12:D12)","v":0}]
["ENFERMERA/O",0]
["MATRONA/ÓN",0]
["NUTRICIONISTA ",0]
["OTRO PROFESIONAL (capacitados en EMP Y EMPAM)",0]
["TÉCNICO EN ENFERMERÍA (solo rural)",0]
["SECCIÓN B: EMP SEGÚN RESULTADO DEL ESTADO NUTRICIONAL"]
["ESTADO \nNUTRICIONAL","TOTAL",null,null,"15 a 19 años",null,"20 a 24 años",null,"25 a 29 años",null,"30 a 34 años",null,"35 a 39 años",null,"40 a 44 años",null,"45 a 49 años",null,"50 a 54 años",null,"55 a 59 años",null,"60 a 64 años",null,"65 a 69 años",null,"70 a 74 años",null,"75 a 79 años",null,"80 y más años",null,"Pueblos Originarios","Migrantes"]
[null,"Ambos Sexos","Hombres","Mujeres","Hombres","Mujeres","Hombres","Mujeres","Hombres","Mujeres","Hombres","Mujeres","Hombres","Mujeres","Hombres","Mujeres","Hombres","Mujeres","Hombres","Mujeres","Hombres","Mujeres","Hombres","Mujeres","Hombres","Mujeres","Hombres","Mujeres","Hombres","Mujeres","Hombres","Mujeres"]
["TOTAL",{"$f":"SUM(B22:B25)","v":0},{"$f":"SUM(C22:C25)","v":0},{"$f":"SUM(D22:D25)","v":0},{"$f":"SUM(E22:E25)","v":0},0,0,0,0,0,0,0,0,0,0,0,0,0,0,0,0,0,0,0,0,0,0,0,0,0,0,0,{"$f":"SUM(AG22:AG25)","v":0},{"$f":"SUM(AH22:AH25)","v":0},null,null,null,null,null,null,null,null,null,null,null,null,null,null,null,null,null,null,null,null,null,null,null,null,null,null,null,null,null,null,null,null,null,null,null,null,null,null,null,null,null,null,null,null,null,null,null,null,null,null,null,null,null,null,null,null,null,null,null,null,null,null,null,null,null,null,null,null,null,null,0]
["NORMAL",{"$f":"SUM(C22:D22)","v":0},{"$f":"SUM(E22+G22+I22+K22+M22+O22+Q22+S22+U22+W22+Y22+AA22+AC22+AE22)","v":0},{"$f":"SUM(F22+H22+J22+L22+N22+P22+R22+T22+V22+X22+Z22+AB22+AD22+AF22)","v":0}]
["BAJO PESO",{"$f":"SUM(C23:D23)","v":0},{"$f":"SUM(E23+G23+I23+K23+M23+O23+Q23+S23+U23+W23+Y23+AA23+AC23+AE23)","v":0},0]
["SOBREPESO",{"$f":"SUM(C24:D24)","v":0},0,0]
["OBESOS",{"$f":"SUM(C25:D25)","v":0},0,0]
["SECCIÓN C: RESULTADOS DE EMP SEGÚN ESTADO DE SALUD"]
["ESTADO \nDE SALUD","TOTAL",null,null,"15 a 19 años",null,"20 a 24 años",null,"25 a 29 años",null,"30 a 34 años",null,"35 a 39 años",null,"40 a 44 años",null,"45 a 49 años",null,"50 a 54 años",null,"55 a 59 años",null,"60 a 64 años",null,"65 a 69 años",null,"70 a 74 años",null,"75 a 79 años",null,"80 y más años",null,"Pueblos Originarios","Migrantes"]
[null,"Ambos Sexos","Hombres","Mujeres","Hombres","Mujeres","Hombres","Mujeres","Hombres","Mujeres","Hombres","Mujeres","Hombres","Mujeres","Hombres","Mujeres","Hombres","Mujeres","Hombres","Mujeres","Hombres","Mujeres","Hombres","Mujeres","Hombres","Mujeres","Hombres","Mujeres","Hombres","Mujeres","Hombres","Mujeres"]
["TABAQUISMO",{"$f":"SUM(C29:D29)","v":0},{"$f":"SUM(E29+G29+I29+K29+M29+O29+Q29+S29+U29+W29+Y29+AA29+AC29+AE29)","v":0},{"$f":"SUM(F29+H29+J29+L29+N29+P29+R29+T29+V29+X29+Z29+AB29+AD29+AF29)","v":0}]
["PRESIÓN ARTERIAL >=140/90 o PERCENTIL >90",{"$f":"SUM(C30:D30)","v":0},{"$f":"SUM(E30+G30+I30+K30+M30+O30+Q30+S30+U30+W30+Y30+AA30+AC30+AE30)","v":0},{"$f":"SUM(F30+H30+J30+L30+N30+P30+R30+T30+V30+X30+Z30+AB30+AD30+AF30)","v":0}]
["SECCIÓN D: RESULTADOS DE EMP SEGÚN ESTADO DE SALUD (EXÁMENES DE LABORATORIO)"]
["ESTADO \nDE SALUD","TOTAL",null,null,"15 a 19 años",null,"20 a 24 años",null,"25 a 29 años",null,"30 a 34 años",null,"35 a 39 años",null,"40 a 44 años",null,"45 a 49 años",null,"50 a 54 años",null,"55 a 59 años",null,"60 a 64 años",null,"65 a 69 años",null,"70 a 74 años",null,"75 a 79 años",null,"80 y más años",null,"Pueblos Originarios","Migrantes"]
[null,"Ambos Sexos","Hombres","Mujeres","Hombres","Mujeres","Hombres","Mujeres","Hombres","Mujeres","Hombres","Mujeres","Hombres","Mujeres","Hombres","Mujeres","Hombres","Mujeres","Hombres","Mujeres","Hombres","Mujeres","Hombres","Mujeres","Hombres","Mujeres","Hombres","Mujeres","Hombres","Mujeres","Hombres","Mujeres"]
["GLICEMIA ALTERADA (= > a 100 mg/dl)",{"$f":"SUM(C34:D34)","v":0},{"$f":"SUM(E34+G34+I34+K34+M34+O34+Q34+S34+U34+W34+Y34+AA34+AC34+AE34)","v":0},{"$f":"SUM(F34+H34+J34+L34+N34+P34+R34+T34+V34+X34+Z34+AB34+AD34+AF34)","v":0}]
["COLESTEROL ELEVADO (= > 200 mg/dl)",{"$f":"SUM(C35:D35)","v":0},{"$f":"SUM(E35+G35+I35+K35+M35+O35+Q35+S35+U35+W35+Y35+AA35+AC35+AE35)","v":0},{"$f":"SUM(F35+H35+J35+L35+N35+P35+R35+T35+V35+X35+Z35+AB35+AD35+AF35)","v":0}]
[]
[]
[]
[]
[]
[]
[]
[]
[]
[]
[]
[]
[]
[]
[]
[]
[]
[]
[]
[]
[]
[]
[]
[]
[]
[]
[]
[]
[]
[]
[]
[]
[]
[]
[]
[]
[]
[]
[]
[]
[]
[]
[]
[]
[]
[]
[]
[]
[]
[]
[]
[]
[]
[]
[]
[]
[]
[]
[]
[]
[]
[]
[]
[]
[]
[]
[]
[]
[]
[]
[]
[]
[]
[]
[]
[]
[]
[]
[]
[]
[]
[]
[]
[]
[]
[]
[]
[]
[]
[]
[]
[]
[]
[]
[]
[]
[]
[]
[]
[]
[]
[]
[]
[]
[]
[]
[]
[]
[]
[]
[]
[]
[]
[]
[]
[]
[]
[]
[]
[]
[]
[]
[]
[]
[]
[]
[]
[]
[]
[]
[]
[]
[]
[]
[]
[]
[]
[]
[]
[]
[]
[]
[]
[]
[]
[]
[]
[]
[]
[]
[]
[]
[]
[]
[]
[]
[]
[]
[]
[{"$f":"SUM(B12:B17,B21:B25,B29:B30,B34:B35)","v":0},{"$f":"SUM(DA7:DZ52)","v":0}]

{"sheet":"A03","index":3,"n_rows":346,"n_cols":127,"rows_kept":346,"cut":false,"hidden":false,"merged":[[208,21,209,21],[208,7,208,8],[208,9,208,10],[93,2,93,4],[93,5,93,6],[67,10,67,11],[68,10,69,10],[68,11,69,11],[67,0,69,0],[67,1,68,3],[67,4,67,7],[68,4,68,5],[68,6,68,7],[67,8,67,9],[68,8,69,8],[68,9,69,9],[207,5,207,14],[207,15,208,16],[207,17,208,18],[201,7,201,8],[201,9,201,10],[208,13,208,14],[201,17,201,18],[208,19,209,19],[208,20,209,20],[23,0,34,0],[35,0,36,0],[37,0,39,0],[15,0,17,0],[15,1,17,1],[15,2,16,4],[15,5,15,16],[16,11,16,12],[16,13,16,14],[16,15,16,16],[57,9,58,9],[57,10,58,10],[87,0,87,1],[88,0,89,0],[57,0,58,1],[63,0,63,1],[90,0,91,0],[59,0,59,1],[60,0,60,1],[64,0,64,1],[61,0,61,1],[62,0,62,1],[75,0,76,0],[41,0,43,0],[49,0,51,0],[9,23,9,24],[11,0,11,1],[12,0,13,0],[8,0,10,1],[8,2,9,4],[8,5,8,24],[9,5,9,6],[18,0,18,1],[19,0,22,0],[9,19,9,20],[9,21,9,22],[15,17,17,17],[9,7,9,8],[9,9,9,10],[9,11,9,12],[16,5,16,6],[16,7,16,8],[16,9,16,10],[49,1,50,3],[49,4,49,7],[50,4,50,5],[50,6,50,7],[41,1,42,3],[41,4,41,15],[42,4,42,5],[42,6,42,7],[42,8,42,9],[42,10,42,11],[116,5,116,26],[117,9,117,10],[57,2,58,2],[117,11,117,12],[117,5,117,6],[117,25,117,26],[117,17,117,18],[97,0,97,1],[96,0,96,1],[93,0,94,1],[95,0,95,1],[102,0,102,16],[103,0,105,1],[103,2,104,4],[104,5,104,6],[104,9,104,10],[104,11,104,12],[104,13,104,14],[104,15,104,16],[106,0,106,1],[93,7,93,8],[75,1,76,1],[57,3,57,8],[65,0,65,1],[5,0,5,24],[173,13,173,14],[175,0,177,0],[163,17,163,18],[163,19,163,20],[163,21,163,22],[163,23,163,24],[107,0,107,1],[108,0,108,1],[172,1,174,1],[172,2,173,4],[163,11,163,12],[165,0,167,0],[168,0,170,0],[173,5,173,6],[173,7,173,8],[173,9,173,10],[104,7,104,8],[178,0,180,0],[181,0,181,14],[162,0,164,1],[162,2,163,4],[163,5,163,6],[163,9,163,10],[162,5,162,38],[163,7,163,8],[163,13,163,14],[163,15,163,16],[173,11,173,12],[163,33,163,34],[163,35,163,36],[163,37,163,38],[163,25,163,26],[163,27,163,28],[208,22,209,22],[207,19,207,22],[205,0,205,1],[192,15,192,16],[98,0,98,1],[100,0,100,1],[111,0,111,1],[112,0,114,0],[192,5,192,6],[192,13,192,14],[172,0,174,0],[195,0,195,1],[183,5,183,6],[194,0,194,1],[172,5,172,14],[200,5,200,28],[99,0,99,1],[110,0,110,1],[103,5,103,20],[117,7,117,8],[109,0,109,1],[160,0,160,1],[200,0,202,1],[182,0,184,1],[117,19,117,20],[155,0,159,0],[134,0,138,0],[139,0,143,0],[124,0,128,0],[129,0,133,0],[119,0,123,0],[144,0,148,0],[149,0,149,1],[150,0,154,0],[117,13,117,14],[117,15,117,16],[116,0,118,0],[116,1,118,1],[116,2,117,4],[231,0,231,1],[232,0,232,1],[201,13,201,14],[201,15,201,16],[208,11,208,12],[214,0,214,1],[210,0,210,1],[201,11,201,12],[225,0,227,1],[225,2,225,4],[226,2,227,2],[226,3,226,4],[212,4,213,4],[212,5,213,5],[228,0,228,1],[229,0,229,1],[230,0,230,1],[200,2,201,4],[201,5,201,6],[207,0,209,1],[207,2,208,4],[208,5,208,6],[203,0,204,0],[221,0,223,0],[200,33,202,33],[200,34,202,34],[163,31,163,32],[104,17,104,18],[104,19,104,20],[9,13,9,14],[9,15,9,16],[9,17,9,18],[42,12,42,13],[42,14,42,15],[15,18,17,18],[101,0,101,15],[200,29,201,30],[201,19,201,20],[201,21,201,22],[201,23,201,24],[201,25,201,26],[201,27,201,28],[163,29,163,30],[117,21,117,22],[117,23,117,24],[198,0,198,1],[188,0,188,1],[200,31,201,32],[216,0,216,1],[217,0,220,0],[192,7,192,8],[191,0,193,1],[182,2,183,4],[185,0,185,1],[186,0,186,1],[182,5,182,16],[187,0,187,1],[183,7,183,8],[183,9,183,10],[192,9,192,10],[183,15,183,16],[192,11,192,12],[183,11,183,12],[183,13,183,14],[197,0,197,1],[196,0,196,1],[215,0,215,1],[212,0,213,1],[212,2,212,3],[191,2,192,4],[191,5,191,16],[258,47,260,47],[258,48,260,48],[258,49,260,49],[259,5,259,6],[259,7,259,8],[259,9,259,10],[259,11,259,12],[259,13,259,14],[259,15,259,16],[259,17,259,18],[259,19,259,20],[259,21,259,22],[259,23,259,24],[259,25,259,26],[259,27,259,28],[259,29,259,30],[259,31,259,32],[259,33,259,34],[259,35,259,36],[290,0,301,0],[302,0,308,0],[309,0,309,1],[259,37,259,38],[259,39,259,40],[259,41,259,42],[259,43,259,44],[259,45,259,46],[261,0,263,0],[264,0,270,0],[271,0,277,0],[278,0,289,0],[258,0,260,0],[258,1,260,1],[258,2,259,4],[258,5,258,38],[258,39,258,46],[254,0,256,0],[234,2,235,4],[234,5,234,24],[235,5,235,6],[235,7,235,8],[235,9,235,10],[235,11,235,12],[235,13,235,14],[235,15,235,16],[235,17,235,18],[235,19,235,20],[235,21,235,22],[235,23,235,24],[244,0,246,0],[248,0,250,1],[248,2,249,4],[248,5,248,14],[249,5,249,6],[249,7,249,8],[249,9,249,10],[249,11,249,12],[249,13,249,14],[251,0,253,0],[233,0,233,12],[237,0,237,1],[238,0,238,1],[239,0,239,1],[240,0,240,1],[241,0,241,1],[242,0,242,1],[243,0,243,1],[234,0,236,1]]}
["SERVICIO DE SALUD"]
[{"$f":"CONCATENATE(\"COMUNA: \",NOMBRE!B2,\" - \",\"( \",NOMBRE!C2,NOMBRE!D2,NOMBRE!E2,NOMBRE!F2,NOMBRE!G2,\" )\")","v":"COMUNA:  - (  )"}]
[{"$f":"CONCATENATE(\"ESTABLECIMIENTO/ESTRATEGIA: \",NOMBRE!B3,\" - \",\"( \",NOMBRE!C3,NOMBRE!D3,NOMBRE!E3,NOMBRE!F3,NOMBRE!G3,NOMBRE!H3,\" )\")","v":"ESTABLECIMIENTO/ESTRATEGIA:  - (  )"}]
[{"$f":"CONCATENATE(\"MES: \",NOMBRE!B6,\" - \",\"( \",NOMBRE!C6,NOMBRE!D6,\" )\")","v":"MES:  - (  )"}]
[{"$f":"CONCATENATE(\"AÑO: \",NOMBRE!B7)","v":"AÑO: 2023"}]
["REM-A03.   APLICACIÓN Y RESULTADOS DE ESCALAS DE EVALUACIÓN "]
["SECCIÓN A: APLICACIÓN DE INSTRUMENTO Y RESULTADO EN EL NIÑO (A)"]
["SECCIÓN A.1: APLICACIÓN Y RESULTADOS DE PAUTA BREVE"]
["EVALUACIONES POR EDAD DEL NIÑO",null,"TOTAL  ",null,null,"GRUPO DE EDAD"]
[null,null,null,null,null,"Menor de 1 mes",null,"1 mes",null,"2 meses",null,"3 meses",null,"4 meses",null," 5 meses",null,"6 meses",null," 7 - 11 meses",null,"12 - 17 meses",null,"18 - 24 meses"]
[null,null,"Ambos Sexos","Hombres","Mujeres","Hombres","Mujeres","Hombres","Mujeres","Hombres","Mujeres","Hombres","Mujeres","Hombres","Mujeres","Hombres","Mujeres","Hombres","Mujeres","Hombres","Mujeres","Hombres","Mujeres","Hombres","Mujeres"]
["APLICACIÓN PAUTA BREVE",null,{"$f":"SUM(D12+E12)","v":0},{"$f":"SUM(F12+H12+J12+L12+N12+P12+R12+T12+V12+X12)","v":0},0]
["RESULTADOS","NORMAL",{"$f":"SUM(D13+E13)","v":0},0,0,null,null,null,null,null,null,null,null,null,null,null,null,null,null,null,null,null,null,null,null,null,null,null,null,null,null,null,null,null,null,null,null,null,null,null,null,null,null,null,null,null,null,null,null,null,null,null,null,null,null,null,null,null,null,null,null,null,null,null,null,null,null,null,null,null,null,null,null,null,null,null,null,null,null,null,null,null,null,null,null,null,null,null,null,null,null,null,null,null,null,null,null,null,null,null,null,null,null,null,null,null,null,0,0,0,0,0,0,0,0,0,0,0,0,0,0,0,0,0,0,0,0]
[null,"ALTERADO",{"$f":"SUM(D14+E14)","v":0},0,0]
["SECCIÓN A.2: RESULTADOS DE LA APLICACIÓN DE ESCALA DE EVALUACIÓN DEL DESARROLLO PSICOMOTOR"]
["ACTIVIDAD","RESULTADO","TOTAL    ",null,null,"POR EDAD",null,null,null,null,null,null,null,null,null,null,null,"Pueblos Originarios","Migrantes"]
[null,null,null,null,null,"Menor 7 meses",null,"7 - 11 meses",null,"12 - 17 meses",null,"18 - 23 meses",null,"24 - 47 meses",null,"48 - 59 meses"]
[null,null,"Ambos Sexos","Hombres","Mujeres","Hombres","Mujeres","Hombres","Mujeres","Hombres","Mujeres","Hombres","Mujeres","Hombres","Mujeres","Hombres","Mujeres"]
["APLICACIÓN TEST DE DESARROLLO PSICOMOTOR",null,{"$f":"SUM(D19+E19)","v":0},{"$f":"SUM(F19+H19+J19+L19+N19+P19)","v":0},{"$f":"SUM(G19+I19+K19+M19+O19+Q19)","v":0},null,null,null,null,null,null,null,null,null,null,null,null,null,null,null,null,null,null,null,null,null,null,null,null,null,null,null,null,null,null,null,null,null,null,null,null,null,null,null,null,null,null,null,null,null,null,null,null,null,null,null,null,null,null,null,null,null,null,null,null,null,null,null,null,null,null,null,null,null,null,null,null,null,null,null,null,null,null,null,0,0,0,0,0,0,0,0]
["PRIMERA EVALUACIÓN","NORMAL",{"$f":"SUM(D20+E20)","v":0},{"$f":"SUM(F20+H20+J20+L20+N20+P20)","v":0},0]
[null,"NORMAL CON REZAGO",{"$f":"SUM(D21+E21)","v":0},0,0]
[null,"RIESGO",0,0,0]
[null,"RETRASO",0,0,0]
["REEVALUACIÓN","NORMAL (desde normal con rezago)",0,0,0]
[null,"NORMAL (desde riesgo)",0,0,0]
[null,"NORMAL (desde retraso)",0,0,0]
[null,"NORMAL CON REZAGO (desde riesgo)",0,0,0]
[null,"NORMAL CON REZAGO (desde retraso)",0,0,0]
[null,"RIESGO (desde retraso)",{"$f":"SUM(D29:E29)","v":0},0,0]
[null,"NORMAL CON REZAGO (desde normal con rezago)",{"$f":"SUM(D30:E30)","v":0},0,0]
[null,"RIESGO (desde riesgo)",{"$f":"SUM(D31+E31)","v":0},0,0]
[null,"RIESGO (desde normal con rezago)",{"$f":"SUM(D32+E32)","v":0},0,0]
[null,"RETRASO (desde retraso)",{"$f":"SUM(D33+E33)","v":0},0,0]
[null,"RETRASO (desde riesgo)",{"$f":"SUM(D34+E34)","v":0},0,0]
[null,"RETRASO (desde normal con rezago)",{"$f":"SUM(D35+E35)","v":0},0,0]
["DERIVADOS A ESPECIALIDAD","RIESGO",0,{"$f":"SUM(F36+H36+J36+L36+N36+P36)","v":0},0]
[null,"RETRASO",0,0,0]
["TRASLADO DE ESTABLECIMIENTO","NORMAL CON REZAGO",0,0,0]
[null,"RIESGO",0,0,0]
[null,"RETRASO",0,0,0]
["SECCIÓN A.3: NIÑOS Y NIÑAS CON REZAGO, DÉFICIT U OTRA VULNERABILIDAD DERIVADOS A ALGUNA MODALIDAD DE ESTIMULACIÓN EN LA PRIMERA EVALUACIÓN"]
["NIÑO / A","TOTAL    ",null,null,"POR EDAD"]
[null,null,null,null,"Menor 7 meses",null,"7 - 11 meses",null,"12 - 17 meses",null,"18 - 23 meses",null,"24 - 47 meses",null,"48 - 59 meses"]
[null,"Ambos Sexos","Hombres","Mujeres","Hombres","Mujeres","Hombres","Mujeres","Hombres","Mujeres","Hombres","Mujeres","Hombres","Mujeres","Hombres","Mujeres"]
["NORMAL CON REZAGO",{"$f":"SUM(C45+D45)","v":0},{"$f":"SUM(E45+G45+I45+K45+M45+O45)","v":0},{"$f":"SUM(F45+H45+J45+L45+N45+P45)","v":0},null,null,null,null,null,null,null,null,null,null,null,null,null,null,null,null,null,null,null,null,null,null,null,null,null,null,null,null,null,null,null,null,null,null,null,null,null,null,null,null,null,null,null,null,null,null,null,null,null,null,null,null,null,null,null,null,null,null,null,null,null,null,null,null,null,null,null,null,null,null,null,{"$f":"IF(B45<>'A05'!C86,\"* Niños derivados deben ser iguales al ingreso de niños(as) Normal con Rezago a salas de estimulación REM A05 sección F. \",\"\")","v":""}]
["RIESGO",{"$f":"SUM(C46+D46)","v":0},{"$f":"SUM(E46+G46+I46+K46+M46+O46)","v":0},0,null,null,null,null,null,null,null,null,null,null,null,null,null,null,null,null,null,null,null,null,null,null,null,null,null,null,null,null,null,null,null,null,null,null,null,null,null,null,null,null,null,null,null,null,null,null,null,null,null,null,null,null,null,null,null,null,null,null,null,null,null,null,null,null,null,null,null,null,null,null,null,{"$f":"IF(B46<>'A05'!C87,\"* Niños derivados deben ser iguales al ingreso de niños(as) con Riesgo a salas de estimulación REM A05 sección F. \",\"\")","v":""}]
["RETRASO",{"$f":"SUM(C47+D47)","v":0},0,0,null,null,null,null,null,null,null,null,null,null,null,null,null,null,null,null,null,null,null,null,null,null,null,null,null,null,null,null,null,null,null,null,null,null,null,null,null,null,null,null,null,null,null,null,null,null,null,null,null,null,null,null,null,null,null,null,null,null,null,null,null,null,null,null,null,null,null,null,null,null,null,{"$f":"IF(B47<>'A05'!C88,\"* Niños derivados deben ser iguales al ingreso de niños(as) con Retraso a salas de estimulación REM A05 sección F. \",\"\")","v":""}]
["OTRA VULNERABILIDAD",{"$f":"SUM(C48:D48)","v":0},0,0,null,null,null,null,null,null,null,null,null,null,null,null,null,null,null,null,null,null,null,null,null,null,null,null,null,null,null,null,null,null,null,null,null,null,null,null,null,null,null,null,null,null,null,null,null,null,null,null,null,null,null,null,null,null,null,null,null,null,null,null,null,null,null,null,null,null,null,null,null,null,null,{"$f":"IF(B48<>'A05'!C89,\"* Niños derivados deben ser iguales al ingreso de niños(as) con Otras Vulnerabilidad a salas de estimulación REM A05 sección F. \",\"\")","v":""}]
["SECCIÓN A.4: RESULTADOS DE LA APLICACIÓN DE PROTOCOLO NEUROSENSORIAL"]
["RESULTADOS","TOTAL  ",null,null,"POR EDAD"]
[null,null,null,null,"1 mes",null,"2 meses"]
[null,"Ambos Sexos","Hombres","Mujeres","Hombres","Mujeres","Hombres","Mujeres"]
["APLICACIÓN DE PROTOCOLO NEUROSENSORIAL (1-2 MESES)",{"$f":"SUM(C53+D53)","v":0},{"$f":"SUM(E53+G53)","v":0},{"$f":"SUM(F53+H53)","v":0},{"$f":"SUM(E54:E56)","v":0},{"$f":"SUM(F54:F56)","v":0},{"$f":"SUM(G54:G56)","v":0},{"$f":"SUM(H54:H56)","v":0}]
["NORMAL",{"$f":"SUM(C54+D54)","v":0},{"$f":"SUM(E54+G54)","v":0},0]
["ANORMAL",{"$f":"SUM(C55+D55)","v":0},{"$f":"SUM(E55+G55)","v":0},{"$f":"SUM(F55+H55)","v":0}]
["MUY ANORMAL",{"$f":"SUM(C56+D56)","v":0},0,0]
["SECCIÓN A.5:  LACTANCIA EN  NIÑOS Y NIÑAS CONTROLADOS"]
["TIPO DE ALIMENTACIÓN",null,"TOTAL","SEGÚN CONTROL PROGRAMÁTICO",null,null,null,null,null,"Pueblos Originarios","Migrantes"]
[null,null,null,"Diada","Del 1° mes","Del 3° mes","Del 6° mes","Del 12° mes","Del 24° mes",null,null,null,null,null,null,null,null,null,null,null,null,null,null,null,null,null,null,null,null,null,null,null,null,null,null,null,null,null,null,null,null,null,null,null,null,null,null,null,null,null,null,null,null,null,null,null,null,null,null,null,null,null,null,null,null,null,null,null,null,null,null,null,null,null,null,null,null,null,0,0,0,0,0]
["LACTANCIA MATERNA EXCLUSIVA",null,{"$f":"SUM(D60:G60)","v":0},null,null,null,null,null,null,null,null,null,null,null,null,null,null,null,null,null,null,null,null,null,null,null,null,null,null,null,null,null,null,null,null,null,null,null,null,null,null,null,null,null,null,null,null,null,null,null,null,null,null,null,null,null,null,null,null,null,null,null,null,null,null,null,null,null,null,null,null,null,null,null,null,null,null,null,null,null,null,null,0,0,0,null,null,null,null,null,null,null,null,null,null,null,null,null,null,null,null,null,null,null,0,0,0,0]
["LACTANCIA MATERNA / FORMULA LÁCTEA",null,{"$f":"SUM(D61:G61)","v":0},null,null,null,null,null,null,null,null,null,null,null,null,null,null,null,null,null,null,null,null,null,null,null,null,null,null,null,null,null,null,null,null,null,null,null,null,null,null,null,null,null,null,null,null,null,null,null,null,null,null,null,null,null,null,null,null,null,null,null,null,null,null,null,null,null,null,null,null,null,{"$f":"IF(CA61=1,\" * El Número de menores pertenecientes a Pueblos Originarios NO puede ser mayor al Número Total de Menores. \",\"\")","v":""},{"$f":"IF(CB61=1,\" * El Número de menores pertenecientes a Población Migrante NO puede ser mayor al Número Total de Menores. \",\"\")","v":""},null,null,null,null,null,null,null,null,null,null,null,null,null,null,null,null,null,null,null,null,null,null,null,null,null,null,null,null,null,null,0,0,0,0]
["FORMULA LÁCTEA",null,{"$f":"SUM(D62:G62)","v":0},null,null,null,null,null,null,null,null,null,null,null,null,null,null,null,null,null,null,null,null,null,null,null,null,null,null,null,null,null,null,null,null,null,null,null,null,null,null,null,null,null,null,null,null,null,null,null,null,null,null,null,null,null,null,null,null,null,null,null,null,null,null,null,null,null,null,null,null,null,"","",null,null,null,null,null,null,null,null,null,null,null,null,null,null,null,null,null,null,null,null,null,null,null,null,null,null,null,null,null,null,0,0,0,0]
["LACTANCIA MATERNA MAS ALIMENTACIÓN COMPLEMENTARIA ",null,{"$f":"SUM(D63:I63)","v":0},null,null,null,null,null,null,null,null,null,null,null,null,null,null,null,null,null,null,null,null,null,null,null,null,null,null,null,null,null,null,null,null,null,null,null,null,null,null,null,null,null,null,null,null,null,null,null,null,null,null,null,null,null,null,null,null,null,null,null,null,null,null,null,null,null,null,null,null,null,"","",null,null,null,null,null,null,null,null,null,null,null,null,null,null,null,null,null,null,null,null,null,null,null,null,null,null,null,null,null,null,0,0,0,0]
["LACTANCIA MATERNA/ FÓRMULA LÁCTEA/ ALIMENTACIÓN COMPLEMENTARIA",null,{"$f":"SUM(G64:I64)","v":0},null,null,null,null,null,null,null,null,null,null,null,null,null,null,null,null,null,null,null,null,null,null,null,null,null,null,null,null,null,null,null,null,null,null,null,null,null,null,null,null,null,null,null,null,null,null,null,null,null,null,null,null,null,null,null,null,null,null,null,null,null,null,null,null,null,null,null,null,null,"","",null,null,null,null,null,null,null,null,null,null,null,null,null,null,null,null,null,null,null,null,null,null,null,null,null,null,null,null,null,null,0,0,0,0]
["FORMULA LÁCTEA ALIMENTACIÓN COMPLEMENTARIA",null,{"$f":"SUM(G65:I65)","v":0},null,null,null,null,null,null,null,null,null,null,null,null,null,null,null,null,null,null,null,null,null,null,null,null,null,null,null,null,null,null,null,null,null,null,null,null,null,null,null,null,null,null,null,null,null,null,null,null,null,null,null,null,null,null,null,null,null,null,null,null,null,null,null,null,null,null,null,null,null,"","",null,null,null,null,null,null,null,null,null,null,null,null,null,null,null,null,null,null,null,null,null,null,null,null,null,null,null,null,null,null,0,0,0,0]
["NÚMERO DE NIÑOS Y NIÑAS CONTROLADOS",null,{"$f":"SUM(G66:I66)","v":0},null,null,null,null,null,null,null,null,null,null,null,null,null,null,null,null,null,null,null,null,null,null,null,null,null,null,null,null,null,null,null,null,null,null,null,null,null,null,null,null,null,null,null,null,null,null,null,null,null,null,null,null,null,null,null,null,null,null,null,null,null,null,null,null,null,null,null,null,null,"","",null,null,null,null,null,null,null,null,null,null,null,null,null,null,null,null,null,null,null,null,null,null,null,null,null,null,null,null,null,null,0,0,0,0,0,0,0]
["SECCIÓN A.6:  RESULTADOS RADIOGRAFÍA DE PELVIS (CADERA)"]
["RESULTADO","TOTAL  ",null,null,"POR EDAD",null,null,null,"3 MESES",null,"4 MESES"]
[null,null,null,null,"3 MESES",null,"4 MESES",null,"Pueblos Originarios","Migrantes","Pueblos Originarios","Migrantes"]
[null,"Ambos Sexos","Hombres","Mujeres","Hombres","Mujeres","Hombres","Mujeres"]
["NORMAL",{"$f":"SUM(C71:F71)","v":0},{"$f":"+E71+G71","v":0},0,null,null,null,null,null,null,null,null,null,null,null,null,null,null,null,null,null,null,null,null,null,null,null,null,null,null,null,null,null,null,null,null,null,null,null,null,null,null,null,null,null,null,null,null,null,null,null,null,null,null,null,null,null,null,null,null,null,null,null,null,null,null,null,null,null,null,null,null,null,null,null,null,null,null,null,null,null,null,null,null,null,null,null,null,null,null,null,null,null,null,null,null,null,null,null,null,null,null,null,null,0,0,0,0,0,0,0,0]
["ANORMAL",{"$f":"SUM(C72:F72)","v":0},0,0]
["INMADURA",{"$f":"SUM(C73:F73)","v":0},0,0]
["SECCION B: EVALUACIÓN, APLICACIÓN Y RESULTADOS DE ESCALAS EN  LA MUJER"]
["SECCIÓN B.1: EVALUACIÓN DEL ESTADO NUTRICIONAL A MUJERES CONTROLADAS AL OCTAVO MES POST PARTO"]
["ESTADO NUTRICIONAL","TOTAL"]
[]
["TOTAL",{"$f":"SUM(B79:B82)","v":0}]
["OBESA"]
["SOBREPESO"]
["NORMAL"]
["BAJO PESO"]
["SECCIÓN B.2: APLICACIÓN DE ESCALA SEGÚN EVALUACIÓN DE RIESGO PSICOSOCIAL ABREVIADA A GESTANTES"]
["TIPO","Total de Aplicaciones ","Riesgo","Derivadas a equipo de cabecera","Violencia Intrafamiliar",null,null,null,null,null,null,null,null,null,null,null,null,null,null,null,null,null,null,null,null,null,null,null,null,null,null,null,null,null,null,null,null,null,null,null,null,null,null,null,null,null,null,null,null,null,null,null,null,null,null,null,null,null,null,null,null,null,null,null,null,null,null,null,null,null,null,null,null,null,null,null,null,null,null,null,null,null,null,0]
["EVALUACIÓN AL INGRESO",null,null,null,null,{"$f":"BZ85&CA85&CB85","v":""},null,null,null,null,null,null,null,null,null,null,null,null,null,null,null,null,null,null,null,null,null,null,null,null,null,null,null,null,null,null,null,null,null,null,null,null,null,null,null,null,null,null,null,null,null,null,null,null,null,null,null,null,null,null,null,null,null,null,null,null,null,null,null,null,null,null,null,null,null,null,null,{"$f":"IF(CF85=1,\"* Las Aplicaciones de EPSA con resultado de Riesgo NO DEBE ser MAYOR que el Total de las aplicaciones. \",\"\")","v":""},{"$f":"IF(CG85=1,\"* Las Aplicaciones de EPSA con resultado de Riesgo NO DEBE ser MENOR que las Derivaciones a equipo de cabecera. \",\"\")","v":""},{"$f":"IF(CH85=1,\"* Las Aplicaciones de EPSA asociadas a Violencia Intrafamiliar NO DEBEN ser MAYOR al Total de las aplicaciones. \",\"\")","v":""},null,null,null,{"$f":"IF(B85<C85,1,0)","v":0},{"$f":"IF(C85<D85,1,0)","v":0},{"$f":"IF(E85>B85,1,0)","v":0}]
["EVALUACIÓN AL TERCER TRIMESTRE",null,null,null,null,{"$f":"BZ86&CA86&CB86","v":""},null,null,null,null,null,null,null,null,null,null,null,null,null,null,null,null,null,null,null,null,null,null,null,null,null,null,null,null,null,null,null,null,null,null,null,null,null,null,null,null,null,null,null,null,null,null,null,null,null,null,null,null,null,null,null,null,null,null,null,null,null,null,null,null,null,null,null,null,null,null,null,{"$f":"IF(CF86=1,\"* Las Aplicaciones de EPSA con resultado de Riesgo NO DEBE ser MAYOR que el Total de las aplicaciones. \",\"\")","v":""},{"$f":"IF(CG86=1,\"* Las Aplicaciones de EPSA con resultado de Riesgo NO DEBE ser MENOR que las Derivaciones a equipo de cabecera. \",\"\")","v":""},{"$f":"IF(CH86=1,\"* Las Aplicaciones de EPSA asociadas a Violencia Intrafamiliar NO DEBEN ser MAYOR al Total de las aplicaciones. \",\"\")","v":""},null,null,null,{"$f":"IF(B86<C86,1,0)","v":0},{"$f":"IF(C86<D86,1,0)","v":0},{"$f":"IF(E86>B86,1,0)","v":0}]
["SECCIÓN B.3: APLICACIÓN DE ESCALA DE EDIMBURGO A GESTANTES Y MUJERES POST PARTO",null,null,null,null,null,null,null,null,null,null,null,null,null,null,null,null,null,null,null,null,null,null,null,null,null,null,null,null,null,null,null,null,null,null,null,null,null,null,null,null,null,null,null,null,null,null,null,null,null,null,null,null,null,null,null,null,null,null,null,null,null,null,null,null,null,null,null,null,null,null,null,null,null,null,null,null,null,null,null,null,null,null,null,0]
["CONCEPTO",null,"TOTAL DE APLICACIONES","RESULTADOS  \n10 O MÁS PTOS. O RESULTADO DISTINTO DE 0 EN PREG 10 . (PUERPERAS)","RESULTADOS  \n13 O MÁS PTOS O RESULTADO DISTINTO DE 0 EN PREG 10. (GESTANTES)","TOTAL DE CASOS ALTERADOS DERIVADOS A SALUD MENTAL",null,null,null,null,null,null,null,null,null,null,null,null,null,null,null,null,null,null,null,null,null,null,null,null,null,null,null,null,null,null,null,null,null,null,null,null,null,null,null,null,null,null,null,null,null,null,null,null,null,null,null,null,null,null,null,null,null,null,null,null,null,null,null,null,null,null,null,null,null,null,null,null,null,null,null,null,null,null,0]
["EVALUACIÓN A GESTANTES","PRIMERA EVALUACIÓN (2º control prenatal)",null,null,null,null,null,null,null,null,null,null,null,null,null,null,null,null,null,null,null,null,null,null,null,null,null,null,null,null,null,null,null,null,null,null,null,null,null,null,null,null,null,null,null,null,null,null,null,null,null,null,null,null,null,null,null,null,null,null,null,null,null,null,null,null,null,null,null,null,null,null,null,null,null,null,null,null,null,null,null,null,null,null,0,null,null,null,null,null,null,null,null,null,null,null,null,null,null,null,null,null,null,null,null,0]
[null,"REEVALUACIÓN (con puntaje elevado en la primera evaluación)",null,null,null,null,null,null,null,null,null,null,null,null,null,null,null,null,null,null,null,null,null,null,null,null,null,null,null,null,null,null,null,null,null,null,null,null,null,null,null,null,null,null,null,null,null,null,null,null,null,null,null,null,null,null,null,null,null,null,null,null,null,null,null,null,null,null,null,null,null,null,null,null,null,null,null,null,null,null,null,null,null,null,0,null,null,null,null,null,null,null,null,null,null,null,null,null,null,null,null,null,null,null,null,0]
["EVALUACIÓN A MUJERES POST PARTO O SÍNTOMAS DE DEPRESIÓN","A los 2 meses",null,null,null,null,null,null,null,null,null,null,null,null,null,null,null,null,null,null,null,null,null,null,null,null,null,null,null,null,null,null,null,null,null,null,null,null,null,null,null,null,null,null,null,null,null,null,null,null,null,null,null,null,null,null,null,null,null,null,null,null,null,null,null,null,null,null,null,null,null,null,null,null,null,null,null,null,null,null,null,null,null,null,0,null,null,null,null,null,null,null,null,null,null,null,null,null,null,null,null,null,null,null,0]
[null,"A los 6 meses",null,null,null,null,null,null,null,null,null,null,null,null,null,null,null,null,null,null,null,null,null,null,null,null,null,null,null,null,null,null,null,null,null,null,null,null,null,null,null,null,null,null,null,null,null,null,null,null,null,null,null,null,null,null,null,null,null,null,null,null,null,null,null,null,null,null,null,null,null,null,null,null,null,null,null,null,null,null,null,null,null,null,0,null,null,null,null,null,null,null,null,null,null,null,null,null,null,null,null,null,null,null,0]
["SECCIÓN C: RESULTADOS DE LA EVALUACIÓN DEL ESTADO NUTRICIONAL DEL ADOLESCENTE CON CONTROL SALUD INTEGRAL"]
["ESTADO \nNUTRICIONAL",null,"TOTAL",null,null,"10 A 14 años",null,"15 A 19 años"]
[null,null,"Ambos Sexos","Hombres","Mujeres","Hombres","Mujeres","Hombres","Mujeres"]
["TOTAL",null,{"$f":"SUM(C97:C101)","v":0},{"$f":"SUM(D97:D101)","v":0},0,{"$f":"SUM(F97:F101)","v":0},0,0,0]
["NORMAL",null,{"$f":"SUM(D97+E97)","v":0},{"$f":"SUM(F97+H97)","v":0},{"$f":"SUM(G97+I97)","v":0}]
["BAJO PESO",null,{"$f":"SUM(D98+E98)","v":0},0,0]
["SOBREPESO",null,{"$f":"SUM(D99+E99)","v":0},0,0]
["OBESOS",null,{"$f":"SUM(D100+E100)","v":0},0,0]
["OBESOS SEVEROS",null,{"$f":"SUM(D101+E101)","v":0},0,0]
["SECCIÓN D: OTRAS EVALUACIONES, APLICACIONES Y RESULTADOS DE ESCALAS EN TODAS LAS EDADES"]
["SECCIÓN D.1: APLICACIÓN DE TAMIZAJE PARA EVALUAR EL NIVEL DE RIESGO DE CONSUMO DE  ALCOHOL, TABACO Y OTRAS DROGAS"]
["COMPONENTE",null,"TOTAL              ",null,null,"POR EDAD"]
[null,null,null,null,null,"10-14 años",null,"15-19 años",null,"20-24 años",null,"25-44 años",null,"45-64 años",null,"65-69 años",null,"70-79 años",null,"80 y más años"]
[null,null,"Ambos Sexos","Hombres","Mujeres","Hombres","Mujeres","Hombres","Mujeres","Hombres","Mujeres","Hombres","Mujeres","Hombres","Mujeres","Hombres","Mujeres","Hombres","Mujeres","Hombres","Mujeres"]
["Nº DE AUDIT (EMP/EMPAM)",null,{"$f":"SUM(D107+E107)","v":0},{"$f":"+H107+J107+L107+N107+P107+R107+T107","v":0},{"$f":"+I107+K107+M107+O107+Q107+S107+U107","v":0}]
["Nº DE AUDIT APLICADO",null,{"$f":"SUM(D108+E108)","v":0},{"$f":"SUM(J108+L108+N108+P108+R108+T108)","v":0},0]
["Nº DE ASSIST (EMP/EMPAM)",null,0,0,0]
["N° DE ASSIST APLICADO",null,0,0,0]
["N° DE CRAFFT EN CONTROL DE SALUD INTEGRAL DEL ADOLESCENTE ",null,0,{"$f":"+F111+H111","v":0},{"$f":"+G111+I111","v":0}]
["N° DE CRAFFT APLICADO",null,0,{"$f":"+F112+H112","v":0},{"$f":"+G112+I112","v":0}]
["RESULTADOS DE EVALUACIÓN","BAJO RIESGO ",0,{"$f":"SUM(F113+H113+J113+L113+N113+P113+R113+T113)","v":0},0]
[null,"CONSUMO RIESGOSO / INTERMEDIO",0,0,0]
[null,"POSIBLE CONSUMO PERJUDICIAL O DEPENDENCIA ",0,0,0]
["SECCIÓN D.2: RESULTADOS DE LA APLICACIÓN DE INSTRUMENTO DE VALORACIÓN DE DESEMPEÑO EN COMUNIDAD (IVADEC-CIF)"]
["ACTIVIDAD","RESULTADO","TOTAL    ",null,null,"POR EDAD"]
[null,null,null,null,null,"6 -11 meses",null,"12 - 23 meses",null,"2 - 4 años",null,"5 - 9 años",null,"10 a 14 años",null,"15 a 19 años",null,"20 a 24 años",null,"25 a 64 años",null,"65 a 69 años",null,"70 a 79 años",null,"80 y más años"]
[null,null,"Ambos Sexos","Hombres","Mujeres","Hombres","Mujeres","Hombres","Mujeres","Hombres","Mujeres","Hombres","Mujeres","Hombres","Mujeres","Hombres","Mujeres","Hombres","Mujeres","Hombres","Mujeres","Hombres","Mujeres","Hombres","Mujeres","Hombres","Mujeres"]
["ORIGEN FÍSICO","SIN DISCAPACIDAD",{"$f":"SUM(D120+E120)","v":0},{"$f":"SUM(F120+H120+J120+L120+N120+P120+R120+T120+V120+X120+Z120)","v":0},{"$f":"SUM(G120+I120+K120+M120+O120+Q120+S120+U120+W120+Y120+AA120)","v":0}]
[null,"DISCAPACIDAD LEVE",0,{"$f":"SUM(F121+H121+J121+L121+N121+P121+R121+T121+V121+X121+Z121)","v":0},{"$f":"SUM(G121+I121+K121+M121+O121+Q121+S121+U121+W121+Y121+AA121)","v":0}]
[null,"DISCAPACIDAD MODERADA",0,0,0]
[null,"DISCAPACIDAD SEVERA",0,0,0]
[null,"DISCAPACIDAD PROFUNDA",0,0,0]
["ORIGEN SENSORIAL VISUAL","SIN DISCAPACIDAD",0,0,0]
[null,"DISCAPACIDAD LEVE",0,0,0]
[null,"DISCAPACIDAD MODERADA",0,0,0]
[null,"DISCAPACIDAD SEVERA",0,0,0]
[null,"DISCAPACIDAD PROFUNDA",0,0,0]
["ORIGEN SENSORIAL AUDITIVO","SIN DISCAPACIDAD",0,0,0]
[null,"DISCAPACIDAD LEVE",0,0,0]
[null,"DISCAPACIDAD MODERADA",0,0,0]
[null,"DISCAPACIDAD SEVERA",0,0,0]
[null,"DISCAPACIDAD PROFUNDA",0,0,0]
["ORIGEN MENTAL PSÍQUICO","SIN DISCAPACIDAD",0,0,0]
[null,"DISCAPACIDAD LEVE",0,0,0]
[null,"DISCAPACIDAD MODERADA",0,0,0]
[null,"DISCAPACIDAD SEVERA",0,0,0]
[null,"DISCAPACIDAD PROFUNDA",0,0,0]
["ORIGEN MENTAL INTELECTUAL","SIN DISCAPACIDAD",0,0,0]
[null,"DISCAPACIDAD LEVE",0,0,0]
[null,"DISCAPACIDAD MODERADA",0,0,0]
[null,"DISCAPACIDAD SEVERA",0,0,0]
[null,"DISCAPACIDAD PROFUNDA",0,0,0]
["ORIGEN MÚLTIPLE","SIN DISCAPACIDAD",0,0,0]
[null,"DISCAPACIDAD LEVE",0,0,0]
[null,"DISCAPACIDAD MODERADA",0,0,0]
[null,"DISCAPACIDAD SEVERA",0,0,0]
[null,"DISCAPACIDAD PROFUNDA",0,0,0]
["TOTAL DE EVALUACIONES",null,{"$f":"SUM(C120:C149)","v":0},{"$f":"SUM(D120:D149)","v":0},{"$f":"SUM(E120:E149)","v":0},{"$f":"SUM(F120:F149)","v":0},{"$f":"SUM(G120:G149)","v":0},0,0,0,0,0,0,0,0,0,0,0,0,0,0,0,0,0,0,0,0]
["EVALUACIÓN INGRESO","SIN DISCAPACIDAD",{"$f":"SUM(D151+E151)","v":0},{"$f":"SUM(F151+H151+J151+L151+N151+P151+R151+T151+V151+X151+Z151)","v":0},{"$f":"SUM(G151+I151+K151+M151+O151+Q151+S151+U151+W151+Y151+AA151)","v":0}]
[null,"DISCAPACIDAD LEVE",{"$f":"SUM(D152+E152)","v":0},{"$f":"SUM(F152+H152+J152+L152+N152+P152+R152+T152+V152+X152+Z152)","v":0},0]
[null,"DISCAPACIDAD MODERADA",0,0,0]
[null,"DISCAPACIDAD SEVERA",0,0,0]
[null,"DISCAPACIDAD PROFUNDA",0,0,0]
["EVALUACIÓN EGRESO","SIN DISCAPACIDAD",0,0,0]
[null,"DISCAPACIDAD LEVE",0,0,0]
[null,"DISCAPACIDAD MODERADA",0,0,0]
[null,"DISCAPACIDAD SEVERA",0,0,0]
[null,"DISCAPACIDAD PROFUNDA",0,0,0]
["TOTAL DE EVALUACIONES",null,{"$f":"SUM(C151:C160)","v":0},{"$f":"SUM(D151:D160)","v":0},{"$f":"SUM(E151:E160)","v":0},{"$f":"SUM(F151:F160)","v":0},{"$f":"SUM(G151:G160)","v":0},0,0,0,0,0,0,0,0,0,0,0,0,0,0,0,0,0,0,0,0]
["SECCION D.3: APLICACIÓN Y RESULTADO DE PAUTA DE EVALUACIÓN Y SALUD MENTAL"]
["RESULTADOS",null,"TOTAL",null,null,"POR EDAD"]
[null,null,null,null,null,"0 a 4 años",null,"5 a 9 años",null,"10 a 14 años",null,"15 a 19 años",null,"20 a 24 años",null,"25 a 29 años",null,"30 a 34 años",null,"35 a 39 años",null,"40 a 44 años",null,"45 a 49 años",null,"50 a 54 años",null,"55 a 59 años",null,"60 a 64 años",null,"65 a 69 años",null,"70 a 74 años",null,"75 a 79 años",null,"80 y más años"]
[null,null,"Ambos Sexos","Hombres","Mujeres","Hombres","Mujeres","Hombres","Mujeres","Hombres","Mujeres","Hombres","Mujeres","Hombres","Mujeres","Hombres","Mujeres","Hombres","Mujeres","Hombres","Mujeres","Hombres","Mujeres","Hombres","Mujeres","Hombres","Mujeres","Hombres","Mujeres","Hombres","Mujeres","Hombres","Mujeres","Hombres","Mujeres","Hombres","Mujeres","Hombres","Mujeres"]
["EVALUACION AL INGRESO","BAJO",{"$f":"SUM(D166+E166)","v":0},{"$f":"SUM(F166+H166+J166+L166+N166+P166+R166+T166+V166+X166+Z166+AB166+AD166+AF166+AH166+AJ166+AL166)","v":0},{"$f":"SUM(G166+I166+K166+M166+O166+Q166+S166+U166+W166+Y166+AA166+AC166+AE166+AG166+AI166+AK166+AM166)","v":0}]
[null,"MEDIO",0,{"$f":"SUM(F167+H167+J167+L167+N167+P167+R167+T167+V167+X167+Z167+AB167+AD167+AF167+AH167+AJ167+AL167)","v":0},0]
[null,"ALTO",0,0,0]
["EVALUACION AL EGRESO","BAJO",0,0,0]
[null,"MEDIO",0,0,0]
[null,"ALTO",0,{"$f":"SUM(F171+H171+J171+L171+N171+P171+R171+T171+V171+X171+Z171+AB171+AD171+AF171+AH171+AJ171+AL171)","v":0},{"$f":"SUM(G171+I171+K171+M171+O171+Q171+S171+U171+W171+Y171+AA171+AC171+AE171+AG171+AI171+AK171+AM171)","v":0}]
["SECCIÓN D.4: RESULTADO DE APLICACIÓN DE CONDICIÓN DE FUNCIONALIDAD AL EGRESO PROGRAMA \"MÁS ADULTOS MAYORES AUTOVALENTES\""]
["ACTIVIDAD","RESULTADO","TOTAL",null,null,"POR EDAD"]
[null,null,null,null,null,"60 a 64 años",null,"65 a 69 años",null,"70 a 74 años",null,"75 a 79 años",null,"80 y más años"]
[null,null,"Ambos Sexos","Hombres","Mujeres","Hombres","Mujeres","Hombres","Mujeres","Hombres","Mujeres","Hombres","Mujeres","Hombres","Mujeres"]
["TIMED UP AND GO","MEJORA",{"$f":"SUM(D176+E176)","v":0},{"$f":"SUM(F176+H176+J176+L176+N176)","v":0},{"$f":"SUM(G176+I176+K176+M176+O176)","v":0},null,null,null,null,null,null,null,null,null,null,null,null,null,null,null,null,null,null,null,null,null,null,null,null,null,null,null,null,null,null,null,null,null,null,null,null,null,null,null,null,null,null,null,null,null,null,null,null,null,null,null,null,null,null,null,null,null,null,null,null,null,null,null,null,null,null,null,null,null,null,null,null,null,null,null,null,null,null,null,null,null,null,null,null,null,null,null,null,null,null,null,null,null,null,null,null,null,null,null,0,0]
[null,"MANTIENE",0,0,0,null,null,null,null,null,null,null,null,null,null,null,null,null,null,null,null,null,null,null,null,null,null,null,null,null,null,null,null,null,null,null,null,null,null,null,null,null,null,null,null,null,null,null,null,null,null,null,null,null,null,null,null,null,null,null,null,null,null,null,null,null,null,null,null,null,null,null,null,null,null,null,null,null,null,null,null,null,null,null,null,null,null,null,null,null,null,null,null,null,null,null,null,null,null,null,null,null,null,null,0,0]
[null,"DISMINUYE",0,0,0,null,null,null,null,null,null,null,null,null,null,null,null,null,null,null,null,null,null,null,null,null,null,null,null,null,null,null,null,null,null,null,null,null,null,null,null,null,null,null,null,null,null,null,null,null,null,null,null,null,null,null,null,null,null,null,null,null,null,null,null,null,null,null,null,null,null,null,null,null,null,null,null,null,null,null,null,null,null,null,null,null,null,null,null,null,null,null,null,null,null,null,null,null,null,null,null,null,null,null,0,0]
["CUESTIONARIO ","MEJORA",0,0,0,null,null,null,null,null,null,null,null,null,null,null,null,null,null,null,null,null,null,null,null,null,null,null,null,null,null,null,null,null,null,null,null,null,null,null,null,null,null,null,null,null,null,null,null,null,null,null,null,null,null,null,null,null,null,null,null,null,null,null,null,null,null,null,null,null,null,null,null,null,null,null,null,null,null,null,null,null,null,null,null,null,null,null,null,null,null,null,null,null,null,null,null,null,null,null,null,null,null,null,0,0]
[null,"MANTIENE",0,0,0,null,null,null,null,null,null,null,null,null,null,null,null,null,null,null,null,null,null,null,null,null,null,null,null,null,null,null,null,null,null,null,null,null,null,null,null,null,null,null,null,null,null,null,null,null,null,null,null,null,null,null,null,null,null,null,null,null,null,null,null,null,null,null,null,null,null,null,null,null,null,null,null,null,null,null,null,null,null,null,null,null,null,null,null,null,null,null,null,null,null,null,null,null,null,null,null,null,null,null,0,0]
[null,"DISMINUYE",0,0,{"$f":"SUM(G181+I181+K181+M181+O181)","v":0}]
["SECCIÓN D.5: VARIACIÓN  DE RESULTADO DE APLICACIÓN DEL ÍNDICE DE BARTHEL ENTRE EL INGRESO Y EGRESO HOSPITALARIO"]
["ÍNDICE DE BARTHEL",null,"TOTAL",null,null,"POR EDAD"]
[null,null,null,null,null,"65 a 69 años",null,"70 a 74 años",null,"75 a 79 años",null,"80 a 84 años",null,"85 a 89 años",null,"90 y mas años"]
[null,null,"Ambos Sexos","Hombres","Mujeres","Hombres","Mujeres","Hombres","Mujeres","Hombres","Mujeres","Hombres","Mujeres","Hombres","Mujeres","Hombres","Mujeres"]
["MEJORA PUNTUACIÓN ÍNDICE DE BARTHEL",null,{"$f":"SUM(D186+E186)","v":0},{"$f":"SUM(F186+H186+J186+L186+N186+P186)","v":0},{"$f":"SUM(G186+I186+K186+M186+O186+Q186)","v":0}]
["MANTIENE PUNTUACIÓN ÍNDICE DE BARTHEL",null,{"$f":"SUM(D187+E187)","v":0},0,0]
["DISMINUYE PUNTUACIÓN ÍNDICE DE BARTHEL",null,{"$f":"SUM(D188+E188)","v":0},0,0]
["TOTAL",null,{"$f":"SUM(C186:C188)","v":0},0,0,0,0,0,0,0,0,0,0,0,0,0,0]
["** * El resultado que se consigna es la comparacion del indice de Barthel aplicado al Egreso de la Hospitalización"]
["SECCIÓN D.6: APLICACIÓN DE ESCALA ZARIT ABREVIADO EN CUIDADORES"]
["ESCALA DE SOBRECARGA DEL CUIDADOR \"ZARIT ABREVIADO\"",null,"TOTAL              ",null,null,"POR EDAD"]
[null,null,null,null,null,"10-14 años",null,"15-19 años",null,"20-24 años",null,"25-44 años",null,"45-64 años",null,"65 o más años"]
[null,null,"Ambos Sexos","Hombres","Mujeres","Hombres","Mujeres","Hombres","Mujeres","Hombres","Mujeres","Hombres","Mujeres","Hombres","Mujeres","Hombres","Mujeres"]
["CUIDADOR (A) PACIENTE CON DEPENDENCIA SEVERA CON SOBRECARGA INTENSA",null,{"$f":"SUM(D195+E195)","v":0},{"$f":"SUM(F195+H195+J195+L195+N195+P195)","v":0},0]
["CUIDADOR (A) PACIENTE CON DEPENDENCIA SEVERA SIN SOBRECARGA INTENSA",null,{"$f":"SUM(D196+E196)","v":0},0,0]
["CUIDADOR (A) PACIENTES  NANEAS CON SOBRECARGA INTENSA",null,{"$f":"SUM(D197+E197)","v":0},0,0]
["CUIDADOR (A) PACIENTES  NANEAS SIN SOBRECARGA INTENSA",null,{"$f":"SUM(D198+E198)","v":0},0,0]
["TOTAL CUIDADORES EVALUADOS",null,{"$f":"SUM(D199+E199)","v":0},0,0,{"$f":"SUM(F195:F196)","v":0},0,0,0,0,0,0,0,0,0,0,0]
["SECCIÓN D.7: APLICACIÓN Y RESULTADOS DE PAUTA DE EVALUACIÓN CON ENFOQUE DE RIESGO ODONTOLÓGICO (CERO)"]
["PAUTA CERO ",null,"TOTAL",null,null,"POR EDAD",null,null,null,null,null,null,null,null,null,null,null,null,null,null,null,null,null,null,null,null,null,null,null,"Niños, Niñas, Adolescentes y Jovenes SENAME",null,"Niños, Niñas, Adolescentes y Jovenes Mejor Niñez",null,"Pueblos Originarios","Migrantes"]
[null,null,null,null,null,"<1 año",null,"1 año",null,"2 años",null,"3 años ",null,"4 años",null,"5 años",null,"6 años",null,"7 años",null,"8 años",null,"9 años",null,"10-14 años",null,"15-19 años"]
[null,null,"Ambos sexos","Hombres","Mujeres","Hombres","Mujeres","Hombres","Mujeres","Hombres","Mujeres","Hombres","Mujeres","Hombres","Mujeres","Hombres","Mujeres","Hombres","Mujeres","Hombres","Mujeres","Hombres","Mujeres","Hombres","Mujeres","Hombres","Mujeres","Hombres","Mujeres","Hombres","Mujeres","Hombres","Mujeres",null,"Mujeres"]
["EVALUACIÓN DE RIESGO","BAJO RIESGO ",{"$f":"SUM(D204+E204)","v":0},{"$f":"SUM(F204+H204+J204+L204+N204+P204+R204+T204+V204+X204+Z204+AB204)","v":0},{"$f":"SUM(G204+I204+K204+M204+O204+Q204+S204+U204+W204+Y204+AA204+AC204)","v":0},null,null,null,null,null,null,null,null,null,null,null,null,null,null,null,null,null,null,null,null,null,null,null,null,null,null,null,null,null,null,null,null,null,null,null,null,null,null,null,null,null,null,null,null,null,null,null,null,null,null,null,null,null,null,null,null,null,null,null,null,null,null,null,null,null,null,null,null,null,null,null,null,null,null,null,null,null,null,null,null,null,null,null,null,null,null,null,null,null,null,null,null,null,null,null,null,null,null,null,0,0,0,0,0,0,0,0,0,0,0,0]
[null,"ALTO RIESGO",{"$f":"SUM(D205+E205)","v":0},{"$f":"SUM(F205+H205+J205+L205+N205+P205+R205+T205+V205+X205+Z205+AB205)","v":0},{"$f":"SUM(G205+I205+K205+M205+O205+Q205+S205+U205+W205+Y205+AA205+AC205)","v":0},null,null,null,null,null,null,null,null,null,null,null,null,null,null,null,null,null,null,null,null,null,null,null,null,null,null,null,null,null,null,null,null,null,null,null,null,null,null,null,null,null,null,null,null,null,null,null,null,null,null,null,null,null,null,null,null,null,null,null,null,null,null,null,null,null,null,null,null,null,null,null,null,null,null,null,null,null,null,null,null,null,null,null,null,null,null,null,null,null,null,null,null,null,null,null,null,null,null,null,0,0,0,0,0,0,0,0,0,0,0,0]
["TOTAL ",null,{"$f":"SUM(D206+E206)","v":0},{"$f":"SUM(D204+D205)","v":0},{"$f":"SUM(E204+E205)","v":0},{"$f":"SUM(F204+F205)","v":0},{"$f":"SUM(G204+G205)","v":0},0,0,0,0,0,0,0,0,0,0,0,0,0,0,0,0,0,0,0,0,0,0,{"$f":"SUM(AD204+AD205)","v":0},0,0,0,0,0]
["SECCION E: APLICACIÓN DE PAUTA DETECCIÓN DE FACTORES DE RIESGO PSICOSOCIAL INFANTIL"]
["EVALUACIÓN",null,"TOTAL",null,null,"POR EDAD",null,null,null,null,null,null,null,null,null,"Pueblo originarios",null,"Migrantes",null,"DERIVACIÓN"]
[null,null,null,null,null,"Menor 7 meses",null,"7 - 11 meses",null,"12 - 23 meses",null,"24- 48 meses",null,"5 a 9 años ",null,null,null,null,null,"Riesgo","Derivadas a equipos de cabecera","Derivada a MADI  0 a  4 años","Derivado a Salud Mental 5 a 9 años"]
[null,null,"Ambos sexos","Hombres","Mujeres","Hombres","Mujeres","Hombres","Mujeres","Hombres","Mujeres","Hombres","Mujeres","Hombres","Mujeres","Hombres","Mujeres","Hombres","Mujeres"]
["ESCALA DE  RIESGO PSICOSOCIAL EN CONTROL DE SALUD INFANTIL",null,{"$f":"SUM(D211+E211)","v":0},{"$f":"SUM(F211+H211+J211+L211+N211)","v":0},{"$f":"SUM(G211+I211+K211+M211+O211)","v":0},null,null,null,null,null,null,null,null,null,null,null,null,null,null,null,null,null,null,null,null,null,null,null,null,null,null,null,null,null,null,null,null,null,null,null,null,null,null,null,null,null,null,null,null,null,null,null,null,null,null,null,null,null,null,null,null,null,null,null,null,null,null,null,null,null,null,null,null,null,null,null,null,null,null,null,null,null,null,null,0,0,0,0,0,0,null,null,null,null,null,null,null,null,null,null,null,null,null,null,0,0,0,0,0,0]
["SECCIÓN F: TAMIZAJE TRASTORNO ESPECTRO AUTISTA  (MCHAT-RF) "]
["EVALUACIÓN",null,"16 - 30 meses",null,"Pueblos Originarios","Migrantes"]
[null,null,"Hombres","Mujeres"]
["Niños/as con Control a los 18 meses"]
["Niños/as con alteración de área Lenguaje y/o Social en Control de los 18 meses"]
["Niños/as con sospecha del Espectro Autista en otros controles o consultas."]
["Resultado M-CHAT R/F 1° parte","Riego Bajo"]
[null,"Riesgo medio"]
[null,"Riego Alto"]
[null,"Riesgo Alto con derivación a especialista"]
["Resultado M-CHAT R/F 2° Parte","Riesgo Medio en 1° parte"]
[null,"No requiere derivación"]
[null,"Requiere derivación"]
["SECCIÓN G: APLICACIÓN ESCALA MRS EN MUJERES EN EDAD DE CLIMATERIO"]
["\nTOTAL DE APLICACIONES SEGÚN AREA DE AFECTACIÓN \n",null,"Momento y condiciones de de aplicación "]
[null,null,"Ingreso ","MRS Control"]
[null,null,null,"Control sin THM","Control con THM"]
["TOTAL APLICACIONES  "]
["TOTAL MRS ALTO"]
["AFECTACIÓN PREDOMINIO SOMÁTICO "]
["AFECTACIÓN PREDOMINIO PSICOLÓGICO"]
["AFECTACIÓN PREDOMINIO UROGENITAL "]
["SECCIÓN H: APLICACIÓN DE TAMIZAJE PARA EVALUAR RIESGO DE TRASTORNOS O PROBLEMAS DE SALUD MENTAL EN APS"]
["COMPONENTE",null,"TOTAL              ",null,null,"POR EDAD"]
[null,null,null,null,null,"0-4 años",null,"5-9 años",null,"10-14 años",null,"15-19 años",null,"20-24 años",null,"25-44 años",null,"45-64 años",null,"65-69 años",null,"70-79 años",null,"80 y más años"]
[null,null,"Ambos Sexos","Hombres","Mujeres","Hombres","Mujeres","Hombres","Mujeres","Hombres","Mujeres","Hombres","Mujeres","Hombres","Mujeres","Hombres","Mujeres","Hombres","Mujeres","Hombres","Mujeres","Hombres","Mujeres","Hombres","Mujeres"]
["Nº DE CUESTIONARIO PSC-17",null,{"$f":"SUM(D238+E238)","v":0},{"$f":"+H238","v":0},{"$f":"+I238","v":0}]
["Nº DE CUESTIONARIO PSC-Y-17",null,{"$f":"SUM(D239+E239)","v":0},{"$f":"+J239","v":0},{"$f":"+K239","v":0}]
["N° DE CUESTIONARIO PHQ-9 MODIFICADO PARA ADOLESCENTES",null,0,{"$f":"+L240","v":0},{"$f":"+M240","v":0}]
["N° DE CUESTIONARIO PHQ-9 PARA ADULTOS",null,0,{"$f":"+N241+P241+R241","v":0},{"$f":"+O241+Q241+S241","v":0}]
["N° DE ESCALA CAPE-P15",null,0,{"$f":"+J242+L242+N242","v":0},{"$f":"+K242+M242+O242","v":0}]
["ESCALA DE COLUMBIA",null,0,{"$f":"+J243+L243+N243","v":0},{"$f":"+K243+M243+O243","v":0}]
["N° DE ESCALA DE DEPRESIÓN GERIÁTRICA DE YESAVAGE GDS-15",null,0,{"$f":"+T244+V244+X244","v":0},{"$f":"+U244+W244+Y244","v":0}]
["RESULTADOS DE EVALUACIÓN","BAJO RIESGO ",{"$f":"+F245+H245+J245+L245+N245+P245+R245","v":0},{"$f":"+F245+H245+J245+L245+N245+P245+R245","v":0},0]
[null,"RIESGO MEDIO",0,0,0]
[null,"ALTO RIESGO",{"$f":"SUM(D247+E247)","v":0},0,0]
["SECCIÓN I: APLICACIÓN Y RESULTADO DE PAUTA EVALUACIÓN PROGRAMA ACOMPAÑAMIENTO PSICOSOCIAL EN APS"]
["RESULTADOS",null,"TOTAL",null,null,"POR EDAD"]
[null,null,null,null,null,"0 a 4 años",null,"5 a 9 años",null,"10 a 14 años",null,"15 a 19 años",null,"20 a 24 años"]
[null,null,"Ambos Sexos","Hombres","Mujeres","Hombres","Mujeres","Hombres","Mujeres","Hombres","Mujeres","Hombres","Mujeres","Hombres","Mujeres"]
["EVALUACIÓN AL INGRESO","BAJO",{"$f":"SUM(D252:E252)","v":0},{"$f":"+F252+H252+J252+L252+N252","v":0},0]
[null,"MEDIO",0,0,0]
[null,"ALTO",0,0,0]
["EVALUACIÓN AL EGRESO","BAJO",0,0,0]
[null,"MEDIO",0,0,0]
[null,"ALTO",0,0,0]
["SECCIÓN J: EVALUACIÓN INTEGRAL DE DAÑO (5 A 6 SESIONES) (PRAIS)"]
["ACTIVIDAD","PROFESIONAL","TOTAL               ",null,null,"GRUPOS DE EDAD  (en años)",null,null,null,null,null,null,null,null,null,null,null,null,null,null,null,null,null,null,null,null,null,null,null,null,null,null,null,null,null,null,null,null,null,"ORIGEN DE SOLICITUD",null,null,null,null,null,null,null,"Beneficiarios","Niños, Niñas, Adolescentes y Jóvenes Población SENAME","Pueblos Originarios"]
[null,null,null,null,null,"0 - 4 años",null,"5 - 9 años",null,"10 - 14 años",null,"15 - 19 años",null,"20 - 24 años",null,"25 - 29 años",null,"30 - 34 años",null,"35 - 39 años",null,"40 - 44 años",null,"45 - 49 años",null,"50 - 54 años",null,"55 - 59 años",null,"60 - 64 años",null,"65 - 69 años",null,"70 - 74 años",null,"75 - 79 años",null,"80 y más años",null,"Total",null,"En consulta de ingreso a equipo PRAIS",null,"Demanda de usuario ",null,"Solicitud de Tribunal "]
[null,null,"Ambos Sexos","Hombres","Mujeres","Hombres","Mujeres","Hombres","Mujeres","Hombres","Mujeres","Hombres","Mujeres","Hombres","Mujeres","Hombres","Mujeres","Hombres","Mujeres","Hombres","Mujeres","Hombres","Mujeres","Hombres","Mujeres","Hombres","Mujeres","Hombres","Mujeres","Hombres","Mujeres","Hombres","Mujeres","Hombres","Mujeres","Hombres","Mujeres","Hombres","Mujeres","Hombres","Mujeres","Hombres","Mujeres","Hombres","Mujeres","Hombres","Mujeres"]
["PRIMERA SESIÓN\n\n(USUARIOS ATENDIDOS POR PROFESIONAL)","TRABAJADOR/A SOCIAL",{"$f":"SUM(D262,E262)","v":0},{"$f":"SUM(F262,H262,J262,L262,N262,P262,R262,T262,V262,X262,Z262,AB262,AD262,AF262,AH262,AJ262,AL262)","v":0},{"$f":"SUM(G262,I262,K262,M262,O262,Q262,S262,U262,W262,Y262,AA262,AC262,AE262,AG262,AI262,AK262,AM262)","v":0},null,null,null,null,null,null,null,null,null,null,null,null,null,null,null,null,null,null,null,null,null,null,null,null,null,null,null,null,null,null,null,null,null,null,{"$f":"SUM(AP262,AR262,AT262)","v":0},{"$f":"SUM(AQ262,AS262,AU262)","v":0}]
[null,"PSICÓLOGO/A",0,0,0,null,null,null,null,null,null,null,null,null,null,null,null,null,null,null,null,null,null,null,null,null,null,null,null,null,null,null,null,null,null,null,null,null,null,{"$f":"SUM(AP263,AR263,AT263)","v":0},{"$f":"SUM(AQ263,AS263,AU263)","v":0}]
[null,"TOTAL SESIÓN",{"$f":"SUM(D264,E264)","v":0},0,0,{"$f":"SUM(F262:F263)","v":0},0,0,0,0,0,0,0,0,0,0,0,0,0,0,0,0,0,0,0,0,0,0,0,0,0,0,0,0,0,0,0,0,{"$f":"SUM(AM262:AM263)","v":0},0,{"$f":"SUM(AO262:AO263)","v":0},{"$f":"SUM(AP262:AP263)","v":0},{"$f":"SUM(AQ262:AQ263)","v":0},0,0,0,0,0,{"$f":"SUM(AW262:AW263)","v":0},0]
["SEGUNDA  SESIÓN\n\n(PROFESIONALES QUE REALIZAN 2 DE 4 EVALUACIONES, LAS QUE PUEDEN SER; SOCIAL, PSICOLÓGICA, MÉDICA Y/O PSIQUIÁTRICA)","TRABAJADOR/A SOCIAL",0,0,0]
[null,"PSICÓLOGO/A",0,0,0]
[null,"MÉDICO/A GENERAL",0,0,0]
[null,"MÉDICO/A PSIQUIATRA",0,0,0]
[null,"MÉDICO/A ESPECIALIDAD - SUBESPECIALIDAD",0,0,0]
[null,"OTRO PROFESIONAL",0,0,0]
[null,"TOTAL SESIÓN",0,0,0,{"$f":"SUM(F265:F270)","v":0},0,0,0,0,0,0,0,0,0,0,0,0,0,0,0,0,0,0,0,0,0,0,0,0,0,0,0,0,0,0,0,0,0]
["TERCERA SESIÓN\n\n(PROFESIONALES QUE REALIZAN LAS 2 EVALUACIONES RESTANTES, RESPECTO A LAS REALIZADAS EN LA 3° SESIÓN, PUDIENDO SER; SOCIAL, PSICOLÓGICA, MÉDICA Y/O PSIQUIÁTRICA)","TRABAJADOR/A SOCIAL",0,0,0]
[null,"PSICÓLOGO/A",0,0,0]
[null,"MÉDICO/A GENERAL",0,0,0]
[null,"MÉDICO/A PSIQUIATRA",0,0,0]
[null,"MÉDICO/A ESPECIALIDAD - SUBESPECIALIDAD",0,0,0]
[null,"OTRO PROFESIONAL",0,0,0]
[null,"TOTAL SESIÓN",0,{"$f":"SUM(F278,H278,J278,L278,N278,P278,R278,T278,V278,X278,Z278,AB278,AD278,AF278,AH278,AJ278,AL278)","v":0},0,{"$f":"SUM(F272:F277)","v":0},0,0,0,0,0,0,0,0,0,0,0,0,0,0,0,0,0,0,0,0,0,0,0,0,0,0,0,0,0,0,0,0,0]
["CUARTA SESIÓN\n\n(PROFESIONAL PARTICIPANTE EN REDACCIÓN DE INFORME POR CADA CASO) ","TRABAJADOR/A SOCIAL",0,0,0]
[null,"PSICÓLOGO/A",0,0,0]
[null,"MÉDICO/A GENERAL",0,0,0]
[null,"MÉDICO/A PSIQUIATRA",0,0,0]
[null,"MÉDICO/A ESPECIALIDAD - SUBESPECIALIDAD",0,0,0]
[null,"ENFERMERO/A",0,0,0]
[null,"KINESIÓLOGO/A",0,0,0]
[null,"TERAPEUTA OCUPACIONAL",0,0,0]
[null,"TÉCNICO EN ENFERMERÍA ",0,0,0]
[null,"GESTOR COMUNITARIO",0,0,0]
[null,"OTRO PROFESIONAL",{"$f":"SUM(D289,E289)","v":0},0,0]
[null,"TOTAL SESIÓN",{"$f":"SUM(D290,E290)","v":0},0,0,{"$f":"SUM(F279:F289)","v":0},0,0,0,0,0,0,0,0,0,0,0,0,0,0,0,0,0,0,0,0,0,0,0,0,0,0,0,0,0,0,0,0,0]
["QUINTA SESIÓN\n\n(PROFESIONAL PARTICIPANTE EN ENTREGA DE INFORME POR CADA CASO) ","ASISTENTE SOCIAL",{"$f":"SUM(D291,E291)","v":0},0,0]
[null,"PSICÓLOGO/A",{"$f":"SUM(D292,E292)","v":0},0,0]
[null,"MÉDICO GENERAL",{"$f":"SUM(D293,E293)","v":0},0,0]
[null,"MÉDICO PSIQUIATRA",{"$f":"SUM(D294,E294)","v":0},{"$f":"SUM(F294,H294,J294,L294,N294,P294,R294,T294,V294,X294,Z294,AB294,AD294,AF294,AH294,AJ294,AL294)","v":0},0]
[null,"MÉDICO/A ESPECIALIDAD - SUBESPECIALIDAD",0,0,0]
[null,"ENFERMERO/A",0,0,0]
[null,"KINESIÓLOGO/A",0,0,0]
[null,"TERAPEUTA OCUPACIONAL",0,0,0]
[null,"TÉCNICO EN ENFERMERÍA ",0,0,0]
[null,"GESTOR COMUNITARIO",0,0,0]
[null,"OTRO PROFESIONAL",0,0,0]
[null,"TOTAL SESIÓN",0,{"$f":"SUM(F302,H302,J302,L302,N302,P302,R302,T302,V302,X302,Z302,AB302,AD302,AF302,AH302,AJ302,AL302)","v":0},0,{"$f":"SUM(F291:F301)","v":0},0,0,0,0,0,0,0,0,0,0,0,0,0,0,0,0,0,0,0,0,0,0,0,0,0,0,0,0,0,0,0,0,0]
["SEXTA SESIÓN\n\n(PROFESIONAL QUE REALIZA ACOMPAÑAMIENTO, REPRESENTACIÓN JURÍDICA Y/O TESTIFICACIÓN EN TRIBUNAL POR CADA CASO)","TRABAJADOR/A SOCIAL",0,0,0]
[null,"PSICÓLOGO/A",0,0,0]
[null,"MÉDICO/A GENERAL",0,0,0]
[null,"MÉDICO/A PSIQUIATRA",0,0,0]
[null,"MÉDICO/A ESPECIALIDAD - SUBESPECIALIDAD",0,0,0]
[null,"OTRO PROFESIONAL",0,0,0]
[null,"TOTAL SESIÓN",0,0,0,{"$f":"SUM(F303:F308)","v":0},0,0,0,0,0,0,0,0,0,0,0,0,0,0,0,0,0,0,0,0,0,0,0,0,0,0,0,0,0,0,0,0,{"$f":"SUM(AM303:AM308)","v":0}]
["TOTAL EVALUACIONES INTEGRALES DE DAÑO",null,{"$f":"SUM(D310,E310)","v":0},{"$f":"SUM(F310,H310,J310,L310,N310,P310,R310,T310,V310,X310,Z310,AB310,AD310,AF310,AH310,AJ310,AL310)","v":0},{"$f":"SUM(G310,I310,K310,M310,O310,Q310,S310,U310,W310,Y310,AA310,AC310,AE310,AG310,AI310,AK310,AM310)","v":0},{"$f":"MIN(F264,F271,F278,F290,F302,F309)","v":0},{"$f":"MIN(G264,G271,G278,G290,G302,G309)","v":0},{"$f":"MIN(H264,H271,H278,H290,H302,H309)","v":0},0,0,0,0,0,0,0,0,0,0,0,0,0,0,0,0,0,0,0,0,0,0,0,0,0,0,0,0,0,0,0,{"$f":"SUM(AN264)","v":0},{"$f":"SUM(AO264)","v":0},0,0,{"$f":"SUM(AR264)","v":0},0,0,0,0,0,0]
[]
[]
[]
[]
[]
[]
[]
[]
[]
[]
[]
[]
[]
[]
[]
[]
[]
[]
[]
[]
[]
[]
[]
[]
[]
[]
[]
[]
[]
[]
[]
[]
[]
[]
[]
[{"$f":"SUM(F12:Y14,F19:R40,E45:P48,E54:H56,E60:I66,B79:B82,B86:D86,C89:E92,F97:I101,F108:Q115,F120:AA149,F151:AA160,F166:AM171,F176:O181,F186:Q188,F195:Q196,F204:S205,F211:W211,C215:D224)","v":0},{"$f":"SUM(DA12:DZ310)","v":0}]

{"sheet":"A04","index":4,"n_rows":185,"n_cols":114,"rows_kept":185,"cut":false,"hidden":false,"merged":[[107,2,107,11],[107,12,108,12],[127,0,130,0],[107,0,108,0],[107,1,108,1],[122,0,124,0],[125,0,126,0],[120,3,120,7],[120,8,121,8],[120,9,121,9],[120,2,121,2],[120,0,121,1],[113,0,115,0],[113,1,114,3],[82,0,83,0],[86,2,87,2],[86,3,87,3],[86,4,87,4],[86,5,87,5],[88,0,88,5],[94,0,94,5],[98,0,98,5],[99,0,101,0],[99,1,100,3],[99,4,100,5],[86,0,87,0],[86,1,87,1],[78,0,80,0],[78,1,80,1],[78,2,79,4],[78,5,78,34],[78,35,80,35],[79,23,79,24],[79,25,79,26],[79,27,79,28],[79,29,79,30],[79,31,79,32],[79,5,79,6],[79,7,79,8],[79,9,79,10],[79,11,79,12],[79,13,79,14],[79,15,79,16],[79,17,79,18],[79,19,79,20],[79,21,79,22],[27,0,29,0],[27,1,28,3],[79,33,79,34],[74,0,75,0],[74,1,75,1],[74,19,75,19],[74,20,75,20],[51,16,52,16],[50,0,52,0],[50,1,51,3],[77,0,77,6],[51,10,52,10],[51,11,52,11],[51,12,52,12],[51,13,52,13],[51,14,52,14],[51,15,52,15],[45,0,46,0],[45,1,46,1],[45,2,45,5],[45,6,45,9],[45,12,46,12],[51,4,52,4],[51,7,52,7],[99,13,100,14],[9,38,9,39],[9,26,9,27],[9,28,9,29],[9,30,9,31],[9,32,9,33],[9,34,9,35],[9,36,9,37],[27,41,29,41],[28,38,28,39],[28,34,28,35],[28,36,28,37],[28,26,28,27],[28,28,28,29],[28,30,28,31],[28,32,28,33],[78,38,80,38],[74,2,74,18],[99,8,100,9],[99,6,100,7],[99,10,101,10],[99,11,100,12],[51,5,52,5],[51,6,52,6],[5,0,5,22],[8,0,10,0],[8,1,9,3],[8,4,8,39],[9,4,9,5],[9,6,9,7],[9,8,9,9],[9,10,9,11],[9,12,9,13],[9,14,9,15],[9,16,9,17],[9,18,9,19],[9,20,9,21],[9,22,9,23],[9,24,9,25],[78,36,80,36],[27,43,29,43],[8,40,10,40],[27,4,27,39],[27,40,29,40],[28,18,28,19],[28,20,28,21],[28,22,28,23],[28,4,28,5],[28,24,28,25],[28,6,28,7],[28,8,28,9],[28,10,28,11],[28,12,28,13],[28,14,28,15],[28,16,28,17],[45,10,46,10],[45,11,46,11],[50,22,52,22],[50,23,52,23],[78,37,80,37],[51,8,52,8],[51,20,52,20],[51,21,52,21],[51,9,52,9],[51,17,52,17],[51,18,52,18],[51,19,52,19],[8,43,10,43],[27,44,29,44],[8,41,10,41],[8,42,10,42],[27,42,29,42],[8,44,10,44],[113,40,115,40],[113,41,115,41],[114,4,114,5],[114,6,114,7],[114,8,114,9],[114,10,114,11],[114,12,114,13],[114,14,114,15],[114,16,114,17],[114,18,114,19],[114,20,114,21],[114,22,114,23],[114,24,114,25],[114,26,114,27],[114,28,114,29],[114,30,114,31],[114,32,114,33],[114,34,114,35],[114,36,114,37],[114,38,114,39],[113,4,113,39]]}
["SERVICIO DE SALUD"]
[{"$f":"CONCATENATE(\"COMUNA: \",NOMBRE!B2,\" - \",\"( \",NOMBRE!C2,NOMBRE!D2,NOMBRE!E2,NOMBRE!F2,NOMBRE!G2,\" )\")","v":"COMUNA:  - (  )"}]
[{"$f":"CONCATENATE(\"ESTABLECIMIENTO/ESTRATEGIA: \",NOMBRE!B3,\" - \",\"( \",NOMBRE!C3,NOMBRE!D3,NOMBRE!E3,NOMBRE!F3,NOMBRE!G3,NOMBRE!H3,\" )\")","v":"ESTABLECIMIENTO/ESTRATEGIA:  - (  )"}]
[{"$f":"CONCATENATE(\"MES: \",NOMBRE!B6,\" - \",\"( \",NOMBRE!C6,NOMBRE!D6,\" )\")","v":"MES:  - (  )"}]
[{"$f":"CONCATENATE(\"AÑO: \",NOMBRE!B7)","v":"AÑO: 2023"}]
["REM-A04.   CONSULTAS Y OTRAS ATENCIONES EN LA RED"]
[]
["SECCIÓN A: CONSULTAS MÉDICAS "]
["TIPO DE CONSULTA","TOTAL      ",null,null,"POR DE EDAD (en años)",null,null,null,null,null,null,null,null,null,null,null,null,null,null,null,null,null,null,null,null,null,null,null,null,null,null,null,null,null,null,null,null,null,null,null,"Pueblos Originarios","Migrantes","Niños, Niñas, Adolescentes y Jóvenes SENAME","Niños, Niñas, Adolescentes y Jóvenes Mejor Niñez","Por Campaña de Invierno"]
[null,null,null,null,"Menor \nde 1 año",null,"1 a 4 años",null,"5 a 9 años",null,"10 a 14 años",null,"15 a 19 años",null,"20 a 24 años",null,"25 - 29 años",null,"30 - 34 años",null,"35 - 39 años",null,"40 - 44 años",null,"45 - 49 años",null,"50 - 54 años",null,"55 - 59 años",null,"60 - 64 años",null,"65 - 69 años",null,"70 - 74 años",null,"75 - 79 años",null,"80 y mas años"]
[null,"Ambos Sexos","Hombres","Mujeres","Hombres","Mujeres","Hombres","Mujeres","Hombres","Mujeres","Hombres","Mujeres","Hombres","Mujeres","Hombres","Mujeres","Hombres","Mujeres","Hombres","Mujeres","Hombres","Mujeres","Hombres","Mujeres","Hombres","Mujeres","Hombres","Mujeres","Hombres","Mujeres","Hombres","Mujeres","Hombres","Mujeres","Hombres","Mujeres","Hombres","Mujeres","Hombres","Mujeres"]
["TOTAL",{"$f":"SUM(B13:B26)","v":0},{"$f":"SUM(C13:C26)","v":0},{"$f":"SUM(D13:D26)","v":0},{"$f":"SUM(E13:E26)","v":0},{"$f":"SUM(F13:F26)","v":0},{"$f":"SUM(G13:G26)","v":0},0,0,0,0,0,0,0,0,0,0,0,0,0,{"$f":"SUM(U13:U26)","v":0},{"$f":"SUM(V13:V26)","v":0},0,0,0,0,0,0,0,0,0,0,0,0,0,0,0,0,0,0,{"$f":"SUM(AO13:AO26)","v":0},{"$f":"SUM(AP13:AP26)","v":0},{"$f":"SUM(AQ13:AQ26)","v":0},{"$f":"SUM(AR13:AR26)","v":0},{"$f":"SUM(AS13:AS26)","v":0}]
["IRA ALTA",{"$f":"SUM(C13:D13)","v":0},{"$f":"SUM(E13+G13+I13+K13+M13+O13+Q13+S13+U13+W13+Y13+AA13+AC13+AE13+AG13+AI13+AK13+AM13)","v":0},{"$f":"SUM(F13+H13+J13+L13+N13+P13+R13+T13+V13+X13+Z13+AB13+AD13+AF13+AH13+AJ13+AL13+AN13)","v":0},null,null,null,null,null,null,null,null,null,null,null,null,null,null,null,null,null,null,null,null,null,null,null,null,null,null,null,null,null,null,null,null,null,null,null,null,null,null,null,null,null,null,null,null,null,null,null,null,null,null,null,null,null,null,null,null,null,null,null,null,null,null,null,null,null,null,null,null,null,null,null,null,null,null,null,null,null,null,null,null,null,null,null,null,null,null,null,null,null,null,null,null,null,null,null,null,null,null,null,null,null,0,null,0,null,0,null,0,null,0]
["SÍNDROME BRONQUIAL OBSTRUCTIVO ",{"$f":"SUM(C14:D14)","v":0},{"$f":"SUM(E14+G14+I14)","v":0},{"$f":"SUM(F14+H14+J14)","v":0},null,null,null,null,null,null,null,null,null,null,null,null,null,null,null,null,null,null,null,null,null,null,null,null,null,null,null,null,null,null,null,null,null,null,null,null,null,null,null,null,null,null,null,null,null,null,null,null,null,null,null,null,null,null,null,null,null,null,null,null,null,null,null,null,null,null,null,null,null,null,null,null,null,null,null,null,null,null,null,null,null,null,null,null,null,null,null,null,null,null,null,null,null,null,null,null,null,null,null,null,null,0,null,0,null,0,null,0,null,0]
["NEUMONÍA",0,{"$f":"SUM(E15+G15+I15+K15+M15+O15+Q15+S15+U15+W15+Y15+AA15+AC15+AE15+AG15+AI15+AK15+AM15)","v":0},{"$f":"SUM(F15+H15+J15+L15+N15+P15+R15+T15+V15+X15+Z15+AB15+AD15+AF15+AH15+AJ15+AL15+AN15)","v":0},null,null,null,null,null,null,null,null,null,null,null,null,null,null,null,null,null,null,null,null,null,null,null,null,null,null,null,null,null,null,null,null,null,null,null,null,null,null,null,null,null,null,null,null,null,null,null,null,null,null,null,null,null,null,null,null,null,null,null,null,null,null,null,null,null,null,null,null,null,null,null,null,null,null,null,null,null,null,null,null,null,null,null,null,null,null,null,null,null,null,null,null,null,null,null,null,null,null,null,null,null,0,null,0,null,0,null,0,null,0]
["EXACERBACIÓN ASMA",0,{"$f":"SUM(I16+K16+M16+O16+Q16+S16+U16+W16+Y16+AA16+AC16+AE16+AG16+AI16+AK16+AM16)","v":0},{"$f":"SUM(J16+L16+N16+P16+R16+T16+V16+X16+Z16+AB16+AD16+AF16+AH16+AJ16+AL16+AN16)","v":0},null,null,null,null,null,null,null,null,null,null,null,null,null,null,null,null,null,null,null,null,null,null,null,null,null,null,null,null,null,null,null,null,null,null,null,null,null,null,null,null,null,null,null,null,null,null,null,null,null,null,null,null,null,null,null,null,null,null,null,null,null,null,null,null,null,null,null,null,null,null,null,null,null,null,null,null,null,null,null,null,null,null,null,null,null,null,null,null,null,null,null,null,null,null,null,null,null,null,null,null,null,0,null,0,null,0,null,0,null,0]
["ENFERMEDAD PULMONAR OBSTRUCTIVA CRÓNICA",0,{"$f":"SUM(U17+W17+Y17+AA17+AC17+AE17+AG17+AI17+AK17+AM17)","v":0},{"$f":"SUM(V17+X17+Z17+AB17+AD17+AF17+AH17+AJ17+AL17+AN17)","v":0},null,null,null,null,null,null,null,null,null,null,null,null,null,null,null,null,null,null,null,null,null,null,null,null,null,null,null,null,null,null,null,null,null,null,null,null,null,null,null,null,null,null,null,null,null,null,null,null,null,null,null,null,null,null,null,null,null,null,null,null,null,null,null,null,null,null,null,null,null,null,null,null,null,null,null,null,null,null,null,null,null,null,null,null,null,null,null,null,null,null,null,null,null,null,null,null,null,null,null,null,null,0,null,0,null,0,null,0,null,0]
["OTRAS RESPIRATORIAS",0,{"$f":"SUM(E18+G18+I18+K18+M18+O18+Q18+S18+U18+W18+Y18+AA18+AC18+AE18+AG18+AI18+AK18+AM18)","v":0},{"$f":"SUM(F18+H18+J18+L18+N18+P18+R18+T18+V18+X18+Z18+AB18+AD18+AF18+AH18+AJ18+AL18+AN18)","v":0}]
["OBSTÉTRICA",{"$f":"SUM(C19:D19)","v":0},null,{"$f":"SUM(L19+N19+P19+R19+T19+V19+X19+Z19+AB19+AD19+AF19)","v":0}]
["GINECOLÓGICA",{"$f":"SUM(C20:D20)","v":0},null,{"$f":"SUM(F20+H20+J20+L20+N20+P20+R20+T20+V20+X20+Z20+AB20+AD20+AF20+AH20+AJ20+AL20+AN20)","v":0}]
["GINECOLÓGICA  POR INFERTILIDAD",0,{"$f":"SUM(O21+Q21+S21+U21+W21+Y21+AA21)","v":0},{"$f":"SUM(P21+R21+T21+V21+X21+Z21+AB21)","v":0}]
["INFECCIÓN TRANSMISIÓN SEXUAL",0,{"$f":"SUM(E22+G22+I22+K22+M22+O22+Q22+S22+U22+W22+Y22+AA22+AC22+AE22+AG22+AI22+AK22+AM22)","v":0},{"$f":"SUM(F22+H22+J22+L22+N22+P22+R22+T22+V22+X22+Z22+AB22+AD22+AF22+AH22+AJ22+AL22+AN22)","v":0}]
["VIH-SIDA",0,{"$f":"SUM(E23+G23+I23+K23+M23+O23+Q23+S23+U23+W23+Y23+AA23+AC23+AE23+AG23+AI23+AK23+AM23)","v":0},{"$f":"SUM(F23+H23+J23+L23+N23+P23+R23+T23+V23+X23+Z23+AB23+AD23+AF23+AH23+AJ23+AL23+AN23)","v":0}]
["SALUD MENTAL",0,{"$f":"SUM(G24+I24+K24+M24+O24+Q24+S24+U24+W24+Y24+AA24+AC24+AE24+AG24+AI24+AK24+AM24)","v":0},{"$f":"SUM(H24+J24+L24+N24+P24+R24+T24+V24+X24+Z24+AB24+AD24+AF24+AH24+AJ24+AL24+AN24)","v":0}]
["CARDIOVASCULAR",0,{"$f":"SUM(M25+O25+Q25+S25+U25+W25+Y25+AA25+AC25+AE25+AG25+AI25+AK25+AM25)","v":0},{"$f":"SUM(N25+P25+R25+T25+V25+X25+Z25+AB25+AD25+AF25+AH25+AJ25+AL25+AN25)","v":0}]
["OTRAS MORBILIDADES",0,{"$f":"SUM(E26+G26+I26+K26+M26+O26+Q26+S26+U26+W26+Y26+AA26+AC26+AE26+AG26+AI26+AK26+AM26)","v":0},{"$f":"SUM(F26+H26+J26+L26+N26+P26+R26+T26+V26+X26+Z26+AB26+AD26+AF26+AH26+AJ26+AL26+AN26)","v":0},null,null,null,null,null,null,null,null,null,null,null,null,null,null,null,null,null,null,null,null,null,null,null,null,null,null,null,null,null,null,null,null,null,null,null,null,null,null,null,null,null,null,null,null,null,null,null,null,null,null,null,null,null,null,null,null,null,null,null,null,null,null,null,null,null,null,null,null,null,null,null,null,null,null,null,null,null,null,null,null,null,null,null,null,null,null,null,null,null,null,null,null,null,null,null,null,null,null,null,null,null,0,null,0,null,0,null,0,null,0]
["SECCIÓN B: CONSULTAS DE PROFESIONALES NO MÉDICOS ",null,null,null,null,null," "]
["PROFESIONAL","TOTAL      ",null,null,"POR DE EDAD (en años)",null,null,null,null,null,null,null,null,null,null,null,null,null,null,null,null,null,null,null,null,null,null,null,null,null,null,null,null,null,null,null,null,null,null,null,"Pueblos Originarios","Migrantes","Espacios Amigables","Niños, Niñas, Adolescentes y Jóvenes SENAME","Niños, Niñas, Adolescentes y Jóvenes Mejor Niñez"]
[null,null,null,null,"Menor \nde 1 año",null,"1 a 4 años",null,"5 a 9 años",null,"10 a 14 años",null,"15 a 19 años",null,"20 a 24 años",null,"25 - 29 años",null,"30 - 34 años",null,"35 - 39 años",null,"40 - 44 años",null,"45 - 49 años",null,"50 - 54 años",null,"55 - 59 años",null,"60 - 64 años",null,"65 - 69 años",null,"70 - 74 años",null,"75 - 79 años",null,"80 y mas años"]
[null,"Ambos Sexos","Hombres","Mujeres","Hombres","Mujeres","Hombres","Mujeres","Hombres","Mujeres","Hombres","Mujeres","Hombres","Mujeres","Hombres","Mujeres","Hombres","Mujeres","Hombres","Mujeres","Hombres","Mujeres","Hombres","Mujeres","Hombres","Mujeres","Hombres","Mujeres","Hombres","Mujeres","Hombres","Mujeres","Hombres","Mujeres","Hombres","Mujeres","Hombres","Mujeres","Hombres","Mujeres"]
["ENFERMERA /O",{"$f":"SUM(C31:D31)","v":0},{"$f":"SUM(E31+G31+I31+K31+M31+O31+Q31+S31+U31+W31+Y31+AA31+AC31+AE31+AG31+AI31+AK31+AM31)","v":0},0,null,null,null,null,null,null,null,null,null,null,null,null,null,null,null,null,null,null,null,null,null,null,null,null,null,null,null,null,null,null,null,null,null,null,null,null,null,null,null,null,null,null,null,null,null,null,null,null,null,null,null,null,null,null,null,null,null,null,null,null,null,null,null,null,null,null,null,null,null,null,null,null,null,null,null,null,null,null,null,null,null,null,null,null,null,null,null,null,null,null,null,null,null,null,null,null,null,null,null,null,null,0,null,0,null,0,null,0,null,0]
["MATRONA /ÓN (MORB.GINECOLÓGICA)",0,0,0]
["MATRONA /ÓN (ITS)",0,0,0]
["MATRONA /ÓN (INFERTILIDAD)",0,{"$f":"SUM(O34+Q34+S34+U34+W34+Y34+AA34)","v":0},{"$f":"SUM(P34+R34+T34+V34+X34+Z34+AB34)","v":0}]
["MATRONA /ÓN (OTRAS CONSULTAS)",{"$f":"SUM(C35:D35)","v":0},{"$f":"SUM(E35+G35+I35+K35+M35+O35+Q35+S35+U35+W35+Y35+AA35+AC35+AE35+AG35+AI35+AK35+AM35)","v":0},{"$f":"SUM(F35+H35+J35+L35+N35+P35+R35+T35+V35+X35+Z35+AB35+AD35+AF35+AH35+AJ35+AL35+AN35)","v":0}]
["MATRONA /ÓN (SALUD SEXUAL)",{"$f":"SUM(C36:D36)","v":0},{"$f":"SUM(K36+M36+O36+Q36+S36+U36+W36+Y36+AA36+AC36+AE36+AG36+AI36+AK36+AM36)","v":0},{"$f":"SUM(L36+N36+P36+R36+T36+V36+X36+Z36+AB36+AD36+AF36+AH36+AJ36+AL36+AN36)","v":0}]
["NUTRICIONISTA (OTRAS CONSULTAS)",0,0,0]
["NUTRICIONISTA MAULNUTRICIÓN POR EXCESO",{"$f":"SUM(C38:D38)","v":0},{"$f":"SUM(E38+G38+I38+K38+M38+O38+Q38+S38+U38+W38+Y38+AA38+AC38+AE38+AG38+AI38+AK38+AM38)","v":0},{"$f":"SUM(F38+H38+J38+L38+N38+P38+R38+T38+V38+X38+Z38+AB38+AD38+AF38+AH38+AJ38+AL38+AN38)","v":0}]
["NUTRICIONISTA MALNUTRICIÓN POR DÉFICIT",{"$f":"SUM(C39:D39)","v":0},{"$f":"SUM(E39+G39+I39+K39+M39+O39+Q39+S39+U39+W39+Y39+AA39+AC39+AE39+AG39+AI39+AK39+AM39)","v":0},{"$f":"SUM(F39+H39+J39+L39+N39+P39+R39+T39+V39+X39+Z39+AB39+AD39+AF39+AH39+AJ39+AL39+AN39)","v":0}]
["PSICÓLOGO/A",0,0,0]
["FONOAUDIÓLOGO/A",0,0,0]
["TERAPEUTA OCUPACIONAL",0,0,0]
["TECNÓLOGO/A MÉDICO/A (EXCLUYE UAPO)",0,0,0]
["TRABAJADOR (A) SOCIAL (EXCLUYE SM)",0,0,0]
["SECCIÓN C: CONSULTAS ANTICONCEPCIÓN DE EMERGENCIA (Incluidas en Sección A o B, respectivamente.)"]
["PROFESIONAL","TOTAL      ","CON ENTREGA ANTICONCEPCIÓN EMERGENCIA",null,null,null,"SIN ENTREGA ANTICONCEPCIÓN EMERGENCIA",null,null,null,"Pueblos Originarios","Migrantes","Espacios Amigables"]
[null,null,"10 a 14 años","15 a 19 años","20 a 24 años","25 y más años","10 a 14 años","15 a 19 años","20 a 24 años","25 y más años"]
["MÉDICO/A",{"$f":"SUM(C48:J48)","v":0},null,null,null,null,null,null,null,null,null,null,null,null,null,null,null,null,null,null,null,null,null,null,null,null,null,null,null,null,null,null,null,null,null,null,null,null,null,null,null,null,null,null,null,null,null,null,null,null,null,null,null,null,null,null,null,null,null,null,null,null,null,null,null,null,null,null,null,null,null,null,null,null,null,null,null,null,null,null,null,null,null,null,null,null,null,null,null,null,null,null,null,null,null,null,null,null,null,null,null,null,null,null,null,0,null,0,null,0]
["MATRONA/ÓN",{"$f":"SUM(C49:J49)","v":0},null,null,null,null,null,null,null,null,null,null,null,null,null,null,null,null,null,null,null,null,null,null,null,null,null,null,null,null,null,null,null,null,null,null,null,null,null,null,null,null,null,null,null,null,null,null,null,null,null,null,null,null,null,null,null,null,null,null,null,null,null,null,null,null,null,null,null,null,null,null,null,null,null,null,null,null,null,null,null,null,null,null,null,null,null,null,null,null,null,null,null,null,null,null,null,null,null,null,null,null,null,null,null,0,null,0,null,0]
["SECCIÓN D: CONSULTAS EN HORARIO CONTINUADO (Incluidas en las consultas de morbilidad de sección A o B)"]
["TIPO JORNADA","TOTAL",null,null,"POR DE EDAD (en años)",null,null,null,null,null,null,null,null,null,null,null,null,null,null,null,null,null,"Pueblos Originarios","Migrantes"]
[null,null,null,null,"Menor  de 1 año","1 a 4 años","5 a 9 años","10 a 14 años","15 a 19 años","20 a 24 años","25 - 29 años","30 - 34 años","35 - 39 años","40 - 44 años","45 - 49 años","50 - 54 años","55 - 59 años","60 - 64 años","65 - 69 años","70 - 74 años","75 - 79 años","80 y mas años"]
[null,"Ambos Sexos","Hombres","Mujeres"]
["HORARIO CONTINUADO",{"$f":"SUM(B55:B56)","v":0},{"$f":"SUM(C55:C56)","v":0},{"$f":"SUM(D55:D56)","v":0},0,0,0,0,0,0,0,0,0,0,0,0,0,0,0,0,0,0,{"$f":"SUM(W55:W56)","v":0},{"$f":"SUM(X55:X56)","v":0}]
["MÉDICO/A",{"$f":"SUM(C55:D55)","v":0},null,null,null,null,null,null,null,null,null,null,null,null,null,null,null,null,null,null,null,null,null,null,null,null,null,null,null,null,null,null,null,null,null,null,null,null,null,null,null,null,null,null,null,null,null,null,null,null,null,null,null,null,null,null,null,null,null,null,null,null,null,null,null,null,null,null,null,null,null,null,null,null,null,null,null,null,null,null,null,null,null,null,null,null,null,null,null,null,null,null,null,null,null,null,null,null,null,null,null,null,null,null,null,0,0,0]
["OTROS PROFESIONALES",{"$f":"SUM(C56:D56)","v":0}]
["SÁBADO, DOMINGO o FESTIVO",{"$f":"SUM(B58:B59)","v":0},{"$f":"SUM(C58:C59)","v":0},{"$f":"SUM(D58:D59)","v":0},0,0,0,0,0,0,0,0,0,0,0,0,0,0,0,0,0,0,{"$f":"SUM(W58:W59)","v":0},{"$f":"SUM(X58:X59)","v":0}]
["MÉDICO/A",{"$f":"SUM(C58:D58)","v":0}]
["OTROS PROFESIONALES",{"$f":"SUM(C59:D59)","v":0}]
["SECCIÓN E: CONSULTA  ABREVIADA"]
["PROFESIONAL","TOTAL"]
["MÉDICO/A"]
["MATRONA/ON"]
["SECCIÓN F: CONSULTA ABREVIADA PROFESIONALES NO MÉDICOS PRAIS"]
["PROFESIONAL","TOTAL"]
["TRABAJADOR/A SOCIAL"]
["PSICÓLOGO/A"]
["ENFERMERO/A"]
["KINESIÓLOGO/A"]
["TERAPEUTA OCUPACIONAL"]
["TÉCNICO EN ENFERMERÍA "]
["GESTOR COMUNITARIO"]
["OTRO PROFESIONAL"]
["SECCIÓN G: ATENCIONES DE MEDICINA INDÍGENA"]
["COMPONENTE","TOTAL","POR EDAD EN AÑOS",null,null,null,null,null,null,null,null,null,null,null,null,null,null,null,null,"Pueblos Originarios","Pueblos No Originarios"]
[null,null,"0 a 4 años","5 a 9  años","10 a 14 años","15 a 19 años","20 a 24 años","25 a 29 años","30 a 34 años","35 - 39 años","40 - 44 años","45 - 49 años","50 - 54 años","55 - 59 años","60 - 64 años","65 - 69 años","70 - 74 años","75 - 79 años","80 y mas años"]
["ATENCIONES POR AGENTE MEDICINA INDÍGENA",{"$f":"SUM(C77:S77)","v":0},null,null,null,null,null,null,null,null,null,null,null,null,null,null,null,null,null,null,null,null,null,null,null,null,null,null,null,null,null,null,null,null,null,null,null,null,null,null,null,null,null,null,null,null,null,null,null,null,null,null,null,null,null,null,null,null,null,null,null,null,null,null,null,null,null,null,null,null,null,null,null,null,null,null,null,null,null,null,null,null,null,null,null,null,null,null,null,null,null,null,null,null,null,null,null,null,null,null,null,null,null,null,null,0,null,0]
["SECCIÓN H: INTERVENCIÓN INDIVIDUAL DEL USUARIO EN PROGRAMA ELIGE VIDA SANA"]
["PROFESIONAL","PRESTACIÓN","TOTAL",null,null,"POR DE EDAD (en años)",null,null,null,null,null,null,null,null,null,null,null,null,null,null,null,null,null,null,null,null,null,null,null,null,null,null,null,null,null,"Gestantes","Post Parto","Pueblos Originarios","Migrantes"]
[null,null,null,null,null,"Menor de 2 años",null,"2 a 4 años",null,"5 a 9 años",null,"10 a 14 años",null,"15 a 18 años",null,"19 años",null,"20 a 24 años",null,"25 - 29 años",null,"30 - 34 años",null,"35 - 39 años",null,"40 - 44 años",null,"45 - 49 años",null,"50 - 54 años",null,"55 - 59 años",null,"60 - 64 años"]
[null,null,"Ambos Sexos","Hombres","Mujeres","Hombres","Mujeres","Hombres","Mujeres","Hombres","Mujeres","Hombres","Mujeres","Hombres","Mujeres","Hombres","Mujeres","Hombres","Mujeres","Hombres","Mujeres","Hombres","Mujeres","Hombres","Mujeres","Hombres","Mujeres","Hombres","Mujeres","Hombres","Mujeres","Hombres","Mujeres","Hombres","Mujeres"]
["PROFESIONAL DE LA ACTIVIDAD FÍSICA","EVALUACIÓN",{"$f":"SUM(D82:E82)","v":0},{"$f":"SUM(F82,H82,J82,L82,N82,P82,R82,T82,V82,X82,Z82,AB82,AD82,AF82,AH82)","v":0},{"$f":"SUM(G82,I82,K82,M82,O82,Q82,S82,U82,W82,Y82,AA82,AC82,AE82,AG82,AI82)","v":0},null,null,null,null,null,null,null,null,null,null,null,null,null,null,null,null,null,null,null,null,null,null,null,null,null,null,null,null,null,null,null,null,null,null,null,null,null,null,null,null,null,null,null,null,null,null,null,null,null,null,null,null,null,null,null,null,null,null,null,null,null,null,null,null,null,null,null,null,null,null,null,null,null,null,null,null,null,null,null,null,null,null,null,null,null,null,null,null,null,null,null,null,null,null,null,null,null,null,null,null,0,null,0,null,0,null,0]
["NUTRICIONISTA","CONSULTA NUTRICIONAL",{"$f":"SUM(D83:E83)","v":0},{"$f":"SUM(F83,H83,J83,L83,N83,P83,R83,T83,V83,X83,Z83,AB83,AD83,AF83,AH83)","v":0},0]
[null,"CONSULTA NUTRICIONAL DE SEGUIMIENTO",{"$f":"SUM(D84:E84)","v":0},0,0]
["PSICÓLOGO/A","CONSULTA",{"$f":"SUM(D85:E85)","v":0},0,0]
["SECCIÓN I: SERVICIOS FARMACÉUTICOS"]
["COMPONENTE","TOTAL","ATENCIÓN ABIERTA ","ATENCIÓN CERRADA","SERVICIOS FARMACÉUTICOS REALIZADOS EN ESTABLECIMIENTOS DE SALUD","SERVICIOS FARMACÉUTICOS REALIZADOS EN DOMICILIO"]
[]
["ATENCIÓN FARMACÉUTICA"]
["REVISIÓN DE LA MEDICACIÓN SIN ENTREVISTA",{"$f":"SUM(C90:D90)","v":0}]
["REVISIÓN DE LA MEDICACIÓN CON ENTREVISTA",{"$f":"SUM(C91:D91)","v":0}]
["CONCILIACIÓN FARMACÉUTICA",{"$f":"SUM(C92:D92)","v":0}]
["EDUCACIÓN FARMACÉUTICA",{"$f":"SUM(C93:D93)","v":0}]
["SEGUIMIENTO FARMACOTERAPÉUTICO",{"$f":"SUM(C94:D94)","v":0}]
["FARMACOVIGILANCIA"]
["REPORTE REACCIÓN ADVERSA A MEDICAMENTOS",{"$f":"SUM(C96:D96)","v":0}]
["REPORTE FALLA DE CALIDAD",{"$f":"SUM(C97:D97)","v":0}]
["REPORTE DE EVENTOS ADVERSOS ASOCIADOS A MEDICAMENTOS",{"$f":"SUM(C98:D98)","v":0}]
["SECCIÓN J: DESPACHO DE RECETAS DE PACIENTES AMBULATORIOS"]
["TIPO DE RECETA","RECETAS DESPACHADAS",null,null,"LUGAR DE ENTREGA",null,"PRESCRIPCIONES ",null,"LUGAR DE ENTREGA",null,"RECETAS DESPACHADAS CON OPORTUNIDAD  (Entregado el mismo día)","RECETAS DESPACHADAS A PACIENTES DEL PROGRAMA DE SALUD CARDIOVASCULAR",null,"PRESCRIPCIONES A PACIENTES DEL PROGRAMA DE SALUD CARDIOVASCULAR"]
[]
[null,"DESPACHO TOTAL","DESPACHO COMPLETO","DESPACHO\nPARCIAL","EN CENTRO DE SALUD","EN DOMICILIO","EMITIDAS","RECHAZADAS","EN CENTRO DE SALUD","EN DOMICILIO",null,"DESPACHO TOTAL","DESPACHO\nPARCIAL","EMITIDAS","RECHA-\nZADAS"]
["CRÓNICA",{"$f":"SUM(C103:D103)","v":0},null,null,null,null,null,null,null,null,null,null,null,null,null,{"$f":"CB103&CC103&CD103&CE103","v":""}]
["MORBILIDAD",{"$f":"SUM(C104:D104)","v":0}]
["BAJO CONTROL LEGAL",{"$f":"SUM(C105:D105)","v":0}]
["TOTAL",{"$f":"SUM(C106:D106)","v":0},{"$f":"SUM(C103:C105)","v":0},0,0,0,0,0,0,0,0,{"$f":"+L103","v":0},{"$f":"+M103","v":0},{"$f":"+N103","v":0},{"$f":"+O103","v":0}]
["SECCIÓN K: RONDAS POR TIPO Y PROFESIONAL"]
["TIPO DE RONDA","Nº Rondas","TOTAL DE PROFESIONALES QUE PARTICIPARON EN RONDAS, SEGÚN TIPO DE PROFESIONAL",null,null,null,null,null,null,null,null,null,"Compra de Servicio - Nº Traslados profesionales en Ronda"]
[null,null,"Médico","Dentista","Enfermera","Matrona","Nutricionista","Tecnico Paramedico","Asistente Social","Psicólogo","Químico Farmacéutico","Otros"]
["TERRESTRE"]
["AÉREA"]
["MARÍTIMA"]
["SECCIÓN L: CLASIFICACIÓN DE CONSULTA NUTRICIONAL POR GRUPO DE EDAD (Incluidas en sección B)"]
["CLASIFICACIÓN","TOTAL      ",null,null,"POR DE EDAD (en años)",null,null,null,null,null,null,null,null,null,null,null,null,null,null,null,null,null,null,null,null,null,null,null,null,null,null,null,null,null,null,null,null,null,null,null,"Beneficiarios","Embarazadas"]
[null,null,null,null,"Menor \nde 1 año",null,"1 a 4 años",null,"5 a 9 años",null,"10 a 14 años",null,"15 a 19 años",null,"20 a 24 años",null,"25 - 29 años",null,"30 - 34 años",null,"35 - 39 años",null,"40 - 44 años",null,"45 - 49 años",null,"50 - 54 años",null,"55 - 59 años",null,"60 - 64 años",null,"65 - 69 años",null,"70 - 74 años",null,"75 - 79 años",null,"80 y mas años"]
[null,"Ambos Sexos","Hombres","Mujeres","Hombres","Mujeres","Hombres","Mujeres","Hombres","Mujeres","Hombres","Mujeres","Hombres","Mujeres","Hombres","Mujeres","Hombres","Mujeres","Hombres","Mujeres","Hombres","Mujeres","Hombres","Mujeres","Hombres","Mujeres","Hombres","Mujeres","Hombres","Mujeres","Hombres","Mujeres","Hombres","Mujeres","Hombres","Mujeres","Hombres","Mujeres","Hombres","Mujeres"]
["MAL NUTRICIÓN POR RIESGO A DESNUTRIR/RIEGO BAJO PESO ",{"$f":"SUM(C117:D117)","v":0},{"$f":"SUM(E117+G117+I117+K117+M117+O117+Q117+S117+U117+W117+Y117+AA117+AC117+AE117+AG117+AI117+AK117+AM117)","v":0},0]
["MAL NUTRICIÓN POR RIEGO OBESIDAD SOBREPESO ",{"$f":"SUM(C118:D118)","v":0},0,0]
["ESTADO NUTRICIONAL NORMAL",{"$f":"SUM(C119:D119)","v":0},0,0]
["SECCIÓN M: CONSULTA DE LACTANCIA EN NIÑOS Y NIÑAS CONTROLADOS"]
["TIPOS DE CONSULTA",null,"TOTAL","POR EDAD",null,null,null,null,"Pueblos Originarios","Migrantes"]
[null,null,null," De 0 a 29 días","De 1 mes a 2 meses 29 días","De 3 meses a 5 meses 29 días","De 6 meses a 11 meses 29 días","De 1 a 2 años"]
["CONSULTA DE LACTANCIA","CONSULTA LACTANCIA MATERNA DE ALERTA",{"$f":"SUM(D123:H123)","v":0},null,null,null,null,null,null,null,null,null,null,null,null,null,null,null,null,null,null,null,null,null,null,null,null,null,null,null,null,null,null,null,null,null,null,null,null,null,null,null,null,null,null,null,null,null,null,null,null,null,null,null,null,null,null,null,null,null,null,null,null,null,null,null,null,null,null,null,null,null,null,null,null,null,null,null,null,null,null,null,null,null,null,null,null,null,null,null,null,null,null,null,null,null,null,null,null,null,null,null,null,null,null,0,null,0]
[null,"CONSULTA DE LACTANCIA MATERNA DE SEGUIMIENTO",{"$f":"SUM(D124:H124)","v":0}]
[null,"OTRAS CONSULTAS DE LACTANCIA MATERNA",{"$f":"SUM(D125:H125)","v":0}]
["CONSEJERÍA DE LACTANCIA","CONSEJERÍA PRENATAL EN LACTANCIA MATERNA",0]
[null,"CONSEJERÍA POSTNATAL EN LACTANCIA MATERNA",0]
["CONSULTA DE LACTANCIA POR PROFESIONAL","MÉDICO/A",0]
[null,"MATRÓN/A",0]
[null,"ENFERMERA/O",0]
[null,"NUTRICIONISTA",0]
[]
[]
[]
[]
[]
[]
[]
[]
[]
[]
[]
[]
[]
[]
[]
[]
[]
[]
[]
[]
[]
[]
[]
[]
[]
[]
[]
[]
[]
[]
[]
[]
[]
[]
[]
[]
[]
[]
[]
[]
[]
[]
[]
[]
[]
[]
[]
[]
[]
[]
[]
[]
[]
[{"$f":"SUM(B12:D12,B31:D44,B48:B49,B54,B57,B62:B63,B66:B73,B77,C82:C85,B90:B94,B96:B98,B106,B110:M112,B117:B119,C123:C131)","v":0},{"$f":"SUM(CG13:CJ119)","v":0}]

{"sheet":"A05","index":5,"n_rows":422,"n_cols":120,"rows_kept":422,"cut":false,"hidden":false,"merged":[[385,2,385,9],[385,10,385,14],[385,15,387,15],[386,2,387,2],[386,3,387,3],[386,4,387,4],[386,5,387,5],[386,6,386,9],[386,10,387,10],[386,11,387,11],[386,12,387,12],[386,13,387,13],[386,14,387,14],[375,0,375,41],[377,0,379,0],[377,1,379,1],[377,2,378,4],[377,5,377,38],[377,39,379,39],[377,40,379,40],[378,5,378,6],[378,7,378,8],[378,9,378,10],[378,11,378,12],[378,13,378,14],[378,15,378,16],[378,17,378,18],[378,19,378,20],[378,21,378,22],[378,23,378,24],[378,25,378,26],[378,27,378,28],[378,29,378,30],[378,31,378,32],[378,33,378,34],[378,35,378,36],[371,39,373,39],[372,4,372,5],[372,6,372,7],[372,8,372,9],[372,10,372,11],[372,12,372,13],[372,14,372,15],[372,16,372,17],[372,18,372,19],[372,20,372,21],[372,22,372,23],[372,24,372,25],[372,26,372,27],[372,28,372,29],[372,30,372,31],[372,32,372,33],[372,34,372,35],[372,36,372,37],[222,49,223,49],[269,39,271,39],[322,16,324,16],[278,23,278,24],[270,27,270,28],[222,33,222,34],[270,35,270,36],[270,21,270,22],[278,35,278,36],[270,29,270,30],[277,5,277,38],[278,33,278,34],[278,39,279,39],[278,27,278,28],[278,29,278,30],[278,31,278,32],[269,40,271,40],[270,25,270,26],[277,46,279,46],[277,47,279,47],[222,48,223,48],[222,46,223,46],[222,44,222,45],[222,39,222,41],[175,45,176,45],[162,9,162,10],[162,11,162,12],[385,0,387,0],[385,1,387,1],[378,37,378,38],[337,0,340,0],[175,43,176,43],[278,19,278,20],[278,21,278,22],[359,0,359,38],[361,2,361,9],[361,10,361,14],[361,15,363,15],[362,2,363,2],[362,3,363,3],[362,4,363,4],[362,5,363,5],[362,6,362,9],[362,10,363,10],[362,11,363,11],[362,12,363,12],[362,13,363,13],[362,14,363,14],[329,35,330,35],[329,36,330,36],[329,37,330,37],[328,38,330,38],[300,48,302,48],[300,45,300,46],[301,45,302,45],[301,46,302,46],[300,47,302,47],[300,5,300,44],[301,43,301,44],[301,35,301,36],[301,37,301,38],[301,39,301,40],[301,41,301,42],[301,27,301,28],[301,29,301,30],[301,31,301,32],[301,33,301,34],[316,13,316,14],[316,27,316,28],[316,29,316,30],[316,31,316,32],[315,35,317,35],[128,40,129,40],[128,41,129,41],[115,37,117,37],[115,38,117,38],[328,35,328,37],[322,0,324,0],[322,4,322,12],[323,4,323,5],[323,6,323,7],[316,25,316,26],[162,13,162,14],[323,8,323,9],[323,10,323,11],[323,12,323,13],[301,19,301,20],[300,0,302,1],[303,0,304,0],[277,2,278,4],[278,5,278,6],[278,7,278,8],[315,36,317,36],[316,5,316,6],[316,7,316,8],[316,9,316,10],[104,7,104,8],[104,9,104,10],[128,31,128,32],[103,33,105,33],[103,34,105,34],[149,13,149,15],[131,0,131,1],[138,0,140,0],[141,0,141,1],[149,5,149,6],[128,27,128,28],[116,29,116,30],[116,31,116,32],[115,0,117,1],[115,2,116,4],[128,23,128,24],[115,33,115,36],[116,25,116,26],[107,0,112,0],[116,17,116,18],[116,15,116,16],[104,17,104,18],[104,19,104,20],[127,0,129,1],[175,41,175,42],[175,39,176,39],[175,40,176,40],[175,25,175,26],[146,22,146,23],[175,19,175,20],[113,0,113,1],[175,9,175,10],[175,11,175,12],[175,15,175,16],[175,13,175,14],[162,2,162,4],[164,0,167,0],[128,39,129,39],[127,39,127,41],[128,37,128,38],[128,33,128,34],[128,35,128,36],[116,33,117,33],[116,34,117,34],[116,35,117,35],[128,11,128,12],[128,17,128,18],[128,29,128,30],[5,0,5,15],[8,0,9,1],[8,2,9,2],[10,0,10,1],[26,0,26,1],[32,0,33,1],[17,0,17,1],[11,0,11,1],[12,0,12,1],[19,0,19,1],[15,0,16,1],[15,4,16,4],[8,3,8,12],[32,2,33,2],[13,0,13,1],[18,0,18,1],[8,15,9,15],[8,13,9,13],[8,14,9,14],[22,0,22,1],[20,0,20,1],[23,0,23,1],[15,2,16,2],[15,3,16,3],[54,17,55,17],[136,11,136,12],[15,5,16,5],[43,0,43,1],[50,0,50,1],[54,0,55,1],[37,0,42,0],[51,0,52,0],[46,0,46,1],[34,0,34,1],[35,0,35,1],[36,0,36,1],[44,0,45,0],[24,0,24,1],[27,0,27,1],[21,0,21,1],[30,0,30,1],[25,0,25,1],[128,13,128,14],[98,0,100,1],[99,7,99,8],[99,9,99,10],[99,11,99,12],[98,2,99,4],[49,0,49,1],[66,0,67,0],[69,0,70,0],[56,0,56,1],[28,0,28,1],[29,0,29,1],[73,0,74,0],[65,0,65,1],[54,2,55,2],[57,0,57,1],[58,0,58,1],[59,0,64,0],[71,0,71,1],[72,0,72,1],[68,0,68,1],[315,33,316,34],[316,15,316,16],[316,17,316,18],[316,19,316,20],[316,21,316,22],[301,25,301,26],[301,21,301,22],[308,0,308,1],[315,2,316,4],[316,11,316,12],[316,23,316,24],[277,42,278,43],[278,15,278,16],[278,17,278,18],[290,0,298,0],[300,2,301,4],[277,39,277,41],[280,0,280,1],[278,13,278,14],[301,17,301,18],[301,9,301,10],[278,9,278,10],[278,11,278,12],[222,47,223,47],[222,25,222,26],[222,43,223,43],[270,5,270,6],[222,7,222,8],[277,45,279,45],[278,37,278,38],[278,25,278,26],[307,0,307,1],[301,15,301,16],[305,0,305,1],[222,37,222,38],[222,42,223,42],[222,23,222,24],[222,17,222,18],[222,19,222,20],[222,35,222,36],[301,11,301,12],[301,7,301,8],[301,13,301,14],[270,13,270,14],[270,23,270,24],[269,37,271,37],[277,44,279,44],[300,49,302,49],[47,0,48,0],[222,0,223,1],[267,0,267,1],[266,0,266,1],[260,0,260,1],[259,0,259,1],[258,0,258,1],[193,0,197,0],[168,0,171,0],[79,0,79,1],[80,0,80,1],[87,0,87,1],[88,0,88,1],[146,0,146,1],[181,0,181,1],[278,40,279,40],[278,41,279,41],[301,23,301,24],[155,0,158,0],[225,0,225,1],[270,9,270,10],[270,11,270,12],[175,37,175,38],[329,15,329,16],[329,17,329,18],[319,0,319,1],[320,0,320,1],[318,0,318,1],[315,0,317,1],[222,29,222,30],[222,31,222,32],[222,21,222,22],[270,7,270,8],[269,0,271,0],[274,0,275,0],[269,1,271,1],[306,0,306,1],[269,2,270,4],[272,0,273,0],[277,0,279,1],[281,0,289,0],[315,5,315,32],[329,13,329,14],[175,27,175,28],[175,29,175,30],[175,31,175,32],[175,23,175,24],[240,0,244,0],[229,0,230,0],[222,11,222,12],[149,2,149,4],[151,0,153,0],[149,0,150,1],[149,7,149,8],[149,11,149,12],[159,0,159,1],[162,7,162,8],[185,0,192,0],[175,2,175,4],[222,13,222,14],[222,15,222,16],[175,5,175,6],[175,7,175,8],[146,16,146,17],[146,18,146,19],[134,0,134,1],[136,0,137,1],[136,5,136,6],[136,7,136,8],[128,19,128,20],[130,0,130,1],[146,20,146,21],[127,2,128,4],[128,7,128,8],[128,9,128,10],[132,0,133,0],[136,13,137,13],[136,2,136,4],[345,0,352,0],[83,9,83,10],[136,9,136,10],[128,15,128,16],[103,5,103,32],[90,17,90,21],[127,5,127,38],[82,24,83,25],[104,29,104,30],[104,31,104,32],[104,27,104,28],[82,17,82,18],[82,19,82,20],[91,13,91,14],[91,20,91,21],[99,5,99,6],[83,17,83,18],[83,19,83,20],[93,0,93,1],[94,0,94,1],[95,0,95,1],[96,0,96,1],[82,2,83,4],[128,5,128,6],[86,0,86,1],[162,0,163,1],[101,0,101,1],[115,5,115,32],[104,11,104,12],[104,5,104,6],[104,15,104,16],[83,7,83,8],[83,11,83,12],[91,11,91,12],[85,0,85,1],[83,5,83,6],[82,0,84,1],[90,2,91,4],[90,0,92,1],[83,13,83,14],[149,9,149,10],[118,0,118,1],[98,5,98,12],[103,2,104,4],[103,0,105,1],[104,23,104,24],[125,0,125,1],[106,0,106,1],[119,0,124,0],[342,1,344,1],[342,2,344,2],[331,0,333,0],[334,0,336,0],[301,5,301,6],[269,5,269,36],[270,31,270,32],[270,33,270,34],[222,27,222,28],[270,15,270,16],[270,17,270,18],[270,19,270,20],[328,34,330,34],[328,0,330,0],[328,1,330,1],[328,2,329,4],[329,19,329,20],[329,21,329,22],[329,23,329,24],[329,25,329,26],[329,27,329,28],[329,29,329,30],[329,31,329,32],[116,27,116,28],[136,14,137,14],[83,15,83,16],[91,15,91,16],[104,25,104,26],[116,23,116,24],[116,36,117,36],[300,50,302,50],[175,44,176,44],[175,46,176,46],[269,38,271,38],[127,43,129,43],[175,17,175,18],[128,25,128,26],[162,15,163,15],[162,16,163,16],[149,16,150,16],[149,17,150,17],[128,21,128,22],[146,24,146,25],[127,42,129,42],[175,33,175,34],[175,35,175,36],[175,21,175,22],[32,17,33,17],[32,18,33,18],[32,19,33,19],[82,5,82,16],[116,19,116,20],[116,21,116,22],[104,13,104,14],[116,5,116,6],[116,7,116,8],[116,9,116,10],[116,11,116,12],[116,13,116,14],[104,21,104,22],[82,21,82,23],[83,21,83,23],[91,17,91,19],[90,5,90,16],[91,5,91,6],[91,7,91,8],[91,9,91,10],[32,16,33,16],[32,3,32,15],[54,16,55,16],[54,3,54,15],[361,0,363,0],[361,1,363,1],[322,14,324,14],[322,15,324,15],[261,0,265,0],[254,0,256,0],[226,0,227,0],[198,0,201,0],[207,0,209,0],[232,0,239,0],[224,0,224,1],[228,0,228,1],[212,0,212,1],[214,0,218,0],[342,3,344,3],[342,4,344,4],[342,5,342,38],[309,0,313,0],[322,1,323,3],[328,33,330,33],[353,0,358,0],[213,0,213,1],[219,0,219,1],[220,0,220,1],[342,39,344,39],[342,40,344,40],[343,5,343,6],[343,7,343,8],[343,9,343,10],[343,11,343,12],[142,0,145,0],[328,5,328,32],[329,5,329,6],[329,7,329,8],[329,9,329,10],[329,11,329,12],[343,13,343,14],[343,15,343,16],[162,5,162,6],[222,9,222,10],[222,2,222,4],[222,5,222,6],[202,0,206,0],[211,0,211,1],[182,0,183,0],[178,0,178,1],[342,0,344,0],[147,0,147,1],[380,0,382,0],[383,0,383,1],[371,0,373,0],[371,1,372,3],[371,4,371,37],[371,38,373,38],[154,0,154,1],[175,0,176,1],[245,0,248,0],[249,0,253,0],[343,17,343,18],[343,19,343,20],[343,21,343,22],[343,23,343,24],[160,0,160,1],[343,25,343,26],[343,27,343,28],[343,29,343,30],[343,31,343,32],[343,33,343,34],[343,35,343,36],[343,37,343,38],[179,0,180,0],[177,0,177,1]]}
["SERVICIO DE SALUD"]
[{"$f":"CONCATENATE(\"COMUNA: \",NOMBRE!B2,\" - \",\"( \",NOMBRE!C2,NOMBRE!D2,NOMBRE!E2,NOMBRE!F2,NOMBRE!G2,\" )\")","v":"COMUNA:  - (  )"}]
[{"$f":"CONCATENATE(\"ESTABLECIMIENTO/ESTRATEGIA: \",NOMBRE!B3,\" - \",\"( \",NOMBRE!C3,NOMBRE!D3,NOMBRE!E3,NOMBRE!F3,NOMBRE!G3,NOMBRE!H3,\" )\")","v":"ESTABLECIMIENTO/ESTRATEGIA:  - (  )"}]
[{"$f":"CONCATENATE(\"MES: \",NOMBRE!B6,\" - \",\"( \",NOMBRE!C6,NOMBRE!D6,\" )\")","v":"MES:  - (  )"}]
[{"$f":"CONCATENATE(\"AÑO: \",NOMBRE!B7)","v":"AÑO: 2023"}]
["REM-A05.   INGRESOS Y EGRESOS POR CONDICIÓN Y PROBLEMAS DE SALUD"]
[]
["SECCIÓN A: INGRESOS DE GESTANTES A PROGRAMA PRENATAL"]
["CONDICIÓN",null,"TOTAL      ","POR DE EDAD (en años)",null,null,null,null,null,null,null,null,null,"Pueblos Originarios","Migrantes","Ingresos por Traslado o extrasistema"]
[null,null,null,"Menor \nde 15 años","15 - 19 años","20 - 24 añis","25 - 29 años","30 - 34 años","35 - 39 años","40 - 44 años","45 - 49 años","50 - 54 años","55 y más años"]
["GESTANTES INGRESADAS",null,{"$f":"SUM(D11:M11)","v":0},null,null,null,null,null,null,null,null,null,null,null,null,null,null,null,null,null,null,null,null,null,null,null,null,null,null,null,null,null,null,null,null,null,null,null,null,null,null,null,null,null,null,null,null,null,null,null,null,null,null,null,null,null,null,null,null,null,null,null,null,null,null,null,null,null,null,null,null,null,null,null,null,null,null,null,null,null,null,null,null,null,null,null,null,null,null,null,null,null,null,null,null,null,null,null,null,null,null,null,null,null,null,0,null,0,null,0]
["PRIMIGESTAS INGRESADAS",null,{"$f":"SUM(D12:M12)","v":0}]
["GESTANTES INGRESADAS ANTES DE LAS 14 SEMANAS",null,{"$f":"SUM(D13:M13)","v":0}]
["GESTANTES CON EMBARAZO NO PLANIFICADO",null,{"$f":"SUM(D14:M14)","v":0}]
["SECCIÓN B: INGRESO DE GESTANTES CON PATOLOGÍA DE ALTO RIESGO OBSTÉTRICO A LA UNIDAD DE ARO  (Nivel Secundario)"]
["PATOLOGÍA",null,"Nº de Ingreso a ARO","Victima de violencia de género","Pueblos Originarios","Migrantes"]
[]
["Nº DE GESTANTES INGRESADAS",null,null,null,null,null,null,null,null,null,null,null,null,null,null,null,null,null,null,null,null,null,null,null,null,null,null,null,null,null,null,null,null,null,null,null,null,null,null,null,null,null,null,null,null,null,null,null,null,null,null,null,null,null,null,null,null,null,null,null,null,null,null,null,null,null,null,null,null,null,null,null,null,null,null,null,null,null,null,null,null,null,null,null,null,null,null,null,null,null,null,null,null,null,null,null,null,null,null,null,null,null,null,null,null,0,null,0,null,0]
["PREECLAMPSIA (PE)",null,null,null,null,null,null,null,null,null,null,null,null,null,null,null,null,null,null,null,null,null,null,null,null,null,null,null,null,null,null,null,null,null,null,null,null,null,null,null,null,null,null,null,null,null,null,null,null,null,null,null,null,null,null,null,null,null,null,null,null,null,null,null,null,null,null,null,null,null,null,null,null,null,null,null,null,null,null,null,null,null,null,null,null,null,null,null,null,null,null,null,null,null,null,null,null,null,null,null,null,null,null,null,null,0,null,0,null,0]
["SÍNDROME HIPERTENSIVO DEL EMBARAZO (SHE)",null,null,null,null,null,null,null,null,null,null,null,null,null,null,null,null,null,null,null,null,null,null,null,null,null,null,null,null,null,null,null,null,null,null,null,null,null,null,null,null,null,null,null,null,null,null,null,null,null,null,null,null,null,null,null,null,null,null,null,null,null,null,null,null,null,null,null,null,null,null,null,null,null,null,null,null,null,null,null,null,null,null,null,null,null,null,null,null,null,null,null,null,null,null,null,null,null,null,null,null,null,null,null,null,0,null,0,null,0]
["FACTORES DE RIESGO Y CONDICIONANTES DE PARTO PREMATURO",null,null,null,null,null,null,null,null,null,null,null,null,null,null,null,null,null,null,null,null,null,null,null,null,null,null,null,null,null,null,null,null,null,null,null,null,null,null,null,null,null,null,null,null,null,null,null,null,null,null,null,null,null,null,null,null,null,null,null,null,null,null,null,null,null,null,null,null,null,null,null,null,null,null,null,null,null,null,null,null,null,null,null,null,null,null,null,null,null,null,null,null,null,null,null,null,null,null,null,null,null,null,null,null,0,null,0,null,0]
["RETARDO CRECIMIENTO INTRAUTERINO (RCIU)",null,null,null,null,null,null,null,null,null,null,null,null,null,null,null,null,null,null,null,null,null,null,null,null,null,null,null,null,null,null,null,null,null,null,null,null,null,null,null,null,null,null,null,null,null,null,null,null,null,null,null,null,null,null,null,null,null,null,null,null,null,null,null,null,null,null,null,null,null,null,null,null,null,null,null,null,null,null,null,null,null,null,null,null,null,null,null,null,null,null,null,null,null,null,null,null,null,null,null,null,null,null,null,null,0,null,0,null,0]
["SÍFILIS",null,null,null,null,null,null,null,null,null,null,null,null,null,null,null,null,null,null,null,null,null,null,null,null,null,null,null,null,null,null,null,null,null,null,null,null,null,null,null,null,null,null,null,null,null,null,null,null,null,null,null,null,null,null,null,null,null,null,null,null,null,null,null,null,null,null,null,null,null,null,null,null,null,null,null,null,null,null,null,null,null,null,null,null,null,null,null,null,null,null,null,null,null,null,null,null,null,null,null,null,null,null,null,null,0,null,0,null,0]
["VIH",null,null,null,null,null,null,null,null,null,null,null,null,null,null,null,null,null,null,null,null,null,null,null,null,null,null,null,null,null,null,null,null,null,null,null,null,null,null,null,null,null,null,null,null,null,null,null,null,null,null,null,null,null,null,null,null,null,null,null,null,null,null,null,null,null,null,null,null,null,null,null,null,null,null,null,null,null,null,null,null,null,null,null,null,null,null,null,null,null,null,null,null,null,null,null,null,null,null,null,null,null,null,null,null,0,null,0,null,0]
["DIABETES",null,null,null,null,null,null,null,null,null,null,null,null,null,null,null,null,null,null,null,null,null,null,null,null,null,null,null,null,null,null,null,null,null,null,null,null,null,null,null,null,null,null,null,null,null,null,null,null,null,null,null,null,null,null,null,null,null,null,null,null,null,null,null,null,null,null,null,null,null,null,null,null,null,null,null,null,null,null,null,null,null,null,null,null,null,null,null,null,null,null,null,null,null,null,null,null,null,null,null,null,null,null,null,null,0,null,0,null,0]
["CESÁREA ANTERIOR",null,null,null,null,null,null,null,null,null,null,null,null,null,null,null,null,null,null,null,null,null,null,null,null,null,null,null,null,null,null,null,null,null,null,null,null,null,null,null,null,null,null,null,null,null,null,null,null,null,null,null,null,null,null,null,null,null,null,null,null,null,null,null,null,null,null,null,null,null,null,null,null,null,null,null,null,null,null,null,null,null,null,null,null,null,null,null,null,null,null,null,null,null,null,null,null,null,null,null,null,null,null,null,null,0,null,0,null,0]
["MALFORMACIÓN CONGÉNITA",null,null,null,null,null,null,null,null,null,null,null,null,null,null,null,null,null,null,null,null,null,null,null,null,null,null,null,null,null,null,null,null,null,null,null,null,null,null,null,null,null,null,null,null,null,null,null,null,null,null,null,null,null,null,null,null,null,null,null,null,null,null,null,null,null,null,null,null,null,null,null,null,null,null,null,null,null,null,null,null,null,null,null,null,null,null,null,null,null,null,null,null,null,null,null,null,null,null,null,null,null,null,null,null,0,null,0,null,0]
["HIPOTIROIDISMO",null,null,null,null,null,null,null,null,null,null,null,null,null,null,null,null,null,null,null,null,null,null,null,null,null,null,null,null,null,null,null,null,null,null,null,null,null,null,null,null,null,null,null,null,null,null,null,null,null,null,null,null,null,null,null,null,null,null,null,null,null,null,null,null,null,null,null,null,null,null,null,null,null,null,null,null,null,null,null,null,null,null,null,null,null,null,null,null,null,null,null,null,null,null,null,null,null,null,null,null,null,null,null,null,0,null,0,null,0]
["DIABETES GESTACIONAL",null,null,null,null,null,null,null,null,null,null,null,null,null,null,null,null,null,null,null,null,null,null,null,null,null,null,null,null,null,null,null,null,null,null,null,null,null,null,null,null,null,null,null,null,null,null,null,null,null,null,null,null,null,null,null,null,null,null,null,null,null,null,null,null,null,null,null,null,null,null,null,null,null,null,null,null,null,null,null,null,null,null,null,null,null,null,null,null,null,null,null,null,null,null,null,null,null,null,null,null,null,null,null,null,0,null,0,null,0]
["HIPERTENSIÓN CRONICA",null,null,null,null,null,null,null,null,null,null,null,null,null,null,null,null,null,null,null,null,null,null,null,null,null,null,null,null,null,null,null,null,null,null,null,null,null,null,null,null,null,null,null,null,null,null,null,null,null,null,null,null,null,null,null,null,null,null,null,null,null,null,null,null,null,null,null,null,null,null,null,null,null,null,null,null,null,null,null,null,null,null,null,null,null,null,null,null,null,null,null,null,null,null,null,null,null,null,null,null,null,null,null,null,0,null,0,null,0]
["OTRAS PATOLOGÍAS DEL EMBARAZO",null,null,null,null,null,null,null,null,null,null,null,null,null,null,null,null,null,null,null,null,null,null,null,null,null,null,null,null,null,null,null,null,null,null,null,null,null,null,null,null,null,null,null,null,null,null,null,null,null,null,null,null,null,null,null,null,null,null,null,null,null,null,null,null,null,null,null,null,null,null,null,null,null,null,null,null,null,null,null,null,null,null,null,null,null,null,null,null,null,null,null,null,null,null,null,null,null,null,null,null,null,null,null,null,0,null,0,null,0]
["SECCIÓN C: INGRESOS A PROGRAMA DE REGULACIÓN DE FERTILIDAD Y SALUD SEXUAL."]
["MÉTODOS",null,"TOTAL      ","POR DE EDAD (en años)",null,null,null,null,null,null,null,null,null,null,null,null,"Espacios Amigables","Cambio de Método Anticonceptivo","Pueblos Originarios","Migrantes"]
[null,null,null,"Menor \nde 15 años","15 - 19 años","20 - 24 añis","25 - 29 años","30 - 34 años","35 - 39 años","40 - 44 años","45 - 49 años","50 - 54 años","55 - 59 años","60 - 64 años","65 - 69 años","70 y más años"]
["TOTAL REGULACIÓN DE FERTILIDAD",null,{"$f":"SUM(D35:P35)","v":0},{"$f":"SUM(D36:D47)","v":0},{"$f":"SUM(E36:E47)","v":0},0,0,0,0,0,0,0,0,{"$f":"+N47","v":0},{"$f":"+O47","v":0},{"$f":"+P47","v":0},{"$f":"SUM(Q36:Q47)","v":0},0,0,0]
["D . I . U T con Cobre",null,{"$f":"SUM(D36:M36)","v":0},null,null,null,null,null,null,null,null,null,null,null,null,null,null,null,null,null,null,null,null,null,null,null,null,null,null,null,null,null,null,null,null,null,null,null,null,null,null,null,null,null,null,null,null,null,null,null,null,null,null,null,null,null,null,null,null,null,null,null,null,null,null,null,null,null,null,null,null,null,null,null,null,null,null,null,null,null,null,null,null,null,null,null,null,null,null,null,null,null,null,null,null,null,null,null,null,null,null,null,null,null,null,0,null,0,null,0,null,0]
["D . I . U con Levonorgestrel",null,{"$f":"SUM(D37:M37)","v":0},null,null,null,null,null,null,null,null,null,null,null,null,null,null,null,null,null,null,null,null,null,null,null,null,null,null,null,null,null,null,null,null,null,null,null,null,null,null,null,null,null,null,null,null,null,null,null,null,null,null,null,null,null,null,null,null,null,null,null,null,null,null,null,null,null,null,null,null,null,null,null,null,null,null,null,null,null,null,null,null,null,null,null,null,null,null,null,null,null,null,null,null,null,null,null,null,null,null,null,null,null,null,0,null,0,null,0,null,0]
["HORMONAL","Oral Combinado",0,null,null,null,null,null,null,null,null,null,null,null,null,null,null,null,null,null,null,null,null,null,null,null,null,null,null,null,null,null,null,null,null,null,null,null,null,null,null,null,null,null,null,null,null,null,null,null,null,null,null,null,null,null,null,null,null,null,null,null,null,null,null,null,null,null,null,null,null,null,null,null,null,null,null,null,null,null,null,null,null,null,null,null,null,null,null,null,null,null,null,null,null,null,null,null,null,null,null,null,null,null,null,0,null,0,null,0,null,0]
[null,"Oral Progestágeno",0,null,null,null,null,null,null,null,null,null,null,null,null,null,null,null,null,null,null,null,null,null,null,null,null,null,null,null,null,null,null,null,null,null,null,null,null,null,null,null,null,null,null,null,null,null,null,null,null,null,null,null,null,null,null,null,null,null,null,null,null,null,null,null,null,null,null,null,null,null,null,null,null,null,null,null,null,null,null,null,null,null,null,null,null,null,null,null,null,null,null,null,null,null,null,null,null,null,null,null,null,null,null,0,null,0,null,0,null,0]
[null,"Inyectable Combinado",0,null,null,null,null,null,null,null,null,null,null,null,null,null,null,null,null,null,null,null,null,null,null,null,null,null,null,null,null,null,null,null,null,null,null,null,null,null,null,null,null,null,null,null,null,null,null,null,null,null,null,null,null,null,null,null,null,null,null,null,null,null,null,null,null,null,null,null,null,null,null,null,null,null,null,null,null,null,null,null,null,null,null,null,null,null,null,null,null,null,null,null,null,null,null,null,null,null,null,null,null,null,null,0,null,0,null,0,null,0]
[null,"Inyectable Progestágeno",0,null,null,null,null,null,null,null,null,null,null,null,null,null,null,null,null,null,null,null,null,null,null,null,null,null,null,null,null,null,null,null,null,null,null,null,null,null,null,null,null,null,null,null,null,null,null,null,null,null,null,null,null,null,null,null,null,null,null,null,null,null,null,null,null,null,null,null,null,null,null,null,null,null,null,null,null,null,null,null,null,null,null,null,null,null,null,null,null,null,null,null,null,null,null,null,null,null,null,null,null,null,null,0,null,0,null,0,null,0]
[null,"Implante Etonogestrel (3 años)",0]
[null,"Implante Levonorgestrel (5 años)",0]
["ANILLO VAGINAL",null,{"$f":"SUM(D44:M44)","v":0}]
[" SÓLO PRESERVATIVO                                                                                                                                                                                                                                                 ","Mujer",0]
[null,"Hombres",0]
["CONDÓN FEMENINO",null,{"$f":"SUM(D47:P47)","v":0}]
["ESTERILIZACIÓN QUIRÚRGICA","Mujer",{"$f":"SUM(D48:M48)","v":0}]
[null,"Hombres",{"$f":"SUM(D49:M49)","v":0}]
[" Método de Regulación de Fertilidad más Preservativos",null,0]
["Gestantes que reciben preservativo",null,0]
["LUBRICANTES","Mujer",{"$f":"SUM(D52:P52)","v":0}]
[null,"Hombres",{"$f":"SUM(D53:P53)","v":0}]
["SECCIÓN C1: EGRESOS DE PROGRAMA DE REGULACIÓN DE FERTILIDAD Y SALUD SEXUAL."]
["MÉTODOS",null,"TOTAL      ","POR DE EDAD (en años)",null,null,null,null,null,null,null,null,null,null,null,null,"Pueblos Originarios","Migrantes"]
[null,null,null,"Menor \nde 15 años","15 - 19 años","20 - 24 añis","25 - 29 años","30 - 34 años","35 - 39 años","40 - 44 años","45 - 49 años","50 - 54 años","55 - 59 años","60 - 64 años","65 - 69 años","70 y más años"]
["TOTAL REGULACIÓN DE FERTILIDAD",null,{"$f":"SUM(D57:P57)","v":0},{"$f":"SUM(D58:D69)","v":0},{"$f":"SUM(E58:E69)","v":0},0,0,0,0,0,0,0,0,0,0,0,0,0]
["D . I . U T con Cobre",null,{"$f":"SUM(D58:M58)","v":0},null,null,null,null,null,null,null,null,null,null,null,null,null,null,null,null,null,null,null,null,null,null,null,null,null,null,null,null,null,null,null,null,null,null,null,null,null,null,null,null,null,null,null,null,null,null,null,null,null,null,null,null,null,null,null,null,null,null,null,null,null,null,null,null,null,null,null,null,null,null,null,null,null,null,null,null,null,null,null,null,null,null,null,null,null,null,null,null,null,null,null,null,null,null,null,null,null,null,null,null,null,null,0,null,0]
["D . I . U con Levonorgestrel",null,{"$f":"SUM(D59:M59)","v":0}]
["HORMONAL","Oral Combinado",{"$f":"SUM(D60:M60)","v":0}]
[null,"Oral Progestágeno",0]
[null,"Inyectable Combinado",0]
[null,"Inyectable Progestágeno",0]
[null,"Implante Etonogestrel (3 años)",0]
[null,"Implante Levonorgestrel (5 años)",0]
["ANILLO VAGINAL",null,{"$f":"SUM(D66:M66)","v":0}]
[" SÓLO PRESERVATIVO                                                                                                                                                                                                                                       ","Mujer",0]
[null,"Hombres",0]
["CONDÓN FEMENINO",null,{"$f":"SUM(D69:P69)","v":0}]
["ESTERILIZACIÓN QUIRÚRGICA","Mujer",0]
[null,"Hombres",0]
["Método de Regulación de Fertilidad más Preservativos",null,0]
["Gestantes que reciben preservativo",null,0]
["LUBRICANTES","Mujer",{"$f":"SUM(D74:P74)","v":0}]
[null,"Hombres",{"$f":"SUM(D75:P75)","v":0}]
["SECCIÓN D: INGRESOS A PROGRAMA CONTROL DE CLIMATERIO "]
["CONCEPTO","TOTAL"]
["INGRESOS"]
["SECCIÓN E:  INGRESOS  A CONTROL DE SALUD DE RECIÉN NACIDOS"]
["EDAD",null,"TOTAL","NIÑOS","NIÑAS"]
["MENORES DE 28 DÍAS",null,{"$f":"SUM(D81:E81)","v":0}]
["SECCIÓN F:  INGRESOS Y EGRESOS A SALA DE ESTIMULACIÓN SERVICIO ITINERANTE Y ATENCIÓN DOMICILIARIA "]
["NIÑO / A (CON) ",null,"TOTAL    ",null,null,"INGRESOS SALA DE ESTIMULACIÓN  ",null,null,null,null,null,null,null,null,null,null,null,"Servicio Itinerante en  Centro de Salud",null,"Atenión Domiciliaria",null,"EGRESOS",null,null,"RESULTADOS DE LA REEVALUACIÓN POST EGRESO "]
[null,null,null,null,null,"Menor 7 meses",null," 7 - 11 meses",null,"12 - 17 meses",null,"18 - 23 meses",null,"24 - 47 meses",null,"48 - 59 meses",null," 7 a 59 meses",null,"7 a 59 meses",null,"MOTIVO EGRESO"]
[null,null,"Ambos Sexos","Hombres","Mujeres","Hombres","Mujeres","Hombres","Mujeres","Hombres","Mujeres","Hombres","Mujeres","Hombres","Mujeres","Hombres","Mujeres","Hombres","Mujeres","Hombres","Mujeres","Cumplimiento de tratamiento","Otros","Inasistente","Recuperado","No Recuperado"]
["NORMAL CON REZAGO",null,{"$f":"SUM(D86:E86)","v":0},{"$f":"SUM(F86+H86+J86+L86+N86+P86)","v":0},{"$f":"SUM(G86+I86+K86+M86+O86+Q86)","v":0},null,null,null,null,null,null,null,null,null,null,null,null,null,null,null,null,null,null,null,null,null,null,null,null,null,null,null,null,null,null,null,null,null,null,null,null,null,null,null,null,null,null,null,null,null,null,null,null,null,null,null,null,null,null,null,null,null,null,null,null,null,null,null,null,null,null,null,null,null,null,null,null,null,null,null,null,null,null,null,0,0]
["RIESGO",null,{"$f":"SUM(D87:E87)","v":0},{"$f":"SUM(F87+H87+J87+L87+N87+P87)","v":0},0]
["RETRASO",null,{"$f":"SUM(D88:E88)","v":0},0,0]
["OTRA VULNERABILIDAD",null,{"$f":"SUM(D89:E89)","v":0},0,0]
["SECCIÓN F.1: REINGRESOS Y EGRESOS POR SEGUNDA VEZ A MODALIDAD DE ESTIMULACIÓN EN EL CENTRO DE SALUD"]
["NIÑO / A (CON) ",null,"TOTAL    ",null,null,"REINGRESOS A MODALIDAD DE ESTIMULACIÓN  EN CENTRO DE SALUD",null,null,null,null,null,null,null,null,null,null,null," EGRESOS POR SEGUNDA VEZ Y RESULTADOS DE LA REEVALUACIÓN POST EGRESO "]
[null,null,null,null,null,"Menor 7 meses",null," 7 - 11 meses",null,"12 - 17 meses",null,"18 - 23 meses",null,"24 - 47 meses",null,"48 - 59 meses",null,"MOTIVO EGRESO",null,null,"RESULTADO DE REEVALUACIÓN"]
[null,null,"Ambos Sexos","Hombres","Mujeres","Hombres","Mujeres","Hombres","Mujeres","Hombres","Mujeres","Hombres","Mujeres","Hombres","Mujeres","Hombres","Mujeres","Cumplimiento de tratamiento","Otros","Inasistente","Recuperado","No Recuperado"]
["NORMAL CON REZAGO",null,{"$f":"SUM(D94:E94)","v":0},{"$f":"SUM(F94+H94+J94+L94+N94+P94)","v":0},{"$f":"SUM(G94+I94+K94+M94+O94+Q94)","v":0}]
["RIESGO",null,{"$f":"SUM(D95:E95)","v":0},{"$f":"SUM(F95+H95+J95+L95+N95+P95)","v":0},0]
["RETRASO",null,{"$f":"SUM(D96:E96)","v":0},{"$f":"SUM(F96+H96+J96+L96+N96+P96)","v":0},0]
["OTRA VULNERABILIDAD",null,{"$f":"SUM(D97:E97)","v":0},0,0]
["SECCIÓN G: INGRESOS DE NIÑOS NIÑAS Y ADOLESCENTES CON NECESIDADES ESPECIALES DE BAJA COMPLEJIDAD A CONTROL DE SALUD  EN APS"]
["NANEAS",null,"TOTAL",null,null,"POR EDAD "]
[null,null,null,null,null," 0 - 4 años",null," 5 - 9 años",null," 10 -14 años",null,"15 a 19 años"]
[null,null,"Ambos Sexos","Hombres","Mujeres","Hombres","Mujeres","Hombres","Mujeres","Hombres","Mujeres","Hombres","Mujeres"]
["INGRESOS",null,{"$f":"SUM(D102:E102)","v":0},{"$f":"+F102+H102+J102+L102","v":0},{"$f":"+G102+I102+K102+M102","v":0}]
["SECCIÓN H: INGRESOS AL PSCV"]
["CONCEPTO",null,"TOTAL",null,null,"INGRESOS",null,null,null,null,null,null,null,null,null,null,null,null,null,null,null,null,null,null,null,null,null,null,null,null,null,null,null,"Pueblos Originarios","Migrantes"]
[null,null,null,null,null,"15 - 19 años",null,"20 - 24 años",null,"25 a 29 años",null,"30 a 34 años",null,"35 a 39 años",null,"40 a 44 años",null,"45 a 49 años",null,"50 a 54 años",null,"55 a 59 años",null,"60 a 64 años",null,"65 a 69 años",null,"70 a 74 años",null,"75 a 79 años",null,"80 y más años"]
[null,null,"Ambos Sexos","Hombres","Mujeres","Hombres","Mujeres","Hombres","Mujeres","Hombres","Mujeres","Hombres","Mujeres","Hombres","Mujeres","Hombres","Mujeres","Hombres","Mujeres","Hombres","Mujeres","Hombres","Mujeres","Hombres","Mujeres","Hombres","Mujeres","Hombres","Mujeres","Hombres","Mujeres","Hombres","Mujeres"]
["INGRESOS AL PSCV",null,{"$f":"SUM(D107:E107)","v":0},{"$f":"SUM(F107+H107+J107+L107+N107+P107+R107+T107+V107+X107+Z107+AB107+AD107+AF107)","v":0},{"$f":"SUM(G107+I107+K107+M107+O107+Q107+S107+U107+W107+Y107+AA107+AC107+AE107+AG107)","v":0},null,null,null,null,null,null,null,null,null,null,null,null,null,null,null,null,null,null,null,null,null,null,null,null,null,null,null,null,null,null,null,null,null,null,null,null,null,null,null,null,null,null,null,null,null,null,null,null,null,null,null,null,null,null,null,null,null,null,null,null,null,null,null,null,null,null,null,null,null,null,null,null,null,null,null,null,null,null,null,null,null,null,null,null,null,null,null,null,null,null,null,null,null,null,null,null,null,null,null,null,0,null,0]
["PROGRAMA DE SALUD CARDIOVASCULAR","HIPERTENSIÓN ARTERIAL",{"$f":"SUM(D108:E108)","v":0},{"$f":"SUM(F108+H108+J108+L108+N108+P108+R108+T108+V108+X108+Z108+AB108+AD108+AF108)","v":0},{"$f":"SUM(G108+I108+K108+M108+O108+Q108+S108+U108+W108+Y108+AA108+AC108+AE108+AG108)","v":0}]
[null,"DIABETES MELLITUS",0,{"$f":"SUM(F109+H109+J109+L109+N109+P109+R109+T109+V109+X109+Z109+AB109+AD109+AF109)","v":0},0]
[null,"DISLIPIDEMIA",0,0,0]
[null,"ANTECEDENTES ENF. CARDIOVASCULAR (F.VENTRICULAR-IAM)",0,0,0]
[null,"ANTECEDENTES ENF. CEREBROVASCULAR (ACV)",{"$f":"SUM(D112:E112)","v":0},0,0]
[null,"TABAQUISMO",0,{"$f":"SUM(F113+H113+J113+L113+N113+P113+R113+T113+V113+X113+Z113+AB113+AD113+AF113)","v":0},{"$f":"SUM(G113+I113+K113+M113+O113+Q113+S113+U113+W113+Y113+AA113+AC113+AE113+AG113)","v":0}]
["PROTOCOLO HEARTS",null,{"$f":"SUM(D114:E114)","v":0},{"$f":"SUM(F114+H114+J114+L114+N114+P114+R114+T114+V114+X114+Z114+AB114+AD114+AF114)","v":0},{"$f":"SUM(G114+I114+K114+M114+O114+Q114+S114+U114+W114+Y114+AA114+AC114+AE114+AG114)","v":0}]
["SECCIÓN I: EGRESOS  DEL PSCV"]
["CONCEPTO",null,"TOTAL",null,null,"EGRESOS",null,null,null,null,null,null,null,null,null,null,null,null,null,null,null,null,null,null,null,null,null,null,null,null,null,null,null,"CAUSAL DE EGRESO",null,null,null,"Pueblos Originarios","Migrantes"]
[null,null,null,null,null,"15 - 19 años",null,"20 - 24 años",null,"25 a 29 años",null,"30 a 34 años",null,"35 a 39 años",null,"40 a 44 años",null,"45 a 49 años",null,"50 a 54 años",null,"55 a 59 años",null,"60 a 64 años",null,"65 a 69 años",null,"70 a 74 años",null,"75 a 79 años",null,"80 y más años",null,"Abandono","Traslado","Fallecimiento","No cumple criterio de inclusión"]
[null,null,"Ambos Sexos","Hombres","Mujeres","Hombres","Mujeres","Hombres","Mujeres","Hombres","Mujeres","Hombres","Mujeres","Hombres","Mujeres","Hombres","Mujeres","Hombres","Mujeres","Hombres","Mujeres","Hombres","Mujeres","Hombres","Mujeres","Hombres","Mujeres","Hombres","Mujeres","Hombres","Mujeres","Hombres","Mujeres"]
["EGRESOS DEL PSCV",null,{"$f":"SUM(D119:E119)","v":0},{"$f":"SUM(F119+H119+J119+L119+N119+P119+R119+T119+V119+X119+Z119+AB119+AD119+AF119)","v":0},0,null,null,null,null,null,null,null,null,null,null,null,null,null,null,null,null,null,null,null,null,null,null,null,null,null,null,null,null,null,null,null,null,null,null,null,null,null,null,null,null,null,null,null,null,null,null,null,null,null,null,null,null,null,null,null,null,null,null,null,null,null,null,null,null,null,null,null,null,null,null,null,null,null,null,null,null,null,null,null,null,null,null,null,null,null,null,null,null,null,null,null,null,null,null,null,null,null,null,null,null,0,0,0]
["PROGRAMA DE SALUD CARDIOVASCULAR","HIPERTENSIÓN ARTERIAL",{"$f":"SUM(D120:E120)","v":0},0,0]
[null,"DIABETES MELLITUS",0,0,0]
[null,"DISLIPIDEMIA",0,0,0]
[null,"ANTECEDENTES ENF. CARDIOVASCULAR (F.VENTRICULAR-IAM)",0,0,0]
[null,"ANTECEDENTES ENF. CEREBROVASCULAR (ACV)",null,0,0]
[null,"TABAQUISMO",0,0,0]
["PROTOCOLO HEARTS",null,{"$f":"SUM(D126:E126)","v":0},0,0]
["SECCIÓN J: INGRESOS Y EGRESOS AL PROGRAMA DE PACIENTES CON DEPENDENCIA LEVE, MODERADA "]
["CONCEPTO",null,"TOTAL",null,null,"INGRESOS",null,null,null,null,null,null,null,null,null,null,null,null,null,null,null,null,null,null,null,null,null,null,null,null,null,null,null,null,null,null,null,null,null,"CAUSAL DE EGRESO",null,null,"Pueblos Originarios","Migrantes"]
[null,null,null,null,null," 0 - 4 años",null," 5 - 9 años",null," 10 -14 años",null,"15 a 19 años",null,"20 - 24 años",null,"25 a 29 años",null,"30 a 34 años",null,"35 a 39 años",null,"40 a 44 años",null,"45 a 49 años",null,"50 a 54 años",null,"55 a 59 años",null,"60 a 64 años",null,"65 a 69 años",null,"70 a 74 años",null,"75 a 79 años",null,"80 y más años",null,"Altas","Abandono/\nTraslado","Fallecimiento"]
[null,null,"Ambos Sexos","Hombres","Mujeres","Hombres","Mujeres","Hombres","Mujeres","Hombres","Mujeres","Hombres","Mujeres","Hombres","Mujeres","Hombres","Mujeres","Hombres","Mujeres","Hombres","Mujeres","Hombres","Mujeres","Hombres","Mujeres","Hombres","Mujeres","Hombres","Mujeres","Hombres","Mujeres","Hombres","Mujeres","Hombres","Mujeres","Hombres","Mujeres","Hombres","Mujeres"]
["DEPENDENCIA LEVE",null,{"$f":"SUM(D131:E131)","v":0},{"$f":"SUM(F131+N131+P131+R131+T131+V131+X131+Z131+AB131+AD131+AF131+AH131+AJ131+AL131)","v":0},{"$f":"SUM(G131+O131+Q131+S131+U131+W131+Y131+AA131+AC131+AE131+AG131+AI131+AK131+AM131)","v":0},null,null,null,null,null,null,null,null,null,null,null,null,null,null,null,null,null,null,null,null,null,null,null,null,null,null,null,null,null,null,null,null,null,null,null,null,null,null,null,null,null,null,null,null,null,null,null,null,null,null,null,null,null,null,null,null,null,null,null,null,null,null,null,null,null,null,null,null,null,null,null,null,null,null,null,null,null,null,null,null,null,null,null,null,null,null,null,null,null,null,null,null,null,null,null,null,null,null,null,null,0,0,0]
["DEPENDENCIA MODERADA",null,{"$f":"SUM(D132:E132)","v":0},0,0]
["DEPENDENCIA GRAVE Y TOTAL","ONCOLÓGICO",{"$f":"SUM(D133:E133)","v":0},0,0]
[null,"NO ONCOLÓGICO",{"$f":"SUM(D134:E134)","v":0},0,0]
["DEPENDENCIA SEVERA CON  ESCARAS ",null,{"$f":"SUM(D135:E135)","v":0},0,0]
["SECCIÓN K: INGRESOS AL PROGRAMA DEL ADULTO MAYOR SEGÚN CONDICIÓN DE FUNCIONALIDAD Y DEPENDENCIA"]
["CONDICIÓN",null,"TOTAL",null,null,"65 a 69 años",null,"70 a 74 años",null,"75 a 79 años",null,"80 y más años",null,"Pueblos Originarios","Migrantes"]
[null,null,"Ambos Sexos","Hombres","Mujeres","Hombres","Mujeres","Hombres","Mujeres","Hombres","Mujeres","Hombres","Mujeres"]
["EMPAM","AUTOVALENTE SIN RIESGO",{"$f":"SUM(D139:E139)","v":0},{"$f":"SUM(F139+H139+J139+L139)","v":0},0]
[null,"AUTOVALENTE CON RIESGO",{"$f":"SUM(D140:E140)","v":0},0,0]
[null,"RIESGO DE DEPENDENCIA ",{"$f":"SUM(D141:E141)","v":0},0,0]
["SUBTOTAL",null,{"$f":"SUM(C139:C141)","v":0},{"$f":"SUM(D139:D141)","v":0},{"$f":"SUM(E139:E141)","v":0},{"$f":"SUM(F139:F141)","v":0},0,0,0,0,0,0,0,{"$f":"SUM(N139:N141)","v":0},{"$f":"SUM(O139:O141)","v":0}]
["BARTHEL","DEPENDIENTE LEVE",{"$f":"SUM(D143:E143)","v":0},{"$f":"SUM(F143+H143+J143+L143)","v":0},0]
[null,"DEPENDIENTE MODERADO",{"$f":"SUM(D144:E144)","v":0},0,0]
[null,"DEPENDIENTE GRAVE ",{"$f":"SUM(D145:E145)","v":0},0,0]
[null,"DEPENDIENTE TOTAL",{"$f":"SUM(D146:E146)","v":0},0,0]
["SUBTOTAL",null,{"$f":"SUM(C143:C146)","v":0},{"$f":"SUM(D143:D146)","v":0},{"$f":"SUM(E143:E146)","v":0},{"$f":"SUM(F143:F146)","v":0},{"$f":"SUM(G143:G146)","v":0},0,0,0,0,0,0,{"$f":"SUM(N143:N146)","v":0},{"$f":"SUM(O143:O146)","v":0}]
["TOTAL  ",null,{"$f":"SUM(C142+C147)","v":0},{"$f":"SUM(D142+D147)","v":0},{"$f":"SUM(E142+E147)","v":0},{"$f":"SUM(F142+F147)","v":0},{"$f":"SUM(G142+G147)","v":0},{"$f":"SUM(H142+H147)","v":0},0,0,0,0,0,{"$f":"SUM(N142+N147)","v":0},{"$f":"SUM(O142+O147)","v":0}]
["SECCIÓN L: EGRESOS DEL PROGRAMA DEL ADULTO MAYOR SEGÚN CONDICIÓN DE FUNCIONALIDAD Y DEPENDENCIA"]
["CONDICIÓN",null,"TOTAL",null,null,"65 a 69 años",null,"70 a 74 años",null,"75 a 79 años",null,"80 y más años",null,"CAUSAL DE EGRESO",null,null,"Pueblos Originarios","Migrantes"]
[null,null,"Ambos Sexos","Hombres","Mujeres","Hombres","Mujeres","Hombres","Mujeres","Hombres","Mujeres","Hombres","Mujeres","Abandono","Traslado","Fallecimiento"]
["EMPAM","AUTOVALENTE SIN RIESGO",{"$f":"SUM(D152:E152)","v":0},{"$f":"SUM(F152+H152+J152+L152)","v":0},0]
[null,"AUTOVALENTE CON RIESGO",{"$f":"SUM(D153:E153)","v":0},0,0,null,null,null,null,null,null,null,null,null,null,null,null,null,null,null,null,null,null,null,null,null,null,null,null,null,null,null,null,null,null,null,null,null,null,null,null,null,null,null,null,null,null,null,null,null,null,null,null,null,null,null,null,null,null,null,null,null,null,null,null,null,null,null,null,null,null,null,null,null,null,null,null,null,null,null,null,null,null,null,null,null,null,null,null,null,null,null,null,null,null,null,null,null,null,null,null,null,null,null,null,0,0,0]
[null,"RIESGO DE DEPENDENCIA ",{"$f":"SUM(D154:E154)","v":0},0,0]
["SUBTOTAL",null,{"$f":"SUM(C152:C154)","v":0},{"$f":"SUM(D152:D154)","v":0},{"$f":"SUM(E152:E154)","v":0},{"$f":"SUM(F152:F154)","v":0},{"$f":"SUM(G152:G154)","v":0},0,0,0,0,0,0,0,0,0,{"$f":"SUM(Q152:Q154)","v":0},{"$f":"SUM(R152:R154)","v":0}]
["BARTHEL","DEPENDIENTE LEVE",{"$f":"SUM(D156:E156)","v":0},{"$f":"SUM(F156+H156+J156+L156)","v":0},{"$f":"SUM(G156+I156+K156+M156)","v":0}]
[null,"DEPENDIENTE MODERADO",{"$f":"SUM(D157:E157)","v":0},{"$f":"SUM(F157+H157+J157+L157)","v":0},0]
[null,"DEPENDIENTE GRAVE ",{"$f":"SUM(D158:E158)","v":0},0,0]
[null,"DEPENDIENTE TOTAL",{"$f":"SUM(D159:E159)","v":0},0,0]
["SUBTOTAL",null,{"$f":"SUM(C156:C159)","v":0},{"$f":"SUM(D156:D159)","v":0},{"$f":"SUM(E156:E159)","v":0},{"$f":"SUM(F156:F159)","v":0},{"$f":"SUM(G156:G159)","v":0},0,0,0,0,0,0,0,0,0,{"$f":"SUM(Q156:Q159)","v":0},{"$f":"SUM(R156:R159)","v":0}]
["TOTAL  ",null,{"$f":"SUM(C155+C160)","v":0},{"$f":"SUM(D155+D160)","v":0},0,0,0,0,0,0,0,0,0,0,0,0,{"$f":"SUM(Q155+Q160)","v":0},{"$f":"SUM(R155+R160)","v":0}]
["SECCIÓN M: INGRESOS Y EGRESOS DEL  PROGRAMA MÁS ADULTOS MAYORES AUTOVALENTES"]
["CONDICIÓN",null,"TOTAL",null,null,"60 a 64 años",null,"65 a 69 años",null,"70 a 74 años",null,"75 a 79 años",null,"80 y más años",null,"Pueblos Originarios","Migrantes"]
[null,null,"Ambos Sexos","Hombres","Mujeres","Hombres","Mujeres","Hombres","Mujeres","Hombres","Mujeres","Hombres","Mujeres","Hombres","Mujeres"]
["INGRESO","AUTOVALENTE SIN RIESGO",{"$f":"SUM(D165+E165)","v":0},{"$f":"SUM(F165+H165+J165+L165+N165)","v":0},{"$f":"SUM(G165+I165+K165+M165+O165)","v":0}]
[null,"AUTOVALENTE CON RIESGO",{"$f":"SUM(D166+E166)","v":0},{"$f":"SUM(H166+J166+L166+N166)","v":0},{"$f":"SUM(I166+K166+M166+O166)","v":0}]
[null,"RIESGO DE DEPENDENCIA ",{"$f":"SUM(D167+E167)","v":0},{"$f":"SUM(H167+J167+L167+N167)","v":0},{"$f":"SUM(I167+K167+M167+O167)","v":0}]
[null,"TOTAL INGRESOS",{"$f":"SUM(C165:C167)","v":0},{"$f":"SUM(D165:D167)","v":0},{"$f":"SUM(E165:E167)","v":0},{"$f":"SUM(F165:F167)","v":0},{"$f":"SUM(G165:G167)","v":0},0,0,0,0,0,0,0,0,{"$f":"SUM(P165:P167)","v":0},{"$f":"SUM(Q165:Q167)","v":0}]
["EGRESO","COMPLETA CICLO",{"$f":"SUM(D169+E169)","v":0},{"$f":"SUM(F169+H169+J169+L169+N169)","v":0},{"$f":"SUM(G169+I169+K169+M169+O169)","v":0}]
[null,"ABANDONO",{"$f":"SUM(D170+E170)","v":0},{"$f":"SUM(F170+H170+J170+L170+N170)","v":0},0]
[null,"TRASLADO ",{"$f":"SUM(D171+E171)","v":0},0,0]
[null,"FALLECIMIENTO",{"$f":"SUM(D172+E172)","v":0},0,0]
["* Los pacientes de 60 a 64 años, no debe desagregarse por condición de funcionalidad, por ello sólo se registran en la primera fila (Autovalente sin riesgo)."]
["** Para la desagregación por funcionalidad se contabiliza desde 65 y mas años.Sólo para el cálculo del total de los ingresos se contabiliza el rango de 60 - 64 años."]
["SECCIÓN N: INGRESOS AL PROGRAMA DE SALUD  MENTAL EN APS /ESPECIALIDAD"]
["MOTIVO DE INGRESO",null,"TOTAL",null,null,"0 - 4 años",null,"5 - 9 años",null,"10 - 14 años",null,"15 - 19 años",null,"20 - 24 años",null,"25 a 29 años",null,"30 a 34 años",null,"35 a 39 años",null,"40 a 44 años",null,"45 a 49 años",null,"50 a 54 años",null,"55 a 59 años",null,"60 a 64 años",null,"65 a 69 años",null,"70 a 74 años",null,"75 a 79 años",null,"80 y más años",null,"Gestantes","Madre de hijo menor de 5 años ","Pueblos Originarios",null,"Niños, Niñas, Adolescentes y Jóvenes  SENAME","Niños, Niñas, Adolescentes y Jóvenes  Mejor Niñez","Migrantes","TRANS Femenino/\nMasculino"]
[null,null,"Ambos Sexos","Hombres","Mujeres","Hombres","Mujeres","Hombres","Mujeres","Hombres","Mujeres","Hombres","Mujeres","Hombres","Mujeres","Hombres","Mujeres","Hombres","Mujeres","Hombres","Mujeres","Hombres","Mujeres","Hombres","Mujeres","Hombres","Mujeres","Hombres","Mujeres","Hombres","Mujeres","Hombres","Mujeres","Hombres","Mujeres","Hombres","Mujeres","Hombres","Mujeres",null,null,"Hombres","Mujeres"]
["INGRESOS AL PROGRAMA",null,{"$f":"SUM(D178+E178)","v":0},{"$f":"SUM(F178+H178+J178+L178+N178+P178+R178+T178+V178+X178+Z178+AB178+AD178+AF178+AH178+AJ178+AL178)","v":0},{"$f":"SUM(G178+I178+K178+M178+O178+Q178+S178+U178+W178+Y178+AA178+AC178+AE178+AG178+AI178+AK178+AM178)","v":0},null,null,null,null,null,null,null,null,null,null,null,null,null,null,null,null,null,null,null,null,null,null,null,null,null,null,null,null,null,null,null,null,null,null,null,null,null,null,null,null,null,null,null,null,null,null,null,null,null,null,null,null,null,null,null,null,null,null,null,null,null,null,null,null,null,null,null,null,null,null,null,null,null,null,null,null,null,null,null,null,null,null,null,null,null,null,null,null,null,null,null,null,null,null,null,null,null,null,null,null,0,null,0,null,0,null,0,null,0,null,0,null,0,null,0]
["FACTORES DE RIESGO Y CONDICIONANTES DE LA SALUD MENTAL"]
["VIOLENCIA","VICTIMA",{"$f":"SUM(D180+E180)","v":0},{"$f":"SUM(F180+H180+J180+L180+N180+P180+R180+T180+V180+X180+Z180+AB180+AD180+AF180+AH180+AJ180+AL180)","v":0},{"$f":"SUM(G180+I180+K180+M180+O180+Q180+S180+U180+W180+Y180+AA180+AC180+AE180+AG180+AI180+AK180+AM180)","v":0}]
[null,"AGRESOR / A",{"$f":"SUM(D181+E181)","v":0},0,0]
["ABUSO SEXUAL",null,{"$f":"SUM(D182+E182)","v":0},0,0]
["SUICIDIO","IDEACIÓN",0,0,0]
[null,"INTENTO",0,0,0]
["PERSONAS CON DIAGNÓSTICOS DE TRASTORNOS MENTALES ",null,0,0,0]
["TRASTORNOS DEL HUMOR\n(AFECTIVOS)","DEPRESIÓN LEVE",0,0,0]
[null,"DEPRESIÓN MODERADA",0,0,0]
[null,"DEPRESIÓN GRAVE",0,0,0]
[null,"DEPRESIÓN POST PARTO",0,null,{"$f":"SUM(K189+M189+O189+Q189+S189+U189+W189+Y189+AA189+AC189+AE189+AG189+AI189+AK189+AM189)","v":0}]
[null,"TRASTORNO BIPOLAR",0,{"$f":"SUM(F190+H190+J190+L190+N190+P190+R190+T190+V190+X190+Z190+AB190+AD190+AF190+AH190+AJ190+AL190)","v":0},0]
[null,"DEPRESIÓN REFRACTARIA",0,0,0]
[null,"DEPRESIÓN GRAVE CON PSICOSIS",0,0,0]
[null,"DEPRESIÓN  CON ALTO RIESGO SUICIDA",0,0,0]
["TRASTORNOS MENTALES Y DEL COMPORTAMIENTO DEBIDO A CONSUMO SUSTANCIAS PSICOTRÓPICAS","CONSUMO PERJUDICIAL DE ALCOHOL ",0,0,0]
[null,"CONSUMO DEPENDIENTE DEL ALCOHOL ",0,{"$f":"SUM(F195+H195+J195+L195+N195+P195+R195+T195+V195+X195+Z195+AB195+AD195+AF195+AH195+AJ195+AL195)","v":0},0]
[null,"CONSUMO PERJUDICIAL DE DROGAS",0,{"$f":"SUM(F196+H196+J196+L196+N196+P196+R196+T196+V196+X196+Z196+AB196+AD196+AF196+AH196+AJ196+AL196)","v":0},{"$f":"SUM(G196+I196+K196+M196+O196+Q196+S196+U196+W196+Y196+AA196+AC196+AE196+AG196+AI196+AK196+AM196)","v":0}]
[null,"CONSUMO DEPENDIENTE DE DROGAS ",0,{"$f":"SUM(F197+H197+J197+L197+N197+P197+R197+T197+V197+X197+Z197+AB197+AD197+AF197+AH197+AJ197+AL197)","v":0},{"$f":"SUM(G197+I197+K197+M197+O197+Q197+S197+U197+W197+Y197+AA197+AC197+AE197+AG197+AI197+AK197+AM197)","v":0}]
[null,"CONSUMO DE DROGAS Y ALCOHOL ",0,{"$f":"SUM(F198+H198+J198+L198+N198+P198+R198+T198+V198+X198+Z198+AB198+AD198+AF198+AH198+AJ198+AL198)","v":0},0]
["TRASTORNOS DEL COMPORTAMIENTO Y DE LAS EMOCIONES DE COMIENZO HABITUAL EN LA INFANCIA Y ADOLESCENCIA","TRASTORNO HIPERCINÉTICOS",0,{"$f":"SUM(F199+H199+J199+L199+N199)","v":0},{"$f":"SUM(G199+I199+K199+M199+O199)","v":0}]
[null,"TRASTORNO DISOCIAL DESAFIANTE Y OPOSICIONISTA",0,{"$f":"SUM(F200+H200+J200+L200+N200)","v":0},0]
[null,"TRASTORNO DE ANSIEDAD DE SEPARACIÓN EN LA INFANCIA",0,0,0]
[null,"OTROS TRASTORNOS DEL COMPORTAMIENTO Y DE LAS EMOCIONES DE COMIENZO HABITUAL EN LA INFANCIA Y ADOLESCENCIA",0,0,0]
["TRASTORNOS DE ANSIEDAD","TRASTORNO DE ESTRÉS POST TRAUMATICO",0,{"$f":"SUM(F203+H203+J203+L203+N203+P203+R203+T203+V203+X203+Z203+AB203+AD203+AF203+AH203+AJ203+AL203)","v":0},{"$f":"SUM(G203+I203+K203+M203+O203+Q203+S203+U203+W203+Y203+AA203+AC203+AE203+AG203+AI203+AK203+AM203)","v":0}]
[null,"TRASTORNO DE PÁNICO  ",0,0,0]
[null,"FOBIAS SOCIALES",0,0,0]
[null,"TRASTORNOS DE ANSIEDAD GENERALIZADA",0,0,0]
[null,"OTROS TRASTORNOS DE ANSIEDAD",0,0,0]
["DEMENCIAS (INCLUYE ALZHEIMER)","LEVE",0,0,0]
[null,"MODERADO",0,{"$f":"SUM(F209+H209+J209+L209+N209+P209+R209+T209+V209+X209+Z209+AB209+AD209+AF209+AH209+AJ209+AL209)","v":0},0]
[null,"AVANZADO",0,0,0]
["ESQUIZOFRENIA",null,{"$f":"SUM(D211+E211)","v":0},{"$f":"SUM(F211+H211+J211+L211+N211+P211+R211+T211+V211+X211+Z211+AB211+AD211+AF211+AH211+AJ211+AL211)","v":0},{"$f":"SUM(G211+I211+K211+M211+O211+Q211+S211+U211+W211+Y211+AA211+AC211+AE211+AG211+AI211+AK211+AM211)","v":0}]
["TRASTORNOS DE LA CONDUCTA ALIMENTARIA",null,0,0,0,null,null,null,null,null,null,null,null,null,null,null,null,null,null,null,null,null,null,null,null,null,null,null,null,null,null,null,null,null,null,null,null,null,null,null,null,null,null,null,null,null,null,null,null,null,null,null,null,null,null,null,null,null,null,null,null,null,null,null,null,null,null,null,null,null,null,null,null,null,null,null,null,null,null,null,null,null,null,null,null,null,null,null,null,null,null,null,null,null,null,null,null,null,null,null,null,null,null,null,null,0,null,0,null,0,null,0,null,0,null,0,null,0,null,0]
["RETRASO MENTAL",null,0,0,0]
["TRASTORNO DE PERSONALIDAD",null,0,0,0]
["TRASTORNO GENERALIZADOS DEL DESARROLLO","AUTISMO",0,0,0]
[null,"ASPERGER",0,0,0]
[null,"SÍNDROME DE RETT",0,0,0]
[null,"TRASTORNO DESINTEGRATIVO DE LA INFANCIA",0,0,0]
[null,"TRASTONO GENERALIZADO DEL DESARROLLO NO ESPECÍFICO",0,0,0]
["EPILEPSIA",null,0,0,0]
["OTRAS",null,0,0,0]
["SECCIÓN O: EGRESOS DEL PROGRAMA DE SALUD  MENTAL POR ALTAS CLÍNICAS EN APS /ESPECIALIDAD"]
["MOTIVO DE EGRESO",null,"TOTAL",null,null,"0 - 4 años",null,"5 - 9 años",null,"10 - 14 años",null,"15 - 19 años",null,"20 - 24 años",null,"25 a 29 años",null,"30 a 34 años",null,"35 a 39 años",null,"40 a 44 años",null,"45 a 49 años",null,"50 a 54 años",null,"55 a 59 años",null,"60 a 64 años",null,"65 a 69 años",null,"70 a 74 años",null,"75 a 79 años",null,"80 y más años",null,"EGRESOS",null,null,"Gestantes","Madre de hijo menor de 5 años ","Pueblos Originarios",null,"Niños, Niñas, Adolescentes y Jóvenes  SENAME","Niños, Niñas, Adolescentes y Jóvenes Mejor Niñez","Migrantes","TRANS Femenino/\nMasculino"]
[null,null,"Ambos Sexos","Hombres","Mujeres","Hombres","Mujeres","Hombres","Mujeres","Hombres","Mujeres","Hombres","Mujeres","Hombres","Mujeres","Hombres","Mujeres","Hombres","Mujeres","Hombres","Mujeres","Hombres","Mujeres","Hombres","Mujeres","Hombres","Mujeres","Hombres","Mujeres","Hombres","Mujeres","Hombres","Mujeres","Hombres","Mujeres","Hombres","Mujeres","Hombres","Mujeres","Abandono","Fallecimiento","Traslado o Derivación",null,null,"Hombres","Mujeres"]
["EGRESOS DEL PROGRAMA",null,{"$f":"SUM(D225+E225)","v":0},{"$f":"SUM(F225+H225+J225+L225+N225+P225+R225+T225+V225+X225+Z225+AB225+AD225+AF225+AH225+AJ225+AL225)","v":0},{"$f":"SUM(G225+I225+K225+M225+O225+Q225+S225+U225+W225+Y225+AA225+AC225+AE225+AG225+AI225+AK225+AM225)","v":0},null,null,null,null,null,null,null,null,null,null,null,null,null,null,null,null,null,null,null,null,null,null,null,null,null,null,null,null,null,null,null,null,null,null,null,null,null,null,null,null,null,null,null,null,null,null,null,null,null,null,null,null,null,null,null,null,null,null,null,null,null,null,null,null,null,null,null,null,null,null,null,null,null,null,null,null,null,null,null,null,null,null,null,null,null,null,null,null,null,null,null,null,null,null,null,null,null,null,null,null,0,null,0,null,0,null,0,null,0,null,0,null,0,null,0]
["FACTORES DE RIESGO Y CONDICIONANTES DE LA SALUD MENTAL"]
["VIOLENCIA ","VÍCTIMA",{"$f":"SUM(D227+E227)","v":0},{"$f":"SUM(F227+H227+J227+L227+N227+P227+R227+T227+V227+X227+Z227+AB227+AD227+AF227+AH227+AJ227+AL227)","v":0},{"$f":"SUM(G227+I227+K227+M227+O227+Q227+S227+U227+W227+Y227+AA227+AC227+AE227+AG227+AI227+AK227+AM227)","v":0}]
[null,"AGRESOR / A",{"$f":"SUM(D228+E228)","v":0},0,0]
["ABUSO SEXUAL",null,{"$f":"SUM(D229+E229)","v":0},0,0]
["SUICIDIO","IDEACIÓN",0,0,0]
[null,"INTENTO",0,0,0]
["PERSONAS CON DIAGNÓSTICOS DE TRASTORNOS MENTALES ",null,0,0,0]
["TRASTORNOS DEL HUMOR\n(AFECTIVOS)","DEPRESIÓN LEVE",0,0,0]
[null,"DEPRESIÓN MODERADA",0,0,0]
[null,"DEPRESIÓN GRAVE",0,0,0]
[null,"DEPRESIÓN POST PARTO",0,null,{"$f":"SUM(K236+M236+O236+Q236+S236+U236+W236+Y236+AA236+AC236+AE236+AG236+AI236+AK236+AM236)","v":0}]
[null,"TRASTORNO BIPOLAR",0,{"$f":"SUM(F237+H237+J237+L237+N237+P237+R237+T237+V237+X237+Z237+AB237+AD237+AF237+AH237+AJ237+AL237)","v":0},0]
[null,"DEPRESIÓN REFRACTARIA",0,0,0]
[null,"DEPRESIÓN GRAVE CON PSICOSIS",0,0,0]
[null,"DEPRESIÓN  CON ALTO RIESGO SUICIDA",0,0,0]
["TRASTORNOS MENTALES Y DEL COMPORTAMIENTO DEBIDO A CONSUMO SUSTANCIAS PSICOTRÓPICAS","CONSUMO PERJUDICIAL DE ALCOHOL ",0,0,0]
[null,"CONSUMO DEPENDIENTE DEL ALCOHOL ",0,0,0]
[null,"CONSUMO PERJUDICIAL DE DROGAS",{"$f":"SUM(D243+E243)","v":0},{"$f":"SUM(F243+H243+J243+L243+N243+P243+R243+T243+V243+X243+Z243+AB243+AD243+AF243+AH243+AJ243+AL243)","v":0},{"$f":"SUM(G243+I243+K243+M243+O243+Q243+S243+U243+W243+Y243+AA243+AC243+AE243+AG243+AI243+AK243+AM243)","v":0}]
[null,"CONSUMO DEPENDIENTE DE DROGAS ",{"$f":"SUM(D244+E244)","v":0},{"$f":"SUM(F244+H244+J244+L244+N244+P244+R244+T244+V244+X244+Z244+AB244+AD244+AF244+AH244+AJ244+AL244)","v":0},{"$f":"SUM(G244+I244+K244+M244+O244+Q244+S244+U244+W244+Y244+AA244+AC244+AE244+AG244+AI244+AK244+AM244)","v":0}]
[null,"CONSUMO DE DROGAS Y ALCOHOL ",0,0,0]
["TRASTORNOS DEL COMPORTAMIENTO Y DE LAS EMOCIONES DE COMIENZO HABITUAL EN LA INFANCIA Y ADOLESCENCIA","TRASTORNO HIPERCINÉTICOS",0,{"$f":"SUM(F246+H246+J246+L246+N246)","v":0},{"$f":"SUM(G246+I246+K246+M246+O246)","v":0}]
[null,"TRASTORNO DISOCIAL DESAFIANTE Y OPOSICIONISTA",0,{"$f":"SUM(F247+H247+J247+L247+N247)","v":0},0]
[null,"TRASTORNO DE ANSIEDAD DE SEPARACIÓN EN LA INFANCIA",0,0,0]
[null,"OTROS TRASTORNOS DEL COMPORTAMIENTO Y DE LAS EMOCIONES DE COMIENZO HABITUAL EN LA INFANCIA Y ADOLESCENCIA",0,0,0]
["TRASTORNOS DE ANSIEDAD","TRASTORNO DE ESTRÉS POST TRAUMÁTICO",0,{"$f":"SUM(F250+H250+J250+L250+N250+P250+R250+T250+V250+X250+Z250+AB250+AD250+AF250+AH250+AJ250+AL250)","v":0},{"$f":"SUM(G250+I250+K250+M250+O250+Q250+S250+U250+W250+Y250+AA250+AC250+AE250+AG250+AI250+AK250+AM250)","v":0}]
[null,"TRASTORNO DE PÁNICO  ",0,0,{"$f":"SUM(G251+I251+K251+M251+O251+Q251+S251+U251+W251+Y251+AA251+AC251+AE251+AG251+AI251+AK251+AM251)","v":0}]
[null,"FOBIAS SOCIALES",0,0,0]
[null,"TRASTORNOS DE ANSIEDAD GENERALIZADA",0,0,0]
[null,"OTROS TRASTORNOS DE ANSIEDAD",0,0,0]
["DEMENCIAS (INCLUYE ALZHEIMER)","LEVE",0,0,0]
[null,"MODERADO",0,0,0]
[null,"AVANZADO",0,0,0]
["ESQUIZOFRENIA",null,{"$f":"SUM(D258+E258)","v":0},{"$f":"SUM(F258+H258+J258+L258+N258+P258+R258+T258+V258+X258+Z258+AB258+AD258+AF258+AH258+AJ258+AL258)","v":0},{"$f":"SUM(G258+I258+K258+M258+O258+Q258+S258+U258+W258+Y258+AA258+AC258+AE258+AG258+AI258+AK258+AM258)","v":0}]
["TRASTORNOS DE LA CONDUCTA ALIMENTARIA",null,0,0,0,null,null,null,null,null,null,null,null,null,null,null,null,null,null,null,null,null,null,null,null,null,null,null,null,null,null,null,null,null,null,null,null,null,null,null,null,null,null,null,null,null,null,null,null,null,null,null,null,null,null,null,null,null,null,null,null,null,null,null,null,null,null,null,null,null,null,null,null,null,null,null,null,null,null,null,null,null,null,null,null,null,null,null,null,null,null,null,null,null,null,null,null,null,null,null,null,null,null,null,null,0,null,0,null,0,null,0,null,0,null,0,null,0,null,0]
["RETRASO MENTAL",null,0,0,0]
["TRASTORNO DE PERSONALIDAD",null,0,0,0]
["TRASTORNO GENERALIZADOS DEL DESARROLLO","AUTISMO",0,0,0]
[null,"ASPERGER",0,0,0]
[null,"SÍNDROME DE RETT",0,0,0]
[null,"TRASTORNO DESINTEGRATIVO DE LA INFANCIA",0,0,0]
[null,"TRASTONO GENERALIZADO DEL DESARROLLO NO ESPECÍFICO",0,0,0]
["EPILEPSIA",null,0,0,0]
["OTRAS",null,{"$f":"SUM(D268+E268)","v":0},{"$f":"SUM(F268+H268+J268+L268+N268+P268+R268+T268+V268+X268+Z268+AB268+AD268+AF268+AH268+AJ268+AL268)","v":0},0]
["SECCIÓN P:  PROGRAMA DE REHABILITACIÓN (PERSONAS CON TRASTORNOS PSIQUIÁTRICOS)"]
["TIPO DE PROGRAMA","RUBRO","TOTAL      ",null,null,"GRUPOS DE EDAD (en años)",null,null,null,null,null,null,null,null,null,null,null,null,null,null,null,null,null,null,null,null,null,null,null,null,null,null,null,null,null,null,null,"Pueblos Originarios","Migrantes","Niños, Niñas, Adolescentes y Jóvenes  SENAME","Niños, Niñas, Adolescentes y Jóvenes Mejor Niñez"]
[null,null,null,null,null,"5 - 9 años",null,"10 - 14 años",null,"15 - 19 años",null,"20 - 24 años",null,"25 a 29 años",null,"30 a 34 años",null,"35 a 39 años",null,"40 a 44 años",null,"45 a 49 años",null,"50 a 54 años",null,"55 a 59 años",null,"60 a 64 años",null,"65 a 69 años",null,"70 a 74 años",null,"75 a 79 años",null,"80 y más años"]
[null,null,"Ambos Sexos","Hombres","Mujeres","Hombres","Mujeres","Hombres","Mujeres","Hombres","Mujeres","Hombres","Mujeres","Hombres","Mujeres","Hombres","Mujeres","Hombres","Mujeres","Hombres","Mujeres","Hombres","Mujeres","Hombres","Mujeres","Hombres","Mujeres","Hombres","Mujeres","Hombres","Mujeres","Hombres","Mujeres","Hombres","Mujeres","Hombres","Mujeres"]
["PROGRAMA DE REHABILITACIÓN TIPO I","INGRESOS",{"$f":"SUM(D273+E273)","v":0},{"$f":"SUM(F273+H273+J273+L273+N273+P273+R273+T273+V273+X273+Z273+AB273+AD273+AF273+AH273+AJ273)","v":0},{"$f":"SUM(G273+I273+K273+M273+O273+Q273+S273+U273+W273+Y273+AA273+AC273+AE273+AG273+AI273+AK273)","v":0},null,null,null,null,null,null,null,null,null,null,null,null,null,null,null,null,null,null,null,null,null,null,null,null,null,null,null,null,null,null,null,null,null,null,null,null,null,null,null,null,null,null,null,null,null,null,null,null,null,null,null,null,null,null,null,null,null,null,null,null,null,null,null,null,null,null,null,null,null,null,null,null,null,null,null,null,null,null,null,null,null,null,null,null,null,null,null,null,null,null,null,null,null,null,null,null,null,null,null,null,0,null,0,null,0,null,0]
[null,"EGRESOS",{"$f":"SUM(D274+E274)","v":0},{"$f":"SUM(F274+H274+J274+L274+N274+P274+R274+T274+V274+X274+Z274+AB274+AD274+AF274+AH274+AJ274)","v":0},0]
["PROGRAMA DE REHABILITACIÓN TIPO II","INGRESOS",{"$f":"SUM(D275+E275)","v":0},0,0]
[null,"EGRESOS",{"$f":"SUM(D276+E276)","v":0},0,0]
["SECCIÓN Q: INGRESOS Y EGRESOS A PROGRAMA INFECCIÓN POR TRANSMISIÓN SEXUAL (Uso de establecimientos que realizan atención de ITS)"]
["PATOLOGÍAS",null,"TOTAL ",null,null,"INGRESOS POR EDAD",null,null,null,null,null,null,null,null,null,null,null,null,null,null,null,null,null,null,null,null,null,null,null,null,null,null,null,null,null,null,null,null,null,"EGRESOS",null,null,"TRANS",null,"Pueblos Originarios","Migrantes","Niños, Niñas, Adolescentes y Jóvenes SENAME","Niños, Niñas, Adolescentes y Jóvenes Mejor Niñez"]
[null,null,null,null,null,"0 - 4 años",null,"5 - 9 años",null,"10 - 14 años",null,"15 - 19 años",null,"20 - 24 años",null,"25 a 29 años",null,"30 a 34 años",null,"35 a 39 años",null,"40 a 44 años",null,"45 a 49 años",null,"50 a 54 años",null,"55 a 59 años",null,"60 a 64 años",null,"65 a 69 años",null,"70 a 74 años",null,"75 a 79 años",null,"80 y más años",null,"Total","Por alta","Por abandono"]
[null,null,"Ambos Sexos","Hombres","Mujeres","Hombres ","Mujeres","Hombres ","Mujeres","Hombres ","Mujeres","Hombres ","Mujeres","Hombres ","Mujeres","Hombres ","Mujeres","Hombres ","Mujeres","Hombres ","Mujeres","Hombres ","Mujeres","Hombres ","Mujeres","Hombres ","Mujeres","Hombres ","Mujeres","Hombres ","Mujeres","Hombres ","Mujeres","Hombres ","Mujeres","Hombres ","Mujeres","Hombres ","Mujeres",null,null,null,"Masculino","Femenino"]
["TOTAL DE INGRESOS",null,{"$f":"SUM(D281+E281)","v":0},{"$f":"SUM(F281+H281+J281+L281+N281+P281+R281+T281+V281+X281+Z281+AB281+AD281+AF281+AH281+AJ281+AL281)","v":0},{"$f":"SUM(G281+I281+K281+M281+O281+Q281+S281+U281+W281+Y281+AA281+AC281+AE281+AG281+AI281+AK281+AM281)","v":0},{"$f":"SUM(F291:F299)","v":0},{"$f":"SUM(G291:G299)","v":0},{"$f":"SUM(H291:H299)","v":0},{"$f":"SUM(I291:I299)","v":0},{"$f":"SUM(J291:J299)","v":0},{"$f":"SUM(K282:K299)","v":0},{"$f":"SUM(L291:L299)","v":0},{"$f":"SUM(M282:M299)","v":0},{"$f":"SUM(N291:N299)","v":0},{"$f":"SUM(O282:O299)","v":0},{"$f":"SUM(P291:P299)","v":0},{"$f":"SUM(Q282:Q299)","v":0},{"$f":"SUM(R291:R299)","v":0},{"$f":"SUM(S282:S299)","v":0},{"$f":"SUM(T291:T299)","v":0},{"$f":"SUM(U282:U299)","v":0},{"$f":"SUM(V291:V299)","v":0},{"$f":"SUM(W282:W299)","v":0},{"$f":"SUM(X291:X299)","v":0},{"$f":"SUM(Y282:Y299)","v":0},{"$f":"SUM(Z291:Z299)","v":0},{"$f":"SUM(AA282:AA299)","v":0},{"$f":"SUM(AB291:AB299)","v":0},{"$f":"SUM(AC282:AC299)","v":0},0,0,0,0,0,0,0,0,{"$f":"SUM(AL291:AL299)","v":0},0,{"$f":"SUM(AN282:AN299)","v":0},0,0,0,0,0,0,0,{"$f":"SUM(AV282:AV299)","v":0}]
["GESTANTES","SÍFILIS",0,null,{"$f":"SUM(K282+M282+O282+Q282+S282+U282+W282+Y282+AA282+AC282)","v":0},null,null,null,null,null,null,null,null,null,null,null,null,null,null,null,null,null,null,null,null,null,null,null,null,null,null,null,null,null,null,null,null,null,null,null,null,null,null,null,null,null,null,null,null,null,null,null,null,null,null,null,null,null,null,null,null,null,null,null,null,null,null,null,null,null,null,null,null,null,null,null,null,null,null,null,null,null,null,null,null,null,null,null,null,null,null,null,null,null,null,null,null,null,null,null,null,null,null,null,null,0,null,0,null,0,null,0]
[null,"GONORREA",0,null,0]
[null,"CONDILOMA",0,null,0]
[null,"HERPES",0,null,0]
[null,"CHLAMYDIAS",0,null,0]
[null,"URETRITIS NO GONOCÓCICA",0,null,0]
[null,"LINFOGRANULOMA",0,null,0]
[null,"CHANCROIDE",0,null,0]
[null,"OTRAS ITS",0,null,0]
["NO GESTANTES","SÍFILIS",{"$f":"SUM(D291+E291)","v":0},{"$f":"SUM(F291+H291+J291+L291+N291+P291+R291+T291+V291+X291+Z291+AB291+AD291+AF291+AH291+AJ291+AL291)","v":0},{"$f":"SUM(G291+I291+K291+M291+O291+Q291+S291+U291+W291+Y291+AA291+AC291+AE291+AG291+AI291+AK291+AM291)","v":0}]
[null,"GONORREA",0,{"$f":"SUM(F292+H292+J292+L292+N292+P292+R292+T292+V292+X292+Z292+AB292+AD292+AF292+AH292+AJ292+AL292)","v":0},{"$f":"SUM(G292+I292+K292+M292+O292+Q292+S292+U292+W292+Y292+AA292+AC292+AE292+AG292+AI292+AK292+AM292)","v":0}]
[null,"CONDILOMA",0,0,0]
[null,"HERPES",0,0,0]
[null,"CHLAMYDIAS",0,0,0]
[null,"URETRITIS NO GONOCÓCICA",0,0,0]
[null,"LINFOGRANULOMA",0,0,0]
[null,"CHANCROIDE",0,0,0]
[null,"OTRAS ITS",0,0,0]
["SECCIÓN R: INGRESOS Y EGRESOS DEL PROGRAMA DE VIH/SIDA (Uso exclusivo Centros de Atención VIH-SIDA)"]
["CONCEPTO",null,"TOTAL ",null,null,"POR EDAD (en meses - años)",null,null,null,null,null,null,null,null,null,null,null,null,null,null,null,null,null,null,null,null,null,null,null,null,null,null,null,null,null,null,null,null,null,null,null,null,null,null,null,"TRANS",null,"Pueblos Originarios","Migrantes","Niños, Niñas, Adolescentes y Jóvenes SENAME","Niños, Niñas, Adolescentes y Jóvenes Mejor Niñez"]
[null,null,null,null,null,"Menor de 6 meses",null,"6 a 11 meses",null,"12-24 meses",null,"3 a 4 años",null,"5 a 9 años",null,"10 - 14 años",null,"15 - 19 años",null,"20 - 24 años",null,"25 a 29 años",null,"30 a 34 años",null,"35 a 39 años",null,"40 a 44 años",null,"45 a 49 años",null,"50 a 54 años",null,"55 a 59 años",null,"60 a 64 años",null,"65 a 69 años",null,"70 a 74 años",null,"75 a 79 años",null,"80 y más años",null,"Masculino","Femenino"]
[null,null,"Ambos Sexos","Hombres","Mujeres","Hombres ","Mujeres","Hombres ","Mujeres","Hombres ","Mujeres","Hombres ","Mujeres","Hombres ","Mujeres","Hombres ","Mujeres","Hombres ","Mujeres","Hombres ","Mujeres","Hombres ","Mujeres","Hombres ","Mujeres","Hombres ","Mujeres","Hombres ","Mujeres","Hombres ","Mujeres","Hombres ","Mujeres","Hombres ","Mujeres","Hombres ","Mujeres","Hombres ","Mujeres","Hombres ","Mujeres","Hombres ","Mujeres","Hombres ","Mujeres"]
["INGRESOS AL PROGRAMA","GESTANTES",{"$f":"SUM(D304+E304)","v":0},null,{"$f":"+Q304+S304+U304+W304+Y304+AA304+AC304+AE304+AG304+AI304","v":0},null,null,null,null,null,null,null,null,null,null,null,null,null,null,null,null,null,null,null,null,null,null,null,null,null,null,null,null,null,null,null,null,null,null,null,null,null,null,null,null,null,null,null,null,null,null,null,null,null,null,null,null,null,null,null,null,null,null,null,null,null,null,null,null,null,null,null,null,null,null,null,null,null,null,null,null,null,null,null,null,null,null,null,null,null,null,null,null,null,null,null,null,null,null,null,null,null,null,null,null,0,null,0,null,0,null,0]
[null,"NO GESTANTES",{"$f":"SUM(D305+E305)","v":0},{"$f":"SUM(F305+H305+J305+L305+N305+P305+R305+T305+V305+X305+Z305+AB305+AD305+AF305+AH305+AJ305+AL305+AN305+AP305+AR305)","v":0},0]
["REINGRESOS POR ABANDONO",null,{"$f":"SUM(D306+E306)","v":0},0,0]
["TOTAL EGRESOS",null,0,0,0]
["EGRESOS POR FALLECIMIENTO (INCLUÍDO EN TOTAL EGRESOS)",null,0,0,0]
["EGRESOS POR ALTA HIJO VIH (-) DE MADRE VIH +INCLUÍDO EN TOTAL EGRESOS",null,0,{"$f":"SUM(F309+H309+J309+L309)","v":0},{"$f":"SUM(G309+I309+K309+M309)","v":0}]
["EVALUACIÓN MOVILIDAD PROGRAMA","ABANDONO CONTROLES",0,{"$f":"SUM(F310+H310+J310+L310+N310+P310+R310+T310+V310+X310+Z310+AB310+AD310+AF310+AH310+AJ310+AL310+AN310+AP310+AR310)","v":0},{"$f":"SUM(G310+I310+K310+M310+O310+Q310+S310+U310+W310+Y310+AA310+AC310+AE310+AG310+AI310+AK310+AM310+AO310+AQ310+AS310)","v":0}]
[null,"ABANDONO TRATAMIENTO",0,0,0]
[null,"ABANDONO DE LA ATENCION",0,0,0]
[null,"INGRESOS POR TRASLADO",0,0,0]
[null,"EGRESOS POR TRASLADO",0,0,0]
["SECCIÓN S: INGRESOS Y EGRESOS POR COMERCIO SEXUAL (Uso exclusivo de Unidades Control Comercio Sexual)"]
["CONCEPTO",null,"TOTAL ",null,null,"GRUPOS DE EDAD (en años)",null,null,null,null,null,null,null,null,null,null,null,null,null,null,null,null,null,null,null,null,null,null,null,null,null,null,null,"TRANS",null,"Pueblos Originarios","Migrantes"]
[null,null,null,null,null,"15 - 19 años",null,"20 - 24 años",null,"25 a 29 años",null,"30 a 34 años",null,"35 a 39 años",null,"40 a 44 años",null,"45 a 49 años",null,"50 a 54 años",null,"55 a 59 años",null,"60 a 64 años",null,"65 a 69 años",null,"70 a 74 años",null,"75 a 79 años",null,"80 y más años"]
[null,null,"Ambos Sexos","Hombres","Mujeres","Hombres ","Mujeres","Hombres ","Mujeres","Hombres ","Mujeres","Hombres ","Mujeres","Hombres ","Mujeres","Hombres ","Mujeres","Hombres ","Mujeres","Hombres ","Mujeres","Hombres ","Mujeres","Hombres ","Mujeres","Hombres ","Mujeres","Hombres ","Mujeres","Hombres ","Mujeres","Hombres ","Mujeres","Masculino","Femenino"]
["INGRESOS AL PROGRAMA",null,{"$f":"SUM(D319+E319)","v":0},{"$f":"SUM(F319+H319+J319+L319+N319+P319+R319+T319+V319+X319+Z319+AB319+AD319+AF319)","v":0},0,null,null,null,null,null,null,null,null,null,null,null,null,null,null,null,null,null,null,null,null,null,null,null,null,null,null,null,null,null,null,null,null,null,null,null,null,null,null,null,null,null,null,null,null,null,null,null,null,null,null,null,null,null,null,null,null,null,null,null,null,null,null,null,null,null,null,null,null,null,null,null,null,null,null,null,null,null,null,null,null,null,null,null,null,null,null,null,null,null,null,null,null,null,null,null,null,null,null,null,null,0,null,0,null,null,null,0]
["TOTAL EGRESOS",null,{"$f":"SUM(D320+E320)","v":0},0,0]
["INASISTENTES",null,{"$f":"SUM(D321+E321)","v":0},0,0]
["SECCIÓN T. INGRESOS Y EGRESOS PROGRAMA DE ACOMPAÑAMIENTO PSICOSOCIAL EN ATENCIÓN PRIMARIA"]
["ACTIVIDAD","TOTAL               ",null,null,"GRUPOS DE EDAD  (en años)",null,null,null,null,null,null,null,null,null,"Pueblos Originarios","Migrantes","TRANS Femenino/\nMasculino"]
[null,null,null,null,"0 - 4 años",null,"5 - 9 años",null,"10 - 14 años",null,"15 - 19 años",null,"20 - 24 años"]
[null,"Ambos Sexos","Hombres","Mujeres","Hombres","Mujeres","Hombres","Mujeres","Hombres","Mujeres","Hombres","Mujeres","Hombres","Mujeres"]
["INGRESOS",{"$f":"SUM(C326+D326)","v":0},{"$f":"SUM(E326+G326+I326+K326+M326)","v":0},{"$f":"SUM(F326+H326+J326+L326+N326)","v":0},null,null,null,null,null,null,null,null,null,null,null,null,null,null,null,null,null,null,null,null,null,null,null,null,null,null,null,null,null,null,null,null,null,null,null,null,null,null,null,null,null,null,null,null,null,null,null,null,null,null,null,null,null,null,null,null,null,null,null,null,null,null,null,null,null,null,null,null,null,null,null,null,null,null,null,null,null,null,null,null,null,null,null,null,null,null,null,null,null,null,null,null,null,null,null,null,null,null,null,null,null,0,null,0]
["EGRESOS",{"$f":"SUM(C327+D327)","v":0},{"$f":"SUM(E327+G327+I327+K327+M327)","v":0},{"$f":"SUM(F327+H327+J327+L327+N327)","v":0}]
["SECCIÓN U. INGRESOS  INTEGRALES DE PERSONAS CON CONDICIONES CRÓNICAS EN ATENCIÓN PRIMARIA"]
["ACTIVIDAD","RIESGO","TOTAL               ",null,null,"GRUPOS DE EDAD  (en años)",null,null,null,null,null,null,null,null,null,null,null,null,null,null,null,null,null,null,null,null,null,null,null,null,null,null,null,"Pueblos Originarios","Migrantes","REALIZADO POR",null,null,"Realizado en domicilio"]
[null,null,null,null,null,"15 - 19 años",null,"20 - 24 años",null,"25 a 29 años",null,"30 a 34 años",null,"35 a 39 años",null,"40 a 44 años",null,"45 a 49 años",null,"50 a 54 años",null,"55 a 59 años",null,"60 a 64 años",null,"65 a 69 años",null,"70 a 74 años",null,"75 a 79 años",null,"80 y más años",null,null,null,"Dupla (Medico + Profesional no médico)","Médico","Profesional No Médico"]
[null,null,"Ambos Sexos","Hombres","Mujeres","Hombres","Mujeres","Hombres","Mujeres","Hombres ","Mujeres","Hombres ","Mujeres","Hombres ","Mujeres","Hombres ","Mujeres","Hombres ","Mujeres","Hombres ","Mujeres","Hombres ","Mujeres","Hombres ","Mujeres","Hombres ","Mujeres","Hombres ","Mujeres","Hombres ","Mujeres","Hombres ","Mujeres"]
["INGRESO INTEGRAL","RIESGO LEVE (G1)",{"$f":"SUM(D332+E332)","v":0},{"$f":"SUM(F332+H332+J332+L332+N332+P332+R332+T332+V332+X332+Z332+AB332+AD332+AF332)","v":0},{"$f":"SUM(G332+I332+K332+M332+O332+Q332+S332+U332+W332+Y332+AA332+AC332+AE332+AG332)","v":0},null,null,null,null,null,null,null,null,null,null,null,null,null,null,null,null,null,null,null,null,null,null,null,null,null,null,null,null,null,null,null,null,null,null,null,null,null,null,null,null,null,null,null,null,null,null,null,null,null,null,null,null,null,null,null,null,null,null,null,null,null,null,null,null,null,null,null,null,null,null,null,null,null,null,null,null,null,null,null,null,null,null,null,null,null,null,null,null,null,null,null,null,null,null,null,null,null,null,null,null,0,null,0]
[null,"RIESGO MODERADO (G2)",0,{"$f":"SUM(F333+H333+J333+L333+N333+P333+R333+T333+V333+X333+Z333+AB333+AD333+AF333)","v":0},0]
[null,"RIESGO ALTO (G3)",0,0,0]
["PLAN DE CUIDADO ELABORADO","RIESGO LEVE (G1)",0,0,0]
[null,"RIESGO MODERADO (G2)",0,0,{"$f":"SUM(G336+I336+K336+M336+O336+Q336+S336+U336+W336+Y336+AA336+AC336+AE336+AG336)","v":0}]
[null,"RIESGO ALTO (G3)",0,0,0]
["GESTIÓN DE CASOS","INGRESO RIESGO ALTO (G3)",0,{"$f":"SUM(F338+H338+J338+L338+N338+P338+R338+T338+V338+X338+Z338+AB338+AD338+AF338)","v":0},0]
[null,"INGRESO RIESGO ALTO (G2)",0,0,0]
[null,"EGRESO RIESGO ALTO (G3)",0,0,0]
[null,"EGRESO RIESGO ALTO (G2)",0,0,0]
["SECCION V: ATENCIONES AMBULATORIAS POR  EL PROGRAMA TUBERCULOSIS"]
["PROFESIONAL","TIPOS DE ATENCION","Ambos Sexos","Hombres","Mujeres","GRUPO DE EDAD (En años)",null,null,null,null,null,null,null,null,null,null,null,null,null,null,null,null,null,null,null,null,null,null,null,null,null,null,null,null,null,null,null,null,null,"Pueblos Originarios","Migrantes"]
[null,null,null,null,null,"0 - 4 años",null,"5 - 9 años",null,"10 - 14 años",null,"15 - 19 años",null,"20 - 24 años",null,"25 a 29 años",null,"30 a 34 años",null,"35 a 39 años",null,"40 a 44 años",null,"45 a 49 años",null,"50 a 54 años",null,"55 a 59 años",null,"60 a 64 años",null,"65 a 69 años",null,"70 a 74 años",null,"75 a 79 años",null,"80 y más años"]
[null,null,null,null,null,"Hombres ","Mujeres","Hombres ","Mujeres","Hombres ","Mujeres","Hombres ","Mujeres","Hombres ","Mujeres","Hombres ","Mujeres","Hombres ","Mujeres","Hombres ","Mujeres","Hombres ","Mujeres","Hombres ","Mujeres","Hombres ","Mujeres","Hombres ","Mujeres","Hombres ","Mujeres","Hombres ","Mujeres","Hombres ","Mujeres","Hombres ","Mujeres","Hombres ","Mujeres"]
["MÉDICO/A","Ingreso tratamiento",{"$f":"SUM(D346:E346)","v":0},{"$f":"+F346+H346+J346+L346+N346+P346+R346+T346+V346+X346+Z346+AB346+AD346+AF346+AH346+AJ346+AL346","v":0},{"$f":"+G346+I346+K346+M346+O346+Q346+S346+U346+W346+Y346+AA346+AC346+AE346+AG346+AI346+AK346+AM346","v":0},null,null,null,null,null,null,null,null,null,null,null,null,null,null,null,null,null,null,null,null,null,null,null,null,null,null,null,null,null,null,null,null,null,null,null,null,null,null,null,null,null,null,null,null,null,null,null,null,null,null,null,null,null,null,null,null,null,null,null,null,null,null,null,null,null,null,null,null,null,null,null,null,null,null,null,null,null,null,null,null,null,null,null,null,null,null,null,null,null,null,null,null,null,null,null,null,null,null,null,null,0,null,0]
[null,"Ingreso quimioprófilaxis",{"$f":"SUM(D347:E347)","v":0},{"$f":"+F347+H347+J347+L347+N347+P347+R347+T347+V347+X347+Z347+AB347+AD347+AF347+AH347+AJ347+AL347","v":0},0]
[null,"Control mensual",{"$f":"SUM(D348:E348)","v":0},0,0]
[null,"Control de seguimiento",0,0,0]
[null,"Consultas espontáneas",0,0,0]
[null,"Rescate",0,0,0]
[null,"Control de los contactos",0,0,0]
[null,"Atención domiciliaria",0,0,0]
["ENFERMERA/O","Ingreso de tratamiento",0,0,0]
[null,"Control mensual",0,0,{"$f":"+G355+I355+K355+M355+O355+Q355+S355+U355+W355+Y355+AA355+AC355+AE355+AG355+AI355+AK355+AM355","v":0}]
[null,"Control de seguimiento",{"$f":"SUM(D356:E356)","v":0},0,0]
[null,"Consultas espontáneas",0,{"$f":"+F357+H357+J357+L357+N357+P357+R357+T357+V357+X357+Z357+AB357+AD357+AF357+AH357+AJ357+AL357","v":0},0]
[null,"Rescate",0,0,0]
[null,"Atención domiciliaria",0,0,0,null,null,null,null,null,null,null,null,null,null,null,null,null,null,null,null,null,null,null,null,null,null,null,null,null,null,null,null,null,null,null,null,null,null,null,null,null,null,null,null,null,null,null,null,null,null,null,null,null,null,null,null,null,null,null,null,null,null,null,null,null,null,null,null,null,null,null,null,null,null,null,null,null,null,null,null,null,null,null,null,null,null,null,null,null,null,null,null,null,null,null,null,null,null,null,null,null,null,null,null,0,null,0]
["SECCIÓN W: POBLACIÓN USUARIA PRAIS"]
["SECCIÓN W.1: POBLACIÓN USUARIA SEGÚN CALIDAD DE ACREDITACIÓN"]
["CALIDAD DE LA ACREDITACIÓN (Acumulado)","TOTAL        ","Art. 7° Ley 19.980",null,null,null,null,null,null,null,"Norma Complementaria (N°88)",null,null,null,null,"Sin ningún tipo de información "]
[null,null,"Ley 19.123, ley 19.980, ley 20.405 (DD Y EP)","Ley 19.992, ley 20.405 (Prisión política y tortura)","Ley 19.965","Trabajador DDHH","Ingresado antes 30/08/2003",null,null,null,"Ex prisión política","Exilio","Relegación","Clandestinidad","Exoneración Política"]
[null,null,null,null,null,null,"Exilio","Exoneración Política","Ex preso político","Otros"]
["ÍNDICE",{"$f":"SUM(D365:O365)","v":0}]
["AFECTADO DIRECTO",{"$f":"SUM(C366:O366)","v":0}]
["BENEFICIARIO",{"$f":"SUM(C367:O367)","v":0}]
["SIN REGISTRO DE CALIDAD DE LA ACREDITACIÓN ",{"$f":"SUM(C368:O368)","v":0}]
["SIN NINGÚN TIPO DE INFORMACIÓN ",{"$f":"SUM(P369)","v":0}]
["TOTAL",{"$f":"SUM(B365:B369)","v":0},{"$f":"SUM(C366:C368)","v":0},{"$f":"SUM(D365:D368)","v":0},{"$f":"SUM(E365:E368)","v":0},0,0,0,0,0,0,0,0,0,0,{"$f":"SUM(P369)","v":0}]
["SECCIÓN W.2: POBLACIÓN USUARIA TOTAL (UNIVERSO)"]
["UNIVERSO","TOTAL               ",null,null,"GRUPOS DE EDAD  (en años)",null,null,null,null,null,null,null,null,null,null,null,null,null,null,null,null,null,null,null,null,null,null,null,null,null,null,null,null,null,null,null,null,null,"Niños, Niñas, Adolescentes y Jóvenes Población SENAME","Pueblos Originarios"]
[null,null,null,null,"0 - 4 años",null,"5 - 9 años",null,"10 - 14 años",null,"15 - 19 años",null,"20 - 24 años",null,"25 a 29 años",null,"30 a 34 años",null,"35 a 39 años",null,"40 a 44 años",null,"45 a 49 años",null,"50 a 54 años",null,"55 a 59 años",null,"60 a 64 años",null,"65 a 69 años",null,"70 a 74 años",null,"75 a 79 años",null,"80 y más años"]
[null,"Ambos Sexos","Hombres","Mujeres","Hombres","Mujeres","Hombres","Mujeres","Hombres","Mujeres","Hombres","Mujeres","Hombres","Mujeres","Hombres","Mujeres","Hombres","Mujeres","Hombres","Mujeres","Hombres","Mujeres","Hombres","Mujeres","Hombres","Mujeres","Hombres","Mujeres","Hombres","Mujeres","Hombres","Mujeres","Hombres","Mujeres","Hombres","Mujeres","Hombres","Mujeres"]
["POBLACIÓN USUARIA AL MES DE REPORTE (Acumulado)",{"$f":"SUM(C375,D375)","v":0},{"$f":"SUM(E375,G375,I375,K375,M375,O375,Q375,S375,U375,W375,Y375,AA375,AC375,AE375,AG375,AI375,AK375)","v":0},{"$f":"SUM(F375,H375,J375,L375,N375,P375,R375,T375,V375,X375,Z375,AB375,AD375,AF375,AH375,AJ375,AL375)","v":0},null,null,null,null,null,null,null,null,null,null,null,null,null,null,null,null,null,null,null,null,null,null,null,null,null,null,null,null,null,null,null,null,null,null,null,null,null,null,null,null,null,null,null,null,null,null,null,null,null,null,null,null,null,null,null,null,null,null,null,null,null,null,null,null,null,null,null,null,null,null,null,null,null,null,null,null,null,null,null,null,null,null,null,null,null,null,null,null,null,null,null,null,null,null,null,null,null,null,null,null,null,0,null,0]
["SECCIÓN X: ACREDITACIÓN PRAIS"]
["SECCIÓN X.1: ATENCIÓN PARA ACREDITACIÓN PRAIS"]
["ACTIVIDAD","PROFESIONAL","TOTAL               ",null,null,"GRUPOS DE EDAD  (en años)",null,null,null,null,null,null,null,null,null,null,null,null,null,null,null,null,null,null,null,null,null,null,null,null,null,null,null,null,null,null,null,null,null,"Niños, Niñas, Adolescentes y Jóvenes Población SENAME","Pueblos Originarios"]
[null,null,null,null,null,"0 - 4 años",null,"5 - 9 años",null,"10 - 14 años",null,"15 - 19 años",null,"20 - 24 años",null,"25 a 29 años",null,"30 a 34 años",null,"35 a 39 años",null,"40 a 44 años",null,"45 a 49 años",null,"50 a 54 años",null,"55 a 59 años",null,"60 a 64 años",null,"65 a 69 años",null,"70 a 74 años",null,"75 a 79 años",null,"80 y más años"]
[null,null,"Ambos Sexos","Hombres","Mujeres","Hombres","Mujeres","Hombres","Mujeres","Hombres","Mujeres","Hombres","Mujeres","Hombres","Mujeres","Hombres","Mujeres","Hombres","Mujeres","Hombres","Mujeres","Hombres","Mujeres","Hombres","Mujeres","Hombres","Mujeres","Hombres","Mujeres","Hombres","Mujeres","Hombres","Mujeres","Hombres","Mujeres","Hombres","Mujeres","Hombres","Mujeres"]
["USUARIOS  ACREDITADOS POR PROFESIONAL/ES QUE ATIENDE/N\n\n(Individual o en Dupla)","ASISTENTE SOCIAL",{"$f":"SUM(D381,E381)","v":0},{"$f":"SUM(F381,H381,J381,L381,N381,P381,R381,T381,V381,X381,Z381,AB381,AD381,AF381,AH381,AJ381,AL381)","v":0},0,null,null,null,null,null,null,null,null,null,null,null,null,null,null,null,null,null,null,null,null,null,null,null,null,null,null,null,null,null,null,null,null,null,null,null,null,null,null,null,null,null,null,null,null,null,null,null,null,null,null,null,null,null,null,null,null,null,null,null,null,null,null,null,null,null,null,null,null,null,null,null,null,null,null,null,null,null,null,null,null,null,null,null,null,null,null,null,null,null,null,null,null,null,null,null,null,null,null,null,null,0,null,0]
[null,"PSICÓLOGO/A",{"$f":"SUM(D382,E382)","v":0},0,0]
[null,"ASISTENTE SOCIAL, Y PSICÓLOGO/A",{"$f":"SUM(D383,E383)","v":0},0,0]
["TOTAL",null,{"$f":"SUM(D384,E384)","v":0},0,0,{"$f":"SUM(F381:F383)","v":0},0,0,0,0,0,0,0,0,0,0,0,0,0,0,0,0,0,0,0,0,0,0,0,0,0,0,0,0,0,0,0,0,0,0,0]
["SECCIÓN X.2: ACREDITACIÓN PRAIS SEGÚN LEY, NORMATIVA Y CALIDAD DE ACREDITACIÓN"]
["CALIDAD DE LA ACREDITACIÓN DEL MES QUE REPORTA","TOTAL        ","Art. 7° Ley 19.980",null,null,null,null,null,null,null,"Norma Complementaria (N°88)",null,null,null,null,"Sin ningún tipo de información "]
[null,null,"Ley 19.123, ley 19.980, ley 20.405 (DD Y EP)","Ley 19.992, ley 20.405 (Prisión política y tortura)","Ley 19.965","Trabajador DDHH","Ingresado antes 30/08/2003",null,null,null,"Ex prisión política","Exilio","Relegación","Clandestinidad","Exoneración Política"]
[null,null,null,null,null,null,"Exilio","Exoneración Política","Ex preso político","Otros"]
["ÍNDICE",{"$f":"SUM(D389:O389)","v":0}]
["AFECTADO DIRECTO",{"$f":"SUM(C390:O390)","v":0}]
["BENEFICIARIO",{"$f":"SUM(C391:O391)","v":0}]
["SIN REGISTRO DE CALIDAD DE LA ACREDITACIÓN ",{"$f":"SUM(C392:O392)","v":0}]
["SIN NINGÚN TIPO DE INFORMACIÓN ",{"$f":"SUM(P393)","v":0}]
["TOTAL",{"$f":"SUM(B389:B393)","v":0},{"$f":"SUM(C390:C392)","v":0},{"$f":"SUM(D389:D392)","v":0},{"$f":"SUM(E389:E392)","v":0},0,0,0,0,0,0,0,0,0,0,{"$f":"SUM(P393)","v":0}]
[]
[]
[]
[]
[]
[]
[]
[]
[]
[]
[]
[]
[]
[]
[]
[]
[]
[]
[]
[]
[]
[]
[]
[]
[]
[]
[]
[{"$f":"SUM(C11:C14,C18:F31,C35,C57,B78,C81,C86:C89,C94:C97,C102,C107:C114,C119:C126,C131:C135,C148,C161,C168,C169:C172,C178,C180:C221,C225,C227:C268,C273:C276,C281,C304:C314,C319:C321,B326:B327,C332:C341,C346:C359,B370,B375,C384,B394)","v":0},{"$f":"SUM(DA10:DZ394)","v":0}]

{"sheet":"A06","index":6,"n_rows":154,"n_cols":113,"rows_kept":154,"cut":false,"hidden":false,"merged":[[127,42,129,42],[135,0,137,0],[9,46,11,46],[135,1,135,5],[135,7,136,8],[136,1,137,1],[136,6,137,6],[9,44,11,44],[28,2,28,3],[28,1,29,1],[9,40,11,40],[96,0,97,0],[96,4,96,5],[106,6,106,7],[106,8,106,9],[106,10,106,11],[106,12,106,13],[28,41,29,41],[28,43,29,43],[54,27,54,28],[96,3,97,3],[70,0,71,0],[72,0,77,0],[86,1,87,1],[112,0,113,0],[112,1,112,3],[53,39,55,39],[48,29,48,30],[28,27,28,28],[28,29,28,30],[28,11,28,12],[127,43,129,43],[128,5,128,6],[128,7,128,8],[128,9,128,10],[128,11,128,12],[128,13,128,14],[128,15,128,16],[128,27,128,28],[127,39,129,39],[127,40,129,40],[128,21,128,22],[128,23,128,24],[128,25,128,26],[128,17,128,18],[128,19,128,20],[128,33,128,34],[128,29,128,30],[79,0,80,0],[86,2,87,2],[86,0,87,0],[123,6,123,8],[123,2,123,3],[123,0,124,0],[123,4,123,5],[28,42,29,42],[112,4,113,4],[47,39,49,39],[48,15,48,16],[48,17,48,18],[48,19,48,20],[54,29,54,30],[48,31,48,32],[54,19,54,20],[54,21,54,22],[52,0,52,12],[48,7,48,8],[48,21,48,22],[48,5,48,6],[54,35,54,36],[54,13,54,14],[54,15,54,16],[127,0,129,0],[127,1,129,1],[127,2,128,4],[127,5,127,38],[116,0,118,0],[116,1,117,3],[116,4,116,9],[117,4,117,5],[117,6,117,7],[117,8,117,9],[128,31,128,32],[128,35,128,36],[128,37,128,38],[123,1,124,1],[5,0,5,22],[9,0,11,0],[9,1,11,1],[9,2,10,4],[9,5,9,38],[10,17,10,18],[10,19,10,20],[12,0,22,0],[25,0,26,0],[10,29,10,30],[10,31,10,32],[10,33,10,34],[10,27,10,28],[10,37,10,38],[10,35,10,36],[23,0,23,1],[9,45,11,45],[96,1,97,1],[96,2,97,2],[53,40,55,40],[47,40,49,40],[47,41,49,41],[28,35,28,36],[9,42,11,42],[9,43,11,43],[10,5,10,6],[10,7,10,8],[10,9,10,10],[10,11,10,12],[10,13,10,14],[10,15,10,16],[9,39,11,39],[10,21,10,22],[10,23,10,24],[10,25,10,26],[47,0,49,1],[47,2,48,4],[47,5,47,38],[53,5,53,38],[28,7,28,8],[9,41,11,41],[28,44,29,44],[127,41,129,41],[34,0,35,0],[79,1,79,2],[105,0,107,0],[105,1,106,3],[105,4,105,12],[106,4,106,5],[40,2,41,2],[42,0,43,0],[56,0,61,0],[62,0,63,0],[64,0,67,0],[68,0,69,0],[53,0,55,1],[53,2,54,4],[86,3,87,3],[79,3,79,4],[28,15,28,16],[28,17,28,18],[28,19,28,20],[28,31,28,32],[48,37,48,38],[28,4,28,6],[28,37,28,38],[28,21,28,22],[34,4,34,6],[34,7,34,12],[28,9,28,10],[28,13,28,14],[54,31,54,32],[34,1,35,1],[48,9,48,10],[48,11,48,12],[48,13,48,14],[48,35,48,36],[48,23,48,24],[48,25,48,26],[48,27,48,28],[48,33,48,34],[136,2,136,5],[44,0,45,0],[28,39,28,40],[28,23,28,24],[28,25,28,26],[34,2,34,3],[28,33,28,34],[54,23,54,24],[54,25,54,26],[54,17,54,18],[54,37,54,38],[54,5,54,6],[54,7,54,8],[54,33,54,34],[54,9,54,10],[54,11,54,12],[105,14,107,14],[105,15,107,15],[79,5,79,6],[79,7,79,8],[130,0,133,0],[40,0,41,0],[40,1,41,1],[28,0,29,0]]}
["SERVICIO DE SALUD"]
[{"$f":"CONCATENATE(\"COMUNA: \",NOMBRE!B2,\" - \",\"( \",NOMBRE!C2,NOMBRE!D2,NOMBRE!E2,NOMBRE!F2,NOMBRE!G2,\" )\")","v":"COMUNA:  - (  )"}]
[{"$f":"CONCATENATE(\"ESTABLECIMIENTO/ESTRATEGIA: \",NOMBRE!B3,\" - \",\"( \",NOMBRE!C3,NOMBRE!D3,NOMBRE!E3,NOMBRE!F3,NOMBRE!G3,NOMBRE!H3,\" )\")","v":"ESTABLECIMIENTO/ESTRATEGIA:  - (  )"}]
[{"$f":"CONCATENATE(\"MES: \",NOMBRE!B6,\" - \",\"( \",NOMBRE!C6,NOMBRE!D6,\" )\")","v":"MES:  - (  )"}]
[{"$f":"CONCATENATE(\"AÑO: \",NOMBRE!B7)","v":"AÑO: 2023"}]
["REM-06.   PROGRAMA DE SALUD MENTAL ATENCIÓN PRIMARIA Y ESPECIALIDADES"]
[]
[]
["SECCIÓN A.1: CONTROLES DE ATENCIÓN PRIMARIA / ESPECIALIDADES"]
["ACTIVIDAD","PROFESIONAL","TOTAL               ",null,null,"GRUPOS DE EDAD  (en años)",null,null,null,null,null,null,null,null,null,null,null,null,null,null,null,null,null,null,null,null,null,null,null,null,null,null,null,null,null,null,null,null,null,"Beneficiarios","Niños, Niñas, Adolescentes y Jóvenes SENAME","Niños, Niñas, Adolescentes y Jóvenes Mejor Niñez","Pueblos Originarios","Migrantes","Demencia","Espacios Amigables","TRANS\nFemenino/\nMasculino"]
[null,null,null,null,null,"0 - 4 años",null,"5 - 9 años",null,"10 - 14 años",null,"15 - 19 años",null,"20 - 24 años",null,"25 - 29 años",null,"30 - 34 años",null,"35 - 39 años",null,"40 - 44 años",null,"45 - 49 años",null,"50 - 54 años",null,"55 - 59 años",null,"60 - 64 años",null,"65 - 69 años",null,"70 - 74 años",null,"75 - 79 años",null,"80 y mas años"]
[null,null,"Ambos Sexos","Hombres","Mujeres","Hombres","Mujeres","Hombres","Mujeres","Hombres","Mujeres","Hombres","Mujeres","Hombres","Mujeres","Hombres","Mujeres","Hombres","Mujeres","Hombres","Mujeres","Hombres","Mujeres","Hombres","Mujeres","Hombres","Mujeres","Hombres","Mujeres","Hombres","Mujeres","Hombres","Mujeres","Hombres","Mujeres","Hombres","Mujeres","Hombres","Mujeres"]
["CONTROLES SALUD MENTAL","MÉDICO/A",{"$f":"SUM(D13+E13)","v":0},{"$f":"SUM(F13+H13+J13+L13+N13+P13+R13+T13+V13+X13+Z13+AB13+AD13+AF13+AH13+AJ13+AL13)","v":0},{"$f":"SUM(G13+I13+K13+M13+O13+Q13+S13+U13+W13+Y13+AA13+AC13+AE13+AG13+AI13+AK13+AM13)","v":0},null,null,null,null,null,null,null,null,null,null,null,null,null,null,null,null,null,null,null,null,null,null,null,null,null,null,null,null,null,null,null,null,null,null,null,null,null,null,null,null,null,null,{"$f":"CA13&CB13&CC13&CD13&CE13&CF13&CG13&CH13&CI13","v":""},null,null,null,null,null,null,null,null,null,null,null,null,null,null,null,null,null,null,null,null,null,null,null,null,null,null,null,null,null,null,{"$f":"IF(DA13=1,\"* No olvide digitar la columna Beneficiarios y/o Niños, Niñas, Adolescentes y Jóvenes de Programa SENAME/Mejor Niñez y/o Pueblos Originarios y/o Migrantes y/o Demencia y/o Espacios Amigables y/o Trans(Digite CEROS si no tiene). \",\"\")","v":""},{"$f":"IF(DB13=1,\"* El número de Beneficiarios NO DEBE ser mayor que el Total. \",\"\")","v":""},{"$f":"IF(DC13=1,\"* Los Niños, Niñas, Adolescentes y Jóvenes de Programa SENAME NO DEBE ser mayor que el Total. \",\"\")","v":""},{"$f":"IF(DD13=1,\"* Los Niños, Niñas, Adolescentes y Jóvenes de Programa Mejor Niñez NO DEBE ser mayor que el Total. \",\"\")","v":""},{"$f":"IF(DE13=1,\"* El número de personas pertenecientes a Pueblos Originarios NO DEBE ser mayor que el Total. \",\"\")","v":""},{"$f":"IF(DF13=1,\"* El número de personas Migrantes NO DEBE ser mayor que el Total. \",\"\")","v":""},{"$f":"IF(DG13=1,\"* El número de personas con Demencia NO DEBE ser mayor que el Total. \",\"\")","v":""},{"$f":"IF(DH13=1,\"* El campo Espacios Amigables NO DEBE ser mayor que el Total. \",\"\")","v":""},{"$f":"IF(DI13=1,\"* El número de personas Trans NO DEBE ser mayor que el Total. \",\"\")","v":""},null,null,null,null,null,null,null,null,null,null,null,null,null,null,null,null,null,{"$f":"IF(AND(C13<>0,OR(AN13=\"\",AO13=\"\",AP13=\"\",AQ13=\"\",AR13=\"\",AS13=\"\",AT13=\"\",AU13=\"\")),1,0)","v":0},{"$f":"IF($C13<AN13,1,0)","v":0},{"$f":"IF($C13<AO13,1,0)","v":0},{"$f":"IF($C13<AP13,1,0)","v":0},{"$f":"IF($C13<AQ13,1,0)","v":0},{"$f":"IF($C13<AR13,1,0)","v":0},{"$f":"IF($C13<AS13,1,0)","v":0},{"$f":"IF($C13<AT13,1,0)","v":0},{"$f":"IF($C13<AU13,1,0)","v":0}]
[null,"PSICÓLOGO/A",0,{"$f":"SUM(F14+H14+J14+L14+N14+P14+R14+T14+V14+X14+Z14+AB14+AD14+AF14+AH14+AJ14+AL14)","v":0},{"$f":"SUM(G14+I14+K14+M14+O14+Q14+S14+U14+W14+Y14+AA14+AC14+AE14+AG14+AI14+AK14+AM14)","v":0},null,null,null,null,null,null,null,null,null,null,null,null,null,null,null,null,null,null,null,null,null,null,null,null,null,null,null,null,null,null,null,null,null,null,null,null,null,null,null,null,null,null,{"$f":"CA14&CB14&CC14&CD14&CE14&CF14&CG14&CH14&CI14","v":""},null,null,null,null,null,null,null,null,null,null,null,null,null,null,null,null,null,null,null,null,null,null,null,null,null,null,null,null,null,null,{"$f":"IF(DA14=1,\"* No olvide digitar la columna Beneficiarios y/o Niños, Niñas, Adolescentes y Jóvenes de Programa SENAME/Mejor Niñez y/o Pueblos Originarios y/o Migrantes y/o Demencia y/o Espacios Amigables y/o Trans(Digite CEROS si no tiene). \",\"\")","v":""},"","",{"$f":"IF(DD14=1,\"* Los Niños, Niñas, Adolescentes y Jóvenes de Programa Mejor Niñez NO DEBE ser mayor que el Total. \",\"\")","v":""},{"$f":"IF(DE14=1,\"* El total de personas pertenecientes a Pueblos Originarios NO DEBE ser mayor que el Total. \",\"\")","v":""},"",{"$f":"IF(DG14=1,\"* El número de personas con Demencia NO DEBE ser mayor que el Total. \",\"\")","v":""},{"$f":"IF(DH14=1,\"* El campo Espacios Amigables NO DEBE ser mayor que el Total. \",\"\")","v":""},{"$f":"IF(DI14=1,\"* El número de personas Trans NO DEBE ser mayor que el Total. \",\"\")","v":""},null,null,null,null,null,null,null,null,null,null,null,null,null,null,null,null,null,{"$f":"IF(AND(C14<>0,OR(AN14=\"\",AO14=\"\",AP14=\"\",AQ14=\"\",AR14=\"\",AS14=\"\",AT14=\"\",AU14=\"\")),1,0)","v":0},0,0,0,0,0,0,{"$f":"IF($C14<AT14,1,0)","v":0},{"$f":"IF($C14<AU14,1,0)","v":0}]
[null,"ENFERMERA/O",0,0,0,null,null,null,null,null,null,null,null,null,null,null,null,null,null,null,null,null,null,null,null,null,null,null,null,null,null,null,null,null,null,null,null,null,null,null,null,null,null,null,null,null,null,"",null,null,null,null,null,null,null,null,null,null,null,null,null,null,null,null,null,null,null,null,null,null,null,null,null,null,null,null,null,null,"","","","","","","","","",null,null,null,null,null,null,null,null,null,null,null,null,null,null,null,null,null,0,0,0,0,0,0,0,0,0]
[null,"MATRONA/ÓN",0,0,0,null,null,null,null,null,null,null,null,null,null,null,null,null,null,null,null,null,null,null,null,null,null,null,null,null,null,null,null,null,null,null,null,null,null,null,null,null,null,null,null,null,null,"",null,null,null,null,null,null,null,null,null,null,null,null,null,null,null,null,null,null,null,null,null,null,null,null,null,null,null,null,null,null,"","","","","","","","","",null,null,null,null,null,null,null,null,null,null,null,null,null,null,null,null,null,0,0,0,0,0,0,0,0,0]
[null,"TRABAJADOR/A SOCIAL",0,0,0,null,null,null,null,null,null,null,null,null,null,null,null,null,null,null,null,null,null,null,null,null,null,null,null,null,null,null,null,null,null,null,null,null,null,null,null,null,null,null,null,null,null,"",null,null,null,null,null,null,null,null,null,null,null,null,null,null,null,null,null,null,null,null,null,null,null,null,null,null,null,null,null,null,"","","","","","","","","",null,null,null,null,null,null,null,null,null,null,null,null,null,null,null,null,null,0,0,0,0,0,0,0,0,0]
[null,"OTROS PROFESIONALES CAPACITADOS (SALUD MENTAL)",0,0,0,null,null,null,null,null,null,null,null,null,null,null,null,null,null,null,null,null,null,null,null,null,null,null,null,null,null,null,null,null,null,null,null,null,null,null,null,null,null,null,null,null,null,"",null,null,null,null,null,null,null,null,null,null,null,null,null,null,null,null,null,null,null,null,null,null,null,null,null,null,null,null,null,null,"","","","","","","","","",null,null,null,null,null,null,null,null,null,null,null,null,null,null,null,null,null,0,0,0,0,0,0,0,0,0]
[null,"TERAPEUTA OCUPACIONAL",0,0,0,null,null,null,null,null,null,null,null,null,null,null,null,null,null,null,null,null,null,null,null,null,null,null,null,null,null,null,null,null,null,null,null,null,null,null,null,null,null,null,null,null,null,"",null,null,null,null,null,null,null,null,null,null,null,null,null,null,null,null,null,null,null,null,null,null,null,null,null,null,null,null,null,null,"","","","","","","","","",null,null,null,null,null,null,null,null,null,null,null,null,null,null,null,null,null,0,0,0,0,0,0,0,0,0]
[null,"TÉCNICO EN ENFERMERÍA Y EN SALUD MENTAL",0,0,0,null,null,null,null,null,null,null,null,null,null,null,null,null,null,null,null,null,null,null,null,null,null,null,null,null,null,null,null,null,null,null,null,null,null,null,null,null,null,null,null,null,null,"",null,null,null,null,null,null,null,null,null,null,null,null,null,null,null,null,null,null,null,null,null,null,null,null,null,null,null,null,null,null,"","","","","","","","","",null,null,null,null,null,null,null,null,null,null,null,null,null,null,null,null,null,0,0,0,0,0,0,0,0,0]
[null,"GESTOR COMUNITARIO",0,0,0,null,null,null,null,null,null,null,null,null,null,null,null,null,null,null,null,null,null,null,null,null,null,null,null,null,null,null,null,null,null,null,null,null,null,null,null,null,null,null,null,null,null,"",null,null,null,null,null,null,null,null,null,null,null,null,null,null,null,null,null,null,null,null,null,null,null,null,null,null,null,null,null,null,"","","","","","","","","",null,null,null,null,null,null,null,null,null,null,null,null,null,null,null,null,null,0,0,0,0,0,0,0,0,0]
[null,"TÉCNICO REHABILITACIÓN ALCOHOL Y DROGAS",0,0,0,null,null,null,null,null,null,null,null,null,null,null,null,null,null,null,null,null,null,null,null,null,null,null,null,null,null,null,null,null,null,null,null,null,null,null,null,null,null,null,null,null,null,"",null,null,null,null,null,null,null,null,null,null,null,null,null,null,null,null,null,null,null,null,null,null,null,null,null,null,null,null,null,null,"","","","","","","","","",null,null,null,null,null,null,null,null,null,null,null,null,null,null,null,null,null,0,0,0,0,0,0,0,0,0]
[null,"TOTAL",0,0,0,{"$f":"SUM(F13:F22)","v":0},{"$f":"SUM(G13:G22)","v":0},0,0,0,0,0,0,0,0,0,0,0,0,0,0,0,0,0,0,0,0,0,0,0,0,0,0,0,0,0,0,0,0,0,0,{"$f":"SUM(AP13:AP22)","v":0},0,0,0,{"$f":"SUM(AT13:AT22)","v":0},{"$f":"SUM(AU13:AU22)","v":0},null,null,null,null,null,null,null,null,null,null,null,null,null,null,null,null,null,null,null,null,null,null,null,null,null,null,null,null,null,null,null,""]
["INTERVENCIÓN PSICOSOCIAL GRUPAL (PERSONAS)",null,0,0,0,null,null,null,null,null,null,null,null,null,null,null,null,null,null,null,null,null,null,null,null,null,null,null,null,null,null,null,null,null,null,null,null,null,null,null,null,null,null,null,null,null,null,"",null,null,null,null,null,null,null,null,null,null,null,null,null,null,null,null,null,null,null,null,null,null,null,null,null,null,null,null,null,null,"",{"$f":"IF(DB24=1,\"* El número de Beneficiarios NO DEBE ser mayor que el Total. \",\"\")","v":""},{"$f":"IF(DC24=1,\"* Los Niños, Niñas, Adolescentes y Jóvenes de Programa SENAME NO DEBE ser mayor que el Total. \",\"\")","v":""},"",{"$f":"IF(DE24=1,\"* El total de personas pertenecientes a Pueblos Originarios NO DEBE ser mayor que el Total. \",\"\")","v":""},{"$f":"IF(DF24=1,\"* El número de personas Migrantes NO DEBE ser mayor que el Total. \",\"\")","v":""},"","","",null,null,null,null,null,null,null,null,null,null,null,null,null,null,null,null,null,0,{"$f":"IF($C24<AN24,1,0)","v":0},0,0,0,0,0,0,0]
["PSICODIAGNOSTICO","PSICÓLOGO/A",0,0,0,null,null,null,null,null,null,null,null,null,null,null,null,null,null,null,null,null,null,null,null,null,null,null,null,null,null,null,null,null,null,null,null,null,null,null,null,null,null,null,null,null,null,"",null,null,null,null,null,null,null,null,null,null,null,null,null,null,null,null,null,null,null,null,null,null,null,null,null,null,null,null,null,null,"",{"$f":"IF(DB25=1,\"* El número de Beneficiarios NO DEBE ser mayor que el Total. \",\"\")","v":""},{"$f":"IF(DC25=1,\"* Los Niños, Niñas, Adolescentes y Jóvenes de Programa SENAME NO DEBE ser mayor que el Total. \",\"\")","v":""},"",{"$f":"IF(DE25=1,\"* El total de personas pertenecientes a Pueblos Originarios NO DEBE ser mayor que el Total. \",\"\")","v":""},{"$f":"IF(DF25=1,\"* El número de personas Migrantes NO DEBE ser mayor que el Total. \",\"\")","v":""},"","","",null,null,null,null,null,null,null,null,null,null,null,null,null,null,null,null,null,0,0,0,0,0,0,0,0,0]
["PSICOTERAPIA INDIVIDUAL","PSICÓLOGO/A",0,0,0,null,null,null,null,null,null,null,null,null,null,null,null,null,null,null,null,null,null,null,null,null,null,null,null,null,null,null,null,null,null,null,null,null,null,null,null,null,null,null,null,null,null,"",null,null,null,null,null,null,null,null,null,null,null,null,null,null,null,null,null,null,null,null,null,null,null,null,null,null,null,null,null,null,"",{"$f":"IF(DB26=1,\"* El número de Beneficiarios NO DEBE ser mayor que el Total. \",\"\")","v":""},{"$f":"IF(DC26=1,\"* Los Niños, Niñas, Adolescentes y Jóvenes de Programa SENAME NO DEBE ser mayor que el Total. \",\"\")","v":""},"",{"$f":"IF(DE26=1,\"* El total de personas pertenecientes a Pueblos Originarios NO DEBE ser mayor que el Total. \",\"\")","v":""},{"$f":"IF(DF26=1,\"* El número de personas Migrantes NO DEBE ser mayor que el Total. \",\"\")","v":""},"","","",null,null,null,null,null,null,null,null,null,null,null,null,null,null,null,null,null,0,0,0,0,0,0,0,0,0]
[null,"MÉDICO/A PSIQUIATRA",0,0,0,null,null,null,null,null,null,null,null,null,null,null,null,null,null,null,null,null,null,null,null,null,null,null,null,null,null,null,null,null,null,null,null,null,null,null,null,null,null,null,null,null,null,"",null,null,null,null,null,null,null,null,null,null,null,null,null,null,null,null,null,null,null,null,null,null,null,null,null,null,null,null,null,null,"",{"$f":"IF(DB27=1,\"* El número de Beneficiarios NO DEBE ser mayor que el Total. \",\"\")","v":""},{"$f":"IF(DC27=1,\"* Los Niños, Niñas, Adolescentes y Jóvenes de Programa SENAME NO DEBE ser mayor que el Total. \",\"\")","v":""},"",{"$f":"IF(DE27=1,\"* El total de personas pertenecientes a Pueblos Originarios NO DEBE ser mayor que el Total. \",\"\")","v":""},{"$f":"IF(DF27=1,\"* El número de personas Migrantes NO DEBE ser mayor que el Total. \",\"\")","v":""},"","","",null,null,null,null,null,null,null,null,null,null,null,null,null,null,null,null,null,0,0,0,0,0,0,0,0,0]
["SECCIÓN A.2: CONSULTORÍAS DE SALUD MENTAL EN APS"]
["ACTIVIDAD","TOTAL CONSULTORÍAS Y TELECONSULTORÍAS RECIBIDAS","CONSULTORÍAS Y TELECONSULTORÍAS RECIBIDAS",null,"TOTAL Nº DE CASOS REVISADOS",null,null,"0 - 4 años",null,"5 - 9 años",null,"10 - 14 años",null,"15 - 19 años",null,"20 - 24 años",null,"25 - 29 años",null,"30 - 34 años",null,"35 - 39 años",null,"40 - 44 años",null,"45 - 49 años",null,"50 - 54 años",null,"55 - 59 años",null,"60 - 64 años",null,"65 - 69 años",null,"70 - 74 años",null,"75 - 79 años",null,"80 y mas años",null,"Pueblos Originarios","Migrantes","Niños, Niñas, Adolescentes y Jóvenes SENAME","Niños, Niñas, Adolescentes y Jóvenes Mejor Niñez"]
[null,null,"CONSULTORÍAS Y TELECONSULTORÍAS DE SALUD MENTAL INFANTO ADOLESCENTE","CONSULTORÍAS Y TELECONSULTORÍAS DE SALUD MENTAL ADULTO","Ambos Sexos","Hombres","Mujeres","Hombres","Mujeres","Hombres","Mujeres","Hombres","Mujeres","Hombres","Mujeres","Hombres","Mujeres","Hombres","Mujeres","Hombres","Mujeres","Hombres","Mujeres","Hombres","Mujeres","Hombres","Mujeres","Hombres","Mujeres","Hombres","Mujeres","Hombres","Mujeres","Hombres","Mujeres","Hombres","Mujeres","Hombres","Mujeres","Hombres","Mujeres"]
["CONSULTORÍAS DE SALUD MENTAL",{"$f":"SUM(C31:D31)","v":0},null,null,{"$f":"SUM(F31+G31)","v":0},{"$f":"SUM(H31+J31+L31+N31+P31+R31+T31+V31+X31+Z31+AB31+AD31+AF31+AH31+AJ31+AL31+AN31)","v":0},{"$f":"SUM(I31+K31+M31+O31+Q31+S31+U31+W31+Y31+AA31+AC31+AE31+AG31+AI31+AK31+AM31+AO31)","v":0},null,null,null,null,null,null,null,null,null,null,null,null,null,null,null,null,null,null,null,null,null,null,null,null,null,null,null,null,null,null,null,null,null,null,null,null,null,null,{"$f":"CA31&CB31&CC31&CD31&CE31&CF31&CG31","v":""},null,null,null,null,null,null,null,null,null,null,null,null,null,null,null,null,null,null,null,null,null,null,null,null,null,null,null,null,null,null,null,null,{"$f":"IF(DA31=1,\"* No olvide digitar la columna Pueblos Originarios y/o Migrantes y/o Niños, Niñas, Adolescentes y Jóvenes SENAME/Mejor Niñez (Digite CEROS si no tiene). \",\"\")","v":""},{"$f":"IF(DB31=1,\"* El número de Personas Pertenecientes a pueblos originarios NO DEBE ser mayor que el Total. \",\"\")","v":""},{"$f":"IF(DC31=1,\"* El número de Personas Migrantes NO DEBE ser mayor que el Total. \",\"\")","v":""},{"$f":"IF(DD31=1,\"* Los Niños, Niñas, Adolescentes y Jóvenes de Programa SENAME NO DEBE ser mayor que el Total. \",\"\")","v":""},{"$f":"IF(DE31=1,\"* Los Niños, Niñas, Adolescentes y Jóvenes de Programa Mejor Niñez NO DEBE ser mayor que el Total. \",\"\")","v":""},null,null,null,null,null,null,null,null,null,null,null,null,null,null,null,null,null,null,null,null,null,{"$f":"IF(AND(B31<>0,OR(AP31=\"\",AQ31=\"\",AR31=\"\",AS31=\"\")),1,0)","v":0},{"$f":"IF($B31<AP31,1,0)","v":0},{"$f":"IF($B31<AQ31,1,0)","v":0},0,0]
["TELECONSULTORÍAS DE SALUD MENTAL",{"$f":"SUM(C32:D32)","v":0},null,null,{"$f":"SUM(F32+G32)","v":0},{"$f":"SUM(H32+J32+L32+N32+P32+R32+T32+V32+X32+Z32+AB32+AD32+AF32+AH32+AJ32+AL32+AN32)","v":0},{"$f":"SUM(I32+K32+M32+O32+Q32+S32+U32+W32+Y32+AA32+AC32+AE32+AG32+AI32+AK32+AM32+AO32)","v":0},null,null,null,null,null,null,null,null,null,null,null,null,null,null,null,null,null,null,null,null,null,null,null,null,null,null,null,null,null,null,null,null,null,null,null,null,null,null,{"$f":"CA32&CB32&CC32&CD32&CE32&CF32&CG32","v":""},null,null,null,null,null,null,null,null,null,null,null,null,null,null,null,null,null,null,null,null,null,null,null,null,null,null,null,null,null,null,null,null,{"$f":"IF(DA32=1,\"* No olvide digitar la columna Pueblos Originarios y/o Migrantes y/o Niños, Niñas, Adolescentes y Jóvenes SENAME/Mejor Niñez (Digite CEROS si no tiene). \",\"\")","v":""},{"$f":"IF(DB32=1,\"* El número de Personas Pertenecientes a pueblos originarios NO DEBE ser mayor que el Total. \",\"\")","v":""},{"$f":"IF(DC32=1,\"* El número de Personas Migrantes NO DEBE ser mayor que el Total. \",\"\")","v":""},{"$f":"IF(DD32=1,\"* Los Niños, Niñas, Adolescentes y Jóvenes de Programa SENAME NO DEBE ser mayor que el Total. \",\"\")","v":""},{"$f":"IF(DE32=1,\"* Los Niños, Niñas, Adolescentes y Jóvenes de Programa Mejor Niñez NO DEBE ser mayor que el Total. \",\"\")","v":""},null,null,null,null,null,null,null,null,null,null,null,null,null,null,null,null,null,null,null,null,null,{"$f":"IF(AND(B32<>0,OR(AP32=\"\",AQ32=\"\",AR32=\"\",AS32=\"\")),1,0)","v":0},{"$f":"IF($B32<AP32,1,0)","v":0},0,0,0]
["TOTAL",{"$f":"SUM(B31:B32)","v":0},0,0,0,0,0,0,{"$f":"SUM(I31:I32)","v":0},0,0,0,0,0,0,0,0,0,0,0,0,0,0,0,0,0,0,0,0,0,0,0,0,0,0,0,0,0,0,0,0,{"$f":"SUM(AP31:AP32)","v":0},{"$f":"SUM(AQ31:AQ32)","v":0},{"$f":"SUM(AR31:AR32)","v":0},{"$f":"SUM(AS31:AS32)","v":0}]
["SECCIÓN A.3: CONSULTORÍAS DE SALUD MENTAL OTORGADA POR EL NIVEL DE ESPECIALIDAD"]
["ACTIVIDAD","TOTAL CONSULTORÍAS Y TELECONSULTORÍAS OTORGADAS","CONSULTORÍAS Y TELECONSULTORÍAS OTORGADAS",null,"TOTAL Nº DE CASOS REVISADOS",null,null,"Participantes"]
[null,null,"CONSULTORÍAS Y TELECONSULTORÍAS DE SALUD MENTAL INFANTO ADOLESCENTE","CONSULTORÍAS Y TELECONSULTORÍAS DE SALUD MENTAL ADULTO","Ambos Sexos","Hombres","Mujeres","Médico psiquiatra","Médico Psiquiatría más un profesional","Médico Psiquiatría más dos Profesionales","Médico Psiquiatría con más de dos Profesionales","Dos profesionales","Más de dos profesionales"]
["CONSULTORÍAS DE SALUD MENTAL",{"$f":"SUM(C37:D37)","v":0},null,null,{"$f":"SUM(F37:G37)","v":0}]
["TELECONSULTORÍAS DE SALUD MENTAL",{"$f":"SUM(C38:D38)","v":0},null,null,{"$f":"SUM(F38:G38)","v":0}]
["TOTAL",{"$f":"SUM(B37:B38)","v":0},0,0,0,0,0,0,0,0,0,0,0]
["SECCIÓN B.1: ACTIVIDADES GRUPALES (NÚMERO DE SESIONES)"]
["ACTIVIDAD","PROFESIONAL","TOTAL               "]
[]
["PSICOTERAPIA  GRUPAL","MÉDICO/A PSIQUIATRA"]
[null,"PSICÓLOGO/A"]
["PSICOTERAPIA FAMILIAR","MÉDICO/A PSIQUIATRA"]
[null,"PSICÓLOGO/A"]
["SECCIÓN B.2:  PROGRAMA DE REHABILITACIÓN (PERSONAS CON TRASTORNOS PSIQUIÁTRICOS)"]
["TIPO",null,"TOTAL               ",null,null,"GRUPOS DE EDAD (en años)",null,null,null,null,null,null,null,null,null,null,null,null,null,null,null,null,null,null,null,null,null,null,null,null,null,null,null,null,null,null,null,null,null,"Beneficiarios","Pueblos Originarios","Migrantes"]
[null,null,null,null,null,"0 - 4 años",null,"5 - 9 años",null,"10 - 14 años",null,"15 - 19 años",null,"20 - 24 años",null,"25 - 29 años",null,"30 - 34 años",null,"35 - 39 años",null,"40 - 44 años",null,"45 - 49 años",null,"50 - 54 años",null,"55 - 59 años",null,"60 - 64 años",null,"65 - 69 años",null,"70 - 74 años",null,"75 - 79 años",null,"80 y mas años"]
[null,null,"Ambos Sexos","Hombres","Mujeres","Hombres","Mujeres","Hombres","Mujeres","Hombres","Mujeres","Hombres","Mujeres","Hombres","Mujeres","Hombres","Mujeres","Hombres","Mujeres","Hombres","Mujeres","Hombres","Mujeres","Hombres","Mujeres","Hombres","Mujeres","Hombres","Mujeres","Hombres","Mujeres","Hombres","Mujeres","Hombres","Mujeres","Hombres","Mujeres","Hombres","Mujeres"]
["PROGRAMA DE REHABILITACIÓN TIPO I","DÍAS PERSONA",{"$f":"SUM(D51+E51)","v":0},{"$f":"SUM(L51+N51+P51+R51+T51+V51+X51+Z51+AB51+AD51+AF51+AH51+AJ51+AL51)","v":0},{"$f":"SUM(M51+O51+Q51+S51+U51+W51+Y51+AA51+AC51+AE51+AG51+AI51+AK51+AM51)","v":0},null,null,null,null,null,null,null,null,null,null,null,null,null,null,null,null,null,null,null,null,null,null,null,null,null,null,null,null,null,null,null,null,null,null,null,null,null,{"$f":"CA51&CB51&CC51&CD51","v":""},null,null,null,null,null,null,null,null,null,null,null,null,null,null,null,null,null,null,null,null,null,null,null,null,null,null,null,null,null,null,null,null,null,null,null,{"$f":"IF(DA51=1,\"* No olvide digitar la columna Beneficiarios y/o Pueblos Originarios y/o Migrantes. \",\"\")","v":""},{"$f":"IF(DB51=1,\"* El número de Beneficiarios NO DEBE ser mayor que el total. \",\"\")","v":""},{"$f":"IF(DC51=1,\"* El número de Personas pertenecientes a Pueblos Originarios NO DEBE ser mayor que el total. \",\"\")","v":""},{"$f":"IF(DD51=1,\"* El número de Personas Migrantes NO DEBE ser mayor que el total. \",\"\")","v":""},null,null,null,null,null,null,null,null,null,null,null,null,null,null,null,null,null,null,null,null,null,null,{"$f":"IF(AND(C51<>0,OR(AP51=\"\",AN51=\"\",AO51=\"\")),1,0)","v":0},{"$f":"IF($C51<AN51,1,0)","v":0},0,0]
["PROGRAMA DE REHABILITACIÓN TIPO II","DÍAS PERSONA",{"$f":"SUM(D52+E52)","v":0},{"$f":"SUM(L52+N52+P52+R52+T52+V52+X52+Z52+AB52+AD52+AF52+AH52+AJ52+AL52)","v":0},{"$f":"SUM(M52+O52+Q52+S52+U52+W52+Y52+AA52+AC52+AE52+AG52+AI52+AK52+AM52)","v":0},null,null,null,null,null,null,null,null,null,null,null,null,null,null,null,null,null,null,null,null,null,null,null,null,null,null,null,null,null,null,null,null,null,null,null,null,null,{"$f":"CA52&CB52&CC52&CD52","v":""},null,null,null,null,null,null,null,null,null,null,null,null,null,null,null,null,null,null,null,null,null,null,null,null,null,null,null,null,null,null,null,null,null,null,null,{"$f":"IF(DA52=1,\"* No olvide digitar la columna Beneficiarios y/o Pueblos Originarios y/o Migrantes. \",\"\")","v":""},{"$f":"IF(DB52=1,\"* El número de Beneficiarios NO DEBE ser mayor que el total. \",\"\")","v":""},{"$f":"IF(DC52=1,\"* El número de Personas pertenecientes a Pueblos Originarios NO DEBE ser mayor que el total. \",\"\")","v":""},{"$f":"IF(DD52=1,\"* El número de Personas Migrantes NO DEBE ser mayor que el total. \",\"\")","v":""},null,null,null,null,null,null,null,null,null,null,null,null,null,null,null,null,null,null,null,null,null,null,{"$f":"IF(AND(C52<>0,OR(AP52=\"\",AN52=\"\",AO52=\"\")),1,0)","v":0},0,0,0]
["SECCIÓN B.3: ACTIVIDADES DE PSIQUIATRÍA FORENSE PARA PERSONAS EN CONFLICTO CON LA JUSTICIA (En lo Penal, Civil, Familiar, etc.)"]
["ACTIVIDAD",null,"TOTAL               ",null,null,"GRUPOS DE EDAD (en años)",null,null,null,null,null,null,null,null,null,null,null,null,null,null,null,null,null,null,null,null,null,null,null,null,null,null,null,null,null,null,null,null,null,"Pueblos Originarios","Migrantes"]
[null,null,null,null,null,"0 - 4 años",null,"5 - 9 años",null,"10 - 14 años",null,"15 - 19 años",null,"20 - 24 años",null,"25 - 29 años",null,"30 - 34 años",null,"35 - 39 años",null,"40 - 44 años",null,"45 - 49 años",null,"50 - 54 años",null,"55 - 59 años",null,"60 - 64 años",null,"65 - 69 años",null,"70 - 74 años",null,"75 - 79 años",null,"80 y mas años"]
[null,null,"Ambos Sexos","Hombres","Mujeres","Hombres","Mujeres","Hombres","Mujeres","Hombres","Mujeres","Hombres","Mujeres","Hombres","Mujeres","Hombres","Mujeres","Hombres","Mujeres","Hombres","Mujeres","Hombres","Mujeres","Hombres","Mujeres","Hombres","Mujeres","Hombres","Mujeres","Hombres","Mujeres","Hombres","Mujeres","Hombres","Mujeres","Hombres","Mujeres","Hombres","Mujeres"]
["PERITAJE PSIQUIÁTRICO JUDICIAL","MÉDICO/A",{"$f":"SUM(D57+E57)","v":0},{"$f":"SUM(H57+J57+L57+N57+P57+R57+T57+V57+X57+Z57+AB57+AD57+AF57+AH57+AJ57+AL57)","v":0},0,null,null,null,null,null,null,null,null,null,null,null,null,null,null,null,null,null,null,null,null,null,null,null,null,null,null,null,null,null,null,null,null,null,null,null,null,{"$f":"CA57&CB57&CC57&CD57","v":""},null,null,null,null,null,null,null,null,null,null,null,null,null,null,null,null,null,null,null,null,null,null,null,null,null,null,null,null,null,null,null,null,null,null,null,null,{"$f":"IF(DA57=1,\"* No olvide digitar la columna Pueblos Originarios y/o Migrantes. \",\"\")","v":""},{"$f":"IF(DB57=1,\"* El número de Personas pertenecientes a Pueblos Originarios NO DEBE ser mayor que el total. \",\"\")","v":""},{"$f":"IF(DC57=1,\"* El número de Personas Migrantes NO DEBE ser mayor que el total. \",\"\")","v":""},null,null,null,null,null,null,null,null,null,null,null,null,null,null,null,null,null,null,null,null,null,null,null,{"$f":"IF(AND(C57<>0,OR(AN57=\"\",AO57=\"\")),1,0)","v":0},{"$f":"IF($C57<AN57,1,0)","v":0},{"$f":"IF($C57<AO57,1,0)","v":0}]
[null,"MÉDICO/A PSIQUIATRA",{"$f":"SUM(D58+E58)","v":0},0,0,null,null,null,null,null,null,null,null,null,null,null,null,null,null,null,null,null,null,null,null,null,null,null,null,null,null,null,null,null,null,null,null,null,null,null,null,"",null,null,null,null,null,null,null,null,null,null,null,null,null,null,null,null,null,null,null,null,null,null,null,null,null,null,null,null,null,null,null,null,null,null,null,null,{"$f":"IF(DA58=1,\"* No olvide digitar la columna Pueblos Originarios y/o Migrantes. \",\"\")","v":""},"","",null,null,null,null,null,null,null,null,null,null,null,null,null,null,null,null,null,null,null,null,null,null,null,{"$f":"IF(AND(C58<>0,OR(AN58=\"\",AO58=\"\")),1,0)","v":0},0,0]
[null,"PSICÓLOGO/A",0,0,0,null,null,null,null,null,null,null,null,null,null,null,null,null,null,null,null,null,null,null,null,null,null,null,null,null,null,null,null,null,null,null,null,null,null,null,null,"",null,null,null,null,null,null,null,null,null,null,null,null,null,null,null,null,null,null,null,null,null,null,null,null,null,null,null,null,null,null,null,null,null,null,null,null,"","","",null,null,null,null,null,null,null,null,null,null,null,null,null,null,null,null,null,null,null,null,null,null,null,0,0,0]
[null,"ENFERMERO/A",0,0,0,null,null,null,null,null,null,null,null,null,null,null,null,null,null,null,null,null,null,null,null,null,null,null,null,null,null,null,null,null,null,null,null,null,null,null,null,"",null,null,null,null,null,null,null,null,null,null,null,null,null,null,null,null,null,null,null,null,null,null,null,null,null,null,null,null,null,null,null,null,null,null,null,null,"","","",null,null,null,null,null,null,null,null,null,null,null,null,null,null,null,null,null,null,null,null,null,null,null,0,0,0]
[null,"TRABAJADOR/A SOCIAL",0,0,0,null,null,null,null,null,null,null,null,null,null,null,null,null,null,null,null,null,null,null,null,null,null,null,null,null,null,null,null,null,null,null,null,null,null,null,null,"",null,null,null,null,null,null,null,null,null,null,null,null,null,null,null,null,null,null,null,null,null,null,null,null,null,null,null,null,null,null,null,null,null,null,null,null,"","","",null,null,null,null,null,null,null,null,null,null,null,null,null,null,null,null,null,null,null,null,null,null,null,0,0,0]
[null,"OTROS PROFESIONALES",0,0,0,null,null,null,null,null,null,null,null,null,null,null,null,null,null,null,null,null,null,null,null,null,null,null,null,null,null,null,null,null,null,null,null,null,null,null,null,"",null,null,null,null,null,null,null,null,null,null,null,null,null,null,null,null,null,null,null,null,null,null,null,null,null,null,null,null,null,null,null,null,null,null,null,null,"","","",null,null,null,null,null,null,null,null,null,null,null,null,null,null,null,null,null,null,null,null,null,null,null,0,0,0]
["EXAMEN PRELIMINAR EN DROGAS PARA ADOLESCENTES IMPUTADOS / CONDENADOS ","PSICÓLOGO/A",0,{"$f":"SUM(J63+L63+N63)","v":0},0,null,null,null,null,null,null,null,null,null,null,null,null,null,null,null,null,null,null,null,null,null,null,null,null,null,null,null,null,null,null,null,null,null,null,null,null,"",null,null,null,null,null,null,null,null,null,null,null,null,null,null,null,null,null,null,null,null,null,null,null,null,null,null,null,null,null,null,null,null,null,null,null,null,"","","",null,null,null,null,null,null,null,null,null,null,null,null,null,null,null,null,null,null,null,null,null,null,null,0,0,0]
[null,"TRABAJADOR/A SOCIAL",0,0,0,null,null,null,null,null,null,null,null,null,null,null,null,null,null,null,null,null,null,null,null,null,null,null,null,null,null,null,null,null,null,null,null,null,null,null,null,"",null,null,null,null,null,null,null,null,null,null,null,null,null,null,null,null,null,null,null,null,null,null,null,null,null,null,null,null,null,null,null,null,null,null,null,null,"","","",null,null,null,null,null,null,null,null,null,null,null,null,null,null,null,null,null,null,null,null,null,null,null,0,0,0]
["EVALUACIÓN CLÍNICA PARA ADOLESCENTES IMPUTADOS CON CONSUMO DE DROGAS","MÉDICO/A",0,0,0,null,null,null,null,null,null,null,null,null,null,null,null,null,null,null,null,null,null,null,null,null,null,null,null,null,null,null,null,null,null,null,null,null,null,null,null,"",null,null,null,null,null,null,null,null,null,null,null,null,null,null,null,null,null,null,null,null,null,null,null,null,null,null,null,null,null,null,null,null,null,null,null,null,"","","",null,null,null,null,null,null,null,null,null,null,null,null,null,null,null,null,null,null,null,null,null,null,null,0,0,0]
[null,"MÉDICO/A PSIQUIATRA",0,0,0,null,null,null,null,null,null,null,null,null,null,null,null,null,null,null,null,null,null,null,null,null,null,null,null,null,null,null,null,null,null,null,null,null,null,null,null,"",null,null,null,null,null,null,null,null,null,null,null,null,null,null,null,null,null,null,null,null,null,null,null,null,null,null,null,null,null,null,null,null,null,null,null,null,"","","",null,null,null,null,null,null,null,null,null,null,null,null,null,null,null,null,null,null,null,null,null,null,null,0,0,0]
[null,"PSICÓLOGO/A",0,0,0,null,null,null,null,null,null,null,null,null,null,null,null,null,null,null,null,null,null,null,null,null,null,null,null,null,null,null,null,null,null,null,null,null,null,null,null,"",null,null,null,null,null,null,null,null,null,null,null,null,null,null,null,null,null,null,null,null,null,null,null,null,null,null,null,null,null,null,null,null,null,null,null,null,"","","",null,null,null,null,null,null,null,null,null,null,null,null,null,null,null,null,null,null,null,null,null,null,null,0,0,0]
[null,"TRABAJADOR/A SOCIAL",0,0,0,null,null,null,null,null,null,null,null,null,null,null,null,null,null,null,null,null,null,null,null,null,null,null,null,null,null,null,null,null,null,null,null,null,null,null,null,"",null,null,null,null,null,null,null,null,null,null,null,null,null,null,null,null,null,null,null,null,null,null,null,null,null,null,null,null,null,null,null,null,null,null,null,null,"","","",null,null,null,null,null,null,null,null,null,null,null,null,null,null,null,null,null,null,null,null,null,null,null,0,0,0]
["EXAMEN MENTAL PRELIMINAR A PERSONAS IMPUTADAS","MÉDICO/A",0,{"$f":"SUM(J69+L69+N69+P69+R69+T69+V69+X69+Z69+AB69+AD69+AF69+AH69+AJ69+AL69)","v":0},{"$f":"SUM(K69+M69+O69+Q69+S69+U69+W69+Y69+AA69+AC69+AE69+AG69+AI69+AK69+AM69)","v":0},null,null,null,null,null,null,null,null,null,null,null,null,null,null,null,null,null,null,null,null,null,null,null,null,null,null,null,null,null,null,null,null,null,null,null,null,"",null,null,null,null,null,null,null,null,null,null,null,null,null,null,null,null,null,null,null,null,null,null,null,null,null,null,null,null,null,null,null,null,null,null,null,null,"","","",null,null,null,null,null,null,null,null,null,null,null,null,null,null,null,null,null,null,null,null,null,null,null,0,0,0]
[null,"MÉDICO/A PSIQUIATRA",0,{"$f":"SUM(J70+L70+N70+P70+R70+T70+V70+X70+Z70+AB70+AD70+AF70+AH70+AJ70+AL70)","v":0},{"$f":"SUM(K70+M70+O70+Q70+S70+U70+W70+Y70+AA70+AC70+AE70+AG70+AI70+AK70+AM70)","v":0},null,null,null,null,null,null,null,null,null,null,null,null,null,null,null,null,null,null,null,null,null,null,null,null,null,null,null,null,null,null,null,null,null,null,null,null,"",null,null,null,null,null,null,null,null,null,null,null,null,null,null,null,null,null,null,null,null,null,null,null,null,null,null,null,null,null,null,null,null,null,null,null,null,"","","",null,null,null,null,null,null,null,null,null,null,null,null,null,null,null,null,null,null,null,null,null,null,null,0,0,0]
["PERITAJE DROGAS","MÉDICO/A",0,0,0,null,null,null,null,null,null,null,null,null,null,null,null,null,null,null,null,null,null,null,null,null,null,null,null,null,null,null,null,null,null,null,null,null,null,null,null,"",null,null,null,null,null,null,null,null,null,null,null,null,null,null,null,null,null,null,null,null,null,null,null,null,null,null,null,null,null,null,null,null,null,null,null,null,"","","",null,null,null,null,null,null,null,null,null,null,null,null,null,null,null,null,null,null,null,null,null,null,null,0,0,0]
[null,"MÉDICO/A PSIQUIATRA",0,0,0,null,null,null,null,null,null,null,null,null,null,null,null,null,null,null,null,null,null,null,null,null,null,null,null,null,null,null,null,null,null,null,null,null,null,null,null,"",null,null,null,null,null,null,null,null,null,null,null,null,null,null,null,null,null,null,null,null,null,null,null,null,null,null,null,null,null,null,null,null,null,null,null,null,"","","",null,null,null,null,null,null,null,null,null,null,null,null,null,null,null,null,null,null,null,null,null,null,null,0,0,0]
["ATENCIÓN A AGRESORES DERIVADOS DE TRIBUNALES (LEY DE VIOLENCIA INTRAFAMILIAR","MÉDICO/A",0,0,0,null,null,null,null,null,null,null,null,null,null,null,null,null,null,null,null,null,null,null,null,null,null,null,null,null,null,null,null,null,null,null,null,null,null,null,null,"",null,null,null,null,null,null,null,null,null,null,null,null,null,null,null,null,null,null,null,null,null,null,null,null,null,null,null,null,null,null,null,null,null,null,null,null,"","","",null,null,null,null,null,null,null,null,null,null,null,null,null,null,null,null,null,null,null,null,null,null,null,0,0,0]
[null,"MÉDICO/A PSIQUIATRA",0,0,0,null,null,null,null,null,null,null,null,null,null,null,null,null,null,null,null,null,null,null,null,null,null,null,null,null,null,null,null,null,null,null,null,null,null,null,null,"",null,null,null,null,null,null,null,null,null,null,null,null,null,null,null,null,null,null,null,null,null,null,null,null,null,null,null,null,null,null,null,null,null,null,null,null,"","","",null,null,null,null,null,null,null,null,null,null,null,null,null,null,null,null,null,null,null,null,null,null,null,0,0,0]
[null,"PSICÓLOGO/A",0,0,0,null,null,null,null,null,null,null,null,null,null,null,null,null,null,null,null,null,null,null,null,null,null,null,null,null,null,null,null,null,null,null,null,null,null,null,null,"",null,null,null,null,null,null,null,null,null,null,null,null,null,null,null,null,null,null,null,null,null,null,null,null,null,null,null,null,null,null,null,null,null,null,null,null,"","","",null,null,null,null,null,null,null,null,null,null,null,null,null,null,null,null,null,null,null,null,null,null,null,0,0,0]
[null,"ENFERMERO/A",0,0,0,null,null,null,null,null,null,null,null,null,null,null,null,null,null,null,null,null,null,null,null,null,null,null,null,null,null,null,null,null,null,null,null,null,null,null,null,"",null,null,null,null,null,null,null,null,null,null,null,null,null,null,null,null,null,null,null,null,null,null,null,null,null,null,null,null,null,null,null,null,null,null,null,null,"","","",null,null,null,null,null,null,null,null,null,null,null,null,null,null,null,null,null,null,null,null,null,null,null,0,0,0]
[null,"TRABAJADOR/A SOCIAL",0,0,0,null,null,null,null,null,null,null,null,null,null,null,null,null,null,null,null,null,null,null,null,null,null,null,null,null,null,null,null,null,null,null,null,null,null,null,null,"",null,null,null,null,null,null,null,null,null,null,null,null,null,null,null,null,null,null,null,null,null,null,null,null,null,null,null,null,null,null,null,null,null,null,null,null,"","","",null,null,null,null,null,null,null,null,null,null,null,null,null,null,null,null,null,null,null,null,null,null,null,0,0,0]
[null,"OTROS PROFESIONALES",0,0,0,null,null,null,null,null,null,null,null,null,null,null,null,null,null,null,null,null,null,null,null,null,null,null,null,null,null,null,null,null,null,null,null,null,null,null,null,"",null,null,null,null,null,null,null,null,null,null,null,null,null,null,null,null,null,null,null,null,null,null,null,null,null,null,null,null,null,null,null,null,null,null,null,null,"","","",null,null,null,null,null,null,null,null,null,null,null,null,null,null,null,null,null,null,null,null,null,null,null,0,0,0]
["SECCIÓN B.4: DISPOSITIVOS DE SALUD MENTAL"]
["TIPO DE DISPOSITIVO","Nº DE PERSONAS ATENDIDAS",null,"DÍAS DE ESTADA DE PERSONAS ATENDIDAS EN EL MES",null,"Nº DE EGRESOS",null,"Nº DE PERSONAS EN LISTA DE ESPERA"]
[null,"Menos de 20 años","20 y más años","Menos de 20 años","20 y más años","Menos de 20 años","20 y más años","Menos de 20 años","20 y más años"]
["HOGAR PROTEGIDO  "]
["RESIDENCIA PROTEGIDA"]
["HOSPITAL PSIQUIÁTRICO DIURNO"]
["CENTRO PRIVATIVO DE LIBERTAD (SENAME)"]
["SECCIÓN C.1: ACTIVIDADES DE COORDINACION SECTORIAL, INTERSECTORIAL Y COMUNITARIA"]
["ACTIVIDADES","TOTAL DE PARTICIPANTES","Nº REUNIONES / SESIONES","Nº INSTITUCIONES,  ORGANIZACIONES  PARTICIPANTES"]
[]
["TRABAJO INTERSECTORIAL"]
["TRABAJO CON ORGANIZACIONES COMUNITARIAS DE BASE"]
["TRABAJO CON ORGANIZACIONES DE USUARIOS Y FAMILIARES"]
["COLABORACIÓN CON GRUPO DE AUTOAYUDA"]
["REUNIONES CON INSTITUCIONES DEL SECTOR SALUD PROGRAMA ACOMPAÑAMIENTO PSICOSOCIAL"]
["REUNIONES CON INSTITUCIONES DEL INTERSECTOR ACOMPAÑAMIENTO PSICOSOCIAL"]
["REUNIONES CON ORGANIZACIONES COMUNITARIAS ACOMPAÑAMIENTO PSICOSOCIAL"]
["SECCIÓN C.2: INFORMES A TRIBUNALES"]
["TRIBUNALES","Menor de 18 años","18 y más años","Nº INFORMES","ASISTENCIA A TRIBUNALES"]
[null,null,null,null,"Nº de profesionales","Nº de veces"]
["DE FAMILIA"]
["PENALES"]
["CIVILES"]
["POLICÍA LOCAL"]
["LABORALES"]
["TOTAL",{"$f":"SUM(B99:B103)","v":0},{"$f":"SUM(C99:C103)","v":0},{"$f":"SUM(D99:D103)","v":0},{"$f":"SUM(E99:E103)","v":0},{"$f":"SUM(F99:F103)","v":0}]
["SECCIÓN D: PLANES Y EVALUACIONES PROGRAMA DE ACOMPAÑAMIENTO PSICOSOCIAL EN ATENCIÓN PRIMARIA"]
["ACTIVIDAD","TOTAL               ",null,null,"GRUPOS DE EDAD  (en años)",null,null,null,null,null,null,null,null,null,"Pueblos Originarios","Migrantes"]
[null,null,null,null,"0 - 4 años",null,"5 - 9 años",null,"10 - 14 años",null,"15 - 19 años",null,"20 - 24 años"]
[null,"Ambos Sexos","Hombres","Mujeres","Hombres","Mujeres","Hombres","Mujeres","Hombres","Mujeres","Hombres","Mujeres","Hombres","Mujeres"]
["PLAN DE ACOMPAÑAMIENTO ELABORADOS",{"$f":"SUM(C109:D109)","v":0},{"$f":"SUM(E109+G109+I109+K109+M109)","v":0},0,null,null,null,null,null,null,null,null,null,null,null,null,{"$f":"CA109&CB109&CC109&CD109","v":""},null,null,null,null,null,null,null,null,null,null,null,null,null,null,null,null,null,null,null,null,null,null,null,null,null,null,null,null,null,null,null,null,null,null,null,null,null,null,null,null,null,null,null,null,null,null,null,null,null,null,null,null,null,null,null,null,null,null,null,null,null,{"$f":"IF(DA109=1,\"* No olvide digitar la columna Pueblos Originarios y/o Migrantes. \",\"\")","v":""},{"$f":"IF(DB109=1,\"* El número de Personas pertenecientes a Pueblos Originarios NO DEBE ser mayor que el total. \",\"\")","v":""},{"$f":"IF(DC109=1,\"* El número de Personas Migrantes NO DEBE ser mayor que el total. \",\"\")","v":""},null,null,null,null,null,null,null,null,null,null,null,null,null,null,null,null,null,null,null,null,null,null,null,{"$f":"IF(AND(B109<>0,OR(O109=\"\",P109=\"\")),1,0)","v":0},{"$f":"IF($B109<O109,1,0)","v":0},0]
["PLAN DE ACOMPAÑAMIENTO CON MEJORÍA AL EGRESO DEL PROGRAMA",{"$f":"SUM(C110:D110)","v":0},0,0,null,null,null,null,null,null,null,null,null,null,null,null,{"$f":"CA110&CB110&CC110&CD110","v":""},null,null,null,null,null,null,null,null,null,null,null,null,null,null,null,null,null,null,null,null,null,null,null,null,null,null,null,null,null,null,null,null,null,null,null,null,null,null,null,null,null,null,null,null,null,null,null,null,null,null,null,null,null,null,null,null,null,null,null,null,null,{"$f":"IF(DA110=1,\"* No olvide digitar la columna Pueblos Originarios y/o Migrantes. \",\"\")","v":""},{"$f":"IF(DB110=1,\"* El número de Personas pertenecientes a Pueblos Originarios NO DEBE ser mayor que el total. \",\"\")","v":""},{"$f":"IF(DC110=1,\"* El número de Personas Migrantes NO DEBE ser mayor que el total. \",\"\")","v":""},null,null,null,null,null,null,null,null,null,null,null,null,null,null,null,null,null,null,null,null,null,null,null,{"$f":"IF(AND(B110<>0,OR(O110=\"\",P110=\"\")),1,0)","v":0},0,0]
["EVALUACIONES PARTICIPATIVAS REALIZADAS AL EGRESO DEL PROGRAMA",{"$f":"SUM(C111:D111)","v":0},0,0,null,null,null,null,null,null,null,null,null,null,null,null,{"$f":"CA111&CB111&CC111&CD111","v":""},null,null,null,null,null,null,null,null,null,null,null,null,null,null,null,null,null,null,null,null,null,null,null,null,null,null,null,null,null,null,null,null,null,null,null,null,null,null,null,null,null,null,null,null,null,null,null,null,null,null,null,null,null,null,null,null,null,null,null,null,null,{"$f":"IF(DA111=1,\"* No olvide digitar la columna Pueblos Originarios y/o Migrantes. \",\"\")","v":""},{"$f":"IF(DB111=1,\"* El número de Personas pertenecientes a Pueblos Originarios NO DEBE ser mayor que el total. \",\"\")","v":""},{"$f":"IF(DC111=1,\"* El número de Personas Migrantes NO DEBE ser mayor que el total. \",\"\")","v":""},null,null,null,null,null,null,null,null,null,null,null,null,null,null,null,null,null,null,null,null,null,null,null,{"$f":"IF(AND(B111<>0,OR(O111=\"\",P111=\"\")),1,0)","v":0},0,0]
["SECCIÓN E: PERSONAS CON EVALUACIÓN Y CONFIRMACIÓN DIAGNOSTICA EN APS"]
["N° DE ENTREVISTAS","REALIZADA POR",null,null,"N° CONFIRMACIONES DIAGNÓSTICAS"]
[null,"1 PROFESIONAL","2 PROFESIONALES","3 PROFESIONALES"]
["TOTAL"]
["SECCIÓN F: EVALUACIONES PROGRAMA PLAN NACIONAL DE DEMENCIA"]
["ACTIVIDAD","TOTAL               "]
[null,null,null,null,"AUMENTO",null,"MANTENCIÓN",null,"DISMINUCIÓN"]
[null,"Ambos Sexos","Hombres","Mujeres","Hombres","Mujeres","Hombres","Mujeres","Hombres","Mujeres"]
["PERSONAS CON DEMENCIA CON  REEVALUACIÓN DETERIORO GLOGAL GDS REISBERG",{"$f":"SUM(C120:D120)","v":0},{"$f":"+E120+G120+I120","v":0},0]
["CUIDADORES PERSONAS CON DEMENCIA CON REEVALUACIÓN SOBRECARGA DEL CUIDADO",{"$f":"SUM(C121:D121)","v":0},0,0]
["CUIDADORES DE PERSONAS CON DEMENCIA CON EVALUACIÓN DE SATISFACCIÓN USARIA DEL PROCESO DE INTERVENCIÓN",{"$f":"SUM(C122:D122)","v":0},0,0]
["SECCIÓN G: EVALUACIÓN PROGRAMA DE APOYO A LA SALUD MENTAL INFANTIL (PASMI)"]
["ACTIVIDAD","TOTAL","GRUPOS DE EDAD 5 A 9 AÑOS",null,"Evaluadores",null,"Cumplimiento de criterios diagnósticos según  Evaluación Diagnóstica Integral (EDI)"]
[null,null,"Hombres","Mujeres","Equipo biopsicosocial","Equipo psicosocial","Requiere tratamiento en APS","Requiere tratamiento en nivel secundario","No Requiere tratamiento"]
["Evaluación Diagnostica Integral (EDI)",{"$f":"SUM(C126:D126)","v":0}]
["SECCIÓN H: CONSULTA DE SALUD MENTAL POR EL NIVEL DE ESPECIALIDAD"]
["ACTIVIDAD","PROFESIONAL","TOTAL               ",null,null,"GRUPOS DE EDAD  (en años)",null,null,null,null,null,null,null,null,null,null,null,null,null,null,null,null,null,null,null,null,null,null,null,null,null,null,null,null,null,null,null,null,null,"Beneficiarios","Niños, Niñas, Adolescentes y Jóvenes  SENAME","Niños, Niñas, Adolescentes y Jóvenes Mejor Niñez","Pueblos Originarios","Migrantes"]
[null,null,null,null,null,"0 - 4 años",null,"5 - 9 años",null,"10 - 14 años",null,"15 - 19 años",null,"20 - 24 años",null,"25 - 29 años",null,"30 - 34 años",null,"35 - 39 años",null,"40 - 44 años",null,"45 - 49 años",null,"50 - 54 años",null,"55 - 59 años",null,"60 - 64 años",null,"65 - 69 años",null,"70 - 74 años",null,"75 - 79 años",null,"80 y mas años"]
[null,null,"Ambos Sexos","Hombres","Mujeres","Hombres","Mujeres","Hombres","Mujeres","Hombres","Mujeres","Hombres","Mujeres","Hombres","Mujeres","Hombres","Mujeres","Hombres","Mujeres","Hombres","Mujeres","Hombres","Mujeres","Hombres","Mujeres","Hombres","Mujeres","Hombres","Mujeres","Hombres","Mujeres","Hombres","Mujeres","Hombres","Mujeres","Hombres","Mujeres","Hombres","Mujeres"]
["CONSULTA NUEVA SALUD MENTAL (INGRESO)","UNIPROFESIONAL",{"$f":"SUM(D131+E131)","v":0},{"$f":"SUM(F131+H131+J131+L131+N131+P131+R131+T131+V131+X131+Z131+AB131+AD131+AF131+AH131+AJ131+AL131)","v":0},0,null,null,null,null,null,null,null,null,null,null,null,null,null,null,null,null,null,null,null,null,null,null,null,null,null,null,null,null,null,null,null,null,null,null,null,null,null,null,null,{"$f":"CONCATENATE(CF131,CA131,CB131,CC131,CD131,CE131)","v":""},null,null,null,null,null,null,null,null,null,null,null,null,null,null,null,null,null,null,null,null,null,null,null,null,null,null,null,null,null,null,null,null,null,{"$f":"IF(DA131=1,\"* No olvide digitar la columna Beneficiarios y/o Niños, Niñas, Adolescentes y Jóvenes de Programa SENAME/Mejor Niñez y/o Pueblos Originarios y/o Migrantes (Digite CEROS si no tiene). \",\"\")","v":""},{"$f":"IF(DB131=1,\"* El número de Beneficiarios NO DEBE ser mayor que el Total. \",\"\")","v":""},{"$f":"IF(DC131=1,\"* Los Niños, Niñas, Adolescentes y Jóvenes de Programa SENAME NO DEBE ser mayor que el Total. \",\"\")","v":""},{"$f":"IF(DD131=1,\"* Los Niños, Niñas, Adolescentes y Jóvenes de Programa Mejor Niñez NO DEBE ser mayor que el Total. \",\"\")","v":""},{"$f":"IF(DE131=1,\"* El número de personas pertenecientes a Pueblos Originarios NO DEBE ser mayor que el Total. \",\"\")","v":""},{"$f":"IF(DF131=1,\"* El número de personas Migrantes NO DEBE ser mayor que el Total. \",\"\")","v":""},null,null,null,null,null,null,null,null,null,null,null,null,null,null,null,null,null,null,null,null,{"$f":"IF(AND(C131<>0,OR(AN131=\"\",AO131=\"\",AP131=\"\",AQ131=\"\",AR131=\"\")),1,0)","v":0},{"$f":"IF($C131<AN131,1,0)","v":0},0,0,0,0]
[null,"DOS PROFESIONALES",{"$f":"SUM(D132+E132)","v":0},0,0,null,null,null,null,null,null,null,null,null,null,null,null,null,null,null,null,null,null,null,null,null,null,null,null,null,null,null,null,null,null,null,null,null,null,null,null,null,null,null,{"$f":"CONCATENATE(CF132,CA132,CB132,CC132,CD132,CE132)","v":""},null,null,null,null,null,null,null,null,null,null,null,null,null,null,null,null,null,null,null,null,null,null,null,null,null,null,null,null,null,null,null,null,null,{"$f":"IF(DA132=1,\"* No olvide digitar la columna Beneficiarios y/o Niños, Niñas, Adolescentes y Jóvenes de Programa SENAME/Mejor Niñez y/o Pueblos Originarios y/o Migrantes (Digite CEROS si no tiene). \",\"\")","v":""},{"$f":"IF(DB132=1,\"* El número de Beneficiarios NO DEBE ser mayor que el Total. \",\"\")","v":""},{"$f":"IF(DC132=1,\"* Los Niños, Niñas, Adolescentes y Jóvenes de Programa SENAME NO DEBE ser mayor que el Total. \",\"\")","v":""},{"$f":"IF(DD132=1,\"* Los Niños, Niñas, Adolescentes y Jóvenes de Programa Mejor Niñez NO DEBE ser mayor que el Total. \",\"\")","v":""},{"$f":"IF(DE132=1,\"* El número de personas pertenecientes a Pueblos Originarios NO DEBE ser mayor que el Total. \",\"\")","v":""},{"$f":"IF(DF132=1,\"* El número de personas Migrantes NO DEBE ser mayor que el Total. \",\"\")","v":""},null,null,null,null,null,null,null,null,null,null,null,null,null,null,null,null,null,null,null,null,{"$f":"IF(AND(C132<>0,OR(AN132=\"\",AO132=\"\",AP132=\"\",AQ132=\"\",AR132=\"\")),1,0)","v":0},0,0,0,0,0]
[null,"MULTIPROFESIONAL",{"$f":"SUM(D133+E133)","v":0},0,0,null,null,null,null,null,null,null,null,null,null,null,null,null,null,null,null,null,null,null,null,null,null,null,null,null,null,null,null,null,null,null,null,null,null,null,null,null,null,null,{"$f":"CONCATENATE(CF133,CA133,CB133,CC133,CD133,CE133)","v":""},null,null,null,null,null,null,null,null,null,null,null,null,null,null,null,null,null,null,null,null,null,null,null,null,null,null,null,null,null,null,null,null,null,{"$f":"IF(DA133=1,\"* No olvide digitar la columna Beneficiarios y/o Niños, Niñas, Adolescentes y Jóvenes de Programa SENAME/Mejor Niñez y/o Pueblos Originarios y/o Migrantes (Digite CEROS si no tiene). \",\"\")","v":""},{"$f":"IF(DB133=1,\"* El número de Beneficiarios NO DEBE ser mayor que el Total. \",\"\")","v":""},{"$f":"IF(DC133=1,\"* Los Niños, Niñas, Adolescentes y Jóvenes de Programa SENAME NO DEBE ser mayor que el Total. \",\"\")","v":""},{"$f":"IF(DD133=1,\"* Los Niños, Niñas, Adolescentes y Jóvenes de Programa Mejor Niñez NO DEBE ser mayor que el Total. \",\"\")","v":""},{"$f":"IF(DE133=1,\"* El número de personas pertenecientes a Pueblos Originarios NO DEBE ser mayor que el Total. \",\"\")","v":""},{"$f":"IF(DF133=1,\"* El número de personas Migrantes NO DEBE ser mayor que el Total. \",\"\")","v":""},null,null,null,null,null,null,null,null,null,null,null,null,null,null,null,null,null,null,null,null,{"$f":"IF(AND(C133<>0,OR(AN133=\"\",AO133=\"\",AP133=\"\",AQ133=\"\",AR133=\"\")),1,0)","v":0},0,0,0,0,0]
[null,"TOTAL",{"$f":"SUM(D134+E134)","v":0},0,0,{"$f":"SUM(F131:F133)","v":0},{"$f":"SUM(G131:G133)","v":0},0,0,0,0,0,0,0,0,0,0,0,0,0,0,0,0,0,0,0,0,0,0,0,0,0,0,0,0,0,0,0,0,0,0,{"$f":"SUM(AP131:AP133)","v":0},0,0]
["SECCIÓN I: RESCATE DE PACIENTES PROGRAMA SALUD MENTAL "]
["GRUPO ETARIO","RESCATE EN DOMICILIO",null,null,null,null,null,"RESCATE TELEFÓNICO"]
[null,"TOTAL","FUNCIONARIO",null,null,null,"COMPRA DE SERVICIO (*)"]
[null,null,"Profesional","Técnico en Enfermería","Administrativo","Otro",null,"Desde el establecimiento","Compra de servicio (*)"]
["1 a 4 años",{"$f":"SUM(C139:F139)+H139","v":0}]
["5 a 9 años",{"$f":"SUM(C140:F140)+H140","v":0}]
["10 a 14 años",0]
["15 a 19 años",0]
["20 a 24 años",0]
["25 a 64 años",0]
["65 a 79 años",0]
["80  y más años",0]
["*no incluidos en REM A26 sección D."]
["SECCIÓN J: TIEMPOS DE ESPERA EN SALUD MENTAL DE APS"]
["TIEMPOS DE ESPERA ENTRE:","Número de días ","Número de personas atendidas "]
["Tamizaje y primera atención salud mental en APS (individual o grupal)"]
["Tamizaje y Confirmación Diagnóstica "]
[]
[]
[{"$f":"SUM(C13:C27,E33,B33,B39,E39,C43:C46,C51:C52,C57:C78,B82:I84,B85,D85,F85,H85,B89:D95,B104:F104,B109:B111,B120:B122,B126,C134,B139:B146,B150:C151)","v":0},{"$f":"SUM(DA8:DZ134)","v":0}]

{"sheet":"A07","index":7,"n_rows":262,"n_cols":111,"rows_kept":262,"cut":false,"hidden":false,"merged":[[72,28,73,29],[72,30,73,32],[72,33,73,34],[72,18,73,19],[72,20,74,20],[72,23,73,24],[72,25,73,26],[72,27,74,27],[72,21,73,22],[182,0,183,0],[170,0,170,1],[184,0,185,0],[177,0,179,0],[172,0,174,0],[172,1,174,1],[175,0,176,0],[180,0,181,0],[172,2,173,4],[172,5,172,38],[173,17,173,18],[173,19,173,20],[173,33,173,34],[173,5,173,6],[173,7,173,8],[173,27,173,28],[173,37,173,38],[173,31,173,32],[173,9,173,10],[173,11,173,12],[173,13,173,14],[6,44,6,46],[4,41,6,41],[4,42,6,43],[157,25,157,26],[157,27,157,28],[157,29,157,30],[5,0,5,29],[7,0,9,0],[7,22,7,29],[8,22,8,25],[8,1,9,1],[156,5,156,38],[157,37,157,38],[157,19,157,20],[157,31,157,32],[157,33,157,34],[8,19,9,19],[8,20,8,21],[7,1,7,21],[172,42,174,42],[8,2,8,18],[8,26,8,29],[157,13,157,14],[164,0,164,1],[173,25,173,26],[165,0,165,1],[166,0,166,1],[173,35,173,36],[72,0,74,0],[72,5,73,8],[72,1,73,4],[173,29,173,30],[72,9,73,12],[72,13,73,15],[72,16,73,17],[168,0,168,1],[160,0,163,0],[156,0,158,1],[156,2,157,4],[159,0,159,1],[167,0,167,1],[157,5,157,6],[157,7,157,8],[157,15,157,16],[157,17,157,18],[157,9,157,10],[157,11,157,12],[169,0,169,1],[172,45,174,45],[172,44,174,44],[156,39,158,39],[157,21,157,22],[157,23,157,24],[172,39,174,39],[172,43,174,43],[156,42,158,42],[172,40,173,41],[156,41,158,41],[156,40,158,40],[157,35,157,36],[173,21,173,22],[173,23,173,24],[173,15,173,16]]}
["SERVICIO DE SALUD"]
[{"$f":"CONCATENATE(\"COMUNA: \",NOMBRE!B2,\" - \",\"( \",NOMBRE!C2,NOMBRE!D2,NOMBRE!E2,NOMBRE!F2,NOMBRE!G2,\" )\")","v":"COMUNA:  - (  )"}]
[{"$f":"CONCATENATE(\"ESTABLECIMIENTO/ESTRATEGIA: \",NOMBRE!B3,\" - \",\"( \",NOMBRE!C3,NOMBRE!D3,NOMBRE!E3,NOMBRE!F3,NOMBRE!G3,NOMBRE!H3,\" )\")","v":"ESTABLECIMIENTO/ESTRATEGIA:  - (  )"}]
[{"$f":"CONCATENATE(\"MES: \",NOMBRE!B6,\" - \",\"( \",NOMBRE!C6,NOMBRE!D6,\" )\")","v":"MES:  - (  )"}]
[{"$f":"CONCATENATE(\"AÑO: \",NOMBRE!B7)","v":"AÑO: 2023"}]
["REM-07.  ATENCIÓN  DE ESPECIALIDADES "]
["SECCIÓN A : ATENCIONES MÉDICAS DE ESPECIALIDAD"]
["ESPECIALIDADES   Y  SUB-ESPECIALIDADES","ATECIONES MÉDICAS",null,null,null,null,null,null,null,null,null,null,null,null,null,null,null,null,null,null,null,null,"CONSULTAS NUEVAS SEGÚN ORIGEN(*)"]
[null,"TOTAL               ","GRUPOS DE EDAD (en años)",null,null,null,null,null,null,null,null,null,null,null,null,null,null,null,null,"Beneficiarios","POR SEXO",null,"Menos 15 años",null,null,null,"De 15 y más años"]
[null,null,"0 - 4 años","5 - 9 años","10 - 14 años","15 - 19 años","20 - 24 años","25 - 29 años","30 - 34 años","35 - 39 años","40 - 44 años","45 - 49 años","50 - 54 años","55 - 59 años","60 - 64 años","65 - 69 años","70 - 74 años","75 - 79 años","80 y más años",null,"Hombres","Mujeres","Total","APS","CAE/CDT/CRS/Hospitalización ","Urgencia ","Total","APS","CAE/CDT/CRS/Hospitalización ","Urgencia"]
["ANESTESIOLOGÍA",{"$f":"SUM(C11:S11)","v":0},null,null,null,null,null,null,null,null,null,null,null,null,null,null,null,null,null,null,null,null,{"$f":"SUM(X11+Y11+Z11)","v":0},null,null,null,{"$f":"SUM(AB11+AC11+AD11)","v":0},null,null,null,{"$f":"CA11&CB11&CC11&CD11&CE11","v":""},null,null,null,null,null,null,null,null,null,null,null,null,null,null,null,null,null,null,null,null,null,null,null,null,null,null,null,null,null,null,null,null,null,null,null,null,null,null,null,null,null,null,null,null,null,null,null,{"$f":"IF(DA11=1,\"* El número de consultas según sexo NO DEBE ser diferente al Total. \",\"\")","v":""},{"$f":"IF(DB11=1,\"* No olvide digitar la columna Beneficiarios (Digite CEROS si no tiene). \",\"\")","v":""},{"$f":"IF(DC11=1,\"* El número de Beneficiarios NO DEBE ser mayor que el Total. \",\"\")","v":""},{"$f":"IF(DD11=1,\"* El total de Consultas Nuevas NO DEBE ser MAYOR que el total de las Consultas Médicas. \",\"\")","v":""},{"$f":"IF(DE11=1,\"* No olvide registrar datos en Pertinencia (Digite CEROS si no tiene). \",\"\")","v":""},null,null,null,null,null,null,null,null,null,null,null,null,null,null,null,null,null,null,null,null,null,{"$f":"IF(B11<>(U11+V11),1,0)","v":0},{"$f":"IF(AND(B11<>0,T11=\"\"),1,0)","v":0},{"$f":"IF(B11<(T11),1,0)","v":0},{"$f":"IF(B11<(W11+AA11),1,0)","v":0}]
["CARDIOLOGÍA ADULTO",{"$f":"SUM(C12:S12)","v":0},null,null,null,null,null,null,null,null,null,null,null,null,null,null,null,null,null,null,null,null,{"$f":"SUM(X12+Y12+Z12)","v":0},null,null,null,{"$f":"SUM(AB12+AC12+AD12)","v":0},null,null,null,"",null,null,null,null,null,null,null,null,null,null,null,null,null,null,null,null,null,null,null,null,null,null,null,null,null,null,null,null,null,null,null,null,null,null,null,null,null,null,null,null,null,null,null,null,null,null,null,"","","","","",null,null,null,null,null,null,null,null,null,null,null,null,null,null,null,null,null,null,null,null,null,0,0,0,0]
["CARDIOLOGÍA PEDIÁTRICA",0,null,null,null,null,null,null,null,null,null,null,null,null,null,null,null,null,null,null,null,null,0,null,null,null,0,null,null,null,"",null,null,null,null,null,null,null,null,null,null,null,null,null,null,null,null,null,null,null,null,null,null,null,null,null,null,null,null,null,null,null,null,null,null,null,null,null,null,null,null,null,null,null,null,null,null,null,"","","","","",null,null,null,null,null,null,null,null,null,null,null,null,null,null,null,null,null,null,null,null,null,0,0,0,0]
["CIRUGÍA CARDIOVASCULAR",0,null,null,null,null,null,null,null,null,null,null,null,null,null,null,null,null,null,null,null,null,0,null,null,null,0,null,null,null,"",null,null,null,null,null,null,null,null,null,null,null,null,null,null,null,null,null,null,null,null,null,null,null,null,null,null,null,null,null,null,null,null,null,null,null,null,null,null,null,null,null,null,null,null,null,null,null,"","","","","",null,null,null,null,null,null,null,null,null,null,null,null,null,null,null,null,null,null,null,null,null,0,0,0,0]
["CIRUGÍA DE CABEZA, CUELLO Y MAXILOFACIAL",0,null,null,null,null,null,null,null,null,null,null,null,null,null,null,null,null,null,null,null,null,0,null,null,null,0,null,null,null,"",null,null,null,null,null,null,null,null,null,null,null,null,null,null,null,null,null,null,null,null,null,null,null,null,null,null,null,null,null,null,null,null,null,null,null,null,null,null,null,null,null,null,null,null,null,null,null,"","","","","",null,null,null,null,null,null,null,null,null,null,null,null,null,null,null,null,null,null,null,null,null,0,0,0,0]
["CIRUGÍA DIGESTIVA ",0,null,null,null,null,null,null,null,null,null,null,null,null,null,null,null,null,null,null,null,null,0,null,null,null,0,null,null,null,"",null,null,null,null,null,null,null,null,null,null,null,null,null,null,null,null,null,null,null,null,null,null,null,null,null,null,null,null,null,null,null,null,null,null,null,null,null,null,null,null,null,null,null,null,null,null,null,"","","","","",null,null,null,null,null,null,null,null,null,null,null,null,null,null,null,null,null,null,null,null,null,0,0,0,0]
["CIRUGÍA GENERAL ADULTO",0,null,null,null,null,null,null,null,null,null,null,null,null,null,null,null,null,null,null,null,null,0,null,null,null,0,null,null,null,"",null,null,null,null,null,null,null,null,null,null,null,null,null,null,null,null,null,null,null,null,null,null,null,null,null,null,null,null,null,null,null,null,null,null,null,null,null,null,null,null,null,null,null,null,null,null,null,"","","","","",null,null,null,null,null,null,null,null,null,null,null,null,null,null,null,null,null,null,null,null,null,0,0,0,0]
["CIRUGÍA PEDIÁTRICA",0,null,null,null,null,null,null,null,null,null,null,null,null,null,null,null,null,null,null,null,null,0,null,null,null,0,null,null,null,"",null,null,null,null,null,null,null,null,null,null,null,null,null,null,null,null,null,null,null,null,null,null,null,null,null,null,null,null,null,null,null,null,null,null,null,null,null,null,null,null,null,null,null,null,null,null,null,"","","","","",null,null,null,null,null,null,null,null,null,null,null,null,null,null,null,null,null,null,null,null,null,0,0,0,0]
["CIRUGÍA PLÁSTICA Y REPARADORA ADULTO",0,null,null,null,null,null,null,null,null,null,null,null,null,null,null,null,null,null,null,null,null,0,null,null,null,0,null,null,null,"",null,null,null,null,null,null,null,null,null,null,null,null,null,null,null,null,null,null,null,null,null,null,null,null,null,null,null,null,null,null,null,null,null,null,null,null,null,null,null,null,null,null,null,null,null,null,null,"","","","","",null,null,null,null,null,null,null,null,null,null,null,null,null,null,null,null,null,null,null,null,null,0,0,0,0]
["CIRUGÍA PLÁSTICA Y REPARADORA PEDIÁTRICA",0,null,null,null,null,null,null,null,null,null,null,null,null,null,null,null,null,null,null,null,null,0,null,null,null,0,null,null,null,"",null,null,null,null,null,null,null,null,null,null,null,null,null,null,null,null,null,null,null,null,null,null,null,null,null,null,null,null,null,null,null,null,null,null,null,null,null,null,null,null,null,null,null,null,null,null,null,"","","","","",null,null,null,null,null,null,null,null,null,null,null,null,null,null,null,null,null,null,null,null,null,0,0,0,0]
["CIRUGÍA TÓRAX",0,null,null,null,null,null,null,null,null,null,null,null,null,null,null,null,null,null,null,null,null,0,null,null,null,0,null,null,null,"",null,null,null,null,null,null,null,null,null,null,null,null,null,null,null,null,null,null,null,null,null,null,null,null,null,null,null,null,null,null,null,null,null,null,null,null,null,null,null,null,null,null,null,null,null,null,null,"","","","","",null,null,null,null,null,null,null,null,null,null,null,null,null,null,null,null,null,null,null,null,null,0,0,0,0]
["CIRUGÍA VASCULAR PERIFÉRICA",0,null,null,null,null,null,null,null,null,null,null,null,null,null,null,null,null,null,null,null,null,0,null,null,null,0,null,null,null,"",null,null,null,null,null,null,null,null,null,null,null,null,null,null,null,null,null,null,null,null,null,null,null,null,null,null,null,null,null,null,null,null,null,null,null,null,null,null,null,null,null,null,null,null,null,null,null,"","","","","",null,null,null,null,null,null,null,null,null,null,null,null,null,null,null,null,null,null,null,null,null,0,0,0,0]
["COLOPROCTOLOGÍA ",0,null,null,null,null,null,null,null,null,null,null,null,null,null,null,null,null,null,null,null,null,0,null,null,null,0,null,null,null,"",null,null,null,null,null,null,null,null,null,null,null,null,null,null,null,null,null,null,null,null,null,null,null,null,null,null,null,null,null,null,null,null,null,null,null,null,null,null,null,null,null,null,null,null,null,null,null,"","","","","",null,null,null,null,null,null,null,null,null,null,null,null,null,null,null,null,null,null,null,null,null,0,0,0,0]
["DERMATOLOGÍA",0,null,null,null,null,null,null,null,null,null,null,null,null,null,null,null,null,null,null,null,null,0,null,null,null,0,null,null,null,"",null,null,null,null,null,null,null,null,null,null,null,null,null,null,null,null,null,null,null,null,null,null,null,null,null,null,null,null,null,null,null,null,null,null,null,null,null,null,null,null,null,null,null,null,null,null,null,"","","","","",null,null,null,null,null,null,null,null,null,null,null,null,null,null,null,null,null,null,null,null,null,0,0,0,0]
["DIABETOLOGÍA",0,null,null,null,null,null,null,null,null,null,null,null,null,null,null,null,null,null,null,null,null,0,null,null,null,0,null,null,null,"",null,null,null,null,null,null,null,null,null,null,null,null,null,null,null,null,null,null,null,null,null,null,null,null,null,null,null,null,null,null,null,null,null,null,null,null,null,null,null,null,null,null,null,null,null,null,null,"","","","","",null,null,null,null,null,null,null,null,null,null,null,null,null,null,null,null,null,null,null,null,null,0,0,0,0]
["ENDOCRINOLOGÍA ADULTO",0,null,null,null,null,null,null,null,null,null,null,null,null,null,null,null,null,null,null,null,null,0,null,null,null,0,null,null,null,"",null,null,null,null,null,null,null,null,null,null,null,null,null,null,null,null,null,null,null,null,null,null,null,null,null,null,null,null,null,null,null,null,null,null,null,null,null,null,null,null,null,null,null,null,null,null,null,"","","","","",null,null,null,null,null,null,null,null,null,null,null,null,null,null,null,null,null,null,null,null,null,0,0,0,0]
["ENDOCRINOLOGÍA PEDIÁTRICA",0,null,null,null,null,null,null,null,null,null,null,null,null,null,null,null,null,null,null,null,null,0,null,null,null,0,null,null,null,"",null,null,null,null,null,null,null,null,null,null,null,null,null,null,null,null,null,null,null,null,null,null,null,null,null,null,null,null,null,null,null,null,null,null,null,null,null,null,null,null,null,null,null,null,null,null,null,"","","","","",null,null,null,null,null,null,null,null,null,null,null,null,null,null,null,null,null,null,null,null,null,0,0,0,0]
["ENFERMEDAD RESPIRATORIA DE ADULTO (BRONCOPULMONAR)",0,null,null,null,null,null,null,null,null,null,null,null,null,null,null,null,null,null,null,null,null,0,null,null,null,0,null,null,null,"",null,null,null,null,null,null,null,null,null,null,null,null,null,null,null,null,null,null,null,null,null,null,null,null,null,null,null,null,null,null,null,null,null,null,null,null,null,null,null,null,null,null,null,null,null,null,null,"","","","","",null,null,null,null,null,null,null,null,null,null,null,null,null,null,null,null,null,null,null,null,null,0,0,0,0]
["ENFERMEDAD RESPIRATORIA PEDIÁTRICA (BRONCOPULMONAR INFANTIL)",{"$f":"SUM(C29:S29)","v":0},null,null,null,null,null,null,null,null,null,null,null,null,null,null,null,null,null,null,null,null,0,null,null,null,0,null,null,null,"",null,null,null,null,null,null,null,null,null,null,null,null,null,null,null,null,null,null,null,null,null,null,null,null,null,null,null,null,null,null,null,null,null,null,null,null,null,null,null,null,null,null,null,null,null,null,null,"","","","","",null,null,null,null,null,null,null,null,null,null,null,null,null,null,null,null,null,null,null,null,null,0,0,0,0]
["GASTROENTEROLOGÍA ADULTO",0,null,null,null,null,null,null,null,null,null,null,null,null,null,null,null,null,null,null,null,null,0,null,null,null,0,null,null,null,"",null,null,null,null,null,null,null,null,null,null,null,null,null,null,null,null,null,null,null,null,null,null,null,null,null,null,null,null,null,null,null,null,null,null,null,null,null,null,null,null,null,null,null,null,null,null,null,"","","","","",null,null,null,null,null,null,null,null,null,null,null,null,null,null,null,null,null,null,null,null,null,0,0,0,0]
["GASTROENTEROLOGÍA PEDIÁTRICA",0,null,null,null,null,null,null,null,null,null,null,null,null,null,null,null,null,null,null,null,null,0,null,null,null,0,null,null,null,"",null,null,null,null,null,null,null,null,null,null,null,null,null,null,null,null,null,null,null,null,null,null,null,null,null,null,null,null,null,null,null,null,null,null,null,null,null,null,null,null,null,null,null,null,null,null,null,"","","","","",null,null,null,null,null,null,null,null,null,null,null,null,null,null,null,null,null,null,null,null,null,0,0,0,0]
["GENÉTICA CLÍNICA",0,null,null,null,null,null,null,null,null,null,null,null,null,null,null,null,null,null,null,null,null,0,null,null,null,0,null,null,null,"",null,null,null,null,null,null,null,null,null,null,null,null,null,null,null,null,null,null,null,null,null,null,null,null,null,null,null,null,null,null,null,null,null,null,null,null,null,null,null,null,null,null,null,null,null,null,null,"","","","","",null,null,null,null,null,null,null,null,null,null,null,null,null,null,null,null,null,null,null,null,null,0,0,0,0]
["GERIATRÍA",0,null,null,null,null,null,null,null,null,null,null,null,null,null,null,null,null,null,null,null,null,0,null,null,null,0,null,null,null,"",null,null,null,null,null,null,null,null,null,null,null,null,null,null,null,null,null,null,null,null,null,null,null,null,null,null,null,null,null,null,null,null,null,null,null,null,null,null,null,null,null,null,null,null,null,null,null,"","","","","",null,null,null,null,null,null,null,null,null,null,null,null,null,null,null,null,null,null,null,null,null,0,0,0,0]
["GINECOLOGÍA ADULTO",0,null,null,null,null,null,null,null,null,null,null,null,null,null,null,null,null,null,null,null,null,0,null,null,null,0,null,null,null,"",null,null,null,null,null,null,null,null,null,null,null,null,null,null,null,null,null,null,null,null,null,null,null,null,null,null,null,null,null,null,null,null,null,null,null,null,null,null,null,null,null,null,null,null,null,null,null,"","","","","",null,null,null,null,null,null,null,null,null,null,null,null,null,null,null,null,null,null,null,null,null,0,0,0,0]
["GINECOLOGÍA PEDIÁTRICA Y DE LA ADOLESCENCIA",0,null,null,null,null,null,null,null,null,null,null,null,null,null,null,null,null,null,null,null,null,{"$f":"SUM(X35+Y35+Z35)","v":0},null,null,null,0,null,null,null,"",null,null,null,null,null,null,null,null,null,null,null,null,null,null,null,null,null,null,null,null,null,null,null,null,null,null,null,null,null,null,null,null,null,null,null,null,null,null,null,null,null,null,null,null,null,null,null,"","","","","",null,null,null,null,null,null,null,null,null,null,null,null,null,null,null,null,null,null,null,null,null,0,0,0,0]
["HEMATOLOGÍA ADULTO",0,null,null,null,null,null,null,null,null,null,null,null,null,null,null,null,null,null,null,null,null,0,null,null,null,0,null,null,null,"",null,null,null,null,null,null,null,null,null,null,null,null,null,null,null,null,null,null,null,null,null,null,null,null,null,null,null,null,null,null,null,null,null,null,null,null,null,null,null,null,null,null,null,null,null,null,null,"","","","","",null,null,null,null,null,null,null,null,null,null,null,null,null,null,null,null,null,null,null,null,null,0,0,0,0]
["HEMATO-ONCOLOGÍA INFANTIL",0,null,null,null,null,null,null,null,null,null,null,null,null,null,null,null,null,null,null,null,null,{"$f":"SUM(X37+Y37+Z37)","v":0},null,null,null,0,null,null,null,"",null,null,null,null,null,null,null,null,null,null,null,null,null,null,null,null,null,null,null,null,null,null,null,null,null,null,null,null,null,null,null,null,null,null,null,null,null,null,null,null,null,null,null,null,null,null,null,"","","","","",null,null,null,null,null,null,null,null,null,null,null,null,null,null,null,null,null,null,null,null,null,0,0,0,0]
["IMAGENOLOGÍA",0,null,null,null,null,null,null,null,null,null,null,null,null,null,null,null,null,null,null,null,null,{"$f":"SUM(X38+Y38+Z38)","v":0},null,null,null,{"$f":"SUM(AB38+AC38+AD38)","v":0},null,null,null,"",null,null,null,null,null,null,null,null,null,null,null,null,null,null,null,null,null,null,null,null,null,null,null,null,null,null,null,null,null,null,null,null,null,null,null,null,null,null,null,null,null,null,null,null,null,null,null,"","","","","",null,null,null,null,null,null,null,null,null,null,null,null,null,null,null,null,null,null,null,null,null,0,0,0,0]
["INFECTOLOGÍA ADULTO",0,null,null,null,null,null,null,null,null,null,null,null,null,null,null,null,null,null,null,null,null,{"$f":"SUM(X39+Y39+Z39)","v":0},null,null,null,{"$f":"SUM(AB39+AC39+AD39)","v":0},null,null,null,"",null,null,null,null,null,null,null,null,null,null,null,null,null,null,null,null,null,null,null,null,null,null,null,null,null,null,null,null,null,null,null,null,null,null,null,null,null,null,null,null,null,null,null,null,null,null,null,"","","","","",null,null,null,null,null,null,null,null,null,null,null,null,null,null,null,null,null,null,null,null,null,0,0,0,0]
["INFECTOLOGÍA PEDIÁTRICA",0,null,null,null,null,null,null,null,null,null,null,null,null,null,null,null,null,null,null,null,null,{"$f":"SUM(X40+Y40+Z40)","v":0},null,null,null,{"$f":"SUM(AB40+AC40+AD40)","v":0},null,null,null,"",null,null,null,null,null,null,null,null,null,null,null,null,null,null,null,null,null,null,null,null,null,null,null,null,null,null,null,null,null,null,null,null,null,null,null,null,null,null,null,null,null,null,null,null,null,null,null,"","","","","",null,null,null,null,null,null,null,null,null,null,null,null,null,null,null,null,null,null,null,null,null,0,0,0,0]
["INMUNOLOGÍA",0,null,null,null,null,null,null,null,null,null,null,null,null,null,null,null,null,null,null,null,null,{"$f":"SUM(X41+Y41+Z41)","v":0},null,null,null,{"$f":"SUM(AB41+AC41+AD41)","v":0},null,null,null,"",null,null,null,null,null,null,null,null,null,null,null,null,null,null,null,null,null,null,null,null,null,null,null,null,null,null,null,null,null,null,null,null,null,null,null,null,null,null,null,null,null,null,null,null,null,null,null,"","","","","",null,null,null,null,null,null,null,null,null,null,null,null,null,null,null,null,null,null,null,null,null,0,0,0,0]
["MEDICINA FAMILIAR",0,null,null,null,null,null,null,null,null,null,null,null,null,null,null,null,null,null,null,null,null,{"$f":"SUM(X42+Y42+Z42)","v":0},null,null,null,{"$f":"SUM(AB42+AC42+AD42)","v":0},null,null,null,"",null,null,null,null,null,null,null,null,null,null,null,null,null,null,null,null,null,null,null,null,null,null,null,null,null,null,null,null,null,null,null,null,null,null,null,null,null,null,null,null,null,null,null,null,null,null,null,"","","","","",null,null,null,null,null,null,null,null,null,null,null,null,null,null,null,null,null,null,null,null,null,0,0,0,0]
["MEDICINA FAMILIAR ADULTO",0,null,null,null,null,null,null,null,null,null,null,null,null,null,null,null,null,null,null,null,null,0,null,null,null,{"$f":"SUM(AB43+AC43+AD43)","v":0},null,null,null,{"$f":"CA43&CB43&CC43&CD43&CE43","v":""},null,null,null,null,null,null,null,null,null,null,null,null,null,null,null,null,null,null,null,null,null,null,null,null,null,null,null,null,null,null,null,null,null,null,null,null,null,null,null,null,null,null,null,null,null,null,null,{"$f":"IF(DA43=1,\"* El número de consultas según sexo NO DEBE ser diferente al Total. \",\"\")","v":""},{"$f":"IF(DB43=1,\"* No olvide digitar la columna Beneficiarios (Digite CEROS si no tiene). \",\"\")","v":""},{"$f":"IF(DC43=1,\"* El número de Beneficiarios NO DEBE ser mayor que el Total. \",\"\")","v":""},{"$f":"IF(DD43=1,\"* El total de Consultas Nuevas NO DEBE ser MAYOR que el total de las Consultas Médicas. \",\"\")","v":""},{"$f":"IF(DE43=1,\"* No olvide registrar datos en Pertinencia (Digite CEROS si no tiene). \",\"\")","v":""},null,null,null,null,null,null,null,null,null,null,null,null,null,null,null,null,null,null,null,null,null,{"$f":"IF(B43<>(U43+V43),1,0)","v":0},{"$f":"IF(AND(B43<>0,T43=\"\"),1,0)","v":0},{"$f":"IF(B43<(T43),1,0)","v":0},{"$f":"IF(B43<(W43+AA43),1,0)","v":0}]
["MEDICINA FAMILIAR DEL NIÑO, NIÑA Y ADOLESCENTE",0,null,null,null,null,null,null,null,null,null,null,null,null,null,null,null,null,null,null,null,null,0,null,null,null,0,null,null,null,"",null,null,null,null,null,null,null,null,null,null,null,null,null,null,null,null,null,null,null,null,null,null,null,null,null,null,null,null,null,null,null,null,null,null,null,null,null,null,null,null,null,null,null,null,null,null,null,"","","","","",null,null,null,null,null,null,null,null,null,null,null,null,null,null,null,null,null,null,null,null,null,0,0,0,0]
["MEDICINA FÍSICA Y REHABILITACIÓN ADULTO (FISIATRÍA ADULTO)",0,null,null,null,null,null,null,null,null,null,null,null,null,null,null,null,null,null,null,null,null,0,null,null,null,0,null,null,null,"",null,null,null,null,null,null,null,null,null,null,null,null,null,null,null,null,null,null,null,null,null,null,null,null,null,null,null,null,null,null,null,null,null,null,null,null,null,null,null,null,null,null,null,null,null,null,null,"","","","","",null,null,null,null,null,null,null,null,null,null,null,null,null,null,null,null,null,null,null,null,null,0,0,0,0]
["MEDICINA FÍSICA Y REHABILITACIÓN PEDIÁTRICA (FISIATRÍA PEDIÁTRICA)",0,null,null,null,null,null,null,null,null,null,null,null,null,null,null,null,null,null,null,null,null,0,null,null,null,0,null,null,null,"",null,null,null,null,null,null,null,null,null,null,null,null,null,null,null,null,null,null,null,null,null,null,null,null,null,null,null,null,null,null,null,null,null,null,null,null,null,null,null,null,null,null,null,null,null,null,null,"","","","","",null,null,null,null,null,null,null,null,null,null,null,null,null,null,null,null,null,null,null,null,null,0,0,0,0]
["MEDICINA INTERNA",0,null,null,null,null,null,null,null,null,null,null,null,null,null,null,null,null,null,null,null,null,0,null,null,null,0,null,null,null,"",null,null,null,null,null,null,null,null,null,null,null,null,null,null,null,null,null,null,null,null,null,null,null,null,null,null,null,null,null,null,null,null,null,null,null,null,null,null,null,null,null,null,null,null,null,null,null,"","","","","",null,null,null,null,null,null,null,null,null,null,null,null,null,null,null,null,null,null,null,null,null,0,0,0,0]
["MEDICINA NUCLEAR (EXCLUYE INFORMES)",0,null,null,null,null,null,null,null,null,null,null,null,null,null,null,null,null,null,null,null,null,0,null,null,null,0,null,null,null,"",null,null,null,null,null,null,null,null,null,null,null,null,null,null,null,null,null,null,null,null,null,null,null,null,null,null,null,null,null,null,null,null,null,null,null,null,null,null,null,null,null,null,null,null,null,null,null,"","","","","",null,null,null,null,null,null,null,null,null,null,null,null,null,null,null,null,null,null,null,null,null,0,0,0,0]
["NEFROLOGÍA ADULTO",0,null,null,null,null,null,null,null,null,null,null,null,null,null,null,null,null,null,null,null,null,0,null,null,null,0,null,null,null,"",null,null,null,null,null,null,null,null,null,null,null,null,null,null,null,null,null,null,null,null,null,null,null,null,null,null,null,null,null,null,null,null,null,null,null,null,null,null,null,null,null,null,null,null,null,null,null,"","","","","",null,null,null,null,null,null,null,null,null,null,null,null,null,null,null,null,null,null,null,null,null,0,0,0,0]
["NEFROLOGÍA PEDIÁTRICA",0,null,null,null,null,null,null,null,null,null,null,null,null,null,null,null,null,null,null,null,null,0,null,null,null,0,null,null,null,"",null,null,null,null,null,null,null,null,null,null,null,null,null,null,null,null,null,null,null,null,null,null,null,null,null,null,null,null,null,null,null,null,null,null,null,null,null,null,null,null,null,null,null,null,null,null,null,"","","","","",null,null,null,null,null,null,null,null,null,null,null,null,null,null,null,null,null,null,null,null,null,0,0,0,0]
["NEONATOLOGÍA",0,null,null,null,null,null,null,null,null,null,null,null,null,null,null,null,null,null,null,null,null,0,null,null,null,0,null,null,null,"",null,null,null,null,null,null,null,null,null,null,null,null,null,null,null,null,null,null,null,null,null,null,null,null,null,null,null,null,null,null,null,null,null,null,null,null,null,null,null,null,null,null,null,null,null,null,null,"","","","","",null,null,null,null,null,null,null,null,null,null,null,null,null,null,null,null,null,null,null,null,null,0,0,0,0]
["NEUROCIRUGÍA",0,null,null,null,null,null,null,null,null,null,null,null,null,null,null,null,null,null,null,null,null,0,null,null,null,0,null,null,null,"",null,null,null,null,null,null,null,null,null,null,null,null,null,null,null,null,null,null,null,null,null,null,null,null,null,null,null,null,null,null,null,null,null,null,null,null,null,null,null,null,null,null,null,null,null,null,null,"","","","","",null,null,null,null,null,null,null,null,null,null,null,null,null,null,null,null,null,null,null,null,null,0,0,0,0]
["NEUROLOGÍA ADULTO",0,null,null,null,null,null,null,null,null,null,null,null,null,null,null,null,null,null,null,null,null,0,null,null,null,0,null,null,null,"",null,null,null,null,null,null,null,null,null,null,null,null,null,null,null,null,null,null,null,null,null,null,null,null,null,null,null,null,null,null,null,null,null,null,null,null,null,null,null,null,null,null,null,null,null,null,null,"","","","","",null,null,null,null,null,null,null,null,null,null,null,null,null,null,null,null,null,null,null,null,null,0,0,0,0]
["NEUROLOGÍA PEDIÁTRICA",0,null,null,null,null,null,null,null,null,null,null,null,null,null,null,null,null,null,null,null,null,0,null,null,null,0,null,null,null,"",null,null,null,null,null,null,null,null,null,null,null,null,null,null,null,null,null,null,null,null,null,null,null,null,null,null,null,null,null,null,null,null,null,null,null,null,null,null,null,null,null,null,null,null,null,null,null,"","","","","",null,null,null,null,null,null,null,null,null,null,null,null,null,null,null,null,null,null,null,null,null,0,0,0,0]
["NUTRIÓLOGO ADULTO",0,null,null,null,null,null,null,null,null,null,null,null,null,null,null,null,null,null,null,null,null,0,null,null,null,0,null,null,null,"",null,null,null,null,null,null,null,null,null,null,null,null,null,null,null,null,null,null,null,null,null,null,null,null,null,null,null,null,null,null,null,null,null,null,null,null,null,null,null,null,null,null,null,null,null,null,null,"","","","","",null,null,null,null,null,null,null,null,null,null,null,null,null,null,null,null,null,null,null,null,null,0,0,0,0]
["NUTRIÓLOGO PEDIÁTRICO",0,null,null,null,null,null,null,null,null,null,null,null,null,null,null,null,null,null,null,null,null,0,null,null,null,0,null,null,null,"",null,null,null,null,null,null,null,null,null,null,null,null,null,null,null,null,null,null,null,null,null,null,null,null,null,null,null,null,null,null,null,null,null,null,null,null,null,null,null,null,null,null,null,null,null,null,null,"","","","","",null,null,null,null,null,null,null,null,null,null,null,null,null,null,null,null,null,null,null,null,null,0,0,0,0]
["OBSTETRICIA",0,null,null,null,null,null,null,null,null,null,null,null,null,null,null,null,null,null,null,null,null,0,null,null,null,0,null,null,null,"",null,null,null,null,null,null,null,null,null,null,null,null,null,null,null,null,null,null,null,null,null,null,null,null,null,null,null,null,null,null,null,null,null,null,null,null,null,null,null,null,null,null,null,null,null,null,null,"","","","","",null,null,null,null,null,null,null,null,null,null,null,null,null,null,null,null,null,null,null,null,null,0,0,0,0]
["OFTALMOLOGÍA",0,null,null,null,null,null,null,null,null,null,null,null,null,null,null,null,null,null,null,null,null,0,null,null,null,0,null,null,null,"",null,null,null,null,null,null,null,null,null,null,null,null,null,null,null,null,null,null,null,null,null,null,null,null,null,null,null,null,null,null,null,null,null,null,null,null,null,null,null,null,null,null,null,null,null,null,null,"","","","","",null,null,null,null,null,null,null,null,null,null,null,null,null,null,null,null,null,null,null,null,null,0,0,0,0]
["ONCOLOGÍA MÉDICA",0,null,null,null,null,null,null,null,null,null,null,null,null,null,null,null,null,null,null,null,null,0,null,null,null,0,null,null,null,"",null,null,null,null,null,null,null,null,null,null,null,null,null,null,null,null,null,null,null,null,null,null,null,null,null,null,null,null,null,null,null,null,null,null,null,null,null,null,null,null,null,null,null,null,null,null,null,"","","","","",null,null,null,null,null,null,null,null,null,null,null,null,null,null,null,null,null,null,null,null,null,0,0,0,0]
["OTORRINOLARINGOLOGÍA",0,null,null,null,null,null,null,null,null,null,null,null,null,null,null,null,null,null,null,null,null,0,null,null,null,0,null,null,null,"",null,null,null,null,null,null,null,null,null,null,null,null,null,null,null,null,null,null,null,null,null,null,null,null,null,null,null,null,null,null,null,null,null,null,null,null,null,null,null,null,null,null,null,null,null,null,null,"","","","","",null,null,null,null,null,null,null,null,null,null,null,null,null,null,null,null,null,null,null,null,null,0,0,0,0]
["PEDIATRÍA",0,null,null,null,null,null,null,null,null,null,null,null,null,null,null,null,null,null,null,null,null,{"$f":"SUM(X61+Y61+Z61)","v":0},null,null,null,0,null,null,null,"",null,null,null,null,null,null,null,null,null,null,null,null,null,null,null,null,null,null,null,null,null,null,null,null,null,null,null,null,null,null,null,null,null,null,null,null,null,null,null,null,null,null,null,null,null,null,null,"","","","","",null,null,null,null,null,null,null,null,null,null,null,null,null,null,null,null,null,null,null,null,null,0,0,0,0]
["PSIQUIATRÍA ADULTO",0,null,null,null,null,null,null,null,null,null,null,null,null,null,null,null,null,null,null,null,null,0,null,null,null,0,null,null,null,"",null,null,null,null,null,null,null,null,null,null,null,null,null,null,null,null,null,null,null,null,null,null,null,null,null,null,null,null,null,null,null,null,null,null,null,null,null,null,null,null,null,null,null,null,null,null,null,"","","","","",null,null,null,null,null,null,null,null,null,null,null,null,null,null,null,null,null,null,null,null,null,0,0,0,0]
["PSIQUIATRÍA PEDIÁTRICA Y DE LA ADOLESCENCIA",0,null,null,null,null,null,null,null,null,null,null,null,null,null,null,null,null,null,null,null,null,0,null,null,null,0,null,null,null,"",null,null,null,null,null,null,null,null,null,null,null,null,null,null,null,null,null,null,null,null,null,null,null,null,null,null,null,null,null,null,null,null,null,null,null,null,null,null,null,null,null,null,null,null,null,null,null,"","","","","",null,null,null,null,null,null,null,null,null,null,null,null,null,null,null,null,null,null,null,null,null,0,0,0,0]
["RADIOTERAPIA ONCOLÓGICA",0,null,null,null,null,null,null,null,null,null,null,null,null,null,null,null,null,null,null,null,null,0,null,null,null,0,null,null,null,"",null,null,null,null,null,null,null,null,null,null,null,null,null,null,null,null,null,null,null,null,null,null,null,null,null,null,null,null,null,null,null,null,null,null,null,null,null,null,null,null,null,null,null,null,null,null,null,"","","","","",null,null,null,null,null,null,null,null,null,null,null,null,null,null,null,null,null,null,null,null,null,0,0,0,0]
["REUMATOLOGÍA ADULTO",0,null,null,null,null,null,null,null,null,null,null,null,null,null,null,null,null,null,null,null,null,0,null,null,null,0,null,null,null,"",null,null,null,null,null,null,null,null,null,null,null,null,null,null,null,null,null,null,null,null,null,null,null,null,null,null,null,null,null,null,null,null,null,null,null,null,null,null,null,null,null,null,null,null,null,null,null,"","","","","",null,null,null,null,null,null,null,null,null,null,null,null,null,null,null,null,null,null,null,null,null,0,0,0,0]
["REUMATOLOGÍA PEDIÁTRICA",0,null,null,null,null,null,null,null,null,null,null,null,null,null,null,null,null,null,null,null,null,0,null,null,null,0,null,null,null,"",null,null,null,null,null,null,null,null,null,null,null,null,null,null,null,null,null,null,null,null,null,null,null,null,null,null,null,null,null,null,null,null,null,null,null,null,null,null,null,null,null,null,null,null,null,null,null,"","","","","",null,null,null,null,null,null,null,null,null,null,null,null,null,null,null,null,null,null,null,null,null,0,0,0,0]
["TRAUMATOLOGÍA Y ORTOPEDIA ADULTO",0,null,null,null,null,null,null,null,null,null,null,null,null,null,null,null,null,null,null,null,null,0,null,null,null,0,null,null,null,"",null,null,null,null,null,null,null,null,null,null,null,null,null,null,null,null,null,null,null,null,null,null,null,null,null,null,null,null,null,null,null,null,null,null,null,null,null,null,null,null,null,null,null,null,null,null,null,"","","","","",null,null,null,null,null,null,null,null,null,null,null,null,null,null,null,null,null,null,null,null,null,0,0,0,0]
["TRAUMATOLOGÍA Y ORTOPEDIA PEDIÁTRICA",0,null,null,null,null,null,null,null,null,null,null,null,null,null,null,null,null,null,null,null,null,{"$f":"SUM(X68+Y68+Z68)","v":0},null,null,null,0,null,null,null,"",null,null,null,null,null,null,null,null,null,null,null,null,null,null,null,null,null,null,null,null,null,null,null,null,null,null,null,null,null,null,null,null,null,null,null,null,null,null,null,null,null,null,null,null,null,null,null,"","","","","",null,null,null,null,null,null,null,null,null,null,null,null,null,null,null,null,null,null,null,null,null,0,0,0,0]
["UROLOGÍA ADULTO",0,null,null,null,null,null,null,null,null,null,null,null,null,null,null,null,null,null,null,null,null,{"$f":"SUM(X69+Y69+Z69)","v":0},null,null,null,0,null,null,null,"",null,null,null,null,null,null,null,null,null,null,null,null,null,null,null,null,null,null,null,null,null,null,null,null,null,null,null,null,null,null,null,null,null,null,null,null,null,null,null,null,null,null,null,null,null,null,null,"","","","","",null,null,null,null,null,null,null,null,null,null,null,null,null,null,null,null,null,null,null,null,null,0,0,0,0]
["UROLOGÍA PEDIÁTRICA",0,null,null,null,null,null,null,null,null,null,null,null,null,null,null,null,null,null,null,null,null,{"$f":"SUM(X70+Y70+Z70)","v":0},null,null,null,0,null,null,null,"",null,null,null,null,null,null,null,null,null,null,null,null,null,null,null,null,null,null,null,null,null,null,null,null,null,null,null,null,null,null,null,null,null,null,null,null,null,null,null,null,null,null,null,null,null,null,null,"","","","","",null,null,null,null,null,null,null,null,null,null,null,null,null,null,null,null,null,null,null,null,null,0,0,0,0]
["TOTAL",{"$f":"SUM(B11:B70)","v":0},{"$f":"SUM(C11:C70)","v":0},0,0,0,0,0,0,0,0,0,0,0,0,0,0,0,0,0,0,0,0,0,0,0,0,{"$f":"SUM(AB11:AB70)","v":0},{"$f":"SUM(AC11:AC70)","v":0},{"$f":"SUM(AD11:AD70)","v":0}]
["SECCIÓN A.1: ATRIBUTOS DE LAS ATENCIONES DE ESPECIALIDAD"]
["ESPECIALIDADES   Y  SUB-ESPECIALIDADES","Interconsultas pertinentes según Criterio Clínico",null,null,null,"Consultas pertinentes según tiempo establecido en Box",null,null,null,"consultas  pertinentes según Criterio Clínico en Box",null,null,null,"Contrarreferencia inicial o retorno",null,null,"Contrarreferencia al alta",null,"Inasistente a consulta médica (NSP)",null,"CONSULTA ABREVIADA (Confección de recetas o lectura de exámenes)","Atención Especialista en Sala",null,"Consultas realizadas en APS e informadas (contenidas en sección A)",null,"Compra de Servicios (No incluidas en total de atenciones)",null,"Consultas Médicas por Operativos (no incluidas en produccion)","Total Interconsultas generadas en APS para derivación Especialidad",null,"Consultorías de Médicos Especialistas otorgadas ",null,null,"Consultas de Especialidades resueltas por Médico General"]
[]
[null,"Total","APS","CDT/CAE/CRS/Hospitalizado","Urgencia","Total","APS","CDT/CAE/CRS/Hospitalizado","Urgencia","Total","APS","CDT/CAE/CRS/Hospitalizado","Urgencia","Total","Menos 15 años","15 y más años","Menos \n15 años","15 y más \naños","Nuevas ","Controles",null,"Menos \n15 años","15 y más \naños","Contratados por el Establecimiento o Dirección del Servicio","Especialistas de Hospitales","Red Pública","Privados",null,"Menos 15 años","15 y más años","Nº Consultorías","Nº de casos revisados por el equipo","Nº de casos atendidos","Menos \n15 años","15 y más \naños"]
["ANESTESIOLOGÍA",{"$f":"SUM(C76:E76)","v":0},null,null,null,{"$f":"SUM(G76:I76)","v":0},null,null,null,{"$f":"SUM(K76:M76)","v":0},null,null,null,{"$f":"SUM(O76:P76)","v":0}]
["CARDIOLOGÍA ADULTO",{"$f":"SUM(C77:E77)","v":0},null,null,null,{"$f":"SUM(G77:I77)","v":0},null,null,null,{"$f":"SUM(K77:M77)","v":0},null,null,null,{"$f":"SUM(O77:P77)","v":0}]
["CARDIOLOGÍA PEDIÁTRICA",0,null,null,null,0,null,null,null,{"$f":"SUM(K78:M78)","v":0},null,null,null,0]
["CIRUGÍA CARDIOVASCULAR",0,null,null,null,{"$f":"SUM(G79:I79)","v":0},null,null,null,{"$f":"SUM(K79:M79)","v":0},null,null,null,0]
["CIRUGÍA DE CABEZA, CUELLO Y MAXILOFACIAL",0,null,null,null,0,null,null,null,{"$f":"SUM(K80:M80)","v":0},null,null,null,0]
["CIRUGÍA DIGESTIVA ",0,null,null,null,0,null,null,null,0,null,null,null,0]
["CIRUGÍA GENERAL ADULTO",0,null,null,null,0,null,null,null,0,null,null,null,0]
["CIRUGÍA PEDIÁTRICA",0,null,null,null,0,null,null,null,0,null,null,null,0]
["CIRUGÍA PLÁSTICA Y REPARADORA ADULTO",0,null,null,null,0,null,null,null,0,null,null,null,0]
["CIRUGÍA PLÁSTICA Y REPARADORA PEDIÁTRICA",0,null,null,null,0,null,null,null,0,null,null,null,0]
["CIRUGÍA TÓRAX",0,null,null,null,0,null,null,null,0,null,null,null,0]
["CIRUGÍA VASCULAR PERIFÉRICA",0,null,null,null,0,null,null,null,0,null,null,null,0]
["COLOPROCTOLOGÍA ",0,null,null,null,0,null,null,null,0,null,null,null,0]
["DERMATOLOGÍA",0,null,null,null,0,null,null,null,0,null,null,null,0]
["DIABETOLOGÍA",0,null,null,null,0,null,null,null,0,null,null,null,0]
["ENDOCRINOLOGÍA ADULTO",0,null,null,null,0,null,null,null,0,null,null,null,0]
["ENDOCRINOLOGÍA PEDIÁTRICA",0,null,null,null,0,null,null,null,0,null,null,null,0]
["ENFERMEDAD RESPIRATORIA DE ADULTO (BRONCOPULMONAR)",0,null,null,null,0,null,null,null,0,null,null,null,0]
["ENFERMEDAD RESPIRATORIA PEDIÁTRICA (BRONCOPULMONAR INFANTIL)",0,null,null,null,0,null,null,null,0,null,null,null,0]
["GASTROENTEROLOGÍA ADULTO",0,null,null,null,0,null,null,null,0,null,null,null,0]
["GASTROENTEROLOGÍA PEDIÁTRICA",0,null,null,null,0,null,null,null,0,null,null,null,0]
["GENÉTICA CLÍNICA",0,null,null,null,0,null,null,null,0,null,null,null,0]
["GERIATRÍA",0,null,null,null,0,null,null,null,0,null,null,null,0]
["GINECOLOGÍA ADULTO",0,null,null,null,0,null,null,null,0,null,null,null,0]
["GINECOLOGÍA PEDIÁTRICA Y DE LA ADOLESCENCIA",0,null,null,null,0,null,null,null,0,null,null,null,0]
["HEMATOLOGÍA ADULTO",0,null,null,null,0,null,null,null,0,null,null,null,0]
["HEMATO-ONCOLOGÍA INFANTIL",0,null,null,null,0,null,null,null,0,null,null,null,0]
["IMAGENOLOGÍA",0,null,null,null,0,null,null,null,0,null,null,null,0]
["INFECTOLOGÍA ADULTO",0,null,null,null,0,null,null,null,0,null,null,null,0]
["INFECTOLOGÍA PEDIÁTRICA",0,null,null,null,0,null,null,null,0,null,null,null,0]
["INMUNOLOGÍA",0,null,null,null,0,null,null,null,0,null,null,null,0]
["MEDICINA FAMILIAR",0,null,null,null,0,null,null,null,0,null,null,null,0]
["MEDICINA FAMILIAR ADULTO",0,null,null,null,0,null,null,null,0,null,null,null,0]
["MEDICINA FAMILIAR DEL NIÑO, NIÑA Y ADOLESCENTE",0,null,null,null,0,null,null,null,0,null,null,null,0]
["MEDICINA FÍSICA Y REHABILITACIÓN ADULTO (FISIATRÍA ADULTO)",0,null,null,null,0,null,null,null,0,null,null,null,0]
["MEDICINA FÍSICA Y REHABILITACIÓN PEDIÁTRICA (FISIATRÍA PEDIÁTRICA)",0,null,null,null,0,null,null,null,0,null,null,null,0]
["MEDICINA INTERNA",0,null,null,null,0,null,null,null,0,null,null,null,0]
["MEDICINA NUCLEAR (EXCLUYE INFORMES)",0,null,null,null,0,null,null,null,0,null,null,null,0]
["NEFROLOGÍA ADULTO",0,null,null,null,0,null,null,null,0,null,null,null,0]
["NEFROLOGÍA PEDIÁTRICA",0,null,null,null,0,null,null,null,0,null,null,null,0]
["NEONATOLOGÍA",0,null,null,null,0,null,null,null,0,null,null,null,0]
["NEUROCIRUGÍA",0,null,null,null,0,null,null,null,0,null,null,null,0]
["NEUROLOGÍA ADULTO",0,null,null,null,0,null,null,null,0,null,null,null,0]
["NEUROLOGÍA PEDIÁTRICA",0,null,null,null,0,null,null,null,0,null,null,null,0]
["NUTRIÓLOGO ADULTO",0,null,null,null,0,null,null,null,0,null,null,null,0]
["NUTRIÓLOGO PEDIÁTRICO",0,null,null,null,0,null,null,null,0,null,null,null,0]
["OBSTETRICIA",0,null,null,null,0,null,null,null,0,null,null,null,0]
["OFTALMOLOGÍA",0,null,null,null,0,null,null,null,0,null,null,null,0]
["ONCOLOGÍA MÉDICA",0,null,null,null,0,null,null,null,0,null,null,null,0]
["OTORRINOLARINGOLOGÍA",0,null,null,null,0,null,null,null,0,null,null,null,0]
["PEDIATRÍA",0,null,null,null,0,null,null,null,0,null,null,null,0]
["PSIQUIATRÍA ADULTO",0,null,null,null,0,null,null,null,0,null,null,null,0]
["PSIQUIATRÍA PEDIÁTRICA Y DE LA ADOLESCENCIA",0,null,null,null,0,null,null,null,0,null,null,null,0]
["RADIOTERAPIA ONCOLÓGICA",0,null,null,null,0,null,null,null,0,null,null,null,0]
["REUMATOLOGÍA ADULTO",0,null,null,null,0,null,null,null,0,null,null,null,0]
["REUMATOLOGÍA PEDIÁTRICA",0,null,null,null,0,null,null,null,0,null,null,null,0]
["TRAUMATOLOGÍA Y ORTOPEDIA ADULTO",0,null,null,null,0,null,null,null,0,null,null,null,0]
["TRAUMATOLOGÍA Y ORTOPEDIA PEDIÁTRICA",0,null,null,null,0,null,null,null,0,null,null,null,0]
["UROLOGÍA ADULTO",0,null,null,null,0,null,null,null,0,null,null,null,0]
["UROLOGÍA PEDIÁTRICA",0,null,null,null,0,null,null,null,0,null,null,null,0]
["TOTAL",{"$f":"SUM(B76:B135)","v":0},0,0,0,0,0,0,0,0,0,0,0,{"$f":"SUM(N76:N135)","v":0},0,0,0,0,0,0,{"$f":"SUM(U76:U135)","v":0},{"$f":"SUM(V76:V135)","v":0},0,0,0,0,0,0,0,0,0,0,0,0,0]
["SECCIÓN B: ATENCIONES MEDICAS POR PROGRAMAS Y POLICLÍNICOS  (INCLUIDAS EN SECCION A Y A1)"]
["ATENCIONES","TOTAL","0 - 4 años","5 - 9 años","10 - 14 años","15 - 19 años","20 - 24 años","25 - 29 años","30 - 34 años","35 - 39 años","40 - 44 años","45 - 49 años","50 - 54 años","55 - 59 años","60 - 64 años","65 - 69 años","70 - 74 años","75 - 79 años","80  años y mas","Trans "]
["ARRITMIAS",{"$f":"SUM(C139:S139)","v":0},null,null,null,null,null,null,null,null,null,null,null,null,null,null,null,null,null,null,{"$f":"CA139&CB139","v":""},null,null,null,null,null,null,null,null,null,null,null,null,null,null,null,null,null,null,null,null,null,null,null,null,null,null,null,null,null,null,null,null,null,null,null,null,null,null,null,null,null,null,null,null,null,null,null,null,null,null,null,null,null,null,null,null,null,{"$f":"IF(DA139=1,\"* No olvide digitar la columna Trans (Digite CEROS si no tiene). \",\"\")","v":""},{"$f":"IF(DB139=1,\"* El número de Atenciones de Personas Trans NO DEBE ser mayor que Total. \",\"\")","v":""},null,null,null,null,null,null,null,null,null,null,null,null,null,null,null,null,null,null,null,null,null,null,null,null,{"$f":"IF(AND($B139<>0,T139=\"\"),1,0)","v":0},{"$f":"IF($B139<T139,1,0)","v":0}]
["DIABETES",{"$f":"SUM(C140:S140)","v":0},null,null,null,null,null,null,null,null,null,null,null,null,null,null,null,null,null,null,{"$f":"CA140&CB140","v":""},null,null,null,null,null,null,null,null,null,null,null,null,null,null,null,null,null,null,null,null,null,null,null,null,null,null,null,null,null,null,null,null,null,null,null,null,null,null,null,null,null,null,null,null,null,null,null,null,null,null,null,null,null,null,null,null,null,"","",null,null,null,null,null,null,null,null,null,null,null,null,null,null,null,null,null,null,null,null,null,null,null,null,0,0]
["CIRUGÍA DE MAMAS",0,null,null,null,null,null,null,null,null,null,null,null,null,null,null,null,null,null,null,"",null,null,null,null,null,null,null,null,null,null,null,null,null,null,null,null,null,null,null,null,null,null,null,null,null,null,null,null,null,null,null,null,null,null,null,null,null,null,null,null,null,null,null,null,null,null,null,null,null,null,null,null,null,null,null,null,null,"","",null,null,null,null,null,null,null,null,null,null,null,null,null,null,null,null,null,null,null,null,null,null,null,null,0,0]
["ALTO RIESGO OBSTÉTRICO",0,null,null,null,null,null,null,null,null,null,null,null,null,null,null,null,null,null,null,"",null,null,null,null,null,null,null,null,null,null,null,null,null,null,null,null,null,null,null,null,null,null,null,null,null,null,null,null,null,null,null,null,null,null,null,null,null,null,null,null,null,null,null,null,null,null,null,null,null,null,null,null,null,null,null,null,null,"","",null,null,null,null,null,null,null,null,null,null,null,null,null,null,null,null,null,null,null,null,null,null,null,null,0,0]
["ATENCIÓN OBSTÉTRICA POR LEY IVE",0,null,null,null,null,null,null,null,null,null,null,null,null,null,null,null,null,null,null,"",null,null,null,null,null,null,null,null,null,null,null,null,null,null,null,null,null,null,null,null,null,null,null,null,null,null,null,null,null,null,null,null,null,null,null,null,null,null,null,null,null,null,null,null,null,null,null,null,null,null,null,null,null,null,null,null,null,"","",null,null,null,null,null,null,null,null,null,null,null,null,null,null,null,null,null,null,null,null,null,null,null,null,0,0]
["TRATAMIENTO ANTICOAGULANTE",0,null,null,null,null,null,null,null,null,null,null,null,null,null,null,null,null,null,null,"",null,null,null,null,null,null,null,null,null,null,null,null,null,null,null,null,null,null,null,null,null,null,null,null,null,null,null,null,null,null,null,null,null,null,null,null,null,null,null,null,null,null,null,null,null,null,null,null,null,null,null,null,null,null,null,null,null,"","",null,null,null,null,null,null,null,null,null,null,null,null,null,null,null,null,null,null,null,null,null,null,null,null,0,0]
["CUIDADOS PALIATIVOS",0,null,null,null,null,null,null,null,null,null,null,null,null,null,null,null,null,null,null,"",null,null,null,null,null,null,null,null,null,null,null,null,null,null,null,null,null,null,null,null,null,null,null,null,null,null,null,null,null,null,null,null,null,null,null,null,null,null,null,null,null,null,null,null,null,null,null,null,null,null,null,null,null,null,null,null,null,"","",null,null,null,null,null,null,null,null,null,null,null,null,null,null,null,null,null,null,null,null,null,null,null,null,0,0]
["INFERTILIDAD",0,null,null,null,null,null,null,null,null,null,null,null,null,null,null,null,null,null,null,"",null,null,null,null,null,null,null,null,null,null,null,null,null,null,null,null,null,null,null,null,null,null,null,null,null,null,null,null,null,null,null,null,null,null,null,null,null,null,null,null,null,null,null,null,null,null,null,null,null,null,null,null,null,null,null,null,null,"","",null,null,null,null,null,null,null,null,null,null,null,null,null,null,null,null,null,null,null,null,null,null,null,null,0,0]
["PATOLOGÍA CERVICAL",0,null,null,null,null,null,null,null,null,null,null,null,null,null,null,null,null,null,null,"",null,null,null,null,null,null,null,null,null,null,null,null,null,null,null,null,null,null,null,null,null,null,null,null,null,null,null,null,null,null,null,null,null,null,null,null,null,null,null,null,null,null,null,null,null,null,null,null,null,null,null,null,null,null,null,null,null,"","",null,null,null,null,null,null,null,null,null,null,null,null,null,null,null,null,null,null,null,null,null,null,null,null,0,0]
["PATOLOGÍA DE MAMAS",0,null,null,null,null,null,null,null,null,null,null,null,null,null,null,null,null,null,null,"",null,null,null,null,null,null,null,null,null,null,null,null,null,null,null,null,null,null,null,null,null,null,null,null,null,null,null,null,null,null,null,null,null,null,null,null,null,null,null,null,null,null,null,null,null,null,null,null,null,null,null,null,null,null,null,null,null,"","",null,null,null,null,null,null,null,null,null,null,null,null,null,null,null,null,null,null,null,null,null,null,null,null,0,0]
["ADOLESCENCIA",0,null,null,null,null,null,null,null,null,null,null,null,null,null,null,null,null,null,null,"",null,null,null,null,null,null,null,null,null,null,null,null,null,null,null,null,null,null,null,null,null,null,null,null,null,null,null,null,null,null,null,null,null,null,null,null,null,null,null,null,null,null,null,null,null,null,null,null,null,null,null,null,null,null,null,null,null,"","",null,null,null,null,null,null,null,null,null,null,null,null,null,null,null,null,null,null,null,null,null,null,null,null,0,0]
["NANEAS",0,null,null,null,null,null,null,null,null,null,null,null,null,null,null,null,null,null,null,"",null,null,null,null,null,null,null,null,null,null,null,null,null,null,null,null,null,null,null,null,null,null,null,null,null,null,null,null,null,null,null,null,null,null,null,null,null,null,null,null,null,null,null,null,null,null,null,null,null,null,null,null,null,null,null,null,null,"","",null,null,null,null,null,null,null,null,null,null,null,null,null,null,null,null,null,null,null,null,null,null,null,null,0,0]
["ITS",0,null,null,null,null,null,null,null,null,null,null,null,null,null,null,null,null,null,null,"",null,null,null,null,null,null,null,null,null,null,null,null,null,null,null,null,null,null,null,null,null,null,null,null,null,null,null,null,null,null,null,null,null,null,null,null,null,null,null,null,null,null,null,null,null,null,null,null,null,null,null,null,null,null,null,null,null,"","",null,null,null,null,null,null,null,null,null,null,null,null,null,null,null,null,null,null,null,null,null,null,null,null,0,0]
["VIH/SIDA",0,null,null,null,null,null,null,null,null,null,null,null,null,null,null,null,null,null,null,"",null,null,null,null,null,null,null,null,null,null,null,null,null,null,null,null,null,null,null,null,null,null,null,null,null,null,null,null,null,null,null,null,null,null,null,null,null,null,null,null,null,null,null,null,null,null,null,null,null,null,null,null,null,null,null,null,null,"","",null,null,null,null,null,null,null,null,null,null,null,null,null,null,null,null,null,null,null,null,null,null,null,null,0,0]
["MEDICINAL OCUPACIONAL (SALUD DEL PERSONAL)",{"$f":"SUM(C153:S153)","v":0},null,null,null,null,null,null,null,null,null,null,null,null,null,null,null,null,null,null,"",null,null,null,null,null,null,null,null,null,null,null,null,null,null,null,null,null,null,null,null,null,null,null,null,null,null,null,null,null,null,null,null,null,null,null,null,null,null,null,null,null,null,null,null,null,null,null,null,null,null,null,null,null,null,null,null,null,"","",null,null,null,null,null,null,null,null,null,null,null,null,null,null,null,null,null,null,null,null,null,null,null,null,0,0]
["UNIDAD TRAUMA OCULAR",{"$f":"SUM(C154:S154)","v":0},null,null,null,null,null,null,null,null,null,null,null,null,null,null,null,null,null,null,"",null,null,null,null,null,null,null,null,null,null,null,null,null,null,null,null,null,null,null,null,null,null,null,null,null,null,null,null,null,null,null,null,null,null,null,null,null,null,null,null,null,null,null,null,null,null,null,null,null,null,null,null,null,null,null,null,null,"","",null,null,null,null,null,null,null,null,null,null,null,null,null,null,null,null,null,null,null,null,null,null,null,null,0,0]
["TOTAL ",{"$f":"SUM(B139:B154)","v":0},{"$f":"SUM(C139:C154)","v":0},0,0,0,0,{"$f":"SUM(H139:H154)","v":0},0,0,0,0,0,0,0,0,0,0,0,0]
["SECCIÓN C: CONSULTAS Y CONTROLES POR OTROS PROFESIONALES EN ESPECIALIDAD (NIVEL SECUNDARIO)"]
["PROFESIONAL",null,"TOTAL ",null,null,"POR EDAD (en años)",null,null,null,null,null,null,null,null,null,null,null,null,null,null,null,null,null,null,null,null,null,null,null,null,null,null,null,null,null,null,null,null,null,"Beneficiarios","Total Controles (incluidos en grupo de edad)","Pueblos Originarios","Migrantes"]
[null,null,null,null,null,"0 - 4 años",null,"5 - 9 años",null,"10 - 14 años",null,"15 - 19 años",null,"20 - 24 años",null,"25 - 29 años",null,"30 - 34 años",null,"35 - 39 años",null,"40 - 44 años",null,"45 - 49 años",null,"50 - 54 años",null,"55 - 59 años",null,"60 - 64 años",null,"65 - 69 años",null,"70 - 74 años",null,"75 - 79 años",null,"80 y más años"]
[null,null,"Ambos Sexos","Hombres","Mujeres","Hombres","Mujeres","Hombres","Mujeres","Hombres","Mujeres","Hombres","Mujeres","Hombres","Mujeres","Hombres","Mujeres","Hombres","Mujeres","Hombres","Mujeres","Hombres","Mujeres","Hombres","Mujeres","Hombres","Mujeres","Hombres","Mujeres","Hombres","Mujeres","Hombres","Mujeres","Hombres","Mujeres","Hombres","Mujeres","Hombres","Mujeres"]
["ENFERMERA/O",null,{"$f":"SUM(D160+E160)","v":0},{"$f":"SUM(F160+H160+J160+L160+N160+P160+R160+T160+V160+X160+Z160+AB160+AD160+AF160+AH160+AJ160+AL160)","v":0},{"$f":"SUM(G160+I160+K160+M160+O160+Q160+S160+U160+W160+Y160+AA160+AC160+AE160+AG160+AI160+AK160+AM160)","v":0},null,null,null,null,null,null,null,null,null,null,null,null,null,null,null,null,null,null,null,null,null,null,null,null,null,null,null,null,null,null,null,null,null,null,null,null,null,null,{"$f":"CA160&CB160&CC160&CD160","v":""},null,null,null,null,null,null,null,null,null,null,null,null,null,null,null,null,null,null,null,null,null,null,null,null,null,null,null,null,null,null,null,null,null,null,{"$f":"IF(DA160=1,\"* El número de Beneficiarios NO DEBE ser mayor que el Total. \",\"\")","v":""},{"$f":"IF(DB160=1,\"* No olvide digitar la columna Beneficiarios y/o Pueblos Originarios y/o Migrantes (Digite CEROS si no tiene.). \",\"\")","v":""},{"$f":"IF(DC160=1,\"* El número de Pueblos Originarios y/o Migrantes NO DEBE ser mayor que el Total. \",\"\")","v":""},{"$f":"IF(DD160=1,\"* El número de Controles NO DEBE ser mayor que el Total. \",\"\")","v":""},null,null,null,null,null,null,null,null,null,null,null,null,null,null,null,null,null,null,null,null,null,null,{"$f":"IF(C160<AN160,1,0)","v":0},{"$f":"IF(AND(C160<>0,OR(AN160=\"\",AP160=\"\",AQ160=\"\")),1,0)","v":0},{"$f":"IF(OR(C160<AP160,C160<AQ160),1,0)","v":0},{"$f":"IF(C160<AO160,1,0)","v":0}]
["MATRONA/ON","ARO",{"$f":"SUM(D161:E161)","v":0},null,{"$f":"SUM(K161+M161+O161+Q161+S161+U161+W161+Y161+AA161+AC161+AE161+AG161+AI161+AK161+AM161)","v":0},null,null,null,null,null,null,null,null,null,null,null,null,null,null,null,null,null,null,null,null,null,null,null,null,null,null,null,null,null,null,null,null,null,null,null,null,null,null,{"$f":"CA161&CB161&CC161&CD161","v":""},null,null,null,null,null,null,null,null,null,null,null,null,null,null,null,null,null,null,null,null,null,null,null,null,null,null,null,null,null,null,null,null,null,null,"","","","",null,null,null,null,null,null,null,null,null,null,null,null,null,null,null,null,null,null,null,null,null,null,{"$f":"IF(E161<AN161,1,0)","v":0},{"$f":"IF(AND(E161<>0,OR(AN161=\"\",AP161=\"\",AQ161=\"\")),1,0)","v":0},{"$f":"IF(OR(E161<AP161,E161<AQ161),1,0)","v":0},{"$f":"IF(E161<AO161,1,0)","v":0}]
[null,"ARO por Ley IVE",{"$f":"SUM(D162:E162)","v":0},null,{"$f":"SUM(K162+M162+O162+Q162+S162+U162+W162+Y162+AA162+AC162+AE162+AG162+AI162+AK162+AM162)","v":0},null,null,null,null,null,null,null,null,null,null,null,null,null,null,null,null,null,null,null,null,null,null,null,null,null,null,null,null,null,null,null,null,null,null,null,null,null,null,"",null,null,null,null,null,null,null,null,null,null,null,null,null,null,null,null,null,null,null,null,null,null,null,null,null,null,null,null,null,null,null,null,null,null,"","","","",null,null,null,null,null,null,null,null,null,null,null,null,null,null,null,null,null,null,null,null,null,null,{"$f":"IF(E162<AN162,1,0)","v":0},{"$f":"IF(AND(E162<>0,OR(AN162=\"\",AP162=\"\",AQ162=\"\")),1,0)","v":0},{"$f":"IF(OR(E162<AP162,E162<AQ162),1,0)","v":0},{"$f":"IF(E162<AO162,1,0)","v":0}]
[null,"Ginecología y otros ",{"$f":"SUM(D163+E163)","v":0},{"$f":"SUM(F163+H163+J163+L163+N163+P163+R163+T163+V163+X163+Z163+AB163+AD163+AF163+AH163+AJ163+AL163)","v":0},{"$f":"SUM(G163+I163+K163+M163+O163+Q163+S163+U163+W163+Y163+AA163+AC163+AE163+AG163+AI163+AK163+AM163)","v":0},null,null,null,null,null,null,null,null,null,null,null,null,null,null,null,null,null,null,null,null,null,null,null,null,null,null,null,null,null,null,null,null,null,null,null,null,null,null,"",null,null,null,null,null,null,null,null,null,null,null,null,null,null,null,null,null,null,null,null,null,null,null,null,null,null,null,null,null,null,null,null,null,null,"","","","",null,null,null,null,null,null,null,null,null,null,null,null,null,null,null,null,null,null,null,null,null,null,{"$f":"IF(C163<AN163,1,0)","v":0},{"$f":"IF(AND(C163<>0,OR(AN163=\"\",AP163=\"\",AQ163=\"\")),1,0)","v":0},{"$f":"IF(OR(C163<AP163,C163<AQ163),1,0)","v":0},{"$f":"IF(C163<AO163,1,0)","v":0}]
[null,"Infertilidad ",0,{"$f":"SUM(N164+P164+R164+T164+V164+X164+Z164+AB164)","v":0},{"$f":"SUM(O164+Q164+S164+U164+W164+Y164+AA164+AC164)","v":0},null,null,null,null,null,null,null,null,null,null,null,null,null,null,null,null,null,null,null,null,null,null,null,null,null,null,null,null,null,null,null,null,null,null,null,null,null,null,"",null,null,null,null,null,null,null,null,null,null,null,null,null,null,null,null,null,null,null,null,null,null,null,null,null,null,null,null,null,null,null,null,null,null,"","","","",null,null,null,null,null,null,null,null,null,null,null,null,null,null,null,null,null,null,null,null,null,null,0,0,0,0]
["NUTRICIONISTA",null,0,{"$f":"SUM(F165+H165+J165+L165+N165+P165+R165+T165+V165+X165+Z165+AB165+AD165+AF165+AH165+AJ165+AL165)","v":0},0,null,null,null,null,null,null,null,null,null,null,null,null,null,null,null,null,null,null,null,null,null,null,null,null,null,null,null,null,null,null,null,null,null,null,null,null,null,null,"",null,null,null,null,null,null,null,null,null,null,null,null,null,null,null,null,null,null,null,null,null,null,null,null,null,null,null,null,null,null,null,null,null,null,"","","","",null,null,null,null,null,null,null,null,null,null,null,null,null,null,null,null,null,null,null,null,null,null,0,0,0,0]
["PSICÓLOGO/A (EXCLUYE SM)",null,0,0,0,null,null,null,null,null,null,null,null,null,null,null,null,null,null,null,null,null,null,null,null,null,null,null,null,null,null,null,null,null,null,null,null,null,null,null,null,null,null,"",null,null,null,null,null,null,null,null,null,null,null,null,null,null,null,null,null,null,null,null,null,null,null,null,null,null,null,null,null,null,null,null,null,null,"","","","",null,null,null,null,null,null,null,null,null,null,null,null,null,null,null,null,null,null,null,null,null,null,0,0,0,0]
["FONOAUDIÓLOGO/A",null,0,0,0,null,null,null,null,null,null,null,null,null,null,null,null,null,null,null,null,null,null,null,null,null,null,null,null,null,null,null,null,null,null,null,null,null,null,null,null,null,null,"",null,null,null,null,null,null,null,null,null,null,null,null,null,null,null,null,null,null,null,null,null,null,null,null,null,null,null,null,null,null,null,null,null,null,"","","","",null,null,null,null,null,null,null,null,null,null,null,null,null,null,null,null,null,null,null,null,null,null,0,0,0,0]
["TECNÓLOGO/A MÉDICO/A",null,0,0,0,null,null,null,null,null,null,null,null,null,null,null,null,null,null,null,null,null,null,null,null,null,null,null,null,null,null,null,null,null,null,null,null,null,null,null,null,null,null,"",null,null,null,null,null,null,null,null,null,null,null,null,null,null,null,null,null,null,null,null,null,null,null,null,null,null,null,null,null,null,null,null,null,null,"","","","",null,null,null,null,null,null,null,null,null,null,null,null,null,null,null,null,null,null,null,null,null,null,0,0,0,0]
["TRABAJADOR/A  SOCIAL",null,{"$f":"SUM(D169+E169)","v":0},{"$f":"SUM(F169+H169+J169+L169+N169+P169+R169+T169+V169+X169+Z169+AB169+AD169+AF169+AH169+AJ169+AL169)","v":0},{"$f":"SUM(G169+I169+K169+M169+O169+Q169+S169+U169+W169+Y169+AA169+AC169+AE169+AG169+AI169+AK169+AM169)","v":0}]
["TERAPEUTA OCUPACIONAL",null,0,0,0,null,null,null,null,null,null,null,null,null,null,null,null,null,null,null,null,null,null,null,null,null,null,null,null,null,null,null,null,null,null,null,null,null,null,null,null,null,null,"",null,null,null,null,null,null,null,null,null,null,null,null,null,null,null,null,null,null,null,null,null,null,null,null,null,null,null,null,null,null,null,null,null,null,{"$f":"IF(DA170=1,\"* El número de Beneficiarios NO DEBE ser mayor que el Total. \",\"\")","v":""},{"$f":"IF(DB170=1,\"* No olvide digitar la columna Beneficiarios y/o Pueblos Originarios y/o Migrantes (Digite CEROS si no tiene.). \",\"\")","v":""},{"$f":"IF(DC170=1,\"* El número de Pueblos Originarios y/o Migrantes NO DEBE ser mayor que el Total. \",\"\")","v":""},{"$f":"IF(DD170=1,\"* El número de Controles NO DEBE ser mayor que el Total. \",\"\")","v":""},null,null,null,null,null,null,null,null,null,null,null,null,null,null,null,null,null,null,null,null,null,null,{"$f":"IF(C170<AN170,1,0)","v":0},{"$f":"IF(AND(C170<>0,OR(AN170=\"\",AP170=\"\",AQ170=\"\")),1,0)","v":0},{"$f":"IF(OR(C170<AP170,C170<AQ170),1,0)","v":0},{"$f":"IF(C170<AO170,1,0)","v":0}]
["TOTAL",null,{"$f":"SUM(C160:C170)","v":0},0,0,0,0,0,0,0,0,0,0,0,0,0,0,0,0,0,0,0,0,0,0,0,0,0,0,0,0,0,0,0,0,0,0,0,0,0,0,0,0,"   "]
["SECCIÓN D: CONSULTAS INFECCIÓN TRANSMISIÓN SEXUAL (ITS) Y CONTROLES DE SALUD SEXUAL EN EL NIVEL SECUNDARIO (Incluidas en Sección C)"]
["ACTIVIDAD","PROFESIONAL","TOTAL ",null,null,"POR EDAD (en años)",null,null,null,null,null,null,null,null,null,null,null,null,null,null,null,null,null,null,null,null,null,null,null,null,null,null,null,null,null,null,null,null,null,"Beneficiarios","Trans",null,"Pueblos Originarios","Migrantes","Niños, Niñas, Adolescentes SENAME","Niños, Niñas, Adolescentes y Jóvenes Mejor Niñez"]
[null,null,null,null,null,"0 - 4 años",null,"5 - 9 años",null,"10 - 14 años",null,"15 - 19 años",null,"20 - 24 años",null,"25 - 29 años",null,"30 - 34 años",null,"35 - 39 años",null,"40 - 44 años",null,"45 - 49 años",null,"50 - 54 años",null,"55 - 59 años",null,"60 - 64 años",null,"65 - 69 años",null,"70 - 74 años",null,"75 - 79 años",null,"80 y más años"]
[null,null,"Ambos Sexos","Hombre","Mujer","Hombre","Mujer","Hombre","Mujer","Hombre","Mujer","Hombre","Mujer","Hombre","Mujer","Hombre","Mujer","Hombre","Mujer","Hombre","Mujer","Hombre","Mujer","Hombre","Mujer","Hombre","Mujer","Hombre","Mujer","Hombre","Mujer","Hombre","Mujer","Hombre","Mujer","Hombre","Mujer","Hombre","Mujer",null,"Masculino","Femenino"]
["CONSULTAS  INFECCIÓN TRANSMISIÓN SEXUAL  (ITS) (excluir VIH/SIDA)","ENFERMERA/O",{"$f":"SUM(D176+E176)","v":0},{"$f":"SUM(F176+H176+J176+L176+N176+P176+R176+T176+V176+X176+Z176+AB176+AD176+AF176+AH176+AJ176+AL176)","v":0},{"$f":"SUM(G176+I176+K176+M176+O176+Q176+S176+U176+W176+Y176+AA176+AC176+AE176+AG176+AI176+AK176+AM176)","v":0},null,null,null,null,null,null,null,null,null,null,null,null,null,null,null,null,null,null,null,null,null,null,null,null,null,null,null,null,null,null,null,null,null,null,null,null,null,null,null,null,null,{"$f":"CA176&CB176&CC176&CD176&CE176&CF176&CG176","v":""},null,null,null,null,null,null,null,null,null,null,null,null,null,null,null,null,null,null,null,null,null,null,null,null,null,null,null,null,null,null,null,{"$f":"IF(DA176=1,\"* El número de Beneficiarios NO DEBE ser mayor que el Total \",\"\")","v":""},{"$f":"IF(DB176=1,\"* No olvide digitar las columnas Beneficiarios y/o Trans y/o Pueblos Originarios y/o Migrantes y/o Niños, Niñas, Adolescentes y Jóvenes Población SENAME/Mejor Niñez (Digite CEROS si no tiene.). \",\"\")","v":""},{"$f":"IF(DC176=1,\"* El número de Trans NO DEBE ser mayor que el Total. \",\"\")","v":""},{"$f":"IF(DD176=1,\"* El número de Pueblos Originarios NO DEBE ser mayor que el Total. \",\"\")","v":""},{"$f":"IF(DE176=1,\"* El número de Migrantes NO DEBE ser mayor que el Total. \",\"\")","v":""},{"$f":"IF(DF176=1,\"* El número de Niños, Niñas, Adolescentes y Jóvenes Población SENAME NO DEBE ser mayor que el Total. \",\"\")","v":""},{"$f":"IF(DG176=1,\"* El número de Niños, Niñas, Adolescentes y Jóvenes Población Mejor Niñez NO DEBE ser mayor que el Total. \",\"\")","v":""},null,null,null,null,null,null,null,null,null,null,null,null,null,null,null,null,null,null,null,{"$f":"IF(C176<AN176,1,0)","v":0},{"$f":"IF(AND(C176<>0,OR(AN176=\"\",AO176=\"\",AP176=\"\",AQ176=\"\",AR176=\"\",AS176=\"\")),1,0)","v":0},{"$f":"IF(C176<(AO176+AP176),1,0)","v":0},{"$f":"IF(C176<AQ176,1,0)","v":0},{"$f":"IF(C176<AR176,1,0)","v":0},{"$f":"IF(C176<AS176,1,0)","v":0},{"$f":"IF(C176<AT176,1,0)","v":0}]
[null,"MATRONA/ON",0,0,0,null,null,null,null,null,null,null,null,null,null,null,null,null,null,null,null,null,null,null,null,null,null,null,null,null,null,null,null,null,null,null,null,null,null,null,null,null,null,null,null,null,{"$f":"CA177&CB177&CC177&CD177&CE177&CF177&CG177","v":""},null,null,null,null,null,null,null,null,null,null,null,null,null,null,null,null,null,null,null,null,null,null,null,null,null,null,null,null,null,null,null,"",{"$f":"IF(DB177=1,\"* No olvide digitar las columnas Beneficiarios y/o Trans y/o Pueblos Originarios y/o Migrantes y/o Niños, Niñas, Adolescentes y Jóvenes Población SENAME/Mejor Niñez (Digite CEROS si no tiene.). \",\"\")","v":""},"","","","",{"$f":"IF(DG177=1,\"* El número de Niños, Niñas, Adolescentes y Jóvenes Población Mejor Niñez NO DEBE ser mayor que el Total. \",\"\")","v":""},null,null,null,null,null,null,null,null,null,null,null,null,null,null,null,null,null,null,null,0,0,0,0,0,0,{"$f":"IF(C177<AT177,1,0)","v":0}]
["CONSULTAS VIH/SIDA","ENFERMERA/O",0,0,{"$f":"SUM(G178+I178+K178+M178+O178+Q178+S178+U178+W178+Y178+AA178+AC178+AE178+AG178+AI178+AK178+AM178)","v":0},null,null,null,null,null,null,null,null,null,null,null,null,null,null,null,null,null,null,null,null,null,null,null,null,null,null,null,null,null,null,null,null,null,null,null,null,null,null,null,null,null,"",null,null,null,null,null,null,null,null,null,null,null,null,null,null,null,null,null,null,null,null,null,null,null,null,null,null,null,null,null,null,null,"","","","","","","",null,null,null,null,null,null,null,null,null,null,null,null,null,null,null,null,null,null,null,0,0,0,0,0,0,0]
[null,"MATRONA/ON",0,0,0,null,null,null,null,null,null,null,null,null,null,null,null,null,null,null,null,null,null,null,null,null,null,null,null,null,null,null,null,null,null,null,null,null,null,null,null,null,null,null,null,null,"",null,null,null,null,null,null,null,null,null,null,null,null,null,null,null,null,null,null,null,null,null,null,null,null,null,null,null,null,null,null,null,"","","","","","","",null,null,null,null,null,null,null,null,null,null,null,null,null,null,null,null,null,null,null,0,0,0,0,0,0,0]
[null,"PSICÓLOGO/A",0,0,0,null,null,null,null,null,null,null,null,null,null,null,null,null,null,null,null,null,null,null,null,null,null,null,null,null,null,null,null,null,null,null,null,null,null,null,null,null,null,null,null,null,"",null,null,null,null,null,null,null,null,null,null,null,null,null,null,null,null,null,null,null,null,null,null,null,null,null,null,null,null,null,null,null,"","","","","","","",null,null,null,null,null,null,null,null,null,null,null,null,null,null,null,null,null,null,null,0,0,0,0,0,0,0]
["CONTROL VIH CON TAR","ENFERMERA/O",0,0,0,null,null,null,null,null,null,null,null,null,null,null,null,null,null,null,null,null,null,null,null,null,null,null,null,null,null,null,null,null,null,null,null,null,null,null,null,null,null,null,null,null,"",null,null,null,null,null,null,null,null,null,null,null,null,null,null,null,null,null,null,null,null,null,null,null,null,null,null,null,null,null,null,null,"","","","","","","",null,null,null,null,null,null,null,null,null,null,null,null,null,null,null,null,null,null,null,0,0,0,0,0,0,0]
[null,"MATRONA/ON",0,0,0,null,null,null,null,null,null,null,null,null,null,null,null,null,null,null,null,null,null,null,null,null,null,null,null,null,null,null,null,null,null,null,null,null,null,null,null,null,null,null,null,null,"",null,null,null,null,null,null,null,null,null,null,null,null,null,null,null,null,null,null,null,null,null,null,null,null,null,null,null,null,null,null,null,"","","","","","","",null,null,null,null,null,null,null,null,null,null,null,null,null,null,null,null,null,null,null,0,0,0,0,0,0,0]
["CONTROL VIH SIN TAR","ENFERMERA/O",0,0,0,null,null,null,null,null,null,null,null,null,null,null,null,null,null,null,null,null,null,null,null,null,null,null,null,null,null,null,null,null,null,null,null,null,null,null,null,null,null,null,null,null,"",null,null,null,null,null,null,null,null,null,null,null,null,null,null,null,null,null,null,null,null,null,null,null,null,null,null,null,null,null,null,null,"","","","","","","",null,null,null,null,null,null,null,null,null,null,null,null,null,null,null,null,null,null,null,0,0,0,0,0,0,0]
[null,"MATRONA/ON",0,0,0,null,null,null,null,null,null,null,null,null,null,null,null,null,null,null,null,null,null,null,null,null,null,null,null,null,null,null,null,null,null,null,null,null,null,null,null,null,null,null,null,null,"",null,null,null,null,null,null,null,null,null,null,null,null,null,null,null,null,null,null,null,null,null,null,null,null,null,null,null,null,null,null,null,"","","","","","","",null,null,null,null,null,null,null,null,null,null,null,null,null,null,null,null,null,null,null,0,0,0,0,0,0,0]
["CONTROLES DE SALUD A PERSONAS QUE EJERCEN COMERCIO SEXUAL","ENFERMERA/O",0,{"$f":"SUM(L185+N185+P185+R185+T185+V185+X185+Z185+AB185+AD185+AF185+AH185+AJ185+AL185)","v":0},{"$f":"SUM(M185+O185+Q185+S185+U185+W185+Y185+AA185+AC185+AE185+AG185+AI185+AK185+AM185)","v":0},null,null,null,null,null,null,null,null,null,null,null,null,null,null,null,null,null,null,null,null,null,null,null,null,null,null,null,null,null,null,null,null,null,null,null,null,null,null,null,null,null,"",null,null,null,null,null,null,null,null,null,null,null,null,null,null,null,null,null,null,null,null,null,null,null,null,null,null,null,null,null,null,null,"","","","","","","",null,null,null,null,null,null,null,null,null,null,null,null,null,null,null,null,null,null,null,0,0,0,0,0,0,0]
[null,"MATRONA/ON",0,{"$f":"SUM(L186+N186+P186+R186+T186+V186+X186+Z186+AB186+AD186+AF186+AH186+AJ186+AL186)","v":0},{"$f":"SUM(M186+O186+Q186+S186+U186+W186+Y186+AA186+AC186+AE186+AG186+AI186+AK186+AM186)","v":0},null,null,null,null,null,null,null,null,null,null,null,null,null,null,null,null,null,null,null,null,null,null,null,null,null,null,null,null,null,null,null,null,null,null,null,null,null,null,null,null,null,"",null,null,null,null,null,null,null,null,null,null,null,null,null,null,null,null,null,null,null,null,null,null,null,null,null,null,null,null,null,null,null,"","","","","","","",null,null,null,null,null,null,null,null,null,null,null,null,null,null,null,null,null,null,null,0,0,0,0,0,0,0]
[null,null,null,null,null,null,null,null,null,null,null,null,null,null,null,null,null,null,null,null,null,null,null,null,null,null,null,null,null,null,null,null,null,null,null,null,null,null,null,null,null,null,null,"   "]
[]
[]
[]
[]
[]
[]
[]
[]
[]
[]
[]
[]
[]
[]
[]
[]
[]
[]
[]
[]
[]
[]
[]
[]
[]
[]
[]
[]
[]
[]
[]
[]
[]
[]
[]
[]
[]
[]
[]
[]
[]
[]
[]
[]
[]
[]
[]
[]
[]
[]
[]
[]
[]
[]
[]
[]
[]
[]
[]
[]
[]
[]
[]
[]
[]
[]
[]
[]
[]
[]
[]
[]
[]
[]
[{"$f":"SUM(B71,B136,F136,J136,B155,C171,C176:C186)","v":0},{"$f":"SUM(DA7:DZ188)","v":0}]

{"sheet":"A08","index":8,"n_rows":202,"n_cols":111,"rows_kept":202,"cut":false,"hidden":false,"merged":[[39,0,41,0],[39,4,39,37],[40,12,40,13],[98,0,99,0],[9,28,9,29],[9,34,9,35],[9,8,9,9],[9,10,9,11],[9,12,9,13],[9,14,9,15],[9,24,9,25],[73,21,73,22],[9,26,9,27],[19,30,19,31],[19,32,19,33],[19,22,19,23],[19,4,19,5],[19,6,19,7],[19,16,19,17],[19,18,19,19],[19,20,19,21],[96,0,97,1],[30,12,30,13],[19,8,19,9],[40,6,40,7],[40,24,40,25],[40,26,40,27],[40,14,40,15],[96,3,96,8],[96,9,97,9],[96,2,97,2],[111,24,113,24],[112,7,112,8],[111,23,113,23],[111,27,111,30],[111,25,113,25],[112,30,113,30],[111,26,113,26],[112,29,113,29],[112,28,113,28],[111,22,113,22],[106,13,107,13],[101,8,101,9],[101,10,101,11],[101,12,101,13],[101,14,101,15],[19,10,19,11],[19,12,19,13],[40,16,40,17],[40,8,40,9],[40,10,40,11],[40,34,40,35],[30,14,30,15],[30,24,30,25],[19,34,19,35],[30,8,30,9],[30,10,30,11],[40,18,40,19],[40,20,40,21],[40,22,40,23],[94,0,94,1],[72,2,73,4],[92,0,92,1],[89,0,91,1],[73,23,73,24],[73,25,73,26],[90,23,90,24],[90,7,90,8],[90,9,90,10],[90,13,90,14],[93,0,93,1],[89,2,90,4],[75,0,75,1],[72,0,74,1],[72,5,72,38],[82,0,82,1],[84,0,84,2],[73,31,73,32],[73,33,73,34],[73,17,73,18],[73,19,73,20],[73,15,73,16],[8,44,10,44],[18,40,20,40],[29,39,31,39],[9,40,10,40],[9,41,10,41],[9,42,10,42],[8,43,10,43],[18,38,20,38],[8,39,8,42],[9,39,10,39],[8,38,10,38],[29,38,31,38],[18,39,20,39],[18,41,20,41],[30,6,30,7],[72,40,74,40],[90,27,90,28],[85,0,87,1],[89,39,91,39],[72,39,74,39],[90,29,90,30],[90,5,90,6],[90,25,90,26],[90,31,90,32],[90,21,90,22],[90,11,90,12],[90,35,90,36],[90,33,90,34],[90,37,90,38],[90,17,90,18],[90,19,90,20],[73,5,73,6],[73,7,73,8],[73,9,73,10],[73,11,73,12],[73,13,73,14],[39,1,40,3],[40,4,40,5],[5,0,5,14],[8,0,10,0],[8,1,9,3],[8,4,8,37],[9,30,9,31],[9,32,9,33],[9,22,9,23],[30,30,30,31],[30,32,30,33],[30,22,30,23],[9,36,9,37],[19,14,19,15],[19,24,19,25],[19,36,19,37],[19,26,19,27],[9,4,9,5],[9,6,9,7],[9,16,9,17],[9,18,9,19],[9,20,9,21],[30,36,30,37],[30,26,30,27],[18,0,20,0],[18,1,19,3],[18,4,18,37],[29,0,31,0],[29,1,30,3],[29,4,29,37],[81,0,81,1],[79,0,79,1],[80,0,80,1],[76,0,78,0],[73,27,73,28],[73,29,73,30],[40,36,40,37],[40,30,40,31],[40,28,40,29],[40,32,40,33],[19,28,19,29],[30,16,30,17],[30,18,30,19],[30,20,30,21],[30,28,30,29],[30,34,30,35],[73,35,73,36],[73,37,73,38],[39,38,40,39],[30,4,30,5],[162,0,163,0],[165,0,167,0],[169,2,169,4],[169,5,170,5],[169,6,170,6],[169,7,170,7],[123,12,123,13],[127,0,130,0],[122,1,123,3],[123,6,123,7],[123,8,123,9],[153,0,153,1],[156,2,156,4],[156,5,157,5],[156,6,156,8],[156,9,156,11],[127,4,127,11],[128,4,128,5],[128,6,128,7],[128,8,128,9],[127,1,128,3],[122,0,124,0],[123,10,123,11],[137,0,138,0],[101,0,102,0],[112,27,113,27],[112,5,112,6],[111,2,112,4],[123,16,123,17],[112,15,112,16],[112,19,112,20],[112,9,112,10],[101,1,101,3],[101,16,101,17],[101,18,101,19],[123,26,123,27],[111,21,113,21],[112,17,112,18],[112,11,112,12],[112,13,112,14],[117,3,118,3],[117,1,118,1],[106,0,107,0],[106,1,106,4],[106,5,106,6],[106,7,106,10],[106,11,107,11],[106,12,107,12],[137,1,138,1],[156,0,157,1],[169,0,170,1],[178,0,180,0],[171,0,173,0],[174,0,176,0],[178,1,179,3],[178,4,178,37],[179,4,179,5],[179,6,179,7],[179,8,179,9],[179,10,179,11],[179,12,179,13],[179,14,179,15],[179,16,179,17],[179,18,179,19],[179,34,179,35],[179,36,179,37],[179,20,179,21],[179,22,179,23],[179,24,179,25],[158,0,159,0],[161,0,161,1],[179,26,179,27],[179,28,179,29],[127,14,129,14],[123,28,123,29],[123,18,123,19],[128,10,128,11],[122,4,122,37],[127,12,128,13],[111,35,113,35],[111,36,113,36],[179,30,179,31],[179,32,179,33],[123,4,123,5],[123,14,123,15],[123,30,123,31],[123,32,123,33],[123,24,123,25],[123,34,123,35],[111,33,113,33],[111,34,113,34],[111,31,111,32],[112,31,113,31],[112,32,113,32],[117,0,118,0],[114,0,115,0],[117,2,118,2],[111,0,113,1],[123,36,123,37],[89,5,89,38],[90,15,90,16],[101,20,101,21],[101,22,101,23],[101,24,101,25],[122,38,124,38],[111,5,111,20],[101,26,101,27],[101,28,101,29],[101,30,101,31],[101,32,101,33],[123,20,123,21],[123,22,123,23],[101,34,101,35],[101,36,101,37],[106,14,107,14],[106,15,107,15],[101,4,101,5],[101,6,101,7]]}
["SERVICIO DE SALUD"]
[{"$f":"CONCATENATE(\"COMUNA: \",NOMBRE!B2,\" - \",\"( \",NOMBRE!C2,NOMBRE!D2,NOMBRE!E2,NOMBRE!F2,NOMBRE!G2,\" )\")","v":"COMUNA:  - (  )"}]
[{"$f":"CONCATENATE(\"ESTABLECIMIENTO/ESTRATEGIA: \",NOMBRE!B3,\" - \",\"( \",NOMBRE!C3,NOMBRE!D3,NOMBRE!E3,NOMBRE!F3,NOMBRE!G3,NOMBRE!H3,\" )\")","v":"ESTABLECIMIENTO/ESTRATEGIA:  - (  )"}]
[{"$f":"CONCATENATE(\"MES: \",NOMBRE!B6,\" - \",\"( \",NOMBRE!C6,NOMBRE!D6,\" )\")","v":"MES:  - (  )"}]
[{"$f":"CONCATENATE(\"AÑO: \",NOMBRE!B7)","v":"AÑO: 2023"}]
["REM-A08.  ATENCIÓN DE URGENCIA"]
["SECCIÓN A: ATENCIONES REALIZADAS EN UNIDADES DE URGENCIA DE LA RED"]
["SECCIÓN A.1: ATENCIONES REALIZADAS EN UNIDADES DE EMERGENCIA HOSPITALARIA (Establecimientos de alta, mediana y baja complejidad)"]
["TIPO DE ATENCIÓN","TOTAL        ",null,null,"GRUPOS DE EDAD (en años)",null,null,null,null,null,null,null,null,null,null,null,null,null,null,null,null,null,null,null,null,null,null,null,null,null,null,null,null,null,null,null,null,null,"Beneficiarios","ORIGEN DE LA PROCEDENCIA (Sólo pacientes derivados de establecimientos de la Red)",null,null,null,"Establecimientos de otra Red","Demanda de Urgencia"]
[null,null,null,null,"0 - 4 años",null,"5 - 9 años",null,"10 - 14 años",null,"15 - 19 años",null,"20 - 24 años",null,"25 - 29 años",null,"30 - 34 años",null,"35 - 39 años",null,"40 - 44 años",null,"45 - 49 años",null,"50 - 54 años",null,"55 - 59 años",null,"60 - 64 años",null,"65 - 69 años",null,"70 - 74 años",null,"75 - 79 años",null,"80 y más años",null,null,"SAPU/ SAR / SUR","Hospital Baja Complejidad","Hospital Mediana/Alta Complejidad","Otros Establecimientos de la  Red"]
[null,"Ambos Sexos","Hombres","Mujeres","Hombres","Mujeres","Hombres","Mujeres","Hombres","Mujeres","Hombres","Mujeres","Hombres","Mujeres","Hombres","Mujeres","Hombres","Mujeres","Hombres","Mujeres","Hombres","Mujeres","Hombres","Mujeres","Hombres","Mujeres","Hombres","Mujeres","Hombres","Mujeres","Hombres","Mujeres","Hombres","Mujeres","Hombres","Mujeres","Hombres","Mujeres"]
["ATENCIÓN MÉDICA NIÑO Y ADULTO",{"$f":"SUM(C12+D12)","v":0},{"$f":"SUM(E12+G12+I12+K12+M12+O12+Q12+S12+U12+W12+Y12+AA12+AC12+AE12+AG12+AI12+AK12)","v":0},0,null,null,null,null,null,null,null,null,null,null,null,null,null,null,null,null,null,null,null,null,null,null,null,null,null,null,null,null,null,null,null,null,null,null,null,null,null,null,null,null,null,null,null,null,null,null,null,null,null,null,null,null,null,null,null,null,null,null,null,null,null,null,null,null,null,null,null,null,null,null,null,null,null,null,null,null,null,null,null,null,null,null,null,null,null,null,null,null,null,null,null,null,null,null,null,null,null,null,null,null,0,0,0,0]
["ATENCIÓN MÉDICA GINECO-OBSTETRICIA",0,0,0]
["ATENCIÓN POR MATRONA/ON",0,0,0]
["ATENCIÓN POR ENFERMERA/O",0,0,0]
["ATENCIÓN POR ODONTÓLOGO/A",0,0,0]
["ATENCIÓN POR KINESIOLOGO/A",0,0,0]
["SECCIÓN A.2: ATENCIONES DE URGENCIA REALIZADAS EN SAPU Y SAR"]
["ATENCIÓN","TOTAL        ",null,null,"GRUPOS DE EDAD (en años)",null,null,null,null,null,null,null,null,null,null,null,null,null,null,null,null,null,null,null,null,null,null,null,null,null,null,null,null,null,null,null,null,null,"Beneficiarios","Atenciones profesionales  a Honorarios","Demanda de Urgencia","Por Campaña de Invierno"]
[null,null,null,null,"0 - 4 años",null,"5 - 9 años",null,"10 - 14 años",null,"15 - 19 años",null,"20 - 24 años",null,"25 - 29 años",null,"30 - 34 años",null,"35 - 39 años",null,"40 - 44 años",null,"45 - 49 años",null,"50 - 54 años",null,"55 - 59 años",null,"60 - 64 años",null,"65 - 69 años",null,"70 - 74 años",null,"75 - 79 años",null,"80 y más años"]
[null,"Ambos Sexos","Hombres ","Mujeres","Hombres ","Mujeres","Hombres ","Mujeres","Hombres ","Mujeres","Hombres ","Mujeres","Hombres ","Mujeres","Hombres ","Mujeres","Hombres ","Mujeres","Hombres ","Mujeres","Hombres ","Mujeres","Hombres ","Mujeres","Hombres ","Mujeres","Hombres ","Mujeres","Hombres ","Mujeres","Hombres ","Mujeres","Hombres ","Mujeres","Hombres ","Mujeres","Hombres ","Mujeres"]
["ATENCIÓN MEDICA",{"$f":"SUM(C22+D22)","v":0},{"$f":"SUM(E22+G22+I22+K22+M22+O22+Q22+S22+U22+W22+Y22+AA22+AC22+AE22+AG22+AI22+AK22)","v":0},0,null,null,null,null,null,null,null,null,null,null,null,null,null,null,null,null,null,null,null,null,null,null,null,null,null,null,null,null,null,null,null,null,null,null,null,null,null,null,null,null,null,null,null,null,null,null,null,null,null,null,null,null,null,null,null,null,null,null,null,null,null,null,null,null,null,null,null,null,null,null,null,null,null,null,null,null,null,null,null,null,null,null,null,null,null,null,null,null,null,null,null,null,null,null,null,null,null,null,null,null,0,0]
["ENFERMERÍA",0,0,0]
["MATRONERÍA",0,0,0]
["KINESIOLOGÍA",0,0,0]
["PSICOLOGÍA",0,0,0]
["TRABAJO SOCIAL",0,0,0]
["ODONTOLOGÍA",0,0,0]
["SECCIÓN A.3: ATENCIONES DE URGENCIA REALIZADAS EN ESTABLECIMIENTOS  DE ATENCIÓN PRIMARIA NO SAPU, CENTROS DE SALUD RURAL (SUR) Y POSTAS RURALES"]
["PROFESIONAL","TOTAL        ",null,null,"GRUPOS DE EDAD (en años)",null,null,null,null,null,null,null,null,null,null,null,null,null,null,null,null,null,null,null,null,null,null,null,null,null,null,null,null,null,null,null,null,null,"Beneficiarios","Demanda de Urgencia"]
[null,null,null,null,"0 - 4 años",null,"5 - 9 años",null,"10 - 14 años",null,"15 - 19 años",null,"20 - 24 años",null,"25 - 29 años",null,"30 - 34 años",null,"35 - 39 años",null,"40 - 44 años",null,"45 - 49 años",null,"50 - 54 años",null,"55 - 59 años",null,"60 - 64 años",null,"65 - 69 años",null,"70 - 74 años",null,"75 - 79 años",null,"80 y más años"]
[null,"Ambos Sexos","Hombres ","Mujeres","Hombres ","Mujeres","Hombres ","Mujeres","Hombres ","Mujeres","Hombres ","Mujeres","Hombres ","Mujeres","Hombres ","Mujeres","Hombres ","Mujeres","Hombres ","Mujeres","Hombres ","Mujeres","Hombres ","Mujeres","Hombres ","Mujeres","Hombres ","Mujeres","Hombres ","Mujeres","Hombres ","Mujeres","Hombres ","Mujeres","Hombres ","Mujeres","Hombres ","Mujeres"]
["MÉDICO",{"$f":"SUM(C33+D33)","v":0},{"$f":"SUM(E33+G33+I33+K33+M33+O33+Q33+S33+U33+W33+Y33+AA33+AC33+AE33+AG33+AI33+AK33)","v":0},{"$f":"SUM(F33+H33+J33+L33+N33+P33+R33+T33+V33+X33+Z33+AB33+AD33+AF33+AH33+AJ33+AL33)","v":0},null,null,null,null,null,null,null,null,null,null,null,null,null,null,null,null,null,null,null,null,null,null,null,null,null,null,null,null,null,null,null,null,null,null,null,null,null,null,null,null,null,null,null,null,null,null,null,null,null,null,null,null,null,null,null,null,null,null,null,null,null,null,null,null,null,null,null,null,null,null,null,null,null,null,null,null,null,null,null,null,null,null,null,null,null,null,null,null,null,null,null,null,null,null,null,null,null,null,null,null,0,0]
["ENFERMERA /O",0,{"$f":"SUM(E34+G34+I34+K34+M34+O34+Q34+S34+U34+W34+Y34+AA34+AC34+AE34+AG34+AI34+AK34)","v":0},0]
["MATRONA /ÓN",0,0,0]
["KINESIÓLOGO/A",0,0,0]
["TÉCNICO EN ENFERMERÍA ",0,0,0]
["OTROS PROFESIONALES",0,0,0]
["SECCIÓN B: CATEGORIZACIÓN DE PACIENTES, PREVIA A LA ATENCIÓN MÉDICA (Establecimientos Alta, Mediana, Baja Complejidad, SAR y SAPU "]
["CATEGORÍAS","TOTAL",null,null,"GRUPOS DE EDAD (en años)",null,null,null,null,null,null,null,null,null,null,null,null,null,null,null,null,null,null,null,null,null,null,null,null,null,null,null,null,null,null,null,null,null,"Herramientas de Categorización"]
[null,null,null,null,"0 - 4 años",null,"5 - 9 años",null,"10 - 14 años",null,"15 - 19 años",null,"20 - 24 años",null,"25 - 29 años",null,"30 - 34 años",null,"35 - 39 años",null,"40 - 44 años",null,"45 - 49 años",null,"50 - 54 años",null,"55 - 59 años",null,"60 - 64 años",null,"65 - 69 años",null,"70 - 74 años",null,"75 - 79 años",null,"80 y más años"]
[null,"Ambos Sexos","Hombres","Mujeres","Hombres","Mujeres","Hombres","Mujeres","Hombres","Mujeres","Hombres","Mujeres","Hombres","Mujeres","Hombres","Mujeres","Hombres","Mujeres","Hombres","Mujeres","Hombres","Mujeres","Hombres","Mujeres","Hombres","Mujeres","Hombres","Mujeres","Hombres","Mujeres","Hombres","Mujeres","Hombres","Mujeres","Hombres","Mujeres","Hombres","Mujeres","Discrecional","Estructurado (ESI)"]
["C1",{"$f":"SUM(C43+D43)","v":0},{"$f":"SUM(E43+G43+I43+K43+M43+O43+Q43+S43+U43+W43+Y43+AA43+AC43+AE43+AG43+AI43+AK43)","v":0},{"$f":"SUM(F43+H43+J43+L43+N43+P43+R43+T43+V43+X43+Z43+AB43+AD43+AF43+AH43+AJ43+AL43)","v":0},null,null,null,null,null,null,null,null,null,null,null,null,null,null,null,null,null,null,null,null,null,null,null,null,null,null,null,null,null,null,null,null,null,null,null,null,{"$f":"CA43","v":""},null,null,null,null,null,null,null,null,null,null,null,null,null,null,null,null,null,null,null,null,null,null,null,null,null,null,null,null,null,null,null,null,null,null,null,null,null,{"$f":"IF(DA43=1,\"* La suma de las Herramientas de Categorización debe ser igual al total. \",\"\")","v":""},null,null,null,null,null,null,null,null,null,null,null,null,null,null,null,null,null,null,null,null,null,null,null,null,null,{"$f":"IF(B43<>(AM43+AN43),1,0)","v":0}]
["C2",0,{"$f":"SUM(E44+G44+I44+K44+M44+O44+Q44+S44+U44+W44+Y44+AA44+AC44+AE44+AG44+AI44+AK44)","v":0},0,null,null,null,null,null,null,null,null,null,null,null,null,null,null,null,null,null,null,null,null,null,null,null,null,null,null,null,null,null,null,null,null,null,null,null,null,{"$f":"CA44","v":""},null,null,null,null,null,null,null,null,null,null,null,null,null,null,null,null,null,null,null,null,null,null,null,null,null,null,null,null,null,null,null,null,null,null,null,null,null,{"$f":"IF(DA44=1,\"* La suma de las Herramientas de Categorización debe ser igual al total. \",\"\")","v":""},null,null,null,null,null,null,null,null,null,null,null,null,null,null,null,null,null,null,null,null,null,null,null,null,null,{"$f":"IF(B44<>(AM44+AN44),1,0)","v":0}]
["C3",0,0,0,null,null,null,null,null,null,null,null,null,null,null,null,null,null,null,null,null,null,null,null,null,null,null,null,null,null,null,null,null,null,null,null,null,null,null,null,{"$f":"CA45","v":""},null,null,null,null,null,null,null,null,null,null,null,null,null,null,null,null,null,null,null,null,null,null,null,null,null,null,null,null,null,null,null,null,null,null,null,null,null,{"$f":"IF(DA45=1,\"* La suma de las Herramientas de Categorización debe ser igual al total. \",\"\")","v":""},null,null,null,null,null,null,null,null,null,null,null,null,null,null,null,null,null,null,null,null,null,null,null,null,null,{"$f":"IF(B45<>(AM45+AN45),1,0)","v":0}]
["C4",0,0,0,null,null,null,null,null,null,null,null,null,null,null,null,null,null,null,null,null,null,null,null,null,null,null,null,null,null,null,null,null,null,null,null,null,null,null,null,{"$f":"CA46","v":""},null,null,null,null,null,null,null,null,null,null,null,null,null,null,null,null,null,null,null,null,null,null,null,null,null,null,null,null,null,null,null,null,null,null,null,null,null,{"$f":"IF(DA46=1,\"* La suma de las Herramientas de Categorización debe ser igual al total. \",\"\")","v":""},null,null,null,null,null,null,null,null,null,null,null,null,null,null,null,null,null,null,null,null,null,null,null,null,null,{"$f":"IF(B46<>(AM46+AN46),1,0)","v":0}]
["C5",0,0,0,null,null,null,null,null,null,null,null,null,null,null,null,null,null,null,null,null,null,null,null,null,null,null,null,null,null,null,null,null,null,null,null,null,null,null,null,{"$f":"CA47","v":""},null,null,null,null,null,null,null,null,null,null,null,null,null,null,null,null,null,null,null,null,null,null,null,null,null,null,null,null,null,null,null,null,null,null,null,null,null,{"$f":"IF(DA47=1,\"* La suma de las Herramientas de Categorización debe ser igual al total. \",\"\")","v":""},null,null,null,null,null,null,null,null,null,null,null,null,null,null,null,null,null,null,null,null,null,null,null,null,null,{"$f":"IF(B47<>(AM47+AN47),1,0)","v":0}]
["SIN CATEGORIZACIÓN",0,0,0,null,null,null,null,null,null,null,null,null,null,null,null,null,null,null,null,null,null,null,null,null,null,null,null,null,null,null,null,null,null,null,null,null,null,null,null,null,null,null,null,null,null,null,null,null,null,null,null,null,null,null,null,null,null,null,null,null,null,null,null,null,null,null,null,null,null,null,null,null,null,null,null,null,null,null,null,null,null,null,null,null,null,null,null,null,null,null,null,null,null,null,null,null,null,null,null,null,null,null,null,0]
["TOTAL",{"$f":"SUM(B43:B48)","v":0},0,0,0,0,0,0,0,0,0,0,0,0,0,0,0,0,0,0,0,0,0,0,0,0,0,0,0,0,0,0,0,0,0,0,0,0,{"$f":"SUM(AM43:AM47)","v":0},{"$f":"SUM(AN43:AN47)","v":0}]
["SECCIÓN C: ATENCIONES REALIZADAS POR MÉDICOS ESPECIALISTAS EN LAS UNIDADES DE URGENCIA HOSPITALARIA"]
["ESPECIALIDADES","TOTAL        ","DE TURNO","CONSULTOR LLAMADA","OTROS",null,null,null,null,null,null,null,null," "]
["MEDICINA INTERNA",{"$f":"SUM(C52:E52)","v":0}]
["NEUROLOGÍA ADULTOS",{"$f":"SUM(C53:E53)","v":0}]
["NEUROLOGÍA PEDIÁTRICA",0]
["OBSTETRICIA Y GINECOLOGÍA",0]
["OFTALMOLOGÍA",0]
["OTORRINOLARINGOLOGÍA",0]
["PEDIATRÍA",0]
["TRAUMATOLOGÍA Y ORTOPEDIA",0]
["NEUROCIRUGÍA",0]
["PSIQUIATRÍA ADULTOS",0]
["PSIQUIATRÍA PEDIÁTRICA  Y ADOLESCENTES",0]
["UROLOGÍA",0]
["URGENCIÓLOGO",0]
["CIRUGÍA VASCULAR PERIFÉRICA",0]
["CIRUGÍA GENERAL",0]
["CIRUGÍA PEDIÁTRICA",0]
["CARDIOLOGÍA",0]
["ANESTESIOLOGÍA",0]
["CIRUGÍA DE CABEZA, CUELLO Y MAXILOFACIAL",0]
["TOTAL",{"$f":"SUM(B52:B70)","v":0},{"$f":"SUM(C52:C70)","v":0},{"$f":"SUM(D52:D70)","v":0},{"$f":"SUM(E52:E70)","v":0}]
["SECCIÓN D: PACIENTES CON INDICACIÓN DE HOSPITALIZACIÓN EN ESPERA DE CAMAS EN UEH (establecimientos de alta, mediana y baja complejidad)"]
["TIPO DE PACIENTES",null,"TOTAL        ",null,null,"GRUPOS DE EDAD (en años)",null,null,null,null,null,null,null,null,null,null,null,null,null,null,null,null,null,null,null,null,null,null,null,null,null,null,null,null,null,null,null,null,null,"Beneficiarios","Hospitalización Domiciliaria"]
[null,null,null,null,null,"0 - 4 años",null,"5 - 9 años",null,"10 - 14 años",null,"15 - 19 años",null,"20 - 24 años",null,"25 - 29 años",null,"30 - 34 años",null,"35 - 39 años",null,"40 - 44 años",null,"45 - 49 años",null,"50 - 54 años",null,"55 - 59 años",null,"60 - 64 años",null,"65 - 69 años",null,"70 - 74 años",null,"75 - 79 años",null,"80 y más años"]
[null,null,"Ambos Sexos","Hombres ","Mujeres","Hombres ","Mujeres","Hombres ","Mujeres","Hombres ","Mujeres","Hombres ","Mujeres","Hombres ","Mujeres","Hombres ","Mujeres","Hombres ","Mujeres","Hombres ","Mujeres","Hombres ","Mujeres","Hombres ","Mujeres","Hombres ","Mujeres","Hombres ","Mujeres","Hombres ","Mujeres","Hombres ","Mujeres","Hombres ","Mujeres","Hombres ","Mujeres","Hombres ","Mujeres"]
["TOTAL DE PACIENTES CON INDICACIÓN DE HOSPITALIZACIÓN",null,{"$f":"SUM(C77:C83)","v":0},{"$f":"SUM(D77:D83)","v":0},{"$f":"SUM(E77:E83)","v":0},{"$f":"SUM(F77:F83)","v":0},0,0,0,0,0,0,0,0,0,0,0,0,0,0,0,0,0,0,0,0,0,0,0,0,0,0,0,0,0,0,0,0,0,0,{"$f":"SUM(AO77:AO79)","v":0}]
["PACIENTES QUE INGRESAN A CAMA HOSPITALARIA SEGÚN TIEMPO DE DEMORA AL INGRESO                               ","MENOS DE 12 HORAS",{"$f":"SUM(D77+E77)","v":0},{"$f":"SUM(F77+H77+J77+L77+N77+P77+R77+T77+V77+X77+Z77+AB77+AD77+AF77+AH77+AJ77+AL77)","v":0},0]
[null,"12-24 HORAS",0,0,0]
[null,"MAYOR A 24 HORAS",0,0,0,null,null,null,null,null,null,null,null,null,null,null,null,null,null,null,null,null,null,null,null,null,null,null,null,null,null,null,null,null,null,null,null,null,null,null,null,null,null,null,null,null,null,null,null,null,null,null,null,null,null,null,null,null,null,null,null,null,null,null,null,null,null,null,null,null,null,null,null,null,null,null,null,null,null,null,null,null,null,null,null,null,null,null,null,null,null,null,null,null,null,null,null,null,null,null,null,null,null,null,null,0,null,0]
["PACIENTES QUE RECHAZAN HOSPITALIZACIÓN ",null,0,0,0,null,null,null,null,null,null,null,null,null,null,null,null,null,null,null,null,null,null,null,null,null,null,null,null,null,null,null,null,null,null,null,null,null,null,null,null,null,null,null,null,null,null,null,null,null,null,null,null,null,null,null,null,null,null,null,null,null,null,null,null,null,null,null,null,null,null,null,null,null,null,null,null,null,null,null,null,null,null,null,null,null,null,null,null,null,null,null,null,null,null,null,null,null,null,null,null,null,null,null,null,0]
["PACIENTES DERIVADOS  A OTRO ESTABLECIMIENTO",null,0,0,0]
["PACIENTES QUE PERMANECEN EN UEH",null,0,0,0]
["PACIENTES QUE INGRESAN DIRECTAMENTE A PROCESO QUIRÚRGICO",null,0,0,0]
["SECCIÓN E PACIENTES CON INDICACIÓN DE OBSERVACIÓN EN SAR Y SAPU"]
["PACIENTES CON INDICACIÓN DE OBSERVACIÓN",null,null,"TOTAL"]
["PACIENTES QUE PERMANECEN EN OBSERVACIÓN     ",null,"MENOS DE 2 HORAS"]
[null,null,"2 A 6 HORAS"]
[null,null,"MAYOR A 6 HORAS"]
["SECCIÓN F: PACIENTES FALLECIDOS EN UEH (Establecimientos Alta, Mediana Baja Complejidad, SAR, SAPU y SUR) "]
["TIPO DE PACIENTES",null,"TOTAL        ",null,null,"GRUPOS DE EDAD (en años)",null,null,null,null,null,null,null,null,null,null,null,null,null,null,null,null,null,null,null,null,null,null,null,null,null,null,null,null,null,null,null,null,null,"Beneficiarios"]
[null,null,null,null,null,"0 - 4 años",null,"5 - 9 años",null,"10 - 14 años",null,"15 - 19 años",null,"20 - 24 años",null,"25 - 29 años",null,"30 - 34 años",null,"35 - 39 años",null,"40 - 44 años",null,"45 - 49 años",null,"50 - 54 años",null,"55 - 59 años",null,"60 - 64 años",null,"65 - 69 años",null,"70 - 74 años",null,"75 - 79 años",null,"80 y más años"]
[null,null,"Ambos Sexos","Hombres ","Mujeres","Hombres ","Mujeres","Hombres ","Mujeres","Hombres ","Mujeres","Hombres ","Mujeres","Hombres ","Mujeres","Hombres ","Mujeres","Hombres ","Mujeres","Hombres ","Mujeres","Hombres ","Mujeres","Hombres ","Mujeres","Hombres ","Mujeres","Hombres ","Mujeres","Hombres ","Mujeres","Hombres ","Mujeres","Hombres ","Mujeres","Hombres ","Mujeres","Hombres ","Mujeres"]
["PACIENTES FALLECIDOS EN ESPERA DE ATENCIÓN MÉDICA",null,{"$f":"SUM(D93+E93)","v":0},{"$f":"SUM(F93+H93+J93+L93+N93+P93+R93+T93+V93+X93+Z93+AB93+AD93+AF93+AH93+AJ93+AL93)","v":0},0,null,null,null,null,null,null,null,null,null,null,null,null,null,null,null,null,null,null,null,null,null,null,null,null,null,null,null,null,null,null,null,null,null,null,null,null,null,null,null,null,null,null,null,null,null,null,null,null,null,null,null,null,null,null,null,null,null,null,null,null,null,null,null,null,null,null,null,null,null,null,null,null,null,null,null,null,null,null,null,null,null,null,null,null,null,null,null,null,null,null,null,null,null,null,null,null,null,null,null,null,0]
["PACIENTES FALLECIDOS EN PROCESO DE ATENCIÓN",null,{"$f":"SUM(D94+E94)","v":0},0,0]
["PACIENTES FALLECIDOS EN ESPERA DE CAMA HOSPITALARIA ",null,{"$f":"SUM(D95+E95)","v":0},0,0]
["SECCIÓN G: ATENCIONES  POR ANTICONCEPCIÓN DE EMERGENCIA "]
["CONCEPTO",null,"TOTAL","GRUPOS DE EDAD (en años)",null,null,null,null,null,"Beneficiarios"]
[null,null,null,"10 - 14 años","15 - 19 años","20 - 24 años","25 - 34 años","35 - 44 años","45 - 54 años"]
["ATENCIÓN POR ANTICONCEPCIÓN DE EMERGENCIA ","CON ENTREGA DE ANTICONCEPTIVO",{"$f":"SUM(D99:I99)","v":0},null,null,null,null,null,null,null,null,null,null,null,null,null,null,null,null,null,null,null,null,null,null,null,null,null,null,null,null,null,null,null,null,null,null,null,null,null,null,null,null,null,null,null,null,null,null,null,null,null,null,null,null,null,null,null,null,null,null,null,null,null,null,null,null,null,null,null,null,null,null,null,null,null,null,null,null,null,null,null,null,null,null,null,null,null,null,null,null,null,null,null,null,null,null,null,null,null,null,null,null,null,null,0]
[null,"SIN ENTREGA DE ANTICONCEPTIVO",{"$f":"SUM(D100:I100)","v":0}]
["SECCIÓN H: ATENCIONES MÉDICAS ASOCIADAS A  VIOLENCIA POR GRUPO ETARIO"]
["CONCEPTO","TOTAL",null,null,"0 - 4 años",null,"5 - 9 años",null,"10 - 14 años",null,"15 - 19 años",null,"20 - 24 años",null,"25 - 29 años",null,"30 - 34 años",null,"35 - 39 años",null,"40 - 44 años",null,"45 - 49 años",null,"50 - 54 años",null,"55 - 59 años",null,"60 - 64 años",null,"65 - 69 años",null,"70 - 74 años",null,"75 - 79 años",null,"80 y más años"]
[null,"Ambos Sexos","Hombres","Mujeres","Hombres ","Mujeres","Hombres ","Mujeres","Hombres ","Mujeres","Hombres ","Mujeres","Hombres ","Mujeres","Hombres ","Mujeres","Hombres ","Mujeres","Hombres ","Mujeres","Hombres ","Mujeres","Hombres ","Mujeres","Hombres ","Mujeres","Hombres ","Mujeres","Hombres ","Mujeres","Hombres ","Mujeres","Hombres ","Mujeres","Hombres ","Mujeres","Hombres ","Mujeres"]
["VIOLENCIA INTRAFAMILIAR",{"$f":"SUM(C104+D104)","v":0},{"$f":"+E104+G104+I104+K104+M104+O104+Q104+S104+U104+W104+Y104+AA104+AC104+AE104+AG104+AI104+AK104","v":0},{"$f":"+F104+H104+J104+L104+N104+P104+R104+T104+V104+X104+Z104+AB104+AD104+AF104+AH104+AJ104+AL104","v":0}]
["OTRAS VIOLENCIAS ",{"$f":"SUM(C105+D105)","v":0},{"$f":"+E105+G105+I105+K105+M105+O105+Q105+S105+U105+W105+Y105+AA105+AC105+AE105+AG105+AI105+AK105","v":0},{"$f":"+F105+H105+J105+L105+N105+P105+R105+T105+V105+X105+Z105+AB105+AD105+AF105+AH105+AJ105+AL105","v":0}]
["SECCIÓN H.1: ATENCIONES MÉDICAS ASOCIADAS A  VIOLENCIA POR CONDICIÓN (incluidas en sección H)"]
["CONCEPTO","AGRESOR /A",null,null,null,"Total",null,"LESIONES DE LA VÍCTIMA",null,null,null,"Sin lesiones constatables","Diversidad Sexual ","Embarazadas","Pueblos Originarios","Migrantes"]
[null,"Pareja/ Ex pareja","Familiar","Conocido/a","Desconocido/a","Hombre","Mujer","Traumatologicas","Odontologícas","Contusionales","Por Arma"]
["VIOLENCIA INTRAFAMILIAR",null,null,null,null,null,null,null,null,null,null,null,null,null,null,null,null,null,null,null,null,null,null,null,null,null,null,null,null,null,null,null,null,null,null,null,null,null,null,null,null,null,null,null,null,null,null,null,null,null,null,null,null,null,null,null,null,null,null,null,null,null,null,null,null,null,null,null,null,null,null,null,null,null,null,null,null,null,null,null,null,null,null,null,null,null,null,null,null,null,null,null,null,null,null,null,null,null,null,null,null,null,null,null,0,0,0,0,0,0,0]
["OTRAS VIOLENCIAS ",null,null,null,null,null,null,null,null,null,null,null,null,null,null,null,null,null,null,null,null,null,null,null,null,null,null,null,null,null,null,null,null,null,null,null,null,null,null,null,null,null,null,null,null,null,null,null,null,null,null,null,null,null,null,null,null,null,null,null,null,null,null,null,null,null,null,null,null,null,null,null,null,null,null,null,null,null,null,null,null,null,null,null,null,null,null,null,null,null,null,null,null,null,null,null,null,null,null,null,null,null,null,null,0,0,0,0,0,0,0]
["SECCIÓN I: ATENCIONES  EN URGENCIA POR VIOLENCIA SEXUAL  "]
["CONCEPTO",null,"TOTAL",null,null,"GRUPOS DE EDAD (en años)  Y CONDICIÓN\n \n",null,null,null,null,null,null,null,null,null,null,null,null,null,null,null,"Gestantes","Con entrega de anticoncepción de emergencia","Sin entrega de anticoncepción de emergencia","Con profilaxis VIH ","Con profilaxis ITS","Con profilaxis Hepatitis B","VICTIMARIO/A",null,null,null,"Total",null,"Sin lesiones constatables","Diversidad sexual ","Pueblos Originarios","Migrantes"]
[null,null,null,null,null,"0 - 4 años",null,"5 - 9 años",null,"10 - 14 años",null,"15 - 17 años",null,"18 - 24 años",null,"25 - 44 años",null,"45-64 años",null,"65 años y más años",null,null,null,null,null,null,null,"Pareja/ Ex pareja","Familiar","Conocido/a","Desconocido/a","Hombre","Mujer"]
[null,null,"Ambos Sexos","Hombres ","Mujeres","Hombres ","Mujeres","Hombres ","Mujeres","Hombres ","Mujeres","Hombres ","Mujeres","Hombres ","Mujeres","Hombres ","Mujeres","Hombres ","Mujeres","Hombres ","Mujeres"]
["VIOLENCIA SEXUAL","72 horas o menos",{"$f":"SUM(D115:E115)","v":0},{"$f":"SUM(F115+H115+J115+L115+N115+P115+R115+T115)","v":0},{"$f":"G115+I115+K115+M115+O115+Q115+S115+U115","v":0}]
[null,"después de 72 horas",{"$f":"SUM(D116:E116)","v":0},{"$f":"SUM(F116+H116+J116+L116+N116+P116+R116+T116)","v":0},{"$f":"G116+I116+K116+M116+O116+Q116+S116+U116","v":0}]
["SECCIÓN J: ATENCIONES MÉDICAS POR VIOLENCIA SEXUAL CON REALIZACIÓN O INDICACIÓN DE PERITAJE "]
["TIPO DE ATENCIÓN","TOTAL","DE TURNO","DE LLAMADA"]
[]
["ATENCIÓN POR  MÉDICO PERITO",{"$f":"SUM(C120:D120)","v":0}]
["ATENCIÓN OTROS MÉDICOS",{"$f":"SUM(C121)","v":0}]
["SECCIÓN K: ATENCIONES DE URGENCIA ASOCIADAS A LESIONES AUTOINFLIGIDAS"]
["CONCEPTO","TOTAL",null,null,"GRUPOS DE EDAD (en años)",null,null,null,null,null,null,null,null,null,null,null,null,null,null,null,null,null,null,null,null,null,null,null,null,null,null,null,null,null,null,null,null,null,"Trans \nFemenino/\nMasculino"]
[null,null,null,null,"0 - 4 años",null,"5 - 9 años",null,"10 - 14 años",null,"15 - 19 años",null,"20 - 24 años",null,"25 - 29 años",null,"30 - 34 años",null,"35 - 39 años",null,"40 - 44 años",null,"45 - 49 años",null,"50 - 54 años",null,"55 - 59 años",null,"60 - 64 años",null,"65 - 69 años",null,"70 - 74 años",null,"75 - 79 años",null,"80 y más años"]
[null,"Ambos Sexos","Hombres","Mujeres","Hombres ","Mujeres","Hombres ","Mujeres","Hombres ","Mujeres","Hombres ","Mujeres","Hombres ","Mujeres","Hombres ","Mujeres","Hombres ","Mujeres","Hombres ","Mujeres","Hombres ","Mujeres","Hombres ","Mujeres","Hombres ","Mujeres","Hombres ","Mujeres","Hombres ","Mujeres","Hombres ","Mujeres","Hombres ","Mujeres","Hombres ","Mujeres","Hombres ","Mujeres"]
["Nº DE ATENCIONES ",{"$f":"SUM(C126+D126)","v":0},{"$f":"+E126+G126+I126+K126+M126+O126+Q126+S126+U126+W126+Y126+AA126+AC126+AE126+AG126+AI126+AK126","v":0},{"$f":"+F126+H126+J126+L126+N126+P126+R126+T126+V126+X126+Z126+AB126+AD126+AF126+AH126+AJ126+AL126","v":0}]
["SECCIÓN L: ATENCIONES EN SERVICIO DE URGENCIA DE LA RED, ASOCIADOS A MORDEDURA "]
["IDENTIFICACIÓN DEL ANIMAL MORDEDOR","TOTAL",null,null,"GRUPOS DE EDAD (en años)",null,null,null,null,null,null,null,"TIPO DE MORDEDURA",null,"INDICACIÓN  DE VACUNA  "]
[null,null,null,null,"0 - 4 años",null,"5 - 9 años",null,"10 - 14 años",null,"Mayor 15 años"]
[null,"Ambos Sexos","Hombres","Mujeres","Hombres ","Mujeres","Hombres ","Mujeres","Hombres ","Mujeres","Hombres ","Mujeres","Única","Múltiple"]
[null,{"$f":"+C131+D131","v":0},{"$f":"+E131+G131+I131+K131","v":0},{"$f":"+F131+H131+J131+L131","v":0},{"$f":"SUM(E132:E136)","v":0},0,0,0,0,0,0,0,0,0,0]
["PERRO",0,{"$f":"+E132+G132+I132+K132","v":0},{"$f":"+F132+H132+J132+L132","v":0}]
["GATO",0,{"$f":"+E133+G133+I133+K133","v":0},0]
["ANIMAL SILVESTRE ",0,0,0]
["EXPOSICIÓN A MURCIÉLAGO",0,0,0]
["ROEDOR O ANIMAL DE ABASTO",0,0,0]
["SECCIÓN M: MOTIVOS DE ATENCIÓN POR EMERGENCIA OBSTÉTRICA AL SERVICIO DE  URGENCIA  (Establecimientos Alta y Mediana Complejidad)."]
["PATOLOGÍA","CANTIDAD"]
[]
["PREECLAMPSIA SEVERA"]
["ECLAMPSIA"]
["SÍNDROME HIPERTENSIVO DEL EMBARAZO (SHE)"]
["RETARDO CRECIMIENTO INTRAUTERINO (RCIU)"]
["HELLP"]
["PARTO PREMATURO"]
["HEMORRAGIA I TRIMESTRE"]
["HEMORRAGIA II TRIMESTRE"]
["HEMORRAGIA III TRIMESTRE"]
["ROTURA PREMATURA DE MEMBRANA"]
["OTRAS PATOLOGÍAS"]
["TRABAJO DE PARTO SIN PATOLOGÍA"]
["TOTAL",{"$f":"SUM(B140:B151)","v":0}]
["SECCIÓN N: LLAMADOS DE URGENCIA A CENTRO REGULADOR"]
["TIPO DE ACCIÓN",null,"Total de Llamadas","Llamadas Validas"]
["CENTRO REGULADOR","Nº LLAMADOS DE URGENCIA",null,null,{"$f":"CA155","v":""},null,null,null,null,null,null,null,null,null,null,null,null,null,null,null,null,null,null,null,null,null,null,null,null,null,null,null,null,null,null,null,null,null,null,null,null,null,null,null,null,null,null,null,null,null,null,null,null,null,null,null,null,null,null,null,null,null,null,null,null,null,null,null,null,null,null,null,null,null,null,null,null,null,{"$f":"IF(C155<D155,\"* El número de llamadas válidas NO DEBE ser mayor al total de llamadas.\",\"\")","v":""},null,null,null,null,null,null,null,null,null,null,null,null,null,null,null,null,null,null,null,null,null,null,null,null,null,{"$f":"IF(C155<D155,1,0)","v":0}]
["SECCIÓN O: INTERVENCIONES PRE HOSPITALARIAS (SAMU)"]
["TIPO DE ACCIÓN",null,"N° INTERVENCIONES",null,null,"Beneficiarios","TIEMPO DE LLEGADA INTERVENCIONES CRITICAS",null,null,"TIEMPO DE LLEGADA INTERVENCIONES NO CRITICAS"]
[null,null,"TOTAL","Criticas","No Criticas",null,"0-20 Min","20-40 Min","Mas de 40 Min","0-20 Min","20-40 Min","Mas de 40 Min"]
["INTERVENCIONES CLÍNICAS PRE HOSPITALARIAS","INTERVENCIÓN DE MÓVIL BÁSICO",{"$f":"SUM(D159+E159)","v":0}]
[null,"INTERVENCIÓN DE MÓVIL AVANZADO",{"$f":"SUM(D160+E160)","v":0}]
["SECCIÓN P: TRASLADOS PRIMARIOS A UNIDADES DE URGENCIA (Desde el lugar del evento a unidad de Emergencia)"]
["TIPO",null,"Total","Beneficiarios","Por compra de servicios","Otros"]
["SAMU","BÁSICO",null,null,null,null,null,null,null,null,null,null,null,null,null,null,null,null,null,null,null,null,null,null,null,null,null,null,null,null,null,null,null,null,null,null,null,null,null,null,null,null,null,null,null,null,null,null,null,null,null,null,null,null,null,null,null,null,null,null,null,null,null,null,null,null,null,null,null,null,null,null,null,null,null,null,null,null,null,null,null,null,null,null,null,null,null,null,null,null,null,null,null,null,null,null,null,null,null,null,null,null,null,null,null,0]
[null,"AVANZADO"]
["ENRUTADO","BÁSICO"]
["NO SAMU","TERRESTRE"]
[null,"MARÍTIMO"]
[null,"AÉREO"]
["SECCIÓN Q: TRASLADO SECUNDARIO (Desde un Establecimiento a Otro)"]
["TIPO DE ACCIÓN",null,"TOTAL DE TRASLADOS",null,null,"Beneficiarios","Por compra de servicios","Otros"]
[null,null,"Ambos","SAMU","NO SAMU"]
["CRÍTICO","AÉREO",{"$f":"SUM(D172:E172)","v":0},null,null,null,null,null,null,null,null,null,null,null,null,null,null,null,null,null,null,null,null,null,null,null,null,null,null,null,null,null,null,null,null,null,null,null,null,null,null,null,null,null,null,null,null,null,null,null,null,null,null,null,null,null,null,null,null,null,null,null,null,null,null,null,null,null,null,null,null,null,null,null,null,null,null,null,null,null,null,null,null,null,null,null,null,null,null,null,null,null,null,null,null,null,null,null,null,null,null,null,null,null,null,0]
[null,"TERRESTRE",0]
[null,"MARÍTIMO",0]
["NO CRÍTICO","AÉREO",0]
[null,"TERRESTRE",0]
[null,"MARÍTIMO",0]
["SECCIÓN R: CLASIFICACIÓN DE LAS INTERVENCIONES POR GRANDES GRUPOS DE DIAGNÓSTICOS (SAMU)"]
["CAUSAS DE LA INTERVENCIÓN","TOTALES",null,null,"GRUPOS DE EDAD (en años)"]
[null,null,null,null,"0 - 4 años",null,"5 - 9 años",null,"10 - 14 años",null,"15 - 19 años",null,"20 - 24 años",null,"25 - 29 años",null,"30 - 34 años",null,"35 - 39 años",null,"40 - 44 años",null,"45 - 49 años",null,"50 - 54 años",null,"55 - 59 años",null,"60 - 64 años",null,"65 - 69 años",null,"70 - 74 años",null,"75 - 79 años",null,"80 y más años"]
[null,"Ambos Sexos","Hombres","Mujeres","Hombres ","Mujeres","Hombres ","Mujeres","Hombres ","Mujeres","Hombres ","Mujeres","Hombres ","Mujeres","Hombres ","Mujeres","Hombres ","Mujeres","Hombres ","Mujeres","Hombres ","Mujeres","Hombres ","Mujeres","Hombres ","Mujeres","Hombres ","Mujeres","Hombres ","Mujeres","Hombres ","Mujeres","Hombres ","Mujeres","Hombres ","Mujeres","Hombres ","Mujeres"]
["SÍNDROME CORONARIO AGUDO",{"$f":"SUM(C182+D182)","v":0},{"$f":"SUM(O182+Q182+S182+U182+W182+Y182+AA182+AC182+AE182+AG182+AI182+AK182)","v":0},{"$f":"SUM(P182+R182+T182+V182+X182+Z182+AB182+AD182+AF182+AH182+AJ182+AL182)","v":0}]
["PARO CARDIORESPIRATORIO",{"$f":"SUM(C183+D183)","v":0},{"$f":"SUM(E183+G183+I183+K183+M183+O183+Q183+S183+U183+W183+Y183+AA183+AC183+AE183+AG183+AI183+AK183)","v":0},0]
["POLITRAUMATISMO",{"$f":"SUM(C184+D184)","v":0},0,0]
["OTROS",{"$f":"SUM(C185+D185)","v":0},0,0]
[]
[]
[]
[]
[]
[]
[]
[]
[]
[]
[]
[]
[]
[]
[]
[]
[{"$f":"SUM(B12:B17,B22:B28,B33:B38,B49,B71,C76:C83,D86:D88,C93:C95,C99:C100,B104:B105,F109:K110,C115:C116,C120:D121,B126,B131,B152,C155:D155,C159:C160,C163:C168,C172:C177,B182:B185)","v":0},{"$f":"SUM(DA10:DZ185)","v":0}]

{"sheet":"A09","index":9,"n_rows":365,"n_cols":122,"rows_kept":365,"cut":false,"hidden":false,"merged":[[219,110,221,110],[219,112,221,112],[219,114,221,114],[219,116,221,116],[219,118,221,118],[9,114,9,115],[9,116,9,117],[9,118,9,119],[9,120,9,121],[9,110,9,111],[9,112,9,113],[219,78,221,78],[219,80,221,80],[219,82,221,82],[219,84,221,84],[219,86,221,86],[219,88,221,88],[219,90,221,90],[219,92,221,92],[219,104,221,104],[219,106,221,106],[219,108,221,108],[9,88,9,89],[9,90,9,91],[9,92,9,93],[9,94,9,95],[9,104,9,105],[9,106,9,107],[9,108,9,109],[9,78,9,79],[9,80,9,81],[9,82,9,83],[9,84,9,85],[9,86,9,87],[8,0,10,0],[87,0,89,0],[146,0,148,0],[82,0,83,1],[8,41,10,41],[16,39,17,39],[16,40,17,40],[16,18,16,19],[9,8,9,9],[9,16,9,17],[16,22,16,23],[16,16,16,17],[9,10,9,11],[9,12,9,13],[9,14,9,15],[9,22,9,23],[9,28,9,29],[16,10,16,11],[16,12,16,13],[201,0,203,0],[211,0,213,0],[219,47,221,47],[160,41,162,41],[146,45,148,45],[87,45,89,45],[37,44,39,44],[37,45,39,45],[38,30,38,31],[38,32,38,33],[38,34,38,35],[38,36,38,37],[38,38,38,39],[37,40,39,40],[37,41,39,41],[212,26,212,27],[212,28,212,29],[212,30,212,31],[212,32,212,33],[212,34,212,35],[211,4,211,35],[211,1,212,3],[212,4,212,5],[212,6,212,7],[38,26,38,27],[38,28,38,29],[38,16,38,17],[38,18,38,19],[38,20,38,21],[16,44,17,44],[88,18,88,19],[37,42,39,42],[37,43,39,43],[88,20,88,21],[88,16,88,17],[87,44,89,44],[258,1,258,2],[263,1,263,2],[248,1,248,2],[266,0,271,0],[212,20,212,21],[212,22,212,23],[212,24,212,25],[219,3,220,5],[220,6,220,7],[220,8,220,9],[220,10,220,11],[220,12,220,13],[220,14,220,15],[220,16,220,17],[220,18,220,19],[220,20,220,21],[220,22,220,23],[220,24,220,25],[245,1,245,2],[256,1,256,2],[224,0,229,0],[230,0,235,0],[269,1,269,2],[255,1,255,2],[212,16,212,17],[212,18,212,19],[5,0,5,15],[37,0,39,2],[37,3,38,5],[75,0,75,2],[71,0,71,2],[72,0,72,2],[38,6,38,7],[38,8,38,9],[38,10,38,11],[38,12,38,13],[8,4,8,37],[16,34,16,35],[37,6,37,39],[9,4,9,5],[9,6,9,7],[9,26,9,27],[38,22,38,23],[38,24,38,25],[16,28,16,29],[16,30,16,31],[16,32,16,33],[16,36,16,37],[8,1,9,3],[9,18,9,19],[290,1,290,2],[286,1,286,2],[275,1,275,2],[82,2,82,4],[84,0,85,0],[16,1,16,3],[179,1,181,1],[239,1,239,2],[238,1,238,2],[193,1,194,1],[195,0,197,0],[195,1,197,1],[198,0,199,0],[198,1,199,1],[78,0,78,2],[79,0,79,2],[80,0,80,2],[76,0,76,2],[212,8,212,9],[212,10,212,11],[212,12,212,13],[212,14,212,15],[325,0,325,1],[231,1,231,2],[237,1,237,2],[219,0,221,2],[227,1,227,2],[233,1,233,2],[235,1,235,2],[232,1,232,2],[240,1,240,2],[250,1,250,2],[271,1,271,2],[324,0,324,1],[276,1,276,2],[273,1,273,2],[279,1,279,2],[285,1,285,2],[272,1,272,2],[222,1,222,2],[224,1,224,2],[229,1,229,2],[230,1,230,2],[297,1,297,2],[303,1,303,2],[320,0,320,1],[241,1,241,2],[247,1,247,2],[244,1,244,2],[246,1,246,2],[254,1,254,2],[257,1,257,2],[242,1,242,2],[251,1,251,2],[253,1,253,2],[252,1,252,2],[249,1,249,2],[243,1,243,2],[16,4,16,5],[16,8,16,9],[43,0,43,2],[38,14,38,15],[40,0,40,2],[41,0,41,2],[16,0,17,0],[146,1,147,3],[179,0,181,0],[160,0,162,2],[160,3,161,5],[88,12,88,13],[88,14,88,15],[16,14,16,15],[59,0,59,2],[54,0,58,1],[53,0,53,2],[47,0,52,1],[16,6,16,7],[88,10,88,11],[67,1,67,2],[68,1,68,2],[42,0,42,2],[45,0,45,2],[182,0,189,0],[182,1,184,1],[185,1,186,1],[187,1,189,1],[190,0,194,0],[190,1,190,2],[191,1,192,1],[163,0,173,0],[163,1,163,2],[164,1,164,2],[166,1,166,2],[167,1,173,1],[174,0,178,0],[174,1,178,1],[323,0,323,1],[292,1,292,2],[294,1,294,2],[300,1,300,2],[295,1,295,2],[298,1,298,2],[318,0,318,1],[319,0,319,1],[304,1,304,2],[322,0,322,1],[293,1,293,2],[299,1,299,2],[301,1,301,2],[302,1,302,2],[309,0,311,0],[321,0,321,1],[296,1,296,2],[8,40,10,40],[16,26,16,27],[16,20,16,21],[9,20,9,21],[8,42,10,42],[8,44,10,44],[5,48,5,63],[9,34,9,35],[16,24,16,25],[16,41,17,41],[16,42,17,42],[16,43,17,43],[9,24,9,25],[8,38,10,38],[8,39,10,39],[8,43,10,43],[16,45,17,45],[9,30,9,31],[9,32,9,33],[9,36,9,37],[16,46,17,46],[16,38,17,38],[46,0,46,2],[44,0,44,2],[88,4,88,5],[88,6,88,7],[88,8,88,9],[87,1,88,3],[60,0,63,1],[65,0,65,2],[66,0,66,2],[73,1,73,2],[67,0,69,0],[69,1,69,2],[73,0,74,0],[74,1,74,2],[70,0,70,2],[77,0,77,2],[146,42,148,42],[146,43,148,43],[88,22,88,23],[88,24,88,25],[88,26,88,27],[88,28,88,29],[88,30,88,31],[88,32,88,33],[88,34,88,35],[88,36,88,37],[146,38,148,38],[87,42,89,42],[87,43,89,43],[87,39,89,39],[87,40,89,40],[87,41,89,41],[160,6,160,37],[146,44,148,44],[146,46,148,46],[147,4,147,5],[147,6,147,7],[147,8,147,9],[147,10,147,11],[147,12,147,13],[147,14,147,15],[147,16,147,17],[147,18,147,19],[147,20,147,21],[147,22,147,23],[147,24,147,25],[147,26,147,27],[147,28,147,29],[147,30,147,31],[147,32,147,33],[147,34,147,35],[147,36,147,37],[146,4,146,37],[146,39,148,39],[146,40,148,40],[146,41,148,41],[202,30,202,31],[202,32,202,33],[202,34,202,35],[201,4,201,35],[160,38,162,38],[160,39,162,39],[160,40,162,40],[160,42,162,42],[161,6,161,7],[161,8,161,9],[161,10,161,11],[161,12,161,13],[161,14,161,15],[161,16,161,17],[161,18,161,19],[161,20,161,21],[161,22,161,23],[161,30,161,31],[161,24,161,25],[161,26,161,27],[161,28,161,29],[161,36,161,37],[161,32,161,33],[161,34,161,35],[219,42,221,42],[219,44,221,44],[219,45,221,45],[219,46,221,46],[219,43,221,43],[219,48,221,48],[201,36,203,36],[201,37,203,37],[201,38,203,38],[201,39,203,39],[201,40,203,40],[220,40,221,40],[219,6,219,37],[219,38,221,38],[219,39,221,39],[219,40,219,41],[202,14,202,15],[202,16,202,17],[202,18,202,19],[202,20,202,21],[202,22,202,23],[202,24,202,25],[202,26,202,27],[202,28,202,29],[259,1,259,2],[266,1,266,2],[260,1,260,2],[281,1,281,2],[282,1,282,2],[288,1,288,2],[287,1,287,2],[277,1,277,2],[278,1,278,2],[280,1,280,2],[265,1,265,2],[270,1,270,2],[283,1,283,2],[284,1,284,2],[236,1,236,2],[220,26,220,27],[220,28,220,29],[228,1,228,2],[223,1,223,2],[225,1,225,2],[328,0,328,1],[87,4,87,37],[87,38,89,38],[326,0,326,1],[236,0,241,0],[242,0,247,0],[248,0,253,0],[254,0,259,0],[220,30,220,31],[220,32,220,33],[220,34,220,35],[220,36,220,37],[201,1,202,3],[202,4,202,5],[202,6,202,7],[202,8,202,9],[202,10,202,11],[202,12,202,13],[260,0,265,0],[310,26,310,27],[310,28,310,29],[310,30,310,31],[310,32,310,33],[310,34,310,35],[309,41,311,41],[310,4,310,5],[310,6,310,7],[310,20,310,21],[310,22,310,23],[310,24,310,25],[262,1,262,2],[267,1,267,2],[272,0,277,0],[278,0,283,0],[284,0,289,0],[261,1,261,2],[289,1,289,2],[274,1,274,2],[268,1,268,2],[264,1,264,2],[87,46,89,46],[327,0,327,1],[310,36,310,37],[310,38,310,39],[290,0,295,0],[296,0,301,0],[302,0,307,0],[305,1,305,2],[306,1,306,2],[307,1,307,2],[309,1,310,3],[309,4,309,39],[291,1,291,2],[310,8,310,9],[310,10,310,11],[310,12,310,13],[310,14,310,15],[310,16,310,17],[310,18,310,19],[220,41,221,41],[222,0,223,0],[234,1,234,2],[226,1,226,2],[309,40,311,40]]}
["SERVICIO DE SALUD"]
[{"$f":"CONCATENATE(\"COMUNA: \",NOMBRE!B2,\" - \",\"( \",NOMBRE!C2,NOMBRE!D2,NOMBRE!E2,NOMBRE!F2,NOMBRE!G2,\" )\")","v":"COMUNA:  - (  )"}]
[{"$f":"CONCATENATE(\"ESTABLECIMIENTO/ESTRATEGIA: \",NOMBRE!B3,\" - \",\"( \",NOMBRE!C3,NOMBRE!D3,NOMBRE!E3,NOMBRE!F3,NOMBRE!G3,NOMBRE!H3,\" )\")","v":"ESTABLECIMIENTO/ESTRATEGIA:  - (  )"}]
[{"$f":"CONCATENATE(\"MES: \",NOMBRE!B6,\" - \",\"( \",NOMBRE!C6,NOMBRE!D6,\" )\")","v":"MES:  - (  )"}]
[{"$f":"CONCATENATE(\"AÑO: \",NOMBRE!B7)","v":"AÑO: 2023"}]
[" REM-A9. ATENCIÓN DE SALUD BUCAL EN LA RED ASISTENCIAL "]
[]
["SECCIÓN A: CONSULTAS Y CONTROLES ODONTOLÓGICOS REALIZADOS EN APS. "]
["ACTIVIDAD ","TOTAL",null,null,"SEGÚN GRUPOS DE EDAD O DE RIESGO",null,null,null,null,null,null,null,null,null,null,null,null,null,null,null,null,null,null,null,null,null,null,null,null,null,null,null,null,null,null,null,null,null,"12 años (incluido en el grupo de 10-14 años)","Embarazadas","60 años (incluido en grupos de 60-64 años)","Usuarios con Discapacidad","Niños, niñas, adolescentes y jóvenes SENAME","Niños, niñas, adolescentes y jóvenes Mejor Niñez","Migrantes"]
[null,null,null,null,"0-4 ",null,"5-9",null,"10-14 ",null,"15-19",null,"20-24",null,"25-29",null,"30-34",null,"35-39",null,"40-44",null,"45-49 ",null,"50-54",null,"55-59",null,"60-64",null,"65-69",null,"70-74",null,"75-79",null,"80 y mas",null,null,null,null,null,null,null,null,null,null,null,null,null,null,null,null,null,null,null,null,null,null,null,null,null,null,null,null,null,null,null,null,null,null,null,null,null,null,null,null,null,"12 años (incluidos en  grupo de 10-14 años)",null,"Embarazadas",null,"Beneficiarios",null,"60 años incluidos en grupos de  60-64 años)",null,"Compra de Servicios",null,"Usuarios con Discapacidad ",null,"Niños, niñas, adolescentes y jovenes SENAME",null,"Niños, niñas, adolescentes y jovenes Mejor Niñez",null,"Migrantes",null,null,null,null,null,null,null,null,null,"12 años (incluidos en  grupo de 10-14 años)",null,"Embarazadas",null,"Beneficiarios",null,"60 años incluidos en grupos de  60-64 años)",null,"Compra de Servicios",null,"Usuarios con Discapacidad ",null,"Niños, niñas, adolescentes y jovenes SENAME",null,"Niños, niñas, adolescentes y jovenes Mejor Niñez",null,"Migrantes"]
[null,"Ambos Sexos","Hombres","Mujeres","Hombres","Mujeres","Hombres","Mujeres","Hombres","Mujeres","Hombres","Mujeres","Hombres","Mujeres","Hombres","Mujeres","Hombres","Mujeres","Hombres","Mujeres","Hombres","Mujeres","Hombres","Mujeres","Hombres","Mujeres","Hombres","Mujeres","Hombres","Mujeres","Hombres","Mujeres","Hombres","Mujeres","Hombres","Mujeres","Hombres","Mujeres",null,null,null,null,null,null,null,null,null,null,null,null,null,null,null,null,null,null,null,null,null,null,null,null,null,null,null,null,null,null,null,null,null,null,null,null,null,null,null,null,"no olvide","mayor que total","no olvide","mayor que total","no olvide","mayor que total","no olvide","mayor que total","no olvide","mayor que total","no olvide","mayor que total","no olvide","mayor que total","no olvide","mayor que total","no olvide","mayor que total",null,null,null,null,null,null,null,null,"no olvide","mayor que total","no olvide","mayor que total","no olvide","mayor que total","no olvide","mayor que total","no olvide","mayor que total","no olvide","mayor que total","no olvide","mayor que total","no olvide","mayor que total","no olvide","mayor que total"]
["CONSULTA DE MORBILIDAD",{"$f":"SUM(C12+D12)","v":0},{"$f":"+E12+G12+I12+K12+M12+O12+Q12+S12+U12+W12+Y12+AA12+AC12+AE12+AG12+AI12+AK12","v":0},0,null,null,null,null,null,null,null,null,null,null,null,null,null,null,null,null,null,null,null,null,null,null,null,null,null,null,null,null,null,null,null,null,null,null,null,null,null,null,null,null,null,{"$f":"$CA12&$CB12&$CC12&$CD12&$CE12&$CF12&$CG12&$CH12&$CI12&$CJ12&$CK12&$CL12&$CM12&$CN12&$CO12&$CP12&$CQ12&$CR12","v":""},null,null,null,null,null,null,null,null,null,null,null,null,null,null,null,null,null,null,null,null,null,null,null,null,null,null,null,null,null,null,null,null,{"$f":"IF(DA12=1,\"* No olvide digitar el campo \"&CA$10&\" (Digite CEROS si no tiene). \",\"\")","v":""},{"$f":"IF(DB12=1,\"* El campo \"&CA$10&\" NO PUEDE ser mayor al total de Consultas entre 10-14 años. \",\"\")","v":""},{"$f":"IF(DC12=1,\"* No olvide digitar el campo \"&CC$10&\" (Digite CEROS si no tiene). \",\"\")","v":""},{"$f":"IF(DD12=1,\"* El campo \"&CC$10&\" NO PUEDE ser mayor al Total de mujeres. \",\"\")","v":""},{"$f":"IF(DE12=1,\"* No olvide digitar el campo \"&CE$10&\" (Digite CEROS si no tiene). \",\"\")","v":""},{"$f":"IF(DF12=1,\"* El campo \"&CE$10&\" NO PUEDE ser mayor al Total. \",\"\")","v":""},{"$f":"IF(DG12=1,\"* No olvide digitar el campo \"&CG$10&\" (Digite CEROS si no tiene). \",\"\")","v":""},{"$f":"IF(DH12=1,\"* El campo \"&CG$10&\" NO PUEDE ser mayor al Total de Consultas entre 60-64 Años. \",\"\")","v":""},{"$f":"IF(DI12=1,\"* No olvide digitar el campo \"&CI$10&\" (Digite CEROS si no tiene). \",\"\")","v":""},{"$f":"IF(DJ12=1,\"* El campo \"&CI$10&\" NO PUEDE ser mayor al Total. \",\"\")","v":""},{"$f":"IF(DK12=1,\"* No olvide digitar el campo \"&CK$10&\" (Digite CEROS si no tiene). \",\"\")","v":""},{"$f":"IF(DL12=1,\"* El campo \"&CK$10&\" NO PUEDE ser mayor al Total. \",\"\")","v":""},{"$f":"IF(DM12=1,\"* No olvide digitar el campo \"&CM$10&\" (Digite CEROS si no tiene). \",\"\")","v":""},{"$f":"IF(DN12=1,\"* El campo \"&CM$10&\" NO PUEDE ser mayor al Total. \",\"\")","v":""},{"$f":"IF(DO12=1,\"* No olvide digitar el campo \"&CO$10&\" (Digite CEROS si no tiene). \",\"\")","v":""},{"$f":"IF(DP12=1,\"* El campo \"&CO$10&\" NO PUEDE ser mayor al Total. \",\"\")","v":""},{"$f":"IF(DQ12=1,\"* No olvide digitar el campo \"&CQ$10&\" (Digite CEROS si no tiene). \",\"\")","v":""},{"$f":"IF(DR12=1,\"* El campo \"&CQ$10&\" NO PUEDE ser mayor al Total. \",\"\")","v":""},null,null,null,null,null,null,null,null,{"$f":"IF(AND(AM12=\"\",$B12<>0),1,0)","v":0},{"$f":"IF(AM12>($I12+$J12),1,0)","v":0},{"$f":"IF(AND(AN12=\"\",$B12<>0),1,0)","v":0},{"$f":"IF(AN12>$D12,1,0)","v":0},null,null,{"$f":"IF(AND(AO12=\"\",$B12<>0),1,0)","v":0},{"$f":"IF(AO12>$AC12+$AD12,1,0)","v":0},null,null,{"$f":"IF(AND(AP12=\"\",$B12<>0),1,0)","v":0},{"$f":"IF(AP12>$B12,1,0)","v":0},{"$f":"IF(AND(AQ12=\"\",$B12<>0),1,0)","v":0},{"$f":"IF(AQ12>$B12,1,0)","v":0},{"$f":"IF(AND(AR12=\"\",$B12<>0),1,0)","v":0},{"$f":"IF(AR12>$B12,1,0)","v":0},{"$f":"IF(AND(AS12=\"\",$B12<>0),1,0)","v":0},{"$f":"IF(AS12>$B12,1,0)","v":0}]
["CONTROL ODONTOLÓGICO",{"$f":"SUM(C13+D13)","v":0},0,0,null,null,null,null,null,null,null,null,null,null,null,null,null,null,null,null,null,null,null,null,null,null,null,null,null,null,null,null,null,null,null,null,null,null,null,null,null,null,null,null,null,{"$f":"$CA13&$CB13&$CC13&$CD13&$CE13&$CF13&$CG13&$CH13&$CI13&$CJ13&$CK13&$CL13&$CM13&$CN13&$CO13&$CP13&$CQ13&$CR13","v":""},null,null,null,null,null,null,null,null,null,null,null,null,null,null,null,null,null,null,null,null,null,null,null,null,null,null,null,null,null,null,null,null,{"$f":"IF(DA13=1,\"* No olvide digitar el campo \"&CA$10&\" (Digite CEROS si no tiene). \",\"\")","v":""},{"$f":"IF(DB13=1,\"* El campo \"&CA$10&\" NO PUEDE ser mayor al total de Consultas entre 10-14 años. \",\"\")","v":""},{"$f":"IF(DC13=1,\"* No olvide digitar el campo \"&CC$10&\" (Digite CEROS si no tiene). \",\"\")","v":""},{"$f":"IF(DD13=1,\"* El campo \"&CC$10&\" NO PUEDE ser mayor al Total de mujeres. \",\"\")","v":""},{"$f":"IF(DE13=1,\"* No olvide digitar el campo \"&CE$10&\" (Digite CEROS si no tiene). \",\"\")","v":""},{"$f":"IF(DF13=1,\"* El campo \"&CE$10&\" NO PUEDE ser mayor al Total. \",\"\")","v":""},{"$f":"IF(DG13=1,\"* No olvide digitar el campo \"&CG$10&\" (Digite CEROS si no tiene). \",\"\")","v":""},{"$f":"IF(DH13=1,\"* El campo \"&CG$10&\" NO PUEDE ser mayor al Total de Consultas entre 60-64 Años. \",\"\")","v":""},{"$f":"IF(DI13=1,\"* No olvide digitar el campo \"&CI$10&\" (Digite CEROS si no tiene). \",\"\")","v":""},{"$f":"IF(DJ13=1,\"* El campo \"&CI$10&\" NO PUEDE ser mayor al Total. \",\"\")","v":""},{"$f":"IF(DK13=1,\"* No olvide digitar el campo \"&CK$10&\" (Digite CEROS si no tiene). \",\"\")","v":""},{"$f":"IF(DL13=1,\"* El campo \"&CK$10&\" NO PUEDE ser mayor al Total. \",\"\")","v":""},{"$f":"IF(DM13=1,\"* No olvide digitar el campo \"&CM$10&\" (Digite CEROS si no tiene). \",\"\")","v":""},{"$f":"IF(DN13=1,\"* El campo \"&CM$10&\" NO PUEDE ser mayor al Total. \",\"\")","v":""},{"$f":"IF(DO13=1,\"* No olvide digitar el campo \"&CO$10&\" (Digite CEROS si no tiene). \",\"\")","v":""},{"$f":"IF(DP13=1,\"* El campo \"&CO$10&\" NO PUEDE ser mayor al Total. \",\"\")","v":""},{"$f":"IF(DQ13=1,\"* No olvide digitar el campo \"&CQ$10&\" (Digite CEROS si no tiene). \",\"\")","v":""},{"$f":"IF(DR13=1,\"* El campo \"&CQ$10&\" NO PUEDE ser mayor al Total. \",\"\")","v":""},null,null,null,null,null,null,null,null,{"$f":"IF(AND(AM13=\"\",$B13<>0),1,0)","v":0},{"$f":"IF(AM13>($I13+$J13),1,0)","v":0},{"$f":"IF(AND(AN13=\"\",$B13<>0),1,0)","v":0},{"$f":"IF(AN13>$D13,1,0)","v":0},null,null,{"$f":"IF(AND(AO13=\"\",$B13<>0),1,0)","v":0},{"$f":"IF(AO13>$AC13+$AD13,1,0)","v":0},null,null,{"$f":"IF(AND(AP13=\"\",$B13<>0),1,0)","v":0},{"$f":"IF(AP13>$B13,1,0)","v":0},{"$f":"IF(AND(AQ13=\"\",$B13<>0),1,0)","v":0},{"$f":"IF(AQ13>$B13,1,0)","v":0},{"$f":"IF(AND(AR13=\"\",$B13<>0),1,0)","v":0},{"$f":"IF(AR13>$B13,1,0)","v":0},{"$f":"IF(AND(AS13=\"\",$B13<>0),1,0)","v":0},{"$f":"IF(AS13>$B13,1,0)","v":0}]
["CONSULTA DE URGENCIA (GES)",{"$f":"SUM(C14+D14)","v":0},0,0,null,null,null,null,null,null,null,null,null,null,null,null,null,null,null,null,null,null,null,null,null,null,null,null,null,null,null,null,null,null,null,null,null,null,null,null,null,null,null,null,null,{"$f":"$CA14&$CB14&$CC14&$CD14&$CE14&$CF14&$CG14&$CH14&$CI14&$CJ14&$CK14&$CL14&$CM14&$CN14&$CO14&$CP14&$CQ14&$CR14","v":""},null,null,null,null,null,null,null,null,null,null,null,null,null,null,null,null,null,null,null,null,null,null,null,null,null,null,null,null,null,null,null,null,{"$f":"IF(DA14=1,\"* No olvide digitar el campo \"&CA$10&\" (Digite CEROS si no tiene). \",\"\")","v":""},{"$f":"IF(DB14=1,\"* El campo \"&CA$10&\" NO PUEDE ser mayor al total de Consultas entre 10-14 años. \",\"\")","v":""},{"$f":"IF(DC14=1,\"* No olvide digitar el campo \"&CC$10&\" (Digite CEROS si no tiene). \",\"\")","v":""},{"$f":"IF(DD14=1,\"* El campo \"&CC$10&\" NO PUEDE ser mayor al Total de mujeres. \",\"\")","v":""},{"$f":"IF(DE14=1,\"* No olvide digitar el campo \"&CE$10&\" (Digite CEROS si no tiene). \",\"\")","v":""},{"$f":"IF(DF14=1,\"* El campo \"&CE$10&\" NO PUEDE ser mayor al Total. \",\"\")","v":""},{"$f":"IF(DG14=1,\"* No olvide digitar el campo \"&CG$10&\" (Digite CEROS si no tiene). \",\"\")","v":""},{"$f":"IF(DH14=1,\"* El campo \"&CG$10&\" NO PUEDE ser mayor al Total de Consultas entre 60-64 Años. \",\"\")","v":""},{"$f":"IF(DI14=1,\"* No olvide digitar el campo \"&CI$10&\" (Digite CEROS si no tiene). \",\"\")","v":""},{"$f":"IF(DJ14=1,\"* El campo \"&CI$10&\" NO PUEDE ser mayor al Total. \",\"\")","v":""},{"$f":"IF(DK14=1,\"* No olvide digitar el campo \"&CK$10&\" (Digite CEROS si no tiene). \",\"\")","v":""},{"$f":"IF(DL14=1,\"* El campo \"&CK$10&\" NO PUEDE ser mayor al Total. \",\"\")","v":""},{"$f":"IF(DM14=1,\"* No olvide digitar el campo \"&CM$10&\" (Digite CEROS si no tiene). \",\"\")","v":""},{"$f":"IF(DN14=1,\"* El campo \"&CM$10&\" NO PUEDE ser mayor al Total. \",\"\")","v":""},{"$f":"IF(DO14=1,\"* No olvide digitar el campo \"&CO$10&\" (Digite CEROS si no tiene). \",\"\")","v":""},{"$f":"IF(DP14=1,\"* El campo \"&CO$10&\" NO PUEDE ser mayor al Total. \",\"\")","v":""},{"$f":"IF(DQ14=1,\"* No olvide digitar el campo \"&CQ$10&\" (Digite CEROS si no tiene). \",\"\")","v":""},{"$f":"IF(DR14=1,\"* El campo \"&CQ$10&\" NO PUEDE ser mayor al Total. \",\"\")","v":""},null,null,null,null,null,null,null,null,{"$f":"IF(AND(AM14=\"\",$B14<>0),1,0)","v":0},{"$f":"IF(AM14>($I14+$J14),1,0)","v":0},{"$f":"IF(AND(AN14=\"\",$B14<>0),1,0)","v":0},{"$f":"IF(AN14>$D14,1,0)","v":0},null,null,{"$f":"IF(AND(AO14=\"\",$B14<>0),1,0)","v":0},{"$f":"IF(AO14>$AC14+$AD14,1,0)","v":0},null,null,{"$f":"IF(AND(AP14=\"\",$B14<>0),1,0)","v":0},{"$f":"IF(AP14>$B14,1,0)","v":0},{"$f":"IF(AND(AQ14=\"\",$B14<>0),1,0)","v":0},{"$f":"IF(AQ14>$B14,1,0)","v":0},{"$f":"IF(AND(AR14=\"\",$B14<>0),1,0)","v":0},{"$f":"IF(AR14>$B14,1,0)","v":0},{"$f":"IF(AND(AS14=\"\",$B14<>0),1,0)","v":0},{"$f":"IF(AS14>$B14,1,0)","v":0}]
["INASISTENCIA A CONSULTA",{"$f":"SUM(C15+D15)","v":0},0,0,null,null,null,null,null,null,null,null,null,null,null,null,null,null,null,null,null,null,null,null,null,null,null,null,null,null,null,null,null,null,null,null,null,null,null,null,null,null,null,null,null,{"$f":"$CA15&$CB15&$CC15&$CD15&$CE15&$CF15&$CG15&$CH15&$CI15&$CJ15&$CK15&$CL15&$CM15&$CN15&$CO15&$CP15&$CQ15&$CR15","v":""},null,null,null,null,null,null,null,null,null,null,null,null,null,null,null,null,null,null,null,null,null,null,null,null,null,null,null,null,null,null,null,null,{"$f":"IF(DA15=1,\"* No olvide digitar el campo \"&CA$10&\" (Digite CEROS si no tiene). \",\"\")","v":""},{"$f":"IF(DB15=1,\"* El campo \"&CA$10&\" NO PUEDE ser mayor al total de Consultas entre 10-14 años. \",\"\")","v":""},{"$f":"IF(DC15=1,\"* No olvide digitar el campo \"&CC$10&\" (Digite CEROS si no tiene). \",\"\")","v":""},{"$f":"IF(DD15=1,\"* El campo \"&CC$10&\" NO PUEDE ser mayor al Total de mujeres. \",\"\")","v":""},{"$f":"IF(DE15=1,\"* No olvide digitar el campo \"&CE$10&\" (Digite CEROS si no tiene). \",\"\")","v":""},{"$f":"IF(DF15=1,\"* El campo \"&CE$10&\" NO PUEDE ser mayor al Total. \",\"\")","v":""},{"$f":"IF(DG15=1,\"* No olvide digitar el campo \"&CG$10&\" (Digite CEROS si no tiene). \",\"\")","v":""},{"$f":"IF(DH15=1,\"* El campo \"&CG$10&\" NO PUEDE ser mayor al Total de Consultas entre 60-64 Años. \",\"\")","v":""},{"$f":"IF(DI15=1,\"* No olvide digitar el campo \"&CI$10&\" (Digite CEROS si no tiene). \",\"\")","v":""},{"$f":"IF(DJ15=1,\"* El campo \"&CI$10&\" NO PUEDE ser mayor al Total. \",\"\")","v":""},{"$f":"IF(DK15=1,\"* No olvide digitar el campo \"&CK$10&\" (Digite CEROS si no tiene). \",\"\")","v":""},{"$f":"IF(DL15=1,\"* El campo \"&CK$10&\" NO PUEDE ser mayor al Total. \",\"\")","v":""},{"$f":"IF(DM15=1,\"* No olvide digitar el campo \"&CM$10&\" (Digite CEROS si no tiene). \",\"\")","v":""},{"$f":"IF(DN15=1,\"* El campo \"&CM$10&\" NO PUEDE ser mayor al Total. \",\"\")","v":""},{"$f":"IF(DO15=1,\"* No olvide digitar el campo \"&CO$10&\" (Digite CEROS si no tiene). \",\"\")","v":""},{"$f":"IF(DP15=1,\"* El campo \"&CO$10&\" NO PUEDE ser mayor al Total. \",\"\")","v":""},{"$f":"IF(DQ15=1,\"* No olvide digitar el campo \"&CQ$10&\" (Digite CEROS si no tiene). \",\"\")","v":""},{"$f":"IF(DR15=1,\"* El campo \"&CQ$10&\" NO PUEDE ser mayor al Total. \",\"\")","v":""},null,null,null,null,null,null,null,null,{"$f":"IF(AND(AM15=\"\",$B15<>0),1,0)","v":0},{"$f":"IF(AM15>($I15+$J15),1,0)","v":0},{"$f":"IF(AND(AN15=\"\",$B15<>0),1,0)","v":0},{"$f":"IF(AN15>$D15,1,0)","v":0},null,null,{"$f":"IF(AND(AO15=\"\",$B15<>0),1,0)","v":0},{"$f":"IF(AO15>$AC15+$AD15,1,0)","v":0},null,null,{"$f":"IF(AND(AP15=\"\",$B15<>0),1,0)","v":0},{"$f":"IF(AP15>$B15,1,0)","v":0},{"$f":"IF(AND(AQ15=\"\",$B15<>0),1,0)","v":0},{"$f":"IF(AQ15>$B15,1,0)","v":0},{"$f":"IF(AND(AR15=\"\",$B15<>0),1,0)","v":0},{"$f":"IF(AR15>$B15,1,0)","v":0},{"$f":"IF(AND(AS15=\"\",$B15<>0),1,0)","v":0},{"$f":"IF(AS15>$B15,1,0)","v":0}]
["SECCIÓN B: ACTIVIDADES DE ODONTOLOGÍA GENERAL  REALIZADOS EN NIVEL PRIMARIO Y SECUNDARIO DE SALUD."]
["TIPO DE ACTIVIDAD","TOTAL ",null,null,"0-4 ",null,"5-9",null,"10-14 ",null,"15-19",null,"20-24",null,"25-29",null,"30-34",null,"35-39",null,"40-44",null,"45-49 ",null,"50-54",null,"55-59",null,"60-64",null,"65-69",null,"70-74",null,"75-79",null,"80 y mas",null,"12 años (incluido en el grupo de 10-14 años)","Embarazadas","Beneficiarios","60 años (incluido en grupos de 60-64 años)","Compra de Servicio","Usuarios con Discapacidad","Niños, niñas, adolescentes y jóvenes SENAME","Niños, niñas, adolescentes y jóvenes Mejor Niñez","Migrantes"]
[null,"Ambos Sexos","Hombres","Mujeres","Hombres","Mujeres","Hombres","Mujeres","Hombres","Mujeres","Hombres","Mujeres","Hombres","Mujeres","Hombres","Mujeres","Hombres","Mujeres","Hombres","Mujeres","Hombres","Mujeres","Hombres","Mujeres","Hombres","Mujeres","Hombres","Mujeres","Hombres","Mujeres","Hombres","Mujeres","Hombres","Mujeres","Hombres","Mujeres","Hombres","Mujeres"]
["EDUCACIÓN INDIVIDUAL CON INSTRUCCIÓN DE TÉCNICA DE CEPILLADO",{"$f":"SUM(C19+D19)","v":0},{"$f":"+E19+G19+I19+K19+M19+O19+Q19+S19+U19+W19+Y19+AA19+AC19+AE19+AG19+AI19+AK19","v":0},{"$f":"+F19+H19+J19+L19+N19+P19+R19+T19+V19+X19+Z19+AB19+AD19+AF19+AH19+AJ19+AL19","v":0},null,null,null,null,null,null,null,null,null,null,null,null,null,null,null,null,null,null,null,null,null,null,null,null,null,null,null,null,null,null,null,null,null,null,null,null,null,null,null,null,null,null,null,{"$f":"$CA19&$CB19&$CC19&$CD19&$CE19&$CF19&$CG19&$CH19&$CI19&$CJ19&$CK19&$CL19&$CM19&$CN19&$CO19&$CP19&$CQ19&$CR19","v":""},null,null,null,null,null,null,null,null,null,null,null,null,null,null,null,null,null,null,null,null,null,null,null,null,null,null,null,null,null,null,{"$f":"IF(DA19=1,\"* No olvide digitar el campo \"&CA$10&\" (Digite CEROS si no tiene). \",\"\")","v":""},{"$f":"IF(DB19=1,\"* El campo \"&CA$10&\" NO PUEDE ser mayor al total de Consultas entre 10-14 años. \",\"\")","v":""},{"$f":"IF(DC19=1,\"* No olvide digitar el campo \"&CC$10&\" (Digite CEROS si no tiene). \",\"\")","v":""},{"$f":"IF(DD19=1,\"* El campo \"&CC$10&\" NO PUEDE ser mayor al Total de mujeres. \",\"\")","v":""},{"$f":"IF(DE19=1,\"* No olvide digitar el campo \"&CE$10&\" (Digite CEROS si no tiene). \",\"\")","v":""},{"$f":"IF(DF19=1,\"* El campo \"&CE$10&\" NO PUEDE ser mayor al Total. \",\"\")","v":""},{"$f":"IF(DG19=1,\"* No olvide digitar el campo \"&CG$10&\" (Digite CEROS si no tiene). \",\"\")","v":""},{"$f":"IF(DH19=1,\"* El campo \"&CG$10&\" NO PUEDE ser mayor al Total de Consultas entre 60-64 Años. \",\"\")","v":""},{"$f":"IF(DI19=1,\"* No olvide digitar el campo \"&CI$10&\" (Digite CEROS si no tiene). \",\"\")","v":""},{"$f":"IF(DJ19=1,\"* El campo \"&CI$10&\" NO PUEDE ser mayor al Total. \",\"\")","v":""},{"$f":"IF(DK19=1,\"* No olvide digitar el campo \"&CK$10&\" (Digite CEROS si no tiene). \",\"\")","v":""},{"$f":"IF(DL19=1,\"* El campo \"&CK$10&\" NO PUEDE ser mayor al Total. \",\"\")","v":""},{"$f":"IF(DM19=1,\"* No olvide digitar el campo \"&CM$10&\" (Digite CEROS si no tiene). \",\"\")","v":""},{"$f":"IF(DN19=1,\"* El campo \"&CM$10&\" NO PUEDE ser mayor al Total. \",\"\")","v":""},{"$f":"IF(DO19=1,\"* No olvide digitar el campo \"&CO$10&\" (Digite CEROS si no tiene). \",\"\")","v":""},{"$f":"IF(DP19=1,\"* El campo \"&CO$10&\" NO PUEDE ser mayor al Total. \",\"\")","v":""},{"$f":"IF(DQ19=1,\"* No olvide digitar el campo \"&CQ$10&\" (Digite CEROS si no tiene). \",\"\")","v":""},{"$f":"IF(DR19=1,\"* El campo \"&CQ$10&\" NO PUEDE ser mayor al Total. \",\"\")","v":""},null,null,null,null,null,null,null,null,{"$f":"IF(AND(AM19=\"\",$B19<>0),1,0)","v":0},{"$f":"IF(AM19>($I19+$J19),1,0)","v":0},{"$f":"IF(AND(AN19=\"\",$B19<>0),1,0)","v":0},{"$f":"IF(AN19>$D19,1,0)","v":0},{"$f":"IF(AND(AO19=\"\",$B19<>0),1,0)","v":0},{"$f":"IF(AO19>$B19,1,0)","v":0},{"$f":"IF(AND(AP19=\"\",$B19<>0),1,0)","v":0},{"$f":"IF(AP19>$AC19+$AD19,1,0)","v":0},{"$f":"IF(AND(AQ19=\"\",$B19<>0),1,0)","v":0},null,{"$f":"IF(AND(AR19=\"\",$B19<>0),1,0)","v":0},{"$f":"IF(AR19>$B19,1,0)","v":0},{"$f":"IF(AND(AS19=\"\",$B19<>0),1,0)","v":0},{"$f":"IF(AS19>$B19,1,0)","v":0},{"$f":"IF(AND(AT19=\"\",$B19<>0),1,0)","v":0},{"$f":"IF(AT19>$B19,1,0)","v":0},{"$f":"IF(AND(AU19=\"\",$B19<>0),1,0)","v":0},{"$f":"IF(AU19>$B19,1,0)","v":0}]
["CONSEJERÍA BREVE EN TABACO",{"$f":"SUM(C20+D20)","v":0},{"$f":"+E20+G20+I20+K20+M20+O20+Q20+S20+U20+W20+Y20+AA20+AC20+AE20+AG20+AI20+AK20","v":0},{"$f":"+F20+H20+J20+L20+N20+P20+R20+T20+V20+X20+Z20+AB20+AD20+AF20+AH20+AJ20+AL20","v":0},null,null,null,null,null,null,null,null,null,null,null,null,null,null,null,null,null,null,null,null,null,null,null,null,null,null,null,null,null,null,null,null,null,null,null,null,null,null,null,null,null,null,null,"",null,null,null,null,null,null,null,null,null,null,null,null,null,null,null,null,null,null,null,null,null,null,null,null,null,null,null,null,null,null,{"$f":"IF(DA20=1,\"* No olvide digitar el campo \"&CA$10&\" (Digite CEROS si no tiene). \",\"\")","v":""},{"$f":"IF(DB20=1,\"* El campo \"&CA$10&\" NO PUEDE ser mayor al total de Consultas entre 10-14 años. \",\"\")","v":""},{"$f":"IF(DC20=1,\"* No olvide digitar el campo \"&CC$10&\" (Digite CEROS si no tiene). \",\"\")","v":""},{"$f":"IF(DD20=1,\"* El campo \"&CC$10&\" NO PUEDE ser mayor al Total de mujeres. \",\"\")","v":""},{"$f":"IF(DE20=1,\"* No olvide digitar el campo \"&CE$10&\" (Digite CEROS si no tiene). \",\"\")","v":""},{"$f":"IF(DF20=1,\"* El campo \"&CE$10&\" NO PUEDE ser mayor al Total. \",\"\")","v":""},{"$f":"IF(DG20=1,\"* No olvide digitar el campo \"&CG$10&\" (Digite CEROS si no tiene). \",\"\")","v":""},{"$f":"IF(DH20=1,\"* El campo \"&CG$10&\" NO PUEDE ser mayor al Total de Consultas entre 60-64 Años. \",\"\")","v":""},{"$f":"IF(DI20=1,\"* No olvide digitar el campo \"&CI$10&\" (Digite CEROS si no tiene). \",\"\")","v":""},{"$f":"IF(DJ20=1,\"* El campo \"&CI$10&\" NO PUEDE ser mayor al Total. \",\"\")","v":""},{"$f":"IF(DK20=1,\"* No olvide digitar el campo \"&CK$10&\" (Digite CEROS si no tiene). \",\"\")","v":""},{"$f":"IF(DL20=1,\"* El campo \"&CK$10&\" NO PUEDE ser mayor al Total. \",\"\")","v":""},{"$f":"IF(DM20=1,\"* No olvide digitar el campo \"&CM$10&\" (Digite CEROS si no tiene). \",\"\")","v":""},{"$f":"IF(DN20=1,\"* El campo \"&CM$10&\" NO PUEDE ser mayor al Total. \",\"\")","v":""},{"$f":"IF(DO20=1,\"* No olvide digitar el campo \"&CO$10&\" (Digite CEROS si no tiene). \",\"\")","v":""},{"$f":"IF(DP20=1,\"* El campo \"&CO$10&\" NO PUEDE ser mayor al Total. \",\"\")","v":""},{"$f":"IF(DQ20=1,\"* No olvide digitar el campo \"&CQ$10&\" (Digite CEROS si no tiene). \",\"\")","v":""},{"$f":"IF(DR20=1,\"* El campo \"&CQ$10&\" NO PUEDE ser mayor al Total. \",\"\")","v":""},null,null,null,null,null,null,null,null,{"$f":"IF(AND(AM20=\"\",$B20<>0),1,0)","v":0},0,{"$f":"IF(AND(AN20=\"\",$B20<>0),1,0)","v":0},0,{"$f":"IF(AND(AO20=\"\",$B20<>0),1,0)","v":0},{"$f":"IF(AO20>$B20,1,0)","v":0},{"$f":"IF(AND(AP20=\"\",$B20<>0),1,0)","v":0},0,{"$f":"IF(AND(AQ20=\"\",$B20<>0),1,0)","v":0},null,{"$f":"IF(AND(AR20=\"\",$B20<>0),1,0)","v":0},{"$f":"IF(AR20>$B20,1,0)","v":0},{"$f":"IF(AND(AS20=\"\",$B20<>0),1,0)","v":0},{"$f":"IF(AS20>$B20,1,0)","v":0},{"$f":"IF(AND(AT20=\"\",$B20<>0),1,0)","v":0},{"$f":"IF(AT20>$B20,1,0)","v":0},{"$f":"IF(AND(AU20=\"\",$B20<>0),1,0)","v":0},{"$f":"IF(AU20>$B20,1,0)","v":0}]
["EXAMEN DE SALUD ORAL",0,{"$f":"+E21+G21+I21+K21+M21+O21+Q21+S21+U21+W21+Y21+AA21+AC21+AE21+AG21+AI21+AK21","v":0},{"$f":"+F21+H21+J21+L21+N21+P21+R21+T21+V21+X21+Z21+AB21+AD21+AF21+AH21+AJ21+AL21","v":0},null,null,null,null,null,null,null,null,null,null,null,null,null,null,null,null,null,null,null,null,null,null,null,null,null,null,null,null,null,null,null,null,null,null,null,null,null,null,null,null,null,null,null,"",null,null,null,null,null,null,null,null,null,null,null,null,null,null,null,null,null,null,null,null,null,null,null,null,null,null,null,null,null,null,"","","","","","","","","","","","","","","","","","",null,null,null,null,null,null,null,null,0,0,0,0,0,0,0,0,0,null,0,0,0,0,0,0,0,0]
["APLICACIÓN DE SELLANTES",0,0,0,null,null,null,null,null,null,null,null,null,null,null,null,null,null,null,null,null,null,null,null,null,null,null,null,null,null,null,null,null,null,null,null,null,null,null,null,null,null,null,null,null,null,null,"",null,null,null,null,null,null,null,null,null,null,null,null,null,null,null,null,null,null,null,null,null,null,null,null,null,null,null,null,null,null,"","","","","","","","","","","","","","","","","","",null,null,null,null,null,null,null,null,0,0,0,0,0,0,0,0,0,null,0,0,0,0,0,0,0,0]
["FLUORURACIÓN TÓPICA BARNIZ",0,0,0,null,null,null,null,null,null,null,null,null,null,null,null,null,null,null,null,null,null,null,null,null,null,null,null,null,null,null,null,null,null,null,null,null,null,null,null,null,null,null,null,null,null,null,"",null,null,null,null,null,null,null,null,null,null,null,null,null,null,null,null,null,null,null,null,null,null,null,null,null,null,null,null,null,null,"","","","","","","","","","","","","","","","","","",null,null,null,null,null,null,null,null,0,0,0,0,0,0,0,0,0,null,0,0,0,0,0,0,0,0]
["ACTIVIDAD INTERCEPTIVA DE ANOMALÍAS DENTO MAXILARES (OPI)",0,0,0,null,null,null,null,null,null,null,null,null,null,null,null,null,null,null,null,null,null,null,null,null,null,null,null,null,null,null,null,null,null,null,null,null,null,null,null,null,null,null,null,null,null,null,"",null,null,null,null,null,null,null,null,null,null,null,null,null,null,null,null,null,null,null,null,null,null,null,null,null,null,null,null,null,null,"","","","","","","","","","","","","","","","","","",null,null,null,null,null,null,null,null,0,0,0,0,0,0,0,0,0,null,0,0,0,0,0,0,0,0]
["DESTARTRAJE SUPRAGINGIVAL Y PULIDO CORONARIO",0,0,0,null,null,null,null,null,null,null,null,null,null,null,null,null,null,null,null,null,null,null,null,null,null,null,null,null,null,null,null,null,null,null,null,null,null,null,null,null,null,null,null,null,null,null,"",null,null,null,null,null,null,null,null,null,null,null,null,null,null,null,null,null,null,null,null,null,null,null,null,null,null,null,null,null,null,"","","","","","","","","","","","","","","","","","",null,null,null,null,null,null,null,null,0,0,0,0,0,0,0,0,0,null,0,0,0,0,0,0,0,0]
["EXODONCIA",0,0,0,null,null,null,null,null,null,null,null,null,null,null,null,null,null,null,null,null,null,null,null,null,null,null,null,null,null,null,null,null,null,null,null,null,null,null,null,null,null,null,null,null,null,null,"",null,null,null,null,null,null,null,null,null,null,null,null,null,null,null,null,null,null,null,null,null,null,null,null,null,null,null,null,null,null,"","","","","","","","","","","","","","","","","","",null,null,null,null,null,null,null,null,0,0,0,0,0,0,0,0,0,null,0,0,0,0,0,0,0,0]
["PROCEDIMIENTO PULPAR",0,0,0,null,null,null,null,null,null,null,null,null,null,null,null,null,null,null,null,null,null,null,null,null,null,null,null,null,null,null,null,null,null,null,null,null,null,null,null,null,null,null,null,null,null,null,"",null,null,null,null,null,null,null,null,null,null,null,null,null,null,null,null,null,null,null,null,null,null,null,null,null,null,null,null,null,null,"","","","","","","","","","","","","","","","","","",null,null,null,null,null,null,null,null,0,0,0,0,0,0,0,0,0,null,0,0,0,0,0,0,0,0]
["ACCESO CAVITARIO",{"$f":"SUM(C28+D28)","v":0},0,0,null,null,null,null,null,null,null,null,null,null,null,null,null,null,null,null,null,null,null,null,null,null,null,null,null,null,null,null,null,null,null,null,null,null,null,null,null,null,null,null,null,null,null,"",null,null,null,null,null,null,null,null,null,null,null,null,null,null,null,null,null,null,null,null,null,null,null,null,null,null,null,null,null,null,"","","","","","","","","","","","","","","","","","",null,null,null,null,null,null,null,null,0,0,0,0,0,0,0,0,0,null,0,0,0,0,0,0,0,0]
["RESTAURACIÓN ESTÉTICA",0,0,0,null,null,null,null,null,null,null,null,null,null,null,null,null,null,null,null,null,null,null,null,null,null,null,null,null,null,null,null,null,null,null,null,null,null,null,null,null,null,null,null,null,null,null,"",null,null,null,null,null,null,null,null,null,null,null,null,null,null,null,null,null,null,null,null,null,null,null,null,null,null,null,null,null,null,"","","","","","","","","","","","","","","","","","",null,null,null,null,null,null,null,null,0,0,0,0,0,0,0,0,0,null,0,0,0,0,0,0,0,0]
["RESTAURACIÓN DE AMALGAMAS",0,0,0,null,null,null,null,null,null,null,null,null,null,null,null,null,null,null,null,null,null,null,null,null,null,null,null,null,null,null,null,null,null,null,null,null,null,null,null,null,null,null,null,null,null,null,"",null,null,null,null,null,null,null,null,null,null,null,null,null,null,null,null,null,null,null,null,null,null,null,null,null,null,null,null,null,null,"","","","","","","","","","","","","","","","","","",null,null,null,null,null,null,null,null,0,0,0,0,0,0,0,0,0,null,0,0,0,0,0,0,0,0]
["OBTURACIÓN DE VIDRIO IONÓMERO ",0,0,0,null,null,null,null,null,null,null,null,null,null,null,null,null,null,null,null,null,null,null,null,null,null,null,null,null,null,null,null,null,null,null,null,null,null,null,null,null,null,null,null,null,null,null,"",null,null,null,null,null,null,null,null,null,null,null,null,null,null,null,null,null,null,null,null,null,null,null,null,null,null,null,null,null,null,"","","","","","","","","","","","","","","","","","",null,null,null,null,null,null,null,null,0,0,0,0,0,0,0,0,0,null,0,0,0,0,0,0,0,0]
["DESTARTRAJE SUBGINGIVAL Y PULIDO RADICULAR POR SEXTANTE",{"$f":"SUM(C32+D32)","v":0},0,0,null,null,null,null,null,null,null,null,null,null,null,null,null,null,null,null,null,null,null,null,null,null,null,null,null,null,null,null,null,null,null,null,null,null,null,null,null,null,null,null,null,null,null,"",null,null,null,null,null,null,null,null,null,null,null,null,null,null,null,null,null,null,null,null,null,null,null,null,null,null,null,null,null,null,"","","","","","","","","","","","","","","","","","",null,null,null,null,null,null,null,null,0,0,0,0,0,0,0,0,0,null,0,0,0,0,0,0,0,0]
["TRATAMIENTO RESTAURADOR ATRAUMÁTICO (ART)",{"$f":"SUM(C33+D33)","v":0},0,0,null,null,null,null,null,null,null,null,null,null,null,null,null,null,null,null,null,null,null,null,null,null,null,null,null,null,null,null,null,null,null,null,null,null,null,null,null,null,null,null,null,null,null,"",null,null,null,null,null,null,null,null,null,null,null,null,null,null,null,null,null,null,null,null,null,null,null,null,null,null,null,null,null,null,"","","","","","","","","","","","","","","","","","",null,null,null,null,null,null,null,null,0,0,0,0,0,0,0,0,0,null,0,0,0,0,0,0,0,0]
["PROCEDIMIENTOS MÉDICO-QUIRÚRGICOS",0,0,0,null,null,null,null,null,null,null,null,null,null,null,null,null,null,null,null,null,null,null,null,null,null,null,null,null,null,null,null,null,null,null,null,null,null,null,null,null,null,null,null,null,null,null,"",null,null,null,null,null,null,null,null,null,null,null,null,null,null,null,null,null,null,null,null,null,null,null,null,null,null,null,null,null,null,"","","","","","","","","","","","","","","","","","",null,null,null,null,null,null,null,null,0,0,0,0,0,0,0,0,0,null,0,0,0,0,0,0,0,0]
["RADIOGRAFÍA INTRAORAL (RETROALVEOLARES, BITE WING Y OCLUSALES)",0,0,0,null,null,null,null,null,null,null,null,null,null,null,null,null,null,null,null,null,null,null,null,null,null,null,null,null,null,null,null,null,null,null,null,null,null,null,null,null,null,null,null,null,null,null,"",null,null,null,null,null,null,null,null,null,null,null,null,null,null,null,null,null,null,null,null,null,null,null,null,null,null,null,null,null,null,"","","","","","","","","","","","","","","","","","",null,null,null,null,null,null,null,null,0,0,0,0,0,0,0,0,0,null,0,0,0,0,0,0,0,0]
["TOTAL ACTIVIDADES",{"$f":"SUM(B19:B35)","v":0},{"$f":"SUM(C19:C35)","v":0},{"$f":"SUM(D19:D35)","v":0},{"$f":"SUM(E19:E35)","v":0},0,0,0,0,0,0,0,0,0,0,0,0,0,0,0,0,0,0,0,0,0,0,0,0,0,0,0,0,0,{"$f":"SUM(AI19:AI35)","v":0},{"$f":"SUM(AJ19:AJ35)","v":0},0,0,{"$f":"SUM(AM19:AM35)","v":0},0,0,0,0,0,0,{"$f":"SUM(AT19:AT35)","v":0},0]
["SECCIÓN C : INGRESOS Y EGRESOS EN APS"]
["TIPO DE INGRESO O EGRESO",null,null,"TOTAL  ",null,null,"Según grupos de edad o de riesgo",null,null,null,null,null,null,null,null,null,null,null,null,null,null,null,null,null,null,null,null,null,null,null,null,null,null,null,null,null,null,null,null,null,"Embarazadas","60 años (incluido en grupos de 60-64 años)","Usuarios con Discapacidad","Niños, niñas, adolescentes y jóvenes SENAME","Niños, niñas, adolescentes y jóvenes Mejor Niñez","Migrantes"]
[null,null,null,null,null,null,"0-4 ",null,"5-9",null,"10-14 ",null,"15-19",null,"20-24",null,"25-29",null,"30-34",null,"35-39",null,"40-44",null,"45-49 ",null,"50-54",null,"55-59",null,"60-64",null,"65-69",null,"70-74",null,"75-79",null,"80 y mas"]
[null,null,null,"Ambos Sexos","Hombres","Mujeres","Hombres","Mujeres","Hombres","Mujeres","Hombres","Mujeres","Hombres","Mujeres","Hombres","Mujeres","Hombres","Mujeres","Hombres","Mujeres","Hombres","Mujeres","Hombres","Mujeres","Hombres","Mujeres","Hombres","Mujeres","Hombres","Mujeres","Hombres","Mujeres","Hombres","Mujeres","Hombres","Mujeres","Hombres","Mujeres","Hombres","Mujeres"]
["INGRESOS A TRATAMIENTO ODONTOLOGÍA GENERAL",null,null,{"$f":"SUM(E41,F41)","v":0},{"$f":"SUM(S41,Y41,AA41,AC41,AE41,AG41,AI41,AK41,AM41)","v":0},{"$f":"SUM(T41,Z41,AB41,AD41,AF41,AH41,AJ41,AL41,AN41)","v":0},null,null,null,null,null,null,null,null,null,null,null,null,null,null,null,null,null,null,null,null,null,null,null,null,null,null,null,null,null,null,null,null,null,null,null,null,null,null,null,null,{"$f":"$CA41&$CB41&$CC41&$CD41&$CE41&$CF41&$CG41&$CH41&$CI41&$CJ41&$CK41&$CL41&$CM41&$CN41&$CO41&$CP41&$CQ41&$CR41","v":""},null,null,null,null,null,null,null,null,null,null,null,null,null,null,null,null,null,null,null,null,null,null,null,null,null,null,null,null,null,null,null,{"$f":"IF(DA41=1,\"* No olvide digitar el campo \"&CA$10&\" (Digite CEROS si no tiene). \",\"\")","v":""},{"$f":"IF(DB41=1,\"* El campo \"&CA$10&\" NO PUEDE ser mayor al total de Consultas entre 10-14 años. \",\"\")","v":""},{"$f":"IF(DC41=1,\"* No olvide digitar el campo \"&CC$10&\" (Digite CEROS si no tiene). \",\"\")","v":""},{"$f":"IF(DD41=1,\"* El campo \"&CC$10&\" NO PUEDE ser mayor al Total de mujeres. \",\"\")","v":""},{"$f":"IF(DE41=1,\"* No olvide digitar el campo \"&CE$10&\" (Digite CEROS si no tiene). \",\"\")","v":""},{"$f":"IF(DF41=1,\"* El campo \"&CE$10&\" NO PUEDE ser mayor al Total. \",\"\")","v":""},{"$f":"IF(DG41=1,\"* No olvide digitar el campo \"&CG$10&\" (Digite CEROS si no tiene). \",\"\")","v":""},{"$f":"IF(DH41=1,\"* El campo \"&CG$10&\" NO PUEDE ser mayor al Total de Consultas entre 60-64 Años. \",\"\")","v":""},{"$f":"IF(DI41=1,\"* No olvide digitar el campo \"&CI$10&\" (Digite CEROS si no tiene). \",\"\")","v":""},{"$f":"IF(DJ41=1,\"* El campo \"&CI$10&\" NO PUEDE ser mayor al Total. \",\"\")","v":""},{"$f":"IF(DK41=1,\"* No olvide digitar el campo \"&CK$10&\" (Digite CEROS si no tiene). \",\"\")","v":""},{"$f":"IF(DL41=1,\"* El campo \"&CK$10&\" NO PUEDE ser mayor al Total. \",\"\")","v":""},{"$f":"IF(DM41=1,\"* No olvide digitar el campo \"&CM$10&\" (Digite CEROS si no tiene). \",\"\")","v":""},{"$f":"IF(DN41=1,\"* El campo \"&CM$10&\" NO PUEDE ser mayor al Total. \",\"\")","v":""},{"$f":"IF(DO41=1,\"* No olvide digitar el campo \"&CO$10&\" (Digite CEROS si no tiene). \",\"\")","v":""},{"$f":"IF(DP41=1,\"* El campo \"&CO$10&\" NO PUEDE ser mayor al Total. \",\"\")","v":""},{"$f":"IF(DQ41=1,\"* No olvide digitar el campo \"&CQ$10&\" (Digite CEROS si no tiene). \",\"\")","v":""},{"$f":"IF(DR41=1,\"* El campo \"&CQ$10&\" NO PUEDE ser mayor al Total. \",\"\")","v":""},null,null,null,null,null,null,null,null,null,null,{"$f":"IF(AND(AO41=\"\",$F41<>0),1,0)","v":0},{"$f":"IF(AO41>$F41,1,0)","v":0},null,null,{"$f":"IF(AND(AP41=\"\",$D41<>0),1,0)","v":0},{"$f":"IF(AP41>$AE41+$AF41,1,0)","v":0},null,null,{"$f":"IF(AND(AQ41=\"\",$D41<>0),1,0)","v":0},{"$f":"IF(AQ41>$D41,1,0)","v":0},{"$f":"IF(AND(AR41=\"\",$D41<>0),1,0)","v":0},{"$f":"IF(AR41>$D41,1,0)","v":0},{"$f":"IF(AND(AS41=\"\",$D41<>0),1,0)","v":0},{"$f":"IF(AS41>$D41,1,0)","v":0},{"$f":"IF(AND(AT41=\"\",$D41<>0),1,0)","v":0},{"$f":"IF(AT41>$D41,1,0)","v":0}]
["INGRESO CONTROL CON ENFOQUE RIESGO ODONTOLÓGICO (CERO)",null,null,{"$f":"SUM(E42,F42)","v":0},{"$f":"SUM(G42,I42,K42,M42,O42,Q42,S42,U42,W42,Y42,AA42)","v":0},{"$f":"SUM(H42,J42,L42,N42,P42,R42,T42,V42,X42,Z42,AB42)","v":0},null,null,null,null,null,null,null,null,null,null,null,null,null,null,null,null,null,null,null,null,null,null,null,null,null,null,null,null,null,null,null,null,null,null,null,null,null,null,null,null,"",null,null,null,null,null,null,null,null,null,null,null,null,null,null,null,null,null,null,null,null,null,null,null,null,null,null,null,null,null,null,null,{"$f":"IF(DA42=1,\"* No olvide digitar el campo \"&CA$10&\" (Digite CEROS si no tiene). \",\"\")","v":""},{"$f":"IF(DB42=1,\"* El campo \"&CA$10&\" NO PUEDE ser mayor al total de Consultas entre 10-14 años. \",\"\")","v":""},{"$f":"IF(DC42=1,\"* No olvide digitar el campo \"&CC$10&\" (Digite CEROS si no tiene). \",\"\")","v":""},{"$f":"IF(DD42=1,\"* El campo \"&CC$10&\" NO PUEDE ser mayor al Total de mujeres. \",\"\")","v":""},{"$f":"IF(DE42=1,\"* No olvide digitar el campo \"&CE$10&\" (Digite CEROS si no tiene). \",\"\")","v":""},{"$f":"IF(DF42=1,\"* El campo \"&CE$10&\" NO PUEDE ser mayor al Total. \",\"\")","v":""},{"$f":"IF(DG42=1,\"* No olvide digitar el campo \"&CG$10&\" (Digite CEROS si no tiene). \",\"\")","v":""},{"$f":"IF(DH42=1,\"* El campo \"&CG$10&\" NO PUEDE ser mayor al Total de Consultas entre 60-64 Años. \",\"\")","v":""},{"$f":"IF(DI42=1,\"* No olvide digitar el campo \"&CI$10&\" (Digite CEROS si no tiene). \",\"\")","v":""},{"$f":"IF(DJ42=1,\"* El campo \"&CI$10&\" NO PUEDE ser mayor al Total. \",\"\")","v":""},{"$f":"IF(DK42=1,\"* No olvide digitar el campo \"&CK$10&\" (Digite CEROS si no tiene). \",\"\")","v":""},{"$f":"IF(DL42=1,\"* El campo \"&CK$10&\" NO PUEDE ser mayor al Total. \",\"\")","v":""},{"$f":"IF(DM42=1,\"* No olvide digitar el campo \"&CM$10&\" (Digite CEROS si no tiene). \",\"\")","v":""},{"$f":"IF(DN42=1,\"* El campo \"&CM$10&\" NO PUEDE ser mayor al Total. \",\"\")","v":""},{"$f":"IF(DO42=1,\"* No olvide digitar el campo \"&CO$10&\" (Digite CEROS si no tiene). \",\"\")","v":""},{"$f":"IF(DP42=1,\"* El campo \"&CO$10&\" NO PUEDE ser mayor al Total. \",\"\")","v":""},{"$f":"IF(DQ42=1,\"* No olvide digitar el campo \"&CQ$10&\" (Digite CEROS si no tiene). \",\"\")","v":""},{"$f":"IF(DR42=1,\"* El campo \"&CQ$10&\" NO PUEDE ser mayor al Total. \",\"\")","v":""},null,null,null,null,null,null,null,null,null,null,{"$f":"IF(AND(AO42=\"\",$F42<>0),1,0)","v":0},{"$f":"IF(AO42>$F42,1,0)","v":0},null,null,{"$f":"IF(AND(AP42=\"\",$D42<>0),1,0)","v":0},{"$f":"IF(AP42>$AE42+$AF42,1,0)","v":0},null,null,{"$f":"IF(AND(AQ42=\"\",$D42<>0),1,0)","v":0},{"$f":"IF(AQ42>$D42,1,0)","v":0},{"$f":"IF(AND(AR42=\"\",$D42<>0),1,0)","v":0},{"$f":"IF(AR42>$D42,1,0)","v":0},{"$f":"IF(AND(AS42=\"\",$D42<>0),1,0)","v":0},{"$f":"IF(AS42>$D42,1,0)","v":0},{"$f":"IF(AND(AT42=\"\",$D42<>0),1,0)","v":0},{"$f":"IF(AT42>$D42,1,0)","v":0}]
["EGRESO CONTROL CON ENFOQUE RIESGO ODONTOLÓGICO (CERO)",null,null,0,{"$f":"SUM(G43,I43,K43,M43,O43,Q43,S43,U43,W43,Y43,AA43)","v":0},{"$f":"SUM(H43,J43,L43,N43,P43,R43,T43,V43,X43,Z43,AB43)","v":0},null,null,null,null,null,null,null,null,null,null,null,null,null,null,null,null,null,null,null,null,null,null,null,null,null,null,null,null,null,null,null,null,null,null,null,null,null,null,null,null,"",null,null,null,null,null,null,null,null,null,null,null,null,null,null,null,null,null,null,null,null,null,null,null,null,null,null,null,null,null,null,null,"","","","","","","","","","","","","","","","","","",null,null,null,null,null,null,null,null,null,null,0,0,null,null,0,0,null,null,0,0,0,0,0,0,0,0]
["ALTAS ODONTOLÓGICAS PREVENTIVAS",null,null,0,{"$f":"+Y44+AA44+AC44+AE44+AG44+AI44+AK44+AM44","v":0},{"$f":"SUM(H44,J44,L44,N44,P44,R44,T44,V44,X44,Z44,AB44,AD44,AF44,AH44,AJ44,AL44,AN44)","v":0},null,null,null,null,null,null,null,null,null,null,null,null,null,null,null,null,null,null,null,null,null,null,null,null,null,null,null,null,null,null,null,null,null,null,null,null,null,null,null,null,"",null,null,null,null,null,null,null,null,null,null,null,null,null,null,null,null,null,null,null,null,null,null,null,null,null,null,null,null,null,null,null,"","","","","","","","","","","","","","","","","","",null,null,null,null,null,null,null,null,null,null,0,0,null,null,0,0,null,null,0,0,0,0,0,0,0,0]
["ALTAS ODONTOLÓGICAS INTEGRALES (EXCLUYE SECCIÓN G)",null,null,0,{"$f":"+Y45+AA45+AC45+AE45+AG45+AI45+AK45+AM45","v":0},{"$f":"SUM(H45,J45,L45,N45,P45,R45,T45,V45,X45,Z45,AB45,AD45,AF45,AH45,AJ45,AL45,AN45)","v":0},null,null,null,null,null,null,null,null,null,null,null,null,null,null,null,null,null,null,null,null,null,null,null,null,null,null,null,null,null,null,null,null,null,null,null,null,null,null,null,null,"",null,null,null,null,null,null,null,null,null,null,null,null,null,null,null,null,null,null,null,null,null,null,null,null,null,null,null,null,null,null,null,"","","","","","","","","","","","","","","","","","",null,null,null,null,null,null,null,null,null,null,0,0,null,null,0,0,null,null,0,0,0,0,0,0,0,0]
["ALTAS ODONTOLÓGICAS TOTALES",null,null,0,{"$f":"+Y46+AA46+AC46+AE46+AG46+AI46+AK46+AM46","v":0},{"$f":"SUM(H46,J46,L46,N46,P46,R46,T46,V46,X46,Z46,AB46,AD46,AF46,AH46,AJ46,AL46,AN46)","v":0},null,null,null,null,null,null,null,null,null,null,null,null,null,null,null,null,null,null,{"$f":"SUM(Y44:Y45)","v":0},0,0,0,0,0,0,{"$f":"SUM(AF44:AF45)","v":0},0,0,0,0,0,0,0,0,{"$f":"SUM(AO44:AO45)","v":0},{"$f":"SUM(AP44,AP41)","v":0},{"$f":"SUM(AQ44:AQ45)","v":0},{"$f":"SUM(AR44:AR45)","v":0},{"$f":"SUM(AS44:AS45)","v":0},{"$f":"SUM(AT44:AT45)","v":0}]
["EGRESOS POR ABANDONO",null,null,0,{"$f":"SUM(G47,I47,K47,M47,O47,Q47,S47,U47,W47,Y47,AA47,AC47,AE47,AG47,AI47,AK47,AM47)","v":0},{"$f":"SUM(H47,J47,L47,N47,P47,R47,T47,V47,X47,Z47,AB47,AD47,AF47,AH47,AJ47,AL47,AN47)","v":0},null,null,null,null,null,null,null,null,null,null,null,null,null,null,null,null,null,null,null,null,null,null,null,null,null,null,null,null,null,null,null,null,null,null,null,null,null,null,null,null,"",null,null,null,null,null,null,null,null,null,null,null,null,null,null,null,null,null,null,null,null,null,null,null,null,null,null,null,null,null,null,null,"","","","","","","","","","","","","","","","","","",null,null,null,null,null,null,null,null,null,null,0,0,null,null,0,0,null,null,0,0,0,0,0,0,0,0]
["ÍNDICE ceod O COPD EN PACIENTES INGRESADOS (Índice ceod se usa en menores de 7 años, para resto se utiliza COPD) ",null,0,0,{"$f":"SUM(G48,I48,K48,M48,O48,Q48,S48,U48,W48,Y48,AA48,AC48,AE48,AG48,AI48,AK48,AM48)","v":0},{"$f":"SUM(H48,J48,L48,N48,P48,R48,T48,V48,X48,Z48,AB48,AD48,AF48,AH48,AJ48,AL48,AN48)","v":0},null,null,null,null,null,null,null,null,null,null,null,null,null,null,null,null,null,null,null,null,null,null,null,null,null,null,null,null,null,null,null,null,null,null,null,null,null,null,null,null,"",null,null,null,null,null,null,null,null,null,null,null,null,null,null,null,null,null,null,null,null,null,null,null,null,null,null,null,null,null,null,null,"","","","","","","","","","","","","","","","","","",null,null,null,null,null,null,null,null,null,null,0,0,null,null,0,0,null,null,0,0,0,0,0,0,0,0]
[null,null,"1 a 2",0,0,0,null,null,null,null,null,null,null,null,null,null,null,null,null,null,null,null,null,null,null,null,null,null,null,null,null,null,null,null,null,null,null,null,null,null,null,null,null,null,null,null,"",null,null,null,null,null,null,null,null,null,null,null,null,null,null,null,null,null,null,null,null,null,null,null,null,null,null,null,null,null,null,null,"","","","","","","","","","","","","","","","","","",null,null,null,null,null,null,null,null,null,null,0,0,null,null,0,0,null,null,0,0,0,0,0,0,0,0]
[null,null,"3 a 4",0,0,0,null,null,null,null,null,null,null,null,null,null,null,null,null,null,null,null,null,null,null,null,null,null,null,null,null,null,null,null,null,null,null,null,null,null,null,null,null,null,null,null,"",null,null,null,null,null,null,null,null,null,null,null,null,null,null,null,null,null,null,null,null,null,null,null,null,null,null,null,null,null,null,null,"","","","","","","","","","","","","","","","","","",null,null,null,null,null,null,null,null,null,null,0,0,null,null,0,0,null,null,0,0,0,0,0,0,0,0]
[null,null,"5 a 6",0,0,0,null,null,null,null,null,null,null,null,null,null,null,null,null,null,null,null,null,null,null,null,null,null,null,null,null,null,null,null,null,null,null,null,null,null,null,null,null,null,null,null,"",null,null,null,null,null,null,null,null,null,null,null,null,null,null,null,null,null,null,null,null,null,null,null,null,null,null,null,null,null,null,null,"","","","","","","","","","","","","","","","","","",null,null,null,null,null,null,null,null,null,null,0,0,null,null,0,0,null,null,0,0,0,0,0,0,0,0]
[null,null,"7 a 8",0,0,0,null,null,null,null,null,null,null,null,null,null,null,null,null,null,null,null,null,null,null,null,null,null,null,null,null,null,null,null,null,null,null,null,null,null,null,null,null,null,null,null,"",null,null,null,null,null,null,null,null,null,null,null,null,null,null,null,null,null,null,null,null,null,null,null,null,null,null,null,null,null,null,null,"","","","","","","","","","","","","","","","","","",null,null,null,null,null,null,null,null,null,null,0,0,null,null,0,0,null,null,0,0,0,0,0,0,0,0]
[null,null,"9 o más",0,0,0,null,null,null,null,null,null,null,null,null,null,null,null,null,null,null,null,null,null,null,null,null,null,null,null,null,null,null,null,null,null,null,null,null,null,null,null,null,null,null,null,"",null,null,null,null,null,null,null,null,null,null,null,null,null,null,null,null,null,null,null,null,null,null,null,null,null,null,null,null,null,null,null,"","","","","","","","","","","","","","","","","","",null,null,null,null,null,null,null,null,null,null,0,0,null,null,0,0,null,null,0,0,0,0,0,0,0,0]
["TOTAL",null,null,0,0,0,{"$f":"SUM(G48:G53)","v":0},{"$f":"SUM(H48:H53)","v":0},0,0,0,0,0,0,0,0,0,0,0,0,0,0,0,0,0,0,0,0,0,0,0,0,0,0,0,0,0,0,0,0,0,0,0,0,{"$f":"SUM(AS48:AS53)","v":0},0]
[" N° de dientes (total de dientes en boca. En dentición mixta se suman los dientes primarios y permanentes)",null,0,0,0,0,null,null,null,null,null,null,null,null,null,null,null,null,null,null,null,null,null,null,null,null,null,null,null,null,null,null,null,null,null,null,null,null,null,null,null,null,null,null,null,null,"",null,null,null,null,null,null,null,null,null,null,null,null,null,null,null,null,null,null,null,null,null,null,null,null,null,null,null,null,null,null,null,"","","","","","","","","","","","","","","","","","",null,null,null,null,null,null,null,null,null,null,0,0,null,null,0,0,null,null,0,0,0,0,0,0,0,0]
[null,null,"1 a 9",0,0,0,null,null,null,null,null,null,null,null,null,null,null,null,null,null,null,null,null,null,null,null,null,null,null,null,null,null,null,null,null,null,null,null,null,null,null,null,null,null,null,null,"",null,null,null,null,null,null,null,null,null,null,null,null,null,null,null,null,null,null,null,null,null,null,null,null,null,null,null,null,null,null,null,"","","","","","","","","","","","","","","","","","",null,null,null,null,null,null,null,null,null,null,0,0,null,null,0,0,null,null,0,0,0,0,0,0,0,0]
[null,null,"10 a 19",0,0,0,null,null,null,null,null,null,null,null,null,null,null,null,null,null,null,null,null,null,null,null,null,null,null,null,null,null,null,null,null,null,null,null,null,null,null,null,null,null,null,null,"",null,null,null,null,null,null,null,null,null,null,null,null,null,null,null,null,null,null,null,null,null,null,null,null,null,null,null,null,null,null,null,"","","","","","","","","","","","","","","","","","",null,null,null,null,null,null,null,null,null,null,0,0,null,null,0,0,null,null,0,0,0,0,0,0,0,0]
[null,null,"20 a 27",0,0,0,null,null,null,null,null,null,null,null,null,null,null,null,null,null,null,null,null,null,null,null,null,null,null,null,null,null,null,null,null,null,null,null,null,null,null,null,null,null,null,null,"",null,null,null,null,null,null,null,null,null,null,null,null,null,null,null,null,null,null,null,null,null,null,null,null,null,null,null,null,null,null,null,"","","","","","","","","","","","","","","","","","",null,null,null,null,null,null,null,null,null,null,0,0,null,null,0,0,null,null,0,0,0,0,0,0,0,0]
[null,null,"28 y más",0,0,0,null,null,null,null,null,null,null,null,null,null,null,null,null,null,null,null,null,null,null,null,null,null,null,null,null,null,null,null,null,null,null,null,null,null,null,null,null,null,null,null,"",null,null,null,null,null,null,null,null,null,null,null,null,null,null,null,null,null,null,null,null,null,null,null,null,null,null,null,null,null,null,null,"","","","","","","","","","","","","","","","","","",null,null,null,null,null,null,null,null,null,null,0,0,null,null,0,0,null,null,0,0,0,0,0,0,0,0]
["TOTAL",null,null,0,0,0,{"$f":"SUM(G55:G59)","v":0},{"$f":"SUM(H55:H59)","v":0},0,0,0,0,0,0,0,0,0,0,0,0,0,0,0,0,0,0,0,0,0,0,0,0,0,0,0,0,0,0,0,0,0,0,0,0,{"$f":"SUM(AS55:AS59)","v":0},0]
["CÓDIGO EXAMEN PERIODONTAL BASICO (EPB) EN PACIENTES INGRESADOS",null,0,0,0,0,null,null,null,null,null,null,null,null,null,null,null,null,null,null,null,null,null,null,null,null,null,null,null,null,null,null,null,null,null,null,null,null,null,null,null,null,null,null,null,null,"",null,null,null,null,null,null,null,null,null,null,null,null,null,null,null,null,null,null,null,null,null,null,null,null,null,null,null,null,null,null,null,"","","","","","","","","","","","","","","","","","",null,null,null,null,null,null,null,null,null,null,0,0,null,null,0,0,null,null,0,0,0,0,0,0,0,0]
[null,null,"1,2,3",0,0,0,null,null,null,null,null,null,null,null,null,null,null,null,null,null,null,null,null,null,null,null,null,null,null,null,null,null,null,null,null,null,null,null,null,null,null,null,null,null,null,null,"",null,null,null,null,null,null,null,null,null,null,null,null,null,null,null,null,null,null,null,null,null,null,null,null,null,null,null,null,null,null,null,"","","","","","","","","","","","","","","","","","",null,null,null,null,null,null,null,null,null,null,0,0,null,null,0,0,null,null,0,0,0,0,0,0,0,0]
[null,null,"4 y *",0,0,0,null,null,null,null,null,null,null,null,null,null,null,null,null,null,null,null,null,null,null,null,null,null,null,null,null,null,null,null,null,null,null,null,null,null,null,null,null,null,null,null,"",null,null,null,null,null,null,null,null,null,null,null,null,null,null,null,null,null,null,null,null,null,null,null,null,null,null,null,null,null,null,null,"","","","","","","","","","","","","","","","","","",null,null,null,null,null,null,null,null,null,null,0,0,null,null,0,0,null,null,0,0,0,0,0,0,0,0]
[null,null,"TOTAL",0,0,0,null,null,null,null,null,null,null,null,null,null,null,null,null,null,null,null,null,null,null,null,{"$f":"SUM(AA61:AA63)","v":0},0,0,0,0,0,0,0,0,0,0,0,0,0,0,0,0,0,0,0]
["SECCIÓN D : INTERCONSULTAS GENERADAS EN ESTABLECIMIENTOS DE APS"]
["ESPECIALIDAD",null,null,"TOTAL","Gestantes","60 años","Usuarios con Discapacidad","Niños. Niñas, adolescentes y jóvenes SENAME","Niños. Niñas, adolescentes y jóvenes Mejor Niñez","Migrantes",null,null,null,null,null,null,null,null,null,null,null,null,null,null,null,null,null,null,null,null,null,null,null,null,null,null,null,null,null,null,null,null,null,null,null,null,null,null,null,null,null,null,null,null,null,null,null,null,null,null,null,null,null,null,null,null,null,null,null,null,null,null,null,null,null,null,null,null,"Gestantes",null,"60 años",null,"Usuarios con Discapacidad",null,"Niños. Niñas, adolescentes y jóvenes SENAME",null,"Niños. Niñas, adolescentes y jóvenes Mejor Niñez",null,"Migrantes",null,null,null,null,null,null,null,null,null,null,null,null,null,null,null,"Gestantes",null,"60 años",null,"Usuarios con Discapacidad",null,"Niños. Niñas, adolescentes y jóvenes SENAME",null,"Niños. Niñas, adolescentes y jóvenes Mejor Niñez",null,"Migrantes"]
["ENDODONCIA",null,null,null,null,null,null,null,null,null,{"$f":"$CA67&$CB67&$CC67&$CD67&$CE67&$CF67&$CG67&$CH67&$CI67&$CJ67&$CK67&$CL67&$CM67&$CN67&$CO67&$CP67&$CQ67&$CR67","v":""},null,null,null,null,null,null,null,null,null,null,null,null,null,null,null,null,null,null,null,null,null,null,null,null,null,null,null,null,null,null,null,null,null,null,null,null,null,null,null,null,null,null,null,null,null,null,null,null,null,null,null,null,null,null,null,null,null,null,null,null,null,null,null,null,null,null,null,{"$f":"IF(DA67=1,\"* No olvide digitar el campo \"&CA$66&\" (Digite CEROS si no tiene). \",\"\")","v":""},{"$f":"IF(DB67=1,\"* El campo \"&CA$66&\" NO PUEDE ser mayor al Total. \",\"\")","v":""},{"$f":"IF(DC67=1,\"* No olvide digitar el campo \"&CC$66&\" (Digite CEROS si no tiene). \",\"\")","v":""},{"$f":"IF(DD67=1,\"* El campo \"&CC$66&\" NO PUEDE ser mayor al Total. \",\"\")","v":""},{"$f":"IF(DE67=1,\"* No olvide digitar el campo \"&CE$66&\" (Digite CEROS si no tiene). \",\"\")","v":""},{"$f":"IF(DF67=1,\"* El campo \"&CE$66&\" NO PUEDE ser mayor al Total. \",\"\")","v":""},{"$f":"IF(DG67=1,\"* No olvide digitar el campo \"&CG$66&\" (Digite CEROS si no tiene). \",\"\")","v":""},{"$f":"IF(DH67=1,\"* El campo \"&CG$66&\" NO PUEDE ser mayor al Total. \",\"\")","v":""},{"$f":"IF(DI67=1,\"* No olvide digitar el campo \"&CI$66&\" (Digite CEROS si no tiene). \",\"\")","v":""},{"$f":"IF(DJ67=1,\"* El campo \"&CI$66&\" NO PUEDE ser mayor al Total. \",\"\")","v":""},{"$f":"IF(DK67=1,\"* No olvide digitar el campo \"&CK$66&\" (Digite CEROS si no tiene). \",\"\")","v":""},{"$f":"IF(DL67=1,\"* El campo \"&CK$66&\" NO PUEDE ser mayor al Total. \",\"\")","v":""},null,null,null,null,null,null,null,null,null,null,null,null,null,null,{"$f":"IF(AND(E67=\"\",$D67<>0),1,0)","v":0},{"$f":"IF(E67>$D67,1,0)","v":0},{"$f":"IF(AND(F67=\"\",$D67<>0),1,0)","v":0},{"$f":"IF(F67>$D67,1,0)","v":0},{"$f":"IF(AND(G67=\"\",$D67<>0),1,0)","v":0},{"$f":"IF(G67>$D67,1,0)","v":0},{"$f":"IF(AND(H67=\"\",$D67<>0),1,0)","v":0},{"$f":"IF(H67>$D67,1,0)","v":0},{"$f":"IF(AND(I67=\"\",$D67<>0),1,0)","v":0},{"$f":"IF(I67>$D67,1,0)","v":0},{"$f":"IF(AND(J67=\"\",$D67<>0),1,0)","v":0},{"$f":"IF(J67>$D67,1,0)","v":0}]
["REHABILITACIÓN ORAL","PRÓTESIS REMOVIBLES",null,null,null,null,null,null,null,null,"",null,null,null,null,null,null,null,null,null,null,null,null,null,null,null,null,null,null,null,null,null,null,null,null,null,null,null,null,null,null,null,null,null,null,null,null,null,null,null,null,null,null,null,null,null,null,null,null,null,null,null,null,null,null,null,null,null,null,null,null,null,null,null,null,null,null,null,{"$f":"IF(DA68=1,\"* No olvide digitar el campo \"&CA$66&\" (Digite CEROS si no tiene). \",\"\")","v":""},{"$f":"IF(DB68=1,\"* El campo \"&CA$66&\" NO PUEDE ser mayor al Total. \",\"\")","v":""},{"$f":"IF(DC68=1,\"* No olvide digitar el campo \"&CC$66&\" (Digite CEROS si no tiene). \",\"\")","v":""},{"$f":"IF(DD68=1,\"* El campo \"&CC$66&\" NO PUEDE ser mayor al Total. \",\"\")","v":""},{"$f":"IF(DE68=1,\"* No olvide digitar el campo \"&CE$66&\" (Digite CEROS si no tiene). \",\"\")","v":""},{"$f":"IF(DF68=1,\"* El campo \"&CE$66&\" NO PUEDE ser mayor al Total. \",\"\")","v":""},{"$f":"IF(DG68=1,\"* No olvide digitar el campo \"&CG$66&\" (Digite CEROS si no tiene). \",\"\")","v":""},{"$f":"IF(DH68=1,\"* El campo \"&CG$66&\" NO PUEDE ser mayor al Total. \",\"\")","v":""},{"$f":"IF(DI68=1,\"* No olvide digitar el campo \"&CI$66&\" (Digite CEROS si no tiene). \",\"\")","v":""},{"$f":"IF(DJ68=1,\"* El campo \"&CI$66&\" NO PUEDE ser mayor al Total. \",\"\")","v":""},{"$f":"IF(DK68=1,\"* No olvide digitar el campo \"&CK$66&\" (Digite CEROS si no tiene). \",\"\")","v":""},{"$f":"IF(DL68=1,\"* El campo \"&CK$66&\" NO PUEDE ser mayor al Total. \",\"\")","v":""},null,null,null,null,null,null,null,null,null,null,null,null,null,null,{"$f":"IF(AND(E68=\"\",$D68<>0),1,0)","v":0},{"$f":"IF(E68>$D68,1,0)","v":0},{"$f":"IF(AND(F68=\"\",$D68<>0),1,0)","v":0},{"$f":"IF(F68>$D68,1,0)","v":0},{"$f":"IF(AND(G68=\"\",$D68<>0),1,0)","v":0},{"$f":"IF(G68>$D68,1,0)","v":0},{"$f":"IF(AND(H68=\"\",$D68<>0),1,0)","v":0},{"$f":"IF(H68>$D68,1,0)","v":0},{"$f":"IF(AND(I68=\"\",$D68<>0),1,0)","v":0},{"$f":"IF(I68>$D68,1,0)","v":0},{"$f":"IF(AND(J68=\"\",$D68<>0),1,0)","v":0},{"$f":"IF(J68>$D68,1,0)","v":0}]
[null,"PRÓTESIS FIJA",null,null,null,null,null,null,null,null,"",null,null,null,null,null,null,null,null,null,null,null,null,null,null,null,null,null,null,null,null,null,null,null,null,null,null,null,null,null,null,null,null,null,null,null,null,null,null,null,null,null,null,null,null,null,null,null,null,null,null,null,null,null,null,null,null,null,null,null,null,null,null,null,null,null,null,null,"","","","","","","","","","","","",null,null,null,null,null,null,null,null,null,null,null,null,null,null,0,0,0,0,0,0,0,0,0,0,0,0]
[null,"PRÓTESIS IMPLANTOASISTIDA",null,null,null,null,null,null,null,null,"",null,null,null,null,null,null,null,null,null,null,null,null,null,null,null,null,null,null,null,null,null,null,null,null,null,null,null,null,null,null,null,null,null,null,null,null,null,null,null,null,null,null,null,null,null,null,null,null,null,null,null,null,null,null,null,null,null,null,null,null,null,null,null,null,null,null,null,"","","","","","","","","","","","",null,null,null,null,null,null,null,null,null,null,null,null,null,null,0,0,0,0,0,0,0,0,0,0,0,0]
["CIRUGÍA BUCAL ",null,null,null,null,null,null,null,null,null,"",null,null,null,null,null,null,null,null,null,null,null,null,null,null,null,null,null,null,null,null,null,null,null,null,null,null,null,null,null,null,null,null,null,null,null,null,null,null,null,null,null,null,null,null,null,null,null,null,null,null,null,null,null,null,null,null,null,null,null,null,null,null,null,null,null,null,null,"","","","","","","","","","","","",null,null,null,null,null,null,null,null,null,null,null,null,null,null,0,0,0,0,0,0,0,0,0,0,0,0]
["CIRUGÍA Y TRAUMATOLOGÍA MAXILOFACIAL",null,null,null,null,null,null,null,null,null,"",null,null,null,null,null,null,null,null,null,null,null,null,null,null,null,null,null,null,null,null,null,null,null,null,null,null,null,null,null,null,null,null,null,null,null,null,null,null,null,null,null,null,null,null,null,null,null,null,null,null,null,null,null,null,null,null,null,null,null,null,null,null,null,null,null,null,null,"","","","","","","","","","","","",null,null,null,null,null,null,null,null,null,null,null,null,null,null,0,0,0,0,0,0,0,0,0,0,0,0]
["ODONTOPEDIATRÍA ",null,null,null,null,null,null,null,null,null,"",null,null,null,null,null,null,null,null,null,null,null,null,null,null,null,null,null,null,null,null,null,null,null,null,null,null,null,null,null,null,null,null,null,null,null,null,null,null,null,null,null,null,null,null,null,null,null,null,null,null,null,null,null,null,null,null,null,null,null,null,null,null,null,null,null,null,null,"","","","","","","","","","","","",null,null,null,null,null,null,null,null,null,null,null,null,null,null,0,0,0,0,0,0,0,0,0,0,0,0]
["ORTODONCIA Y ORTOPEDIA DENTOMAXILOFACIAL","ORTODONCIA Y ORTOPEDIA DENTOMAXILOFACIAL",null,null,null,null,null,null,null,null,"",null,null,null,null,null,null,null,null,null,null,null,null,null,null,null,null,null,null,null,null,null,null,null,null,null,null,null,null,null,null,null,null,null,null,null,null,null,null,null,null,null,null,null,null,null,null,null,null,null,null,null,null,null,null,null,null,null,null,null,null,null,null,null,null,null,null,null,"","","","","","","","","","","","",null,null,null,null,null,null,null,null,null,null,null,null,null,null,0,0,0,0,0,0,0,0,0,0,0,0]
[null,"APARATOLOGÍA REMOVIBLE",null,null,null,null,null,null,null,null,"",null,null,null,null,null,null,null,null,null,null,null,null,null,null,null,null,null,null,null,null,null,null,null,null,null,null,null,null,null,null,null,null,null,null,null,null,null,null,null,null,null,null,null,null,null,null,null,null,null,null,null,null,null,null,null,null,null,null,null,null,null,null,null,null,null,null,null,"","","","","","","","","","","","",null,null,null,null,null,null,null,null,null,null,null,null,null,null,0,0,0,0,0,0,0,0,0,0,0,0]
["PERIODONCIA",null,null,null,null,null,null,null,null,null,"",null,null,null,null,null,null,null,null,null,null,null,null,null,null,null,null,null,null,null,null,null,null,null,null,null,null,null,null,null,null,null,null,null,null,null,null,null,null,null,null,null,null,null,null,null,null,null,null,null,null,null,null,null,null,null,null,null,null,null,null,null,null,null,null,null,null,null,"","","","","","","","","","","","",null,null,null,null,null,null,null,null,null,null,null,null,null,null,0,0,0,0,0,0,0,0,0,0,0,0]
["IMAGENOLOGÍA ORAL Y MAXILOFACIAL ",null,null,null,null,null,null,null,null,null,"",null,null,null,null,null,null,null,null,null,null,null,null,null,null,null,null,null,null,null,null,null,null,null,null,null,null,null,null,null,null,null,null,null,null,null,null,null,null,null,null,null,null,null,null,null,null,null,null,null,null,null,null,null,null,null,null,null,null,null,null,null,null,null,null,null,null,null,"","","","","","","","","","","","",null,null,null,null,null,null,null,null,null,null,null,null,null,null,0,0,0,0,0,0,0,0,0,0,0,0]
["PATOLOGÍA ORAL",null,null,null,null,null,null,null,null,null,"",null,null,null,null,null,null,null,null,null,null,null,null,null,null,null,null,null,null,null,null,null,null,null,null,null,null,null,null,null,null,null,null,null,null,null,null,null,null,null,null,null,null,null,null,null,null,null,null,null,null,null,null,null,null,null,null,null,null,null,null,null,null,null,null,null,null,null,"","","","","","","","","","","","",null,null,null,null,null,null,null,null,null,null,null,null,null,null,0,0,0,0,0,0,0,0,0,0,0,0]
["IMPLANTOLOGÍA BUCO MAXILOFACIAL",null,null,null,null,null,null,null,null,null,"",null,null,null,null,null,null,null,null,null,null,null,null,null,null,null,null,null,null,null,null,null,null,null,null,null,null,null,null,null,null,null,null,null,null,null,null,null,null,null,null,null,null,null,null,null,null,null,null,null,null,null,null,null,null,null,null,null,null,null,null,null,null,null,null,null,null,null,"","","","","","","","","","","","",null,null,null,null,null,null,null,null,null,null,null,null,null,null,0,0,0,0,0,0,0,0,0,0,0,0]
["TRASTORNOS TEMPOROMANDIBULARES Y DOLOR OROFACIAL",null,null,null,null,null,null,null,null,null,"",null,null,null,null,null,null,null,null,null,null,null,null,null,null,null,null,null,null,null,null,null,null,null,null,null,null,null,null,null,null,null,null,null,null,null,null,null,null,null,null,null,null,null,null,null,null,null,null,null,null,null,null,null,null,null,null,null,null,null,null,null,null,null,null,null,null,null,"","","","","","","","","","","","",null,null,null,null,null,null,null,null,null,null,null,null,null,null,0,0,0,0,0,0,0,0,0,0,0,0]
["SOMATOPRÓTESIS",null,null,null,null,null,null,null,null,null,"",null,null,null,null,null,null,null,null,null,null,null,null,null,null,null,null,null,null,null,null,null,null,null,null,null,null,null,null,null,null,null,null,null,null,null,null,null,null,null,null,null,null,null,null,null,null,null,null,null,null,null,null,null,null,null,null,null,null,null,null,null,null,null,null,null,null,null,"","","","","","","","","","","","",null,null,null,null,null,null,null,null,null,null,null,null,null,null,0,0,0,0,0,0,0,0,0,0,0,0]
["SECCIÓN E: CONSULTAS ODONTOLÓGICAS  EN HORARIO CONTINUADO (incluidas en  Secciones A y B. Excluye extensiones horarias de Sección G )"]
["JORNADA",null,"CONSULTAS  "]
[null,null,"TOTAL","Hombres","Mujeres"]
[" HORARIO CONTINUADO","VESPERTINA (LUNES-VIERNES)",{"$f":"SUM(D85+E85)","v":0}]
[null,"SÁBADO, DOMINGO o FESTIVO",{"$f":"SUM(D86+E86)","v":0}]
["SECCIÓN F:  ACTIVIDADES DE ATENCIÓN EN ESPECIALIDADES ODONTOLÓGICAS. "]
["ACTIVIDADES DE ESPECIALIDADES","TOTAL",null,null,"SEGÚN GRUPOS DE EDAD O DE RIESGO",null,null,null,null,null,null,null,null,null,null,null,null,null,null,null,null,null,null,null,null,null,null,null,null,null,null,null,null,null,null,null,null,null,"12 años (incluidos en  grupo de 10-14 años)","Embarazadas","Beneficiarios","60 años incluidos en grupos de  60-64 años)","Compra de Servicios","Usuarios con Discapacidad ","Niños, niñas, adolescentes y jovenes SENAME","Niños, niñas, adolescentes y jovenes Mejor Niñez","Migrantes"]
[null,null,null,null,"0-4 ",null,"5-9",null,"10-14 ",null,"15-19",null,"20-24",null,"25-29",null,"30-34",null,"35-39",null,"40-44",null,"45-49 ",null,"50-54",null,"55-59",null,"60-64",null,"65-69",null,"70-74",null,"75-79",null,"80 y mas"]
[null,"Ambos Sexos","Hombres","Mujeres","Hombres","Mujeres","Hombres","Mujeres","Hombres","Mujeres","Hombres","Mujeres","Hombres","Mujeres","Hombres","Mujeres","Hombres","Mujeres","Hombres","Mujeres","Hombres","Mujeres","Hombres","Mujeres","Hombres","Mujeres","Hombres","Mujeres","Hombres","Mujeres","Hombres","Mujeres","Hombres","Mujeres","Hombres","Mujeres","Hombres","Mujeres"]
["EXAMEN Y DIAGNÓSTICO DE ESPECIALIDAD",{"$f":"SUM(C91:D91)","v":0},{"$f":"SUM(E91+G91+I91+K91+M91+O91+Q91+S91+U91+W91+Y91+AA91+AC91+AE91+AG91+AI91+AK91)","v":0},{"$f":"SUM(F91+H91+J91+L91+N91+P91+R91+T91+V91+X91+Z91+AB91+AD91+AF91+AH91+AJ91+AL91)","v":0},null,null,null,null,null,null,null,null,null,null,null,null,null,null,null,null,null,null,null,null,null,null,null,null,null,null,null,null,null,null,null,null,null,null,null,null,null,null,null,null,null,null,null,{"$f":"$CA91&$CB91&$CC91&$CD91&$CE91&$CF91&$CG91&$CH91&$CI91&$CJ91&$CK91&$CL91&$CM91&$CN91&$CO91&$CP91&$CQ91&$CR91","v":""},null,null,null,null,null,null,null,null,null,null,null,null,null,null,null,null,null,null,null,null,null,null,null,null,null,null,null,null,null,null,{"$f":"IF(DA91=1,\"* No olvide digitar el campo \"&CA$10&\" (Digite CEROS si no tiene). \",\"\")","v":""},{"$f":"IF(DB91=1,\"* El campo \"&CA$10&\" NO PUEDE ser mayor al total de Consultas entre 10-14 años. \",\"\")","v":""},{"$f":"IF(DC91=1,\"* No olvide digitar el campo \"&CC$10&\" (Digite CEROS si no tiene). \",\"\")","v":""},{"$f":"IF(DD91=1,\"* El campo \"&CC$10&\" NO PUEDE ser mayor al Total de mujeres. \",\"\")","v":""},{"$f":"IF(DE91=1,\"* No olvide digitar el campo \"&CE$10&\" (Digite CEROS si no tiene). \",\"\")","v":""},{"$f":"IF(DF91=1,\"* El campo \"&CE$10&\" NO PUEDE ser mayor al Total. \",\"\")","v":""},{"$f":"IF(DG91=1,\"* No olvide digitar el campo \"&CG$10&\" (Digite CEROS si no tiene). \",\"\")","v":""},{"$f":"IF(DH91=1,\"* El campo \"&CG$10&\" NO PUEDE ser mayor al Total de Consultas entre 60-64 Años. \",\"\")","v":""},{"$f":"IF(DI91=1,\"* No olvide digitar el campo \"&CI$10&\" (Digite CEROS si no tiene). \",\"\")","v":""},{"$f":"IF(DJ91=1,\"* El campo \"&CI$10&\" NO PUEDE ser mayor al Total. \",\"\")","v":""},{"$f":"IF(DK91=1,\"* No olvide digitar el campo \"&CK$10&\" (Digite CEROS si no tiene). \",\"\")","v":""},{"$f":"IF(DL91=1,\"* El campo \"&CK$10&\" NO PUEDE ser mayor al Total. \",\"\")","v":""},{"$f":"IF(DM91=1,\"* No olvide digitar el campo \"&CM$10&\" (Digite CEROS si no tiene). \",\"\")","v":""},{"$f":"IF(DN91=1,\"* El campo \"&CM$10&\" NO PUEDE ser mayor al Total. \",\"\")","v":""},{"$f":"IF(DO91=1,\"* No olvide digitar el campo \"&CO$10&\" (Digite CEROS si no tiene). \",\"\")","v":""},{"$f":"IF(DP91=1,\"* El campo \"&CO$10&\" NO PUEDE ser mayor al Total. \",\"\")","v":""},{"$f":"IF(DQ91=1,\"* No olvide digitar el campo \"&CQ$10&\" (Digite CEROS si no tiene). \",\"\")","v":""},{"$f":"IF(DR91=1,\"* El campo \"&CQ$10&\" NO PUEDE ser mayor al Total. \",\"\")","v":""},null,null,null,null,null,null,null,null,{"$f":"IF(AND(AM91=\"\",$B91<>0),1,0)","v":0},{"$f":"IF(AM91>($I91+$J91),1,0)","v":0},{"$f":"IF(AND(AN91=\"\",$B91<>0),1,0)","v":0},{"$f":"IF(AN91>$D91,1,0)","v":0},{"$f":"IF(AND(AO91=\"\",$B91<>0),1,0)","v":0},{"$f":"IF(AO91>$B91,1,0)","v":0},{"$f":"IF(AND(AP91=\"\",$B91<>0),1,0)","v":0},{"$f":"IF(AP91>$AC91+$AD91,1,0)","v":0},{"$f":"IF(AND(AQ91=\"\",$B91<>0),1,0)","v":0},null,{"$f":"IF(AND(AR91=\"\",$B91<>0),1,0)","v":0},{"$f":"IF(AR91>$B91,1,0)","v":0},{"$f":"IF(AND(AS91=\"\",$B91<>0),1,0)","v":0},{"$f":"IF(AS91>$B91,1,0)","v":0},{"$f":"IF(AND(AT91=\"\",$B91<>0),1,0)","v":0},{"$f":"IF(AT91>$B91,1,0)","v":0},{"$f":"IF(AND(AU91=\"\",$B91<>0),1,0)","v":0},{"$f":"IF(AU91>$B91,1,0)","v":0}]
["EDUCACIÓN EN SALUD BUCAL",{"$f":"SUM(C92:D92)","v":0},{"$f":"SUM(E92+G92+I92+K92+M92+O92+Q92+S92+U92+W92+Y92+AA92+AC92+AE92+AG92+AI92+AK92)","v":0},{"$f":"SUM(F92+H92+J92+L92+N92+P92+R92+T92+V92+X92+Z92+AB92+AD92+AF92+AH92+AJ92+AL92)","v":0},null,null,null,null,null,null,null,null,null,null,null,null,null,null,null,null,null,null,null,null,null,null,null,null,null,null,null,null,null,null,null,null,null,null,null,null,null,null,null,null,null,null,null,"",null,null,null,null,null,null,null,null,null,null,null,null,null,null,null,null,null,null,null,null,null,null,null,null,null,null,null,null,null,null,"","","","","","","","","","","","","","","","","","",null,null,null,null,null,null,null,null,0,0,0,0,0,0,0,0,0,null,0,0,0,0,0,0,0,0]
["RESPUESTA A INTERCONSULTA PERSONAS HOSPITALIZADOS",{"$f":"SUM(C93:D93)","v":0},0,0,null,null,null,null,null,null,null,null,null,null,null,null,null,null,null,null,null,null,null,null,null,null,null,null,null,null,null,null,null,null,null,null,null,null,null,null,null,null,null,null,null,null,null,"",null,null,null,null,null,null,null,null,null,null,null,null,null,null,null,null,null,null,null,null,null,null,null,null,null,null,null,null,null,null,"","","","","","","","","","","","","","","","","","",null,null,null,null,null,null,null,null,0,0,0,0,0,0,0,0,0,null,0,0,0,0,0,0,0,0]
["VISITA A SALA",0,{"$f":"SUM(E94+G94+I94+K94+M94+O94+Q94+S94+U94+W94+Y94+AA94+AC94+AE94+AG94+AI94+AK94)","v":0},0,null,null,null,null,null,null,null,null,null,null,null,null,null,null,null,null,null,null,null,null,null,null,null,null,null,null,null,null,null,null,null,null,null,null,null,null,null,null,null,null,null,null,null,"",null,null,null,null,null,null,null,null,null,null,null,null,null,null,null,null,null,null,null,null,null,null,null,null,null,null,null,null,null,null,"","","","","","","","","","","","","","","","","","",null,null,null,null,null,null,null,null,0,0,0,0,0,0,0,0,0,null,0,0,0,0,0,0,0,0]
["CONTRALORÍA CLÍNICA",0,{"$f":"SUM(E95+G95+I95+K95+M95+O95+Q95+S95+U95+W95+Y95+AA95+AC95+AE95+AG95+AI95+AK95)","v":0},0,null,null,null,null,null,null,null,null,null,null,null,null,null,null,null,null,null,null,null,null,null,null,null,null,null,null,null,null,null,null,null,null,null,null,null,null,null,null,null,null,null,null,null,"",null,null,null,null,null,null,null,null,null,null,null,null,null,null,null,null,null,null,null,null,null,null,null,null,null,null,null,null,null,null,"","","","","","","","","","","","","","","","","","",null,null,null,null,null,null,null,null,0,0,0,0,0,0,0,0,0,null,0,0,0,0,0,0,0,0]
["CIRUGÍA TERCER MOLAR",0,{"$f":"SUM(W96+Y96+AA96+AC96+AE96+AG96+AI96+AK96)","v":0},{"$f":"SUM(X96+Z96+AB96+AD96+AF96+AH96+AJ96+AL96)","v":0},null,null,null,null,null,null,null,null,null,null,null,null,null,null,null,null,null,null,null,null,null,null,null,null,null,null,null,null,null,null,null,null,null,null,null,null,null,null,null,null,null,null,null,"",null,null,null,null,null,null,null,null,null,null,null,null,null,null,null,null,null,null,null,null,null,null,null,null,null,null,null,null,null,null,"","","","","","","","","","","","","","","","","","",null,null,null,null,null,null,null,null,0,0,0,0,0,0,0,0,0,null,0,0,0,0,0,0,0,0]
["CIRUGÍA MENOR AMBULATORIA",0,0,0,null,null,null,null,null,null,null,null,null,null,null,null,null,null,null,null,null,null,null,null,null,null,null,null,null,null,null,null,null,null,null,null,null,null,null,null,null,null,null,null,null,null,null,"",null,null,null,null,null,null,null,null,null,null,null,null,null,null,null,null,null,null,null,null,null,null,null,null,null,null,null,null,null,null,"","","","","","","","","","","","","","","","","","",null,null,null,null,null,null,null,null,0,0,0,0,0,0,0,0,0,null,0,0,0,0,0,0,0,0]
["CIRUGÍA MAYOR AMBULATORIA",0,0,0,null,null,null,null,null,null,null,null,null,null,null,null,null,null,null,null,null,null,null,null,null,null,null,null,null,null,null,null,null,null,null,null,null,null,null,null,null,null,null,null,null,null,null,"",null,null,null,null,null,null,null,null,null,null,null,null,null,null,null,null,null,null,null,null,null,null,null,null,null,null,null,null,null,null,"","","","","","","","","","","","","","","","","","",null,null,null,null,null,null,null,null,0,0,0,0,0,0,0,0,0,null,0,0,0,0,0,0,0,0]
["TRATAMIENTO TRAUMATISMO DENTOALVEOLAR",0,0,{"$f":"SUM(F99+H99+J99+L99+N99+P99+R99+T99+V99+X99+Z99+AB99+AD99+AF99+AH99+AJ99+AL99)","v":0},null,null,null,null,null,null,null,null,null,null,null,null,null,null,null,null,null,null,null,null,null,null,null,null,null,null,null,null,null,null,null,null,null,null,null,null,null,null,null,null,null,null,null,"",null,null,null,null,null,null,null,null,null,null,null,null,null,null,null,null,null,null,null,null,null,null,null,null,null,null,null,null,null,null,"","","","","","","","","","","","","","","","","","",null,null,null,null,null,null,null,null,0,0,0,0,0,0,0,0,0,null,0,0,0,0,0,0,0,0]
["OBTURACIÓN DIRECTA",0,0,0,null,null,null,null,null,null,null,null,null,null,null,null,null,null,null,null,null,null,null,null,null,null,null,null,null,null,null,null,null,null,null,null,null,null,null,null,null,null,null,null,null,null,null,"",null,null,null,null,null,null,null,null,null,null,null,null,null,null,null,null,null,null,null,null,null,null,null,null,null,null,null,null,null,null,"","","","","","","","","","","","","","","","","","",null,null,null,null,null,null,null,null,0,0,0,0,0,0,0,0,0,null,0,0,0,0,0,0,0,0]
["OBTURACIÓN INDIRECTA (INLAYS U ONLAYS)",0,{"$f":"SUM(W101+Y101+AA101+AC101+AE101+AG101+AI101+AK101)","v":0},{"$f":"SUM(X101+Z101+AB101+AD101+AF101+AH101+AJ101+AL101)","v":0},null,null,null,null,null,null,null,null,null,null,null,null,null,null,null,null,null,null,null,null,null,null,null,null,null,null,null,null,null,null,null,null,null,null,null,null,null,null,null,null,null,null,null,"",null,null,null,null,null,null,null,null,null,null,null,null,null,null,null,null,null,null,null,null,null,null,null,null,null,null,null,null,null,null,"","","","","","","","","","","","","","","","","","",null,null,null,null,null,null,null,null,0,0,0,0,0,0,0,0,0,null,0,0,0,0,0,0,0,0]
["INSTALACIÓN APARATO REMOVIBLE ORTODÓNCICO",0,{"$f":"SUM(E102+G102+I102+K102+M102+O102+Q102+S102+U102+W102)","v":0},{"$f":"SUM(F102+H102+J102+L102+N102+P102+R102+T102+V102+X102)","v":0},null,null,null,null,null,null,null,null,null,null,null,null,null,null,null,null,null,null,null,null,null,null,null,null,null,null,null,null,null,null,null,null,null,null,null,null,null,null,null,null,null,null,null,"",null,null,null,null,null,null,null,null,null,null,null,null,null,null,null,null,null,null,null,null,null,null,null,null,null,null,null,null,null,null,"","","","","","","","","","","","","","","","","","",null,null,null,null,null,null,null,null,0,0,0,0,0,0,0,0,0,null,0,0,0,0,0,0,0,0]
["INSTALACIÓN APARATO FIJO ORTODÓNCICO",0,0,0,null,null,null,null,null,null,null,null,null,null,null,null,null,null,null,null,null,null,null,null,null,null,null,null,null,null,null,null,null,null,null,null,null,null,null,null,null,null,null,null,null,null,null,"",null,null,null,null,null,null,null,null,null,null,null,null,null,null,null,null,null,null,null,null,null,null,null,null,null,null,null,null,null,null,"","","","","","","","","","","","","","","","","","",null,null,null,null,null,null,null,null,0,0,0,0,0,0,0,0,0,null,0,0,0,0,0,0,0,0]
["INSTALACIÓN APARATO DE CONTENCIÓN ORTODÓNCICO",0,0,0,null,null,null,null,null,null,null,null,null,null,null,null,null,null,null,null,null,null,null,null,null,null,null,null,null,null,null,null,null,null,null,null,null,null,null,null,null,null,null,null,null,null,null,"",null,null,null,null,null,null,null,null,null,null,null,null,null,null,null,null,null,null,null,null,null,null,null,null,null,null,null,null,null,null,"","","","","","","","","","","","","","","","","","",null,null,null,null,null,null,null,null,0,0,0,0,0,0,0,0,0,null,0,0,0,0,0,0,0,0]
["RETIRO APARATOLOGÍA DE ORTODONCIA",0,0,0,null,null,null,null,null,null,null,null,null,null,null,null,null,null,null,null,null,null,null,null,null,null,null,null,null,null,null,null,null,null,null,null,null,null,null,null,null,null,null,null,null,null,null,"",null,null,null,null,null,null,null,null,null,null,null,null,null,null,null,null,null,null,null,null,null,null,null,null,null,null,null,null,null,null,"","","","","","","","","","","","","","","","","","",null,null,null,null,null,null,null,null,0,0,0,0,0,0,0,0,0,null,0,0,0,0,0,0,0,0]
["ORTOPEDIA PREQUIRÚRGICA",0,0,0,null,null,null,null,null,null,null,null,null,null,null,null,null,null,null,null,null,null,null,null,null,null,null,null,null,null,null,null,null,null,null,null,null,null,null,null,null,null,null,null,null,null,null,"",null,null,null,null,null,null,null,null,null,null,null,null,null,null,null,null,null,null,null,null,null,null,null,null,null,null,null,null,null,null,"","","","","","","","","","","","","","","","","","",null,null,null,null,null,null,null,null,0,0,0,0,0,0,0,0,0,null,0,0,0,0,0,0,0,0]
["ORTODONCIA PREVENTIVA E INTERCEPTIVA (OPI)",0,{"$f":"SUM(E107+G107+I107+K107+M107+O107+Q107+S107+U107)","v":0},{"$f":"SUM(F107+H107+J107+L107+N107+P107+R107+T107+V107)","v":0},null,null,null,null,null,null,null,null,null,null,null,null,null,null,null,null,null,null,null,null,null,null,null,null,null,null,null,null,null,null,null,null,null,null,null,null,null,null,null,null,null,null,null,"",null,null,null,null,null,null,null,null,null,null,null,null,null,null,null,null,null,null,null,null,null,null,null,null,null,null,null,null,null,null,"","","","","","","","","","","","","","","","","","",null,null,null,null,null,null,null,null,0,0,0,0,0,0,0,0,0,null,0,0,0,0,0,0,0,0]
["TRATAMIENTO ENDODONCIA UNIRRADICULAR",0,{"$f":"SUM(O108+Q108+S108+U108+W108+Y108+AA108+AC108+AE108+AG108+AI108+AK108)","v":0},{"$f":"SUM(P108+R108+T108+V108+X108+Z108+AB108+AD108+AF108+AH108+AJ108+AL108)","v":0},null,null,null,null,null,null,null,null,null,null,null,null,null,null,null,null,null,null,null,null,null,null,null,null,null,null,null,null,null,null,null,null,null,null,null,null,null,null,null,null,null,null,null,"",null,null,null,null,null,null,null,null,null,null,null,null,null,null,null,null,null,null,null,null,null,null,null,null,null,null,null,null,null,null,"","","","","","","","","","","","","","","","","","",null,null,null,null,null,null,null,null,0,0,0,0,0,0,0,0,0,null,0,0,0,0,0,0,0,0]
["TRATAMIENTO ENDODONCIA BIRRADICULAR",0,0,0,null,null,null,null,null,null,null,null,null,null,null,null,null,null,null,null,null,null,null,null,null,null,null,null,null,null,null,null,null,null,null,null,null,null,null,null,null,null,null,null,null,null,null,"",null,null,null,null,null,null,null,null,null,null,null,null,null,null,null,null,null,null,null,null,null,null,null,null,null,null,null,null,null,null,"","","","","","","","","","","","","","","","","","",null,null,null,null,null,null,null,null,0,0,0,0,0,0,0,0,0,null,0,0,0,0,0,0,0,0]
["TRATAMIENTO ENDODONCIA MULTIRRADICULAR",0,0,0,null,null,null,null,null,null,null,null,null,null,null,null,null,null,null,null,null,null,null,null,null,null,null,null,null,null,null,null,null,null,null,null,null,null,null,null,null,null,null,null,null,null,null,"",null,null,null,null,null,null,null,null,null,null,null,null,null,null,null,null,null,null,null,null,null,null,null,null,null,null,null,null,null,null,"","","","","","","","","","","","","","","","","","",null,null,null,null,null,null,null,null,0,0,0,0,0,0,0,0,0,null,0,0,0,0,0,0,0,0]
["INDUCCIÓN AL CIERRE APICAL",0,{"$f":"SUM(O111+Q111+S111+U111+W111)","v":0},{"$f":"SUM(P111+R111+T111+V111+X111)","v":0},null,null,null,null,null,null,null,null,null,null,null,null,null,null,null,null,null,null,null,null,null,null,null,null,null,null,null,null,null,null,null,null,null,null,null,null,null,null,null,null,null,null,null,"",null,null,null,null,null,null,null,null,null,null,null,null,null,null,null,null,null,null,null,null,null,null,null,null,null,null,null,null,null,null,"","","","","","","","","","","","","","","","","","",null,null,null,null,null,null,null,null,0,0,0,0,0,0,0,0,0,null,0,0,0,0,0,0,0,0]
["RETRATAMIENTO DE ENDODONCIA",0,{"$f":"SUM(O112+Q112+S112+U112+W112+Y112+AA112+AC112+AE112+AG112+AI112+AK112)","v":0},{"$f":"SUM(P112+R112+T112+V112+X112+Z112+AB112+AD112+AF112+AH112+AJ112+AL112)","v":0},null,null,null,null,null,null,null,null,null,null,null,null,null,null,null,null,null,null,null,null,null,null,null,null,null,null,null,null,null,null,null,null,null,null,null,null,null,null,null,null,null,null,null,"",null,null,null,null,null,null,null,null,null,null,null,null,null,null,null,null,null,null,null,null,null,null,null,null,null,null,null,null,null,null,"","","","","","","","","","","","","","","","","","",null,null,null,null,null,null,null,null,0,0,0,0,0,0,0,0,0,null,0,0,0,0,0,0,0,0]
["CIRUGÍA APICAL",0,{"$f":"SUM(O113+Q113+S113+U113+W113+Y113+AA113+AC113+AE113+AG113+AI113+AK113)","v":0},{"$f":"SUM(P113+R113+T113+V113+X113+Z113+AB113+AD113+AF113+AH113+AJ113+AL113)","v":0},null,null,null,null,null,null,null,null,null,null,null,null,null,null,null,null,null,null,null,null,null,null,null,null,null,null,null,null,null,null,null,null,null,null,null,null,null,null,null,null,null,null,null,"",null,null,null,null,null,null,null,null,null,null,null,null,null,null,null,null,null,null,null,null,null,null,null,null,null,null,null,null,null,null,"","","","","","","","","","","","","","","","","","",null,null,null,null,null,null,null,null,0,0,0,0,0,0,0,0,0,null,0,0,0,0,0,0,0,0]
["ADAPTACIÓN A LA ATENCIÓN ODONTOLÓGICA ",0,0,0,null,null,null,null,null,null,null,null,null,null,null,null,null,null,null,null,null,null,null,null,null,null,null,null,null,null,null,null,null,null,null,null,null,null,null,null,null,null,null,null,null,null,null,"",null,null,null,null,null,null,null,null,null,null,null,null,null,null,null,null,null,null,null,null,null,null,null,null,null,null,null,null,null,null,"","","","","","","","","","","","","","","","","","",null,null,null,null,null,null,null,null,0,0,0,0,0,0,0,0,0,null,0,0,0,0,0,0,0,0]
["PROCEDIMIENTO RESTAURADOR (ODONTOPEDIATRÍA)",0,0,0,null,null,null,null,null,null,null,null,null,null,null,null,null,null,null,null,null,null,null,null,null,null,null,null,null,null,null,null,null,null,null,null,null,null,null,null,null,null,null,null,null,null,null,"",null,null,null,null,null,null,null,null,null,null,null,null,null,null,null,null,null,null,null,null,null,null,null,null,null,null,null,null,null,null,"","","","","","","","","","","","","","","","","","",null,null,null,null,null,null,null,null,0,0,0,0,0,0,0,0,0,null,0,0,0,0,0,0,0,0]
["PROCEDIMIENTO PULPAR (ODONTOPEDIATRÍA)",0,0,0,null,null,null,null,null,null,null,null,null,null,null,null,null,null,null,null,null,null,null,null,null,null,null,null,null,null,null,null,null,null,null,null,null,null,null,null,null,null,null,null,null,null,null,"",null,null,null,null,null,null,null,null,null,null,null,null,null,null,null,null,null,null,null,null,null,null,null,null,null,null,null,null,null,null,"","","","","","","","","","","","","","","","","","",null,null,null,null,null,null,null,null,0,0,0,0,0,0,0,0,0,null,0,0,0,0,0,0,0,0]
["CIRUGÍA AMBULATORIA (ODONTOPEDIATRÍA)",0,0,0,null,null,null,null,null,null,null,null,null,null,null,null,null,null,null,null,null,null,null,null,null,null,null,null,null,null,null,null,null,null,null,null,null,null,null,null,null,null,null,null,null,null,null,"",null,null,null,null,null,null,null,null,null,null,null,null,null,null,null,null,null,null,null,null,null,null,null,null,null,null,null,null,null,null,"","","","","","","","","","","","","","","","","","",null,null,null,null,null,null,null,null,0,0,0,0,0,0,0,0,0,null,0,0,0,0,0,0,0,0]
["DESTARTRAJE SUBGINGIVAL O PULIDO RADICULAR ",0,{"$f":"SUM(Q118+S118+U118+W118+Y118+AA118+AC118+AE118+AG118+AI118+AK118)","v":0},{"$f":"SUM(R118+T118+V118+X118+Z118+AB118+AD118+AF118+AH118+AJ118+AL118)","v":0},null,null,null,null,null,null,null,null,null,null,null,null,null,null,null,null,null,null,null,null,null,null,null,null,null,null,null,null,null,null,null,null,null,null,null,null,null,null,null,null,null,null,null,"",null,null,null,null,null,null,null,null,null,null,null,null,null,null,null,null,null,null,null,null,null,null,null,null,null,null,null,null,null,null,"","","","","","","","","","","","","","","","","","",null,null,null,null,null,null,null,null,0,0,0,0,0,0,0,0,0,null,0,0,0,0,0,0,0,0]
["DESTARTRAJE SUPRAGINGIVAL O PULIDO CORONARIO",0,{"$f":"SUM(Q119+S119+U119+W119+Y119+AA119+AC119+AE119+AG119+AI119+AK119)","v":0},{"$f":"SUM(R119+T119+V119+X119+Z119+AB119+AD119+AF119+AH119+AJ119+AL119)","v":0},null,null,null,null,null,null,null,null,null,null,null,null,null,null,null,null,null,null,null,null,null,null,null,null,null,null,null,null,null,null,null,null,null,null,null,null,null,null,null,null,null,null,null,"",null,null,null,null,null,null,null,null,null,null,null,null,null,null,null,null,null,null,null,null,null,null,null,null,null,null,null,null,null,null,"","","","","","","","","","","","","","","","","","",null,null,null,null,null,null,null,null,0,0,0,0,0,0,0,0,0,null,0,0,0,0,0,0,0,0]
["PROCEDIMIENTO QUIRÚRGICO (PERIODONCIA)",0,{"$f":"SUM(S120+U120+W120+Y120+AA120+AC120+AE120+AG120+AI120+AK120)","v":0},{"$f":"SUM(T120+V120+X120+Z120+AB120+AD120+AF120+AH120+AJ120+AL120)","v":0},null,null,null,null,null,null,null,null,null,null,null,null,null,null,null,null,null,null,null,null,null,null,null,null,null,null,null,null,null,null,null,null,null,null,null,null,null,null,null,null,null,null,null,"",null,null,null,null,null,null,null,null,null,null,null,null,null,null,null,null,null,null,null,null,null,null,null,null,null,null,null,null,null,null,"","","","","","","","","","","","","","","","","","",null,null,null,null,null,null,null,null,0,0,0,0,0,0,0,0,0,null,0,0,0,0,0,0,0,0]
["PROCEDIMIENTO QUIRÚRGICO PERIIMPLANTAR (PERIODONCIA)",0,{"$f":"SUM(W121+Y121+AA121+AC121+AE121+AG121+AI121+AK121)","v":0},{"$f":"SUM(X121+Z121+AB121+AD121+AF121+AH121+AJ121+AL121)","v":0},null,null,null,null,null,null,null,null,null,null,null,null,null,null,null,null,null,null,null,null,null,null,null,null,null,null,null,null,null,null,null,null,null,null,null,null,null,null,null,null,null,null,null,"",null,null,null,null,null,null,null,null,null,null,null,null,null,null,null,null,null,null,null,null,null,null,null,null,null,null,null,null,null,null,"","","","","","","","","","","","","","","","","","",null,null,null,null,null,null,null,null,0,0,0,0,0,0,0,0,0,null,0,0,0,0,0,0,0,0]
["FERULIZACIÓN",0,0,0,null,null,null,null,null,null,null,null,null,null,null,null,null,null,null,null,null,null,null,null,null,null,null,null,null,null,null,null,null,null,null,null,null,null,null,null,null,null,null,null,null,null,null,"",null,null,null,null,null,null,null,null,null,null,null,null,null,null,null,null,null,null,null,null,null,null,null,null,null,null,null,null,null,null,"","","","","","","","","","","","","","","","","","",null,null,null,null,null,null,null,null,0,0,0,0,0,0,0,0,0,null,0,0,0,0,0,0,0,0]
["REHABILITACIÓN MEDIANTE PRÓTESIS REMOVIBLE ACRÍLICA PARCIAL O TOTAL",0,{"$f":"SUM(W123+Y123+AA123+AC123+AE123+AG123+AI123+AK123)","v":0},{"$f":"SUM(X123+Z123+AB123+AD123+AF123+AH123+AJ123+AL123)","v":0},null,null,null,null,null,null,null,null,null,null,null,null,null,null,null,null,null,null,null,null,null,null,null,null,null,null,null,null,null,null,null,null,null,null,null,null,null,null,null,null,null,null,null,"",null,null,null,null,null,null,null,null,null,null,null,null,null,null,null,null,null,null,null,null,null,null,null,null,null,null,null,null,null,null,"","","","","","","","","","","","","","","","","","",null,null,null,null,null,null,null,null,0,0,0,0,0,0,0,0,0,null,0,0,0,0,0,0,0,0]
["REHABILITACIÓN MEDIANTE PRÓTESIS REMOVIBLE METÁLICA PARCIAL",0,{"$f":"SUM(W124+Y124+AA124+AC124+AE124+AG124+AI124+AK124)","v":0},{"$f":"SUM(X124+Z124+AB124+AD124+AF124+AH124+AJ124+AL124)","v":0},null,null,null,null,null,null,null,null,null,null,null,null,null,null,null,null,null,null,null,null,null,null,null,null,null,null,null,null,null,null,null,null,null,null,null,null,null,null,null,null,null,null,null,"",null,null,null,null,null,null,null,null,null,null,null,null,null,null,null,null,null,null,null,null,null,null,null,null,null,null,null,null,null,null,"","","","","","","","","","","","","","","","","","",null,null,null,null,null,null,null,null,0,0,0,0,0,0,0,0,0,null,0,0,0,0,0,0,0,0]
["REHABILITACIÓN MEDIANTE PRÓTESIS FIJA UNITARIA O PLURAL",0,0,0,null,null,null,null,null,null,null,null,null,null,null,null,null,null,null,null,null,null,null,null,null,null,null,null,null,null,null,null,null,null,null,null,null,null,null,null,null,null,null,null,null,null,null,"",null,null,null,null,null,null,null,null,null,null,null,null,null,null,null,null,null,null,null,null,null,null,null,null,null,null,null,null,null,null,"","","","","","","","","","","","","","","","","","",null,null,null,null,null,null,null,null,0,0,0,0,0,0,0,0,0,null,0,0,0,0,0,0,0,0]
["REHABILITACIÓN MEDIANTE PRÓTESIS FIJA IMPLANTOASISTIDA",0,0,0,null,null,null,null,null,null,null,null,null,null,null,null,null,null,null,null,null,null,null,null,null,null,null,null,null,null,null,null,null,null,null,null,null,null,null,null,null,null,null,null,null,null,null,"",null,null,null,null,null,null,null,null,null,null,null,null,null,null,null,null,null,null,null,null,null,null,null,null,null,null,null,null,null,null,"","","","","","","","","","","","","","","","","","",null,null,null,null,null,null,null,null,0,0,0,0,0,0,0,0,0,null,0,0,0,0,0,0,0,0]
["REHABILITACIÓN MEDIANTE PRÓTESIS MUCO-  IMPLANTOASISTIDA",0,{"$f":"SUM(W127+Y127+AA127+AC127+AE127+AG127+AI127+AK127)","v":0},0,null,null,null,null,null,null,null,null,null,null,null,null,null,null,null,null,null,null,null,null,null,null,null,null,null,null,null,null,null,null,null,null,null,null,null,null,null,null,null,null,null,null,null,"",null,null,null,null,null,null,null,null,null,null,null,null,null,null,null,null,null,null,null,null,null,null,null,null,null,null,null,null,null,null,"","","","","","","","","","","","","","","","","","",null,null,null,null,null,null,null,null,0,0,0,0,0,0,0,0,0,null,0,0,0,0,0,0,0,0]
["REPARACIÓN DE PRÓTESIS",0,0,0,null,null,null,null,null,null,null,null,null,null,null,null,null,null,null,null,null,null,null,null,null,null,null,null,null,null,null,null,null,null,null,null,null,null,null,null,null,null,null,null,null,null,null,"",null,null,null,null,null,null,null,null,null,null,null,null,null,null,null,null,null,null,null,null,null,null,null,null,null,null,null,null,null,null,"","","","","","","","","","","","","","","","","","",null,null,null,null,null,null,null,null,0,0,0,0,0,0,0,0,0,null,0,0,0,0,0,0,0,0]
["IMPLANTOLOGÍA QUIRÚRGICA",0,0,0,null,null,null,null,null,null,null,null,null,null,null,null,null,null,null,null,null,null,null,null,null,null,null,null,null,null,null,null,null,null,null,null,null,null,null,null,null,null,null,null,null,null,null,"",null,null,null,null,null,null,null,null,null,null,null,null,null,null,null,null,null,null,null,null,null,null,null,null,null,null,null,null,null,null,"","","","","","","","","","","","","","","","","","",null,null,null,null,null,null,null,null,0,0,0,0,0,0,0,0,0,null,0,0,0,0,0,0,0,0]
["TOMA DE BIOPSIA",0,0,0,null,null,null,null,null,null,null,null,null,null,null,null,null,null,null,null,null,null,null,null,null,null,null,null,null,null,null,null,null,null,null,null,null,null,null,null,null,null,null,null,null,null,null,"",null,null,null,null,null,null,null,null,null,null,null,null,null,null,null,null,null,null,null,null,null,null,null,null,null,null,null,null,null,null,"","","","","","","","","","","","","","","","","","",null,null,null,null,null,null,null,null,0,0,0,0,0,0,0,0,0,null,0,0,0,0,0,0,0,0]
["ESTUDIO HISTOPATOLÓGICO",0,0,0,null,null,null,null,null,null,null,null,null,null,null,null,null,null,null,null,null,null,null,null,null,null,null,null,null,null,null,null,null,null,null,null,null,null,null,null,null,null,null,null,null,null,null,"",null,null,null,null,null,null,null,null,null,null,null,null,null,null,null,null,null,null,null,null,null,null,null,null,null,null,null,null,null,null,"","","","","","","","","","","","","","","","","","",null,null,null,null,null,null,null,null,0,0,0,0,0,0,0,0,0,null,0,0,0,0,0,0,0,0]
["SIALOMETRÍA",0,0,0,null,null,null,null,null,null,null,null,null,null,null,null,null,null,null,null,null,null,null,null,null,null,null,null,null,null,null,null,null,null,null,null,null,null,null,null,null,null,null,null,null,null,null,"",null,null,null,null,null,null,null,null,null,null,null,null,null,null,null,null,null,null,null,null,null,null,null,null,null,null,null,null,null,null,"","","","","","","","","","","","","","","","","","",null,null,null,null,null,null,null,null,0,0,0,0,0,0,0,0,0,null,0,0,0,0,0,0,0,0]
["TERAPIA FARMACOLÓGICA DE LESIONES DEL TERRITORIO ORAL Y MAXILOFACIAL",0,0,0,null,null,null,null,null,null,null,null,null,null,null,null,null,null,null,null,null,null,null,null,null,null,null,null,null,null,null,null,null,null,null,null,null,null,null,null,null,null,null,null,null,null,null,"",null,null,null,null,null,null,null,null,null,null,null,null,null,null,null,null,null,null,null,null,null,null,null,null,null,null,null,null,null,null,"","","","","","","","","","","","","","","","","","",null,null,null,null,null,null,null,null,0,0,0,0,0,0,0,0,0,null,0,0,0,0,0,0,0,0]
["TERAPIA NO FARMACOLÓGICA DE LESIONES DEL TERRITORIO ORAL Y MAXILOFACIAL",0,0,0,null,null,null,null,null,null,null,null,null,null,null,null,null,null,null,null,null,null,null,null,null,null,null,null,null,null,null,null,null,null,null,null,null,null,null,null,null,null,null,null,null,null,null,"",null,null,null,null,null,null,null,null,null,null,null,null,null,null,null,null,null,null,null,null,null,null,null,null,null,null,null,null,null,null,"","","","","","","","","","","","","","","","","","",null,null,null,null,null,null,null,null,0,0,0,0,0,0,0,0,0,null,0,0,0,0,0,0,0,0]
["ESTUDIO CLÍNICO LESIONES DEL TERRITORIO ORAL MAXILOFACIAL",0,0,0,null,null,null,null,null,null,null,null,null,null,null,null,null,null,null,null,null,null,null,null,null,null,null,null,null,null,null,null,null,null,null,null,null,null,null,null,null,null,null,null,null,null,null,"",null,null,null,null,null,null,null,null,null,null,null,null,null,null,null,null,null,null,null,null,null,null,null,null,null,null,null,null,null,null,"","","","","","","","","","","","","","","","","","",null,null,null,null,null,null,null,null,0,0,0,0,0,0,0,0,0,null,0,0,0,0,0,0,0,0]
["TERAPIA FÍSICA EN TRASTORNOS TEMPOROMANDIBULARES (TTM) Y DOLOR OROFACIAL (DOF)",0,0,0,null,null,null,null,null,null,null,null,null,null,null,null,null,null,null,null,null,null,null,null,null,null,null,null,null,null,null,null,null,null,null,null,null,null,null,null,null,null,null,null,null,null,null,"",null,null,null,null,null,null,null,null,null,null,null,null,null,null,null,null,null,null,null,null,null,null,null,null,null,null,null,null,null,null,"","","","","","","","","","","","","","","","","","",null,null,null,null,null,null,null,null,0,0,0,0,0,0,0,0,0,null,0,0,0,0,0,0,0,0]
["INFILTRACIÓN EN ARTICULACIÓN TEMPORO MANDIBULAR (ATM)",0,0,0,null,null,null,null,null,null,null,null,null,null,null,null,null,null,null,null,null,null,null,null,null,null,null,null,null,null,null,null,null,null,null,null,null,null,null,null,null,null,null,null,null,null,null,"",null,null,null,null,null,null,null,null,null,null,null,null,null,null,null,null,null,null,null,null,null,null,null,null,null,null,null,null,null,null,"","","","","","","","","","","","","","","","","","",null,null,null,null,null,null,null,null,0,0,0,0,0,0,0,0,0,null,0,0,0,0,0,0,0,0]
["BLOQUEO ANESTÉSICO Y/O MEDICAMENTOSO EN TTM Y DOF",0,0,0,null,null,null,null,null,null,null,null,null,null,null,null,null,null,null,null,null,null,null,null,null,null,null,null,null,null,null,null,null,null,null,null,null,null,null,null,null,null,null,null,null,null,null,"",null,null,null,null,null,null,null,null,null,null,null,null,null,null,null,null,null,null,null,null,null,null,null,null,null,null,null,null,null,null,"","","","","","","","","","","","","","","","","","",null,null,null,null,null,null,null,null,0,0,0,0,0,0,0,0,0,null,0,0,0,0,0,0,0,0]
["ARTROCENTESIS EN ATM",0,0,0,null,null,null,null,null,null,null,null,null,null,null,null,null,null,null,null,null,null,null,null,null,null,null,null,null,null,null,null,null,null,null,null,null,null,null,null,null,null,null,null,null,null,null,"",null,null,null,null,null,null,null,null,null,null,null,null,null,null,null,null,null,null,null,null,null,null,null,null,null,null,null,null,null,null,"","","","","","","","","","","","","","","","","","",null,null,null,null,null,null,null,null,0,0,0,0,0,0,0,0,0,null,0,0,0,0,0,0,0,0]
["TERAPIA BIOCONDUCTUAL",0,0,0,null,null,null,null,null,null,null,null,null,null,null,null,null,null,null,null,null,null,null,null,null,null,null,null,null,null,null,null,null,null,null,null,null,null,null,null,null,null,null,null,null,null,null,"",null,null,null,null,null,null,null,null,null,null,null,null,null,null,null,null,null,null,null,null,null,null,null,null,null,null,null,null,null,null,"","","","","","","","","","","","","","","","","","",null,null,null,null,null,null,null,null,0,0,0,0,0,0,0,0,0,null,0,0,0,0,0,0,0,0]
["DESGASTE SELECTIVO",0,0,0,null,null,null,null,null,null,null,null,null,null,null,null,null,null,null,null,null,null,null,null,null,null,null,null,null,null,null,null,null,null,null,null,null,null,null,null,null,null,null,null,null,null,null,"",null,null,null,null,null,null,null,null,null,null,null,null,null,null,null,null,null,null,null,null,null,null,null,null,null,null,null,null,null,null,"","","","","","","","","","","","","","","","","","",null,null,null,null,null,null,null,null,0,0,0,0,0,0,0,0,0,null,0,0,0,0,0,0,0,0]
["INSTALACIÓN DE DISPOSITIVO ORTOPÉDICO",0,0,0,null,null,null,null,null,null,null,null,null,null,null,null,null,null,null,null,null,null,null,null,null,null,null,null,null,null,null,null,null,null,null,null,null,null,null,null,null,null,null,null,null,null,null,"",null,null,null,null,null,null,null,null,null,null,null,null,null,null,null,null,null,null,null,null,null,null,null,null,null,null,null,null,null,null,"","","","","","","","","","","","","","","","","","",null,null,null,null,null,null,null,null,0,0,0,0,0,0,0,0,0,null,0,0,0,0,0,0,0,0]
["ACTIVIDADES SOMATOPRÓTESIS",0,0,0,null,null,null,null,null,null,null,null,null,null,null,null,null,null,null,null,null,null,null,null,null,null,null,null,null,null,null,null,null,null,null,null,null,null,null,null,null,null,null,null,null,null,null,"",null,null,null,null,null,null,null,null,null,null,null,null,null,null,null,null,null,null,null,null,null,null,null,null,null,null,null,null,null,null,"","","","","","","","","","","","","","","","","","",null,null,null,null,null,null,null,null,0,0,0,0,0,0,0,0,0,null,0,0,0,0,0,0,0,0]
["REHABILITACIÓN DE PRÓTESIS MAXILOFACIAL",0,0,0,null,null,null,null,null,null,null,null,null,null,null,null,null,null,null,null,null,null,null,null,null,null,null,null,null,null,null,null,null,null,null,null,null,null,null,null,null,null,null,null,null,null,null,"",null,null,null,null,null,null,null,null,null,null,null,null,null,null,null,null,null,null,null,null,null,null,null,null,null,null,null,null,null,null,"","","","","","","","","","","","","","","","","","",null,null,null,null,null,null,null,null,0,0,0,0,0,0,0,0,0,null,0,0,0,0,0,0,0,0]
["TOTAL",0,0,0,{"$f":"SUM(E91:E144)","v":0},0,0,0,0,0,0,0,0,0,0,0,0,0,0,0,0,0,0,0,0,0,0,0,0,0,0,0,0,0,0,0,0,0,{"$f":"SUM(AM91:AM144)","v":0},0,0,0,0,0,0,{"$f":"SUM(AT91:AT144)","v":0},0]
["SECCIÓN F.1:  ACTIVIDADES DE IMAGENOLOGÍA ORAL Y MAXILOFACIAL."]
["ACTIVIDADES DE APOYO","TOTAL",null,null,"SEGÚN GRUPOS DE EDAD O DE RIESGO",null,null,null,null,null,null,null,null,null,null,null,null,null,null,null,null,null,null,null,null,null,null,null,null,null,null,null,null,null,null,null,null,null,"12 años (incluidos en  grupo de 10-14 años)","Embarazadas","Beneficiarios","60 años (incluido en grupos de 60-64 años)","Compra de Servicio","Usuarios con Discapacidad ","Niños, niñas, adolescentes y jovenes SENAME","Niños, niñas, adolescentes y jovenes Mejor Niñez","Migrantes"]
[null,null,null,null,"0-4 ",null,"5-9",null,"10-14 ",null,"15-19",null,"20-24",null,"25-29",null,"30-34",null,"35-39",null,"40-44",null,"45-49 ",null,"50-54",null,"55-59",null,"60-64",null,"65-69",null,"70-74",null,"75-79",null,"80 y mas"]
[null,"Total ","Hombres","Mujeres","Hombres","Mujeres","Hombres","Mujeres","Hombres","Mujeres","Hombres","Mujeres","Hombres","Mujeres","Hombres","Mujeres","Hombres","Mujeres","Hombres","Mujeres","Hombres","Mujeres","Hombres","Mujeres","Hombres","Mujeres","Hombres","Mujeres","Hombres","Mujeres","Hombres","Mujeres","Hombres","Mujeres","Hombres","Mujeres","Hombres","Mujeres"]
["RADIOGRAFÍA INTRAORAL MEDIANTE TÉCNICAS RETROALVEOLARES (POR PLACA)",{"$f":"SUM(C150:D150)","v":0},{"$f":"+E150+G150+I150+K150+M150+O150+Q150+S150+U150+W150+Y150+AA150+AC150+AE150+AG150+AI150+AK150","v":0},{"$f":"+F150+H150+J150+L150+N150+P150+R150+T150+V150+X150+Z150+AB150+AD150+AF150+AH150+AJ150+AL150","v":0},null,null,null,null,null,null,null,null,null,null,null,null,null,null,null,null,null,null,null,null,null,null,null,null,null,null,null,null,null,null,null,null,null,null,null,null,null,null,null,null,null,null,null,{"$f":"$CA150&$CB150&$CC150&$CD150&$CE150&$CF150&$CG150&$CH150&$CI150&$CJ150&$CK150&$CL150&$CM150&$CN150&$CO150&$CP150&$CQ150&$CR150","v":""},null,null,null,null,null,null,null,null,null,null,null,null,null,null,null,null,null,null,null,null,null,null,null,null,null,null,null,null,null,null,{"$f":"IF(DA150=1,\"* No olvide digitar el campo \"&CA$10&\" (Digite CEROS si no tiene). \",\"\")","v":""},{"$f":"IF(DB150=1,\"* El campo \"&CA$10&\" NO PUEDE ser mayor al total de Consultas entre 10-14 años. \",\"\")","v":""},{"$f":"IF(DC150=1,\"* No olvide digitar el campo \"&CC$10&\" (Digite CEROS si no tiene). \",\"\")","v":""},{"$f":"IF(DD150=1,\"* El campo \"&CC$10&\" NO PUEDE ser mayor al Total de mujeres. \",\"\")","v":""},{"$f":"IF(DE150=1,\"* No olvide digitar el campo \"&CE$10&\" (Digite CEROS si no tiene). \",\"\")","v":""},{"$f":"IF(DF150=1,\"* El campo \"&CE$10&\" NO PUEDE ser mayor al Total. \",\"\")","v":""},{"$f":"IF(DG150=1,\"* No olvide digitar el campo \"&CG$10&\" (Digite CEROS si no tiene). \",\"\")","v":""},{"$f":"IF(DH150=1,\"* El campo \"&CG$10&\" NO PUEDE ser mayor al Total de Consultas entre 60-64 Años. \",\"\")","v":""},{"$f":"IF(DI150=1,\"* No olvide digitar el campo \"&CI$10&\" (Digite CEROS si no tiene). \",\"\")","v":""},{"$f":"IF(DJ150=1,\"* El campo \"&CI$10&\" NO PUEDE ser mayor al Total. \",\"\")","v":""},{"$f":"IF(DK150=1,\"* No olvide digitar el campo \"&CK$10&\" (Digite CEROS si no tiene). \",\"\")","v":""},{"$f":"IF(DL150=1,\"* El campo \"&CK$10&\" NO PUEDE ser mayor al Total. \",\"\")","v":""},{"$f":"IF(DM150=1,\"* No olvide digitar el campo \"&CM$10&\" (Digite CEROS si no tiene). \",\"\")","v":""},{"$f":"IF(DN150=1,\"* El campo \"&CM$10&\" NO PUEDE ser mayor al Total. \",\"\")","v":""},{"$f":"IF(DO150=1,\"* No olvide digitar el campo \"&CO$10&\" (Digite CEROS si no tiene). \",\"\")","v":""},{"$f":"IF(DP150=1,\"* El campo \"&CO$10&\" NO PUEDE ser mayor al Total. \",\"\")","v":""},{"$f":"IF(DQ150=1,\"* No olvide digitar el campo \"&CQ$10&\" (Digite CEROS si no tiene). \",\"\")","v":""},{"$f":"IF(DR150=1,\"* El campo \"&CQ$10&\" NO PUEDE ser mayor al Total. \",\"\")","v":""},null,null,null,null,null,null,null,null,{"$f":"IF(AND(AM150=\"\",$B150<>0),1,0)","v":0},{"$f":"IF(AM150>($I150+$J150),1,0)","v":0},{"$f":"IF(AND(AN150=\"\",$B150<>0),1,0)","v":0},{"$f":"IF(AN150>$D150,1,0)","v":0},{"$f":"IF(AND(AO150=\"\",$B150<>0),1,0)","v":0},{"$f":"IF(AO150>$B150,1,0)","v":0},{"$f":"IF(AND(AP150=\"\",$B150<>0),1,0)","v":0},{"$f":"IF(AP150>$AC150+$AD150,1,0)","v":0},{"$f":"IF(AND(AQ150=\"\",$B150<>0),1,0)","v":0},null,{"$f":"IF(AND(AR150=\"\",$B150<>0),1,0)","v":0},{"$f":"IF(AR150>$B150,1,0)","v":0},{"$f":"IF(AND(AS150=\"\",$B150<>0),1,0)","v":0},{"$f":"IF(AS150>$B150,1,0)","v":0},{"$f":"IF(AND(AT150=\"\",$B150<>0),1,0)","v":0},{"$f":"IF(AT150>$B150,1,0)","v":0},{"$f":"IF(AND(AU150=\"\",$B150<>0),1,0)","v":0},{"$f":"IF(AU150>$B150,1,0)","v":0}]
["RADIOGRAFÍA INTRAORAL MEDIANTE TÉCNICAS BITE WING (POR PLACA)",{"$f":"SUM(C151:D151)","v":0},{"$f":"+E151+G151+I151+K151+M151+O151+Q151+S151+U151+W151+Y151+AA151+AC151+AE151+AG151+AI151+AK151","v":0},0,null,null,null,null,null,null,null,null,null,null,null,null,null,null,null,null,null,null,null,null,null,null,null,null,null,null,null,null,null,null,null,null,null,null,null,null,null,null,null,null,null,null,null,"",null,null,null,null,null,null,null,null,null,null,null,null,null,null,null,null,null,null,null,null,null,null,null,null,null,null,null,null,null,null,"","","","","","","","","","","","","","","","","","",null,null,null,null,null,null,null,null,0,0,0,0,0,0,0,0,0,null,0,0,0,0,0,0,0,0]
["RADIOGRAFÍA EXTRAORAL (POR PLACA)",0,0,0,null,null,null,null,null,null,null,null,null,null,null,null,null,null,null,null,null,null,null,null,null,null,null,null,null,null,null,null,null,null,null,null,null,null,null,null,null,null,null,null,null,null,null,"",null,null,null,null,null,null,null,null,null,null,null,null,null,null,null,null,null,null,null,null,null,null,null,null,null,null,null,null,null,null,"","","","","","","","","","","","","","","","","","",null,null,null,null,null,null,null,null,0,0,0,0,0,0,0,0,0,null,0,0,0,0,0,0,0,0]
["RADIOGRAFÍA OCLUSAL (POR PLACA)",0,0,0,null,null,null,null,null,null,null,null,null,null,null,null,null,null,null,null,null,null,null,null,null,null,null,null,null,null,null,null,null,null,null,null,null,null,null,null,null,null,null,null,null,null,null,"",null,null,null,null,null,null,null,null,null,null,null,null,null,null,null,null,null,null,null,null,null,null,null,null,null,null,null,null,null,null,"","","","","","","","","","","","","","","","","","",null,null,null,null,null,null,null,null,0,0,0,0,0,0,0,0,0,null,0,0,0,0,0,0,0,0]
["TELERRADIOGRAFÍA (POR PLACA)",0,0,0,null,null,null,null,null,null,null,null,null,null,null,null,null,null,null,null,null,null,null,null,null,null,null,null,null,null,null,null,null,null,null,null,null,null,null,null,null,null,null,null,null,null,null,"",null,null,null,null,null,null,null,null,null,null,null,null,null,null,null,null,null,null,null,null,null,null,null,null,null,null,null,null,null,null,"","","","","","","","","","","","","","","","","","",null,null,null,null,null,null,null,null,0,0,0,0,0,0,0,0,0,null,0,0,0,0,0,0,0,0]
["RADIOGRAFÍA PANORÁMICA (POR PLACA)",0,0,0,null,null,null,null,null,null,null,null,null,null,null,null,null,null,null,null,null,null,null,null,null,null,null,null,null,null,null,null,null,null,null,null,null,null,null,null,null,null,null,null,null,null,null,"",null,null,null,null,null,null,null,null,null,null,null,null,null,null,null,null,null,null,null,null,null,null,null,null,null,null,null,null,null,null,"","","","","","","","","","","","","","","","","","",null,null,null,null,null,null,null,null,0,0,0,0,0,0,0,0,0,null,0,0,0,0,0,0,0,0]
["TOMOGRAFÍA COMPUTACIONAL MAXILO FACIAL CONE BEAM (POR ADQUISICIÓN)",0,0,0,null,null,null,null,null,null,null,null,null,null,null,null,null,null,null,null,null,null,null,null,null,null,null,null,null,null,null,null,null,null,null,null,null,null,null,null,null,null,null,null,null,null,null,"",null,null,null,null,null,null,null,null,null,null,null,null,null,null,null,null,null,null,null,null,null,null,null,null,null,null,null,null,null,null,"","","","","","","","","","","","","","","","","","",null,null,null,null,null,null,null,null,0,0,0,0,0,0,0,0,0,null,0,0,0,0,0,0,0,0]
["SIALOGRAFÍAS (POR PROCEDIMIENTO)",0,0,0,null,null,null,null,null,null,null,null,null,null,null,null,null,null,null,null,null,null,null,null,null,null,null,null,null,null,null,null,null,null,null,null,null,null,null,null,null,null,null,null,null,null,null,"",null,null,null,null,null,null,null,null,null,null,null,null,null,null,null,null,null,null,null,null,null,null,null,null,null,null,null,null,null,null,"","","","","","","","","","","","","","","","","","",null,null,null,null,null,null,null,null,0,0,0,0,0,0,0,0,0,null,0,0,0,0,0,0,0,0]
["PROCEDIMIENTO IMAGENOLÓGICO COMPLEJO (POR PROCEDIMIENTO)",0,0,0,null,null,null,null,null,null,null,null,null,null,null,null,null,null,null,null,null,null,null,null,null,null,null,null,null,null,null,null,null,null,null,null,null,null,null,null,null,null,null,null,null,null,null,"",null,null,null,null,null,null,null,null,null,null,null,null,null,null,null,null,null,null,null,null,null,null,null,null,null,null,null,null,null,null,"","","","","","","","","","","","","","","","","","",null,null,null,null,null,null,null,null,0,0,0,0,0,0,0,0,0,null,0,0,0,0,0,0,0,0]
["TOTAL",{"$f":"SUM(B150:B158)","v":0},{"$f":"SUM(C150:C158)","v":0},{"$f":"SUM(D150:D158)","v":0},{"$f":"SUM(E150:E158)","v":0},{"$f":"SUM(F150:F158)","v":0},{"$f":"SUM(G150:G158)","v":0},0,0,0,0,0,0,0,0,0,0,0,0,0,0,0,0,0,0,0,0,0,0,0,0,0,0,0,0,0,0,0,0,0,0,0,0,{"$f":"SUM(AR150:AR158)","v":0},{"$f":"SUM(AS150:AS158)","v":0},{"$f":"SUM(AT150:AT158)","v":0},{"$f":"SUM(AU150:AU158)","v":0}]
["SECCIÓN G: PROGRAMAS ESPECIALES Y GES (Actividades incluidas en Sección B)"]
["PROGRAMA - ACTIVIDAD",null,null,"TOTAL",null,null,"SEGÚN GRUPOS DE EDAD O DE RIESGO",null,null,null,null,null,null,null,null,null,null,null,null,null,null,null,null,null,null,null,null,null,null,null,null,null,null,null,null,null,null,null,"Compra de Servicio","Usuarios con Discapacidad","Niños, niñas, adolescentes y jovenes SENAME","Niños, niñas, adolescentes y jovenes Mejor Niñez","Migrantes"]
[null,null,null,null,null,null,"0-4 ",null,"5-9",null,"10-14 ",null,"15-19",null,"20-24",null,"25-29",null,"30-34",null,"35-39",null,"40-44",null,"45-49 ",null,"50-59",null,"60-64",null,"65-69",null,"70-74",null,"75-79",null,"80 y mas"]
[null,null,null,"Ambos Sexos","Hombres","Mujeres","Hombres","Mujeres","Hombres","Mujeres","Hombres","Mujeres","Hombres","Mujeres","Hombres","Mujeres","Hombres","Mujeres","Hombres","Mujeres","Hombres","Mujeres","Hombres","Mujeres","Hombres","Mujeres","Hombres","Mujeres","Hombres","Mujeres","Hombres","Mujeres","Hombres","Mujeres","Hombres","Mujeres","Hombres","Mujeres"]
["PROGRAMA ODONTOLÓGICO INTEGRAL, ESTRATEGIA MÁS SONRISAS PARA CHILE","N°AUDITORÍAS CLÍNICAS REALIZADAS",null,{"$f":"SUM(E164+F164)","v":0},null,{"$f":"SUM(Z164,AB164,AD164,AF164,AH164,AJ164,AL164)","v":0},null,null,null,null,null,null,null,null,null,null,null,null,null,null,null,null,null,null,null,null,null,null,null,null,null,null,null,null,null,null,null,null,null,null,null,null,null,{"$f":"$CA164&$CB164&$CC164&$CD164&$CE164&$CF164&$CG164&$CH164&$CI164&$CJ164&$CK164&$CL164&$CM164&$CN164&$CO164&$CP164&$CQ164&$CR164","v":""},null,null,null,null,null,null,null,null,null,null,null,null,null,null,null,null,null,null,null,null,null,null,null,null,null,null,null,null,null,null,null,null,null,null,{"$f":"IF(DA164=1,\"* No olvide digitar el campo \"&CA$10&\" (Digite CEROS si no tiene). \",\"\")","v":""},{"$f":"IF(DB164=1,\"* El campo \"&CA$10&\" NO PUEDE ser mayor al total de Consultas entre 10-14 años. \",\"\")","v":""},{"$f":"IF(DC164=1,\"* No olvide digitar el campo \"&CC$10&\" (Digite CEROS si no tiene). \",\"\")","v":""},{"$f":"IF(DD164=1,\"* El campo \"&CC$10&\" NO PUEDE ser mayor al Total de mujeres. \",\"\")","v":""},{"$f":"IF(DE164=1,\"* No olvide digitar el campo \"&CE$10&\" (Digite CEROS si no tiene). \",\"\")","v":""},{"$f":"IF(DF164=1,\"* El campo \"&CE$10&\" NO PUEDE ser mayor al Total. \",\"\")","v":""},{"$f":"IF(DG164=1,\"* No olvide digitar el campo \"&CG$10&\" (Digite CEROS si no tiene). \",\"\")","v":""},{"$f":"IF(DH164=1,\"* El campo \"&CG$10&\" NO PUEDE ser mayor al Total de Consultas entre 60-64 Años. \",\"\")","v":""},{"$f":"IF(DI164=1,\"* No olvide digitar el campo \"&CI$10&\" (Digite CEROS si no tiene). \",\"\")","v":""},{"$f":"IF(DJ164=1,\"* El campo \"&CI$10&\" NO PUEDE ser mayor al Total. \",\"\")","v":""},{"$f":"IF(DK164=1,\"* No olvide digitar el campo \"&CK$10&\" (Digite CEROS si no tiene). \",\"\")","v":""},{"$f":"IF(DL164=1,\"* El campo \"&CK$10&\" NO PUEDE ser mayor al Total. \",\"\")","v":""},{"$f":"IF(DM164=1,\"* No olvide digitar el campo \"&CM$10&\" (Digite CEROS si no tiene). \",\"\")","v":""},{"$f":"IF(DN164=1,\"* El campo \"&CM$10&\" NO PUEDE ser mayor al Total. \",\"\")","v":""},{"$f":"IF(DO164=1,\"* No olvide digitar el campo \"&CO$10&\" (Digite CEROS si no tiene). \",\"\")","v":""},{"$f":"IF(DP164=1,\"* El campo \"&CO$10&\" NO PUEDE ser mayor al Total. \",\"\")","v":""},{"$f":"IF(DQ164=1,\"* No olvide digitar el campo \"&CQ$10&\" (Digite CEROS si no tiene). \",\"\")","v":""},null,null,null,null,null,null,null,null,null,null,null,null,null,null,null,null,null,{"$f":"IF(AND(AM164=\"\",$D164<>0),1,0)","v":0},null,{"$f":"IF(AND(AN164=\"\",$D164<>0),1,0)","v":0},{"$f":"IF(AN164>$D164,1,0)","v":0},{"$f":"IF(AND(AO164=\"\",$D164<>0),1,0)","v":0},{"$f":"IF(AO164>$D164,1,0)","v":0},{"$f":"IF(AND(AP164=\"\",$D164<>0),1,0)","v":0},{"$f":"IF(AP164>$D164,1,0)","v":0},{"$f":"IF(AND(AQ164=\"\",$D164<>0),1,0)","v":0},{"$f":"IF(AQ164>$D164,1,0)","v":0}]
[null,"PRÓTESIS REMOVIBLES",null,{"$f":"SUM(E165+F165)","v":0},null,{"$f":"SUM(Z165,AB165,AD165,AF165,AH165,AJ165,AL165)","v":0},null,null,null,null,null,null,null,null,null,null,null,null,null,null,null,null,null,null,null,null,null,null,null,null,null,null,null,null,null,null,null,null,null,null,null,null,null,"",null,null,null,null,null,null,null,null,null,null,null,null,null,null,null,null,null,null,null,null,null,null,null,null,null,null,null,null,null,null,null,null,null,null,"","","","","","","","","","","","","","","","","",null,null,null,null,null,null,null,null,null,null,null,null,null,null,null,null,null,{"$f":"IF(AND(AM165=\"\",$D165<>0),1,0)","v":0},null,{"$f":"IF(AND(AN165=\"\",$D165<>0),1,0)","v":0},{"$f":"IF(AN165>$D165,1,0)","v":0},{"$f":"IF(AND(AO165=\"\",$D165<>0),1,0)","v":0},{"$f":"IF(AO165>$D165,1,0)","v":0},{"$f":"IF(AND(AP165=\"\",$D165<>0),1,0)","v":0},{"$f":"IF(AP165>$D165,1,0)","v":0},{"$f":"IF(AND(AQ165=\"\",$D165<>0),1,0)","v":0},{"$f":"IF(AQ165>$D165,1,0)","v":0}]
[null,"ENDODONCIA",null,0,null,0,null,null,null,null,null,null,null,null,null,null,null,null,null,null,null,null,null,null,null,null,null,null,null,null,null,null,null,null,null,null,null,null,null,null,null,null,null,"",null,null,null,null,null,null,null,null,null,null,null,null,null,null,null,null,null,null,null,null,null,null,null,null,null,null,null,null,null,null,null,null,null,null,"","","","","","","","","","","","","","","","","",null,null,null,null,null,null,null,null,null,null,null,null,null,null,null,null,null,0,null,0,0,0,0,0,0,0,0]
[null,"REPARACIÓN DE PRÓTESIS",null,0,null,0,null,null,null,null,null,null,null,null,null,null,null,null,null,null,null,null,null,null,null,null,null,null,null,null,null,null,null,null,null,null,null,null,null,null,null,null,null,"",null,null,null,null,null,null,null,null,null,null,null,null,null,null,null,null,null,null,null,null,null,null,null,null,null,null,null,null,null,null,null,null,null,null,"","","","","","","","","","","","","","","","","",null,null,null,null,null,null,null,null,null,null,null,null,null,null,null,null,null,0,null,0,0,0,0,0,0,0,0]
[null,"ALTAS INTEGRALES","TOTAL",0,null,0,null,null,null,null,null,null,null,null,null,null,null,null,null,null,null,null,null,null,null,{"$f":"SUM(Z169:Z174)","v":0},null,{"$f":"SUM(AB169:AB174)","v":0},null,{"$f":"SUM(AD169:AD174)","v":0},null,{"$f":"SUM(AF169:AF174)","v":0},null,{"$f":"SUM(AH169:AH174)","v":0},null,{"$f":"SUM(AJ169:AJ174)","v":0},null,{"$f":"SUM(AL169:AL174)","v":0},0,0,0,0,0,""]
[null,null,"JUNJI-INTEGRA-MINEDUC",0,null,0,null,null,null,null,null,null,null,null,null,null,null,null,null,null,null,null,null,null,null,null,null,null,null,null,null,null,null,null,null,null,null,null,null,null,null,null,null,"",null,null,null,null,null,null,null,null,null,null,null,null,null,null,null,null,null,null,null,null,null,null,null,null,null,null,null,null,null,null,null,null,null,null,"","","","","","","","","","","","","","","","","",null,null,null,null,null,null,null,null,null,null,null,null,null,null,null,null,null,0,null,0,0,0,0,0,0,0,0]
[null,null,"SERNAM",0,null,0,null,null,null,null,null,null,null,null,null,null,null,null,null,null,null,null,null,null,null,null,null,null,null,null,null,null,null,null,null,null,null,null,null,null,null,null,null,"",null,null,null,null,null,null,null,null,null,null,null,null,null,null,null,null,null,null,null,null,null,null,null,null,null,null,null,null,null,null,null,null,null,null,"","","","","","","","","","","","","","","","","",null,null,null,null,null,null,null,null,null,null,null,null,null,null,null,null,null,0,null,0,0,0,0,0,0,0,0]
[null,null,"PRODEMU",0,null,0,null,null,null,null,null,null,null,null,null,null,null,null,null,null,null,null,null,null,null,null,null,null,null,null,null,null,null,null,null,null,null,null,null,null,null,null,null,"",null,null,null,null,null,null,null,null,null,null,null,null,null,null,null,null,null,null,null,null,null,null,null,null,null,null,null,null,null,null,null,null,null,null,"","","","","","","","","","","","","","","","","",null,null,null,null,null,null,null,null,null,null,null,null,null,null,null,null,null,0,null,0,0,0,0,0,0,0,0]
[null,null,"CHILE SOLIDARIO ",0,null,0,null,null,null,null,null,null,null,null,null,null,null,null,null,null,null,null,null,null,null,null,null,null,null,null,null,null,null,null,null,null,null,null,null,null,null,null,null,"",null,null,null,null,null,null,null,null,null,null,null,null,null,null,null,null,null,null,null,null,null,null,null,null,null,null,null,null,null,null,null,null,null,null,"","","","","","","","","","","","","","","","","",null,null,null,null,null,null,null,null,null,null,null,null,null,null,null,null,null,0,null,0,0,0,0,0,0,0,0]
[null,null,"MINVU",0,null,0,null,null,null,null,null,null,null,null,null,null,null,null,null,null,null,null,null,null,null,null,null,null,null,null,null,null,null,null,null,null,null,null,null,null,null,null,null,"",null,null,null,null,null,null,null,null,null,null,null,null,null,null,null,null,null,null,null,null,null,null,null,null,null,null,null,null,null,null,null,null,null,null,"","","","","","","","","","","","","","","","","",null,null,null,null,null,null,null,null,null,null,null,null,null,null,null,null,null,0,null,0,0,0,0,0,0,0,0]
[null,null,"DEMANDA LOCAL",0,null,0,null,null,null,null,null,null,null,null,null,null,null,null,null,null,null,null,null,null,null,null,null,null,null,null,null,null,null,null,null,null,null,null,null,null,null,null,null,"",null,null,null,null,null,null,null,null,null,null,null,null,null,null,null,null,null,null,null,null,null,null,null,null,null,null,null,null,null,null,null,null,null,null,"","","","","","","","","","","","","","","","","",null,null,null,null,null,null,null,null,null,null,null,null,null,null,null,null,null,0,null,0,0,0,0,0,0,0,0]
["PROGRAMA ODONTOLÓGICO INTEGRAL, ESTRATEGIA HOMBRES DE ESCASOS RECURSOS ","ALTAS INTEGRALES/ACTIVIDADES","PRÓTESIS REMOVIBLES",0,{"$f":"SUM(Y175,AA175,AC175,AE175,AG175,AI175,AK175)","v":0},null,null,null,null,null,null,null,null,null,null,null,null,null,null,null,null,null,null,null,null,null,null,null,null,null,null,null,null,null,null,null,null,null,null,null,null,null,null,"",null,null,null,null,null,null,null,null,null,null,null,null,null,null,null,null,null,null,null,null,null,null,null,null,null,null,null,null,null,null,null,null,null,null,"","","","","","","","","","","","","","","","","",null,null,null,null,null,null,null,null,null,null,null,null,null,null,null,null,null,0,null,0,0,0,0,0,0,0,0]
[null,null,"TOTAL ALTAS INTEGRALES",0,{"$f":"SUM(Y176,AA176,AC176,AE176,AG176,AI176,AK176)","v":0},null,null,null,null,null,null,null,null,null,null,null,null,null,null,null,null,null,null,null,null,null,null,null,null,null,null,null,null,null,null,null,null,null,null,null,null,null,null,"",null,null,null,null,null,null,null,null,null,null,null,null,null,null,null,null,null,null,null,null,null,null,null,null,null,null,null,null,null,null,null,null,null,null,"","","","","","","","","","","","","","","","","",null,null,null,null,null,null,null,null,null,null,null,null,null,null,null,null,null,0,null,0,0,0,0,0,0,0,0]
[null,null,"Nº DE AUDITORIAS CLÍNICAS REALIZADAS",0,{"$f":"SUM(Y177,AA177,AC177,AE177,AG177,AI177,AK177)","v":0},null,null,null,null,null,null,null,null,null,null,null,null,null,null,null,null,null,null,null,null,null,null,null,null,null,null,null,null,null,null,null,null,null,null,null,null,null,null,"",null,null,null,null,null,null,null,null,null,null,null,null,null,null,null,null,null,null,null,null,null,null,null,null,null,null,null,null,null,null,null,null,null,null,"","","","","","","","","","","","","","","","","",null,null,null,null,null,null,null,null,null,null,null,null,null,null,null,null,null,0,null,0,0,0,0,0,0,0,0]
[null,null,"REPARACIÓN DE PROTESIS",0,{"$f":"SUM(Y178,AA178,AC178,AE178,AG178,AI178,AK178)","v":0},null,null,null,null,null,null,null,null,null,null,null,null,null,null,null,null,null,null,null,null,null,null,null,null,null,null,null,null,null,null,null,null,null,null,null,null,null,null,"",null,null,null,null,null,null,null,null,null,null,null,null,null,null,null,null,null,null,null,null,null,null,null,null,null,null,null,null,null,null,null,null,null,null,"","","","","","","","","","","","","","","","","",null,null,null,null,null,null,null,null,null,null,null,null,null,null,null,null,null,0,null,0,0,0,0,0,0,0,0]
[null,null,"ENDODONCIA",0,{"$f":"SUM(Y179,AA179,AC179,AE179,AG179,AI179,AK179)","v":0},null,null,null,null,null,null,null,null,null,null,null,null,null,null,null,null,null,null,null,null,null,null,null,null,null,null,null,null,null,null,null,null,null,null,null,null,null,null,"",null,null,null,null,null,null,null,null,null,null,null,null,null,null,null,null,null,null,null,null,null,null,null,null,null,null,null,null,null,null,null,null,null,null,"","","","","","","","","","","","","","","","","",null,null,null,null,null,null,null,null,null,null,null,null,null,null,null,null,null,0,null,0,0,0,0,0,0,0,0]
["PROGRAMA ODONTOLÓGICO INTEGRAL, ESTRATEGIA ATENCION ODONTOLOGICA EN DOMICILIO","ALTAS ODONTOLOGICAS","TOTAL ALTAS ",{"$f":"SUM(E180:F180)","v":0},{"$f":"SUM(G180,I180,K180,M180,O180,Q180,S180,U180,W180,Y180,AA180,AC180,AE180,AG180,AI180,AK180)","v":0},0,{"$f":"SUM(G181:G182)","v":0},{"$f":"SUM(H181:H182)","v":0},0,0,{"$f":"SUM(K181:K182)","v":0},0,0,0,0,0,0,0,0,0,0,0,0,0,0,0,0,0,0,0,{"$f":"SUM(AE181:AE182)","v":0},0,0,0,0,0,0,0,0,0,0,{"$f":"SUM(AP181:AP182)","v":0},0,{"$f":"$BV180&$BW180&$BX180&$BY180&$BZ180&$CA180&$CB180","v":""}]
[null,null,"ALTAS PERSONAS CON DEPENDENCIA SEVERA",{"$f":"SUM(E181:F181)","v":0},0,0,null,null,null,null,null,null,null,null,null,null,null,null,null,null,null,null,null,null,null,null,null,null,null,null,null,null,null,null,null,null,null,null,null,null,null,null,null,"",null,null,null,null,null,null,null,null,null,null,null,null,null,null,null,null,null,null,null,null,null,null,null,null,null,null,null,null,null,null,null,null,null,null,{"$f":"IF(DA181=1,\"* No olvide digitar el campo \"&CA$10&\" (Digite CEROS si no tiene). \",\"\")","v":""},{"$f":"IF(DB181=1,\"* El campo \"&CA$10&\" NO PUEDE ser mayor al total de Consultas entre 10-14 años. \",\"\")","v":""},{"$f":"IF(DC181=1,\"* No olvide digitar el campo \"&CC$10&\" (Digite CEROS si no tiene). \",\"\")","v":""},{"$f":"IF(DD181=1,\"* El campo \"&CC$10&\" NO PUEDE ser mayor al Total de mujeres. \",\"\")","v":""},{"$f":"IF(DE181=1,\"* No olvide digitar el campo \"&CE$10&\" (Digite CEROS si no tiene). \",\"\")","v":""},{"$f":"IF(DF181=1,\"* El campo \"&CE$10&\" NO PUEDE ser mayor al Total. \",\"\")","v":""},{"$f":"IF(DG181=1,\"* No olvide digitar el campo \"&CG$10&\" (Digite CEROS si no tiene). \",\"\")","v":""},{"$f":"IF(DH181=1,\"* El campo \"&CG$10&\" NO PUEDE ser mayor al Total de Consultas entre 60-64 Años. \",\"\")","v":""},{"$f":"IF(DI181=1,\"* No olvide digitar el campo \"&CI$10&\" (Digite CEROS si no tiene). \",\"\")","v":""},{"$f":"IF(DJ181=1,\"* El campo \"&CI$10&\" NO PUEDE ser mayor al Total. \",\"\")","v":""},{"$f":"IF(DK181=1,\"* No olvide digitar el campo \"&CK$10&\" (Digite CEROS si no tiene). \",\"\")","v":""},{"$f":"IF(DL181=1,\"* El campo \"&CK$10&\" NO PUEDE ser mayor al Total. \",\"\")","v":""},{"$f":"IF(DM181=1,\"* No olvide digitar el campo \"&CM$10&\" (Digite CEROS si no tiene). \",\"\")","v":""},{"$f":"IF(DN181=1,\"* El campo \"&CM$10&\" NO PUEDE ser mayor al Total. \",\"\")","v":""},{"$f":"IF(DO181=1,\"* No olvide digitar el campo \"&CO$10&\" (Digite CEROS si no tiene). \",\"\")","v":""},{"$f":"IF(DP181=1,\"* El campo \"&CO$10&\" NO PUEDE ser mayor al Total. \",\"\")","v":""},{"$f":"IF(DQ181=1,\"* No olvide digitar el campo \"&CQ$10&\" (Digite CEROS si no tiene). \",\"\")","v":""},null,null,null,null,null,null,null,null,null,null,null,null,null,null,null,null,null,{"$f":"IF(AND(AM181=\"\",$D181<>0),1,0)","v":0},null,{"$f":"IF(AND(AN181=\"\",$D181<>0),1,0)","v":0},{"$f":"IF(AN181>$D181,1,0)","v":0},{"$f":"IF(AND(AO181=\"\",$D181<>0),1,0)","v":0},{"$f":"IF(AO181>$D181,1,0)","v":0},{"$f":"IF(AND(AP181=\"\",$D181<>0),1,0)","v":0},{"$f":"IF(AP181>$D181,1,0)","v":0},{"$f":"IF(AND(AQ181=\"\",$D181<>0),1,0)","v":0},{"$f":"IF(AQ181>$D181,1,0)","v":0}]
[null,null,"ALTAS CUIDADORES PERSONAS CON DEPENDENCIA",{"$f":"SUM(E182:F182)","v":0},0,0,null,null,null,null,null,null,null,null,null,null,null,null,null,null,null,null,null,null,null,null,null,null,null,null,null,null,null,null,null,null,null,null,null,null,null,null,null,"",null,null,null,null,null,null,null,null,null,null,null,null,null,null,null,null,null,null,null,null,null,null,null,null,null,null,null,null,null,null,null,null,null,null,"","","","","","","","","","","","","","","","","",null,null,null,null,null,null,null,null,null,null,null,null,null,null,null,null,null,0,null,0,0,0,0,0,0,0,0]
["PROGRAMA MEJORAMIENTO DEL ACCESO, ESTRATEGIA RESOLUCIÓN DE ESPECIALIDAD EN APS","TRATAMIENTO ENDODONCIA","N° PACIENTES",{"$f":"SUM(E183+F183)","v":0},{"$f":"SUM(Y183,AA183,AC183,AE183,AG183,AI183,AK183)","v":0},0,null,null,null,null,null,null,null,null,null,null,null,null,null,null,null,null,null,null,null,null,null,null,null,null,null,null,null,null,null,null,null,null,null,null,null,null,null,"",null,null,null,null,null,null,null,null,null,null,null,null,null,null,null,null,null,null,null,null,null,null,null,null,null,null,null,null,null,null,null,null,null,null,"","","","","","","","","","","","","","","","","",null,null,null,null,null,null,null,null,null,null,null,null,null,null,null,null,null,0,null,0,0,0,0,0,0,0,0]
[null,null,"N° DIENTES TRATADOS POR ODONTOLOGO GRAL",{"$f":"SUM(E184+F184)","v":0},0,0,null,null,null,null,null,null,null,null,null,null,null,null,null,null,null,null,null,null,null,null,null,null,null,null,null,null,null,null,null,null,null,null,null,null,null,null,null,"",null,null,null,null,null,null,null,null,null,null,null,null,null,null,null,null,null,null,null,null,null,null,null,null,null,null,null,null,null,null,null,null,null,null,"","","","","","","","","","","","","","","","","",null,null,null,null,null,null,null,null,null,null,null,null,null,null,null,null,null,0,null,0,0,0,0,0,0,0,0]
[null,null,"N° DIENTES TRATADOS POR  ENDODONCISTA",{"$f":"SUM(E185+F185)","v":0},0,0,null,null,null,null,null,null,null,null,null,null,null,null,null,null,null,null,null,null,null,null,null,null,null,null,null,null,null,null,null,null,null,null,null,null,null,null,null,"",null,null,null,null,null,null,null,null,null,null,null,null,null,null,null,null,null,null,null,null,null,null,null,null,null,null,null,null,null,null,null,null,null,null,"","","","","","","","","","","","","","","","","",null,null,null,null,null,null,null,null,null,null,null,null,null,null,null,null,null,0,null,0,0,0,0,0,0,0,0]
[null,"TRATAMIENTO DE PERIODONCIA","N° PACIENTES",0,0,0,null,null,null,null,null,null,null,null,null,null,null,null,null,null,null,null,null,null,null,null,null,null,null,null,null,null,null,null,null,null,null,null,null,null,null,null,null,"",null,null,null,null,null,null,null,null,null,null,null,null,null,null,null,null,null,null,null,null,null,null,null,null,null,null,null,null,null,null,null,null,null,null,"","","","","","","","","","","","","","","","","",null,null,null,null,null,null,null,null,null,null,null,null,null,null,null,null,null,0,null,0,0,0,0,0,0,0,0]
[null,null,"N° DE SEXTANTES POR PERIODONCISTA",0,0,0,null,null,null,null,null,null,null,null,null,null,null,null,null,null,null,null,null,null,null,null,null,null,null,null,null,null,null,null,null,null,null,null,null,null,null,null,null,"",null,null,null,null,null,null,null,null,null,null,null,null,null,null,null,null,null,null,null,null,null,null,null,null,null,null,null,null,null,null,null,null,null,null,"","","","","","","","","","","","","","","","","",null,null,null,null,null,null,null,null,null,null,null,null,null,null,null,null,null,0,null,0,0,0,0,0,0,0,0]
[null,"PRÓTESIS REMOVIBLES","N° PACIENTES",0,0,0,null,null,null,null,null,null,null,null,null,null,null,null,null,null,null,null,null,null,null,null,null,null,null,null,null,null,null,null,null,null,null,null,null,null,null,null,null,"",null,null,null,null,null,null,null,null,null,null,null,null,null,null,null,null,null,null,null,null,null,null,null,null,null,null,null,null,null,null,null,null,null,null,"","","","","","","","","","","","","","","","","",null,null,null,null,null,null,null,null,null,null,null,null,null,null,null,null,null,0,null,0,0,0,0,0,0,0,0]
[null,null,"N° PRÓTESIS REALIZADAS POR ODONTOLOGO GRAL",0,0,0,null,null,null,null,null,null,null,null,null,null,null,null,null,null,null,null,null,null,null,null,null,null,null,null,null,null,null,null,null,null,null,null,null,null,null,null,null,"",null,null,null,null,null,null,null,null,null,null,null,null,null,null,null,null,null,null,null,null,null,null,null,null,null,null,null,null,null,null,null,null,null,null,"","","","","","","","","","","","","","","","","",null,null,null,null,null,null,null,null,null,null,null,null,null,null,null,null,null,0,null,0,0,0,0,0,0,0,0]
[null,null,"N° PRÓTESIS REALIZADAS POR REHABILITADORES ORALES",0,0,0,null,null,null,null,null,null,null,null,null,null,null,null,null,null,null,null,null,null,null,null,null,null,null,null,null,null,null,null,null,null,null,null,null,null,null,null,null,"",null,null,null,null,null,null,null,null,null,null,null,null,null,null,null,null,null,null,null,null,null,null,null,null,null,null,null,null,null,null,null,null,null,null,"","","","","","","","","","","","","","","","","",null,null,null,null,null,null,null,null,null,null,null,null,null,null,null,null,null,0,null,0,0,0,0,0,0,0,0]
["PROGRAMA GES ODONTOLÓGICO ADULTO DE 60 AÑOS.","ALTAS INTEGRALES",null,{"$f":"SUM(E191+F191)","v":0},{"$f":"SUM(Y191,AA191)","v":0},0,null,null,null,null,null,null,null,null,null,null,null,null,null,null,null,null,null,null,null,null,null,null,null,null,null,null,null,null,null,null,null,null,null,null,null,null,null,"",null,null,null,null,null,null,null,null,null,null,null,null,null,null,null,null,null,null,null,null,null,null,null,null,null,null,null,null,null,null,null,null,null,null,"","","","","","","","","","","","","","","","","",null,null,null,null,null,null,null,null,null,null,null,null,null,null,null,null,null,0,null,0,0,0,0,0,0,0,0]
[null,"TRATAMIENTO ENDODONCIA","N° PACIENTES",0,0,0,null,null,null,null,null,null,null,null,null,null,null,null,null,null,null,null,null,null,null,null,null,null,null,null,null,null,null,null,null,null,null,null,null,null,null,null,null,"",null,null,null,null,null,null,null,null,null,null,null,null,null,null,null,null,null,null,null,null,null,null,null,null,null,null,null,null,null,null,null,null,null,null,"","","","","","","","","","","","","","","","","",null,null,null,null,null,null,null,null,null,null,null,null,null,null,null,null,null,0,null,0,0,0,0,0,0,0,0]
[null,null,"N° DIENTES",0,0,0,null,null,null,null,null,null,null,null,null,null,null,null,null,null,null,null,null,null,null,null,null,null,null,null,null,null,null,null,null,null,null,null,null,null,null,null,null,"",null,null,null,null,null,null,null,null,null,null,null,null,null,null,null,null,null,null,null,null,null,null,null,null,null,null,null,null,null,null,null,null,null,null,"","","","","","","","","","","","","","","","","",null,null,null,null,null,null,null,null,null,null,null,null,null,null,null,null,null,0,null,0,0,0,0,0,0,0,0]
[null,"PRÓTESIS REMOVIBLES","N° PACIENTES",0,0,0,null,null,null,null,null,null,null,null,null,null,null,null,null,null,null,null,null,null,null,null,null,null,null,null,null,null,null,null,null,null,null,null,null,null,null,null,null,"",null,null,null,null,null,null,null,null,null,null,null,null,null,null,null,null,null,null,null,null,null,null,null,null,null,null,null,null,null,null,null,null,null,null,"","","","","","","","","","","","","","","","","",null,null,null,null,null,null,null,null,null,null,null,null,null,null,null,null,null,0,null,0,0,0,0,0,0,0,0]
[null,null,"N° PRÓTESIS",0,0,0,null,null,null,null,null,null,null,null,null,null,null,null,null,null,null,null,null,null,null,null,null,null,null,null,null,null,null,null,null,null,null,null,null,null,null,null,null,"",null,null,null,null,null,null,null,null,null,null,null,null,null,null,null,null,null,null,null,null,null,null,null,null,null,null,null,null,null,null,null,null,null,null,"","","","","","","","","","","","","","","","","",null,null,null,null,null,null,null,null,null,null,null,null,null,null,null,null,null,0,null,0,0,0,0,0,0,0,0]
["PROGRAMA ODONTOLOGICO INTEGRAL, ESTRATEGIA ESTUDIANTES DE ENSEÑANZA MEDIA","ALTAS INTEGRALES ESTUDIANTES DE ENSEÑANZA MEDIA","ALTA INTEGRAL EN CENTRO DE SALUD",0,0,0,null,null,null,null,null,null,null,null,null,null,null,null,null,null,null,null,null,null,null,null,null,null,null,null,null,null,null,null,null,null,null,null,null,null,null,null,null,"",null,null,null,null,null,null,null,null,null,null,null,null,null,null,null,null,null,null,null,null,null,null,null,null,null,null,null,null,null,null,null,null,null,null,"","","","","","","","","","","","","","","","","",null,null,null,null,null,null,null,null,null,null,null,null,null,null,null,null,null,0,null,0,0,0,0,0,0,0,0]
[null,null,"ALTA INTEGRAL EN UNIDAD DENTAL MÓVIL O PORTÁTIL",0,0,0,null,null,null,null,null,null,null,null,null,null,null,null,null,null,null,null,null,null,null,null,null,null,null,null,null,null,null,null,null,null,null,null,null,null,null,null,null,"",null,null,null,null,null,null,null,null,null,null,null,null,null,null,null,null,null,null,null,null,null,null,null,null,null,null,null,null,null,null,null,null,null,null,"","","","","","","","","","","","","","","","","",null,null,null,null,null,null,null,null,null,null,null,null,null,null,null,null,null,0,null,0,0,0,0,0,0,0,0]
[null,null,"ALTA INTEGRAL EN ESTABLECIMIENTO EDUCACIONAL",0,0,0,null,null,null,null,null,null,null,null,null,null,null,null,null,null,null,null,null,null,null,null,null,null,null,null,null,null,null,null,null,null,null,null,null,null,null,null,null,"",null,null,null,null,null,null,null,null,null,null,null,null,null,null,null,null,null,null,null,null,null,null,null,null,null,null,null,null,null,null,null,null,null,null,"","","","","","","","","","","","","","","","","",null,null,null,null,null,null,null,null,null,null,null,null,null,null,null,null,null,0,null,0,0,0,0,0,0,0,0]
["PROGRAMA MEJORAMIENTO DEL ACCESO, ESTRATEGIA MORBILIDAD ADULTO","MORBILIDAD ADULTO","N° TOTAL DE ACTIVIDAD RECUPERATIVA REALIZADA EN >20 AÑOS, EN EXTENSIÓN HORARIA",{"$f":"SUM(E199+F199)","v":0},0,0,null,null,null,null,null,null,null,null,null,null,null,null,null,null,null,null,null,null,null,null,null,null,null,null,null,null,null,null,null,null,null,null,null,null,null,null,null,"",null,null,null,null,null,null,null,null,null,null,null,null,null,null,null,null,null,null,null,null,null,null,null,null,null,null,null,null,null,null,null,null,null,null,"","","","","","","","","","","","","","","","","",null,null,null,null,null,null,null,null,null,null,null,null,null,null,null,null,null,null,null,0,0,0,0,0,0,0,0]
[null,null,"N° DE CONSULTAS DE MORBILIDAD REALIZADAS EN >20 AÑOS, EN EXTENSIÓN HORARIA",{"$f":"SUM(E200+F200)","v":0},0,0,null,null,null,null,null,null,null,null,null,null,null,null,null,null,null,null,null,null,null,null,null,null,null,null,null,null,null,null,null,null,null,null,null,null,null,null,null,"",null,null,null,null,null,null,null,null,null,null,null,null,null,null,null,null,null,null,null,null,null,null,null,null,null,null,null,null,null,null,null,null,null,null,"","","","","","","","","","","","","","","","","",null,null,null,null,null,null,null,null,null,null,null,null,null,null,null,null,null,null,null,0,0,0,0,0,0,0,0]
["SECCIÓN G.1: PROGRAMA SEMBRANDO SONRISAS"]
["ACTIVIDAD","TOTAL",null,null,"SEGÚN GRUPOS DE EDAD O DE RIESGO",null,null,null,null,null,null,null,null,null,null,null,null,null,null,null,null,null,null,null,null,null,null,null,null,null,null,null,null,null,null,null,"Usuarios con Discapacidad","Total","JUNJI","INTEGRA","MINEDUC"]
[null,null,null,null,"0-4 ",null,"5-9",null,"10-14 ",null,"15-19",null,"20-24",null,"25-29",null,"30-34",null,"35-39",null,"40-44",null,"45-49 ",null,"50-59",null,"60-64",null,"65-69",null,"70-74",null,"75-79",null,"80 y mas"]
[null,"Ambos Sexos","Hombres","Mujeres","Hombres","Mujeres","Hombres","Mujeres","Hombres","Mujeres","Hombres","Mujeres","Hombres","Mujeres","Hombres","Mujeres","Hombres","Mujeres","Hombres","Mujeres","Hombres","Mujeres","Hombres","Mujeres","Hombres","Mujeres","Hombres","Mujeres","Hombres","Mujeres","Hombres","Mujeres","Hombres","Mujeres","Hombres","Mujeres"]
["EXAMEN DE SALUD",{"$f":"SUM(C205+D205)","v":0},{"$f":"+I205+K205+M205+O205+Q205","v":0},{"$f":"+J205+L205+N205+P205+R205","v":0},null,null,null,null,null,null,null,null,null,null,null,null,null,null,null,null,null,null,null,null,null,null,null,null,null,null,null,null,null,null,null,null,null,{"$f":"SUM(AM205:AO205)","v":0},null,null,null,{"$f":"$CA205&$CB205&$CC205&$CD205&$CE205&$CF205&$CG205&$CH205&$CI205&$CJ205&$CK205&$CL205&$CM205&$CN205&$CO205&$CP205&$CQ205&$CR205","v":""},null,null,null,null,null,null,null,null,null,null,null,null,null,null,null,null,null,null,null,null,null,null,null,null,null,null,null,null,null,null,null,null,null,null,null,null,{"$f":"IF(DA205=1,\"* El número de actividades en usuarios en situacion de discapacidad NO DEBE ser mayor al total. \",\"\")","v":""},{"$f":"IF(DB205=1,\"* El número de actividades en usuarios JUNJI NO DEBE ser mayor al total. \",\"\")","v":""},{"$f":"IF(DC205=1,\"* El número de actividades en usuarios INTEGRA NO DEBE ser mayor al total. \",\"\")","v":""},{"$f":"IF(DD205=1,\"* El número de actividades en usuarios MINEDUC NO DEBE ser mayor al total. \",\"\")","v":""},{"$f":"IF(DE205=1,\"* El total de actividades de JUNJI, Integra y MINEDUC no puede superar el Total.\",\"\")","v":""},null,null,null,null,null,null,null,null,null,null,null,null,null,null,null,null,null,null,null,null,null,{"$f":"IF(B205<AK205,1,0)","v":0},{"$f":"IF(B205<AM205,1,0)","v":0},{"$f":"IF(B205<AN205,1,0)","v":0},{"$f":"IF(B205<AO205,1,0)","v":0},{"$f":"IF(B205<AL205,1,0)","v":0}]
["Nº DE NIÑOS CON ÍNDICE ceod=0 AL INGRESO",{"$f":"SUM(C206+D206)","v":0},0,0,null,null,null,null,null,null,null,null,null,null,null,null,null,null,null,null,null,null,null,null,null,null,null,null,null,null,null,null,null,null,null,null,null,0,null,null,null,"",null,null,null,null,null,null,null,null,null,null,null,null,null,null,null,null,null,null,null,null,null,null,null,null,null,null,null,null,null,null,null,null,null,null,null,null,"","","","","",null,null,null,null,null,null,null,null,null,null,null,null,null,null,null,null,null,null,null,null,null,{"$f":"IF(B206<AK206,1,0)","v":0},{"$f":"IF(B206<AM206,1,0)","v":0},{"$f":"IF(B206<AN206,1,0)","v":0},{"$f":"IF(B206<AO206,1,0)","v":0},{"$f":"IF(B206<AL206,1,0)","v":0}]
["SET DE HIGIENE ORAL ENTREGADOS",{"$f":"SUM(C207+D207)","v":0},0,0,null,null,null,null,null,null,null,null,null,null,null,null,null,null,null,null,null,null,null,null,null,null,null,null,null,null,null,null,null,null,null,null,null,0,null,null,null,"",null,null,null,null,null,null,null,null,null,null,null,null,null,null,null,null,null,null,null,null,null,null,null,null,null,null,null,null,null,null,null,null,null,null,null,null,"","","","","",null,null,null,null,null,null,null,null,null,null,null,null,null,null,null,null,null,null,null,null,null,{"$f":"IF(B207<AK207,1,0)","v":0},{"$f":"IF(B207<AM207,1,0)","v":0},{"$f":"IF(B207<AN207,1,0)","v":0},{"$f":"IF(B207<AO207,1,0)","v":0},{"$f":"IF(B207<AL207,1,0)","v":0}]
["Nº DE APLICACIONES FLÚOR BARNIZ",{"$f":"SUM(C208+D208)","v":0},{"$f":"+I208+K208+M208+O208+Q208","v":0},0,null,null,null,null,null,null,null,null,null,null,null,null,null,null,null,null,null,null,null,null,null,null,null,null,null,null,null,null,null,null,null,null,null,0,null,null,null,"",null,null,null,null,null,null,null,null,null,null,null,null,null,null,null,null,null,null,null,null,null,null,null,null,null,null,null,null,null,null,null,null,null,null,null,null,"","","","","",null,null,null,null,null,null,null,null,null,null,null,null,null,null,null,null,null,null,null,null,null,{"$f":"IF(B208<AK208,1,0)","v":0},{"$f":"IF(B208<AM208,1,0)","v":0},{"$f":"IF(B208<AN208,1,0)","v":0},{"$f":"IF(B208<AO208,1,0)","v":0},{"$f":"IF(B208<AL208,1,0)","v":0}]
["EDUCACIÓN GRUPAL EN ESTABLECIMIENTO DE EDUCACIÓN",null,null,null,null,null,null,null,null,null,null,null,null,null,null,null,null,null,null,null,null,null,null,null,null,null,null,null,null,null,null,null,null,null,null,null,null,0,null,null,null,"",null,null,null,null,null,null,null,null,null,null,null,null,null,null,null,null,null,null,null,null,null,null,null,null,null,null,null,null,null,null,null,null,null,null,null,null,"","","","",""]
["N° DE ESTABLECIMIENTOS DE EDUCACIÓN CON PROGRAMA IMPLEMENTADO",null,null,null,null,null,null,null,null,null,null,null,null,null,null,null,null,null,null,null,null,null,null,null,null,null,null,null,null,null,null,null,null,null,null,null,null,0,null,null,null,"",null,null,null,null,null,null,null,null,null,null,null,null,null,null,null,null,null,null,null,null,null,null,null,null,null,null,null,null,null,null,null,null,null,null,null,null,"","","","",""]
["SECCIÓN H: SEDACIÓN Y ANESTESIA"]
["ACTIVIDAD","TOTAL",null,null,"SEGÚN GRUPOS DE EDAD O DE RIESGO"]
[null,null,null,null,"0-4 ",null,"5-9",null,"10-14 ",null,"15-19",null,"20-24",null,"25-29",null,"30-34",null,"35-39",null,"40-44",null,"45-49 ",null,"50-59",null,"60-64",null,"65-69",null,"70-74",null,"75-79",null,"80 y mas"]
[null,"Ambos Sexos","Hombres","Mujeres","Hombres","Mujeres","Hombres","Mujeres","Hombres","Mujeres","Hombres","Mujeres","Hombres","Mujeres","Hombres","Mujeres","Hombres","Mujeres","Hombres","Mujeres","Hombres","Mujeres","Hombres","Mujeres","Hombres","Mujeres","Hombres","Mujeres","Hombres","Mujeres","Hombres","Mujeres","Hombres","Mujeres","Hombres","Mujeres"]
["ATENCIÓN BAJO SEDACIÓN INHALATORIA (CON ÓXIDO NITROSO)",{"$f":"SUM(C215:D215)","v":0},{"$f":"+E215+G215+I215+K215+M215+O215+Q215+S215+U215+W215+Y215+AA215+AC215+AE215+AG215+AI215","v":0},{"$f":"+F215+H215+J215+L215+N215+P215+R215+T215+V215+X215+Z215+AB215+AD215+AF215+AH215+AJ215","v":0}]
["SEDACIÓN ENDOVENOSA",{"$f":"SUM(C216:D216)","v":0},{"$f":"+E216+G216+I216+K216+M216+O216+Q216+S216+U216+W216+Y216+AA216+AC216+AE216+AG216+AI216","v":0},0]
["ATENCIÓN BAJO ANESTESIA GENERAL",{"$f":"SUM(C217:D217)","v":0},0,0]
["ATENCIÓN BAJO SEDACIÓN ORAL",{"$f":"SUM(C218:D218)","v":0},0,0]
["SECCIÓN I:  CONSULTAS, INGRESOS Y EGRESOS EN ESPECIALIDADES ODONTOLÓGICAS REALIZADOS EN NIVEL PRIMARIO Y SECUNDARIO DE SALUD. "]
["ESPECIALIDAD Y TIPO DE INGRESO O EGRESO.",null,null,"TOTAL   ",null,null,"SEGÚN GRUPOS DE EDAD O DE RIESGO",null,null,null,null,null,null,null,null,null,null,null,null,null,null,null,null,null,null,null,null,null,null,null,null,null,null,null,null,null,null,null,"Embarazadas","60 años (incluido en grupos de  60-64 años)","CONSULTAS PERTINENTES",null,"Inasistente","Operatoria","Compra de Servicio","Usuarios con Discapacidad","Niños, niñas, adolescentes y jovenes SENAME","Niños, niñas, adolescentes y jovenes Mejor Niñez","Migrantes",null,null,null,null,null,null,null,null,null,null,null,null,null,null,null,null,null,null,null,null,null,null,null,null,null,null,null,null,null,"Embarazadas",null,"60 años (incluido en grupos de  60-64 años)",null,"Según Protocolo de Referencia",null,"Según condición clínica",null,"Usuarios con Discapacidad",null,"Niños, niñas, adolescentes y jovenes SENAME",null,"Niños, niñas, adolescentes y jovenes Mejor Niñez",null,"Migrantes",null,null,null,null,null,null,null,null,null,null,null,"Embarazadas",null,"60 años (incluido en grupos de  60-64 años)",null,"Según Protocolo de Referencia",null,"Según condición clínica",null,"Usuarios con Discapacidad",null,"Niños, niñas, adolescentes y jovenes SENAME",null,"Niños, niñas, adolescentes y jovenes Mejor Niñez",null,"Migrantes"]
[null,null,null,null,null,null,"0-4 ",null,"5-9",null,"10-14 ",null,"15-19",null,"20-24",null,"25-29",null,"30-34",null,"35-39",null,"40-44",null,"45-49 ",null,"50-59",null,"60-64",null,"65-69",null,"70-74",null,"75-79",null,"80 y mas",null,null,null,"Según Protocolo de Referencia","Según condición clínica"]
[null,null,null,"Ambos Sexos","Hombres","Mujeres","Hombres","Mujeres","Hombres","Mujeres","Hombres","Mujeres","Hombres","Mujeres","Hombres","Mujeres","Hombres","Mujeres","Hombres","Mujeres","Hombres","Mujeres","Hombres","Mujeres","Hombres","Mujeres","Hombres","Mujeres","Hombres","Mujeres","Hombres","Mujeres","Hombres","Mujeres","Hombres","Mujeres","Hombres","Mujeres"]
["CONSULTAS","CONSULTA DE URGENCIA GES",null,{"$f":"SUM(E223+F223)","v":0},{"$f":"SUM(G223,I223,K223,M223,O223,Q223,S223,U223,W223,Y223,AA223,AC223,AE223,AG223,AI223,AK223)","v":0},{"$f":"SUM(H223,J223,L223,N223,P223,R223,T223,V223,X223,Z223,AB223,AD223,AF223,AH223,AJ223,AL223)","v":0},null,null,null,null,null,null,null,null,null,null,null,null,null,null,null,null,null,null,null,null,null,null,null,null,null,null,null,null,null,null,null,null,null,null,null,null,null,null,null,null,null,null,null,{"$f":"$CA223&$CB223&$CC223&$CD223&$CE223&$CF223&$CG223&$CH223&$CI223&$CJ223&$CK223&$CL223&$CM223&$CN223&$CO223&$CP223&$CQ223&$CR223","v":""},null,null,null,null,null,null,null,null,null,null,null,null,null,null,null,null,null,null,null,null,null,null,null,null,null,null,null,null,{"$f":"IF(DA223=1,\"* No olvide digitar el campo \"&CA$220&\" (Digite CEROS si no tiene). \",\"\")","v":""},{"$f":"IF(DB223=1,\"* El campo \"&CA$220&\" NO PUEDE ser mayor al Total de mujeres. \",\"\")","v":""},{"$f":"IF(DC223=1,\"* No olvide digitar el campo \"&CC$220&\" (Digite CEROS si no tiene). \",\"\")","v":""},{"$f":"IF(DD223=1,\"* El campo \"&CC$220&\" NO PUEDE ser mayor al Total de Consultas entre 60-64 Años. \",\"\")","v":""},null,{"$f":"IF(DF223=1,\"* La consulta pertinente según Protocolo de Referencia NO DEBE ser mayor al Total registrado. \",\"\")","v":""},null,{"$f":"IF(DH223=1,\"* La consulta pertinente según condición clínica NO DEBE ser mayor al Total registrado. \",\"\")","v":""},{"$f":"IF(DI223=1,\"* No olvide digitar el campo \"&CI$220&\" (Digite CEROS si no tiene). \",\"\")","v":""},{"$f":"IF(DJ223=1,\"* El campo \"&CI$220&\" NO PUEDE ser mayor al Total. \",\"\")","v":""},{"$f":"IF(DK223=1,\"* No olvide digitar el campo \"&CK$220&\" (Digite CEROS si no tiene). \",\"\")","v":""},{"$f":"IF(DL223=1,\"* El campo \"&CK$220&\" NO PUEDE ser mayor al Total. \",\"\")","v":""},{"$f":"IF(DM223=1,\"* No olvide digitar el campo \"&CM$220&\" (Digite CEROS si no tiene). \",\"\")","v":""},{"$f":"IF(DN223=1,\"* El campo \"&CM$220&\" NO PUEDE ser mayor al Total. \",\"\")","v":""},{"$f":"IF(DO223=1,\"* No olvide digitar el campo \"&CO$220&\" (Digite CEROS si no tiene). \",\"\")","v":""},{"$f":"IF(DP223=1,\"* El campo \"&CO$220&\" NO PUEDE ser mayor al Total. \",\"\")","v":""},null,null,null,null,null,null,null,null,null,null,{"$f":"IF(AND(AM223=\"\",$D223<>0),1,0)","v":0},{"$f":"IF(AM223>($F223),1,0)","v":0},{"$f":"IF(AND(AN223=\"\",$D223<>0),1,0)","v":0},{"$f":"IF(AN223>($AC223+$AD223),1,0)","v":0},null,null,null,null,{"$f":"IF(AND(AT223=\"\",$D223<>0),1,0)","v":0},{"$f":"IF(AT223>$D223,1,0)","v":0},{"$f":"IF(AND(AU223=\"\",$D223<>0),1,0)","v":0},{"$f":"IF(AU223>$D223,1,0)","v":0},{"$f":"IF(AND(AV223=\"\",$D223<>0),1,0)","v":0},{"$f":"IF(AV223>$D223,1,0)","v":0},{"$f":"IF(AND(AW223=\"\",$D223<>0),1,0)","v":0},{"$f":"IF(AW223>$D223,1,0)","v":0}]
[null,"CONSULTA DE URGENCIA NO GES",null,{"$f":"SUM(E224+F224)","v":0},{"$f":"SUM(G224,I224,K224,M224,O224,Q224,S224,U224,W224,Y224,AA224,AC224,AE224,AG224,AI224,AK224)","v":0},{"$f":"SUM(H224,J224,L224,N224,P224,R224,T224,V224,X224,Z224,AB224,AD224,AF224,AH224,AJ224,AL224)","v":0},null,null,null,null,null,null,null,null,null,null,null,null,null,null,null,null,null,null,null,null,null,null,null,null,null,null,null,null,null,null,null,null,null,null,null,null,null,null,null,null,null,null,null,"",null,null,null,null,null,null,null,null,null,null,null,null,null,null,null,null,null,null,null,null,null,null,null,null,null,null,null,null,{"$f":"IF(DA224=1,\"* No olvide digitar el campo \"&CA$220&\" (Digite CEROS si no tiene). \",\"\")","v":""},{"$f":"IF(DB224=1,\"* El campo \"&CA$220&\" NO PUEDE ser mayor al Total de mujeres. \",\"\")","v":""},{"$f":"IF(DC224=1,\"* No olvide digitar el campo \"&CC$220&\" (Digite CEROS si no tiene). \",\"\")","v":""},{"$f":"IF(DD224=1,\"* El campo \"&CC$220&\" NO PUEDE ser mayor al Total de Consultas entre 60-64 Años. \",\"\")","v":""},null,{"$f":"IF(DF224=1,\"* La consulta pertinente según Protocolo de Referencia NO DEBE ser mayor al Total registrado. \",\"\")","v":""},null,{"$f":"IF(DH224=1,\"* La consulta pertinente según condición clínica NO DEBE ser mayor al Total registrado. \",\"\")","v":""},{"$f":"IF(DI224=1,\"* No olvide digitar el campo \"&CI$220&\" (Digite CEROS si no tiene). \",\"\")","v":""},{"$f":"IF(DJ224=1,\"* El campo \"&CI$220&\" NO PUEDE ser mayor al Total. \",\"\")","v":""},{"$f":"IF(DK224=1,\"* No olvide digitar el campo \"&CK$220&\" (Digite CEROS si no tiene). \",\"\")","v":""},{"$f":"IF(DL224=1,\"* El campo \"&CK$220&\" NO PUEDE ser mayor al Total. \",\"\")","v":""},{"$f":"IF(DM224=1,\"* No olvide digitar el campo \"&CM$220&\" (Digite CEROS si no tiene). \",\"\")","v":""},{"$f":"IF(DN224=1,\"* El campo \"&CM$220&\" NO PUEDE ser mayor al Total. \",\"\")","v":""},{"$f":"IF(DO224=1,\"* No olvide digitar el campo \"&CO$220&\" (Digite CEROS si no tiene). \",\"\")","v":""},{"$f":"IF(DP224=1,\"* El campo \"&CO$220&\" NO PUEDE ser mayor al Total. \",\"\")","v":""},null,null,null,null,null,null,null,null,null,null,{"$f":"IF(AND(AM224=\"\",$D224<>0),1,0)","v":0},{"$f":"IF(AM224>($F224),1,0)","v":0},{"$f":"IF(AND(AN224=\"\",$D224<>0),1,0)","v":0},{"$f":"IF(AN224>($AC224+$AD224),1,0)","v":0},null,null,null,null,{"$f":"IF(AND(AT224=\"\",$D224<>0),1,0)","v":0},{"$f":"IF(AT224>$D224,1,0)","v":0},{"$f":"IF(AND(AU224=\"\",$D224<>0),1,0)","v":0},{"$f":"IF(AU224>$D224,1,0)","v":0},{"$f":"IF(AND(AV224=\"\",$D224<>0),1,0)","v":0},{"$f":"IF(AV224>$D224,1,0)","v":0},{"$f":"IF(AND(AW224=\"\",$D224<>0),1,0)","v":0},{"$f":"IF(AW224>$D224,1,0)","v":0}]
["CIRUGÍA BUCAL","CONSULTA NUEVA ",null,0,0,0,null,null,null,null,null,null,null,null,null,null,null,null,null,null,null,null,null,null,null,null,null,null,null,null,null,null,null,null,null,null,null,null,null,null,null,null,null,null,null,null,null,null,null,"",null,null,null,null,null,null,null,null,null,null,null,null,null,null,null,null,null,null,null,null,null,null,null,null,null,null,null,null,"","","","",null,"",null,"","","","","","","","","",null,null,null,null,null,null,null,null,null,null,0,0,0,0,null,{"$f":"IF(AO225>$D225,1,0)","v":0},null,{"$f":"IF(AP225>$D225,1,0)","v":0},0,0,0,0,0,0,0,0]
[null,"CONTROL ",null,0,0,0,null,null,null,null,null,null,null,null,null,null,null,null,null,null,null,null,null,null,null,null,null,null,null,null,null,null,null,null,null,null,null,null,null,null,null,null,null,null,null,null,null,null,null,"",null,null,null,null,null,null,null,null,null,null,null,null,null,null,null,null,null,null,null,null,null,null,null,null,null,null,null,null,"","","","",null,"",null,"","","","","","","","","",null,null,null,null,null,null,null,null,null,null,0,0,0,0,null,null,null,null,0,0,0,0,0,0,0,0]
[null,"INGRESOS A TRATAMIENTO",null,0,0,0,null,null,null,null,null,null,null,null,null,null,null,null,null,null,null,null,null,null,null,null,null,null,null,null,null,null,null,null,null,null,null,null,null,null,null,null,null,null,null,null,null,null,null,"",null,null,null,null,null,null,null,null,null,null,null,null,null,null,null,null,null,null,null,null,null,null,null,null,null,null,null,null,"","","","",null,"",null,"","","","","","","","","",null,null,null,null,null,null,null,null,null,null,0,0,0,0,null,null,null,null,0,0,0,0,0,0,0,0]
[null,"ALTAS DE TRATAMIENTO",null,0,0,0,null,null,null,null,null,null,null,null,null,null,null,null,null,null,null,null,null,null,null,null,null,null,null,null,null,null,null,null,null,null,null,null,null,null,null,null,null,null,null,null,null,null,null,"",null,null,null,null,null,null,null,null,null,null,null,null,null,null,null,null,null,null,null,null,null,null,null,null,null,null,null,null,"","","","",null,"",null,"","","","","","","","","",null,null,null,null,null,null,null,null,null,null,0,0,0,0,null,null,null,null,0,0,0,0,0,0,0,0]
[null,"CONTROL DE ESPECIALIDAD POST ALTA",null,0,0,0,null,null,null,null,null,null,null,null,null,null,null,null,null,null,null,null,null,null,null,null,null,null,null,null,null,null,null,null,null,null,null,null,null,null,null,null,null,null,null,null,null,null,null,"",null,null,null,null,null,null,null,null,null,null,null,null,null,null,null,null,null,null,null,null,null,null,null,null,null,null,null,null,"","","","",null,"",null,"","","","","","","","","",null,null,null,null,null,null,null,null,null,null,0,0,0,0,null,null,null,null,0,0,0,0,0,0,0,0]
[null,"ALTAS ADMINISTRATIVAS",null,0,0,0,null,null,null,null,null,null,null,null,null,null,null,null,null,null,null,null,null,null,null,null,null,null,null,null,null,null,null,null,null,null,null,null,null,null,null,null,null,null,null,null,null,null,null,"",null,null,null,null,null,null,null,null,null,null,null,null,null,null,null,null,null,null,null,null,null,null,null,null,null,null,null,null,"","","","",null,"",null,"","","","","","","","","",null,null,null,null,null,null,null,null,null,null,0,0,0,0,null,null,null,null,0,0,0,0,0,0,0,0]
["CIRUGÍA Y TRAUMATOLOGÍA MAXILOFACIAL","CONSULTA NUEVA ",null,0,0,0,null,null,null,null,null,null,null,null,null,null,null,null,null,null,null,null,null,null,null,null,null,null,null,null,null,null,null,null,null,null,null,null,null,null,null,null,null,null,null,null,null,null,null,"",null,null,null,null,null,null,null,null,null,null,null,null,null,null,null,null,null,null,null,null,null,null,null,null,null,null,null,null,"","","","",null,"",null,"","","","","","","","","",null,null,null,null,null,null,null,null,null,null,0,0,0,0,null,{"$f":"IF(AO231>$D231,1,0)","v":0},null,{"$f":"IF(AP231>$D231,1,0)","v":0},0,0,0,0,0,0,0,0]
[null,"CONTROL ",null,0,0,0,null,null,null,null,null,null,null,null,null,null,null,null,null,null,null,null,null,null,null,null,null,null,null,null,null,null,null,null,null,null,null,null,null,null,null,null,null,null,null,null,null,null,null,"",null,null,null,null,null,null,null,null,null,null,null,null,null,null,null,null,null,null,null,null,null,null,null,null,null,null,null,null,"","","","",null,"",null,"","","","","","","","","",null,null,null,null,null,null,null,null,null,null,0,0,0,0,null,null,null,null,0,0,0,0,0,0,0,0]
[null,"INGRESOS A TRATAMIENTO",null,0,0,0,null,null,null,null,null,null,null,null,null,null,null,null,null,null,null,null,null,null,null,null,null,null,null,null,null,null,null,null,null,null,null,null,null,null,null,null,null,null,null,null,null,null,null,"",null,null,null,null,null,null,null,null,null,null,null,null,null,null,null,null,null,null,null,null,null,null,null,null,null,null,null,null,"","","","",null,"",null,"","","","","","","","","",null,null,null,null,null,null,null,null,null,null,0,0,0,0,null,null,null,null,0,0,0,0,0,0,0,0]
[null,"ALTAS DE TRATAMIENTO",null,0,0,0,null,null,null,null,null,null,null,null,null,null,null,null,null,null,null,null,null,null,null,null,null,null,null,null,null,null,null,null,null,null,null,null,null,null,null,null,null,null,null,null,null,null,null,"",null,null,null,null,null,null,null,null,null,null,null,null,null,null,null,null,null,null,null,null,null,null,null,null,null,null,null,null,"","","","",null,"",null,"","","","","","","","","",null,null,null,null,null,null,null,null,null,null,0,0,0,0,null,null,null,null,0,0,0,0,0,0,0,0]
[null,"CONTROL DE ESPECIALIDAD POST ALTA",null,0,0,0,null,null,null,null,null,null,null,null,null,null,null,null,null,null,null,null,null,null,null,null,null,null,null,null,null,null,null,null,null,null,null,null,null,null,null,null,null,null,null,null,null,null,null,"",null,null,null,null,null,null,null,null,null,null,null,null,null,null,null,null,null,null,null,null,null,null,null,null,null,null,null,null,"","","","",null,"",null,"","","","","","","","","",null,null,null,null,null,null,null,null,null,null,0,0,0,0,null,null,null,null,0,0,0,0,0,0,0,0]
[null,"ALTAS ADMINISTRATIVAS",null,0,0,0,null,null,null,null,null,null,null,null,null,null,null,null,null,null,null,null,null,null,null,null,null,null,null,null,null,null,null,null,null,null,null,null,null,null,null,null,null,null,null,null,null,null,null,"",null,null,null,null,null,null,null,null,null,null,null,null,null,null,null,null,null,null,null,null,null,null,null,null,null,null,null,null,"","","","",null,"",null,"","","","","","","","","",null,null,null,null,null,null,null,null,null,null,0,0,0,0,null,null,null,null,0,0,0,0,0,0,0,0]
["ENDODONCIA","CONSULTA NUEVA ",null,0,0,0,null,null,null,null,null,null,null,null,null,null,null,null,null,null,null,null,null,null,null,null,null,null,null,null,null,null,null,null,null,null,null,null,null,null,null,null,null,null,null,null,null,null,null,"",null,null,null,null,null,null,null,null,null,null,null,null,null,null,null,null,null,null,null,null,null,null,null,null,null,null,null,null,"","","","",null,"",null,"","","","","","","","","",null,null,null,null,null,null,null,null,null,null,0,0,0,0,null,{"$f":"IF(AO237>$D237,1,0)","v":0},null,{"$f":"IF(AP237>$D237,1,0)","v":0},0,0,0,0,0,0,0,0]
[null,"CONTROL ",null,0,0,0,null,null,null,null,null,null,null,null,null,null,null,null,null,null,null,null,null,null,null,null,null,null,null,null,null,null,null,null,null,null,null,null,null,null,null,null,null,null,null,null,null,null,null,"",null,null,null,null,null,null,null,null,null,null,null,null,null,null,null,null,null,null,null,null,null,null,null,null,null,null,null,null,"","","","",null,"",null,"","","","","","","","","",null,null,null,null,null,null,null,null,null,null,0,0,0,0,null,null,null,null,0,0,0,0,0,0,0,0]
[null,"INGRESOS A TRATAMIENTO",null,0,0,0,null,null,null,null,null,null,null,null,null,null,null,null,null,null,null,null,null,null,null,null,null,null,null,null,null,null,null,null,null,null,null,null,null,null,null,null,null,null,null,null,null,null,null,"",null,null,null,null,null,null,null,null,null,null,null,null,null,null,null,null,null,null,null,null,null,null,null,null,null,null,null,null,"","","","",null,"",null,"","","","","","","","","",null,null,null,null,null,null,null,null,null,null,0,0,0,0,null,null,null,null,0,0,0,0,0,0,0,0]
[null,"ALTAS DE TRATAMIENTO",null,0,0,0,null,null,null,null,null,null,null,null,null,null,null,null,null,null,null,null,null,null,null,null,null,null,null,null,null,null,null,null,null,null,null,null,null,null,null,null,null,null,null,null,null,null,null,"",null,null,null,null,null,null,null,null,null,null,null,null,null,null,null,null,null,null,null,null,null,null,null,null,null,null,null,null,"","","","",null,"",null,"","","","","","","","","",null,null,null,null,null,null,null,null,null,null,0,0,0,0,null,null,null,null,0,0,0,0,0,0,0,0]
[null,"CONTROL DE ESPECIALIDAD POST ALTA",null,0,0,0,null,null,null,null,null,null,null,null,null,null,null,null,null,null,null,null,null,null,null,null,null,null,null,null,null,null,null,null,null,null,null,null,null,null,null,null,null,null,null,null,null,null,null,"",null,null,null,null,null,null,null,null,null,null,null,null,null,null,null,null,null,null,null,null,null,null,null,null,null,null,null,null,"","","","",null,"",null,"","","","","","","","","",null,null,null,null,null,null,null,null,null,null,0,0,0,0,null,null,null,null,0,0,0,0,0,0,0,0]
[null,"ALTAS ADMINISTRATIVAS",null,0,0,0,null,null,null,null,null,null,null,null,null,null,null,null,null,null,null,null,null,null,null,null,null,null,null,null,null,null,null,null,null,null,null,null,null,null,null,null,null,null,null,null,null,null,null,"",null,null,null,null,null,null,null,null,null,null,null,null,null,null,null,null,null,null,null,null,null,null,null,null,null,null,null,null,"","","","",null,"",null,"","","","","","","","","",null,null,null,null,null,null,null,null,null,null,0,0,0,0,null,null,null,null,0,0,0,0,0,0,0,0]
["ODONTOPEDIATRÍA","CONSULTA NUEVA ",null,{"$f":"SUM(E243+F243)","v":0},0,0,null,null,null,null,null,null,null,null,null,null,null,null,null,null,null,null,null,null,null,null,null,null,null,null,null,null,null,null,null,null,null,null,null,null,null,null,null,null,null,null,null,null,null,"",null,null,null,null,null,null,null,null,null,null,null,null,null,null,null,null,null,null,null,null,null,null,null,null,null,null,null,null,"","","","",null,"",null,"","","","","","","","","",null,null,null,null,null,null,null,null,null,null,0,0,null,null,null,{"$f":"IF(AO243>$D243,1,0)","v":0},null,{"$f":"IF(AP243>$D243,1,0)","v":0},0,0,0,0,0,0,0,0]
[null,"CONTROL ",null,0,0,0,null,null,null,null,null,null,null,null,null,null,null,null,null,null,null,null,null,null,null,null,null,null,null,null,null,null,null,null,null,null,null,null,null,null,null,null,null,null,null,null,null,null,null,"",null,null,null,null,null,null,null,null,null,null,null,null,null,null,null,null,null,null,null,null,null,null,null,null,null,null,null,null,"","","","",null,"",null,"","","","","","","","","",null,null,null,null,null,null,null,null,null,null,0,0,null,null,null,null,null,null,0,0,0,0,0,0,0,0]
[null,"INGRESOS A TRATAMIENTO",null,0,0,0,null,null,null,null,null,null,null,null,null,null,null,null,null,null,null,null,null,null,null,null,null,null,null,null,null,null,null,null,null,null,null,null,null,null,null,null,null,null,null,null,null,null,null,"",null,null,null,null,null,null,null,null,null,null,null,null,null,null,null,null,null,null,null,null,null,null,null,null,null,null,null,null,"","","","",null,"",null,"","","","","","","","","",null,null,null,null,null,null,null,null,null,null,0,0,null,null,null,null,null,null,0,0,0,0,0,0,0,0]
[null,"ALTAS DE TRATAMIENTO",null,0,0,0,null,null,null,null,null,null,null,null,null,null,null,null,null,null,null,null,null,null,null,null,null,null,null,null,null,null,null,null,null,null,null,null,null,null,null,null,null,null,null,null,null,null,null,"",null,null,null,null,null,null,null,null,null,null,null,null,null,null,null,null,null,null,null,null,null,null,null,null,null,null,null,null,"","","","",null,"",null,"","","","","","","","","",null,null,null,null,null,null,null,null,null,null,0,0,null,null,null,null,null,null,0,0,0,0,0,0,0,0]
[null,"CONTROL DE ESPECIALIDAD POST ALTA",null,0,0,0,null,null,null,null,null,null,null,null,null,null,null,null,null,null,null,null,null,null,null,null,null,null,null,null,null,null,null,null,null,null,null,null,null,null,null,null,null,null,null,null,null,null,null,"",null,null,null,null,null,null,null,null,null,null,null,null,null,null,null,null,null,null,null,null,null,null,null,null,null,null,null,null,"","","","",null,"",null,"","","","","","","","","",null,null,null,null,null,null,null,null,null,null,0,0,null,null,null,null,null,null,0,0,0,0,0,0,0,0]
[null,"ALTAS ADMINISTRATIVAS",null,0,0,0,null,null,null,null,null,null,null,null,null,null,null,null,null,null,null,null,null,null,null,null,null,null,null,null,null,null,null,null,null,null,null,null,null,null,null,null,null,null,null,null,null,null,null,"",null,null,null,null,null,null,null,null,null,null,null,null,null,null,null,null,null,null,null,null,null,null,null,null,null,null,null,null,"","","","",null,"",null,"","","","","","","","","",null,null,null,null,null,null,null,null,null,null,0,0,null,null,null,null,null,null,0,0,0,0,0,0,0,0]
["ORTODONCIA Y ORTOPEDIA DENTO MAXILOFACIAL: APARATOLOGÍA FIJA","CONSULTA NUEVA ",null,0,0,0,null,null,null,null,null,null,null,null,null,null,null,null,null,null,null,null,null,null,null,null,null,null,null,null,null,null,null,null,null,null,null,null,null,null,null,null,null,null,null,null,null,null,null,"",null,null,null,null,null,null,null,null,null,null,null,null,null,null,null,null,null,null,null,null,null,null,null,null,null,null,null,null,"","","","",null,"",null,"","","","","","","","","",null,null,null,null,null,null,null,null,null,null,null,null,null,null,null,{"$f":"IF(AO249>$D249,1,0)","v":0},null,{"$f":"IF(AP249>$D249,1,0)","v":0},0,0,0,0,0,0,0,0]
[null,"CONTROL ",null,0,0,0,null,null,null,null,null,null,null,null,null,null,null,null,null,null,null,null,null,null,null,null,null,null,null,null,null,null,null,null,null,null,null,null,null,null,null,null,null,null,null,null,null,null,null,"",null,null,null,null,null,null,null,null,null,null,null,null,null,null,null,null,null,null,null,null,null,null,null,null,null,null,null,null,"","","","",null,"",null,"","","","","","","","","",null,null,null,null,null,null,null,null,null,null,null,null,null,null,null,null,null,null,0,0,0,0,0,0,0,0]
[null,"INGRESOS A TRATAMIENTO",null,0,0,0,null,null,null,null,null,null,null,null,null,null,null,null,null,null,null,null,null,null,null,null,null,null,null,null,null,null,null,null,null,null,null,null,null,null,null,null,null,null,null,null,null,null,null,"",null,null,null,null,null,null,null,null,null,null,null,null,null,null,null,null,null,null,null,null,null,null,null,null,null,null,null,null,"","","","",null,"",null,"","","","","","","","","",null,null,null,null,null,null,null,null,null,null,null,null,null,null,null,null,null,null,0,0,0,0,0,0,0,0]
[null,"ALTAS DE TRATAMIENTO",null,0,0,0,null,null,null,null,null,null,null,null,null,null,null,null,null,null,null,null,null,null,null,null,null,null,null,null,null,null,null,null,null,null,null,null,null,null,null,null,null,null,null,null,null,null,null,"",null,null,null,null,null,null,null,null,null,null,null,null,null,null,null,null,null,null,null,null,null,null,null,null,null,null,null,null,"","","","",null,"",null,"","","","","","","","","",null,null,null,null,null,null,null,null,null,null,null,null,null,null,null,null,null,null,0,0,0,0,0,0,0,0]
[null,"CONTROL DE ESPECIALIDAD POST ALTA",null,0,0,0,null,null,null,null,null,null,null,null,null,null,null,null,null,null,null,null,null,null,null,null,null,null,null,null,null,null,null,null,null,null,null,null,null,null,null,null,null,null,null,null,null,null,null,"",null,null,null,null,null,null,null,null,null,null,null,null,null,null,null,null,null,null,null,null,null,null,null,null,null,null,null,null,"","","","",null,"",null,"","","","","","","","","",null,null,null,null,null,null,null,null,null,null,null,null,null,null,null,null,null,null,0,0,0,0,0,0,0,0]
[null,"ALTAS ADMINISTRATIVAS",null,0,0,0,null,null,null,null,null,null,null,null,null,null,null,null,null,null,null,null,null,null,null,null,null,null,null,null,null,null,null,null,null,null,null,null,null,null,null,null,null,null,null,null,null,null,null,"",null,null,null,null,null,null,null,null,null,null,null,null,null,null,null,null,null,null,null,null,null,null,null,null,null,null,null,null,"","","","",null,"",null,"","","","","","","","","",null,null,null,null,null,null,null,null,null,null,null,null,null,null,null,null,null,null,0,0,0,0,0,0,0,0]
["ORTODONCIA Y ORTOPEDIA DENTO MAXILOFACIAL: APARATOLOGÍA REMOVIBLE","CONSULTA NUEVA ",null,0,0,0,null,null,null,null,null,null,null,null,null,null,null,null,null,null,null,null,null,null,null,null,null,null,null,null,null,null,null,null,null,null,null,null,null,null,null,null,null,null,null,null,null,null,null,"",null,null,null,null,null,null,null,null,null,null,null,null,null,null,null,null,null,null,null,null,null,null,null,null,null,null,null,null,"","","","",null,"",null,"","","","","","","","","",null,null,null,null,null,null,null,null,null,null,null,null,null,null,null,{"$f":"IF(AO255>$D255,1,0)","v":0},null,{"$f":"IF(AP255>$D255,1,0)","v":0},0,0,0,0,0,0,0,0]
[null,"CONTROL ",null,0,0,0,null,null,null,null,null,null,null,null,null,null,null,null,null,null,null,null,null,null,null,null,null,null,null,null,null,null,null,null,null,null,null,null,null,null,null,null,null,null,null,null,null,null,null,"",null,null,null,null,null,null,null,null,null,null,null,null,null,null,null,null,null,null,null,null,null,null,null,null,null,null,null,null,"","","","",null,"",null,"","","","","","","","","",null,null,null,null,null,null,null,null,null,null,null,null,null,null,null,null,null,null,0,0,0,0,0,0,0,0]
[null,"INGRESOS A TRATAMIENTO",null,0,0,0,null,null,null,null,null,null,null,null,null,null,null,null,null,null,null,null,null,null,null,null,null,null,null,null,null,null,null,null,null,null,null,null,null,null,null,null,null,null,null,null,null,null,null,"",null,null,null,null,null,null,null,null,null,null,null,null,null,null,null,null,null,null,null,null,null,null,null,null,null,null,null,null,"","","","",null,"",null,"","","","","","","","","",null,null,null,null,null,null,null,null,null,null,null,null,null,null,null,null,null,null,0,0,0,0,0,0,0,0]
[null,"ALTAS DE TRATAMIENTO",null,0,0,0,null,null,null,null,null,null,null,null,null,null,null,null,null,null,null,null,null,null,null,null,null,null,null,null,null,null,null,null,null,null,null,null,null,null,null,null,null,null,null,null,null,null,null,"",null,null,null,null,null,null,null,null,null,null,null,null,null,null,null,null,null,null,null,null,null,null,null,null,null,null,null,null,"","","","",null,"",null,"","","","","","","","","",null,null,null,null,null,null,null,null,null,null,null,null,null,null,null,null,null,null,0,0,0,0,0,0,0,0]
[null,"CONTROL DE ESPECIALIDAD POST ALTA",null,0,0,0,null,null,null,null,null,null,null,null,null,null,null,null,null,null,null,null,null,null,null,null,null,null,null,null,null,null,null,null,null,null,null,null,null,null,null,null,null,null,null,null,null,null,null,"",null,null,null,null,null,null,null,null,null,null,null,null,null,null,null,null,null,null,null,null,null,null,null,null,null,null,null,null,"","","","",null,"",null,"","","","","","","","","",null,null,null,null,null,null,null,null,null,null,null,null,null,null,null,null,null,null,0,0,0,0,0,0,0,0]
[null,"ALTAS ADMINISTRATIVAS",null,0,0,0,null,null,null,null,null,null,null,null,null,null,null,null,null,null,null,null,null,null,null,null,null,null,null,null,null,null,null,null,null,null,null,null,null,null,null,null,null,null,null,null,null,null,null,"",null,null,null,null,null,null,null,null,null,null,null,null,null,null,null,null,null,null,null,null,null,null,null,null,null,null,null,null,"","","","",null,"",null,"","","","","","","","","",null,null,null,null,null,null,null,null,null,null,null,null,null,null,null,null,null,null,0,0,0,0,0,0,0,0]
["PERIODONCIA","CONSULTA NUEVA ",null,0,0,0,null,null,null,null,null,null,null,null,null,null,null,null,null,null,null,null,null,null,null,null,null,null,null,null,null,null,null,null,null,null,null,null,null,null,null,null,null,null,null,null,null,null,null,"",null,null,null,null,null,null,null,null,null,null,null,null,null,null,null,null,null,null,null,null,null,null,null,null,null,null,null,null,"","","","",null,"",null,"","","","","","","","","",null,null,null,null,null,null,null,null,null,null,0,0,0,0,null,{"$f":"IF(AO261>$D261,1,0)","v":0},null,{"$f":"IF(AP261>$D261,1,0)","v":0},0,0,0,0,0,0,0,0]
[null,"CONTROL ",null,0,0,0,null,null,null,null,null,null,null,null,null,null,null,null,null,null,null,null,null,null,null,null,null,null,null,null,null,null,null,null,null,null,null,null,null,null,null,null,null,null,null,null,null,null,null,"",null,null,null,null,null,null,null,null,null,null,null,null,null,null,null,null,null,null,null,null,null,null,null,null,null,null,null,null,"","","","",null,"",null,"","","","","","","","","",null,null,null,null,null,null,null,null,null,null,0,0,0,0,null,null,null,null,0,0,0,0,0,0,0,0]
[null,"INGRESOS A TRATAMIENTO",null,0,0,0,null,null,null,null,null,null,null,null,null,null,null,null,null,null,null,null,null,null,null,null,null,null,null,null,null,null,null,null,null,null,null,null,null,null,null,null,null,null,null,null,null,null,null,"",null,null,null,null,null,null,null,null,null,null,null,null,null,null,null,null,null,null,null,null,null,null,null,null,null,null,null,null,"","","","",null,"",null,"","","","","","","","","",null,null,null,null,null,null,null,null,null,null,0,0,0,0,null,null,null,null,0,0,0,0,0,0,0,0]
[null,"ALTAS DE TRATAMIENTO",null,0,0,0,null,null,null,null,null,null,null,null,null,null,null,null,null,null,null,null,null,null,null,null,null,null,null,null,null,null,null,null,null,null,null,null,null,null,null,null,null,null,null,null,null,null,null,"",null,null,null,null,null,null,null,null,null,null,null,null,null,null,null,null,null,null,null,null,null,null,null,null,null,null,null,null,"","","","",null,"",null,"","","","","","","","","",null,null,null,null,null,null,null,null,null,null,0,0,0,0,null,null,null,null,0,0,0,0,0,0,0,0]
[null,"CONTROL DE ESPECIALIDAD POST ALTA",null,0,0,0,null,null,null,null,null,null,null,null,null,null,null,null,null,null,null,null,null,null,null,null,null,null,null,null,null,null,null,null,null,null,null,null,null,null,null,null,null,null,null,null,null,null,null,"",null,null,null,null,null,null,null,null,null,null,null,null,null,null,null,null,null,null,null,null,null,null,null,null,null,null,null,null,"","","","",null,"",null,"","","","","","","","","",null,null,null,null,null,null,null,null,null,null,0,0,0,0,null,null,null,null,0,0,0,0,0,0,0,0]
[null,"ALTAS ADMINISTRATIVAS",null,0,0,0,null,null,null,null,null,null,null,null,null,null,null,null,null,null,null,null,null,null,null,null,null,null,null,null,null,null,null,null,null,null,null,null,null,null,null,null,null,null,null,null,null,null,null,"",null,null,null,null,null,null,null,null,null,null,null,null,null,null,null,null,null,null,null,null,null,null,null,null,null,null,null,null,"","","","",null,"",null,"","","","","","","","","",null,null,null,null,null,null,null,null,null,null,0,0,0,0,null,null,null,null,0,0,0,0,0,0,0,0]
["REHABILITACIÓN: PRÓTESIS FIJA","CONSULTA NUEVA ",null,0,0,0,null,null,null,null,null,null,null,null,null,null,null,null,null,null,null,null,null,null,null,null,null,null,null,null,null,null,null,null,null,null,null,null,null,null,null,null,null,null,null,null,null,null,null,"",null,null,null,null,null,null,null,null,null,null,null,null,null,null,null,null,null,null,null,null,null,null,null,null,null,null,null,null,"","","","",null,"",null,"","","","","","","","","",null,null,null,null,null,null,null,null,null,null,0,0,0,0,null,{"$f":"IF(AO267>$D267,1,0)","v":0},null,{"$f":"IF(AP267>$D267,1,0)","v":0},0,0,0,0,0,0,0,0]
[null,"CONTROL ",null,{"$f":"SUM(E268+F268)","v":0},0,0,null,null,null,null,null,null,null,null,null,null,null,null,null,null,null,null,null,null,null,null,null,null,null,null,null,null,null,null,null,null,null,null,null,null,null,null,null,null,null,null,null,null,null,"",null,null,null,null,null,null,null,null,null,null,null,null,null,null,null,null,null,null,null,null,null,null,null,null,null,null,null,null,"","","","",null,"",null,"","","","","","","","","",null,null,null,null,null,null,null,null,null,null,0,0,0,0,null,null,null,null,0,0,0,0,0,0,0,0]
[null,"INGRESOS A TRATAMIENTO",null,{"$f":"SUM(E269+F269)","v":0},0,0,null,null,null,null,null,null,null,null,null,null,null,null,null,null,null,null,null,null,null,null,null,null,null,null,null,null,null,null,null,null,null,null,null,null,null,null,null,null,null,null,null,null,null,"",null,null,null,null,null,null,null,null,null,null,null,null,null,null,null,null,null,null,null,null,null,null,null,null,null,null,null,null,"","","","",null,"",null,"","","","","","","","","",null,null,null,null,null,null,null,null,null,null,0,0,0,0,null,null,null,null,0,0,0,0,0,0,0,0]
[null,"ALTAS DE TRATAMIENTO",null,0,0,0,null,null,null,null,null,null,null,null,null,null,null,null,null,null,null,null,null,null,null,null,null,null,null,null,null,null,null,null,null,null,null,null,null,null,null,null,null,null,null,null,null,null,null,"",null,null,null,null,null,null,null,null,null,null,null,null,null,null,null,null,null,null,null,null,null,null,null,null,null,null,null,null,"","","","",null,"",null,"","","","","","","","","",null,null,null,null,null,null,null,null,null,null,0,0,0,0,null,null,null,null,0,0,0,0,0,0,0,0]
[null,"CONTROL DE ESPECIALIDAD POST ALTA",null,0,0,0,null,null,null,null,null,null,null,null,null,null,null,null,null,null,null,null,null,null,null,null,null,null,null,null,null,null,null,null,null,null,null,null,null,null,null,null,null,null,null,null,null,null,null,"",null,null,null,null,null,null,null,null,null,null,null,null,null,null,null,null,null,null,null,null,null,null,null,null,null,null,null,null,"","","","",null,"",null,"","","","","","","","","",null,null,null,null,null,null,null,null,null,null,0,0,0,0,null,null,null,null,0,0,0,0,0,0,0,0]
[null,"ALTAS ADMINISTRATIVAS",null,0,0,0,null,null,null,null,null,null,null,null,null,null,null,null,null,null,null,null,null,null,null,null,null,null,null,null,null,null,null,null,null,null,null,null,null,null,null,null,null,null,null,null,null,null,null,"",null,null,null,null,null,null,null,null,null,null,null,null,null,null,null,null,null,null,null,null,null,null,null,null,null,null,null,null,"","","","",null,"",null,"","","","","","","","","",null,null,null,null,null,null,null,null,null,null,0,0,0,0,null,null,null,null,0,0,0,0,0,0,0,0]
["REHABILITACIÓN: PRÓTESIS REMOVIBLE","CONSULTA NUEVA ",null,0,0,0,null,null,null,null,null,null,null,null,null,null,null,null,null,null,null,null,null,null,null,null,null,null,null,null,null,null,null,null,null,null,null,null,null,null,null,null,null,null,null,null,null,null,null,"",null,null,null,null,null,null,null,null,null,null,null,null,null,null,null,null,null,null,null,null,null,null,null,null,null,null,null,null,"","","","",null,"",null,"","","","","","","","","",null,null,null,null,null,null,null,null,null,null,0,0,0,0,null,{"$f":"IF(AO273>$D273,1,0)","v":0},null,{"$f":"IF(AP273>$D273,1,0)","v":0},0,0,0,0,0,0,0,0]
[null,"CONTROL ",null,0,0,0,null,null,null,null,null,null,null,null,null,null,null,null,null,null,null,null,null,null,null,null,null,null,null,null,null,null,null,null,null,null,null,null,null,null,null,null,null,null,null,null,null,null,null,"",null,null,null,null,null,null,null,null,null,null,null,null,null,null,null,null,null,null,null,null,null,null,null,null,null,null,null,null,"","","","",null,"",null,"","","","","","","","","",null,null,null,null,null,null,null,null,null,null,0,0,0,0,null,null,null,null,0,0,0,0,0,0,0,0]
[null,"INGRESOS A TRATAMIENTO",null,0,0,0,null,null,null,null,null,null,null,null,null,null,null,null,null,null,null,null,null,null,null,null,null,null,null,null,null,null,null,null,null,null,null,null,null,null,null,null,null,null,null,null,null,null,null,"",null,null,null,null,null,null,null,null,null,null,null,null,null,null,null,null,null,null,null,null,null,null,null,null,null,null,null,null,"","","","",null,"",null,"","","","","","","","","",null,null,null,null,null,null,null,null,null,null,0,0,0,0,null,null,null,null,0,0,0,0,0,0,0,0]
[null,"ALTAS DE TRATAMIENTO",null,0,0,0,null,null,null,null,null,null,null,null,null,null,null,null,null,null,null,null,null,null,null,null,null,null,null,null,null,null,null,null,null,null,null,null,null,null,null,null,null,null,null,null,null,null,null,"",null,null,null,null,null,null,null,null,null,null,null,null,null,null,null,null,null,null,null,null,null,null,null,null,null,null,null,null,"","","","",null,"",null,"","","","","","","","","",null,null,null,null,null,null,null,null,null,null,0,0,0,0,null,null,null,null,0,0,0,0,0,0,0,0]
[null,"CONTROL DE ESPECIALIDAD POST ALTA",null,0,0,0,null,null,null,null,null,null,null,null,null,null,null,null,null,null,null,null,null,null,null,null,null,null,null,null,null,null,null,null,null,null,null,null,null,null,null,null,null,null,null,null,null,null,null,"",null,null,null,null,null,null,null,null,null,null,null,null,null,null,null,null,null,null,null,null,null,null,null,null,null,null,null,null,"","","","",null,"",null,"","","","","","","","","",null,null,null,null,null,null,null,null,null,null,0,0,0,0,null,null,null,null,0,0,0,0,0,0,0,0]
[null,"ALTAS ADMINISTRATIVAS",null,0,0,0,null,null,null,null,null,null,null,null,null,null,null,null,null,null,null,null,null,null,null,null,null,null,null,null,null,null,null,null,null,null,null,null,null,null,null,null,null,null,null,null,null,null,null,"",null,null,null,null,null,null,null,null,null,null,null,null,null,null,null,null,null,null,null,null,null,null,null,null,null,null,null,null,"","","","",null,"",null,"","","","","","","","","",null,null,null,null,null,null,null,null,null,null,0,0,0,0,null,null,null,null,0,0,0,0,0,0,0,0]
["REHABILITACIÓN: PRÓTESIS IMPLANTOASISTIDA","CONSULTA NUEVA ",null,0,0,0,null,null,null,null,null,null,null,null,null,null,null,null,null,null,null,null,null,null,null,null,null,null,null,null,null,null,null,null,null,null,null,null,null,null,null,null,null,null,null,null,null,null,null,"",null,null,null,null,null,null,null,null,null,null,null,null,null,null,null,null,null,null,null,null,null,null,null,null,null,null,null,null,"","","","",null,"",null,"","","","","","","","","",null,null,null,null,null,null,null,null,null,null,0,0,0,0,null,{"$f":"IF(AO279>$D279,1,0)","v":0},null,{"$f":"IF(AP279>$D279,1,0)","v":0},0,0,0,0,0,0,0,0]
[null,"CONTROL ",null,0,0,0,null,null,null,null,null,null,null,null,null,null,null,null,null,null,null,null,null,null,null,null,null,null,null,null,null,null,null,null,null,null,null,null,null,null,null,null,null,null,null,null,null,null,null,"",null,null,null,null,null,null,null,null,null,null,null,null,null,null,null,null,null,null,null,null,null,null,null,null,null,null,null,null,"","","","",null,"",null,"","","","","","","","","",null,null,null,null,null,null,null,null,null,null,0,0,0,0,null,null,null,null,0,0,0,0,0,0,0,0]
[null,"INGRESOS A TRATAMIENTO",null,0,0,0,null,null,null,null,null,null,null,null,null,null,null,null,null,null,null,null,null,null,null,null,null,null,null,null,null,null,null,null,null,null,null,null,null,null,null,null,null,null,null,null,null,null,null,"",null,null,null,null,null,null,null,null,null,null,null,null,null,null,null,null,null,null,null,null,null,null,null,null,null,null,null,null,"","","","",null,"",null,"","","","","","","","","",null,null,null,null,null,null,null,null,null,null,0,0,0,0,null,null,null,null,0,0,0,0,0,0,0,0]
[null,"ALTAS DE TRATAMIENTO",null,0,0,0,null,null,null,null,null,null,null,null,null,null,null,null,null,null,null,null,null,null,null,null,null,null,null,null,null,null,null,null,null,null,null,null,null,null,null,null,null,null,null,null,null,null,null,"",null,null,null,null,null,null,null,null,null,null,null,null,null,null,null,null,null,null,null,null,null,null,null,null,null,null,null,null,"","","","",null,"",null,"","","","","","","","","",null,null,null,null,null,null,null,null,null,null,0,0,0,0,null,null,null,null,0,0,0,0,0,0,0,0]
[null,"CONTROL DE ESPECIALIDAD POST ALTA",null,0,0,0,null,null,null,null,null,null,null,null,null,null,null,null,null,null,null,null,null,null,null,null,null,null,null,null,null,null,null,null,null,null,null,null,null,null,null,null,null,null,null,null,null,null,null,"",null,null,null,null,null,null,null,null,null,null,null,null,null,null,null,null,null,null,null,null,null,null,null,null,null,null,null,null,"","","","",null,"",null,"","","","","","","","","",null,null,null,null,null,null,null,null,null,null,0,0,0,0,null,null,null,null,0,0,0,0,0,0,0,0]
[null,"ALTAS ADMINISTRATIVAS",null,0,0,0,null,null,null,null,null,null,null,null,null,null,null,null,null,null,null,null,null,null,null,null,null,null,null,null,null,null,null,null,null,null,null,null,null,null,null,null,null,null,null,null,null,null,null,"",null,null,null,null,null,null,null,null,null,null,null,null,null,null,null,null,null,null,null,null,null,null,null,null,null,null,null,null,"","","","",null,"",null,"","","","","","","","","",null,null,null,null,null,null,null,null,null,null,0,0,0,0,null,null,null,null,0,0,0,0,0,0,0,0]
["IMPLANTOLOGÍA BUCO MAXILOFACIAL","CONSULTA NUEVA ",null,0,0,0,null,null,null,null,null,null,null,null,null,null,null,null,null,null,null,null,null,null,null,null,null,null,null,null,null,null,null,null,null,null,null,null,null,null,null,null,null,null,null,null,null,null,null,"",null,null,null,null,null,null,null,null,null,null,null,null,null,null,null,null,null,null,null,null,null,null,null,null,null,null,null,null,"","","","",null,"",null,"","","","","","","","","",null,null,null,null,null,null,null,null,null,null,0,0,0,0,null,{"$f":"IF(AO285>$D285,1,0)","v":0},null,{"$f":"IF(AP285>$D285,1,0)","v":0},0,0,0,0,0,0,0,0]
[null,"CONTROL ",null,0,0,0,null,null,null,null,null,null,null,null,null,null,null,null,null,null,null,null,null,null,null,null,null,null,null,null,null,null,null,null,null,null,null,null,null,null,null,null,null,null,null,null,null,null,null,"",null,null,null,null,null,null,null,null,null,null,null,null,null,null,null,null,null,null,null,null,null,null,null,null,null,null,null,null,"","","","",null,"",null,"","","","","","","","","",null,null,null,null,null,null,null,null,null,null,0,0,0,0,null,null,null,null,0,0,0,0,0,0,0,0]
[null,"INGRESOS A TRATAMIENTO",null,0,0,0,null,null,null,null,null,null,null,null,null,null,null,null,null,null,null,null,null,null,null,null,null,null,null,null,null,null,null,null,null,null,null,null,null,null,null,null,null,null,null,null,null,null,null,{"$f":"$CA287&$CB287&$CC287&$CD287&$CE287&$CF287&$CG287&$CH287&$CI287&$CJ287&$CK287&$CL287&$CM287&$CN287&$CO287&$CP287&$CQ287&$CR287","v":""},null,null,null,null,null,null,null,null,null,null,null,null,null,null,null,null,null,null,null,null,null,null,null,null,null,null,null,null,"","","","",null,"",null,"","","","","","","","","",null,null,null,null,null,null,null,null,null,null,0,0,0,0,null,null,null,null,0,0,0,0,0,0,0,0]
[null,"ALTAS DE TRATAMIENTO",null,0,{"$f":"SUM(G288,I288,K288,M288,O288,Q288,S288,U288,W288,Y288,AA288,AC288,AE288,AG288,AI288,AK288)","v":0},{"$f":"SUM(H288,J288,L288,N288,P288,R288,T288,V288,X288,Z288,AB288,AD288,AF288,AH288,AJ288,AL288)","v":0},null,null,null,null,null,null,null,null,null,null,null,null,null,null,null,null,null,null,null,null,null,null,null,null,null,null,null,null,null,null,null,null,null,null,null,null,null,null,null,null,null,null,null,"",null,null,null,null,null,null,null,null,null,null,null,null,null,null,null,null,null,null,null,null,null,null,null,null,null,null,null,null,{"$f":"IF(DA288=1,\"* No olvide digitar el campo \"&CA$220&\" (Digite CEROS si no tiene). \",\"\")","v":""},{"$f":"IF(DB288=1,\"* El campo \"&CA$220&\" NO PUEDE ser mayor al Total de mujeres. \",\"\")","v":""},{"$f":"IF(DC288=1,\"* No olvide digitar el campo \"&CC$220&\" (Digite CEROS si no tiene). \",\"\")","v":""},{"$f":"IF(DD288=1,\"* El campo \"&CC$220&\" NO PUEDE ser mayor al Total de Consultas entre 60-64 Años. \",\"\")","v":""},null,{"$f":"IF(DF288=1,\"* La consulta pertinente según Protocolo de Referencia NO DEBE ser mayor al Total registrado. \",\"\")","v":""},null,{"$f":"IF(DH288=1,\"* La consulta pertinente según condición clínica NO DEBE ser mayor al Total registrado. \",\"\")","v":""},{"$f":"IF(DI288=1,\"* No olvide digitar el campo \"&CI$220&\" (Digite CEROS si no tiene). \",\"\")","v":""},{"$f":"IF(DJ288=1,\"* El campo \"&CI$220&\" NO PUEDE ser mayor al Total. \",\"\")","v":""},{"$f":"IF(DK288=1,\"* No olvide digitar el campo \"&CK$220&\" (Digite CEROS si no tiene). \",\"\")","v":""},{"$f":"IF(DL288=1,\"* El campo \"&CK$220&\" NO PUEDE ser mayor al Total. \",\"\")","v":""},{"$f":"IF(DM288=1,\"* No olvide digitar el campo \"&CM$220&\" (Digite CEROS si no tiene). \",\"\")","v":""},{"$f":"IF(DN288=1,\"* El campo \"&CM$220&\" NO PUEDE ser mayor al Total. \",\"\")","v":""},{"$f":"IF(DO288=1,\"* No olvide digitar el campo \"&CO$220&\" (Digite CEROS si no tiene). \",\"\")","v":""},{"$f":"IF(DP288=1,\"* El campo \"&CO$220&\" NO PUEDE ser mayor al Total. \",\"\")","v":""},null,null,null,null,null,null,null,null,null,null,{"$f":"IF(AND(AM288=\"\",$D288<>0),1,0)","v":0},{"$f":"IF(AM288>($F288),1,0)","v":0},{"$f":"IF(AND(AN288=\"\",$D288<>0),1,0)","v":0},{"$f":"IF(AN288>($AC288+$AD288),1,0)","v":0},null,null,null,null,{"$f":"IF(AND(AT288=\"\",$D288<>0),1,0)","v":0},{"$f":"IF(AT288>$D288,1,0)","v":0},{"$f":"IF(AND(AU288=\"\",$D288<>0),1,0)","v":0},{"$f":"IF(AU288>$D288,1,0)","v":0},{"$f":"IF(AND(AV288=\"\",$D288<>0),1,0)","v":0},{"$f":"IF(AV288>$D288,1,0)","v":0},{"$f":"IF(AND(AW288=\"\",$D288<>0),1,0)","v":0},{"$f":"IF(AW288>$D288,1,0)","v":0}]
[null,"CONTROL DE ESPECIALIDAD POST ALTA",null,0,0,0,null,null,null,null,null,null,null,null,null,null,null,null,null,null,null,null,null,null,null,null,null,null,null,null,null,null,null,null,null,null,null,null,null,null,null,null,null,null,null,null,null,null,null,"",null,null,null,null,null,null,null,null,null,null,null,null,null,null,null,null,null,null,null,null,null,null,null,null,null,null,null,null,"","","","",null,"",null,"","","","","","","","","",null,null,null,null,null,null,null,null,null,null,0,0,0,0,null,null,null,null,0,0,0,0,0,0,0,0]
[null,"ALTAS ADMINISTRATIVAS",null,0,0,0,null,null,null,null,null,null,null,null,null,null,null,null,null,null,null,null,null,null,null,null,null,null,null,null,null,null,null,null,null,null,null,null,null,null,null,null,null,null,null,null,null,null,null,"",null,null,null,null,null,null,null,null,null,null,null,null,null,null,null,null,null,null,null,null,null,null,null,null,null,null,null,null,"","","","",null,"",null,"","","","","","","","","",null,null,null,null,null,null,null,null,null,null,0,0,0,0,null,null,null,null,0,0,0,0,0,0,0,0]
["PATOLOGÍA ORAL","CONSULTA NUEVA ",null,0,0,0,null,null,null,null,null,null,null,null,null,null,null,null,null,null,null,null,null,null,null,null,null,null,null,null,null,null,null,null,null,null,null,null,null,null,null,null,null,null,null,null,null,null,null,"",null,null,null,null,null,null,null,null,null,null,null,null,null,null,null,null,null,null,null,null,null,null,null,null,null,null,null,null,"","","","",null,"",null,"","","","","","","","","",null,null,null,null,null,null,null,null,null,null,0,0,0,0,null,{"$f":"IF(AO291>$D291,1,0)","v":0},null,{"$f":"IF(AP291>$D291,1,0)","v":0},0,0,0,0,0,0,0,0]
[null,"CONTROL ",null,0,0,0,null,null,null,null,null,null,null,null,null,null,null,null,null,null,null,null,null,null,null,null,null,null,null,null,null,null,null,null,null,null,null,null,null,null,null,null,null,null,null,null,null,null,null,"",null,null,null,null,null,null,null,null,null,null,null,null,null,null,null,null,null,null,null,null,null,null,null,null,null,null,null,null,"","","","",null,"",null,"","","","","","","","","",null,null,null,null,null,null,null,null,null,null,0,0,0,0,null,null,null,null,0,0,0,0,0,0,0,0]
[null,"INGRESOS A TRATAMIENTO",null,0,0,0,null,null,null,null,null,null,null,null,null,null,null,null,null,null,null,null,null,null,null,null,null,null,null,null,null,null,null,null,null,null,null,null,null,null,null,null,null,null,null,null,null,null,null,"",null,null,null,null,null,null,null,null,null,null,null,null,null,null,null,null,null,null,null,null,null,null,null,null,null,null,null,null,"","","","",null,"",null,"","","","","","","","","",null,null,null,null,null,null,null,null,null,null,0,0,0,0,null,null,null,null,0,0,0,0,0,0,0,0]
[null,"ALTAS DE TRATAMIENTO",null,0,0,0,null,null,null,null,null,null,null,null,null,null,null,null,null,null,null,null,null,null,null,null,null,null,null,null,null,null,null,null,null,null,null,null,null,null,null,null,null,null,null,null,null,null,null,"",null,null,null,null,null,null,null,null,null,null,null,null,null,null,null,null,null,null,null,null,null,null,null,null,null,null,null,null,"","","","",null,"",null,"","","","","","","","","",null,null,null,null,null,null,null,null,null,null,0,0,0,0,null,null,null,null,0,0,0,0,0,0,0,0]
[null,"CONTROL DE ESPECIALIDAD POST ALTA",null,0,0,0,null,null,null,null,null,null,null,null,null,null,null,null,null,null,null,null,null,null,null,null,null,null,null,null,null,null,null,null,null,null,null,null,null,null,null,null,null,null,null,null,null,null,null,"",null,null,null,null,null,null,null,null,null,null,null,null,null,null,null,null,null,null,null,null,null,null,null,null,null,null,null,null,"","","","",null,"",null,"","","","","","","","","",null,null,null,null,null,null,null,null,null,null,0,0,0,0,null,null,null,null,0,0,0,0,0,0,0,0]
[null,"ALTAS ADMINISTRATIVAS",null,0,0,0,null,null,null,null,null,null,null,null,null,null,null,null,null,null,null,null,null,null,null,null,null,null,null,null,null,null,null,null,null,null,null,null,null,null,null,null,null,null,null,null,null,null,null,"",null,null,null,null,null,null,null,null,null,null,null,null,null,null,null,null,null,null,null,null,null,null,null,null,null,null,null,null,"","","","",null,"",null,"","","","","","","","","",null,null,null,null,null,null,null,null,null,null,0,0,0,0,null,null,null,null,0,0,0,0,0,0,0,0]
["TRASTORNOS TEMPOROMANDIBULARES Y DOLOR OROFACIAL","CONSULTA NUEVA ",null,0,0,0,null,null,null,null,null,null,null,null,null,null,null,null,null,null,null,null,null,null,null,null,null,null,null,null,null,null,null,null,null,null,null,null,null,null,null,null,null,null,null,null,null,null,null,"",null,null,null,null,null,null,null,null,null,null,null,null,null,null,null,null,null,null,null,null,null,null,null,null,null,null,null,null,"","","","",null,"",null,"","","","","","","","","",null,null,null,null,null,null,null,null,null,null,0,0,0,0,null,{"$f":"IF(AO297>$D297,1,0)","v":0},null,{"$f":"IF(AP297>$D297,1,0)","v":0},0,0,0,0,0,0,0,0]
[null,"CONTROL ",null,0,0,0,null,null,null,null,null,null,null,null,null,null,null,null,null,null,null,null,null,null,null,null,null,null,null,null,null,null,null,null,null,null,null,null,null,null,null,null,null,null,null,null,null,null,null,"",null,null,null,null,null,null,null,null,null,null,null,null,null,null,null,null,null,null,null,null,null,null,null,null,null,null,null,null,"","","","",null,"",null,"","","","","","","","","",null,null,null,null,null,null,null,null,null,null,0,0,0,0,null,null,null,null,0,0,0,0,0,0,0,0]
[null,"INGRESOS A TRATAMIENTO",null,0,0,0,null,null,null,null,null,null,null,null,null,null,null,null,null,null,null,null,null,null,null,null,null,null,null,null,null,null,null,null,null,null,null,null,null,null,null,null,null,null,null,null,null,null,null,"",null,null,null,null,null,null,null,null,null,null,null,null,null,null,null,null,null,null,null,null,null,null,null,null,null,null,null,null,"","","","",null,"",null,"","","","","","","","","",null,null,null,null,null,null,null,null,null,null,0,0,0,0,null,null,null,null,0,0,0,0,0,0,0,0]
[null,"ALTAS DE TRATAMIENTO",null,0,0,0,null,null,null,null,null,null,null,null,null,null,null,null,null,null,null,null,null,null,null,null,null,null,null,null,null,null,null,null,null,null,null,null,null,null,null,null,null,null,null,null,null,null,null,"",null,null,null,null,null,null,null,null,null,null,null,null,null,null,null,null,null,null,null,null,null,null,null,null,null,null,null,null,"","","","",null,"",null,"","","","","","","","","",null,null,null,null,null,null,null,null,null,null,0,0,0,0,null,null,null,null,0,0,0,0,0,0,0,0]
[null,"CONTROL DE ESPECIALIDAD POST ALTA",null,0,0,0,null,null,null,null,null,null,null,null,null,null,null,null,null,null,null,null,null,null,null,null,null,null,null,null,null,null,null,null,null,null,null,null,null,null,null,null,null,null,null,null,null,null,null,"",null,null,null,null,null,null,null,null,null,null,null,null,null,null,null,null,null,null,null,null,null,null,null,null,null,null,null,null,"","","","",null,"",null,"","","","","","","","","",null,null,null,null,null,null,null,null,null,null,0,0,0,0,null,null,null,null,0,0,0,0,0,0,0,0]
[null,"ALTAS ADMINISTRATIVAS",null,0,0,0,null,null,null,null,null,null,null,null,null,null,null,null,null,null,null,null,null,null,null,null,null,null,null,null,null,null,null,null,null,null,null,null,null,null,null,null,null,null,null,null,null,null,null,"",null,null,null,null,null,null,null,null,null,null,null,null,null,null,null,null,null,null,null,null,null,null,null,null,null,null,null,null,"","","","",null,"",null,"","","","","","","","","",null,null,null,null,null,null,null,null,null,null,0,0,0,0,null,null,null,null,0,0,0,0,0,0,0,0]
["TOTAL","CONSULTA NUEVA ",null,0,0,0,{"$f":"SUM(G225,G231,G237,G243,G249,G255,G261,G285,G291,G297)","v":0},{"$f":"SUM(H225,H231,H237,H243,H249,H255,H261,H285,H291,H297)","v":0},0,0,0,0,0,0,0,0,0,0,0,0,0,0,0,{"$f":"SUM(X225,X231,X237,X243,X249,X255,X261,X285,X291,X297)","v":0},{"$f":"SUM(Y225,Y231,Y237,Y243,Y249,Y255,Y261,Y267,Y273,Y279,Y285,Y291,Y297)","v":0},{"$f":"SUM(Z225,Z231,Z237,Z243,Z249,Z255,Z261,Z267,Z273,Z279,Z285,Z291,Z297)","v":0},0,0,0,0,0,0,0,0,0,0,0,0,0,0,0,0,0,0,0,0,0,0,0]
[null,"CONTROL ",null,0,0,0,0,0,0,0,0,0,0,0,0,0,0,0,0,0,0,0,0,0,{"$f":"SUM(Y226,Y232,Y238,Y244,Y250,Y256,Y262,Y268,Y274,Y280,Y286,Y292,Y298)","v":0},0,0,0,0,0,0,0,0,0,0,0,0,0,0,0,null,null,{"$f":"SUM(AQ226,AQ232,AQ238,AQ244,AQ250,AQ256,AQ262,AQ268,AQ274,AQ280,AQ286,AQ292,AQ298)","v":0},0,0,0,0,0,0]
[null,"INGRESOS A TRATAMIENTO",null,0,0,0,0,0,0,0,0,0,0,0,0,0,0,0,0,0,0,0,0,0,0,0,0,0,0,0,0,0,0,0,0,0,0,0,0,0,null,null,null,{"$f":"SUM(AR227,AR233,AR239,AR245,AR251,AR257,AR263,AR269,AR275,AR281,AR287,AR293,AR299)","v":0},0,0,0,0,0]
[null,"ALTAS DE TRATAMIENTO",null,{"$f":"SUM(E306+F306)","v":0},0,0,0,0,0,0,0,0,0,0,0,0,0,0,0,0,0,0,0,0,0,0,0,0,0,0,0,0,0,0,0,0,0,0,0,0,null,null,null,{"$f":"SUM(AR228,AR234,AR240,AR246,AR252,AR258,AR264,AR270,AR276,AR282,AR288,AR294,AR300)","v":0},0,0,0,0,0]
[null,"CONTROL DE ESPECIALIDAD POST ALTA",null,0,0,0,0,0,0,0,0,0,0,0,0,0,0,0,0,0,0,0,0,0,0,0,0,0,0,0,0,0,0,0,0,0,0,0,0,0,null,null,null,{"$f":"SUM(AR229,AR235,AR241,AR247,AR253,AR259,AR265,AR271,AR277,AR283,AR289,AR295,AR301)","v":0},0,0,0,0,0]
[null,"ALTAS ADMINISTRATIVAS",null,{"$f":"SUM(E308+F308)","v":0},0,0,0,0,0,0,0,0,0,0,0,0,0,0,0,0,0,0,0,0,0,0,0,0,0,0,0,0,0,0,0,0,0,0,0,0,null,null,null,{"$f":"SUM(AR230,AR236,AR242,AR248,AR254,AR260,AR266,AR272,AR278,AR284,AR290,AR296,AR302)","v":0},0,0,0,0,0]
["SECCIÓN J: ACTIVIDADES EFECTUADAS POR TÉCNICO PARAMÉDICO DENTAL Y/O HIGIENISTAS DENTALES  "]
["TIPO DE ACTIVIDAD","TOTAL",null,null,"SEGÚN GRUPOS DE EDAD O DE RIESGO",null,null,null,null,null,null,null,null,null,null,null,null,null,null,null,null,null,null,null,null,null,null,null,null,null,null,null,null,null,null,null,null,null,null,null,"Embarazadas","60 años (incluidos en grupos de 20-64 años)"]
[null,null,null,null,"0-4 ",null,"5-9",null,"10-14 ",null,"15-19",null,"20-24",null,"25-29",null,"30-34",null,"35-39",null,"40-44",null,"45-49 ",null,"50-59",null,"60-64",null,"65-69",null,"70-74",null,"75-79",null,"80 y mas",null,"65-74 años",null,"75 y más años"]
[null,"Ambos Sexos","Hombres","Mujeres","Hombres","Mujeres","Hombres","Mujeres","Hombres","Mujeres","Hombres","Mujeres","Hombres","Mujeres","Hombres","Mujeres","Hombres","Mujeres","Hombres","Mujeres","Hombres","Mujeres","Hombres","Mujeres","Hombres","Mujeres","Hombres","Mujeres","Hombres","Mujeres","Hombres","Mujeres","Hombres","Mujeres","Hombres","Mujeres","Hombres","Mujeres","Hombres","Mujeres"]
["APLICACIÓN DE SELLANTES",{"$f":"SUM(C313:D313)","v":0},{"$f":"SUM(E313+G313+I313+K313+M313+O313+Q313+S313+U313+W313+Y313+AA313+AC313+AE313+AG313+AI313+AK313+AM313)","v":0},0,null,null,null,null,null,null,null,null,null,null,null,null,null,null,null,null,null,null,null,null,null,null,null,null,null,null,null,null,null,null,null,null,null,null,null,null,null,null,{"$f":"$CA313&$CB313&$CC313&$CD313&$CE313&$CF313&$CG313&$CH313&$CI313&$CJ313&$CK313&$CL313&$CM313&$CN313&$CO313&$CP313&$CQ313&$CR313","v":""},null,null,null,null,null,null,null,null,null,null,null,null,null,null,null,null,null,null,null,null,null,null,null,null,null,null,null,null,null,null,null,null,null,null,null,{"$f":"IF(DA313=1,\"* No olvide digitar el campo \"&CA$220&\" (Digite CEROS si no tiene). \",\"\")","v":""},{"$f":"IF(DB313=1,\"* El campo \"&CA$220&\" NO PUEDE ser mayor al Total de mujeres. \",\"\")","v":""},{"$f":"IF(DC313=1,\"* No olvide digitar el campo \"&CC$220&\" (Digite CEROS si no tiene). \",\"\")","v":""},{"$f":"IF(DD313=1,\"* El campo \"&CC$220&\" NO PUEDE ser mayor al Total de Consultas entre 60-64 Años. \",\"\")","v":""},null,null,null,null,null,null,null,null,null,null,null,null,null,null,null,null,null,null,null,null,null,null,{"$f":"IF(AND(AO313=\"\",$B313<>0),1,0)","v":0},{"$f":"IF(AO313>($D313),1,0)","v":0},{"$f":"IF(AND(AP313=\"\",$B313<>0),1,0)","v":0},{"$f":"IF(AP313>($AA313+$AB313),1,0)","v":0}]
["PULIDO CORONARIO Y DESTARTRAJE SUPRAGINGIVAL",{"$f":"SUM(C314:D314)","v":0},{"$f":"SUM(E314+G314+I314+K314+M314+O314+Q314+S314+U314+W314+Y314+AA314+AC314+AE314+AG314+AI314+AK314+AM314)","v":0},0,null,null,null,null,null,null,null,null,null,null,null,null,null,null,null,null,null,null,null,null,null,null,null,null,null,null,null,null,null,null,null,null,null,null,null,null,null,null,{"$f":"$CA314&$CB314&$CC314&$CD314&$CE314&$CF314&$CG314&$CH314&$CI314&$CJ314&$CK314&$CL314&$CM314&$CN314&$CO314&$CP314&$CQ314&$CR314","v":""},null,null,null,null,null,null,null,null,null,null,null,null,null,null,null,null,null,null,null,null,null,null,null,null,null,null,null,null,null,null,null,null,null,null,null,{"$f":"IF(DA314=1,\"* No olvide digitar el campo \"&CA$220&\" (Digite CEROS si no tiene). \",\"\")","v":""},{"$f":"IF(DB314=1,\"* El campo \"&CA$220&\" NO PUEDE ser mayor al Total de mujeres. \",\"\")","v":""},{"$f":"IF(DC314=1,\"* No olvide digitar el campo \"&CC$220&\" (Digite CEROS si no tiene). \",\"\")","v":""},{"$f":"IF(DD314=1,\"* El campo \"&CC$220&\" NO PUEDE ser mayor al Total de Consultas entre 60-64 Años. \",\"\")","v":""},null,null,null,null,null,null,null,null,null,null,null,null,null,null,null,null,null,null,null,null,null,null,{"$f":"IF(AND(AO314=\"\",$B314<>0),1,0)","v":0},{"$f":"IF(AO314>($D314),1,0)","v":0},{"$f":"IF(AND(AP314=\"\",$B314<>0),1,0)","v":0},{"$f":"IF(AP314>($AA314+$AB314),1,0)","v":0}]
["FLUORURACIÓN TÓPICA ",{"$f":"SUM(C315:D315)","v":0},0,0,null,null,null,null,null,null,null,null,null,null,null,null,null,null,null,null,null,null,null,null,null,null,null,null,null,null,null,null,null,null,null,null,null,null,null,null,null,null,{"$f":"$CA315&$CB315&$CC315&$CD315&$CE315&$CF315&$CG315&$CH315&$CI315&$CJ315&$CK315&$CL315&$CM315&$CN315&$CO315&$CP315&$CQ315&$CR315","v":""},null,null,null,null,null,null,null,null,null,null,null,null,null,null,null,null,null,null,null,null,null,null,null,null,null,null,null,null,null,null,null,null,null,null,null,{"$f":"IF(DA315=1,\"* No olvide digitar el campo \"&CA$220&\" (Digite CEROS si no tiene). \",\"\")","v":""},{"$f":"IF(DB315=1,\"* El campo \"&CA$220&\" NO PUEDE ser mayor al Total de mujeres. \",\"\")","v":""},{"$f":"IF(DC315=1,\"* No olvide digitar el campo \"&CC$220&\" (Digite CEROS si no tiene). \",\"\")","v":""},{"$f":"IF(DD315=1,\"* El campo \"&CC$220&\" NO PUEDE ser mayor al Total de Consultas entre 60-64 Años. \",\"\")","v":""},null,null,null,null,null,null,null,null,null,null,null,null,null,null,null,null,null,null,null,null,null,null,{"$f":"IF(AND(AO315=\"\",$B315<>0),1,0)","v":0},{"$f":"IF(AO315>($D315),1,0)","v":0},{"$f":"IF(AND(AP315=\"\",$B315<>0),1,0)","v":0},{"$f":"IF(AP315>($AA315+$AB315),1,0)","v":0}]
["EDUCACIÓN INDIVIDUAL CON INSTRUCCIÓN DE TÉCNICA DE CEPILLADO",{"$f":"SUM(C316:D316)","v":0},0,0,null,null,null,null,null,null,null,null,null,null,null,null,null,null,null,null,null,null,null,null,null,null,null,null,null,null,null,null,null,null,null,null,null,null,null,null,null,null,{"$f":"$CA316&$CB316&$CC316&$CD316&$CE316&$CF316&$CG316&$CH316&$CI316&$CJ316&$CK316&$CL316&$CM316&$CN316&$CO316&$CP316&$CQ316&$CR316","v":""},null,null,null,null,null,null,null,null,null,null,null,null,null,null,null,null,null,null,null,null,null,null,null,null,null,null,null,null,null,null,null,null,null,null,null,{"$f":"IF(DA316=1,\"* No olvide digitar el campo \"&CA$220&\" (Digite CEROS si no tiene). \",\"\")","v":""},{"$f":"IF(DB316=1,\"* El campo \"&CA$220&\" NO PUEDE ser mayor al Total de mujeres. \",\"\")","v":""},{"$f":"IF(DC316=1,\"* No olvide digitar el campo \"&CC$220&\" (Digite CEROS si no tiene). \",\"\")","v":""},{"$f":"IF(DD316=1,\"* El campo \"&CC$220&\" NO PUEDE ser mayor al Total de Consultas entre 60-64 Años. \",\"\")","v":""},null,null,null,null,null,null,null,null,null,null,null,null,null,null,null,null,null,null,null,null,null,null,{"$f":"IF(AND(AO316=\"\",$B316<>0),1,0)","v":0},{"$f":"IF(AO316>($D316),1,0)","v":0},{"$f":"IF(AND(AP316=\"\",$B316<>0),1,0)","v":0},{"$f":"IF(AP316>($AA316+$AB316),1,0)","v":0}]
["RADIOGRAFÍAS INTRAORALES (RETROALVEOLARES Y BITEWING)",{"$f":"SUM(C317:D317)","v":0},0,0,null,null,null,null,null,null,null,null,null,null,null,null,null,null,null,null,null,null,null,null,null,null,null,null,null,null,null,null,null,null,null,null,null,null,null,null,null,null,{"$f":"$CA317&$CB317&$CC317&$CD317&$CE317&$CF317&$CG317&$CH317&$CI317&$CJ317&$CK317&$CL317&$CM317&$CN317&$CO317&$CP317&$CQ317&$CR317","v":""},null,null,null,null,null,null,null,null,null,null,null,null,null,null,null,null,null,null,null,null,null,null,null,null,null,null,null,null,null,null,null,null,null,null,null,{"$f":"IF(DA317=1,\"* No olvide digitar el campo \"&CA$220&\" (Digite CEROS si no tiene). \",\"\")","v":""},{"$f":"IF(DB317=1,\"* El campo \"&CA$220&\" NO PUEDE ser mayor al Total de mujeres. \",\"\")","v":""},{"$f":"IF(DC317=1,\"* No olvide digitar el campo \"&CC$220&\" (Digite CEROS si no tiene). \",\"\")","v":""},{"$f":"IF(DD317=1,\"* El campo \"&CC$220&\" NO PUEDE ser mayor al Total de Consultas entre 60-64 Años. \",\"\")","v":""},null,null,null,null,null,null,null,null,null,null,null,null,null,null,null,null,null,null,null,null,null,null,{"$f":"IF(AND(AO317=\"\",$B317<>0),1,0)","v":0},{"$f":"IF(AO317>($D317),1,0)","v":0},{"$f":"IF(AND(AP317=\"\",$B317<>0),1,0)","v":0},{"$f":"IF(AP317>($AA317+$AB317),1,0)","v":0}]
["SECCIÓN K: CONSULTORÍAS DE ESPECIALIDADES ODONTOLÓGICAS. "]
["ESPECIALIDADES",null,"Nº CONSULTORÍAS","Nº DE CASOS REVISADOS POR EL EQUIPO","Nº DE CASOS ATENDIDOS"]
["ENDODONCIA"]
["IMAGENOLOGÍA ORAL Y MAXILOFACIAL "]
["ORTODONCIA"]
["ODONTOPEDIATRÍA"]
["PERIODONCIA"]
["REHABILITACIÓN ORAL"]
["CIRUGÍA Y TRAUMATOLOGÍA MAXILOFACIAL"]
["TRASTORNOS TEMPOROMANDIBULARES Y DOLOR OROFACIAL"]
["PATOLOGÍA ORAL"]
["IMPLANTOLOGÍA BUCO MAXILOFACIAL"]
[]
[]
[]
[]
[]
[]
[]
[]
[]
[]
[]
[]
[]
[]
[]
[]
[]
[]
[]
[]
[]
[]
[]
[]
[]
[]
[]
[]
[]
[]
[]
[]
[]
[]
[]
[{"$f":"SUM(B12:B15,B36,D64,D67:J81,C85:C86,B145,B159,D164:D200,B205:B208,B215:B218,D303:D308,B313:B317,C320:C329)","v":0},{"$f":"SUM(CH9:CN329)","v":0}]

{"sheet":"A11","index":10,"n_rows":308,"n_cols":130,"rows_kept":308,"cut":false,"hidden":false,"merged":[[267,18,268,18],[267,19,268,19],[286,28,288,28],[286,29,288,29],[292,36,294,36],[292,37,294,37],[292,0,294,0],[292,1,293,3],[292,4,292,35],[293,4,293,5],[293,6,293,7],[293,8,293,9],[293,10,293,11],[293,12,293,13],[293,14,293,15],[293,16,293,17],[293,18,293,19],[293,20,293,21],[293,22,293,23],[293,24,293,25],[293,26,293,27],[293,28,293,29],[293,30,293,31],[293,32,293,33],[293,34,293,35],[286,0,288,0],[286,1,287,3],[286,4,286,27],[287,4,287,5],[287,6,287,7],[287,8,287,9],[287,10,287,11],[287,12,287,13],[287,14,287,15],[287,16,287,17],[287,18,287,19],[287,20,287,21],[287,22,287,23],[287,24,287,25],[287,26,287,27],[276,30,276,31],[276,32,276,33],[276,34,276,35],[277,1,278,1],[277,2,278,2],[277,3,278,3],[277,4,277,5],[277,6,277,7],[277,8,277,9],[277,10,277,11],[277,12,277,13],[277,14,277,15],[277,16,277,17],[277,18,277,19],[277,20,277,21],[277,22,277,23],[277,24,277,25],[277,26,277,27],[277,28,277,29],[277,30,277,31],[277,32,277,33],[277,34,277,35],[259,0,260,0],[259,1,260,1],[259,2,259,11],[259,12,260,12],[259,13,260,13],[267,0,268,0],[267,1,268,1],[267,2,267,17],[275,0,278,0],[275,1,276,3],[275,4,275,35],[276,4,276,5],[276,6,276,7],[276,8,276,9],[276,10,276,11],[276,12,276,13],[276,14,276,15],[276,16,276,17],[276,18,276,19],[276,20,276,21],[276,22,276,23],[276,24,276,25],[276,26,276,27],[276,28,276,29],[235,0,253,0],[254,0,257,0],[233,30,233,31],[233,32,233,33],[233,34,233,35],[233,36,233,37],[233,38,233,39],[233,40,233,41],[233,18,233,19],[233,20,233,21],[233,22,233,23],[233,24,233,25],[233,26,233,27],[233,28,233,29],[232,0,234,1],[232,2,233,3],[232,44,233,45],[232,46,233,47],[232,48,233,49],[233,4,233,5],[233,6,233,7],[233,8,233,9],[233,10,233,11],[233,12,233,13],[233,14,233,15],[233,16,233,17],[233,42,233,43],[232,4,232,35],[232,36,232,39],[232,40,232,43],[221,41,223,41],[221,42,223,42],[222,3,222,4],[222,5,222,6],[222,7,222,8],[222,9,222,10],[222,11,222,12],[222,13,222,14],[222,15,222,16],[222,17,222,18],[221,0,223,0],[221,1,222,2],[221,3,221,36],[221,37,221,38],[221,39,221,40],[222,19,222,20],[222,21,222,22],[211,27,211,28],[211,29,211,30],[211,31,211,32],[211,33,211,34],[211,35,211,36],[211,37,212,37],[222,35,222,36],[222,37,223,37],[222,38,223,38],[222,39,223,39],[222,40,223,40],[222,23,222,24],[222,25,222,26],[222,27,222,28],[222,29,222,30],[222,31,222,32],[222,33,222,34],[210,41,212,41],[210,42,212,42],[211,3,211,4],[211,5,211,6],[211,7,211,8],[211,9,211,10],[211,11,211,12],[211,13,211,14],[211,15,211,16],[211,17,211,18],[211,38,212,38],[211,39,212,39],[211,40,212,40],[208,0,208,1],[210,0,212,0],[210,1,211,2],[210,3,210,36],[210,37,210,38],[210,39,210,40],[211,19,211,20],[211,21,211,22],[211,23,211,24],[211,25,211,26],[204,0,204,1],[205,0,205,1],[206,0,206,1],[207,0,207,1],[193,0,193,1],[194,0,194,1],[195,0,197,0],[198,0,198,1],[199,0,199,1],[200,0,200,1],[189,0,189,1],[190,0,190,1],[191,0,191,1],[192,0,192,1],[184,34,184,35],[184,36,184,37],[184,38,184,39],[201,0,201,1],[202,0,202,1],[186,0,186,1],[184,22,184,23],[184,24,184,25],[184,26,184,27],[184,28,184,29],[184,30,184,31],[184,32,184,33],[187,0,187,1],[188,0,188,1],[183,36,183,39],[183,40,183,43],[183,44,184,45],[183,46,184,47],[183,48,184,49],[184,4,184,5],[184,6,184,7],[184,8,184,9],[184,10,184,11],[184,12,184,13],[184,40,184,41],[184,42,184,43],[180,0,180,1],[181,0,181,1],[182,0,182,16],[183,0,185,1],[183,2,184,3],[183,4,183,35],[184,14,184,15],[184,16,184,17],[184,18,184,19],[184,20,184,21],[173,0,173,1],[174,0,174,1],[175,0,175,1],[177,0,177,1],[178,0,178,1],[179,0,179,1],[165,0,165,1],[166,0,166,1],[167,0,167,1],[168,0,170,0],[171,0,171,1],[172,0,172,1],[159,0,159,1],[160,0,160,1],[161,0,161,1],[162,0,162,1],[163,0,163,1],[164,0,164,1],[157,32,157,33],[157,34,157,35],[157,36,157,37],[156,36,156,39],[156,40,156,43],[156,44,157,45],[156,46,157,47],[156,48,157,49],[157,4,157,5],[157,6,157,7],[157,8,157,9],[157,10,157,11],[157,12,157,13],[157,38,157,39],[157,40,157,41],[157,42,157,43],[157,20,157,21],[157,22,157,23],[157,24,157,25],[157,26,157,27],[157,28,157,29],[157,30,157,31],[150,0,150,1],[151,0,153,0],[154,0,154,1],[155,0,155,16],[156,0,158,1],[156,2,157,3],[156,4,156,35],[157,14,157,15],[157,16,157,17],[157,18,157,19],[142,0,142,1],[143,0,145,0],[146,0,146,1],[147,0,147,17],[148,0,149,1],[148,2,148,4],[148,5,148,7],[148,8,148,10],[148,11,148,13],[148,14,148,15],[139,0,139,16],[140,0,141,1],[140,2,140,4],[140,5,140,7],[140,8,140,10],[140,11,140,13],[140,14,140,15],[119,33,119,34],[119,35,119,36],[119,21,119,22],[119,23,119,24],[119,25,119,26],[119,27,119,28],[119,29,119,30],[119,31,119,32],[118,0,120,0],[118,1,119,2],[118,45,119,46],[118,47,120,47],[118,48,120,48],[119,3,119,4],[119,5,119,6],[119,7,119,8],[119,9,119,10],[119,11,119,12],[119,13,119,14],[119,15,119,16],[119,44,120,44],[119,37,119,38],[119,39,119,40],[119,41,119,42],[119,43,120,43],[118,3,118,42],[118,43,118,44],[119,17,119,18],[119,19,119,20],[96,47,98,47],[96,48,98,48],[97,3,97,4],[97,5,97,6],[97,7,97,8],[97,9,97,10],[97,11,97,12],[97,13,97,14],[97,15,97,16],[97,17,97,18],[97,39,97,40],[97,41,97,42],[97,43,98,43],[97,44,98,44],[96,0,98,0],[96,1,97,2],[96,3,96,42],[96,43,96,44],[96,45,97,46],[97,19,97,20],[97,21,97,22],[97,23,97,24],[97,25,97,26],[97,27,97,28],[97,29,97,30],[97,31,97,32],[97,33,97,34],[97,35,97,36],[97,37,97,38],[74,47,76,47],[74,48,76,48],[75,3,75,4],[75,5,75,6],[75,7,75,8],[75,9,75,10],[75,11,75,12],[75,13,75,14],[75,15,75,16],[75,44,76,44],[75,33,75,34],[75,35,75,36],[75,37,75,38],[75,39,75,40],[75,41,75,42],[75,43,76,43],[75,21,75,22],[75,23,75,24],[75,25,75,26],[75,27,75,28],[75,29,75,30],[75,31,75,32],[74,45,75,46],[74,0,76,0],[74,1,75,2],[74,3,74,42],[74,43,74,44],[75,17,75,18],[75,19,75,20],[53,27,53,28],[53,29,53,30],[53,31,53,32],[53,33,53,34],[53,35,53,36],[53,37,53,38],[52,0,54,0],[52,1,53,2],[52,47,54,47],[52,48,54,48],[53,3,53,4],[53,5,53,6],[53,7,53,8],[53,9,53,10],[53,11,53,12],[53,13,53,14],[53,15,53,16],[53,17,53,18],[53,39,53,40],[53,41,53,42],[53,43,54,43],[53,44,54,44],[52,3,52,42],[52,43,52,44],[52,45,53,46],[53,19,53,20],[53,21,53,22],[53,23,53,24],[53,25,53,26],[30,47,32,47],[30,48,32,48],[31,3,31,4],[31,5,31,6],[31,7,31,8],[31,9,31,10],[31,11,31,12],[31,13,31,14],[31,15,31,16],[31,44,32,44],[31,33,31,34],[31,35,31,36],[31,37,31,38],[31,39,31,40],[31,41,31,42],[31,43,32,43],[31,21,31,22],[31,23,31,24],[31,25,31,26],[31,27,31,28],[31,29,31,30],[31,31,31,32],[30,45,31,46],[30,0,32,0],[30,1,31,2],[30,3,30,42],[30,43,30,44],[31,17,31,18],[31,19,31,20],[9,27,9,28],[9,29,9,30],[9,31,9,32],[9,33,9,34],[9,35,9,36],[9,37,9,38],[8,47,10,47],[8,48,10,48],[9,3,9,4],[9,5,9,6],[9,7,9,8],[9,9,9,10],[9,11,9,12],[9,13,9,14],[9,15,9,16],[9,17,9,18],[9,39,9,40],[9,41,9,42],[9,43,10,43],[9,44,10,44],[5,0,5,15],[8,0,10,0],[8,1,9,2],[8,3,8,42],[8,43,8,44],[8,45,9,46],[9,19,9,20],[9,21,9,22],[9,23,9,24],[9,25,9,26]]}
["SERVICIO DE SALUD"]
[{"$f":"CONCATENATE(\"COMUNA: \",NOMBRE!B2,\" - \",\"( \",NOMBRE!C2,NOMBRE!D2,NOMBRE!E2,NOMBRE!F2,NOMBRE!G2,\" )\")","v":"COMUNA:  - (  )"}]
[{"$f":"CONCATENATE(\"ESTABLECIMIENTO/ESTRATEGIA: \",NOMBRE!B3,\" - \",\"( \",NOMBRE!C3,NOMBRE!D3,NOMBRE!E3,NOMBRE!F3,NOMBRE!G3,NOMBRE!H3,\" )\")","v":"ESTABLECIMIENTO/ESTRATEGIA:  - (  )"}]
[{"$f":"CONCATENATE(\"MES: \",NOMBRE!B6,\" - \",\"( \",NOMBRE!C6,NOMBRE!D6,\" )\")","v":"MES:  - (  )"}]
[{"$f":"CONCATENATE(\"AÑO: \",NOMBRE!B7)","v":"AÑO: 2023"}]
["REM-A11.  EXÁMENES DE PESQUISA DE ENFERMEDADES TRASMISIBLES "]
["SECCION A: EXÁMENES DE SÍFILIS"]
["SECCIÓN A.1: EXAMEN VDRL POR GRUPO DE USUARIOS (Uso exclusivo de establecimientos con Laboratorio que procesan)"]
["GRUPO DE PESQUISA","TOTAL",null,"POR EDAD (en meses - años)",null,null,null,null,null,null,null,null,null,null,null,null,null,null,null,null,null,null,null,null,null,null,null,null,null,null,null,null,null,null,null,null,null,null,null,null,null,null,null,"POR SEXO\n(Procesados)",null,"TRANS",null,"Pueblos Originarios","Migrantes"]
[null,null,null,"Menor de 6 meses",null,"6 a 11 meses",null,"12-24 meses",null,"3 a 4 años",null,"5 a 9 años",null,"10 - 14 años",null,"15 - 19 años",null,"20 - 24 años",null,"25 a 29 años",null,"30 a 34 años",null,"35 a 39 años",null,"40 a 44 años",null,"45 a 49 años",null,"50 a 54 años",null,"55 a 59 años",null,"60 a 64 años",null,"65 a 69 años",null,"70 a 74 años",null,"75 a 79 años",null,"80 y más años",null,"Hombres","Mujeres"]
[null,"Procesados","Reactivos","Procesados","Reactivos","Procesados","Reactivos","Procesados","Reactivos","Procesados","Reactivos","Procesados","Reactivos","Procesados","Reactivos","Procesados","Reactivos","Procesados","Reactivos","Procesados","Reactivos","Procesados","Reactivos","Procesados","Reactivos","Procesados","Reactivos","Procesados","Reactivos","Procesados","Reactivos","Procesados","Reactivos","Procesados","Reactivos","Procesados","Reactivos","Procesados","Reactivos","Procesados","Reactivos","Procesados","Reactivos",null,null,"Masculino","Femenino"]
["GESTANTES PRIMER TRIMESTRE EMBARAZO",{"$f":"+N12+P12+R12+T12+V12+X12+Z12+AB12+AD12+AF12+AH12+AJ12+AL12+AN12+AP12","v":0},{"$f":"+O12+Q12+S12+U12+W12+Y12+AA12+AC12+AE12+AG12+AI12+AK12+AM12+AO12+AQ12","v":0},null,null,null,null,null,null,null,null,null,null,null,null,null,null,null,null,null,null,null,null,null,null,null,null,null,null,null,null,null,null,null,null,null,null,null,null,null,null,null,null,null,null,null,null,null,null,{"$f":"$CA12&$CB12&$CC12&$CD12&$CE12&$CF12&$CG12&$CH12&$CI12&$CJ12&$CK12&$CL12&$CM12&$CN12&$CO12&$CP12&$CQ12&$CR12&$CS12&$CT12&$CU12&$CV12&$CW12&$CX12&$CY12&$CZ12","v":""},null,null,null,null,null,null,null,null,null,null,null,null,null,null,null,null,null,null,null,null,null,null,null,null,null,null,null,null,{"$f":"IF(B12<C12,\"* El total de Reactivos NO DEBE ser superior al total de Procesados. \",\"\")","v":""},{"$f":"IF(B12<>(AR12+ AS12),\"* La suma de las columnas Sexo DEBE SER IGUAL a los Procesados. \",\"\")","v":""},{"$f":"IF(B12<(AT12+ AU12),\"* La suma de las columna Trans NO DEBE ser superior al total de Procesados. \",\"\")","v":""},{"$f":"IF(B12<AV12,\"* La columna Pueblos Originarios NO DEBE ser superior al total de Procesados. \",\"\")","v":""},{"$f":"IF(B12<AW12,\"* La columna Migrantes NO DEBE ser superior al total de Procesados. \",\"\")","v":""},{"$f":"IF(D12<E12,CONCATENATE(\"* El total de procesados debe ser mayor o igual al total de Reactivos en el grupo de edad \",$D$10),\"\")","v":""},{"$f":"IF(F12<G12,CONCATENATE(\"* El total de procesados debe ser mayor o igual al total de Reactivos en el grupo de edad \",$F$10),\"\")","v":""},{"$f":"IF(H12<I12,CONCATENATE(\"* El total de procesados debe ser mayor o igual al total de Reactivos en el grupo de edad \",$H$10),\"\")","v":""},{"$f":"IF(J12<K12,CONCATENATE(\"* El total de procesados debe ser mayor o igual al total de Reactivos en el grupo de edad \",$J$10),\"\")","v":""},{"$f":"IF(L12<M12,CONCATENATE(\"* El total de procesados debe ser mayor o igual al total de Reactivos en el grupo de edad \",$L$10),\"\")","v":""},{"$f":"IF(N12<O12,CONCATENATE(\"* El total de procesados debe ser mayor o igual al total de Reactivos en el grupo de edad \",$N$10),\"\")","v":""},{"$f":"IF(P12<Q12,CONCATENATE(\"* El total de procesados debe ser mayor o igual al total de Reactivos en el grupo de edad \",$P$10),\"\")","v":""},{"$f":"IF(R12<S12,CONCATENATE(\"* El total de procesados debe ser mayor o igual al total de Reactivos en el grupo de edad \",$R$10),\"\")","v":""},{"$f":"IF(T12<U12,CONCATENATE(\"* El total de procesados debe ser mayor o igual al total de Reactivos en el grupo de edad \",$T$10),\"\")","v":""},{"$f":"IF(V12<W12,CONCATENATE(\"* El total de procesados debe ser mayor o igual al total de Reactivos en el grupo de edad \",$V$10),\"\")","v":""},{"$f":"IF(X12<Y12,CONCATENATE(\"* El total de procesados debe ser mayor o igual al total de Reactivos en el grupo de edad \",$X$10),\"\")","v":""},{"$f":"IF(Z12<AA12,CONCATENATE(\"* El total de procesados debe ser mayor o igual al total de Reactivos en el grupo de edad \",$Z$10),\"\")","v":""},{"$f":"IF(AB12<AC12,CONCATENATE(\"* El total de procesados debe ser mayor o igual al total de Reactivos en el grupo de edad \",$AB$10),\"\")","v":""},{"$f":"IF(AD12<AE12,CONCATENATE(\"* El total de procesados debe ser mayor o igual al total de Reactivos en el grupo de edad \",$AD$10),\"\")","v":""},{"$f":"IF(AF12<AG12,CONCATENATE(\"* El total de procesados debe ser mayor o igual al total de Reactivos en el grupo de edad \",$AF$10),\"\")","v":""},{"$f":"IF(AH12<AI12,CONCATENATE(\"* El total de procesados debe ser mayor o igual al total de Reactivos en el grupo de edad \",$AH$10),\"\")","v":""},{"$f":"IF(AJ12<AK12,CONCATENATE(\"* El total de procesados debe ser mayor o igual al total de Reactivos en el grupo de edad \",$AJ$10),\"\")","v":""},{"$f":"IF(AL12<AM12,CONCATENATE(\"* El total de procesados debe ser mayor o igual al total de Reactivos en el grupo de edad \",$AL$10),\"\")","v":""},{"$f":"IF(AN12<AO12,CONCATENATE(\"* El total de procesados debe ser mayor o igual al total de Reactivos en el grupo de edad \",$AN$10),\"\")","v":""},{"$f":"IF(AP12<AQ12,CONCATENATE(\"* El total de procesados debe ser mayor o igual al total de Reactivos en el grupo de edad \",$AP$10),\"\")","v":""},{"$f":"IF(AND(B12<>0,OR(AT12=\"\",AU12=\"\",AV12=\"\",AW12=\"\")),\"* No olvide digitar la columna Trans y/o Pueblos Originarios y/o Migrantes (Digite Cero si no tiene). \",\"\")","v":""},{"$f":"IF(B12<   C12,1,0)","v":0},{"$f":"IF(B12<> AR12+AS12,1,0)","v":0},{"$f":"IF(B12<  AT12+AU12,1,0)","v":0},{"$f":"IF(B12<  AV12,1,0)","v":0},{"$f":"IF(B12<  AW12,1,0)","v":0},{"$f":"IF(D12<E12,1,0)","v":0},{"$f":"IF(F12<G12,1,0)","v":0},{"$f":"IF(H12<I12,1,0)","v":0},{"$f":"IF(J12<K12,1,0)","v":0},{"$f":"IF(L12<M12,1,0)","v":0},{"$f":"IF(N12<O12,1,0)","v":0},{"$f":"IF(P12<Q12,1,0)","v":0},{"$f":"IF(R12<S12,1,0)","v":0},{"$f":"IF(T12<U12,1,0)","v":0},{"$f":"IF(V12<W12,1,0)","v":0},{"$f":"IF(X12<Y12,1,0)","v":0},{"$f":"IF(Z12<AA12,1,0)","v":0},{"$f":"IF(AB12<AC12,1,0)","v":0},{"$f":"IF(AD12<AE12,1,0)","v":0},{"$f":"IF(AF12<AG12,1,0)","v":0},{"$f":"IF(AH12<AI12,1,0)","v":0},{"$f":"IF(AJ12<AK12,1,0)","v":0},{"$f":"IF(AL12<AM12,1,0)","v":0},{"$f":"IF(AN12<AO12,1,0)","v":0},{"$f":"IF(AP12<AQ12,1,0)","v":0},{"$f":"IF(AND(B12<>0,OR(AT12=\"\",AU12=\"\",AV12=\"\",AW12=\"\")),1,0)","v":0}]
["GESTANTES SEGUNDO TRIMESTRE EMBARAZO",0,0,null,null,null,null,null,null,null,null,null,null,null,null,null,null,null,null,null,null,null,null,null,null,null,null,null,null,null,null,null,null,null,null,null,null,null,null,null,null,null,null,null,null,null,null,null,null,{"$f":"$CA13&$CB13&$CC13&$CD13&$CE13&$CF13&$CG13&$CH13&$CI13&$CJ13&$CK13&$CL13&$CM13&$CN13&$CO13&$CP13&$CQ13&$CR13&$CS13&$CT13&$CU13&$CV13&$CW13&$CX13&$CY13&$CZ13","v":""},null,null,null,null,null,null,null,null,null,null,null,null,null,null,null,null,null,null,null,null,null,null,null,null,null,null,null,null,{"$f":"IF(B13<C13,\"* El total de Reactivos NO DEBE ser superior al total de Procesados. \",\"\")","v":""},{"$f":"IF(B13<>(AR13+ AS13),\"* La suma de las columnas Sexo DEBE SER IGUAL a los Procesados. \",\"\")","v":""},{"$f":"IF(B13<(AT13+ AU13),\"* La suma de las columna Trans NO DEBE ser superior al total de Procesados. \",\"\")","v":""},{"$f":"IF(B13<AV13,\"* La columna Pueblos Originarios NO DEBE ser superior al total de Procesados. \",\"\")","v":""},{"$f":"IF(B13<AW13,\"* La columna Migrantes NO DEBE ser superior al total de Procesados. \",\"\")","v":""},{"$f":"IF(D13<E13,CONCATENATE(\"* El total de procesados debe ser mayor o igual al total de Reactivos en el grupo de edad \",$D$10),\"\")","v":""},{"$f":"IF(F13<G13,CONCATENATE(\"* El total de procesados debe ser mayor o igual al total de Reactivos en el grupo de edad \",$F$10),\"\")","v":""},{"$f":"IF(H13<I13,CONCATENATE(\"* El total de procesados debe ser mayor o igual al total de Reactivos en el grupo de edad \",$H$10),\"\")","v":""},{"$f":"IF(J13<K13,CONCATENATE(\"* El total de procesados debe ser mayor o igual al total de Reactivos en el grupo de edad \",$J$10),\"\")","v":""},{"$f":"IF(L13<M13,CONCATENATE(\"* El total de procesados debe ser mayor o igual al total de Reactivos en el grupo de edad \",$L$10),\"\")","v":""},{"$f":"IF(N13<O13,CONCATENATE(\"* El total de procesados debe ser mayor o igual al total de Reactivos en el grupo de edad \",$N$10),\"\")","v":""},{"$f":"IF(P13<Q13,CONCATENATE(\"* El total de procesados debe ser mayor o igual al total de Reactivos en el grupo de edad \",$P$10),\"\")","v":""},{"$f":"IF(R13<S13,CONCATENATE(\"* El total de procesados debe ser mayor o igual al total de Reactivos en el grupo de edad \",$R$10),\"\")","v":""},{"$f":"IF(T13<U13,CONCATENATE(\"* El total de procesados debe ser mayor o igual al total de Reactivos en el grupo de edad \",$T$10),\"\")","v":""},{"$f":"IF(V13<W13,CONCATENATE(\"* El total de procesados debe ser mayor o igual al total de Reactivos en el grupo de edad \",$V$10),\"\")","v":""},{"$f":"IF(X13<Y13,CONCATENATE(\"* El total de procesados debe ser mayor o igual al total de Reactivos en el grupo de edad \",$X$10),\"\")","v":""},{"$f":"IF(Z13<AA13,CONCATENATE(\"* El total de procesados debe ser mayor o igual al total de Reactivos en el grupo de edad \",$Z$10),\"\")","v":""},{"$f":"IF(AB13<AC13,CONCATENATE(\"* El total de procesados debe ser mayor o igual al total de Reactivos en el grupo de edad \",$AB$10),\"\")","v":""},{"$f":"IF(AD13<AE13,CONCATENATE(\"* El total de procesados debe ser mayor o igual al total de Reactivos en el grupo de edad \",$AD$10),\"\")","v":""},{"$f":"IF(AF13<AG13,CONCATENATE(\"* El total de procesados debe ser mayor o igual al total de Reactivos en el grupo de edad \",$AF$10),\"\")","v":""},{"$f":"IF(AH13<AI13,CONCATENATE(\"* El total de procesados debe ser mayor o igual al total de Reactivos en el grupo de edad \",$AH$10),\"\")","v":""},{"$f":"IF(AJ13<AK13,CONCATENATE(\"* El total de procesados debe ser mayor o igual al total de Reactivos en el grupo de edad \",$AJ$10),\"\")","v":""},{"$f":"IF(AL13<AM13,CONCATENATE(\"* El total de procesados debe ser mayor o igual al total de Reactivos en el grupo de edad \",$AL$10),\"\")","v":""},{"$f":"IF(AN13<AO13,CONCATENATE(\"* El total de procesados debe ser mayor o igual al total de Reactivos en el grupo de edad \",$AN$10),\"\")","v":""},{"$f":"IF(AP13<AQ13,CONCATENATE(\"* El total de procesados debe ser mayor o igual al total de Reactivos en el grupo de edad \",$AP$10),\"\")","v":""},"",0,0,0,0,0,{"$f":"IF(D13<E13,1,0)","v":0},{"$f":"IF(F13<G13,1,0)","v":0},{"$f":"IF(H13<I13,1,0)","v":0},{"$f":"IF(J13<K13,1,0)","v":0},{"$f":"IF(L13<M13,1,0)","v":0},{"$f":"IF(N13<O13,1,0)","v":0},{"$f":"IF(P13<Q13,1,0)","v":0},{"$f":"IF(R13<S13,1,0)","v":0},{"$f":"IF(T13<U13,1,0)","v":0},{"$f":"IF(V13<W13,1,0)","v":0},{"$f":"IF(X13<Y13,1,0)","v":0},{"$f":"IF(Z13<AA13,1,0)","v":0},{"$f":"IF(AB13<AC13,1,0)","v":0},{"$f":"IF(AD13<AE13,1,0)","v":0},{"$f":"IF(AF13<AG13,1,0)","v":0},{"$f":"IF(AH13<AI13,1,0)","v":0},{"$f":"IF(AJ13<AK13,1,0)","v":0},{"$f":"IF(AL13<AM13,1,0)","v":0},{"$f":"IF(AN13<AO13,1,0)","v":0},{"$f":"IF(AP13<AQ13,1,0)","v":0},{"$f":"IF(AND(B13<>0,OR(AT13=\"\",AU13=\"\",AV13=\"\",AW13=\"\")),1,0)","v":0}]
["GESTANTES TERCER TRIMESTRE EMBARAZO",0,0,null,null,null,null,null,null,null,null,null,null,null,null,null,null,null,null,null,null,null,null,null,null,null,null,null,null,null,null,null,null,null,null,null,null,null,null,null,null,null,null,null,null,null,null,null,null,"",null,null,null,null,null,null,null,null,null,null,null,null,null,null,null,null,null,null,null,null,null,null,null,null,null,null,null,null,"","","","","","","","","","","","","","","","","","","","","","","","","","",0,0,0,0,0,0,0,0,0,0,0,0,0,0,0,0,0,0,0,0,0,0,0,0,0,0]
["GESTANTES TRIMESTRE EMBARAZO IGNORADO",0,0,null,null,null,null,null,null,null,null,null,null,null,null,null,null,null,null,null,null,null,null,null,null,null,null,null,null,null,null,null,null,null,null,null,null,null,null,null,null,null,null,null,null,null,null,null,null,"",null,null,null,null,null,null,null,null,null,null,null,null,null,null,null,null,null,null,null,null,null,null,null,null,null,null,null,null,"","","","","","","","","","","","","","","","","","","","","","","","","","",0,0,0,0,0,0,0,0,0,0,0,0,0,0,0,0,0,0,0,0,0,0,0,0,0,0]
["GESTANTES EN SEGUIMIENTO POR DIAGNÓSTICO SÍFILIS",0,0,null,null,null,null,null,null,null,null,null,null,null,null,null,null,null,null,null,null,null,null,null,null,null,null,null,null,null,null,null,null,null,null,null,null,null,null,null,null,null,null,null,null,null,null,null,null,"",null,null,null,null,null,null,null,null,null,null,null,null,null,null,null,null,null,null,null,null,null,null,null,null,null,null,null,null,"","","","","","","","","","","","","","","","","","","","","","","","","","",0,0,0,0,0,0,0,0,0,0,0,0,0,0,0,0,0,0,0,0,0,0,0,0,0,0]
["PAREJA DE GESTANTE CON SEROLOGÍA REACTIVA",0,0,null,null,null,null,null,null,null,null,null,null,null,null,null,null,null,null,null,null,null,null,null,null,null,null,null,null,null,null,null,null,null,null,null,null,null,null,null,null,null,null,null,null,null,null,null,null,"",null,null,null,null,null,null,null,null,null,null,null,null,null,null,null,null,null,null,null,null,null,null,null,null,null,null,null,null,"","","","","","","","","","","","","","","","","","","","","","","","","","",0,0,0,0,0,0,0,0,0,0,0,0,0,0,0,0,0,0,0,0,0,0,0,0,0,0]
["MUJERES QUE INGRESAN A MATERNIDAD POR PARTO",0,0,null,null,null,null,null,null,null,null,null,null,null,null,null,null,null,null,null,null,null,null,null,null,null,null,null,null,null,null,null,null,null,null,null,null,null,null,null,null,null,null,null,null,null,null,null,null,"",null,null,null,null,null,null,null,null,null,null,null,null,null,null,null,null,null,null,null,null,null,null,null,null,null,null,null,null,"","","","","","","","","","","","","","","","","","","","","","","","","","",0,0,0,0,0,0,0,0,0,0,0,0,0,0,0,0,0,0,0,0,0,0,0,0,0,0]
["MUJERES QUE INGRESAN POR ABORTO",0,0,null,null,null,null,null,null,null,null,null,null,null,null,null,null,null,null,null,null,null,null,null,null,null,null,null,null,null,null,null,null,null,null,null,null,null,null,null,null,null,null,null,null,null,null,null,null,"",null,null,null,null,null,null,null,null,null,null,null,null,null,null,null,null,null,null,null,null,null,null,null,null,null,null,null,null,"","","","","","","","","","","","","","","","","","","","","","","","","","",0,0,0,0,0,0,0,0,0,0,0,0,0,0,0,0,0,0,0,0,0,0,0,0,0,0]
["MUJERES EN CONTROL GINECOLÓGICO",{"$f":"+D20+F20+H20+J20+L20+N20+P20+R20+T20+V20+X20+Z20+AB20+AD20+AF20+AH20+AJ20+AL20+AN20+AP20","v":0},{"$f":"+E20+G20+I20+K20+M20+O20+Q20+S20+U20+W20+Y20+AA20+AC20+AE20+AG20+AI20+AK20+AM20+AO20+AQ20","v":0},null,null,null,null,null,null,null,null,null,null,null,null,null,null,null,null,null,null,null,null,null,null,null,null,null,null,null,null,null,null,null,null,null,null,null,null,null,null,null,null,null,null,null,null,null,null,"",null,null,null,null,null,null,null,null,null,null,null,null,null,null,null,null,null,null,null,null,null,null,null,null,null,null,null,null,"","","","","","","","","","","","","","","","","","","","","","","","","","",0,0,0,0,0,0,0,0,0,0,0,0,0,0,0,0,0,0,0,0,0,0,0,0,0,0]
["RECIÉN NACIDO Y LACTANTE PARA DETECCIÓN DE SÍFILIS CONGÉNITA",{"$f":"+D21+F21+H21","v":0},{"$f":"+E21+G21+I21","v":0},null,null,null,null,null,null,null,null,null,null,null,null,null,null,null,null,null,null,null,null,null,null,null,null,null,null,null,null,null,null,null,null,null,null,null,null,null,null,null,null,null,null,null,null,null,null,"",null,null,null,null,null,null,null,null,null,null,null,null,null,null,null,null,null,null,null,null,null,null,null,null,null,null,null,null,"","","","","","","","","","","","","","","","","","","","","","","","","","",0,0,0,0,0,0,0,0,0,0,0,0,0,0,0,0,0,0,0,0,0,0,0,0,0,0]
["PERSONAS EN CONTROL POR COMERCIO SEXUAL",{"$f":"+P22+R22+T22+V22+X22+Z22+AB22+AD22+AF22+AH22+AJ22+AL22+AN22+AP22","v":0},{"$f":"+Q22+S22+U22+W22+Y22+AA22+AC22+AE22+AG22+AI22+AK22+AM22+AO22+AQ22","v":0},null,null,null,null,null,null,null,null,null,null,null,null,null,null,null,null,null,null,null,null,null,null,null,null,null,null,null,null,null,null,null,null,null,null,null,null,null,null,null,null,null,null,null,null,null,null,"",null,null,null,null,null,null,null,null,null,null,null,null,null,null,null,null,null,null,null,null,null,null,null,null,null,null,null,null,"","","","","","","","","","","","","","","","","","","","","","","","","","",0,0,0,0,0,0,0,0,0,0,0,0,0,0,0,0,0,0,0,0,0,0,0,0,0,0]
["PERSONAS EN CONTROL FECUNDIDAD",{"$f":"+N23+P23+R23+T23+V23+X23+Z23+AB23+AD23+AF23+AH23+AJ23+AL23+AN23+AP23","v":0},{"$f":"+O23+Q23+S23+U23+W23+Y23+AA23+AC23+AE23+AG23+AI23+AK23+AM23+AO23+AQ23","v":0},null,null,null,null,null,null,null,null,null,null,null,null,null,null,null,null,null,null,null,null,null,null,null,null,null,null,null,null,null,null,null,null,null,null,null,null,null,null,null,null,null,null,null,null,null,null,"",null,null,null,null,null,null,null,null,null,null,null,null,null,null,null,null,null,null,null,null,null,null,null,null,null,null,null,null,"","","","","","","","","","","","","","","","","","","","","","","","","","",0,0,0,0,0,0,0,0,0,0,0,0,0,0,0,0,0,0,0,0,0,0,0,0,0,0]
["CONSULTANTES POR ITS",{"$f":"+D24+F24+H24+J24+L24+N24+P24+R24+T24+V24+X24+Z24+AB24+AD24+AF24+AH24+AJ24+AL24+AN24+AP24","v":0},{"$f":"+E24+G24+I24+K24+M24+O24+Q24+S24+U24+W24+Y24+AA24+AC24+AE24+AG24+AI24+AK24+AM24+AO24+AQ24","v":0},null,null,null,null,null,null,null,null,null,null,null,null,null,null,null,null,null,null,null,null,null,null,null,null,null,null,null,null,null,null,null,null,null,null,null,null,null,null,null,null,null,null,null,null,null,null,"",null,null,null,null,null,null,null,null,null,null,null,null,null,null,null,null,null,null,null,null,null,null,null,null,null,null,null,null,"","","","","","","","","","","","","","","","","","","","","","","","","","",0,0,0,0,0,0,0,0,0,0,0,0,0,0,0,0,0,0,0,0,0,0,0,0,0,0]
["PERSONAS EMP/EMPAM ",{"$f":"+P25+R25+T25+V25+X25+Z25+AB25+AD25+AF25+AH25+AJ25+AL25+AN25+AP25","v":0},{"$f":"+Q25+S25+U25+W25+Y25+AA25+AC25+AE25+AG25+AI25+AK25+AM25+AO25+AQ25","v":0},null,null,null,null,null,null,null,null,null,null,null,null,null,null,null,null,null,null,null,null,null,null,null,null,null,null,null,null,null,null,null,null,null,null,null,null,null,null,null,null,null,null,null,null,null,null,"",null,null,null,null,null,null,null,null,null,null,null,null,null,null,null,null,null,null,null,null,null,null,null,null,null,null,null,null,"","","","","","","","","","","","","","","","","","","","","","","","","","",0,0,0,0,0,0,0,0,0,0,0,0,0,0,0,0,0,0,0,0,0,0,0,0,0,0]
["DONANTES DE SANGRE",{"$f":"+P26+R26+T26+V26+X26+Z26+AB26+AD26+AF26+AH26","v":0},{"$f":"+Q26+S26+U26+W26+Y26+AA26+AC26+AE26+AG26+AI26","v":0},null,null,null,null,null,null,null,null,null,null,null,null,null,null,null,null,null,null,null,null,null,null,null,null,null,null,null,null,null,null,null,null,null,null,null,null,null,null,null,null,null,null,null,null,null,null,"",null,null,null,null,null,null,null,null,null,null,null,null,null,null,null,null,null,null,null,null,null,null,null,null,null,null,null,null,"","","","","","","","","","","","","","","","","","","","","","","","","","",0,0,0,0,0,0,0,0,0,0,0,0,0,0,0,0,0,0,0,0,0,0,0,0,0,0]
["DONANTES DE ÓRGANOS Y/O TEJIDOS",{"$f":"+D27+F27+H27+J27+L27+N27+P27+R27+T27+V27+X27+Z27+AB27+AD27+AF27+AH27+AJ27+AL27+AN27+AP27","v":0},0,null,null,null,null,null,null,null,null,null,null,null,null,null,null,null,null,null,null,null,null,null,null,null,null,null,null,null,null,null,null,null,null,null,null,null,null,null,null,null,null,null,null,null,null,null,null,"",null,null,null,null,null,null,null,null,null,null,null,null,null,null,null,null,null,null,null,null,null,null,null,null,null,null,null,null,"","","","","","","","","","","","","","","","","","","","","","","","","","",0,0,0,0,0,0,0,0,0,0,0,0,0,0,0,0,0,0,0,0,0,0,0,0,0,0]
["PACIENTES EN DIÁLISIS",0,0,null,null,null,null,null,null,null,null,null,null,null,null,null,null,null,null,null,null,null,null,null,null,null,null,null,null,null,null,null,null,null,null,null,null,null,null,null,null,null,null,null,null,null,null,null,null,"",null,null,null,null,null,null,null,null,null,null,null,null,null,null,null,null,null,null,null,null,null,null,null,null,null,null,null,null,"","","","","","","","","","","","","","","","","","","","","","","","","","",0,0,0,0,0,0,0,0,0,0,0,0,0,0,0,0,0,0,0,0,0,0,0,0,0,0]
["VÍCTIMA DE VIOLENCIA SEXUAL",0,0,null,null,null,null,null,null,null,null,null,null,null,null,null,null,null,null,null,null,null,null,null,null,null,null,null,null,null,null,null,null,null,null,null,null,null,null,null,null,null,null,null,null,null,null,null,null,"",null,null,null,null,null,null,null,null,null,null,null,null,null,null,null,null,null,null,null,null,null,null,null,null,null,null,null,null,"","","","","","","","","","","","","","","","","","","","","","","","","","",0,0,0,0,0,0,0,0,0,0,0,0,0,0,0,0,0,0,0,0,0,0,0,0,0,0]
["SECCIÓN A.2: EXAMEN VDRL POR GRUPO DE USUARIOS (Uso exclusivo de establecimientos que Compran Servicio)"]
["GRUPO DE PESQUISA","TOTAL",null,"POR EDAD (en meses - años)",null,null,null,null,null,null,null,null,null,null,null,null,null,null,null,null,null,null,null,null,null,null,null,null,null,null,null,null,null,null,null,null,null,null,null,null,null,null,null,"POR SEXO\n(Procesados)",null,"TRANS",null,"Pueblos Originarios","Migrantes"]
[null,null,null,"Menor de 6 meses",null,"6 a 11 meses",null,"12-24 meses",null,"3 a 4 años",null,"5 a 9 años",null,"10 - 14 años",null,"15 - 19 años",null,"20 - 24 años",null,"25 a 29 años",null,"30 a 34 años",null,"35 a 39 años",null,"40 a 44 años",null,"45 a 49 años",null,"50 a 54 años",null,"55 a 59 años",null,"60 a 64 años",null,"65 a 69 años",null,"70 a 74 años",null,"75 a 79 años",null,"80 y más años",null,"Hombres","Mujeres"]
[null,"Procesados","Reactivos","Procesados","Reactivos","Procesados","Reactivos","Procesados","Reactivos","Procesados","Reactivos","Procesados","Reactivos","Procesados","Reactivos","Procesados","Reactivos","Procesados","Reactivos","Procesados","Reactivos","Procesados","Reactivos","Procesados","Reactivos","Procesados","Reactivos","Procesados","Reactivos","Procesados","Reactivos","Procesados","Reactivos","Procesados","Reactivos","Procesados","Reactivos","Procesados","Reactivos","Procesados","Reactivos","Procesados","Reactivos",null,null,"Masculino","Femenino"]
["GESTANTES PRIMER TRIMESTRE EMBARAZO",{"$f":"+N34+P34+R34+T34+V34+X34+Z34+AB34+AD34+AF34+AH34+AJ34+AL34+AN34+AP34","v":0},0,null,null,null,null,null,null,null,null,null,null,null,null,null,null,null,null,null,null,null,null,null,null,null,null,null,null,null,null,null,null,null,null,null,null,null,null,null,null,null,null,null,null,null,null,null,null,{"$f":"$CA34&$CB34&$CC34&$CD34&$CE34&$CF34&$CG34&$CH34&$CI34&$CJ34&$CK34&$CL34&$CM34&$CN34&$CO34&$CP34&$CQ34&$CR34&$CS34&$CT34&$CU34&$CV34&$CW34&$CX34&$CY34&$CZ34","v":""},null,null,null,null,null,null,null,null,null,null,null,null,null,null,null,null,null,null,null,null,null,null,null,null,null,null,null,null,{"$f":"IF(B34<C34,\"* El total de Reactivos NO DEBE ser superior al total de Procesados. \",\"\")","v":""},{"$f":"IF(B34<>(AR34+ AS34),\"* La suma de las columnas Sexo DEBE SER IGUAL a los Procesados. \",\"\")","v":""},{"$f":"IF(B34<(AT34+ AU34),\"* La suma de las columna Trans NO DEBE ser superior al total de Procesados. \",\"\")","v":""},{"$f":"IF(B34<AV34,\"* La columna Pueblos Originarios NO DEBE ser superior al total de Procesados. \",\"\")","v":""},{"$f":"IF(B34<AW34,\"* La columna Migrantes NO DEBE ser superior al total de Procesados. \",\"\")","v":""},{"$f":"IF(D34<E34,CONCATENATE(\"* El total de procesados debe ser mayor o igual al total de Reactivos en el grupo de edad \",$D$32),\"\")","v":""},{"$f":"IF(F34<G34,CONCATENATE(\"* El total de procesados debe ser mayor o igual al total de Reactivos en el grupo de edad \",$F$32),\"\")","v":""},{"$f":"IF(H34<I34,CONCATENATE(\"* El total de procesados debe ser mayor o igual al total de Reactivos en el grupo de edad \",$H$32),\"\")","v":""},{"$f":"IF(J34<K34,CONCATENATE(\"* El total de procesados debe ser mayor o igual al total de Reactivos en el grupo de edad \",$J$32),\"\")","v":""},{"$f":"IF(L34<M34,CONCATENATE(\"* El total de procesados debe ser mayor o igual al total de Reactivos en el grupo de edad \",$L$32),\"\")","v":""},{"$f":"IF(N34<O34,CONCATENATE(\"* El total de procesados debe ser mayor o igual al total de Reactivos en el grupo de edad \",$N$32),\"\")","v":""},{"$f":"IF(P34<Q34,CONCATENATE(\"* El total de procesados debe ser mayor o igual al total de Reactivos en el grupo de edad \",$P$32),\"\")","v":""},{"$f":"IF(R34<S34,CONCATENATE(\"* El total de procesados debe ser mayor o igual al total de Reactivos en el grupo de edad \",$R$32),\"\")","v":""},{"$f":"IF(T34<U34,CONCATENATE(\"* El total de procesados debe ser mayor o igual al total de Reactivos en el grupo de edad \",$T$32),\"\")","v":""},{"$f":"IF(V34<W34,CONCATENATE(\"* El total de procesados debe ser mayor o igual al total de Reactivos en el grupo de edad \",$V$32),\"\")","v":""},{"$f":"IF(X34<Y34,CONCATENATE(\"* El total de procesados debe ser mayor o igual al total de Reactivos en el grupo de edad \",$X$32),\"\")","v":""},{"$f":"IF(Z34<AA34,CONCATENATE(\"* El total de procesados debe ser mayor o igual al total de Reactivos en el grupo de edad \",$Z$32),\"\")","v":""},{"$f":"IF(AB34<AC34,CONCATENATE(\"* El total de procesados debe ser mayor o igual al total de Reactivos en el grupo de edad \",$AB$32),\"\")","v":""},{"$f":"IF(AD34<AE34,CONCATENATE(\"* El total de procesados debe ser mayor o igual al total de Reactivos en el grupo de edad \",$AD$32),\"\")","v":""},{"$f":"IF(AF34<AG34,CONCATENATE(\"* El total de procesados debe ser mayor o igual al total de Reactivos en el grupo de edad \",$AF$32),\"\")","v":""},{"$f":"IF(AH34<AI34,CONCATENATE(\"* El total de procesados debe ser mayor o igual al total de Reactivos en el grupo de edad \",$AH$32),\"\")","v":""},{"$f":"IF(AJ34<AK34,CONCATENATE(\"* El total de procesados debe ser mayor o igual al total de Reactivos en el grupo de edad \",$AJ$32),\"\")","v":""},{"$f":"IF(AL34<AM34,CONCATENATE(\"* El total de procesados debe ser mayor o igual al total de Reactivos en el grupo de edad \",$AL$32),\"\")","v":""},{"$f":"IF(AN34<AO34,CONCATENATE(\"* El total de procesados debe ser mayor o igual al total de Reactivos en el grupo de edad \",$AN$32),\"\")","v":""},{"$f":"IF(AP34<AQ34,CONCATENATE(\"* El total de procesados debe ser mayor o igual al total de Reactivos en el grupo de edad \",$AP$32),\"\")","v":""},{"$f":"IF(AND(B34<>0,OR(AT34=\"\",AU34=\"\",AV34=\"\",AW34=\"\")),\"* No olvide digitar la columna Trans y/o Pueblos Originarios y/o Migrantes (Digite Cero si no tiene). \",\"\")","v":""},{"$f":"IF(B34<   C34,1,0)","v":0},{"$f":"IF(B34<> AR34+AS34,1,0)","v":0},{"$f":"IF(B34<  AT34+AU34,1,0)","v":0},{"$f":"IF(B34<  AV34,1,0)","v":0},{"$f":"IF(B34<  AW34,1,0)","v":0},{"$f":"IF(D34<E34,1,0)","v":0},{"$f":"IF(F34<G34,1,0)","v":0},{"$f":"IF(H34<I34,1,0)","v":0},{"$f":"IF(J34<K34,1,0)","v":0},{"$f":"IF(L34<M34,1,0)","v":0},{"$f":"IF(N34<O34,1,0)","v":0},{"$f":"IF(P34<Q34,1,0)","v":0},{"$f":"IF(R34<S34,1,0)","v":0},{"$f":"IF(T34<U34,1,0)","v":0},{"$f":"IF(V34<W34,1,0)","v":0},{"$f":"IF(X34<Y34,1,0)","v":0},{"$f":"IF(Z34<AA34,1,0)","v":0},{"$f":"IF(AB34<AC34,1,0)","v":0},{"$f":"IF(AD34<AE34,1,0)","v":0},{"$f":"IF(AF34<AG34,1,0)","v":0},{"$f":"IF(AH34<AI34,1,0)","v":0},{"$f":"IF(AJ34<AK34,1,0)","v":0},{"$f":"IF(AL34<AM34,1,0)","v":0},{"$f":"IF(AN34<AO34,1,0)","v":0},{"$f":"IF(AP34<AQ34,1,0)","v":0},{"$f":"IF(AND(B34<>0,OR(AT34=\"\",AU34=\"\",AV34=\"\",AW34=\"\")),1,0)","v":0}]
["GESTANTES SEGUNDO TRIMESTRE EMBARAZO",0,0,null,null,null,null,null,null,null,null,null,null,null,null,null,null,null,null,null,null,null,null,null,null,null,null,null,null,null,null,null,null,null,null,null,null,null,null,null,null,null,null,null,null,null,null,null,null,"",null,null,null,null,null,null,null,null,null,null,null,null,null,null,null,null,null,null,null,null,null,null,null,null,null,null,null,null,"","","","","",{"$f":"IF(D35<E35,CONCATENATE(\"* El total de procesados debe ser mayor o igual al total de Reactivos en el grupo de edad \",$D$32),\"\")","v":""},{"$f":"IF(F35<G35,CONCATENATE(\"* El total de procesados debe ser mayor o igual al total de Reactivos en el grupo de edad \",$F$32),\"\")","v":""},{"$f":"IF(H35<I35,CONCATENATE(\"* El total de procesados debe ser mayor o igual al total de Reactivos en el grupo de edad \",$H$32),\"\")","v":""},{"$f":"IF(J35<K35,CONCATENATE(\"* El total de procesados debe ser mayor o igual al total de Reactivos en el grupo de edad \",$J$32),\"\")","v":""},{"$f":"IF(L35<M35,CONCATENATE(\"* El total de procesados debe ser mayor o igual al total de Reactivos en el grupo de edad \",$L$32),\"\")","v":""},{"$f":"IF(N35<O35,CONCATENATE(\"* El total de procesados debe ser mayor o igual al total de Reactivos en el grupo de edad \",$N$32),\"\")","v":""},{"$f":"IF(P35<Q35,CONCATENATE(\"* El total de procesados debe ser mayor o igual al total de Reactivos en el grupo de edad \",$P$32),\"\")","v":""},{"$f":"IF(R35<S35,CONCATENATE(\"* El total de procesados debe ser mayor o igual al total de Reactivos en el grupo de edad \",$R$32),\"\")","v":""},{"$f":"IF(T35<U35,CONCATENATE(\"* El total de procesados debe ser mayor o igual al total de Reactivos en el grupo de edad \",$T$32),\"\")","v":""},{"$f":"IF(V35<W35,CONCATENATE(\"* El total de procesados debe ser mayor o igual al total de Reactivos en el grupo de edad \",$V$32),\"\")","v":""},{"$f":"IF(X35<Y35,CONCATENATE(\"* El total de procesados debe ser mayor o igual al total de Reactivos en el grupo de edad \",$X$32),\"\")","v":""},{"$f":"IF(Z35<AA35,CONCATENATE(\"* El total de procesados debe ser mayor o igual al total de Reactivos en el grupo de edad \",$Z$32),\"\")","v":""},{"$f":"IF(AB35<AC35,CONCATENATE(\"* El total de procesados debe ser mayor o igual al total de Reactivos en el grupo de edad \",$AB$32),\"\")","v":""},{"$f":"IF(AD35<AE35,CONCATENATE(\"* El total de procesados debe ser mayor o igual al total de Reactivos en el grupo de edad \",$AD$32),\"\")","v":""},{"$f":"IF(AF35<AG35,CONCATENATE(\"* El total de procesados debe ser mayor o igual al total de Reactivos en el grupo de edad \",$AF$32),\"\")","v":""},{"$f":"IF(AH35<AI35,CONCATENATE(\"* El total de procesados debe ser mayor o igual al total de Reactivos en el grupo de edad \",$AH$32),\"\")","v":""},{"$f":"IF(AJ35<AK35,CONCATENATE(\"* El total de procesados debe ser mayor o igual al total de Reactivos en el grupo de edad \",$AJ$32),\"\")","v":""},{"$f":"IF(AL35<AM35,CONCATENATE(\"* El total de procesados debe ser mayor o igual al total de Reactivos en el grupo de edad \",$AL$32),\"\")","v":""},{"$f":"IF(AN35<AO35,CONCATENATE(\"* El total de procesados debe ser mayor o igual al total de Reactivos en el grupo de edad \",$AN$32),\"\")","v":""},{"$f":"IF(AP35<AQ35,CONCATENATE(\"* El total de procesados debe ser mayor o igual al total de Reactivos en el grupo de edad \",$AP$32),\"\")","v":""},{"$f":"IF(AND(B35<>0,OR(AT35=\"\",AU35=\"\",AV35=\"\",AW35=\"\")),\"* No olvide digitar la columna Trans y/o Pueblos Originarios y/o Migrantes (Digite Cero si no tiene). \",\"\")","v":""},{"$f":"IF(B35<   C35,1,0)","v":0},{"$f":"IF(B35<> AR35+AS35,1,0)","v":0},{"$f":"IF(B35<  AT35+AU35,1,0)","v":0},{"$f":"IF(B35<  AV35,1,0)","v":0},{"$f":"IF(B35<  AW35,1,0)","v":0},0,0,0,0,0,0,0,0,0,0,0,0,0,0,0,0,0,0,0,0,0]
["GESTANTES TERCER TRIMESTRE EMBARAZO",0,0,null,null,null,null,null,null,null,null,null,null,null,null,null,null,null,null,null,null,null,null,null,null,null,null,null,null,null,null,null,null,null,null,null,null,null,null,null,null,null,null,null,null,null,null,null,null,"",null,null,null,null,null,null,null,null,null,null,null,null,null,null,null,null,null,null,null,null,null,null,null,null,null,null,null,null,"","","","","","","","","","","","","","","","","","","","","","","","","","",0,0,0,0,0,0,0,0,0,0,0,0,0,0,0,0,0,0,0,0,0,0,0,0,0,0]
["GESTANTES TRIMESTRE EMBARAZO IGNORADO",0,0,null,null,null,null,null,null,null,null,null,null,null,null,null,null,null,null,null,null,null,null,null,null,null,null,null,null,null,null,null,null,null,null,null,null,null,null,null,null,null,null,null,null,null,null,null,null,"",null,null,null,null,null,null,null,null,null,null,null,null,null,null,null,null,null,null,null,null,null,null,null,null,null,null,null,null,"","","","","","","","","","","","","","","","","","","","","","","","","","",0,0,0,0,0,0,0,0,0,0,0,0,0,0,0,0,0,0,0,0,0,0,0,0,0,0]
["GESTANTES EN SEGUIMIENTO POR DIAGNÓSTICO SÍFILIS",0,0,null,null,null,null,null,null,null,null,null,null,null,null,null,null,null,null,null,null,null,null,null,null,null,null,null,null,null,null,null,null,null,null,null,null,null,null,null,null,null,null,null,null,null,null,null,null,"",null,null,null,null,null,null,null,null,null,null,null,null,null,null,null,null,null,null,null,null,null,null,null,null,null,null,null,null,"","","","","","","","","","","","","","","","","","","","","","","","","","",0,0,0,0,0,0,0,0,0,0,0,0,0,0,0,0,0,0,0,0,0,0,0,0,0,0]
["PAREJA DE GESTANTE CON SEROLOGÍA REACTIVA",0,0,null,null,null,null,null,null,null,null,null,null,null,null,null,null,null,null,null,null,null,null,null,null,null,null,null,null,null,null,null,null,null,null,null,null,null,null,null,null,null,null,null,null,null,null,null,null,"",null,null,null,null,null,null,null,null,null,null,null,null,null,null,null,null,null,null,null,null,null,null,null,null,null,null,null,null,"","","","","","","","","","","","","","","","","","","","","","","","","","",0,0,0,0,0,0,0,0,0,0,0,0,0,0,0,0,0,0,0,0,0,0,0,0,0,0]
["MUJERES QUE INGRESAN A MATERNIDAD POR PARTO",0,0,null,null,null,null,null,null,null,null,null,null,null,null,null,null,null,null,null,null,null,null,null,null,null,null,null,null,null,null,null,null,null,null,null,null,null,null,null,null,null,null,null,null,null,null,null,null,"",null,null,null,null,null,null,null,null,null,null,null,null,null,null,null,null,null,null,null,null,null,null,null,null,null,null,null,null,"","","","","","","","","","","","","","","","","","","","","","","","","","",0,0,0,0,0,0,0,0,0,0,0,0,0,0,0,0,0,0,0,0,0,0,0,0,0,0]
["MUJERES QUE INGRESAN POR ABORTO",0,0,null,null,null,null,null,null,null,null,null,null,null,null,null,null,null,null,null,null,null,null,null,null,null,null,null,null,null,null,null,null,null,null,null,null,null,null,null,null,null,null,null,null,null,null,null,null,"",null,null,null,null,null,null,null,null,null,null,null,null,null,null,null,null,null,null,null,null,null,null,null,null,null,null,null,null,"","","","","","","","","","","","","","","","","","","","","","","","","","",0,0,0,0,0,0,0,0,0,0,0,0,0,0,0,0,0,0,0,0,0,0,0,0,0,0]
["MUJERES EN CONTROL GINECOLÓGICO",{"$f":"+D42+F42+H42+J42+L42+N42+P42+R42+T42+V42+X42+Z42+AB42+AD42+AF42+AH42+AJ42+AL42+AN42+AP42","v":0},{"$f":"+E42+G42+I42+K42+M42+O42+Q42+S42+U42+W42+Y42+AA42+AC42+AE42+AG42+AI42+AK42+AM42+AO42+AQ42","v":0},null,null,null,null,null,null,null,null,null,null,null,null,null,null,null,null,null,null,null,null,null,null,null,null,null,null,null,null,null,null,null,null,null,null,null,null,null,null,null,null,null,null,null,null,null,null,"",null,null,null,null,null,null,null,null,null,null,null,null,null,null,null,null,null,null,null,null,null,null,null,null,null,null,null,null,"","","","","","","","","","","","","","","","","","","","","","","","","","",0,0,0,0,0,0,0,0,0,0,0,0,0,0,0,0,0,0,0,0,0,0,0,0,0,0]
["RECIÉN NACIDO Y LACTANTE PARA DETECCIÓN DE SÍFILIS CONGÉNITA",{"$f":"+D43+F43+H43","v":0},{"$f":"+E43+G43+I43","v":0},null,null,null,null,null,null,null,null,null,null,null,null,null,null,null,null,null,null,null,null,null,null,null,null,null,null,null,null,null,null,null,null,null,null,null,null,null,null,null,null,null,null,null,null,null,null,"",null,null,null,null,null,null,null,null,null,null,null,null,null,null,null,null,null,null,null,null,null,null,null,null,null,null,null,null,"","","","","","","","","","","","","","","","","","","","","","","","","","",0,0,0,0,0,0,0,0,0,0,0,0,0,0,0,0,0,0,0,0,0,0,0,0,0,0]
["PERSONAS EN CONTROL POR COMERCIO SEXUAL",{"$f":"+P44+R44+T44+V44+X44+Z44+AB44+AD44+AF44+AH44+AJ44+AL44+AN44+AP44","v":0},{"$f":"+Q44+S44+U44+W44+Y44+AA44+AC44+AE44+AG44+AI44+AK44+AM44+AO44+AQ44","v":0},null,null,null,null,null,null,null,null,null,null,null,null,null,null,null,null,null,null,null,null,null,null,null,null,null,null,null,null,null,null,null,null,null,null,null,null,null,null,null,null,null,null,null,null,null,null,"",null,null,null,null,null,null,null,null,null,null,null,null,null,null,null,null,null,null,null,null,null,null,null,null,null,null,null,null,"","","","","","","","","","","","","","","","","","","","","","","","","","",0,0,0,0,0,0,0,0,0,0,0,0,0,0,0,0,0,0,0,0,0,0,0,0,0,0]
["PERSONAS EN CONTROL FECUNDIDAD",{"$f":"+N45+P45+R45+T45+V45+X45+Z45+AB45+AD45+AF45+AH45+AJ45+AL45+AN45+AP45","v":0},{"$f":"+O45+Q45+S45+U45+W45+Y45+AA45+AC45+AE45+AG45+AI45+AK45+AM45+AO45+AQ45","v":0},null,null,null,null,null,null,null,null,null,null,null,null,null,null,null,null,null,null,null,null,null,null,null,null,null,null,null,null,null,null,null,null,null,null,null,null,null,null,null,null,null,null,null,null,null,null,"",null,null,null,null,null,null,null,null,null,null,null,null,null,null,null,null,null,null,null,null,null,null,null,null,null,null,null,null,"","","","","","","","","","","","","","","","","","","","","","","","","","",0,0,0,0,0,0,0,0,0,0,0,0,0,0,0,0,0,0,0,0,0,0,0,0,0,0]
["CONSULTANTES POR ITS",{"$f":"+D46+F46+H46+J46+L46+N46+P46+R46+T46+V46+X46+Z46+AB46+AD46+AF46+AH46+AJ46+AL46+AN46+AP46","v":0},{"$f":"+E46+G46+I46+K46+M46+O46+Q46+S46+U46+W46+Y46+AA46+AC46+AE46+AG46+AI46+AK46+AM46+AO46+AQ46","v":0},null,null,null,null,null,null,null,null,null,null,null,null,null,null,null,null,null,null,null,null,null,null,null,null,null,null,null,null,null,null,null,null,null,null,null,null,null,null,null,null,null,null,null,null,null,null,"",null,null,null,null,null,null,null,null,null,null,null,null,null,null,null,null,null,null,null,null,null,null,null,null,null,null,null,null,"","","","","","","","","","","","","","","","","","","","","","","","","","",0,0,0,0,0,0,0,0,0,0,0,0,0,0,0,0,0,0,0,0,0,0,0,0,0,0]
["PERSONAS EMP/EMPAM ",{"$f":"+P47+R47+T47+V47+X47+Z47+AB47+AD47+AF47+AH47+AJ47+AL47+AN47+AP47","v":0},{"$f":"+Q47+S47+U47+W47+Y47+AA47+AC47+AE47+AG47+AI47+AK47+AM47+AO47+AQ47","v":0},null,null,null,null,null,null,null,null,null,null,null,null,null,null,null,null,null,null,null,null,null,null,null,null,null,null,null,null,null,null,null,null,null,null,null,null,null,null,null,null,null,null,null,null,null,null,"",null,null,null,null,null,null,null,null,null,null,null,null,null,null,null,null,null,null,null,null,null,null,null,null,null,null,null,null,"","","","","","","","","","","","","","","","","","","","","","","","","","",0,0,0,0,0,0,0,0,0,0,0,0,0,0,0,0,0,0,0,0,0,0,0,0,0,0]
["DONANTES DE SANGRE",{"$f":"+P48+R48+T48+V48+X48+Z48+AB48+AD48+AF48+AH48","v":0},{"$f":"+Q48+S48+U48+W48+Y48+AA48+AC48+AE48+AG48+AI48","v":0},null,null,null,null,null,null,null,null,null,null,null,null,null,null,null,null,null,null,null,null,null,null,null,null,null,null,null,null,null,null,null,null,null,null,null,null,null,null,null,null,null,null,null,null,null,null,"",null,null,null,null,null,null,null,null,null,null,null,null,null,null,null,null,null,null,null,null,null,null,null,null,null,null,null,null,"","","","","","","","","","","","","","","","","","","","","","","","","","",0,0,0,0,0,0,0,0,0,0,0,0,0,0,0,0,0,0,0,0,0,0,0,0,0,0]
["DONANTES DE ÓRGANOS Y/O TEJIDOS",{"$f":"+D49+F49+H49+J49+L49+N49+P49+R49+T49+V49+X49+Z49+AB49+AD49+AF49+AH49+AJ49+AL49+AN49+AP49","v":0},0,null,null,null,null,null,null,null,null,null,null,null,null,null,null,null,null,null,null,null,null,null,null,null,null,null,null,null,null,null,null,null,null,null,null,null,null,null,null,null,null,null,null,null,null,null,null,"",null,null,null,null,null,null,null,null,null,null,null,null,null,null,null,null,null,null,null,null,null,null,null,null,null,null,null,null,"","","","","","","","","","","","","","","","","","","","","","","","","","",0,0,0,0,0,0,0,0,0,0,0,0,0,0,0,0,0,0,0,0,0,0,0,0,0,0]
["PACIENTES EN DIÁLISIS",0,0,null,null,null,null,null,null,null,null,null,null,null,null,null,null,null,null,null,null,null,null,null,null,null,null,null,null,null,null,null,null,null,null,null,null,null,null,null,null,null,null,null,null,null,null,null,null,"",null,null,null,null,null,null,null,null,null,null,null,null,null,null,null,null,null,null,null,null,null,null,null,null,null,null,null,null,"","","","","","","","","","","","","","","","","","","","","","","","","","",0,0,0,0,0,0,0,0,0,0,0,0,0,0,0,0,0,0,0,0,0,0,0,0,0,0]
["VÍCTIMA DE VIOLENCIA SEXUAL",0,0,null,null,null,null,null,null,null,null,null,null,null,null,null,null,null,null,null,null,null,null,null,null,null,null,null,null,null,null,null,null,null,null,null,null,null,null,null,null,null,null,null,null,null,null,null,null,"",null,null,null,null,null,null,null,null,null,null,null,null,null,null,null,null,null,null,null,null,null,null,null,null,null,null,null,null,"","","","","","","","","","","","","","","","","","","","","","","","","","",0,0,0,0,0,0,0,0,0,0,0,0,0,0,0,0,0,0,0,0,0,0,0,0,0,0]
["SECCIÓN A.3: EXAMEN RPR POR GRUPO DE USUARIOS (Uso exclusivo de establecimientos con Laboratorio que procesan)"]
["GRUPO DE PESQUISA","TOTAL",null,"POR EDAD (en meses - años)",null,null,null,null,null,null,null,null,null,null,null,null,null,null,null,null,null,null,null,null,null,null,null,null,null,null,null,null,null,null,null,null,null,null,null,null,null,null,null,"POR SEXO\n(Procesados)",null,"TRANS",null,"Pueblos Originarios","Migrantes"]
[null,null,null,"Menor de 6 meses",null,"6 a 11 meses",null,"12-24 meses",null,"3 a 4 años",null,"5 a 9 años",null,"10 - 14 años",null,"15 - 19 años",null,"20 - 24 años",null,"25 a 29 años",null,"30 a 34 años",null,"35 a 39 años",null,"40 a 44 años",null,"45 a 49 años",null,"50 a 54 años",null,"55 a 59 años",null,"60 a 64 años",null,"65 a 69 años",null,"70 a 74 años",null,"75 a 79 años",null,"80 y más años",null,"Hombres","Mujeres"]
[null,"Procesados","Reactivos","Procesados","Reactivos","Procesados","Reactivos","Procesados","Reactivos","Procesados","Reactivos","Procesados","Reactivos","Procesados","Reactivos","Procesados","Reactivos","Procesados","Reactivos","Procesados","Reactivos","Procesados","Reactivos","Procesados","Reactivos","Procesados","Reactivos","Procesados","Reactivos","Procesados","Reactivos","Procesados","Reactivos","Procesados","Reactivos","Procesados","Reactivos","Procesados","Reactivos","Procesados","Reactivos","Procesados","Reactivos",null,null,"Masculino","Femenino"]
["GESTANTES PRIMER TRIMESTRE EMBARAZO",{"$f":"+N56+P56+R56+T56+V56+X56+Z56+AB56+AD56+AF56+AH56+AJ56+AL56+AN56+AP56","v":0},0,null,null,null,null,null,null,null,null,null,null,null,null,null,null,null,null,null,null,null,null,null,null,null,null,null,null,null,null,null,null,null,null,null,null,null,null,null,null,null,null,null,null,null,null,null,null,{"$f":"$CA56&$CB56&$CC56&$CD56&$CE56&$CF56&$CG56&$CH56&$CI56&$CJ56&$CK56&$CL56&$CM56&$CN56&$CO56&$CP56&$CQ56&$CR56&$CS56&$CT56&$CU56&$CV56&$CW56&$CX56&$CY56&$CZ56","v":""},null,null,null,null,null,null,null,null,null,null,null,null,null,null,null,null,null,null,null,null,null,null,null,null,null,null,null,null,{"$f":"IF(B56<C56,\"* El total de Reactivos NO DEBE ser superior al total de Procesados. \",\"\")","v":""},{"$f":"IF(B56<>(AR56+ AS56),\"* La suma de las columnas Sexo DEBE SER IGUAL a los Procesados. \",\"\")","v":""},{"$f":"IF(B56<(AT56+ AU56),\"* La suma de las columna Trans NO DEBE ser superior al total de Procesados. \",\"\")","v":""},{"$f":"IF(B56<AV56,\"* La columna Pueblos Originarios NO DEBE ser superior al total de Procesados. \",\"\")","v":""},{"$f":"IF(B56<AW56,\"* La columna Migrantes NO DEBE ser superior al total de Procesados. \",\"\")","v":""},{"$f":"IF(D56<E56,CONCATENATE(\"* El total de procesados debe ser mayor o igual al total de Reactivos en el grupo de edad \",$D$54),\"\")","v":""},{"$f":"IF(F56<G56,CONCATENATE(\"* El total de procesados debe ser mayor o igual al total de Reactivos en el grupo de edad \",$F$54),\"\")","v":""},{"$f":"IF(H56<I56,CONCATENATE(\"* El total de procesados debe ser mayor o igual al total de Reactivos en el grupo de edad \",$H$54),\"\")","v":""},{"$f":"IF(J56<K56,CONCATENATE(\"* El total de procesados debe ser mayor o igual al total de Reactivos en el grupo de edad \",$J$54),\"\")","v":""},{"$f":"IF(L56<M56,CONCATENATE(\"* El total de procesados debe ser mayor o igual al total de Reactivos en el grupo de edad \",$L$54),\"\")","v":""},{"$f":"IF(N56<O56,CONCATENATE(\"* El total de procesados debe ser mayor o igual al total de Reactivos en el grupo de edad \",$N$54),\"\")","v":""},{"$f":"IF(P56<Q56,CONCATENATE(\"* El total de procesados debe ser mayor o igual al total de Reactivos en el grupo de edad \",$P$54),\"\")","v":""},{"$f":"IF(R56<S56,CONCATENATE(\"* El total de procesados debe ser mayor o igual al total de Reactivos en el grupo de edad \",$R$54),\"\")","v":""},{"$f":"IF(T56<U56,CONCATENATE(\"* El total de procesados debe ser mayor o igual al total de Reactivos en el grupo de edad \",$T$54),\"\")","v":""},{"$f":"IF(V56<W56,CONCATENATE(\"* El total de procesados debe ser mayor o igual al total de Reactivos en el grupo de edad \",$V$54),\"\")","v":""},{"$f":"IF(X56<Y56,CONCATENATE(\"* El total de procesados debe ser mayor o igual al total de Reactivos en el grupo de edad \",$X$54),\"\")","v":""},{"$f":"IF(Z56<AA56,CONCATENATE(\"* El total de procesados debe ser mayor o igual al total de Reactivos en el grupo de edad \",$Z$54),\"\")","v":""},{"$f":"IF(AB56<AC56,CONCATENATE(\"* El total de procesados debe ser mayor o igual al total de Reactivos en el grupo de edad \",$AB$54),\"\")","v":""},{"$f":"IF(AD56<AE56,CONCATENATE(\"* El total de procesados debe ser mayor o igual al total de Reactivos en el grupo de edad \",$AD$54),\"\")","v":""},{"$f":"IF(AF56<AG56,CONCATENATE(\"* El total de procesados debe ser mayor o igual al total de Reactivos en el grupo de edad \",$AF$54),\"\")","v":""},{"$f":"IF(AH56<AI56,CONCATENATE(\"* El total de procesados debe ser mayor o igual al total de Reactivos en el grupo de edad \",$AH$54),\"\")","v":""},{"$f":"IF(AJ56<AK56,CONCATENATE(\"* El total de procesados debe ser mayor o igual al total de Reactivos en el grupo de edad \",$AJ$54),\"\")","v":""},{"$f":"IF(AL56<AM56,CONCATENATE(\"* El total de procesados debe ser mayor o igual al total de Reactivos en el grupo de edad \",$AL$54),\"\")","v":""},{"$f":"IF(AN56<AO56,CONCATENATE(\"* El total de procesados debe ser mayor o igual al total de Reactivos en el grupo de edad \",$AN$54),\"\")","v":""},{"$f":"IF(AP56<AQ56,CONCATENATE(\"* El total de procesados debe ser mayor o igual al total de Reactivos en el grupo de edad \",$AP$54),\"\")","v":""},{"$f":"IF(AND(B56<>0,OR(AT56=\"\",AU56=\"\",AV56=\"\",AW56=\"\")),\"* No olvide digitar la columna Trans y/o Pueblos Originarios y/o Migrantes (Digite Cero si no tiene). \",\"\")","v":""},{"$f":"IF(B56<   C56,1,0)","v":0},{"$f":"IF(B56<> AR56+AS56,1,0)","v":0},{"$f":"IF(B56<  AT56+AU56,1,0)","v":0},{"$f":"IF(B56<  AV56,1,0)","v":0},{"$f":"IF(B56<  AW56,1,0)","v":0},{"$f":"IF(D56<E56,1,0)","v":0},{"$f":"IF(F56<G56,1,0)","v":0},{"$f":"IF(H56<I56,1,0)","v":0},{"$f":"IF(J56<K56,1,0)","v":0},{"$f":"IF(L56<M56,1,0)","v":0},{"$f":"IF(N56<O56,1,0)","v":0},{"$f":"IF(P56<Q56,1,0)","v":0},{"$f":"IF(R56<S56,1,0)","v":0},{"$f":"IF(T56<U56,1,0)","v":0},{"$f":"IF(V56<W56,1,0)","v":0},{"$f":"IF(X56<Y56,1,0)","v":0},{"$f":"IF(Z56<AA56,1,0)","v":0},{"$f":"IF(AB56<AC56,1,0)","v":0},{"$f":"IF(AD56<AE56,1,0)","v":0},{"$f":"IF(AF56<AG56,1,0)","v":0},{"$f":"IF(AH56<AI56,1,0)","v":0},{"$f":"IF(AJ56<AK56,1,0)","v":0},{"$f":"IF(AL56<AM56,1,0)","v":0},{"$f":"IF(AN56<AO56,1,0)","v":0},{"$f":"IF(AP56<AQ56,1,0)","v":0},{"$f":"IF(AND(B56<>0,OR(AT56=\"\",AU56=\"\",AV56=\"\",AW56=\"\")),1,0)","v":0}]
["GESTANTES SEGUNDO TRIMESTRE EMBARAZO",0,0,null,null,null,null,null,null,null,null,null,null,null,null,null,null,null,null,null,null,null,null,null,null,null,null,null,null,null,null,null,null,null,null,null,null,null,null,null,null,null,null,null,null,null,null,null,null,"",null,null,null,null,null,null,null,null,null,null,null,null,null,null,null,null,null,null,null,null,null,null,null,null,null,null,null,null,"","","","","",{"$f":"IF(D57<E57,CONCATENATE(\"* El total de procesados debe ser mayor o igual al total de Reactivos en el grupo de edad \",$D$54),\"\")","v":""},{"$f":"IF(F57<G57,CONCATENATE(\"* El total de procesados debe ser mayor o igual al total de Reactivos en el grupo de edad \",$F$54),\"\")","v":""},{"$f":"IF(H57<I57,CONCATENATE(\"* El total de procesados debe ser mayor o igual al total de Reactivos en el grupo de edad \",$H$54),\"\")","v":""},{"$f":"IF(J57<K57,CONCATENATE(\"* El total de procesados debe ser mayor o igual al total de Reactivos en el grupo de edad \",$J$54),\"\")","v":""},{"$f":"IF(L57<M57,CONCATENATE(\"* El total de procesados debe ser mayor o igual al total de Reactivos en el grupo de edad \",$L$54),\"\")","v":""},{"$f":"IF(N57<O57,CONCATENATE(\"* El total de procesados debe ser mayor o igual al total de Reactivos en el grupo de edad \",$N$54),\"\")","v":""},{"$f":"IF(P57<Q57,CONCATENATE(\"* El total de procesados debe ser mayor o igual al total de Reactivos en el grupo de edad \",$P$54),\"\")","v":""},{"$f":"IF(R57<S57,CONCATENATE(\"* El total de procesados debe ser mayor o igual al total de Reactivos en el grupo de edad \",$R$54),\"\")","v":""},{"$f":"IF(T57<U57,CONCATENATE(\"* El total de procesados debe ser mayor o igual al total de Reactivos en el grupo de edad \",$T$54),\"\")","v":""},{"$f":"IF(V57<W57,CONCATENATE(\"* El total de procesados debe ser mayor o igual al total de Reactivos en el grupo de edad \",$V$54),\"\")","v":""},{"$f":"IF(X57<Y57,CONCATENATE(\"* El total de procesados debe ser mayor o igual al total de Reactivos en el grupo de edad \",$X$54),\"\")","v":""},{"$f":"IF(Z57<AA57,CONCATENATE(\"* El total de procesados debe ser mayor o igual al total de Reactivos en el grupo de edad \",$Z$54),\"\")","v":""},{"$f":"IF(AB57<AC57,CONCATENATE(\"* El total de procesados debe ser mayor o igual al total de Reactivos en el grupo de edad \",$AB$54),\"\")","v":""},{"$f":"IF(AD57<AE57,CONCATENATE(\"* El total de procesados debe ser mayor o igual al total de Reactivos en el grupo de edad \",$AD$54),\"\")","v":""},{"$f":"IF(AF57<AG57,CONCATENATE(\"* El total de procesados debe ser mayor o igual al total de Reactivos en el grupo de edad \",$AF$54),\"\")","v":""},{"$f":"IF(AH57<AI57,CONCATENATE(\"* El total de procesados debe ser mayor o igual al total de Reactivos en el grupo de edad \",$AH$54),\"\")","v":""},{"$f":"IF(AJ57<AK57,CONCATENATE(\"* El total de procesados debe ser mayor o igual al total de Reactivos en el grupo de edad \",$AJ$54),\"\")","v":""},{"$f":"IF(AL57<AM57,CONCATENATE(\"* El total de procesados debe ser mayor o igual al total de Reactivos en el grupo de edad \",$AL$54),\"\")","v":""},{"$f":"IF(AN57<AO57,CONCATENATE(\"* El total de procesados debe ser mayor o igual al total de Reactivos en el grupo de edad \",$AN$54),\"\")","v":""},{"$f":"IF(AP57<AQ57,CONCATENATE(\"* El total de procesados debe ser mayor o igual al total de Reactivos en el grupo de edad \",$AP$54),\"\")","v":""},"",0,0,0,0,0,0,0,0,0,0,0,0,0,0,0,0,0,0,0,0,0,0,0,0,0,0]
["GESTANTES TERCER TRIMESTRE EMBARAZO",0,0,null,null,null,null,null,null,null,null,null,null,null,null,null,null,null,null,null,null,null,null,null,null,null,null,null,null,null,null,null,null,null,null,null,null,null,null,null,null,null,null,null,null,null,null,null,null,"",null,null,null,null,null,null,null,null,null,null,null,null,null,null,null,null,null,null,null,null,null,null,null,null,null,null,null,null,"","","","","","","","","","","","","","","","","","","","","","","","","","",0,0,0,0,0,0,0,0,0,0,0,0,0,0,0,0,0,0,0,0,0,0,0,0,0,0]
["GESTANTES TRIMESTRE EMBARAZO IGNORADO",0,0,null,null,null,null,null,null,null,null,null,null,null,null,null,null,null,null,null,null,null,null,null,null,null,null,null,null,null,null,null,null,null,null,null,null,null,null,null,null,null,null,null,null,null,null,null,null,"",null,null,null,null,null,null,null,null,null,null,null,null,null,null,null,null,null,null,null,null,null,null,null,null,null,null,null,null,"","","","","","","","","","","","","","","","","","","","","","","","","","",0,0,0,0,0,0,0,0,0,0,0,0,0,0,0,0,0,0,0,0,0,0,0,0,0,0]
["GESTANTES EN SEGUIMIENTO POR DIAGNÓSTICO SÍFILIS",0,0,null,null,null,null,null,null,null,null,null,null,null,null,null,null,null,null,null,null,null,null,null,null,null,null,null,null,null,null,null,null,null,null,null,null,null,null,null,null,null,null,null,null,null,null,null,null,"",null,null,null,null,null,null,null,null,null,null,null,null,null,null,null,null,null,null,null,null,null,null,null,null,null,null,null,null,"","","","","","","","","","","","","","","","","","","","","","","","","","",0,0,0,0,0,0,0,0,0,0,0,0,0,0,0,0,0,0,0,0,0,0,0,0,0,0]
["PAREJA DE GESTANTE CON SEROLOGÍA REACTIVA",0,0,null,null,null,null,null,null,null,null,null,null,null,null,null,null,null,null,null,null,null,null,null,null,null,null,null,null,null,null,null,null,null,null,null,null,null,null,null,null,null,null,null,null,null,null,null,null,"",null,null,null,null,null,null,null,null,null,null,null,null,null,null,null,null,null,null,null,null,null,null,null,null,null,null,null,null,"","","","","","","","","","","","","","","","","","","","","","","","","","",0,0,0,0,0,0,0,0,0,0,0,0,0,0,0,0,0,0,0,0,0,0,0,0,0,0]
["MUJERES QUE INGRESAN A MATERNIDAD POR PARTO",0,0,null,null,null,null,null,null,null,null,null,null,null,null,null,null,null,null,null,null,null,null,null,null,null,null,null,null,null,null,null,null,null,null,null,null,null,null,null,null,null,null,null,null,null,null,null,null,"",null,null,null,null,null,null,null,null,null,null,null,null,null,null,null,null,null,null,null,null,null,null,null,null,null,null,null,null,"","","","","","","","","","","","","","","","","","","","","","","","","","",0,0,0,0,0,0,0,0,0,0,0,0,0,0,0,0,0,0,0,0,0,0,0,0,0,0]
["MUJERES QUE INGRESAN POR ABORTO",0,0,null,null,null,null,null,null,null,null,null,null,null,null,null,null,null,null,null,null,null,null,null,null,null,null,null,null,null,null,null,null,null,null,null,null,null,null,null,null,null,null,null,null,null,null,null,null,"",null,null,null,null,null,null,null,null,null,null,null,null,null,null,null,null,null,null,null,null,null,null,null,null,null,null,null,null,"","","","","","","","","","","","","","","","","","","","","","","","","","",0,0,0,0,0,0,0,0,0,0,0,0,0,0,0,0,0,0,0,0,0,0,0,0,0,0]
["MUJERES EN CONTROL GINECOLÓGICO",{"$f":"+D64+F64+H64+J64+L64+N64+P64+R64+T64+V64+X64+Z64+AB64+AD64+AF64+AH64+AJ64+AL64+AN64+AP64","v":0},{"$f":"+E64+G64+I64+K64+M64+O64+Q64+S64+U64+W64+Y64+AA64+AC64+AE64+AG64+AI64+AK64+AM64+AO64+AQ64","v":0},null,null,null,null,null,null,null,null,null,null,null,null,null,null,null,null,null,null,null,null,null,null,null,null,null,null,null,null,null,null,null,null,null,null,null,null,null,null,null,null,null,null,null,null,null,null,"",null,null,null,null,null,null,null,null,null,null,null,null,null,null,null,null,null,null,null,null,null,null,null,null,null,null,null,null,"","","","","","","","","","","","","","","","","","","","","","","","","","",0,0,0,0,0,0,0,0,0,0,0,0,0,0,0,0,0,0,0,0,0,0,0,0,0,0]
["RECIÉN NACIDO Y LACTANTE PARA DETECCIÓN DE SÍFILIS CONGÉNITA",{"$f":"+D65+F65+H65","v":0},{"$f":"+E65+G65+I65","v":0},null,null,null,null,null,null,null,null,null,null,null,null,null,null,null,null,null,null,null,null,null,null,null,null,null,null,null,null,null,null,null,null,null,null,null,null,null,null,null,null,null,null,null,null,null,null,"",null,null,null,null,null,null,null,null,null,null,null,null,null,null,null,null,null,null,null,null,null,null,null,null,null,null,null,null,"","","","","","","","","","","","","","","","","","","","","","","","","","",0,0,0,0,0,0,0,0,0,0,0,0,0,0,0,0,0,0,0,0,0,0,0,0,0,0]
["PERSONAS EN CONTROL POR COMERCIO SEXUAL",{"$f":"+P66+R66+T66+V66+X66+Z66+AB66+AD66+AF66+AH66+AJ66+AL66+AN66+AP66","v":0},{"$f":"+Q66+S66+U66+W66+Y66+AA66+AC66+AE66+AG66+AI66+AK66+AM66+AO66+AQ66","v":0},null,null,null,null,null,null,null,null,null,null,null,null,null,null,null,null,null,null,null,null,null,null,null,null,null,null,null,null,null,null,null,null,null,null,null,null,null,null,null,null,null,null,null,null,null,null,"",null,null,null,null,null,null,null,null,null,null,null,null,null,null,null,null,null,null,null,null,null,null,null,null,null,null,null,null,"","","","","","","","","","","","","","","","","","","","","","","","","","",0,0,0,0,0,0,0,0,0,0,0,0,0,0,0,0,0,0,0,0,0,0,0,0,0,0]
["PERSONAS EN CONTROL FECUNDIDAD",{"$f":"+N67+P67+R67+T67+V67+X67+Z67+AB67+AD67+AF67+AH67+AJ67+AL67+AN67+AP67","v":0},{"$f":"+O67+Q67+S67+U67+W67+Y67+AA67+AC67+AE67+AG67+AI67+AK67+AM67+AO67+AQ67","v":0},null,null,null,null,null,null,null,null,null,null,null,null,null,null,null,null,null,null,null,null,null,null,null,null,null,null,null,null,null,null,null,null,null,null,null,null,null,null,null,null,null,null,null,null,null,null,"",null,null,null,null,null,null,null,null,null,null,null,null,null,null,null,null,null,null,null,null,null,null,null,null,null,null,null,null,"","","","","","","","","","","","","","","","","","","","","","","","","","",0,0,0,0,0,0,0,0,0,0,0,0,0,0,0,0,0,0,0,0,0,0,0,0,0,0]
["CONSULTANTES POR ITS",{"$f":"+D68+F68+H68+J68+L68+N68+P68+R68+T68+V68+X68+Z68+AB68+AD68+AF68+AH68+AJ68+AL68+AN68+AP68","v":0},{"$f":"+E68+G68+I68+K68+M68+O68+Q68+S68+U68+W68+Y68+AA68+AC68+AE68+AG68+AI68+AK68+AM68+AO68+AQ68","v":0},null,null,null,null,null,null,null,null,null,null,null,null,null,null,null,null,null,null,null,null,null,null,null,null,null,null,null,null,null,null,null,null,null,null,null,null,null,null,null,null,null,null,null,null,null,null,"",null,null,null,null,null,null,null,null,null,null,null,null,null,null,null,null,null,null,null,null,null,null,null,null,null,null,null,null,"","","","","","","","","","","","","","","","","","","","","","","","","","",0,0,0,0,0,0,0,0,0,0,0,0,0,0,0,0,0,0,0,0,0,0,0,0,0,0]
["PERSONAS EMP/EMPAM ",{"$f":"+P69+R69+T69+V69+X69+Z69+AB69+AD69+AF69+AH69+AJ69+AL69+AN69+AP69","v":0},{"$f":"+Q69+S69+U69+W69+Y69+AA69+AC69+AE69+AG69+AI69+AK69+AM69+AO69+AQ69","v":0},null,null,null,null,null,null,null,null,null,null,null,null,null,null,null,null,null,null,null,null,null,null,null,null,null,null,null,null,null,null,null,null,null,null,null,null,null,null,null,null,null,null,null,null,null,null,"",null,null,null,null,null,null,null,null,null,null,null,null,null,null,null,null,null,null,null,null,null,null,null,null,null,null,null,null,"","","","","","","","","","","","","","","","","","","","","","","","","","",0,0,0,0,0,0,0,0,0,0,0,0,0,0,0,0,0,0,0,0,0,0,0,0,0,0]
["DONANTES DE SANGRE",{"$f":"+P70+R70+T70+V70+X70+Z70+AB70+AD70+AF70+AH70","v":0},{"$f":"+Q70+S70+U70+W70+Y70+AA70+AC70+AE70+AG70+AI70","v":0},null,null,null,null,null,null,null,null,null,null,null,null,null,null,null,null,null,null,null,null,null,null,null,null,null,null,null,null,null,null,null,null,null,null,null,null,null,null,null,null,null,null,null,null,null,null,"",null,null,null,null,null,null,null,null,null,null,null,null,null,null,null,null,null,null,null,null,null,null,null,null,null,null,null,null,"","","","","","","","","","","","","","","","","","","","","","","","","","",0,0,0,0,0,0,0,0,0,0,0,0,0,0,0,0,0,0,0,0,0,0,0,0,0,0]
["DONANTES DE ÓRGANOS Y/O TEJIDOS",{"$f":"+D71+F71+H71+J71+L71+N71+P71+R71+T71+V71+X71+Z71+AB71+AD71+AF71+AH71+AJ71+AL71+AN71+AP71","v":0},0,null,null,null,null,null,null,null,null,null,null,null,null,null,null,null,null,null,null,null,null,null,null,null,null,null,null,null,null,null,null,null,null,null,null,null,null,null,null,null,null,null,null,null,null,null,null,"",null,null,null,null,null,null,null,null,null,null,null,null,null,null,null,null,null,null,null,null,null,null,null,null,null,null,null,null,"","","","","","","","","","","","","","","","","","","","","","","","","","",0,0,0,0,0,0,0,0,0,0,0,0,0,0,0,0,0,0,0,0,0,0,0,0,0,0]
["PACIENTES EN DIÁLISIS",0,0,null,null,null,null,null,null,null,null,null,null,null,null,null,null,null,null,null,null,null,null,null,null,null,null,null,null,null,null,null,null,null,null,null,null,null,null,null,null,null,null,null,null,null,null,null,null,"",null,null,null,null,null,null,null,null,null,null,null,null,null,null,null,null,null,null,null,null,null,null,null,null,null,null,null,null,"","","","","","","","","","","","","","","","","","","","","","","","","","",0,0,0,0,0,0,0,0,0,0,0,0,0,0,0,0,0,0,0,0,0,0,0,0,0,0]
["VÍCTIMA DE VIOLENCIA SEXUAL",0,0,null,null,null,null,null,null,null,null,null,null,null,null,null,null,null,null,null,null,null,null,null,null,null,null,null,null,null,null,null,null,null,null,null,null,null,null,null,null,null,null,null,null,null,null,null,null,"",null,null,null,null,null,null,null,null,null,null,null,null,null,null,null,null,null,null,null,null,null,null,null,null,null,null,null,null,"","","","","","","","","","","","","","","","","","","","","","","","","","",0,0,0,0,0,0,0,0,0,0,0,0,0,0,0,0,0,0,0,0,0,0,0,0,0,0]
["SECCIÓN A.4: EXAMEN RPR POR GRUPO DE USUARIOS (Uso exclusivo de establecimientos que Compran Servicio)",null,null,null,null,null,null,null,null,null,null,null,null,null,null,null,null,null,null,null,null,null,null,null,null,null,null,null,null,null,null,null,null,null,null,null,null,null,null,null,null,null,null,"                   "]
["GRUPO DE PESQUISA","TOTAL",null,"POR EDAD (en meses - años)",null,null,null,null,null,null,null,null,null,null,null,null,null,null,null,null,null,null,null,null,null,null,null,null,null,null,null,null,null,null,null,null,null,null,null,null,null,null,null,"POR SEXO\n(Procesados)",null,"TRANS",null,"Pueblos Originarios","Migrantes"]
[null,null,null,"Menor de 6 meses",null,"6 a 11 meses",null,"12-24 meses",null,"3 a 4 años",null,"5 a 9 años",null,"10 - 14 años",null,"15 - 19 años",null,"20 - 24 años",null,"25 a 29 años",null,"30 a 34 años",null,"35 a 39 años",null,"40 a 44 años",null,"45 a 49 años",null,"50 a 54 años",null,"55 a 59 años",null,"60 a 64 años",null,"65 a 69 años",null,"70 a 74 años",null,"75 a 79 años",null,"80 y más años",null,"Hombres","Mujeres"]
[null,"Procesados","Reactivos","Procesados","Reactivos","Procesados","Reactivos","Procesados","Reactivos","Procesados","Reactivos","Procesados","Reactivos","Procesados","Reactivos","Procesados","Reactivos","Procesados","Reactivos","Procesados","Reactivos","Procesados","Reactivos","Procesados","Reactivos","Procesados","Reactivos","Procesados","Reactivos","Procesados","Reactivos","Procesados","Reactivos","Procesados","Reactivos","Procesados","Reactivos","Procesados","Reactivos","Procesados","Reactivos","Procesados","Reactivos",null,null,"Masculino","Femenino"]
["GESTANTES PRIMER TRIMESTRE EMBARAZO",{"$f":"+N78+P78+R78+T78+V78+X78+Z78+AB78+AD78+AF78+AH78+AJ78+AL78+AN78+AP78","v":0},0,null,null,null,null,null,null,null,null,null,null,null,null,null,null,null,null,null,null,null,null,null,null,null,null,null,null,null,null,null,null,null,null,null,null,null,null,null,null,null,null,null,null,null,null,null,null,{"$f":"$CA78&$CB78&$CC78&$CD78&$CE78&$CF78&$CG78&$CH78&$CI78&$CJ78&$CK78&$CL78&$CM78&$CN78&$CO78&$CP78&$CQ78&$CR78&$CS78&$CT78&$CU78&$CV78&$CW78&$CX78&$CY78&$CZ78","v":""},null,null,null,null,null,null,null,null,null,null,null,null,null,null,null,null,null,null,null,null,null,null,null,null,null,null,null,null,{"$f":"IF(B78<C78,\"* El total de Reactivos NO DEBE ser superior al total de Procesados. \",\"\")","v":""},{"$f":"IF(B78<>(AR78+ AS78),\"* La suma de las columnas Sexo DEBE SER IGUAL a los Procesados. \",\"\")","v":""},{"$f":"IF(B78<(AT78+ AU78),\"* La suma de las columna Trans NO DEBE ser superior al total de Procesados. \",\"\")","v":""},{"$f":"IF(B78<AV78,\"* La columna Pueblos Originarios NO DEBE ser superior al total de Procesados. \",\"\")","v":""},{"$f":"IF(B78<AW78,\"* La columna Migrantes NO DEBE ser superior al total de Procesados. \",\"\")","v":""},{"$f":"IF(D78<E78,CONCATENATE(\"* El total de procesados debe ser mayor o igual al total de Reactivos en el grupo de edad \",$D$76),\"\")","v":""},{"$f":"IF(F78<G78,CONCATENATE(\"* El total de procesados debe ser mayor o igual al total de Reactivos en el grupo de edad \",$F$76),\"\")","v":""},{"$f":"IF(H78<I78,CONCATENATE(\"* El total de procesados debe ser mayor o igual al total de Reactivos en el grupo de edad \",$H$76),\"\")","v":""},{"$f":"IF(J78<K78,CONCATENATE(\"* El total de procesados debe ser mayor o igual al total de Reactivos en el grupo de edad \",$J$76),\"\")","v":""},{"$f":"IF(L78<M78,CONCATENATE(\"* El total de procesados debe ser mayor o igual al total de Reactivos en el grupo de edad \",$L$76),\"\")","v":""},{"$f":"IF(N78<O78,CONCATENATE(\"* El total de procesados debe ser mayor o igual al total de Reactivos en el grupo de edad \",$N$76),\"\")","v":""},{"$f":"IF(P78<Q78,CONCATENATE(\"* El total de procesados debe ser mayor o igual al total de Reactivos en el grupo de edad \",$P$76),\"\")","v":""},{"$f":"IF(R78<S78,CONCATENATE(\"* El total de procesados debe ser mayor o igual al total de Reactivos en el grupo de edad \",$R$76),\"\")","v":""},{"$f":"IF(T78<U78,CONCATENATE(\"* El total de procesados debe ser mayor o igual al total de Reactivos en el grupo de edad \",$T$76),\"\")","v":""},{"$f":"IF(V78<W78,CONCATENATE(\"* El total de procesados debe ser mayor o igual al total de Reactivos en el grupo de edad \",$V$76),\"\")","v":""},{"$f":"IF(X78<Y78,CONCATENATE(\"* El total de procesados debe ser mayor o igual al total de Reactivos en el grupo de edad \",$X$76),\"\")","v":""},{"$f":"IF(Z78<AA78,CONCATENATE(\"* El total de procesados debe ser mayor o igual al total de Reactivos en el grupo de edad \",$Z$76),\"\")","v":""},{"$f":"IF(AB78<AC78,CONCATENATE(\"* El total de procesados debe ser mayor o igual al total de Reactivos en el grupo de edad \",$AB$76),\"\")","v":""},{"$f":"IF(AD78<AE78,CONCATENATE(\"* El total de procesados debe ser mayor o igual al total de Reactivos en el grupo de edad \",$AD$76),\"\")","v":""},{"$f":"IF(AF78<AG78,CONCATENATE(\"* El total de procesados debe ser mayor o igual al total de Reactivos en el grupo de edad \",$AF$76),\"\")","v":""},{"$f":"IF(AH78<AI78,CONCATENATE(\"* El total de procesados debe ser mayor o igual al total de Reactivos en el grupo de edad \",$AH$76),\"\")","v":""},{"$f":"IF(AJ78<AK78,CONCATENATE(\"* El total de procesados debe ser mayor o igual al total de Reactivos en el grupo de edad \",$AJ$76),\"\")","v":""},{"$f":"IF(AL78<AM78,CONCATENATE(\"* El total de procesados debe ser mayor o igual al total de Reactivos en el grupo de edad \",$AL$76),\"\")","v":""},{"$f":"IF(AN78<AO78,CONCATENATE(\"* El total de procesados debe ser mayor o igual al total de Reactivos en el grupo de edad \",$AN$76),\"\")","v":""},{"$f":"IF(AP78<AQ78,CONCATENATE(\"* El total de procesados debe ser mayor o igual al total de Reactivos en el grupo de edad \",$AP$76),\"\")","v":""},{"$f":"IF(AND(B78<>0,OR(AT78=\"\",AU78=\"\",AV78=\"\",AW78=\"\")),\"* No olvide digitar la columna Trans y/o Pueblos Originarios y/o Migrantes (Digite Cero si no tiene). \",\"\")","v":""},{"$f":"IF(B78<   C78,1,0)","v":0},{"$f":"IF(B78<> AR78+AS78,1,0)","v":0},{"$f":"IF(B78<  AT78+AU78,1,0)","v":0},{"$f":"IF(B78<  AV78,1,0)","v":0},{"$f":"IF(B78<  AW78,1,0)","v":0},{"$f":"IF(D78<E78,1,0)","v":0},{"$f":"IF(F78<G78,1,0)","v":0},{"$f":"IF(H78<I78,1,0)","v":0},{"$f":"IF(J78<K78,1,0)","v":0},{"$f":"IF(L78<M78,1,0)","v":0},{"$f":"IF(N78<O78,1,0)","v":0},{"$f":"IF(P78<Q78,1,0)","v":0},{"$f":"IF(R78<S78,1,0)","v":0},{"$f":"IF(T78<U78,1,0)","v":0},{"$f":"IF(V78<W78,1,0)","v":0},{"$f":"IF(X78<Y78,1,0)","v":0},{"$f":"IF(Z78<AA78,1,0)","v":0},{"$f":"IF(AB78<AC78,1,0)","v":0},{"$f":"IF(AD78<AE78,1,0)","v":0},{"$f":"IF(AF78<AG78,1,0)","v":0},{"$f":"IF(AH78<AI78,1,0)","v":0},{"$f":"IF(AJ78<AK78,1,0)","v":0},{"$f":"IF(AL78<AM78,1,0)","v":0},{"$f":"IF(AN78<AO78,1,0)","v":0},{"$f":"IF(AP78<AQ78,1,0)","v":0},{"$f":"IF(AND(B78<>0,OR(AT78=\"\",AU78=\"\",AV78=\"\",AW78=\"\")),1,0)","v":0}]
["GESTANTES SEGUNDO TRIMESTRE EMBARAZO",0,0,null,null,null,null,null,null,null,null,null,null,null,null,null,null,null,null,null,null,null,null,null,null,null,null,null,null,null,null,null,null,null,null,null,null,null,null,null,null,null,null,null,null,null,null,null,null,"",null,null,null,null,null,null,null,null,null,null,null,null,null,null,null,null,null,null,null,null,null,null,null,null,null,null,null,null,"","","","","",{"$f":"IF(D79<E79,CONCATENATE(\"* El total de procesados debe ser mayor o igual al total de Reactivos en el grupo de edad \",$D$76),\"\")","v":""},{"$f":"IF(F79<G79,CONCATENATE(\"* El total de procesados debe ser mayor o igual al total de Reactivos en el grupo de edad \",$F$76),\"\")","v":""},{"$f":"IF(H79<I79,CONCATENATE(\"* El total de procesados debe ser mayor o igual al total de Reactivos en el grupo de edad \",$H$76),\"\")","v":""},{"$f":"IF(J79<K79,CONCATENATE(\"* El total de procesados debe ser mayor o igual al total de Reactivos en el grupo de edad \",$J$76),\"\")","v":""},{"$f":"IF(L79<M79,CONCATENATE(\"* El total de procesados debe ser mayor o igual al total de Reactivos en el grupo de edad \",$L$76),\"\")","v":""},{"$f":"IF(N79<O79,CONCATENATE(\"* El total de procesados debe ser mayor o igual al total de Reactivos en el grupo de edad \",$N$76),\"\")","v":""},{"$f":"IF(P79<Q79,CONCATENATE(\"* El total de procesados debe ser mayor o igual al total de Reactivos en el grupo de edad \",$P$76),\"\")","v":""},{"$f":"IF(R79<S79,CONCATENATE(\"* El total de procesados debe ser mayor o igual al total de Reactivos en el grupo de edad \",$R$76),\"\")","v":""},{"$f":"IF(T79<U79,CONCATENATE(\"* El total de procesados debe ser mayor o igual al total de Reactivos en el grupo de edad \",$T$76),\"\")","v":""},{"$f":"IF(V79<W79,CONCATENATE(\"* El total de procesados debe ser mayor o igual al total de Reactivos en el grupo de edad \",$V$76),\"\")","v":""},{"$f":"IF(X79<Y79,CONCATENATE(\"* El total de procesados debe ser mayor o igual al total de Reactivos en el grupo de edad \",$X$76),\"\")","v":""},{"$f":"IF(Z79<AA79,CONCATENATE(\"* El total de procesados debe ser mayor o igual al total de Reactivos en el grupo de edad \",$Z$76),\"\")","v":""},{"$f":"IF(AB79<AC79,CONCATENATE(\"* El total de procesados debe ser mayor o igual al total de Reactivos en el grupo de edad \",$AB$76),\"\")","v":""},{"$f":"IF(AD79<AE79,CONCATENATE(\"* El total de procesados debe ser mayor o igual al total de Reactivos en el grupo de edad \",$AD$76),\"\")","v":""},{"$f":"IF(AF79<AG79,CONCATENATE(\"* El total de procesados debe ser mayor o igual al total de Reactivos en el grupo de edad \",$AF$76),\"\")","v":""},{"$f":"IF(AH79<AI79,CONCATENATE(\"* El total de procesados debe ser mayor o igual al total de Reactivos en el grupo de edad \",$AH$76),\"\")","v":""},{"$f":"IF(AJ79<AK79,CONCATENATE(\"* El total de procesados debe ser mayor o igual al total de Reactivos en el grupo de edad \",$AJ$76),\"\")","v":""},{"$f":"IF(AL79<AM79,CONCATENATE(\"* El total de procesados debe ser mayor o igual al total de Reactivos en el grupo de edad \",$AL$76),\"\")","v":""},{"$f":"IF(AN79<AO79,CONCATENATE(\"* El total de procesados debe ser mayor o igual al total de Reactivos en el grupo de edad \",$AN$76),\"\")","v":""},{"$f":"IF(AP79<AQ79,CONCATENATE(\"* El total de procesados debe ser mayor o igual al total de Reactivos en el grupo de edad \",$AP$76),\"\")","v":""},"",0,0,0,0,0,0,0,0,0,0,0,0,0,0,0,0,0,0,0,0,0,0,0,0,0,0]
["GESTANTES TERCER TRIMESTRE EMBARAZO",0,0,null,null,null,null,null,null,null,null,null,null,null,null,null,null,null,null,null,null,null,null,null,null,null,null,null,null,null,null,null,null,null,null,null,null,null,null,null,null,null,null,null,null,null,null,null,null,"",null,null,null,null,null,null,null,null,null,null,null,null,null,null,null,null,null,null,null,null,null,null,null,null,null,null,null,null,"","","","","","","","","","","","","","","","","","","","","","","","","","",0,0,0,0,0,0,0,0,0,0,0,0,0,0,0,0,0,0,0,0,0,0,0,0,0,0]
["GESTANTES TRIMESTRE EMBARAZO IGNORADO",0,0,null,null,null,null,null,null,null,null,null,null,null,null,null,null,null,null,null,null,null,null,null,null,null,null,null,null,null,null,null,null,null,null,null,null,null,null,null,null,null,null,null,null,null,null,null,null,"",null,null,null,null,null,null,null,null,null,null,null,null,null,null,null,null,null,null,null,null,null,null,null,null,null,null,null,null,"","","","","","","","","","","","","","","","","","","","","","","","","","",0,0,0,0,0,0,0,0,0,0,0,0,0,0,0,0,0,0,0,0,0,0,0,0,0,0]
["GESTANTES EN SEGUIMIENTO POR DIAGNÓSTICO SÍFILIS",0,0,null,null,null,null,null,null,null,null,null,null,null,null,null,null,null,null,null,null,null,null,null,null,null,null,null,null,null,null,null,null,null,null,null,null,null,null,null,null,null,null,null,null,null,null,null,null,"",null,null,null,null,null,null,null,null,null,null,null,null,null,null,null,null,null,null,null,null,null,null,null,null,null,null,null,null,"","","","","","","","","","","","","","","","","","","","","","","","","","",0,0,0,0,0,0,0,0,0,0,0,0,0,0,0,0,0,0,0,0,0,0,0,0,0,0]
["PAREJA DE GESTANTE CON SEROLOGÍA REACTIVA",0,0,null,null,null,null,null,null,null,null,null,null,null,null,null,null,null,null,null,null,null,null,null,null,null,null,null,null,null,null,null,null,null,null,null,null,null,null,null,null,null,null,null,null,null,null,null,null,"",null,null,null,null,null,null,null,null,null,null,null,null,null,null,null,null,null,null,null,null,null,null,null,null,null,null,null,null,"","","","","","","","","","","","","","","","","","","","","","","","","","",0,0,0,0,0,0,0,0,0,0,0,0,0,0,0,0,0,0,0,0,0,0,0,0,0,0]
["MUJERES QUE INGRESAN A MATERNIDAD POR PARTO",0,0,null,null,null,null,null,null,null,null,null,null,null,null,null,null,null,null,null,null,null,null,null,null,null,null,null,null,null,null,null,null,null,null,null,null,null,null,null,null,null,null,null,null,null,null,null,null,"",null,null,null,null,null,null,null,null,null,null,null,null,null,null,null,null,null,null,null,null,null,null,null,null,null,null,null,null,"","","","","","","","","","","","","","","","","","","","","","","","","","",0,0,0,0,0,0,0,0,0,0,0,0,0,0,0,0,0,0,0,0,0,0,0,0,0,0]
["MUJERES QUE INGRESAN POR ABORTO",0,0,null,null,null,null,null,null,null,null,null,null,null,null,null,null,null,null,null,null,null,null,null,null,null,null,null,null,null,null,null,null,null,null,null,null,null,null,null,null,null,null,null,null,null,null,null,null,"",null,null,null,null,null,null,null,null,null,null,null,null,null,null,null,null,null,null,null,null,null,null,null,null,null,null,null,null,"","","","","","","","","","","","","","","","","","","","","","","","","","",0,0,0,0,0,0,0,0,0,0,0,0,0,0,0,0,0,0,0,0,0,0,0,0,0,0]
["MUJERES EN CONTROL GINECOLÓGICO",{"$f":"+D86+F86+H86+J86+L86+N86+P86+R86+T86+V86+X86+Z86+AB86+AD86+AF86+AH86+AJ86+AL86+AN86+AP86","v":0},{"$f":"+E86+G86+I86+K86+M86+O86+Q86+S86+U86+W86+Y86+AA86+AC86+AE86+AG86+AI86+AK86+AM86+AO86+AQ86","v":0},null,null,null,null,null,null,null,null,null,null,null,null,null,null,null,null,null,null,null,null,null,null,null,null,null,null,null,null,null,null,null,null,null,null,null,null,null,null,null,null,null,null,null,null,null,null,"",null,null,null,null,null,null,null,null,null,null,null,null,null,null,null,null,null,null,null,null,null,null,null,null,null,null,null,null,"","","","","","","","","","","","","","","","","","","","","","","","","","",0,0,0,0,0,0,0,0,0,0,0,0,0,0,0,0,0,0,0,0,0,0,0,0,0,0]
["RECIÉN NACIDO Y LACTANTE PARA DETECCIÓN DE SÍFILIS CONGÉNITA",{"$f":"+D87+F87+H87","v":0},{"$f":"+E87+G87+I87","v":0},null,null,null,null,null,null,null,null,null,null,null,null,null,null,null,null,null,null,null,null,null,null,null,null,null,null,null,null,null,null,null,null,null,null,null,null,null,null,null,null,null,null,null,null,null,null,"",null,null,null,null,null,null,null,null,null,null,null,null,null,null,null,null,null,null,null,null,null,null,null,null,null,null,null,null,"","","","","","","","","","","","","","","","","","","","","","","","","","",0,0,0,0,0,0,0,0,0,0,0,0,0,0,0,0,0,0,0,0,0,0,0,0,0,0]
["PERSONAS EN CONTROL POR COMERCIO SEXUAL",{"$f":"+P88+R88+T88+V88+X88+Z88+AB88+AD88+AF88+AH88+AJ88+AL88+AN88+AP88","v":0},{"$f":"+Q88+S88+U88+W88+Y88+AA88+AC88+AE88+AG88+AI88+AK88+AM88+AO88+AQ88","v":0},null,null,null,null,null,null,null,null,null,null,null,null,null,null,null,null,null,null,null,null,null,null,null,null,null,null,null,null,null,null,null,null,null,null,null,null,null,null,null,null,null,null,null,null,null,null,"",null,null,null,null,null,null,null,null,null,null,null,null,null,null,null,null,null,null,null,null,null,null,null,null,null,null,null,null,"","","","","","","","","","","","","","","","","","","","","","","","","","",0,0,0,0,0,0,0,0,0,0,0,0,0,0,0,0,0,0,0,0,0,0,0,0,0,0]
["PERSONAS EN CONTROL FECUNDIDAD",{"$f":"+N89+P89+R89+T89+V89+X89+Z89+AB89+AD89+AF89+AH89+AJ89+AL89+AN89+AP89","v":0},{"$f":"+O89+Q89+S89+U89+W89+Y89+AA89+AC89+AE89+AG89+AI89+AK89+AM89+AO89+AQ89","v":0},null,null,null,null,null,null,null,null,null,null,null,null,null,null,null,null,null,null,null,null,null,null,null,null,null,null,null,null,null,null,null,null,null,null,null,null,null,null,null,null,null,null,null,null,null,null,"",null,null,null,null,null,null,null,null,null,null,null,null,null,null,null,null,null,null,null,null,null,null,null,null,null,null,null,null,"","","","","","","","","","","","","","","","","","","","","","","","","","",0,0,0,0,0,0,0,0,0,0,0,0,0,0,0,0,0,0,0,0,0,0,0,0,0,0]
["CONSULTANTES POR ITS",{"$f":"+D90+F90+H90+J90+L90+N90+P90+R90+T90+V90+X90+Z90+AB90+AD90+AF90+AH90+AJ90+AL90+AN90+AP90","v":0},{"$f":"+E90+G90+I90+K90+M90+O90+Q90+S90+U90+W90+Y90+AA90+AC90+AE90+AG90+AI90+AK90+AM90+AO90+AQ90","v":0},null,null,null,null,null,null,null,null,null,null,null,null,null,null,null,null,null,null,null,null,null,null,null,null,null,null,null,null,null,null,null,null,null,null,null,null,null,null,null,null,null,null,null,null,null,null,"",null,null,null,null,null,null,null,null,null,null,null,null,null,null,null,null,null,null,null,null,null,null,null,null,null,null,null,null,"","","","","","","","","","","","","","","","","","","","","","","","","","",0,0,0,0,0,0,0,0,0,0,0,0,0,0,0,0,0,0,0,0,0,0,0,0,0,0]
["PERSONAS EMP/EMPAM ",{"$f":"+P91+R91+T91+V91+X91+Z91+AB91+AD91+AF91+AH91+AJ91+AL91+AN91+AP91","v":0},{"$f":"+Q91+S91+U91+W91+Y91+AA91+AC91+AE91+AG91+AI91+AK91+AM91+AO91+AQ91","v":0},null,null,null,null,null,null,null,null,null,null,null,null,null,null,null,null,null,null,null,null,null,null,null,null,null,null,null,null,null,null,null,null,null,null,null,null,null,null,null,null,null,null,null,null,null,null,"",null,null,null,null,null,null,null,null,null,null,null,null,null,null,null,null,null,null,null,null,null,null,null,null,null,null,null,null,"","","","","","","","","","","","","","","","","","","","","","","","","","",0,0,0,0,0,0,0,0,0,0,0,0,0,0,0,0,0,0,0,0,0,0,0,0,0,0]
["DONANTES DE SANGRE",{"$f":"+P92+R92+T92+V92+X92+Z92+AB92+AD92+AF92+AH92","v":0},{"$f":"+Q92+S92+U92+W92+Y92+AA92+AC92+AE92+AG92+AI92","v":0},null,null,null,null,null,null,null,null,null,null,null,null,null,null,null,null,null,null,null,null,null,null,null,null,null,null,null,null,null,null,null,null,null,null,null,null,null,null,null,null,null,null,null,null,null,null,"",null,null,null,null,null,null,null,null,null,null,null,null,null,null,null,null,null,null,null,null,null,null,null,null,null,null,null,null,"","","","","","","","","","","","","","","","","","","","","","","","","","",0,0,0,0,0,0,0,0,0,0,0,0,0,0,0,0,0,0,0,0,0,0,0,0,0,0]
["DONANTES DE ÓRGANOS Y/O TEJIDOS",{"$f":"+D93+F93+H93+J93+L93+N93+P93+R93+T93+V93+X93+Z93+AB93+AD93+AF93+AH93+AJ93+AL93+AN93+AP93","v":0},0,null,null,null,null,null,null,null,null,null,null,null,null,null,null,null,null,null,null,null,null,null,null,null,null,null,null,null,null,null,null,null,null,null,null,null,null,null,null,null,null,null,null,null,null,null,null,"",null,null,null,null,null,null,null,null,null,null,null,null,null,null,null,null,null,null,null,null,null,null,null,null,null,null,null,null,"","","","","","","","","","","","","","","","","","","","","","","","","","",0,0,0,0,0,0,0,0,0,0,0,0,0,0,0,0,0,0,0,0,0,0,0,0,0,0]
["PACIENTES EN DIÁLISIS",0,0,null,null,null,null,null,null,null,null,null,null,null,null,null,null,null,null,null,null,null,null,null,null,null,null,null,null,null,null,null,null,null,null,null,null,null,null,null,null,null,null,null,null,null,null,null,null,"",null,null,null,null,null,null,null,null,null,null,null,null,null,null,null,null,null,null,null,null,null,null,null,null,null,null,null,null,"","","","","","","","","","","","","","","","","","","","","","","","","","",0,0,0,0,0,0,0,0,0,0,0,0,0,0,0,0,0,0,0,0,0,0,0,0,0,0]
["VÍCTIMA DE VIOLENCIA SEXUAL",0,0,null,null,null,null,null,null,null,null,null,null,null,null,null,null,null,null,null,null,null,null,null,null,null,null,null,null,null,null,null,null,null,null,null,null,null,null,null,null,null,null,null,null,null,null,null,null,"",null,null,null,null,null,null,null,null,null,null,null,null,null,null,null,null,null,null,null,null,null,null,null,null,null,null,null,null,"","","","","","","","","","","","","","","","","","","","","","","","","","",0,0,0,0,0,0,0,0,0,0,0,0,0,0,0,0,0,0,0,0,0,0,0,0,0,0]
["SECCIÓN A.5: EXAMEN MHA-TP POR GRUPO DE USUARIOS (Uso exclusivo de establecimientos con Laboratorio que procesan)"]
["GRUPO DE PESQUISA","TOTAL",null,"POR EDAD (en meses - años)",null,null,null,null,null,null,null,null,null,null,null,null,null,null,null,null,null,null,null,null,null,null,null,null,null,null,null,null,null,null,null,null,null,null,null,null,null,null,null,"POR SEXO\n(Procesados)",null,"TRANS",null,"Pueblos Originarios","Migrantes"]
[null,null,null,"Menor de 6 meses",null,"6 a 11 meses",null,"12-24 meses",null,"3 a 4 años",null,"5 a 9 años",null,"10 - 14 años",null,"15 - 19 años",null,"20 - 24 años",null,"25 a 29 años",null,"30 a 34 años",null,"35 a 39 años",null,"40 a 44 años",null,"45 a 49 años",null,"50 a 54 años",null,"55 a 59 años",null,"60 a 64 años",null,"65 a 69 años",null,"70 a 74 años",null,"75 a 79 años",null,"80 y más años",null,"Hombres","Mujeres"]
[null,"Procesados","Reactivos","Procesados","Reactivos","Procesados","Reactivos","Procesados","Reactivos","Procesados","Reactivos","Procesados","Reactivos","Procesados","Reactivos","Procesados","Reactivos","Procesados","Reactivos","Procesados","Reactivos","Procesados","Reactivos","Procesados","Reactivos","Procesados","Reactivos","Procesados","Reactivos","Procesados","Reactivos","Procesados","Reactivos","Procesados","Reactivos","Procesados","Reactivos","Procesados","Reactivos","Procesados","Reactivos","Procesados","Reactivos",null,null,"Masculino","Femenino"]
["GESTANTES PRIMER TRIMESTRE EMBARAZO",{"$f":"+N100+P100+R100+T100+V100+X100+Z100+AB100+AD100+AF100+AH100+AJ100+AL100+AN100+AP100","v":0},0,null,null,null,null,null,null,null,null,null,null,null,null,null,null,null,null,null,null,null,null,null,null,null,null,null,null,null,null,null,null,null,null,null,null,null,null,null,null,null,null,null,null,null,null,null,null,{"$f":"$CA100&$CB100&$CC100&$CD100&$CE100&$CF100&$CG100&$CH100&$CI100&$CJ100&$CK100&$CL100&$CM100&$CN100&$CO100&$CP100&$CQ100&$CR100&$CS100&$CT100&$CU100&$CV100&$CW100&$CX100&$CY100&$CZ100","v":""},null,null,null,null,null,null,null,null,null,null,null,null,null,null,null,null,null,null,null,null,null,null,null,null,null,null,null,null,{"$f":"IF(B100<C100,\"* El total de Reactivos NO DEBE ser superior al total de Procesados. \",\"\")","v":""},{"$f":"IF(B100<>(AR100+ AS100),\"* La suma de las columnas Sexo DEBE SER IGUAL a los Procesados. \",\"\")","v":""},{"$f":"IF(B100<(AT100+ AU100),\"* La suma de las columna Trans NO DEBE ser superior al total de Procesados. \",\"\")","v":""},{"$f":"IF(B100<AV100,\"* La columna Pueblos Originarios NO DEBE ser superior al total de Procesados. \",\"\")","v":""},{"$f":"IF(B100<AW100,\"* La columna Migrantes NO DEBE ser superior al total de Procesados. \",\"\")","v":""},{"$f":"IF(D100<E100,CONCATENATE(\"* El total de procesados debe ser mayor o igual al total de Reactivos en el grupo de edad \",$D$98),\"\")","v":""},{"$f":"IF(F100<G100,CONCATENATE(\"* El total de procesados debe ser mayor o igual al total de Reactivos en el grupo de edad \",$F$98),\"\")","v":""},{"$f":"IF(H100<I100,CONCATENATE(\"* El total de procesados debe ser mayor o igual al total de Reactivos en el grupo de edad \",$H$98),\"\")","v":""},{"$f":"IF(J100<K100,CONCATENATE(\"* El total de procesados debe ser mayor o igual al total de Reactivos en el grupo de edad \",$J$98),\"\")","v":""},{"$f":"IF(L100<M100,CONCATENATE(\"* El total de procesados debe ser mayor o igual al total de Reactivos en el grupo de edad \",$L$98),\"\")","v":""},{"$f":"IF(N100<O100,CONCATENATE(\"* El total de procesados debe ser mayor o igual al total de Reactivos en el grupo de edad \",$N$98),\"\")","v":""},{"$f":"IF(P100<Q100,CONCATENATE(\"* El total de procesados debe ser mayor o igual al total de Reactivos en el grupo de edad \",$P$98),\"\")","v":""},{"$f":"IF(R100<S100,CONCATENATE(\"* El total de procesados debe ser mayor o igual al total de Reactivos en el grupo de edad \",$R$98),\"\")","v":""},{"$f":"IF(T100<U100,CONCATENATE(\"* El total de procesados debe ser mayor o igual al total de Reactivos en el grupo de edad \",$T$98),\"\")","v":""},{"$f":"IF(V100<W100,CONCATENATE(\"* El total de procesados debe ser mayor o igual al total de Reactivos en el grupo de edad \",$V$98),\"\")","v":""},{"$f":"IF(X100<Y100,CONCATENATE(\"* El total de procesados debe ser mayor o igual al total de Reactivos en el grupo de edad \",$X$98),\"\")","v":""},{"$f":"IF(Z100<AA100,CONCATENATE(\"* El total de procesados debe ser mayor o igual al total de Reactivos en el grupo de edad \",$Z$98),\"\")","v":""},{"$f":"IF(AB100<AC100,CONCATENATE(\"* El total de procesados debe ser mayor o igual al total de Reactivos en el grupo de edad \",$AB$98),\"\")","v":""},{"$f":"IF(AD100<AE100,CONCATENATE(\"* El total de procesados debe ser mayor o igual al total de Reactivos en el grupo de edad \",$AD$98),\"\")","v":""},{"$f":"IF(AF100<AG100,CONCATENATE(\"* El total de procesados debe ser mayor o igual al total de Reactivos en el grupo de edad \",$AF$98),\"\")","v":""},{"$f":"IF(AH100<AI100,CONCATENATE(\"* El total de procesados debe ser mayor o igual al total de Reactivos en el grupo de edad \",$AH$98),\"\")","v":""},{"$f":"IF(AJ100<AK100,CONCATENATE(\"* El total de procesados debe ser mayor o igual al total de Reactivos en el grupo de edad \",$AJ$98),\"\")","v":""},{"$f":"IF(AL100<AM100,CONCATENATE(\"* El total de procesados debe ser mayor o igual al total de Reactivos en el grupo de edad \",$AL$98),\"\")","v":""},{"$f":"IF(AN100<AO100,CONCATENATE(\"* El total de procesados debe ser mayor o igual al total de Reactivos en el grupo de edad \",$AN$98),\"\")","v":""},{"$f":"IF(AP100<AQ100,CONCATENATE(\"* El total de procesados debe ser mayor o igual al total de Reactivos en el grupo de edad \",$AP$98),\"\")","v":""},{"$f":"IF(AND(B100<>0,OR(AT100=\"\",AU100=\"\",AV100=\"\",AW100=\"\")),\"* No olvide digitar la columna Trans y/o Pueblos Originarios y/o Migrantes (Digite Cero si no tiene). \",\"\")","v":""},{"$f":"IF(B100<   C100,1,0)","v":0},{"$f":"IF(B100<> AR100+AS100,1,0)","v":0},{"$f":"IF(B100<  AT100+AU100,1,0)","v":0},{"$f":"IF(B100<  AV100,1,0)","v":0},{"$f":"IF(B100<  AW100,1,0)","v":0},{"$f":"IF(D100<E100,1,0)","v":0},{"$f":"IF(F100<G100,1,0)","v":0},{"$f":"IF(H100<I100,1,0)","v":0},{"$f":"IF(J100<K100,1,0)","v":0},{"$f":"IF(L100<M100,1,0)","v":0},{"$f":"IF(N100<O100,1,0)","v":0},{"$f":"IF(P100<Q100,1,0)","v":0},{"$f":"IF(R100<S100,1,0)","v":0},{"$f":"IF(T100<U100,1,0)","v":0},{"$f":"IF(V100<W100,1,0)","v":0},{"$f":"IF(X100<Y100,1,0)","v":0},{"$f":"IF(Z100<AA100,1,0)","v":0},{"$f":"IF(AB100<AC100,1,0)","v":0},{"$f":"IF(AD100<AE100,1,0)","v":0},{"$f":"IF(AF100<AG100,1,0)","v":0},{"$f":"IF(AH100<AI100,1,0)","v":0},{"$f":"IF(AJ100<AK100,1,0)","v":0},{"$f":"IF(AL100<AM100,1,0)","v":0},{"$f":"IF(AN100<AO100,1,0)","v":0},{"$f":"IF(AP100<AQ100,1,0)","v":0},{"$f":"IF(AND(B100<>0,OR(AT100=\"\",AU100=\"\",AV100=\"\",AW100=\"\")),1,0)","v":0}]
["GESTANTES SEGUNDO TRIMESTRE EMBARAZO",0,0,null,null,null,null,null,null,null,null,null,null,null,null,null,null,null,null,null,null,null,null,null,null,null,null,null,null,null,null,null,null,null,null,null,null,null,null,null,null,null,null,null,null,null,null,null,null,"",null,null,null,null,null,null,null,null,null,null,null,null,null,null,null,null,null,null,null,null,null,null,null,null,null,null,null,null,"","","","","",{"$f":"IF(D101<E101,CONCATENATE(\"* El total de procesados debe ser mayor o igual al total de Reactivos en el grupo de edad \",$D$98),\"\")","v":""},{"$f":"IF(F101<G101,CONCATENATE(\"* El total de procesados debe ser mayor o igual al total de Reactivos en el grupo de edad \",$F$98),\"\")","v":""},{"$f":"IF(H101<I101,CONCATENATE(\"* El total de procesados debe ser mayor o igual al total de Reactivos en el grupo de edad \",$H$98),\"\")","v":""},{"$f":"IF(J101<K101,CONCATENATE(\"* El total de procesados debe ser mayor o igual al total de Reactivos en el grupo de edad \",$J$98),\"\")","v":""},{"$f":"IF(L101<M101,CONCATENATE(\"* El total de procesados debe ser mayor o igual al total de Reactivos en el grupo de edad \",$L$98),\"\")","v":""},{"$f":"IF(N101<O101,CONCATENATE(\"* El total de procesados debe ser mayor o igual al total de Reactivos en el grupo de edad \",$N$98),\"\")","v":""},{"$f":"IF(P101<Q101,CONCATENATE(\"* El total de procesados debe ser mayor o igual al total de Reactivos en el grupo de edad \",$P$98),\"\")","v":""},{"$f":"IF(R101<S101,CONCATENATE(\"* El total de procesados debe ser mayor o igual al total de Reactivos en el grupo de edad \",$R$98),\"\")","v":""},{"$f":"IF(T101<U101,CONCATENATE(\"* El total de procesados debe ser mayor o igual al total de Reactivos en el grupo de edad \",$T$98),\"\")","v":""},{"$f":"IF(V101<W101,CONCATENATE(\"* El total de procesados debe ser mayor o igual al total de Reactivos en el grupo de edad \",$V$98),\"\")","v":""},{"$f":"IF(X101<Y101,CONCATENATE(\"* El total de procesados debe ser mayor o igual al total de Reactivos en el grupo de edad \",$X$98),\"\")","v":""},{"$f":"IF(Z101<AA101,CONCATENATE(\"* El total de procesados debe ser mayor o igual al total de Reactivos en el grupo de edad \",$Z$98),\"\")","v":""},{"$f":"IF(AB101<AC101,CONCATENATE(\"* El total de procesados debe ser mayor o igual al total de Reactivos en el grupo de edad \",$AB$98),\"\")","v":""},{"$f":"IF(AD101<AE101,CONCATENATE(\"* El total de procesados debe ser mayor o igual al total de Reactivos en el grupo de edad \",$AD$98),\"\")","v":""},{"$f":"IF(AF101<AG101,CONCATENATE(\"* El total de procesados debe ser mayor o igual al total de Reactivos en el grupo de edad \",$AF$98),\"\")","v":""},{"$f":"IF(AH101<AI101,CONCATENATE(\"* El total de procesados debe ser mayor o igual al total de Reactivos en el grupo de edad \",$AH$98),\"\")","v":""},{"$f":"IF(AJ101<AK101,CONCATENATE(\"* El total de procesados debe ser mayor o igual al total de Reactivos en el grupo de edad \",$AJ$98),\"\")","v":""},{"$f":"IF(AL101<AM101,CONCATENATE(\"* El total de procesados debe ser mayor o igual al total de Reactivos en el grupo de edad \",$AL$98),\"\")","v":""},{"$f":"IF(AN101<AO101,CONCATENATE(\"* El total de procesados debe ser mayor o igual al total de Reactivos en el grupo de edad \",$AN$98),\"\")","v":""},{"$f":"IF(AP101<AQ101,CONCATENATE(\"* El total de procesados debe ser mayor o igual al total de Reactivos en el grupo de edad \",$AP$98),\"\")","v":""},"",0,0,0,0,0,0,0,0,0,0,0,0,0,0,0,0,0,0,0,0,0,0,0,0,0,0]
["GESTANTES TERCER TRIMESTRE EMBARAZO",0,0,null,null,null,null,null,null,null,null,null,null,null,null,null,null,null,null,null,null,null,null,null,null,null,null,null,null,null,null,null,null,null,null,null,null,null,null,null,null,null,null,null,null,null,null,null,null,"",null,null,null,null,null,null,null,null,null,null,null,null,null,null,null,null,null,null,null,null,null,null,null,null,null,null,null,null,"","","","","","","","","","","","","","","","","","","","","","","","","","",0,0,0,0,0,0,0,0,0,0,0,0,0,0,0,0,0,0,0,0,0,0,0,0,0,0]
["GESTANTES TRIMESTRE EMBARAZO IGNORADO",0,0,null,null,null,null,null,null,null,null,null,null,null,null,null,null,null,null,null,null,null,null,null,null,null,null,null,null,null,null,null,null,null,null,null,null,null,null,null,null,null,null,null,null,null,null,null,null,"",null,null,null,null,null,null,null,null,null,null,null,null,null,null,null,null,null,null,null,null,null,null,null,null,null,null,null,null,"","","","","","","","","","","","","","","","","","","","","","","","","","",0,0,0,0,0,0,0,0,0,0,0,0,0,0,0,0,0,0,0,0,0,0,0,0,0,0]
["GESTANTES EN SEGUIMIENTO POR DIAGNÓSTICO SÍFILIS",0,0,null,null,null,null,null,null,null,null,null,null,null,null,null,null,null,null,null,null,null,null,null,null,null,null,null,null,null,null,null,null,null,null,null,null,null,null,null,null,null,null,null,null,null,null,null,null,"",null,null,null,null,null,null,null,null,null,null,null,null,null,null,null,null,null,null,null,null,null,null,null,null,null,null,null,null,"","","","","","","","","","","","","","","","","","","","","","","","","","",0,0,0,0,0,0,0,0,0,0,0,0,0,0,0,0,0,0,0,0,0,0,0,0,0,0]
["PAREJA DE GESTANTE CON SEROLOGÍA REACTIVA",0,0,null,null,null,null,null,null,null,null,null,null,null,null,null,null,null,null,null,null,null,null,null,null,null,null,null,null,null,null,null,null,null,null,null,null,null,null,null,null,null,null,null,null,null,null,null,null,"",null,null,null,null,null,null,null,null,null,null,null,null,null,null,null,null,null,null,null,null,null,null,null,null,null,null,null,null,"","","","","","","","","","","","","","","","","","","","","","","","","","",0,0,0,0,0,0,0,0,0,0,0,0,0,0,0,0,0,0,0,0,0,0,0,0,0,0]
["MUJERES QUE INGRESAN A MATERNIDAD POR PARTO",0,0,null,null,null,null,null,null,null,null,null,null,null,null,null,null,null,null,null,null,null,null,null,null,null,null,null,null,null,null,null,null,null,null,null,null,null,null,null,null,null,null,null,null,null,null,null,null,"",null,null,null,null,null,null,null,null,null,null,null,null,null,null,null,null,null,null,null,null,null,null,null,null,null,null,null,null,"","","","","","","","","","","","","","","","","","","","","","","","","","",0,0,0,0,0,0,0,0,0,0,0,0,0,0,0,0,0,0,0,0,0,0,0,0,0,0]
["MUJERES QUE INGRESAN POR ABORTO",0,0,null,null,null,null,null,null,null,null,null,null,null,null,null,null,null,null,null,null,null,null,null,null,null,null,null,null,null,null,null,null,null,null,null,null,null,null,null,null,null,null,null,null,null,null,null,null,"",null,null,null,null,null,null,null,null,null,null,null,null,null,null,null,null,null,null,null,null,null,null,null,null,null,null,null,null,"","","","","","","","","","","","","","","","","","","","","","","","","","",0,0,0,0,0,0,0,0,0,0,0,0,0,0,0,0,0,0,0,0,0,0,0,0,0,0]
["MUJERES EN CONTROL GINECOLÓGICO",{"$f":"+D108+F108+H108+J108+L108+N108+P108+R108+T108+V108+X108+Z108+AB108+AD108+AF108+AH108+AJ108+AL108+AN108+AP108","v":0},{"$f":"+E108+G108+I108+K108+M108+O108+Q108+S108+U108+W108+Y108+AA108+AC108+AE108+AG108+AI108+AK108+AM108+AO108+AQ108","v":0},null,null,null,null,null,null,null,null,null,null,null,null,null,null,null,null,null,null,null,null,null,null,null,null,null,null,null,null,null,null,null,null,null,null,null,null,null,null,null,null,null,null,null,null,null,null,"",null,null,null,null,null,null,null,null,null,null,null,null,null,null,null,null,null,null,null,null,null,null,null,null,null,null,null,null,"","","","","","","","","","","","","","","","","","","","","","","","","","",0,0,0,0,0,0,0,0,0,0,0,0,0,0,0,0,0,0,0,0,0,0,0,0,0,0]
["RECIÉN NACIDO Y LACTANTE PARA DETECCIÓN DE SÍFILIS CONGÉNITA",{"$f":"+D109+F109+H109","v":0},{"$f":"+E109+G109+I109","v":0},null,null,null,null,null,null,null,null,null,null,null,null,null,null,null,null,null,null,null,null,null,null,null,null,null,null,null,null,null,null,null,null,null,null,null,null,null,null,null,null,null,null,null,null,null,null,"",null,null,null,null,null,null,null,null,null,null,null,null,null,null,null,null,null,null,null,null,null,null,null,null,null,null,null,null,"","","","","","","","","","","","","","","","","","","","","","","","","","",0,0,0,0,0,0,0,0,0,0,0,0,0,0,0,0,0,0,0,0,0,0,0,0,0,0]
["PERSONAS EN CONTROL POR COMERCIO SEXUAL",{"$f":"+P110+R110+T110+V110+X110+Z110+AB110+AD110+AF110+AH110+AJ110+AL110+AN110+AP110","v":0},{"$f":"+Q110+S110+U110+W110+Y110+AA110+AC110+AE110+AG110+AI110+AK110+AM110+AO110+AQ110","v":0},null,null,null,null,null,null,null,null,null,null,null,null,null,null,null,null,null,null,null,null,null,null,null,null,null,null,null,null,null,null,null,null,null,null,null,null,null,null,null,null,null,null,null,null,null,null,"",null,null,null,null,null,null,null,null,null,null,null,null,null,null,null,null,null,null,null,null,null,null,null,null,null,null,null,null,"","","","","","","","","","","","","","","","","","","","","","","","","","",0,0,0,0,0,0,0,0,0,0,0,0,0,0,0,0,0,0,0,0,0,0,0,0,0,0]
["PERSONAS EN CONTROL FECUNDIDAD",{"$f":"+N111+P111+R111+T111+V111+X111+Z111+AB111+AD111+AF111+AH111+AJ111+AL111+AN111+AP111","v":0},{"$f":"+O111+Q111+S111+U111+W111+Y111+AA111+AC111+AE111+AG111+AI111+AK111+AM111+AO111+AQ111","v":0},null,null,null,null,null,null,null,null,null,null,null,null,null,null,null,null,null,null,null,null,null,null,null,null,null,null,null,null,null,null,null,null,null,null,null,null,null,null,null,null,null,null,null,null,null,null,"",null,null,null,null,null,null,null,null,null,null,null,null,null,null,null,null,null,null,null,null,null,null,null,null,null,null,null,null,"","","","","","","","","","","","","","","","","","","","","","","","","","",0,0,0,0,0,0,0,0,0,0,0,0,0,0,0,0,0,0,0,0,0,0,0,0,0,0]
["CONSULTANTES POR ITS",{"$f":"+D112+F112+H112+J112+L112+N112+P112+R112+T112+V112+X112+Z112+AB112+AD112+AF112+AH112+AJ112+AL112+AN112+AP112","v":0},{"$f":"+E112+G112+I112+K112+M112+O112+Q112+S112+U112+W112+Y112+AA112+AC112+AE112+AG112+AI112+AK112+AM112+AO112+AQ112","v":0},null,null,null,null,null,null,null,null,null,null,null,null,null,null,null,null,null,null,null,null,null,null,null,null,null,null,null,null,null,null,null,null,null,null,null,null,null,null,null,null,null,null,null,null,null,null,"",null,null,null,null,null,null,null,null,null,null,null,null,null,null,null,null,null,null,null,null,null,null,null,null,null,null,null,null,"","","","","","","","","","","","","","","","","","","","","","","","","","",0,0,0,0,0,0,0,0,0,0,0,0,0,0,0,0,0,0,0,0,0,0,0,0,0,0]
["PERSONAS EMP/EMPAM ",{"$f":"+P113+R113+T113+V113+X113+Z113+AB113+AD113+AF113+AH113+AJ113+AL113+AN113+AP113","v":0},{"$f":"+Q113+S113+U113+W113+Y113+AA113+AC113+AE113+AG113+AI113+AK113+AM113+AO113+AQ113","v":0},null,null,null,null,null,null,null,null,null,null,null,null,null,null,null,null,null,null,null,null,null,null,null,null,null,null,null,null,null,null,null,null,null,null,null,null,null,null,null,null,null,null,null,null,null,null,"",null,null,null,null,null,null,null,null,null,null,null,null,null,null,null,null,null,null,null,null,null,null,null,null,null,null,null,null,"","","","","","","","","","","","","","","","","","","","","","","","","","",0,0,0,0,0,0,0,0,0,0,0,0,0,0,0,0,0,0,0,0,0,0,0,0,0,0]
["DONANTES DE SANGRE",{"$f":"+P114+R114+T114+V114+X114+Z114+AB114+AD114+AF114+AH114","v":0},{"$f":"+Q114+S114+U114+W114+Y114+AA114+AC114+AE114+AG114+AI114","v":0},null,null,null,null,null,null,null,null,null,null,null,null,null,null,null,null,null,null,null,null,null,null,null,null,null,null,null,null,null,null,null,null,null,null,null,null,null,null,null,null,null,null,null,null,null,null,"",null,null,null,null,null,null,null,null,null,null,null,null,null,null,null,null,null,null,null,null,null,null,null,null,null,null,null,null,"","","","","","","","","","","","","","","","","","","","","","","","","","",0,0,0,0,0,0,0,0,0,0,0,0,0,0,0,0,0,0,0,0,0,0,0,0,0,0]
["DONANTES DE ÓRGANOS Y/O TEJIDOS",{"$f":"+D115+F115+H115+J115+L115+N115+P115+R115+T115+V115+X115+Z115+AB115+AD115+AF115+AH115+AJ115+AL115+AN115+AP115","v":0},0,null,null,null,null,null,null,null,null,null,null,null,null,null,null,null,null,null,null,null,null,null,null,null,null,null,null,null,null,null,null,null,null,null,null,null,null,null,null,null,null,null,null,null,null,null,null,"",null,null,null,null,null,null,null,null,null,null,null,null,null,null,null,null,null,null,null,null,null,null,null,null,null,null,null,null,"","","","","","","","","","","","","","","","","","","","","","","","","","",0,0,0,0,0,0,0,0,0,0,0,0,0,0,0,0,0,0,0,0,0,0,0,0,0,0]
["PACIENTES EN DIÁLISIS",0,0,null,null,null,null,null,null,null,null,null,null,null,null,null,null,null,null,null,null,null,null,null,null,null,null,null,null,null,null,null,null,null,null,null,null,null,null,null,null,null,null,null,null,null,null,null,null,"",null,null,null,null,null,null,null,null,null,null,null,null,null,null,null,null,null,null,null,null,null,null,null,null,null,null,null,null,"","","","","","","","","","","","","","","","","","","","","","","","","","",0,0,0,0,0,0,0,0,0,0,0,0,0,0,0,0,0,0,0,0,0,0,0,0,0,0]
["VÍCTIMA DE VIOLENCIA SEXUAL",0,0,null,null,null,null,null,null,null,null,null,null,null,null,null,null,null,null,null,null,null,null,null,null,null,null,null,null,null,null,null,null,null,null,null,null,null,null,null,null,null,null,null,null,null,null,null,null,"",null,null,null,null,null,null,null,null,null,null,null,null,null,null,null,null,null,null,null,null,null,null,null,null,null,null,null,null,"","","","","","","","","","","","","","","","","","","","","","","","","","",0,0,0,0,0,0,0,0,0,0,0,0,0,0,0,0,0,0,0,0,0,0,0,0,0,0]
["SECCIÓN A.6: EXAMEN MHA-TP POR GRUPO DE USUARIOS (Uso exclusivo de establecimientos que Compran Servicio)"]
["GRUPO DE PESQUISA","TOTAL",null,"POR EDAD (en meses - años)",null,null,null,null,null,null,null,null,null,null,null,null,null,null,null,null,null,null,null,null,null,null,null,null,null,null,null,null,null,null,null,null,null,null,null,null,null,null,null,"POR SEXO\n(Procesados)",null,"TRANS",null,"Pueblos Originarios","Migrantes"]
[null,null,null,"Menor de 6 meses",null,"6 a 11 meses",null,"12-24 meses",null,"3 a 4 años",null,"5 a 9 años",null,"10 - 14 años",null,"15 - 19 años",null,"20 - 24 años",null,"25 a 29 años",null,"30 a 34 años",null,"35 a 39 años",null,"40 a 44 años",null,"45 a 49 años",null,"50 a 54 años",null,"55 a 59 años",null,"60 a 64 años",null,"65 a 69 años",null,"70 a 74 años",null,"75 a 79 años",null,"80 y más años",null,"Hombres","Mujeres"]
[null,"Procesados","Reactivos","Procesados","Reactivos","Procesados","Reactivos","Procesados","Reactivos","Procesados","Reactivos","Procesados","Reactivos","Procesados","Reactivos","Procesados","Reactivos","Procesados","Reactivos","Procesados","Reactivos","Procesados","Reactivos","Procesados","Reactivos","Procesados","Reactivos","Procesados","Reactivos","Procesados","Reactivos","Procesados","Reactivos","Procesados","Reactivos","Procesados","Reactivos","Procesados","Reactivos","Procesados","Reactivos","Procesados","Reactivos",null,null,"Masculino","Femenino"]
["GESTANTES PRIMER TRIMESTRE EMBARAZO",{"$f":"+N122+P122+R122+T122+V122+X122+Z122+AB122+AD122+AF122+AH122+AJ122+AL122+AN122+AP122","v":0},0,null,null,null,null,null,null,null,null,null,null,null,null,null,null,null,null,null,null,null,null,null,null,null,null,null,null,null,null,null,null,null,null,null,null,null,null,null,null,null,null,null,null,null,null,null,null,{"$f":"$CA122&$CB122&$CC122&$CD122&$CE122&$CF122&$CG122&$CH122&$CI122&$CJ122&$CK122&$CL122&$CM122&$CN122&$CO122&$CP122&$CQ122&$CR122&$CS122&$CT122&$CU122&$CV122&$CW122&$CX122&$CY122&$CZ122","v":""},null,null,null,null,null,null,null,null,null,null,null,null,null,null,null,null,null,null,null,null,null,null,null,null,null,null,null,null,{"$f":"IF(B122<C122,\"* El total de Reactivos NO DEBE ser superior al total de Procesados. \",\"\")","v":""},{"$f":"IF(B122<>(AR122+ AS122),\"* La suma de las columnas Sexo DEBE SER IGUAL a los Procesados. \",\"\")","v":""},{"$f":"IF(B122<(AT122+ AU122),\"* La suma de las columna Trans NO DEBE ser superior al total de Procesados. \",\"\")","v":""},{"$f":"IF(B122<AV122,\"* La columna Pueblos Originarios NO DEBE ser superior al total de Procesados. \",\"\")","v":""},{"$f":"IF(B122<AW122,\"* La columna Migrantes NO DEBE ser superior al total de Procesados. \",\"\")","v":""},{"$f":"IF(D122<E122,CONCATENATE(\"* El total de procesados debe ser mayor o igual al total de Reactivos en el grupo de edad \",$D$120),\"\")","v":""},{"$f":"IF(F122<G122,CONCATENATE(\"* El total de procesados debe ser mayor o igual al total de Reactivos en el grupo de edad \",$F$120),\"\")","v":""},{"$f":"IF(H122<I122,CONCATENATE(\"* El total de procesados debe ser mayor o igual al total de Reactivos en el grupo de edad \",$H$120),\"\")","v":""},{"$f":"IF(J122<K122,CONCATENATE(\"* El total de procesados debe ser mayor o igual al total de Reactivos en el grupo de edad \",$J$120),\"\")","v":""},{"$f":"IF(L122<M122,CONCATENATE(\"* El total de procesados debe ser mayor o igual al total de Reactivos en el grupo de edad \",$L$120),\"\")","v":""},{"$f":"IF(N122<O122,CONCATENATE(\"* El total de procesados debe ser mayor o igual al total de Reactivos en el grupo de edad \",$N$120),\"\")","v":""},{"$f":"IF(P122<Q122,CONCATENATE(\"* El total de procesados debe ser mayor o igual al total de Reactivos en el grupo de edad \",$P$120),\"\")","v":""},{"$f":"IF(R122<S122,CONCATENATE(\"* El total de procesados debe ser mayor o igual al total de Reactivos en el grupo de edad \",$R$120),\"\")","v":""},{"$f":"IF(T122<U122,CONCATENATE(\"* El total de procesados debe ser mayor o igual al total de Reactivos en el grupo de edad \",$T$120),\"\")","v":""},{"$f":"IF(V122<W122,CONCATENATE(\"* El total de procesados debe ser mayor o igual al total de Reactivos en el grupo de edad \",$V$120),\"\")","v":""},{"$f":"IF(X122<Y122,CONCATENATE(\"* El total de procesados debe ser mayor o igual al total de Reactivos en el grupo de edad \",$X$120),\"\")","v":""},{"$f":"IF(Z122<AA122,CONCATENATE(\"* El total de procesados debe ser mayor o igual al total de Reactivos en el grupo de edad \",$Z$120),\"\")","v":""},{"$f":"IF(AB122<AC122,CONCATENATE(\"* El total de procesados debe ser mayor o igual al total de Reactivos en el grupo de edad \",$AB$120),\"\")","v":""},{"$f":"IF(AD122<AE122,CONCATENATE(\"* El total de procesados debe ser mayor o igual al total de Reactivos en el grupo de edad \",$AD$120),\"\")","v":""},{"$f":"IF(AF122<AG122,CONCATENATE(\"* El total de procesados debe ser mayor o igual al total de Reactivos en el grupo de edad \",$AF$120),\"\")","v":""},{"$f":"IF(AH122<AI122,CONCATENATE(\"* El total de procesados debe ser mayor o igual al total de Reactivos en el grupo de edad \",$AH$120),\"\")","v":""},{"$f":"IF(AJ122<AK122,CONCATENATE(\"* El total de procesados debe ser mayor o igual al total de Reactivos en el grupo de edad \",$AJ$120),\"\")","v":""},{"$f":"IF(AL122<AM122,CONCATENATE(\"* El total de procesados debe ser mayor o igual al total de Reactivos en el grupo de edad \",$AL$120),\"\")","v":""},{"$f":"IF(AN122<AO122,CONCATENATE(\"* El total de procesados debe ser mayor o igual al total de Reactivos en el grupo de edad \",$AN$120),\"\")","v":""},{"$f":"IF(AP122<AQ122,CONCATENATE(\"* El total de procesados debe ser mayor o igual al total de Reactivos en el grupo de edad \",$AP$120),\"\")","v":""},{"$f":"IF(AND(B122<>0,OR(AT122=\"\",AU122=\"\",AV122=\"\",AW122=\"\")),\"* No olvide digitar la columna Trans y/o Pueblos Originarios y/o Migrantes (Digite Cero si no tiene). \",\"\")","v":""},{"$f":"IF(B122<   C122,1,0)","v":0},{"$f":"IF(B122<> AR122+AS122,1,0)","v":0},{"$f":"IF(B122<  AT122+AU122,1,0)","v":0},{"$f":"IF(B122<  AV122,1,0)","v":0},{"$f":"IF(B122<  AW122,1,0)","v":0},{"$f":"IF(D122<E122,1,0)","v":0},{"$f":"IF(F122<G122,1,0)","v":0},{"$f":"IF(H122<I122,1,0)","v":0},{"$f":"IF(J122<K122,1,0)","v":0},{"$f":"IF(L122<M122,1,0)","v":0},{"$f":"IF(N122<O122,1,0)","v":0},{"$f":"IF(P122<Q122,1,0)","v":0},{"$f":"IF(R122<S122,1,0)","v":0},{"$f":"IF(T122<U122,1,0)","v":0},{"$f":"IF(V122<W122,1,0)","v":0},{"$f":"IF(X122<Y122,1,0)","v":0},{"$f":"IF(Z122<AA122,1,0)","v":0},{"$f":"IF(AB122<AC122,1,0)","v":0},{"$f":"IF(AD122<AE122,1,0)","v":0},{"$f":"IF(AF122<AG122,1,0)","v":0},{"$f":"IF(AH122<AI122,1,0)","v":0},{"$f":"IF(AJ122<AK122,1,0)","v":0},{"$f":"IF(AL122<AM122,1,0)","v":0},{"$f":"IF(AN122<AO122,1,0)","v":0},{"$f":"IF(AP122<AQ122,1,0)","v":0},{"$f":"IF(AND(B122<>0,OR(AT122=\"\",AU122=\"\",AV122=\"\",AW122=\"\")),1,0)","v":0}]
["GESTANTES SEGUNDO TRIMESTRE EMBARAZO",0,0,null,null,null,null,null,null,null,null,null,null,null,null,null,null,null,null,null,null,null,null,null,null,null,null,null,null,null,null,null,null,null,null,null,null,null,null,null,null,null,null,null,null,null,null,null,null,"",null,null,null,null,null,null,null,null,null,null,null,null,null,null,null,null,null,null,null,null,null,null,null,null,null,null,null,null,"","","","","",{"$f":"IF(D123<E123,CONCATENATE(\"* El total de procesados debe ser mayor o igual al total de Reactivos en el grupo de edad \",$D$120),\"\")","v":""},{"$f":"IF(F123<G123,CONCATENATE(\"* El total de procesados debe ser mayor o igual al total de Reactivos en el grupo de edad \",$F$120),\"\")","v":""},{"$f":"IF(H123<I123,CONCATENATE(\"* El total de procesados debe ser mayor o igual al total de Reactivos en el grupo de edad \",$H$120),\"\")","v":""},{"$f":"IF(J123<K123,CONCATENATE(\"* El total de procesados debe ser mayor o igual al total de Reactivos en el grupo de edad \",$J$120),\"\")","v":""},{"$f":"IF(L123<M123,CONCATENATE(\"* El total de procesados debe ser mayor o igual al total de Reactivos en el grupo de edad \",$L$120),\"\")","v":""},{"$f":"IF(N123<O123,CONCATENATE(\"* El total de procesados debe ser mayor o igual al total de Reactivos en el grupo de edad \",$N$120),\"\")","v":""},{"$f":"IF(P123<Q123,CONCATENATE(\"* El total de procesados debe ser mayor o igual al total de Reactivos en el grupo de edad \",$P$120),\"\")","v":""},{"$f":"IF(R123<S123,CONCATENATE(\"* El total de procesados debe ser mayor o igual al total de Reactivos en el grupo de edad \",$R$120),\"\")","v":""},{"$f":"IF(T123<U123,CONCATENATE(\"* El total de procesados debe ser mayor o igual al total de Reactivos en el grupo de edad \",$T$120),\"\")","v":""},{"$f":"IF(V123<W123,CONCATENATE(\"* El total de procesados debe ser mayor o igual al total de Reactivos en el grupo de edad \",$V$120),\"\")","v":""},{"$f":"IF(X123<Y123,CONCATENATE(\"* El total de procesados debe ser mayor o igual al total de Reactivos en el grupo de edad \",$X$120),\"\")","v":""},{"$f":"IF(Z123<AA123,CONCATENATE(\"* El total de procesados debe ser mayor o igual al total de Reactivos en el grupo de edad \",$Z$120),\"\")","v":""},{"$f":"IF(AB123<AC123,CONCATENATE(\"* El total de procesados debe ser mayor o igual al total de Reactivos en el grupo de edad \",$AB$120),\"\")","v":""},{"$f":"IF(AD123<AE123,CONCATENATE(\"* El total de procesados debe ser mayor o igual al total de Reactivos en el grupo de edad \",$AD$120),\"\")","v":""},{"$f":"IF(AF123<AG123,CONCATENATE(\"* El total de procesados debe ser mayor o igual al total de Reactivos en el grupo de edad \",$AF$120),\"\")","v":""},{"$f":"IF(AH123<AI123,CONCATENATE(\"* El total de procesados debe ser mayor o igual al total de Reactivos en el grupo de edad \",$AH$120),\"\")","v":""},{"$f":"IF(AJ123<AK123,CONCATENATE(\"* El total de procesados debe ser mayor o igual al total de Reactivos en el grupo de edad \",$AJ$120),\"\")","v":""},{"$f":"IF(AL123<AM123,CONCATENATE(\"* El total de procesados debe ser mayor o igual al total de Reactivos en el grupo de edad \",$AL$120),\"\")","v":""},{"$f":"IF(AN123<AO123,CONCATENATE(\"* El total de procesados debe ser mayor o igual al total de Reactivos en el grupo de edad \",$AN$120),\"\")","v":""},{"$f":"IF(AP123<AQ123,CONCATENATE(\"* El total de procesados debe ser mayor o igual al total de Reactivos en el grupo de edad \",$AP$120),\"\")","v":""},"",0,0,0,0,0,0,0,0,0,0,0,0,0,0,0,0,0,0,0,0,0,0,0,0,0,0]
["GESTANTES TERCER TRIMESTRE EMBARAZO",0,0,null,null,null,null,null,null,null,null,null,null,null,null,null,null,null,null,null,null,null,null,null,null,null,null,null,null,null,null,null,null,null,null,null,null,null,null,null,null,null,null,null,null,null,null,null,null,"",null,null,null,null,null,null,null,null,null,null,null,null,null,null,null,null,null,null,null,null,null,null,null,null,null,null,null,null,"","","","","","","","","","","","","","","","","","","","","","","","","","",0,0,0,0,0,0,0,0,0,0,0,0,0,0,0,0,0,0,0,0,0,0,0,0,0,0]
["GESTANTES TRIMESTRE EMBARAZO IGNORADO",0,0,null,null,null,null,null,null,null,null,null,null,null,null,null,null,null,null,null,null,null,null,null,null,null,null,null,null,null,null,null,null,null,null,null,null,null,null,null,null,null,null,null,null,null,null,null,null,"",null,null,null,null,null,null,null,null,null,null,null,null,null,null,null,null,null,null,null,null,null,null,null,null,null,null,null,null,"","","","","","","","","","","","","","","","","","","","","","","","","","",0,0,0,0,0,0,0,0,0,0,0,0,0,0,0,0,0,0,0,0,0,0,0,0,0,0]
["GESTANTES EN SEGUIMIENTO POR DIAGNÓSTICO SÍFILIS",0,0,null,null,null,null,null,null,null,null,null,null,null,null,null,null,null,null,null,null,null,null,null,null,null,null,null,null,null,null,null,null,null,null,null,null,null,null,null,null,null,null,null,null,null,null,null,null,"",null,null,null,null,null,null,null,null,null,null,null,null,null,null,null,null,null,null,null,null,null,null,null,null,null,null,null,null,"","","","","","","","","","","","","","","","","","","","","","","","","","",0,0,0,0,0,0,0,0,0,0,0,0,0,0,0,0,0,0,0,0,0,0,0,0,0,0]
["PAREJA DE GESTANTE CON SEROLOGÍA REACTIVA",0,0,null,null,null,null,null,null,null,null,null,null,null,null,null,null,null,null,null,null,null,null,null,null,null,null,null,null,null,null,null,null,null,null,null,null,null,null,null,null,null,null,null,null,null,null,null,null,"",null,null,null,null,null,null,null,null,null,null,null,null,null,null,null,null,null,null,null,null,null,null,null,null,null,null,null,null,"","","","","","","","","","","","","","","","","","","","","","","","","","",0,0,0,0,0,0,0,0,0,0,0,0,0,0,0,0,0,0,0,0,0,0,0,0,0,0]
["MUJERES QUE INGRESAN A MATERNIDAD POR PARTO",0,0,null,null,null,null,null,null,null,null,null,null,null,null,null,null,null,null,null,null,null,null,null,null,null,null,null,null,null,null,null,null,null,null,null,null,null,null,null,null,null,null,null,null,null,null,null,null,"",null,null,null,null,null,null,null,null,null,null,null,null,null,null,null,null,null,null,null,null,null,null,null,null,null,null,null,null,"","","","","","","","","","","","","","","","","","","","","","","","","","",0,0,0,0,0,0,0,0,0,0,0,0,0,0,0,0,0,0,0,0,0,0,0,0,0,0]
["MUJERES QUE INGRESAN POR ABORTO",0,0,null,null,null,null,null,null,null,null,null,null,null,null,null,null,null,null,null,null,null,null,null,null,null,null,null,null,null,null,null,null,null,null,null,null,null,null,null,null,null,null,null,null,null,null,null,null,"",null,null,null,null,null,null,null,null,null,null,null,null,null,null,null,null,null,null,null,null,null,null,null,null,null,null,null,null,"","","","","","","","","","","","","","","","","","","","","","","","","","",0,0,0,0,0,0,0,0,0,0,0,0,0,0,0,0,0,0,0,0,0,0,0,0,0,0]
["MUJERES EN CONTROL GINECOLÓGICO",{"$f":"+D130+F130+H130+J130+L130+N130+P130+R130+T130+V130+X130+Z130+AB130+AD130+AF130+AH130+AJ130+AL130+AN130+AP130","v":0},{"$f":"+E130+G130+I130+K130+M130+O130+Q130+S130+U130+W130+Y130+AA130+AC130+AE130+AG130+AI130+AK130+AM130+AO130+AQ130","v":0},null,null,null,null,null,null,null,null,null,null,null,null,null,null,null,null,null,null,null,null,null,null,null,null,null,null,null,null,null,null,null,null,null,null,null,null,null,null,null,null,null,null,null,null,null,null,"",null,null,null,null,null,null,null,null,null,null,null,null,null,null,null,null,null,null,null,null,null,null,null,null,null,null,null,null,"","","","","","","","","","","","","","","","","","","","","","","","","","",0,0,0,0,0,0,0,0,0,0,0,0,0,0,0,0,0,0,0,0,0,0,0,0,0,0]
["RECIÉN NACIDO Y LACTANTE PARA DETECCIÓN DE SÍFILIS CONGÉNITA",{"$f":"+D131+F131+H131","v":0},{"$f":"+E131+G131+I131","v":0},null,null,null,null,null,null,null,null,null,null,null,null,null,null,null,null,null,null,null,null,null,null,null,null,null,null,null,null,null,null,null,null,null,null,null,null,null,null,null,null,null,null,null,null,null,null,"",null,null,null,null,null,null,null,null,null,null,null,null,null,null,null,null,null,null,null,null,null,null,null,null,null,null,null,null,"","","","","","","","","","","","","","","","","","","","","","","","","","",0,0,0,0,0,0,0,0,0,0,0,0,0,0,0,0,0,0,0,0,0,0,0,0,0,0]
["PERSONAS EN CONTROL POR COMERCIO SEXUAL",{"$f":"+P132+R132+T132+V132+X132+Z132+AB132+AD132+AF132+AH132+AJ132+AL132+AN132+AP132","v":0},{"$f":"+Q132+S132+U132+W132+Y132+AA132+AC132+AE132+AG132+AI132+AK132+AM132+AO132+AQ132","v":0},null,null,null,null,null,null,null,null,null,null,null,null,null,null,null,null,null,null,null,null,null,null,null,null,null,null,null,null,null,null,null,null,null,null,null,null,null,null,null,null,null,null,null,null,null,null,"",null,null,null,null,null,null,null,null,null,null,null,null,null,null,null,null,null,null,null,null,null,null,null,null,null,null,null,null,"","","","","","","","","","","","","","","","","","","","","","","","","","",0,0,0,0,0,0,0,0,0,0,0,0,0,0,0,0,0,0,0,0,0,0,0,0,0,0]
["PERSONAS EN CONTROL FECUNDIDAD",{"$f":"+N133+P133+R133+T133+V133+X133+Z133+AB133+AD133+AF133+AH133+AJ133+AL133+AN133+AP133","v":0},{"$f":"+O133+Q133+S133+U133+W133+Y133+AA133+AC133+AE133+AG133+AI133+AK133+AM133+AO133+AQ133","v":0},null,null,null,null,null,null,null,null,null,null,null,null,null,null,null,null,null,null,null,null,null,null,null,null,null,null,null,null,null,null,null,null,null,null,null,null,null,null,null,null,null,null,null,null,null,null,"",null,null,null,null,null,null,null,null,null,null,null,null,null,null,null,null,null,null,null,null,null,null,null,null,null,null,null,null,"","","","","","","","","","","","","","","","","","","","","","","","","","",0,0,0,0,0,0,0,0,0,0,0,0,0,0,0,0,0,0,0,0,0,0,0,0,0,0]
["CONSULTANTES POR ITS",{"$f":"+D134+F134+H134+J134+L134+N134+P134+R134+T134+V134+X134+Z134+AB134+AD134+AF134+AH134+AJ134+AL134+AN134+AP134","v":0},{"$f":"+E134+G134+I134+K134+M134+O134+Q134+S134+U134+W134+Y134+AA134+AC134+AE134+AG134+AI134+AK134+AM134+AO134+AQ134","v":0},null,null,null,null,null,null,null,null,null,null,null,null,null,null,null,null,null,null,null,null,null,null,null,null,null,null,null,null,null,null,null,null,null,null,null,null,null,null,null,null,null,null,null,null,null,null,"",null,null,null,null,null,null,null,null,null,null,null,null,null,null,null,null,null,null,null,null,null,null,null,null,null,null,null,null,"","","","","","","","","","","","","","","","","","","","","","","","","","",0,0,0,0,0,0,0,0,0,0,0,0,0,0,0,0,0,0,0,0,0,0,0,0,0,0]
["PERSONAS EMP/EMPAM ",{"$f":"+P135+R135+T135+V135+X135+Z135+AB135+AD135+AF135+AH135+AJ135+AL135+AN135+AP135","v":0},{"$f":"+Q135+S135+U135+W135+Y135+AA135+AC135+AE135+AG135+AI135+AK135+AM135+AO135+AQ135","v":0},null,null,null,null,null,null,null,null,null,null,null,null,null,null,null,null,null,null,null,null,null,null,null,null,null,null,null,null,null,null,null,null,null,null,null,null,null,null,null,null,null,null,null,null,null,null,"",null,null,null,null,null,null,null,null,null,null,null,null,null,null,null,null,null,null,null,null,null,null,null,null,null,null,null,null,"","","","","","","","","","","","","","","","","","","","","","","","","","",0,0,0,0,0,0,0,0,0,0,0,0,0,0,0,0,0,0,0,0,0,0,0,0,0,0]
["DONANTES DE SANGRE",{"$f":"+P136+R136+T136+V136+X136+Z136+AB136+AD136+AF136+AH136","v":0},{"$f":"+Q136+S136+U136+W136+Y136+AA136+AC136+AE136+AG136+AI136","v":0},null,null,null,null,null,null,null,null,null,null,null,null,null,null,null,null,null,null,null,null,null,null,null,null,null,null,null,null,null,null,null,null,null,null,null,null,null,null,null,null,null,null,null,null,null,null,"",null,null,null,null,null,null,null,null,null,null,null,null,null,null,null,null,null,null,null,null,null,null,null,null,null,null,null,null,"","","","","","","","","","","","","","","","","","","","","","","","","","",0,0,0,0,0,0,0,0,0,0,0,0,0,0,0,0,0,0,0,0,0,0,0,0,0,0]
["DONANTES DE ÓRGANOS Y/O TEJIDOS",{"$f":"+D137+F137+H137+J137+L137+N137+P137+R137+T137+V137+X137+Z137+AB137+AD137+AF137+AH137+AJ137+AL137+AN137+AP137","v":0},0,null,null,null,null,null,null,null,null,null,null,null,null,null,null,null,null,null,null,null,null,null,null,null,null,null,null,null,null,null,null,null,null,null,null,null,null,null,null,null,null,null,null,null,null,null,null,"",null,null,null,null,null,null,null,null,null,null,null,null,null,null,null,null,null,null,null,null,null,null,null,null,null,null,null,null,"","","","","","","","","","","","","","","","","","","","","","","","","","",0,0,0,0,0,0,0,0,0,0,0,0,0,0,0,0,0,0,0,0,0,0,0,0,0,0]
["PACIENTES EN DIÁLISIS",0,0,null,null,null,null,null,null,null,null,null,null,null,null,null,null,null,null,null,null,null,null,null,null,null,null,null,null,null,null,null,null,null,null,null,null,null,null,null,null,null,null,null,null,null,null,null,null,"",null,null,null,null,null,null,null,null,null,null,null,null,null,null,null,null,null,null,null,null,null,null,null,null,null,null,null,null,"","","","","","","","","","","","","","","","","","","","","","","","","","",0,0,0,0,0,0,0,0,0,0,0,0,0,0,0,0,0,0,0,0,0,0,0,0,0,0]
["VÍCTIMA DE VIOLENCIA SEXUAL",0,0,null,null,null,null,null,null,null,null,null,null,null,null,null,null,null,null,null,null,null,null,null,null,null,null,null,null,null,null,null,null,null,null,null,null,null,null,null,null,null,null,null,null,null,null,null,null,"",null,null,null,null,null,null,null,null,null,null,null,null,null,null,null,null,null,null,null,null,null,null,null,null,null,null,null,null,"",{"$f":"IF(B139<>(AR139+ AS139),\"* La suma de las columnas Sexo DEBE SER IGUAL a los Procesados. \",\"\")","v":""},"","","","","","","","","","","","","","","","","","","","","","","","",0,0,0,0,0,0,0,0,0,0,0,0,0,0,0,0,0,0,0,0,0,0,0,0,0,0]
["SECCIÓN B.1: EXÁMENES SEGÚN GRUPOS DE USUARIOS POR CONDICIÓN DE HEPATITIS B, HEPATITIS C, CHAGAS, HTLV 1 Y SIFILIS (Uso exclusivo de establecimientos con Laboratorio que procesan)"]
["GRUPO DE USUARIOS",null,"HEPATITIS  B",null,null,"HEPATITIS  C",null,null,"CHAGAS",null,null,"HTLV1",null,null,"SÍFILIS"]
[null,null,"Procesados","Reactivos","Confirmados","Procesados","Reactivos","Confirmados","Procesados","Reactivos","Confirmados","Procesados","Reactivos","Confirmados","Procesados","Reactivos"]
["USUARIOS",null,null,null,null,null,null,null,null,null,null,null,null,null,null,null,{"$f":"CA143&CB143&CC143&CD143&CE143","v":""},null,null,null,null,null,null,null,null,null,null,null,null,null,null,null,null,null,null,null,null,null,null,null,null,null,null,null,null,null,null,null,null,null,null,null,null,null,null,null,null,null,null,null,null,null,null,null,null,null,null,null,null,null,null,null,null,null,null,null,null,null,{"$f":"IF(C143>=D143,\"\",\"* Los exámenes Reactivos de Hepatitis B NO DEBEN ser mayor a los exámenes Procesados. \")","v":""},{"$f":"IF(F143>=G143,\"\",\"* Los exámenes Reactivos de Hepatitis C NO DEBEN ser mayor a los exámenes Procesados. \")","v":""},{"$f":"IF(I143>=J143,\"\",\"* Los exámenes Reactivos de CHAGAS NO DEBEN ser mayor a los exámenes Procesados. \")","v":""},{"$f":"IF(L143>=M143,\"\",\"* Los exámenes Reactivos de HTLV1 NO DEBEN ser mayor a los exámenes Procesados. \")","v":""},{"$f":"IF(O143>=P143,\"\",\"* Los exámenes Reactivos de SIFILIS NO DEBEN ser mayor a los exámenes Procesados. \")","v":""},null,null,null,null,null,null,null,null,null,null,null,null,null,null,null,null,null,null,null,null,null,{"$f":"IF(C143>=D143,0,1)","v":0},{"$f":"IF(F143>=G143,0,1)","v":0},{"$f":"IF(I143>=J143,0,1)","v":0},{"$f":"IF(L143>=M143,0,1)","v":0},{"$f":"IF(O143>=P143,0,1)","v":0}]
["DONANTES","ALTRUISTA NUEVO",null,null,null,null,null,null,null,null,null,null,null,null,null,null,{"$f":"CA144&CB144&CC144&CD144&CE144","v":""},null,null,null,null,null,null,null,null,null,null,null,null,null,null,null,null,null,null,null,null,null,null,null,null,null,null,null,null,null,null,null,null,null,null,null,null,null,null,null,null,null,null,null,null,null,null,null,null,null,null,null,null,null,null,null,null,null,null,null,null,null,{"$f":"IF(C144>=D144,\"\",\"* Los exámenes Reactivos de Hepatitis B NO DEBEN ser mayor a los exámenes Procesados. \")","v":""},{"$f":"IF(F144>=G144,\"\",\"* Los exámenes Reactivos de Hepatitis C NO DEBEN ser mayor a los exámenes Procesados. \")","v":""},{"$f":"IF(I144>=J144,\"\",\"* Los exámenes Reactivos de CHAGAS NO DEBEN ser mayor a los exámenes Procesados. \")","v":""},{"$f":"IF(L144>=M144,\"\",\"* Los exámenes Reactivos de HTLV1 NO DEBEN ser mayor a los exámenes Procesados. \")","v":""},{"$f":"IF(O144>=P144,\"\",\"* Los exámenes Reactivos de SIFILIS NO DEBEN ser mayor a los exámenes Procesados. \")","v":""},null,null,null,null,null,null,null,null,null,null,null,null,null,null,null,null,null,null,null,null,null,{"$f":"IF(C144>=D144,0,1)","v":0},{"$f":"IF(F144>=G144,0,1)","v":0},{"$f":"IF(I144>=J144,0,1)","v":0},{"$f":"IF(L144>=M144,0,1)","v":0},{"$f":"IF(O144>=P144,0,1)","v":0}]
[null,"ALTRUISTA REPETIDO",null,null,null,null,null,null,null,null,null,null,null,null,null,null,{"$f":"CA145&CB145&CC145&CD145&CE145","v":""},null,null,null,null,null,null,null,null,null,null,null,null,null,null,null,null,null,null,null,null,null,null,null,null,null,null,null,null,null,null,null,null,null,null,null,null,null,null,null,null,null,null,null,null,null,null,null,null,null,null,null,null,null,null,null,null,null,null,null,null,null,{"$f":"IF(C145>=D145,\"\",\"* Los exámenes Reactivos de Hepatitis B NO DEBEN ser mayor a los exámenes Procesados. \")","v":""},{"$f":"IF(F145>=G145,\"\",\"* Los exámenes Reactivos de Hepatitis C NO DEBEN ser mayor a los exámenes Procesados. \")","v":""},{"$f":"IF(I145>=J145,\"\",\"* Los exámenes Reactivos de CHAGAS NO DEBEN ser mayor a los exámenes Procesados. \")","v":""},{"$f":"IF(L145>=M145,\"\",\"* Los exámenes Reactivos de HTLV1 NO DEBEN ser mayor a los exámenes Procesados. \")","v":""},{"$f":"IF(O145>=P145,\"\",\"* Los exámenes Reactivos de SIFILIS NO DEBEN ser mayor a los exámenes Procesados. \")","v":""},null,null,null,null,null,null,null,null,null,null,null,null,null,null,null,null,null,null,null,null,null,{"$f":"IF(C145>=D145,0,1)","v":0},{"$f":"IF(F145>=G145,0,1)","v":0},{"$f":"IF(I145>=J145,0,1)","v":0},{"$f":"IF(L145>=M145,0,1)","v":0},{"$f":"IF(O145>=P145,0,1)","v":0}]
[null,"FAMILIAR O REPOSICIÓN",null,null,null,null,null,null,null,null,null,null,null,null,null,null,{"$f":"CA146&CB146&CC146&CD146&CE146","v":""},null,null,null,null,null,null,null,null,null,null,null,null,null,null,null,null,null,null,null,null,null,null,null,null,null,null,null,null,null,null,null,null,null,null,null,null,null,null,null,null,null,null,null,null,null,null,null,null,null,null,null,null,null,null,null,null,null,null,null,null,null,{"$f":"IF(C146>=D146,\"\",\"* Los exámenes Reactivos de Hepatitis B NO DEBEN ser mayor a los exámenes Procesados. \")","v":""},{"$f":"IF(F146>=G146,\"\",\"* Los exámenes Reactivos de Hepatitis C NO DEBEN ser mayor a los exámenes Procesados. \")","v":""},{"$f":"IF(I146>=J146,\"\",\"* Los exámenes Reactivos de CHAGAS NO DEBEN ser mayor a los exámenes Procesados. \")","v":""},{"$f":"IF(L146>=M146,\"\",\"* Los exámenes Reactivos de HTLV1 NO DEBEN ser mayor a los exámenes Procesados. \")","v":""},{"$f":"IF(O146>=P146,\"\",\"* Los exámenes Reactivos de SIFILIS NO DEBEN ser mayor a los exámenes Procesados. \")","v":""},null,null,null,null,null,null,null,null,null,null,null,null,null,null,null,null,null,null,null,null,null,{"$f":"IF(C146>=D146,0,1)","v":0},{"$f":"IF(F146>=G146,0,1)","v":0},{"$f":"IF(I146>=J146,0,1)","v":0},{"$f":"IF(L146>=M146,0,1)","v":0},{"$f":"IF(O146>=P146,0,1)","v":0}]
["DONANTES DE ÓRGANOS Y/O TEJIDOS",null,null,null,null,null,null,null,null,null,null,null,null,null,null,null,{"$f":"CA147&CB147&CC147&CD147&CE147","v":""},null,null,null,null,null,null,null,null,null,null,null,null,null,null,null,null,null,null,null,null,null,null,null,null,null,null,null,null,null,null,null,null,null,null,null,null,null,null,null,null,null,null,null,null,null,null,null,null,null,null,null,null,null,null,null,null,null,null,null,null,null,{"$f":"IF(C147>=D147,\"\",\"* Los exámenes Reactivos de Hepatitis B NO DEBEN ser mayor a los exámenes Procesados. \")","v":""},{"$f":"IF(F147>=G147,\"\",\"* Los exámenes Reactivos de Hepatitis C NO DEBEN ser mayor a los exámenes Procesados. \")","v":""},{"$f":"IF(I147>=J147,\"\",\"* Los exámenes Reactivos de CHAGAS NO DEBEN ser mayor a los exámenes Procesados. \")","v":""},{"$f":"IF(L147>=M147,\"\",\"* Los exámenes Reactivos de HTLV1 NO DEBEN ser mayor a los exámenes Procesados. \")","v":""},{"$f":"IF(O147>=P147,\"\",\"* Los exámenes Reactivos de SIFILIS NO DEBEN ser mayor a los exámenes Procesados. \")","v":""},null,null,null,null,null,null,null,null,null,null,null,null,null,null,null,null,null,null,null,null,null,{"$f":"IF(C147>=D147,0,1)","v":0},{"$f":"IF(F147>=G147,0,1)","v":0},{"$f":"IF(I147>=J147,0,1)","v":0},{"$f":"IF(L147>=M147,0,1)","v":0},{"$f":"IF(O147>=P147,0,1)","v":0}]
["SECCIÓN B.2: EXÁMENES SEGÚN GRUPOS DE USUARIOS POR CONDICIÓN DE HEPATITIS B, HEPATITIS C, CHAGAS, HTLV 1 Y SIFILIS (Uso exclusivo de establecimientos que Compran Servicio)"]
["GRUPO DE USUARIOS",null,"HEPATITIS  B",null,null,"HEPATITIS  C",null,null,"CHAGAS",null,null,"HTLV1",null,null,"SÍFILIS"]
[null,null,"Procesados","Reactivos","Confirmados","Procesados","Reactivos","Confirmados","Procesados","Reactivos","Confirmados","Procesados","Reactivos","Confirmados","Procesados","Reactivos"]
["USUARIOS",null,null,null,null,null,null,null,null,null,null,null,null,null,null,null,{"$f":"CA151&CB151&CC151&CD151&CE151","v":""},null,null,null,null,null,null,null,null,null,null,null,null,null,null,null,null,null,null,null,null,null,null,null,null,null,null,null,null,null,null,null,null,null,null,null,null,null,null,null,null,null,null,null,null,null,null,null,null,null,null,null,null,null,null,null,null,null,null,null,null,null,{"$f":"IF(C151>=D151,\"\",\"* Los exámenes Reactivos de Hepatitis B NO DEBEN ser mayor a los exámenes Procesados. \")","v":""},{"$f":"IF(F151>=G151,\"\",\"* Los exámenes Reactivos de Hepatitis C NO DEBEN ser mayor a los exámenes Procesados. \")","v":""},{"$f":"IF(I151>=J151,\"\",\"* Los exámenes Reactivos de CHAGAS NO DEBEN ser mayor a los exámenes Procesados. \")","v":""},{"$f":"IF(L151>=M151,\"\",\"* Los exámenes Reactivos de HTLV1 NO DEBEN ser mayor a los exámenes Procesados. \")","v":""},{"$f":"IF(O151>=P151,\"\",\"* Los exámenes Reactivos de SIFILIS NO DEBEN ser mayor a los exámenes Procesados. \")","v":""},null,null,null,null,null,null,null,null,null,null,null,null,null,null,null,null,null,null,null,null,null,{"$f":"IF(C151>=D151,0,1)","v":0},{"$f":"IF(F151>=G151,0,1)","v":0},{"$f":"IF(I151>=J151,0,1)","v":0},{"$f":"IF(L151>=M151,0,1)","v":0},{"$f":"IF(O151>=P151,0,1)","v":0}]
["DONANTES","ALTRUISTA NUEVO",null,null,null,null,null,null,null,null,null,null,null,null,null,null,{"$f":"CA152&CB152&CC152&CD152&CE152","v":""},null,null,null,null,null,null,null,null,null,null,null,null,null,null,null,null,null,null,null,null,null,null,null,null,null,null,null,null,null,null,null,null,null,null,null,null,null,null,null,null,null,null,null,null,null,null,null,null,null,null,null,null,null,null,null,null,null,null,null,null,null,{"$f":"IF(C152>=D152,\"\",\"* Los exámenes Reactivos de Hepatitis B NO DEBEN ser mayor a los exámenes Procesados. \")","v":""},{"$f":"IF(F152>=G152,\"\",\"* Los exámenes Reactivos de Hepatitis C NO DEBEN ser mayor a los exámenes Procesados. \")","v":""},{"$f":"IF(I152>=J152,\"\",\"* Los exámenes Reactivos de CHAGAS NO DEBEN ser mayor a los exámenes Procesados. \")","v":""},{"$f":"IF(L152>=M152,\"\",\"* Los exámenes Reactivos de HTLV1 NO DEBEN ser mayor a los exámenes Procesados. \")","v":""},{"$f":"IF(O152>=P152,\"\",\"* Los exámenes Reactivos de SIFILIS NO DEBEN ser mayor a los exámenes Procesados. \")","v":""},null,null,null,null,null,null,null,null,null,null,null,null,null,null,null,null,null,null,null,null,null,{"$f":"IF(C152>=D152,0,1)","v":0},{"$f":"IF(F152>=G152,0,1)","v":0},{"$f":"IF(I152>=J152,0,1)","v":0},{"$f":"IF(L152>=M152,0,1)","v":0},{"$f":"IF(O152>=P152,0,1)","v":0}]
[null,"ALTRUISTA REPETIDO",null,null,null,null,null,null,null,null,null,null,null,null,null,null,{"$f":"CA153&CB153&CC153&CD153&CE153","v":""},null,null,null,null,null,null,null,null,null,null,null,null,null,null,null,null,null,null,null,null,null,null,null,null,null,null,null,null,null,null,null,null,null,null,null,null,null,null,null,null,null,null,null,null,null,null,null,null,null,null,null,null,null,null,null,null,null,null,null,null,null,{"$f":"IF(C153>=D153,\"\",\"* Los exámenes Reactivos de Hepatitis B NO DEBEN ser mayor a los exámenes Procesados. \")","v":""},{"$f":"IF(F153>=G153,\"\",\"* Los exámenes Reactivos de Hepatitis C NO DEBEN ser mayor a los exámenes Procesados. \")","v":""},{"$f":"IF(I153>=J153,\"\",\"* Los exámenes Reactivos de CHAGAS NO DEBEN ser mayor a los exámenes Procesados. \")","v":""},{"$f":"IF(L153>=M153,\"\",\"* Los exámenes Reactivos de HTLV1 NO DEBEN ser mayor a los exámenes Procesados. \")","v":""},{"$f":"IF(O153>=P153,\"\",\"* Los exámenes Reactivos de SIFILIS NO DEBEN ser mayor a los exámenes Procesados. \")","v":""},null,null,null,null,null,null,null,null,null,null,null,null,null,null,null,null,null,null,null,null,null,{"$f":"IF(C153>=D153,0,1)","v":0},{"$f":"IF(F153>=G153,0,1)","v":0},{"$f":"IF(I153>=J153,0,1)","v":0},{"$f":"IF(L153>=M153,0,1)","v":0},{"$f":"IF(O153>=P153,0,1)","v":0}]
[null,"FAMILIAR O REPOSICIÓN",null,null,null,null,null,null,null,null,null,null,null,null,null,null,{"$f":"CA154&CB154&CC154&CD154&CE154","v":""},null,null,null,null,null,null,null,null,null,null,null,null,null,null,null,null,null,null,null,null,null,null,null,null,null,null,null,null,null,null,null,null,null,null,null,null,null,null,null,null,null,null,null,null,null,null,null,null,null,null,null,null,null,null,null,null,null,null,null,null,null,{"$f":"IF(C154>=D154,\"\",\"* Los exámenes Reactivos de Hepatitis B NO DEBEN ser mayor a los exámenes Procesados. \")","v":""},{"$f":"IF(F154>=G154,\"\",\"* Los exámenes Reactivos de Hepatitis C NO DEBEN ser mayor a los exámenes Procesados. \")","v":""},{"$f":"IF(I154>=J154,\"\",\"* Los exámenes Reactivos de CHAGAS NO DEBEN ser mayor a los exámenes Procesados. \")","v":""},{"$f":"IF(L154>=M154,\"\",\"* Los exámenes Reactivos de HTLV1 NO DEBEN ser mayor a los exámenes Procesados. \")","v":""},{"$f":"IF(O154>=P154,\"\",\"* Los exámenes Reactivos de SIFILIS NO DEBEN ser mayor a los exámenes Procesados. \")","v":""},null,null,null,null,null,null,null,null,null,null,null,null,null,null,null,null,null,null,null,null,null,{"$f":"IF(C154>=D154,0,1)","v":0},{"$f":"IF(F154>=G154,0,1)","v":0},{"$f":"IF(I154>=J154,0,1)","v":0},{"$f":"IF(L154>=M154,0,1)","v":0},{"$f":"IF(O154>=P154,0,1)","v":0}]
["DONANTES DE ÓRGANOS Y/O TEJIDOS ",null,null,null,null,null,null,null,null,null,null,null,null,null,null,null,{"$f":"CA155&CB155&CC155&CD155&CE155","v":""},null,null,null,null,null,null,null,null,null,null,null,null,null,null,null,null,null,null,null,null,null,null,null,null,null,null,null,null,null,null,null,null,null,null,null,null,null,null,null,null,null,null,null,null,null,null,null,null,null,null,null,null,null,null,null,null,null,null,null,null,null,{"$f":"IF(C155>=D155,\"\",\"* Los exámenes Reactivos de Hepatitis B NO DEBEN ser mayor a los exámenes Procesados. \")","v":""},{"$f":"IF(F155>=G155,\"\",\"* Los exámenes Reactivos de Hepatitis C NO DEBEN ser mayor a los exámenes Procesados. \")","v":""},{"$f":"IF(I155>=J155,\"\",\"* Los exámenes Reactivos de CHAGAS NO DEBEN ser mayor a los exámenes Procesados. \")","v":""},{"$f":"IF(L155>=M155,\"\",\"* Los exámenes Reactivos de HTLV1 NO DEBEN ser mayor a los exámenes Procesados. \")","v":""},{"$f":"IF(O155>=P155,\"\",\"* Los exámenes Reactivos de SIFILIS NO DEBEN ser mayor a los exámenes Procesados. \")","v":""},null,null,null,null,null,null,null,null,null,null,null,null,null,null,null,null,null,null,null,null,null,{"$f":"IF(C155>=D155,0,1)","v":0},{"$f":"IF(F155>=G155,0,1)","v":0},{"$f":"IF(I155>=J155,0,1)","v":0},{"$f":"IF(L155>=M155,0,1)","v":0},{"$f":"IF(O155>=P155,0,1)","v":0}]
["SECCIÓN C.1: EXÁMENES  DE  VIH POR GRUPOS DE USUARIOS (Uso exclusivo de establecimientos con Laboratorio que procesan)"]
["GRUPO DE USUARIOS",null,"TOTAL",null,"GRUPO DE EDAD (En años)",null,null,null,null,null,null,null,null,null,null,null,null,null,null,null,null,null,null,null,null,null,null,null,null,null,null,null,null,null,null,null,"POR SEXO",null,null,null,"TRANS",null,null,null,"Pueblos originarios",null,"Migrantes",null,"14-18 años"]
[null,null,null,null,"Menor de 12 meses",null,"12-24 meses",null,"3 a 4 años",null,"5 a 9 años",null,"10 a 14 años",null,"15 a 19 años",null,"20 a 24 años",null,"25 a 29 años",null,"30 a 34 años",null,"35 a 39 años",null,"40 a 44 años",null,"45 a 49 años",null,"50 a 54 años",null,"55 a 59 años",null,"60 a 64 años",null," 65 y más años",null,"Hombres",null,"Mujeres",null,"Femenino",null,"Masculino"]
[null,null,"Procesados","Confirmados positivos por ISP","Procesados","Confirmados positivos por ISP","Procesados","Confirmados positivos por ISP","Procesados","Confirmados positivos por ISP","Procesados","Confirmados positivos por ISP","Procesados","Confirmados positivos por ISP","Procesados","Confirmados positivos por ISP","Procesados","Confirmados positivos por ISP","Procesados","Confirmados positivos por ISP","Procesados","Confirmados positivos por ISP","Procesados","Confirmados positivos por ISP","Procesados","Confirmados positivos por ISP","Procesados","Confirmados positivos por ISP","Procesados","Confirmados positivos por ISP","Procesados","Confirmados positivos por ISP","Procesados","Confirmados positivos por ISP","Procesados","Confirmados positivos por ISP","Procesados","Confirmados positivos por ISP","Procesados","Confirmados positivos por ISP","Procesados","Confirmados positivos por ISP","Procesados","Confirmados positivos por ISP","Procesados","Confirmados positivos por ISP","Procesados","Confirmados positivos por ISP","Procesados","Confirmados positivos por ISP"]
["GESTANTES PRIMER EXAMEN",null,{"$f":"+M160+O160+Q160+S160+U160+W160+Y160+AA160+AC160+AE160","v":0},0,null,null,null,null,null,null,null,null,null,null,null,null,null,null,null,null,null,null,null,null,null,null,null,null,null,null,null,null,null,null,null,null,null,null,null,null,null,null,null,null,null,null,null,null,null,null,{"$f":"$CA160&$CB160&$CC160&$CD160&$CE160&$CF160&$CG160&$CH160&$CI160&$CJ160&$CK160&$CL160&$CM160&$CN160&$CO160&$CP160&$CQ160&$CR160&$CS160&$CT160&$CU160&$CV160&$CW160&$CX160&$CY160&$CZ160","v":""},null,null,null,null,null,null,null,null,null,null,null,null,null,null,null,null,null,null,null,null,null,null,null,null,null,null,null,{"$f":"IF(DA160=1,\" * El total de exámenes confirmados positivos por ISP NO DEBE SUPERAR el total de exámenes procesados. \",\"\")","v":""},{"$f":"IF(DB160=1,\" * La suma de exámenes procesados por sexo DEBE SER IGUAL al total de Procesados. \",\"\")","v":""},{"$f":"IF(DC160=1,\" * La suma de exámenes Confirmados positivos por ISP por sexo DEBE SER IGUAL al total de Procesados. \",\"\")","v":""},{"$f":"IF(DD160=1,\" * La suma de exámenes procesados Trans NO PUEDE Superar al total de Procesados. \",\"\")","v":""},{"$f":"IF(DE160=1,\" * La suma de exámenes confirmados positivos por ISP Trans NO PUEDE Superar al total de Procesados. \",\"\")","v":""},{"$f":"IF(DF160=1,\" * Los exámenes procesados de personas pertenecientes a Pueblos originarios NO PUEDE Superar al total de Procesados. \",\"\")","v":""},{"$f":"IF(DG160=1,\" * Los exámenes confirmados positivos por ISP de personas pertenecientes a Pueblos originarios NO PUEDE Superar al total de Procesados. \",\"\")","v":""},{"$f":"IF(DH160=1,\" * Los exámenes procesados de personas pertenecientes a Pueblos migrantes NO PUEDE Superar al total de Procesados. \",\"\")","v":""},{"$f":"IF(DI160=1,\" * Los exámenes confirmados positivos por ISP de personas pertenecientes a Pueblos Migrantes NO PUEDE Superar al total de Procesados. \",\"\")","v":""},null,null,null,null,null,null,null,null,null,null,null,null,null,{"$f":"IF(DW160=1,\"* No olvide digitar la columna Procesados Trans y/o Pueblos Originarios y/o Migrantes (Digite Cero si no tiene). \",\"\")","v":""},{"$f":"IF(DX160=1,\"* No olvide digitar la columna Confirmados Trans y/o Pueblos Originarios y/o Migrantes (Digite Cero si no tiene). \",\"\")","v":""},null,null,{"$f":"IF(C160<D160,1,0)","v":0},{"$f":"IF(C160<>(AK160+AM160),1,0)","v":0},{"$f":"IF(D160<>(AL160+AN160),1,0)","v":0},{"$f":"IF(C160<(AO160+AQ160),1,0)","v":0},{"$f":"IF(D160<(AP160+AR160),1,0)","v":0},{"$f":"IF($C160<AS160,1,0)","v":0},{"$f":"IF($D160<AT160,1,0)","v":0},{"$f":"IF($C160<AU160,1,0)","v":0},{"$f":"IF($D160<AV160,1,0)","v":0},null,null,null,null,null,null,null,null,null,null,null,null,null,{"$f":"IF(AND(C160<>0,OR(AO160=\"\",AQ160=\"\",AS160=\"\",AU160=\"\")),1,0)","v":0},{"$f":"IF(AND(D160<>0,OR(AP160=\"\",AR160=\"\",AT160=\"\",AV160=\"\")),1,0)","v":0}]
["GESTANTES SEGUNDO EXAMEN",null,0,0,null,null,null,null,null,null,null,null,null,null,null,null,null,null,null,null,null,null,null,null,null,null,null,null,null,null,null,null,null,null,null,null,null,null,null,null,null,null,null,null,null,null,null,null,null,null,"",null,null,null,null,null,null,null,null,null,null,null,null,null,null,null,null,null,null,null,null,null,null,null,null,null,null,null,{"$f":"IF(DA161=1,\" * El total de exámenes confirmados positivos por ISP NO DEBE SUPERAR el total de exámenes procesados. \",\"\")","v":""},{"$f":"IF(DB161=1,\" * La suma de exámenes procesados por sexo DEBE SER IGUAL al total de Procesados. \",\"\")","v":""},{"$f":"IF(DC161=1,\" * La suma de exámenes Confirmados positivos por ISP por sexo DEBE SER IGUAL al total de Procesados. \",\"\")","v":""},{"$f":"IF(DD161=1,\" * La suma de exámenes procesados Trans NO PUEDE Superar al total de Procesados. \",\"\")","v":""},{"$f":"IF(DE161=1,\" * La suma de exámenes confirmados positivos por ISP Trans NO PUEDE Superar al total de Procesados. \",\"\")","v":""},{"$f":"IF(DF161=1,\" * Los exámenes procesados de personas pertenecientes a Pueblos originarios NO PUEDE Superar al total de Procesados. \",\"\")","v":""},{"$f":"IF(DG161=1,\" * Los exámenes confirmados positivos por ISP de personas pertenecientes a Pueblos originarios NO PUEDE Superar al total de Procesados. \",\"\")","v":""},{"$f":"IF(DH161=1,\" * Los exámenes procesados de personas pertenecientes a Pueblos migrantes NO PUEDE Superar al total de Procesados. \",\"\")","v":""},{"$f":"IF(DI161=1,\" * Los exámenes confirmados positivos por ISP de personas pertenecientes a Pueblos Migrantes NO PUEDE Superar al total de Procesados. \",\"\")","v":""},null,null,null,null,null,null,null,null,null,null,null,null,null,{"$f":"IF(DW161=1,\"* No olvide digitar la columna Procesados Trans y/o Pueblos Originarios y/o Migrantes (Digite Cero si no tiene). \",\"\")","v":""},{"$f":"IF(DX161=1,\"* No olvide digitar la columna Confirmados Trans y/o Pueblos Originarios y/o Migrantes (Digite Cero si no tiene). \",\"\")","v":""},null,null,{"$f":"IF(C161<D161,1,0)","v":0},{"$f":"IF(C161<>(AK161+AM161),1,0)","v":0},{"$f":"IF(D161<>(AL161+AN161),1,0)","v":0},{"$f":"IF(C161<(AO161+AQ161),1,0)","v":0},{"$f":"IF(D161<(AP161+AR161),1,0)","v":0},{"$f":"IF($C161<AS161,1,0)","v":0},{"$f":"IF($D161<AT161,1,0)","v":0},{"$f":"IF($C161<AU161,1,0)","v":0},{"$f":"IF($D161<AV161,1,0)","v":0},null,null,null,null,null,null,null,null,null,null,null,null,null,{"$f":"IF(AND(C161<>0,OR(AO161=\"\",AQ161=\"\",AS161=\"\",AU161=\"\")),1,0)","v":0},0]
["MUJER EN TRABAJO DE PRE PARTO O PARTO",null,0,0,null,null,null,null,null,null,null,null,null,null,null,null,null,null,null,null,null,null,null,null,null,null,null,null,null,null,null,null,null,null,null,null,null,null,null,null,null,null,null,null,null,null,null,null,null,null,"",null,null,null,null,null,null,null,null,null,null,null,null,null,null,null,null,null,null,null,null,null,null,null,null,null,null,null,"","","","","","","","","",null,null,null,null,null,null,null,null,null,null,null,null,null,"","",null,null,0,0,0,0,0,0,0,0,0,null,null,null,null,null,null,null,null,null,null,null,null,null,0,0]
["PERSONAS EN CONTROL POR COMERCIO SEXUAL",null,{"$f":"+O163+Q163+S163+U163+W163+Y163+AA163+AC163+AE163+AG163+AI163","v":0},{"$f":"+P163+R163+T163+V163+X163+Z163+AB163+AD163+AF163+AH163+AJ163","v":0},null,null,null,null,null,null,null,null,null,null,null,null,null,null,null,null,null,null,null,null,null,null,null,null,null,null,null,null,null,null,null,null,null,null,null,null,null,null,null,null,null,null,null,null,null,null,"",null,null,null,null,null,null,null,null,null,null,null,null,null,null,null,null,null,null,null,null,null,null,null,null,null,null,null,"","","","","","","","","",null,null,null,null,null,null,null,null,null,null,null,null,null,"","",null,null,0,0,0,0,0,0,0,0,0,null,null,null,null,null,null,null,null,null,null,null,null,null,0,0]
["PACIENTES EN DIÁLISIS",null,{"$f":"+E164+G164+I164+K164+M164+O164+Q164+S164+U164+W164+Y164+AA164+AC164+AE164+AG164+AI164","v":0},{"$f":"+F164+H164+J164+L164+N164+P164+R164+T164+V164+X164+Z164+AB164+AD164+AF164+AH164+AJ164","v":0},null,null,null,null,null,null,null,null,null,null,null,null,null,null,null,null,null,null,null,null,null,null,null,null,null,null,null,null,null,null,null,null,null,null,null,null,null,null,null,null,null,null,null,null,null,null,"",null,null,null,null,null,null,null,null,null,null,null,null,null,null,null,null,null,null,null,null,null,null,null,null,null,null,null,"","","","","","","","","",null,null,null,null,null,null,null,null,null,null,null,null,null,"","",null,null,0,0,0,0,0,0,0,0,0,null,null,null,null,null,null,null,null,null,null,null,null,null,0,0]
["POR CONSULTA ITS",null,{"$f":"+E165+G165+I165+K165+M165+O165+Q165+S165+U165+W165+Y165+AA165+AC165+AE165+AG165+AI165","v":0},{"$f":"+F165+H165+J165+L165+N165+P165+R165+T165+V165+X165+Z165+AB165+AD165+AF165+AH165+AJ165","v":0},null,null,null,null,null,null,null,null,null,null,null,null,null,null,null,null,null,null,null,null,null,null,null,null,null,null,null,null,null,null,null,null,null,null,null,null,null,null,null,null,null,null,null,null,null,null,"",null,null,null,null,null,null,null,null,null,null,null,null,null,null,null,null,null,null,null,null,null,null,null,null,null,null,null,"","","","","","","","","",null,null,null,null,null,null,null,null,null,null,null,null,null,"","",null,null,0,0,0,0,0,0,0,0,0,null,null,null,null,null,null,null,null,null,null,null,null,null,0,0]
["PERSONAS EN CONTROL DE REGULACIÓN FECUNDIDAD, GINECOLOGICO, CLIMATERIO",null,{"$f":"+O166+Q166+S166+U166+W166+Y166+AA166+AC166+AE166+AG166+AI166","v":0},{"$f":"+P166+R166+T166+V166+X166+Z166+AB166+AD166+AF166+AH166+AJ166","v":0},null,null,null,null,null,null,null,null,null,null,null,null,null,null,null,null,null,null,null,null,null,null,null,null,null,null,null,null,null,null,null,null,null,null,null,null,null,null,null,null,null,null,null,null,null,null,"",null,null,null,null,null,null,null,null,null,null,null,null,null,null,null,null,null,null,null,null,null,null,null,null,null,null,null,"","","","","","","","","",null,null,null,null,null,null,null,null,null,null,null,null,null,"","",null,null,0,0,0,0,0,0,0,0,0,null,null,null,null,null,null,null,null,null,null,null,null,null,0,0]
["PERSONAS EMP/EMPAM ",null,{"$f":"+O167+Q167+S167+U167+W167+Y167+AA167+AC167+AE167+AG167+AI167","v":0},{"$f":"+P167+R167+T167+V167+X167+Z167+AB167+AD167+AF167+AH167+AJ167","v":0},null,null,null,null,null,null,null,null,null,null,null,null,null,null,null,null,null,null,null,null,null,null,null,null,null,null,null,null,null,null,null,null,null,null,null,null,null,null,null,null,null,null,null,null,null,null,"",null,null,null,null,null,null,null,null,null,null,null,null,null,null,null,null,null,null,null,null,null,null,null,null,null,null,null,"","","","","","","","","",null,null,null,null,null,null,null,null,null,null,null,null,null,"","",null,null,0,0,0,0,0,0,0,0,0,null,null,null,null,null,null,null,null,null,null,null,null,null,0,0]
["PERSONAS EN CONTROL DE SALUD SEGÚN CICLO VITAL",null,{"$f":"+E168+G168+I168+K168+M168+O168+Q168+S168+U168+W168+Y168+AA168+AC168+AE168+AG168+AI168","v":0},{"$f":"+F168+H168+J168+L168+N168+P168+R168+T168+V168+X168+Z168+AB168+AD168+AF168+AH168+AJ168","v":0},null,null,null,null,null,null,null,null,null,null,null,null,null,null,null,null,null,null,null,null,null,null,null,null,null,null,null,null,null,null,null,null,null,null,null,null,null,null,null,null,null,null,null,null,null,null,"",null,null,null,null,null,null,null,null,null,null,null,null,null,null,null,null,null,null,null,null,null,null,null,null,null,null,null,"","","","","","","","","",null,null,null,null,null,null,null,null,null,null,null,null,null,"","",null,null,0,0,0,0,0,0,0,0,0,null,null,null,null,null,null,null,null,null,null,null,null,null,0,0]
["DONANTES DE SANGRE","ALTRUISTA NUEVO",{"$f":"+O169+Q169+S169+U169+W169+Y169+AA169+AC169+AE169+AG169","v":0},0,null,null,null,null,null,null,null,null,null,null,null,null,null,null,null,null,null,null,null,null,null,null,null,null,null,null,null,null,null,null,null,null,null,null,null,null,null,null,null,null,null,null,null,null,null,null,"",null,null,null,null,null,null,null,null,null,null,null,null,null,null,null,null,null,null,null,null,null,null,null,null,null,null,null,"","","","","","","","","",null,null,null,null,null,null,null,null,null,null,null,null,null,"","",null,null,0,0,0,0,0,0,0,0,0,null,null,null,null,null,null,null,null,null,null,null,null,null,0,0]
[null,"ALTRUISTA REPETIDO",0,0,null,null,null,null,null,null,null,null,null,null,null,null,null,null,null,null,null,null,null,null,null,null,null,null,null,null,null,null,null,null,null,null,null,null,null,null,null,null,null,null,null,null,null,null,null,null,"",null,null,null,null,null,null,null,null,null,null,null,null,null,null,null,null,null,null,null,null,null,null,null,null,null,null,null,"","","","","","","","","",null,null,null,null,null,null,null,null,null,null,null,null,null,"","",null,null,0,0,0,0,0,0,0,0,0,null,null,null,null,null,null,null,null,null,null,null,null,null,0,0]
[null,"FAMILIAR O REPOSICIÓN",0,0,null,null,null,null,null,null,null,null,null,null,null,null,null,null,null,null,null,null,null,null,null,null,null,null,null,null,null,null,null,null,null,null,null,null,null,null,null,null,null,null,null,null,null,null,null,null,"",null,null,null,null,null,null,null,null,null,null,null,null,null,null,null,null,null,null,null,null,null,null,null,null,null,null,null,"","","","","","","","","",null,null,null,null,null,null,null,null,null,null,null,null,null,"","",null,null,0,0,0,0,0,0,0,0,0,null,null,null,null,null,null,null,null,null,null,null,null,null,0,0]
["DONANTES DE ÓRGANOS Y/O TEJIDOS",null,{"$f":"+E172+G172+I172+K172+M172+O172+Q172+S172+U172+W172+Y172+AA172+AC172+AE172+AG172+AI172","v":0},0,null,null,null,null,null,null,null,null,null,null,null,null,null,null,null,null,null,null,null,null,null,null,null,null,null,null,null,null,null,null,null,null,null,null,null,null,null,null,null,null,null,null,null,null,null,null,"",null,null,null,null,null,null,null,null,null,null,null,null,null,null,null,null,null,null,null,null,null,null,null,null,null,null,null,"","","","","","","","","",null,null,null,null,null,null,null,null,null,null,null,null,null,"","",null,null,0,0,0,0,0,0,0,0,0,null,null,null,null,null,null,null,null,null,null,null,null,null,0,0]
["PERSONA EN CONTROL POR TBC",null,0,0,null,null,null,null,null,null,null,null,null,null,null,null,null,null,null,null,null,null,null,null,null,null,null,null,null,null,null,null,null,null,null,null,null,null,null,null,null,null,null,null,null,null,null,null,null,null,"",null,null,null,null,null,null,null,null,null,null,null,null,null,null,null,null,null,null,null,null,null,null,null,null,null,null,null,"","","","","","","","","",null,null,null,null,null,null,null,null,null,null,null,null,null,"","",null,null,0,0,0,0,0,0,0,0,0,null,null,null,null,null,null,null,null,null,null,null,null,null,0,0]
["VÍCTIMA DE VIOLENCIA SEXUAL",null,0,{"$f":"+F174+H174+J174+L174+N174+P174+R174+T174+V174+X174+Z174+AB174+AD174+AF174+AH174+AJ174","v":0},null,null,null,null,null,null,null,null,null,null,null,null,null,null,null,null,null,null,null,null,null,null,null,null,null,null,null,null,null,null,null,null,null,null,null,null,null,null,null,null,null,null,null,null,null,null,"",null,null,null,null,null,null,null,null,null,null,null,null,null,null,null,null,null,null,null,null,null,null,null,null,null,null,null,"","","","","","","","","",null,null,null,null,null,null,null,null,null,null,null,null,null,"","",null,null,0,0,0,0,0,0,0,0,0,null,null,null,null,null,null,null,null,null,null,null,null,null,0,0]
["PAREJA SERODISCORDANTE",null,{"$f":"+O175+Q175+S175+U175+W175+Y175+AA175+AC175+AE175+AG175+AI175","v":0},0,null,null,null,null,null,null,null,null,null,null,null,null,null,null,null,null,null,null,null,null,null,null,null,null,null,null,null,null,null,null,null,null,null,null,null,null,null,null,null,null,null,null,null,null,null,null,"",null,null,null,null,null,null,null,null,null,null,null,null,null,null,null,null,null,null,null,null,null,null,null,null,null,null,null,"","","","","","","","","",null,null,null,null,null,null,null,null,null,null,null,null,null,"","",null,null,0,0,0,0,0,0,0,0,0,null,null,null,null,null,null,null,null,null,null,null,null,null,0,0]
["PAREJA DE GESTANTE VIH POSITIVO",null,0,0,null,null,null,null,null,null,null,null,null,null,null,null,null,null,null,null,null,null,null,null,null,null,null,null,null,null,null,null,null,null,null,null,null,null,null,null,null,null,null,null,null,null,null,null,null,null,"",null,null,null,null,null,null,null,null,null,null,null,null,null,null,null,null,null,null,null,null,null,null,null,null,null,null,null,"","","","","","","","","",null,null,null,null,null,null,null,null,null,null,null,null,null,"","",null,null,0,0,0,0,0,0,0,0,0,null,null,null,null,null,null,null,null,null,null,null,null,null,0,0]
["PERSONAL DE SALUD EXPUESTO A ACCIDENTE CORTOPUNZANTE",null,0,0,null,null,null,null,null,null,null,null,null,null,null,null,null,null,null,null,null,null,null,null,null,null,null,null,null,null,null,null,null,null,null,null,null,null,null,null,null,null,null,null,null,null,null,null,null,null,"",null,null,null,null,null,null,null,null,null,null,null,null,null,null,null,null,null,null,null,null,null,null,null,null,null,null,null,"","","","","","","","","",null,null,null,null,null,null,null,null,null,null,null,null,null,"","",null,null,0,0,0,0,0,0,0,0,0,null,null,null,null,null,null,null,null,null,null,null,null,null,{"$f":"IF(AND(C177<>0,OR(AO177=\"\",AQ177=\"\",AS177=\"\",AU177=\"\")),1,0)","v":0},0]
["PACIENTES FUENTE DE ACCIDENTE CORTOPUNZANTE",null,{"$f":"+E178+G178+I178+K178+M178+O178+Q178+S178+U178+W178+Y178+AA178+AC178+AE178+AG178+AI178","v":0},0,null,null,null,null,null,null,null,null,null,null,null,null,null,null,null,null,null,null,null,null,null,null,null,null,null,null,null,null,null,null,null,null,null,null,null,null,null,null,null,null,null,null,null,null,null,null,"",null,null,null,null,null,null,null,null,null,null,null,null,null,null,null,null,null,null,null,null,null,null,null,null,null,null,null,"","","","","","","","","",null,null,null,null,null,null,null,null,null,null,null,null,null,"","",null,null,0,0,0,0,0,0,0,0,0,null,null,null,null,null,null,null,null,null,null,null,null,null,0,0]
["PERSONA EN CONTROL POR HEPATITIS B",null,0,0,null,null,null,null,null,null,null,null,null,null,null,null,null,null,null,null,null,null,null,null,null,null,null,null,null,null,null,null,null,null,null,null,null,null,null,null,null,null,null,null,null,null,null,null,null,null,"",null,null,null,null,null,null,null,null,null,null,null,null,null,null,null,null,null,null,null,null,null,null,null,null,null,null,null,"","","","","","","","","",null,null,null,null,null,null,null,null,null,null,null,null,null,"","",null,null,0,0,0,0,0,0,0,0,0,null,null,null,null,null,null,null,null,null,null,null,null,null,0,0]
["PERSONA EN CONTROL POR HEPATITIS C",null,0,0,null,null,null,null,null,null,null,null,null,null,null,null,null,null,null,null,null,null,null,null,null,null,null,null,null,null,null,null,null,null,null,null,null,null,null,null,null,null,null,null,null,null,null,null,null,null,"",null,null,null,null,null,null,null,null,null,null,null,null,null,null,null,null,null,null,null,null,null,null,null,null,null,null,null,"","","","","","","","","",null,null,null,null,null,null,null,null,null,null,null,null,null,"","",null,null,0,0,0,0,0,0,0,0,0,null,null,null,null,null,null,null,null,null,null,null,null,null,0,0]
["CONSULTANTES POR MORBILIDAD",null,0,0,null,null,null,null,null,null,null,null,null,null,null,null,null,null,null,null,null,null,null,null,null,null,null,null,null,null,null,null,null,null,null,null,null,null,null,null,null,null,null,null,null,null,null,null,null,null,"",null,null,null,null,null,null,null,null,null,null,null,null,null,null,null,null,null,null,null,null,null,null,null,null,null,null,null,"","","","","","","","","",null,null,null,null,null,null,null,null,null,null,null,null,null,"","",null,null,0,0,0,0,0,0,0,0,0,null,null,null,null,null,null,null,null,null,null,null,null,null,0,0]
["POR CONSULTA ESPONTÁNEA",null,0,0,null,null,null,null,null,null,null,null,null,null,null,null,null,null,null,null,null,null,null,null,null,null,null,null,null,null,null,null,null,null,null,null,null,null,null,null,null,null,null,null,null,null,null,null,null,null,"",null,null,null,null,null,null,null,null,null,null,null,null,null,null,null,null,null,null,null,null,null,null,null,null,null,null,null,"","","","","","","","","",null,null,null,null,null,null,null,null,null,null,null,null,null,"","",null,null,0,0,0,0,0,0,0,0,0,null,null,null,null,null,null,null,null,null,null,null,null,null,0,0]
["SECCIÓN C.2: EXÁMENES  DE  VIH POR GRUPOS DE USUARIOS (Uso exclusivo de establecimientos que Compran Servicio)"]
["GRUPO DE USUARIOS",null,"TOTAL",null,"GRUPO DE EDAD (En años)",null,null,null,null,null,null,null,null,null,null,null,null,null,null,null,null,null,null,null,null,null,null,null,null,null,null,null,null,null,null,null,"POR SEXO",null,null,null,"TRANS",null,null,null,"Pueblos originarios",null,"Migrantes",null,"14-18 años"]
[null,null,null,null,"Menor de 12 meses",null,"12-24 meses",null,"3 a 4 años",null,"5 a 9 años",null,"10 a 14 años",null,"15 a 19 años",null,"20 a 24 años",null,"25 a 29 años",null,"30 a 34 años",null,"35 a 39 años",null,"40 a 44 años",null,"45 a 49 años",null,"50 a 54 años",null,"55 a 59 años",null,"60 a 64 años",null," 65 y más años",null,"Hombres",null,"Mujeres",null,"Femenino",null,"Masculino"]
[null,null,"Procesados","Confirmados positivos por ISP","Procesados","Confirmados positivos por ISP","Procesados","Confirmados positivos por ISP","Procesados","Confirmados positivos por ISP","Procesados","Confirmados positivos por ISP","Procesados","Confirmados positivos por ISP","Procesados","Confirmados positivos por ISP","Procesados","Confirmados positivos por ISP","Procesados","Confirmados positivos por ISP","Procesados","Confirmados positivos por ISP","Procesados","Confirmados positivos por ISP","Procesados","Confirmados positivos por ISP","Procesados","Confirmados positivos por ISP","Procesados","Confirmados positivos por ISP","Procesados","Confirmados positivos por ISP","Procesados","Confirmados positivos por ISP","Procesados","Confirmados positivos por ISP","Procesados","Confirmados positivos por ISP","Procesados","Confirmados positivos por ISP","Procesados","Confirmados positivos por ISP","Procesados","Confirmados positivos por ISP","Procesados","Confirmados positivos por ISP","Procesados","Confirmados positivos por ISP","Procesados","Confirmados positivos por ISP"]
["GESTANTES PRIMER EXAMEN",null,{"$f":"+M187+O187+Q187+S187+U187+W187+Y187+AA187+AC187+AE187","v":0},0,null,null,null,null,null,null,null,null,null,null,null,null,null,null,null,null,null,null,null,null,null,null,null,null,null,null,null,null,null,null,null,null,null,null,null,null,null,null,null,null,null,null,null,null,null,null,{"$f":"$CA187&$CB187&$CC187&$CD187&$CE187&$CF187&$CG187&$CH187&$CI187&$CJ187&$CK187&$CL187&$CM187&$CN187&$CO187&$CP187&$CQ187&$CR187&$CS187&$CT187&$CU187&$CV187&$CW187&$CX187&$CY187&$CZ187","v":""},null,null,null,null,null,null,null,null,null,null,null,null,null,null,null,null,null,null,null,null,null,null,null,null,null,null,null,{"$f":"IF(DA187=1,\" * El total de exámenes confirmados positivos por ISP NO DEBE SUPERAR el total de exámenes procesados. \",\"\")","v":""},{"$f":"IF(DB187=1,\" * La suma de exámenes procesados por sexo DEBE SER IGUAL al total de Procesados. \",\"\")","v":""},{"$f":"IF(DC187=1,\" * La suma de exámenes Confirmados positivos por ISP por sexo DEBE SER IGUAL al total de Procesados. \",\"\")","v":""},{"$f":"IF(DD187=1,\" * La suma de exámenes procesados Trans NO PUEDE Superar al total de Procesados. \",\"\")","v":""},{"$f":"IF(DE187=1,\" * La suma de exámenes confirmados positivos por ISP Trans NO PUEDE Superar al total de Procesados. \",\"\")","v":""},{"$f":"IF(DF187=1,\" * Los exámenes procesados de personas pertenecientes a Pueblos originarios NO PUEDE Superar al total de Procesados. \",\"\")","v":""},{"$f":"IF(DG187=1,\" * Los exámenes confirmados positivos por ISP de personas pertenecientes a Pueblos originarios NO PUEDE Superar al total de Procesados. \",\"\")","v":""},{"$f":"IF(DH187=1,\" * Los exámenes procesados de personas pertenecientes a Pueblos migrantes NO PUEDE Superar al total de Procesados. \",\"\")","v":""},{"$f":"IF(DI187=1,\" * Los exámenes confirmados positivos por ISP de personas pertenecientes a Pueblos Migrantes NO PUEDE Superar al total de Procesados. \",\"\")","v":""},null,null,null,null,null,null,null,null,null,null,null,null,null,{"$f":"IF(DW187=1,\"* No olvide digitar la columna Procesados Trans y/o Pueblos Originarios y/o Migrantes (Digite Cero si no tiene). \",\"\")","v":""},{"$f":"IF(DX187=1,\"* No olvide digitar la columna Confirmados Trans y/o Pueblos Originarios y/o Migrantes (Digite Cero si no tiene). \",\"\")","v":""},null,null,{"$f":"IF(C187<D187,1,0)","v":0},{"$f":"IF(C187<>(AK187+AM187),1,0)","v":0},{"$f":"IF(D187<>(AL187+AN187),1,0)","v":0},{"$f":"IF(C187<(AO187+AQ187),1,0)","v":0},{"$f":"IF(D187<(AP187+AR187),1,0)","v":0},{"$f":"IF($C187<AS187,1,0)","v":0},{"$f":"IF($D187<AT187,1,0)","v":0},{"$f":"IF($C187<AU187,1,0)","v":0},{"$f":"IF($D187<AV187,1,0)","v":0},null,null,null,null,null,null,null,null,null,null,null,null,null,{"$f":"IF(AND(C187<>0,OR(AO187=\"\",AQ187=\"\",AS187=\"\",AU187=\"\")),1,0)","v":0},0]
["GESTANTES SEGUNDO EXAMEN",null,0,0,null,null,null,null,null,null,null,null,null,null,null,null,null,null,null,null,null,null,null,null,null,null,null,null,null,null,null,null,null,null,null,null,null,null,null,null,null,null,null,null,null,null,null,null,null,null,"",null,null,null,null,null,null,null,null,null,null,null,null,null,null,null,null,null,null,null,null,null,null,null,null,null,null,null,{"$f":"IF(DA188=1,\" * El total de exámenes confirmados positivos por ISP NO DEBE SUPERAR el total de exámenes procesados. \",\"\")","v":""},{"$f":"IF(DB188=1,\" * La suma de exámenes procesados por sexo DEBE SER IGUAL al total de Procesados. \",\"\")","v":""},{"$f":"IF(DC188=1,\" * La suma de exámenes Confirmados positivos por ISP por sexo DEBE SER IGUAL al total de Procesados. \",\"\")","v":""},{"$f":"IF(DD188=1,\" * La suma de exámenes procesados Trans NO PUEDE Superar al total de Procesados. \",\"\")","v":""},{"$f":"IF(DE188=1,\" * La suma de exámenes confirmados positivos por ISP Trans NO PUEDE Superar al total de Procesados. \",\"\")","v":""},{"$f":"IF(DF188=1,\" * Los exámenes procesados de personas pertenecientes a Pueblos originarios NO PUEDE Superar al total de Procesados. \",\"\")","v":""},{"$f":"IF(DG188=1,\" * Los exámenes confirmados positivos por ISP de personas pertenecientes a Pueblos originarios NO PUEDE Superar al total de Procesados. \",\"\")","v":""},{"$f":"IF(DH188=1,\" * Los exámenes procesados de personas pertenecientes a Pueblos migrantes NO PUEDE Superar al total de Procesados. \",\"\")","v":""},{"$f":"IF(DI188=1,\" * Los exámenes confirmados positivos por ISP de personas pertenecientes a Pueblos Migrantes NO PUEDE Superar al total de Procesados. \",\"\")","v":""},null,null,null,null,null,null,null,null,null,null,null,null,null,"","",null,null,{"$f":"IF(C188<D188,1,0)","v":0},{"$f":"IF(C188<>(AK188+AM188),1,0)","v":0},{"$f":"IF(D188<>(AL188+AN188),1,0)","v":0},{"$f":"IF(C188<(AO188+AQ188),1,0)","v":0},{"$f":"IF(D188<(AP188+AR188),1,0)","v":0},{"$f":"IF($C188<AS188,1,0)","v":0},{"$f":"IF($D188<AT188,1,0)","v":0},{"$f":"IF($C188<AU188,1,0)","v":0},{"$f":"IF($D188<AV188,1,0)","v":0},null,null,null,null,null,null,null,null,null,null,null,null,null,0,0]
["MUJER EN TRABAJO DE PRE PARTO O PARTO",null,0,0,null,null,null,null,null,null,null,null,null,null,null,null,null,null,null,null,null,null,null,null,null,null,null,null,null,null,null,null,null,null,null,null,null,null,null,null,null,null,null,null,null,null,null,null,null,null,"",null,null,null,null,null,null,null,null,null,null,null,null,null,null,null,null,null,null,null,null,null,null,null,null,null,null,null,"","","","","","","","","",null,null,null,null,null,null,null,null,null,null,null,null,null,"","",null,null,0,0,0,0,0,0,0,0,0,null,null,null,null,null,null,null,null,null,null,null,null,null,0,0]
["PERSONAS EN CONTROL POR COMERCIO SEXUAL",null,{"$f":"+O190+Q190+S190+U190+W190+Y190+AA190+AC190+AE190+AG190+AI190","v":0},{"$f":"+P190+R190+T190+V190+X190+Z190+AB190+AD190+AF190+AH190+AJ190","v":0},null,null,null,null,null,null,null,null,null,null,null,null,null,null,null,null,null,null,null,null,null,null,null,null,null,null,null,null,null,null,null,null,null,null,null,null,null,null,null,null,null,null,null,null,null,null,"",null,null,null,null,null,null,null,null,null,null,null,null,null,null,null,null,null,null,null,null,null,null,null,null,null,null,null,"","","","","","","","","",null,null,null,null,null,null,null,null,null,null,null,null,null,"","",null,null,0,0,0,0,0,0,0,0,0,null,null,null,null,null,null,null,null,null,null,null,null,null,0,0]
["PACIENTES EN DIÁLISIS",null,{"$f":"+E191+G191+I191+K191+M191+O191+Q191+S191+U191+W191+Y191+AA191+AC191+AE191+AG191+AI191","v":0},{"$f":"+F191+H191+J191+L191+N191+P191+R191+T191+V191+X191+Z191+AB191+AD191+AF191+AH191+AJ191","v":0},null,null,null,null,null,null,null,null,null,null,null,null,null,null,null,null,null,null,null,null,null,null,null,null,null,null,null,null,null,null,null,null,null,null,null,null,null,null,null,null,null,null,null,null,null,null,"",null,null,null,null,null,null,null,null,null,null,null,null,null,null,null,null,null,null,null,null,null,null,null,null,null,null,null,"","","","","","","","","",null,null,null,null,null,null,null,null,null,null,null,null,null,"","",null,null,0,0,0,0,0,0,0,0,0,null,null,null,null,null,null,null,null,null,null,null,null,null,0,0]
["POR CONSULTA ITS",null,{"$f":"+E192+G192+I192+K192+M192+O192+Q192+S192+U192+W192+Y192+AA192+AC192+AE192+AG192+AI192","v":0},{"$f":"+F192+H192+J192+L192+N192+P192+R192+T192+V192+X192+Z192+AB192+AD192+AF192+AH192+AJ192","v":0},null,null,null,null,null,null,null,null,null,null,null,null,null,null,null,null,null,null,null,null,null,null,null,null,null,null,null,null,null,null,null,null,null,null,null,null,null,null,null,null,null,null,null,null,null,null,"",null,null,null,null,null,null,null,null,null,null,null,null,null,null,null,null,null,null,null,null,null,null,null,null,null,null,null,"","","","","","","","","",null,null,null,null,null,null,null,null,null,null,null,null,null,"","",null,null,0,0,0,0,0,0,0,0,0,null,null,null,null,null,null,null,null,null,null,null,null,null,0,0]
["PERSONAS EN CONTROL DE REGULACIÓN FECUNDIDAD, GINECOLOGICO, CLIMATERIO",null,{"$f":"+O193+Q193+S193+U193+W193+Y193+AA193+AC193+AE193+AG193+AI193","v":0},{"$f":"+P193+R193+T193+V193+X193+Z193+AB193+AD193+AF193+AH193+AJ193","v":0},null,null,null,null,null,null,null,null,null,null,null,null,null,null,null,null,null,null,null,null,null,null,null,null,null,null,null,null,null,null,null,null,null,null,null,null,null,null,null,null,null,null,null,null,null,null,"",null,null,null,null,null,null,null,null,null,null,null,null,null,null,null,null,null,null,null,null,null,null,null,null,null,null,null,"","","","","","","","","",null,null,null,null,null,null,null,null,null,null,null,null,null,"","",null,null,0,0,0,0,0,0,0,0,0,null,null,null,null,null,null,null,null,null,null,null,null,null,0,0]
["PERSONAS EMP/EMPAM ",null,{"$f":"+O194+Q194+S194+U194+W194+Y194+AA194+AC194+AE194+AG194+AI194","v":0},{"$f":"+P194+R194+T194+V194+X194+Z194+AB194+AD194+AF194+AH194+AJ194","v":0},null,null,null,null,null,null,null,null,null,null,null,null,null,null,null,null,null,null,null,null,null,null,null,null,null,null,null,null,null,null,null,null,null,null,null,null,null,null,null,null,null,null,null,null,null,null,"",null,null,null,null,null,null,null,null,null,null,null,null,null,null,null,null,null,null,null,null,null,null,null,null,null,null,null,"","","","","","","","","",null,null,null,null,null,null,null,null,null,null,null,null,null,"","",null,null,0,0,0,0,0,0,0,0,0,null,null,null,null,null,null,null,null,null,null,null,null,null,0,0]
["PERSONAS EN CONTROL DE SALUD SEGÚN CICLO VITAL",null,{"$f":"+E195+G195+I195+K195+M195+O195+Q195+S195+U195+W195+Y195+AA195+AC195+AE195+AG195+AI195","v":0},{"$f":"+F195+H195+J195+L195+N195+P195+R195+T195+V195+X195+Z195+AB195+AD195+AF195+AH195+AJ195","v":0},null,null,null,null,null,null,null,null,null,null,null,null,null,null,null,null,null,null,null,null,null,null,null,null,null,null,null,null,null,null,null,null,null,null,null,null,null,null,null,null,null,null,null,null,null,null,"",null,null,null,null,null,null,null,null,null,null,null,null,null,null,null,null,null,null,null,null,null,null,null,null,null,null,null,"","","","","","","","","",null,null,null,null,null,null,null,null,null,null,null,null,null,"","",null,null,0,0,0,0,0,0,0,0,0,null,null,null,null,null,null,null,null,null,null,null,null,null,0,0]
["DONANTES DE SANGRE","ALTRUISTA NUEVO",{"$f":"+O196+Q196+S196+U196+W196+Y196+AA196+AC196+AE196+AG196","v":0},0,null,null,null,null,null,null,null,null,null,null,null,null,null,null,null,null,null,null,null,null,null,null,null,null,null,null,null,null,null,null,null,null,null,null,null,null,null,null,null,null,null,null,null,null,null,null,"",null,null,null,null,null,null,null,null,null,null,null,null,null,null,null,null,null,null,null,null,null,null,null,null,null,null,null,"","","","","","","","","",null,null,null,null,null,null,null,null,null,null,null,null,null,"","",null,null,0,0,0,0,0,0,0,0,0,null,null,null,null,null,null,null,null,null,null,null,null,null,0,0]
[null,"ALTRUISTA REPETIDO",0,0,null,null,null,null,null,null,null,null,null,null,null,null,null,null,null,null,null,null,null,null,null,null,null,null,null,null,null,null,null,null,null,null,null,null,null,null,null,null,null,null,null,null,null,null,null,null,"",null,null,null,null,null,null,null,null,null,null,null,null,null,null,null,null,null,null,null,null,null,null,null,null,null,null,null,"","","","","","","","","",null,null,null,null,null,null,null,null,null,null,null,null,null,"","",null,null,0,0,0,0,0,0,0,0,0,null,null,null,null,null,null,null,null,null,null,null,null,null,0,0]
[null,"FAMILIAR O REPOSICIÓN",0,0,null,null,null,null,null,null,null,null,null,null,null,null,null,null,null,null,null,null,null,null,null,null,null,null,null,null,null,null,null,null,null,null,null,null,null,null,null,null,null,null,null,null,null,null,null,null,"",null,null,null,null,null,null,null,null,null,null,null,null,null,null,null,null,null,null,null,null,null,null,null,null,null,null,null,"","","","","","","","","",null,null,null,null,null,null,null,null,null,null,null,null,null,"","",null,null,0,0,0,0,0,0,0,0,0,null,null,null,null,null,null,null,null,null,null,null,null,null,0,0]
["DONANTES DE ÓRGANOS Y/O TEJIDOS",null,{"$f":"+E199+G199+I199+K199+M199+O199+Q199+S199+U199+W199+Y199+AA199+AC199+AE199+AG199+AI199","v":0},0,null,null,null,null,null,null,null,null,null,null,null,null,null,null,null,null,null,null,null,null,null,null,null,null,null,null,null,null,null,null,null,null,null,null,null,null,null,null,null,null,null,null,null,null,null,null,"",null,null,null,null,null,null,null,null,null,null,null,null,null,null,null,null,null,null,null,null,null,null,null,null,null,null,null,"","","","","","","","","",null,null,null,null,null,null,null,null,null,null,null,null,null,"","",null,null,0,0,0,0,0,0,0,0,0,null,null,null,null,null,null,null,null,null,null,null,null,null,0,0]
["PERSONA EN CONTROL POR TBC",null,0,0,null,null,null,null,null,null,null,null,null,null,null,null,null,null,null,null,null,null,null,null,null,null,null,null,null,null,null,null,null,null,null,null,null,null,null,null,null,null,null,null,null,null,null,null,null,null,"",null,null,null,null,null,null,null,null,null,null,null,null,null,null,null,null,null,null,null,null,null,null,null,null,null,null,null,"","","","","","","","","",null,null,null,null,null,null,null,null,null,null,null,null,null,"","",null,null,0,0,0,0,0,0,0,0,0,null,null,null,null,null,null,null,null,null,null,null,null,null,0,0]
["VÍCTIMA DE VIOLENCIA SEXUAL",null,0,0,null,null,null,null,null,null,null,null,null,null,null,null,null,null,null,null,null,null,null,null,null,null,null,null,null,null,null,null,null,null,null,null,null,null,null,null,null,null,null,null,null,null,null,null,null,null,"",null,null,null,null,null,null,null,null,null,null,null,null,null,null,null,null,null,null,null,null,null,null,null,null,null,null,null,"","","","","","","","","",null,null,null,null,null,null,null,null,null,null,null,null,null,"","",null,null,0,0,0,0,0,0,0,0,0,null,null,null,null,null,null,null,null,null,null,null,null,null,0,0]
["PAREJA SERODISCORDANTE",null,{"$f":"+O202+Q202+S202+U202+W202+Y202+AA202+AC202+AE202+AG202+AI202","v":0},{"$f":"+P202+R202+T202+V202+X202+Z202+AB202+AD202+AF202+AH202+AJ202","v":0},null,null,null,null,null,null,null,null,null,null,null,null,null,null,null,null,null,null,null,null,null,null,null,null,null,null,null,null,null,null,null,null,null,null,null,null,null,null,null,null,null,null,null,null,null,null,"",null,null,null,null,null,null,null,null,null,null,null,null,null,null,null,null,null,null,null,null,null,null,null,null,null,null,null,"","","","","","","","","",null,null,null,null,null,null,null,null,null,null,null,null,null,"","",null,null,0,0,0,0,0,0,0,0,0,null,null,null,null,null,null,null,null,null,null,null,null,null,0,0]
["PAREJA DE GESTANTE VIH POSITIVO",null,{"$f":"+O203+Q203+S203+U203+W203+Y203+AA203+AC203+AE203+AG203+AI203","v":0},{"$f":"+P203+R203+T203+V203+X203+Z203+AB203+AD203+AF203+AH203+AJ203","v":0},null,null,null,null,null,null,null,null,null,null,null,null,null,null,null,null,null,null,null,null,null,null,null,null,null,null,null,null,null,null,null,null,null,null,null,null,null,null,null,null,null,null,null,null,null,null,"",null,null,null,null,null,null,null,null,null,null,null,null,null,null,null,null,null,null,null,null,null,null,null,null,null,null,null,"","","","","","","","","",null,null,null,null,null,null,null,null,null,null,null,null,null,"","",null,null,0,0,0,0,0,0,0,0,0,null,null,null,null,null,null,null,null,null,null,null,null,null,{"$f":"IF(AND(C203<>0,OR(AO203=\"\",AQ203=\"\",AS203=\"\",AU203=\"\")),1,0)","v":0},0]
["PERSONAL DE SALUD EXPUESTO A ACCIDENTE CORTOPUNZANTE",null,0,0,null,null,null,null,null,null,null,null,null,null,null,null,null,null,null,null,null,null,null,null,null,null,null,null,null,null,null,null,null,null,null,null,null,null,null,null,null,null,null,null,null,null,null,null,null,null,"",null,null,null,null,null,null,null,null,null,null,null,null,null,null,null,null,null,null,null,null,null,null,null,null,null,null,null,"","","","","","","","","",null,null,null,null,null,null,null,null,null,null,null,null,null,"","",null,null,0,0,0,0,0,0,0,0,0,null,null,null,null,null,null,null,null,null,null,null,null,null,0,0]
["PACIENTES FUENTE DE ACCIDENTE CORTOPUNZANTE",null,{"$f":"+E205+G205+I205+K205+M205+O205+Q205+S205+U205+W205+Y205+AA205+AC205+AE205+AG205+AI205","v":0},0,null,null,null,null,null,null,null,null,null,null,null,null,null,null,null,null,null,null,null,null,null,null,null,null,null,null,null,null,null,null,null,null,null,null,null,null,null,null,null,null,null,null,null,null,null,null,"",null,null,null,null,null,null,null,null,null,null,null,null,null,null,null,null,null,null,null,null,null,null,null,null,null,null,null,"","","","","","","","","",null,null,null,null,null,null,null,null,null,null,null,null,null,"","",null,null,0,0,0,0,0,0,0,0,0,null,null,null,null,null,null,null,null,null,null,null,null,null,0,0]
["PERSONA EN CONTROL POR HEPATITIS B",null,0,0,null,null,null,null,null,null,null,null,null,null,null,null,null,null,null,null,null,null,null,null,null,null,null,null,null,null,null,null,null,null,null,null,null,null,null,null,null,null,null,null,null,null,null,null,null,null,"",null,null,null,null,null,null,null,null,null,null,null,null,null,null,null,null,null,null,null,null,null,null,null,null,null,null,null,"","","","","","","","","",null,null,null,null,null,null,null,null,null,null,null,null,null,"","",null,null,0,0,0,0,0,0,0,0,0,null,null,null,null,null,null,null,null,null,null,null,null,null,0,0]
["PERSONA EN CONTROL POR HEPATITIS C",null,0,0,null,null,null,null,null,null,null,null,null,null,null,null,null,null,null,null,null,null,null,null,null,null,null,null,null,null,null,null,null,null,null,null,null,null,null,null,null,null,null,null,null,null,null,null,null,null,"",null,null,null,null,null,null,null,null,null,null,null,null,null,null,null,null,null,null,null,null,null,null,null,null,null,null,null,"","","","","","","","","",null,null,null,null,null,null,null,null,null,null,null,null,null,"","",null,null,0,0,0,0,0,0,0,0,0,null,null,null,null,null,null,null,null,null,null,null,null,null,0,0]
["CONSULTANTES POR MORBILIDAD",null,0,0,null,null,null,null,null,null,null,null,null,null,null,null,null,null,null,null,null,null,null,null,null,null,null,null,null,null,null,null,null,null,null,null,null,null,null,null,null,null,null,null,null,null,null,null,null,null,"",null,null,null,null,null,null,null,null,null,null,null,null,null,null,null,null,null,null,null,null,null,null,null,null,null,null,null,"","","","","","","","","",null,null,null,null,null,null,null,null,null,null,null,null,null,"","",null,null,0,0,0,0,0,0,0,0,0,null,null,null,null,null,null,null,null,null,null,null,null,null,0,0]
["POR CONSULTA ESPONTÁNEA",null,0,0,null,null,null,null,null,null,null,null,null,null,null,null,null,null,null,null,null,null,null,null,null,null,null,null,null,null,null,null,null,null,null,null,null,null,null,null,null,null,null,null,null,null,null,null,null,null,"",null,null,null,null,null,null,null,null,null,null,null,null,null,null,null,null,null,null,null,null,null,null,null,null,null,null,null,{"$f":"IF(DA209=1,\" * El total de exámenes confirmados positivos por ISP NO DEBE SUPERAR el total de exámenes procesados. \",\"\")","v":""},{"$f":"IF(DB209=1,\" * La suma de exámenes procesados por sexo DEBE SER IGUAL al total de Procesados. \",\"\")","v":""},{"$f":"IF(DC209=1,\" * La suma de exámenes Confirmados positivos por ISP por sexo DEBE SER IGUAL al total de Procesados. \",\"\")","v":""},{"$f":"IF(DD209=1,\" * La suma de exámenes procesados Trans NO PUEDE Superar al total de Procesados. \",\"\")","v":""},{"$f":"IF(DE209=1,\" * La suma de exámenes confirmados positivos por ISP Trans NO PUEDE Superar al total de Procesados. \",\"\")","v":""},{"$f":"IF(DF209=1,\" * Los exámenes procesados de personas pertenecientes a Pueblos originarios NO PUEDE Superar al total de Procesados. \",\"\")","v":""},{"$f":"IF(DG209=1,\" * Los exámenes confirmados positivos por ISP de personas pertenecientes a Pueblos originarios NO PUEDE Superar al total de Procesados. \",\"\")","v":""},{"$f":"IF(DH209=1,\" * Los exámenes procesados de personas pertenecientes a Pueblos migrantes NO PUEDE Superar al total de Procesados. \",\"\")","v":""},{"$f":"IF(DI209=1,\" * Los exámenes confirmados positivos por ISP de personas pertenecientes a Pueblos Migrantes NO PUEDE Superar al total de Procesados. \",\"\")","v":""},null,null,null,null,null,null,null,null,null,null,null,null,null,"","",null,null,0,0,0,0,0,0,0,0,0,null,null,null,null,null,null,null,null,null,null,null,null,null,0,0]
["SECCIÓN D: EXÁMENES DE GONORREA POR GRUPOS DE USUARIOS "]
["GRUPO DE USUARIOS","TOTAL",null,"GRUPO DE EDAD (En años)",null,null,null,null,null,null,null,null,null,null,null,null,null,null,null,null,null,null,null,null,null,null,null,null,null,null,null,null,null,null,null,null,null,"POR SEXO\n(Procesados)",null,"TRANS",null,"Pueblos Originarios","Migrantes"]
[null,null,null,"0 a 4 años",null,"5 a 9 años",null,"10 a 14 años",null,"15 a 19 años",null,"20 a 24 años",null,"25 a 29 años",null,"30 a 34 años",null,"35 a 39 años",null,"40 a 44 años",null,"45 a 49 años",null,"50 a 54 años",null,"55 a 59 años",null,"60 a 64 años",null,"65 a 69 años",null,"70 a 74 años",null,"75 a 79 años",null,"80 y más años",null,"Hombres","Mujeres","Masculino","Femenino"]
[null,"Procesados","Reactivos","Procesados","Reactivos","Procesados","Reactivos","Procesados","Reactivos","Procesados","Reactivos","Procesados","Reactivos","Procesados","Reactivos","Procesados","Reactivos","Procesados","Reactivos","Procesados","Reactivos","Procesados","Reactivos","Procesados","Reactivos","Procesados","Reactivos","Procesados","Reactivos","Procesados","Reactivos","Procesados","Reactivos","Procesados","Reactivos","Procesados","Reactivos"]
["GESTANTES",{"$f":"SUM(D214+F214+H214+J214+L214+N214+P214+R214+T214+V214+X214+Z214+AB214+AD214+AF214+AH214+AJ214)","v":0},{"$f":"SUM(E214+G214+I214+K214+M214+O214+Q214+S214+U214+W214+Y214+AA214+AC214+AE214+AG214+AI214+AK214)","v":0},null,null,null,null,null,null,null,null,null,null,null,null,null,null,null,null,null,null,null,null,null,null,null,null,null,null,null,null,null,null,null,null,null,null,null,null,null,null,null,null,null,null,null,null,null,null,null,null,null,null,null,null,null,null,null,null,null,null,null,null,null,null,null,null,null,null,null,null,null,null,null,null,null,null,null,{"$f":"IF(B214<   C214,\"* El total de Reactivos NO DEBE ser superior al total de Procesados. \",\"\")","v":""},{"$f":"IF(B214<> AL214+ AM214,\"* La suma de las columnas Sexo DEBE SER IGUAL a los Procesados. \",\"\")","v":""},{"$f":"IF(B214<  AN214+ AO214,\"* La suma de las columna Trans NO DEBE ser superior al total de Procesados. \",\"\")","v":""},{"$f":"IF(B214<  AP214,\"* La columna Pueblos Originarios NO DEBE ser superior al total de Procesados. \",\"\")","v":""},{"$f":"IF(B214<  AQ214,\"* La columna Migrantes NO DEBE ser superior al total de Procesados. \",\"\")","v":""},{"$f":"IF(D214<E214,\"* Los exömenes Reactivos de  a_os NO DEBEN ser mayor a los Exömenes Procesados de la misma edad. \",\"\")","v":""},{"$f":"IF(F214<G214,\"* Los exömenes Reactivos de  a_os NO DEBEN ser mayor a los Exömenes Procesados de la misma edad. \",\"\")","v":""},{"$f":"IF(H214<I214,\"* Los exömenes Reactivos de  a_os NO DEBEN ser mayor a los Exömenes Procesados de la misma edad. \",\"\")","v":""},{"$f":"IF(J214<K214,\"* Los exömenes Reactivos de  a_os NO DEBEN ser mayor a los Exömenes Procesados de la misma edad. \",\"\")","v":""},{"$f":"IF(L214<M214,\"* Los exömenes Reactivos de  a_os NO DEBEN ser mayor a los Exömenes Procesados de la misma edad. \",\"\")","v":""},{"$f":"IF(N214<O214,\"* Los exömenes Reactivos de  a_os NO DEBEN ser mayor a los Exömenes Procesados de la misma edad. \",\"\")","v":""},{"$f":"IF(P214<Q214,\"* Los exömenes Reactivos de  a_os NO DEBEN ser mayor a los Exömenes Procesados de la misma edad. \",\"\")","v":""},{"$f":"IF(R214<S214,\"* Los exömenes Reactivos de  a_os NO DEBEN ser mayor a los Exömenes Procesados de la misma edad. \",\"\")","v":""},{"$f":"IF(T214<U214,\"* Los exömenes Reactivos de  a_os NO DEBEN ser mayor a los Exömenes Procesados de la misma edad. \",\"\")","v":""},{"$f":"IF(V214<W214,\"* Los exömenes Reactivos de  a_os NO DEBEN ser mayor a los Exömenes Procesados de la misma edad. \",\"\")","v":""},{"$f":"IF(X214<Y214,\"* Los exömenes Reactivos de  a_os NO DEBEN ser mayor a los Exömenes Procesados de la misma edad. \",\"\")","v":""},{"$f":"IF(Z214<AA214,\"* Los exömenes Reactivos de  a_os NO DEBEN ser mayor a los Exömenes Procesados de la misma edad. \",\"\")","v":""},{"$f":"IF(AB214<AC214,\"* Los exömenes Reactivos de  a_os NO DEBEN ser mayor a los Exömenes Procesados de la misma edad. \",\"\")","v":""},{"$f":"IF(AD214<AE214,\"* Los exömenes Reactivos de  a_os NO DEBEN ser mayor a los Exömenes Procesados de la misma edad. \",\"\")","v":""},{"$f":"IF(AF214<AG214,\"* Los exömenes Reactivos de  a_os NO DEBEN ser mayor a los Exömenes Procesados de la misma edad. \",\"\")","v":""},{"$f":"IF(AH214<AI214,\"* Los exömenes Reactivos de  a_os NO DEBEN ser mayor a los Exömenes Procesados de la misma edad. \",\"\")","v":""},{"$f":"IF(AJ214<AK214,\"* Los exömenes Reactivos de  a_os NO DEBEN ser mayor a los Exömenes Procesados de la misma edad. \",\"\")","v":""},null,null,null,null,{"$f":"IF(B214<   C214,1,0)","v":0},{"$f":"IF(B214<> AL214+AM214,1,0)","v":0},{"$f":"IF(B214<  AN214+AO214,1,0)","v":0},{"$f":"IF(B214<  AP214,1,0)","v":0},{"$f":"IF(B214<  AQ214,1,0)","v":0},{"$f":"IF(D214<E214,1,0)","v":0},{"$f":"IF(F214<G214,1,0)","v":0},{"$f":"IF(H214<I214,1,0)","v":0},{"$f":"IF(J214<K214,1,0)","v":0},{"$f":"IF(L214<M214,1,0)","v":0},{"$f":"IF(N214<O214,1,0)","v":0},{"$f":"IF(P214<Q214,1,0)","v":0},{"$f":"IF(R214<S214,1,0)","v":0},{"$f":"IF(T214<U214,1,0)","v":0},{"$f":"IF(V214<W214,1,0)","v":0},{"$f":"IF(X214<Y214,1,0)","v":0},{"$f":"IF(Z214<AA214,1,0)","v":0},{"$f":"IF(AB214<AC214,1,0)","v":0},{"$f":"IF(AD214<AE214,1,0)","v":0},{"$f":"IF(AF214<AG214,1,0)","v":0},{"$f":"IF(AH214<AI214,1,0)","v":0},{"$f":"IF(AJ214<AK214,1,0)","v":0},null,null,null,0]
["COMERCIO SEXUAL",0,0,null,null,null,null,null,null,null,null,null,null,null,null,null,null,null,null,null,null,null,null,null,null,null,null,null,null,null,null,null,null,null,null,null,null,null,null,null,null,null,null,null,null,null,null,null,null,null,null,null,null,null,null,null,null,null,null,null,null,null,null,null,null,null,null,null,null,null,null,null,null,null,null,null,null,null,"","","","","",{"$f":"IF(D215<E215,\"* Los exömenes Reactivos de  a_os NO DEBEN ser mayor a los Exömenes Procesados de la misma edad. \",\"\")","v":""},{"$f":"IF(F215<G215,\"* Los exömenes Reactivos de  a_os NO DEBEN ser mayor a los Exömenes Procesados de la misma edad. \",\"\")","v":""},{"$f":"IF(H215<I215,\"* Los exömenes Reactivos de  a_os NO DEBEN ser mayor a los Exömenes Procesados de la misma edad. \",\"\")","v":""},{"$f":"IF(J215<K215,\"* Los exömenes Reactivos de  a_os NO DEBEN ser mayor a los Exömenes Procesados de la misma edad. \",\"\")","v":""},{"$f":"IF(L215<M215,\"* Los exömenes Reactivos de  a_os NO DEBEN ser mayor a los Exömenes Procesados de la misma edad. \",\"\")","v":""},{"$f":"IF(N215<O215,\"* Los exömenes Reactivos de  a_os NO DEBEN ser mayor a los Exömenes Procesados de la misma edad. \",\"\")","v":""},{"$f":"IF(P215<Q215,\"* Los exömenes Reactivos de  a_os NO DEBEN ser mayor a los Exömenes Procesados de la misma edad. \",\"\")","v":""},{"$f":"IF(R215<S215,\"* Los exömenes Reactivos de  a_os NO DEBEN ser mayor a los Exömenes Procesados de la misma edad. \",\"\")","v":""},{"$f":"IF(T215<U215,\"* Los exömenes Reactivos de  a_os NO DEBEN ser mayor a los Exömenes Procesados de la misma edad. \",\"\")","v":""},{"$f":"IF(V215<W215,\"* Los exömenes Reactivos de  a_os NO DEBEN ser mayor a los Exömenes Procesados de la misma edad. \",\"\")","v":""},{"$f":"IF(X215<Y215,\"* Los exömenes Reactivos de  a_os NO DEBEN ser mayor a los Exömenes Procesados de la misma edad. \",\"\")","v":""},{"$f":"IF(Z215<AA215,\"* Los exömenes Reactivos de  a_os NO DEBEN ser mayor a los Exömenes Procesados de la misma edad. \",\"\")","v":""},{"$f":"IF(AB215<AC215,\"* Los exömenes Reactivos de  a_os NO DEBEN ser mayor a los Exömenes Procesados de la misma edad. \",\"\")","v":""},{"$f":"IF(AD215<AE215,\"* Los exömenes Reactivos de  a_os NO DEBEN ser mayor a los Exömenes Procesados de la misma edad. \",\"\")","v":""},{"$f":"IF(AF215<AG215,\"* Los exömenes Reactivos de  a_os NO DEBEN ser mayor a los Exömenes Procesados de la misma edad. \",\"\")","v":""},{"$f":"IF(AH215<AI215,\"* Los exömenes Reactivos de  a_os NO DEBEN ser mayor a los Exömenes Procesados de la misma edad. \",\"\")","v":""},{"$f":"IF(AJ215<AK215,\"* Los exömenes Reactivos de  a_os NO DEBEN ser mayor a los Exömenes Procesados de la misma edad. \",\"\")","v":""},null,null,null,null,0,0,0,0,0,0,0,0,0,0,0,0,0,0,0,0,0,0,0,0,0,0,null,null,null,0]
["PERSONAS VIH (+)",0,0,null,null,null,null,null,null,null,null,null,null,null,null,null,null,null,null,null,null,null,null,null,null,null,null,null,null,null,null,null,null,null,null,null,null,null,null,null,null,null,null,null,null,null,null,null,null,null,null,null,null,null,null,null,null,null,null,null,null,null,null,null,null,null,null,null,null,null,null,null,null,null,null,null,null,null,"","","","","",{"$f":"IF(D216<E216,\"* Los exámenes Reactivos de 0 a 4 años años NO DEBEN ser mayor a los Exámenes Procesados de la misma edad. \",\"\")","v":""},{"$f":"IF(F216<G216,\"* Los exámenes Reactivos de 5 a 9 años años NO DEBEN ser mayor a los Exámenes Procesados de la misma edad. \",\"\")","v":""},{"$f":"IF(H216<I216,\"* Los exámenes Reactivos de 10 a 14 años años NO DEBEN ser mayor a los Exámenes Procesados de la misma edad. \",\"\")","v":""},{"$f":"IF(J216<K216,\"* Los exámenes Reactivos de 15 a 19 años años NO DEBEN ser mayor a los Exámenes Procesados de la misma edad. \",\"\")","v":""},{"$f":"IF(L216<M216,\"* Los exámenes Reactivos de 20 a 24 años años NO DEBEN ser mayor a los Exámenes Procesados de la misma edad. \",\"\")","v":""},{"$f":"IF(N216<O216,\"* Los exámenes Reactivos de 25 a 29 años años NO DEBEN ser mayor a los Exámenes Procesados de la misma edad. \",\"\")","v":""},{"$f":"IF(P216<Q216,\"* Los exámenes Reactivos de 30 a 34 años años NO DEBEN ser mayor a los Exámenes Procesados de la misma edad. \",\"\")","v":""},{"$f":"IF(R216<S216,\"* Los exámenes Reactivos de 35 a 39 años años NO DEBEN ser mayor a los Exámenes Procesados de la misma edad. \",\"\")","v":""},{"$f":"IF(T216<U216,\"* Los exámenes Reactivos de 40 a 44 años años NO DEBEN ser mayor a los Exámenes Procesados de la misma edad. \",\"\")","v":""},{"$f":"IF(V216<W216,\"* Los exámenes Reactivos de 45 a 49 años años NO DEBEN ser mayor a los Exámenes Procesados de la misma edad. \",\"\")","v":""},{"$f":"IF(X216<Y216,\"* Los exámenes Reactivos de 50 a 54 años años NO DEBEN ser mayor a los Exámenes Procesados de la misma edad. \",\"\")","v":""},{"$f":"IF(Z216<AA216,\"* Los exámenes Reactivos de 55 a 59 años años NO DEBEN ser mayor a los Exámenes Procesados de la misma edad. \",\"\")","v":""},{"$f":"IF(AB216<AC216,\"* Los exámenes Reactivos de 60 a 64 años años NO DEBEN ser mayor a los Exámenes Procesados de la misma edad. \",\"\")","v":""},{"$f":"IF(AD216<AE216,\"* Los exámenes Reactivos de 65 a 69 años años NO DEBEN ser mayor a los Exámenes Procesados de la misma edad. \",\"\")","v":""},{"$f":"IF(AF216<AG216,\"* Los exámenes Reactivos de 70 a 74 años años NO DEBEN ser mayor a los Exámenes Procesados de la misma edad. \",\"\")","v":""},{"$f":"IF(AH216<AI216,\"* Los exámenes Reactivos de 75 a 79 años años NO DEBEN ser mayor a los Exámenes Procesados de la misma edad. \",\"\")","v":""},{"$f":"IF(AJ216<AK216,\"* Los exámenes Reactivos de 80 y más años años NO DEBEN ser mayor a los Exámenes Procesados de la misma edad. \",\"\")","v":""},null,null,null,null,0,0,0,0,0,0,0,0,0,0,0,0,0,0,0,0,0,0,0,0,0,0,null,null,null,0]
["CONSULTANTE ITS AMBULATORIO (nivel1º y 2º)",0,{"$f":"SUM(E217+G217+I217+K217+M217+O217+Q217+S217+U217+W217+Y217+AA217+AC217+AE217+AG217+AI217+AK217)","v":0},null,null,null,null,null,null,null,null,null,null,null,null,null,null,null,null,null,null,null,null,null,null,null,null,null,null,null,null,null,null,null,null,null,null,null,null,null,null,null,null,null,null,null,null,null,null,null,null,null,null,null,null,null,null,null,null,null,null,null,null,null,null,null,null,null,null,null,null,null,null,null,null,null,null,null,"","","","","",{"$f":"IF(D217<E217,\"* Los exámenes Reactivos de 0 a 4 años años NO DEBEN ser mayor a los Exámenes Procesados de la misma edad. \",\"\")","v":""},{"$f":"IF(F217<G217,\"* Los exámenes Reactivos de 5 a 9 años años NO DEBEN ser mayor a los Exámenes Procesados de la misma edad. \",\"\")","v":""},{"$f":"IF(H217<I217,\"* Los exámenes Reactivos de 10 a 14 años años NO DEBEN ser mayor a los Exámenes Procesados de la misma edad. \",\"\")","v":""},{"$f":"IF(J217<K217,\"* Los exámenes Reactivos de 15 a 19 años años NO DEBEN ser mayor a los Exámenes Procesados de la misma edad. \",\"\")","v":""},{"$f":"IF(L217<M217,\"* Los exámenes Reactivos de 20 a 24 años años NO DEBEN ser mayor a los Exámenes Procesados de la misma edad. \",\"\")","v":""},{"$f":"IF(N217<O217,\"* Los exámenes Reactivos de 25 a 29 años años NO DEBEN ser mayor a los Exámenes Procesados de la misma edad. \",\"\")","v":""},{"$f":"IF(P217<Q217,\"* Los exámenes Reactivos de 30 a 34 años años NO DEBEN ser mayor a los Exámenes Procesados de la misma edad. \",\"\")","v":""},{"$f":"IF(R217<S217,\"* Los exámenes Reactivos de 35 a 39 años años NO DEBEN ser mayor a los Exámenes Procesados de la misma edad. \",\"\")","v":""},{"$f":"IF(T217<U217,\"* Los exámenes Reactivos de 40 a 44 años años NO DEBEN ser mayor a los Exámenes Procesados de la misma edad. \",\"\")","v":""},{"$f":"IF(V217<W217,\"* Los exámenes Reactivos de 45 a 49 años años NO DEBEN ser mayor a los Exámenes Procesados de la misma edad. \",\"\")","v":""},{"$f":"IF(X217<Y217,\"* Los exámenes Reactivos de 50 a 54 años años NO DEBEN ser mayor a los Exámenes Procesados de la misma edad. \",\"\")","v":""},{"$f":"IF(Z217<AA217,\"* Los exámenes Reactivos de 55 a 59 años años NO DEBEN ser mayor a los Exámenes Procesados de la misma edad. \",\"\")","v":""},{"$f":"IF(AB217<AC217,\"* Los exámenes Reactivos de 60 a 64 años años NO DEBEN ser mayor a los Exámenes Procesados de la misma edad. \",\"\")","v":""},{"$f":"IF(AD217<AE217,\"* Los exámenes Reactivos de 65 a 69 años años NO DEBEN ser mayor a los Exámenes Procesados de la misma edad. \",\"\")","v":""},{"$f":"IF(AF217<AG217,\"* Los exámenes Reactivos de 70 a 74 años años NO DEBEN ser mayor a los Exámenes Procesados de la misma edad. \",\"\")","v":""},{"$f":"IF(AH217<AI217,\"* Los exámenes Reactivos de 75 a 79 años años NO DEBEN ser mayor a los Exámenes Procesados de la misma edad. \",\"\")","v":""},{"$f":"IF(AJ217<AK217,\"* Los exámenes Reactivos de 80 y más años años NO DEBEN ser mayor a los Exámenes Procesados de la misma edad. \",\"\")","v":""},null,null,null,null,0,0,0,0,0,0,0,0,0,0,0,0,0,0,0,0,0,0,0,0,0,0,null,null,null,0]
["CONSULTANTE ITS HOSPITALARIO (nivel 3º y urgencia)",0,{"$f":"SUM(E218+G218+I218+K218+M218+O218+Q218+S218+U218+W218+Y218+AA218+AC218+AE218+AG218+AI218+AK218)","v":0},null,null,null,null,null,null,null,null,null,null,null,null,null,null,null,null,null,null,null,null,null,null,null,null,null,null,null,null,null,null,null,null,null,null,null,null,null,null,null,null,null,null,null,null,null,null,null,null,null,null,null,null,null,null,null,null,null,null,null,null,null,null,null,null,null,null,null,null,null,null,null,null,null,null,null,"","","","","",{"$f":"IF(D218<E218,\"* Los exámenes Reactivos de 0 a 4 años años NO DEBEN ser mayor a los Exámenes Procesados de la misma edad. \",\"\")","v":""},{"$f":"IF(F218<G218,\"* Los exámenes Reactivos de 5 a 9 años años NO DEBEN ser mayor a los Exámenes Procesados de la misma edad. \",\"\")","v":""},{"$f":"IF(H218<I218,\"* Los exámenes Reactivos de 10 a 14 años años NO DEBEN ser mayor a los Exámenes Procesados de la misma edad. \",\"\")","v":""},{"$f":"IF(J218<K218,\"* Los exámenes Reactivos de 15 a 19 años años NO DEBEN ser mayor a los Exámenes Procesados de la misma edad. \",\"\")","v":""},{"$f":"IF(L218<M218,\"* Los exámenes Reactivos de 20 a 24 años años NO DEBEN ser mayor a los Exámenes Procesados de la misma edad. \",\"\")","v":""},{"$f":"IF(N218<O218,\"* Los exámenes Reactivos de 25 a 29 años años NO DEBEN ser mayor a los Exámenes Procesados de la misma edad. \",\"\")","v":""},{"$f":"IF(P218<Q218,\"* Los exámenes Reactivos de 30 a 34 años años NO DEBEN ser mayor a los Exámenes Procesados de la misma edad. \",\"\")","v":""},{"$f":"IF(R218<S218,\"* Los exámenes Reactivos de 35 a 39 años años NO DEBEN ser mayor a los Exámenes Procesados de la misma edad. \",\"\")","v":""},{"$f":"IF(T218<U218,\"* Los exámenes Reactivos de 40 a 44 años años NO DEBEN ser mayor a los Exámenes Procesados de la misma edad. \",\"\")","v":""},{"$f":"IF(V218<W218,\"* Los exámenes Reactivos de 45 a 49 años años NO DEBEN ser mayor a los Exámenes Procesados de la misma edad. \",\"\")","v":""},{"$f":"IF(X218<Y218,\"* Los exámenes Reactivos de 50 a 54 años años NO DEBEN ser mayor a los Exámenes Procesados de la misma edad. \",\"\")","v":""},{"$f":"IF(Z218<AA218,\"* Los exámenes Reactivos de 55 a 59 años años NO DEBEN ser mayor a los Exámenes Procesados de la misma edad. \",\"\")","v":""},{"$f":"IF(AB218<AC218,\"* Los exámenes Reactivos de 60 a 64 años años NO DEBEN ser mayor a los Exámenes Procesados de la misma edad. \",\"\")","v":""},{"$f":"IF(AD218<AE218,\"* Los exámenes Reactivos de 65 a 69 años años NO DEBEN ser mayor a los Exámenes Procesados de la misma edad. \",\"\")","v":""},{"$f":"IF(AF218<AG218,\"* Los exámenes Reactivos de 70 a 74 años años NO DEBEN ser mayor a los Exámenes Procesados de la misma edad. \",\"\")","v":""},{"$f":"IF(AH218<AI218,\"* Los exámenes Reactivos de 75 a 79 años años NO DEBEN ser mayor a los Exámenes Procesados de la misma edad. \",\"\")","v":""},{"$f":"IF(AJ218<AK218,\"* Los exámenes Reactivos de 80 y más años años NO DEBEN ser mayor a los Exámenes Procesados de la misma edad. \",\"\")","v":""},null,null,null,null,0,0,0,0,0,0,0,0,0,0,0,0,0,0,0,0,0,0,0,0,0,0,null,null,null,0]
["VICTIMA DE VIOLENCIA SEXUAL",0,0,null,null,null,null,null,null,null,null,null,null,null,null,null,null,null,null,null,null,null,null,null,null,null,null,null,null,null,null,null,null,null,null,null,null,null,null,null,null,null,null,null,null,null,null,null,null,null,null,null,null,null,null,null,null,null,null,null,null,null,null,null,null,null,null,null,null,null,null,null,null,null,null,null,null,null,"","","","","",{"$f":"IF(D219<E219,\"* Los exámenes Reactivos de 0 a 4 años años NO DEBEN ser mayor a los Exámenes Procesados de la misma edad. \",\"\")","v":""},{"$f":"IF(F219<G219,\"* Los exámenes Reactivos de 5 a 9 años años NO DEBEN ser mayor a los Exámenes Procesados de la misma edad. \",\"\")","v":""},{"$f":"IF(H219<I219,\"* Los exámenes Reactivos de 10 a 14 años años NO DEBEN ser mayor a los Exámenes Procesados de la misma edad. \",\"\")","v":""},{"$f":"IF(J219<K219,\"* Los exámenes Reactivos de 15 a 19 años años NO DEBEN ser mayor a los Exámenes Procesados de la misma edad. \",\"\")","v":""},{"$f":"IF(L219<M219,\"* Los exámenes Reactivos de 20 a 24 años años NO DEBEN ser mayor a los Exámenes Procesados de la misma edad. \",\"\")","v":""},{"$f":"IF(N219<O219,\"* Los exámenes Reactivos de 25 a 29 años años NO DEBEN ser mayor a los Exámenes Procesados de la misma edad. \",\"\")","v":""},{"$f":"IF(P219<Q219,\"* Los exámenes Reactivos de 30 a 34 años años NO DEBEN ser mayor a los Exámenes Procesados de la misma edad. \",\"\")","v":""},{"$f":"IF(R219<S219,\"* Los exámenes Reactivos de 35 a 39 años años NO DEBEN ser mayor a los Exámenes Procesados de la misma edad. \",\"\")","v":""},{"$f":"IF(T219<U219,\"* Los exámenes Reactivos de 40 a 44 años años NO DEBEN ser mayor a los Exámenes Procesados de la misma edad. \",\"\")","v":""},{"$f":"IF(V219<W219,\"* Los exámenes Reactivos de 45 a 49 años años NO DEBEN ser mayor a los Exámenes Procesados de la misma edad. \",\"\")","v":""},{"$f":"IF(X219<Y219,\"* Los exámenes Reactivos de 50 a 54 años años NO DEBEN ser mayor a los Exámenes Procesados de la misma edad. \",\"\")","v":""},{"$f":"IF(Z219<AA219,\"* Los exámenes Reactivos de 55 a 59 años años NO DEBEN ser mayor a los Exámenes Procesados de la misma edad. \",\"\")","v":""},{"$f":"IF(AB219<AC219,\"* Los exámenes Reactivos de 60 a 64 años años NO DEBEN ser mayor a los Exámenes Procesados de la misma edad. \",\"\")","v":""},{"$f":"IF(AD219<AE219,\"* Los exámenes Reactivos de 65 a 69 años años NO DEBEN ser mayor a los Exámenes Procesados de la misma edad. \",\"\")","v":""},{"$f":"IF(AF219<AG219,\"* Los exámenes Reactivos de 70 a 74 años años NO DEBEN ser mayor a los Exámenes Procesados de la misma edad. \",\"\")","v":""},{"$f":"IF(AH219<AI219,\"* Los exámenes Reactivos de 75 a 79 años años NO DEBEN ser mayor a los Exámenes Procesados de la misma edad. \",\"\")","v":""},{"$f":"IF(AJ219<AK219,\"* Los exámenes Reactivos de 80 y más años años NO DEBEN ser mayor a los Exámenes Procesados de la misma edad. \",\"\")","v":""},null,null,null,null,0,0,0,0,0,0,0,0,0,0,0,0,0,0,0,0,0,0,0,0,0,0,null,null,null,0]
["OTROS",0,0,null,null,null,null,null,null,null,null,null,null,null,null,null,null,null,null,null,null,null,null,null,null,null,null,null,null,null,null,null,null,null,null,null,null,null,null,null,null,null,null,null,null,null,null,null,null,null,null,null,null,null,null,null,null,null,null,null,null,null,null,null,null,null,null,null,null,null,null,null,null,null,null,null,null,null,"","","","","",{"$f":"IF(D220<E220,\"* Los exámenes Reactivos de 0 a 4 años años NO DEBEN ser mayor a los Exámenes Procesados de la misma edad. \",\"\")","v":""},{"$f":"IF(F220<G220,\"* Los exámenes Reactivos de 5 a 9 años años NO DEBEN ser mayor a los Exámenes Procesados de la misma edad. \",\"\")","v":""},{"$f":"IF(H220<I220,\"* Los exámenes Reactivos de 10 a 14 años años NO DEBEN ser mayor a los Exámenes Procesados de la misma edad. \",\"\")","v":""},{"$f":"IF(J220<K220,\"* Los exámenes Reactivos de 15 a 19 años años NO DEBEN ser mayor a los Exámenes Procesados de la misma edad. \",\"\")","v":""},{"$f":"IF(L220<M220,\"* Los exámenes Reactivos de 20 a 24 años años NO DEBEN ser mayor a los Exámenes Procesados de la misma edad. \",\"\")","v":""},{"$f":"IF(N220<O220,\"* Los exámenes Reactivos de 25 a 29 años años NO DEBEN ser mayor a los Exámenes Procesados de la misma edad. \",\"\")","v":""},{"$f":"IF(P220<Q220,\"* Los exámenes Reactivos de 30 a 34 años años NO DEBEN ser mayor a los Exámenes Procesados de la misma edad. \",\"\")","v":""},{"$f":"IF(R220<S220,\"* Los exámenes Reactivos de 35 a 39 años años NO DEBEN ser mayor a los Exámenes Procesados de la misma edad. \",\"\")","v":""},{"$f":"IF(T220<U220,\"* Los exámenes Reactivos de 40 a 44 años años NO DEBEN ser mayor a los Exámenes Procesados de la misma edad. \",\"\")","v":""},{"$f":"IF(V220<W220,\"* Los exámenes Reactivos de 45 a 49 años años NO DEBEN ser mayor a los Exámenes Procesados de la misma edad. \",\"\")","v":""},{"$f":"IF(X220<Y220,\"* Los exámenes Reactivos de 50 a 54 años años NO DEBEN ser mayor a los Exámenes Procesados de la misma edad. \",\"\")","v":""},{"$f":"IF(Z220<AA220,\"* Los exámenes Reactivos de 55 a 59 años años NO DEBEN ser mayor a los Exámenes Procesados de la misma edad. \",\"\")","v":""},{"$f":"IF(AB220<AC220,\"* Los exámenes Reactivos de 60 a 64 años años NO DEBEN ser mayor a los Exámenes Procesados de la misma edad. \",\"\")","v":""},{"$f":"IF(AD220<AE220,\"* Los exámenes Reactivos de 65 a 69 años años NO DEBEN ser mayor a los Exámenes Procesados de la misma edad. \",\"\")","v":""},{"$f":"IF(AF220<AG220,\"* Los exámenes Reactivos de 70 a 74 años años NO DEBEN ser mayor a los Exámenes Procesados de la misma edad. \",\"\")","v":""},{"$f":"IF(AH220<AI220,\"* Los exámenes Reactivos de 75 a 79 años años NO DEBEN ser mayor a los Exámenes Procesados de la misma edad. \",\"\")","v":""},{"$f":"IF(AJ220<AK220,\"* Los exámenes Reactivos de 80 y más años años NO DEBEN ser mayor a los Exámenes Procesados de la misma edad. \",\"\")","v":""},null,null,null,null,0,0,0,0,0,0,0,0,0,0,0,0,0,0,0,0,0,0,0,0,0,0,null,null,null,0]
["SECCIÓN E: EXÁMENES DE CHLAMYIDIA TRACHOMATIS POR GRUPOS DE USUARIOS "]
["GRUPO DE USUARIOS","TOTAL",null,"GRUPO DE EDAD (En años)",null,null,null,null,null,null,null,null,null,null,null,null,null,null,null,null,null,null,null,null,null,null,null,null,null,null,null,null,null,null,null,null,null,"POR SEXO\n(Procesados)",null,"TRANS",null,"Pueblos Originarios","Migrantes"]
[null,null,null,"0 a 4 años",null,"5 a 9 años",null,"10 a 14 años",null,"15 a 19 años",null,"20 a 24 años",null,"25 a 29 años",null,"30 a 34 años",null,"35 a 39 años",null,"40 a 44 años",null,"45 a 49 años",null,"50 a 54 años",null,"55 a 59 años",null,"60 a 64 años",null,"65 a 69 años",null,"70 a 74 años",null,"75 a 79 años",null,"80 y más años",null,"Hombres","Mujeres","Masculino","Femenino"]
[null,"Procesados","Reactivos","Procesados","Reactivos","Procesados","Reactivos","Procesados","Reactivos","Procesados","Reactivos","Procesados","Reactivos","Procesados","Reactivos","Procesados","Reactivos","Procesados","Reactivos","Procesados","Reactivos","Procesados","Reactivos","Procesados","Reactivos","Procesados","Reactivos","Procesados","Reactivos","Procesados","Reactivos","Procesados","Reactivos","Procesados","Reactivos","Procesados","Reactivos"]
["GESTANTES",{"$f":"SUM(D225+F225+H225+J225+L225+N225+P225+R225+T225+V225+X225+Z225+AB225+AD225+AF225+AH225+AJ225)","v":0},0,null,null,null,null,null,null,null,null,null,null,null,null,null,null,null,null,null,null,null,null,null,null,null,null,null,null,null,null,null,null,null,null,null,null,null,null,null,null,null,null,null,null,null,null,null,null,null,null,null,null,null,null,null,null,null,null,null,null,null,null,null,null,null,null,null,null,null,null,null,null,null,null,null,null,null,{"$f":"IF(B225<   C225,\"* El total de Reactivos NO DEBE ser superior al total de Procesados. \",\"\")","v":""},{"$f":"IF(B225<> AL225+ AM225,\"* La suma de las columnas Sexo DEBE SER IGUAL a los Procesados. \",\"\")","v":""},{"$f":"IF(B225<  AN225+ AO225,\"* La suma de las columna Trans NO DEBE ser superior al total de Procesados. \",\"\")","v":""},{"$f":"IF(B225<  AP225,\"* La columna Pueblos Originarios NO DEBE ser superior al total de Procesados. \",\"\")","v":""},{"$f":"IF(B225<  AQ225,\"* La columna Migrantes NO DEBE ser superior al total de Procesados. \",\"\")","v":""},{"$f":"IF(D225<E225,\"* Los exömenes Reactivos de  a_os NO DEBEN ser mayor a los Exömenes Procesados de la misma edad. \",\"\")","v":""},{"$f":"IF(F225<G225,\"* Los exömenes Reactivos de  a_os NO DEBEN ser mayor a los Exömenes Procesados de la misma edad. \",\"\")","v":""},{"$f":"IF(H225<I225,\"* Los exömenes Reactivos de  a_os NO DEBEN ser mayor a los Exömenes Procesados de la misma edad. \",\"\")","v":""},{"$f":"IF(J225<K225,\"* Los exömenes Reactivos de  a_os NO DEBEN ser mayor a los Exömenes Procesados de la misma edad. \",\"\")","v":""},{"$f":"IF(L225<M225,\"* Los exömenes Reactivos de  a_os NO DEBEN ser mayor a los Exömenes Procesados de la misma edad. \",\"\")","v":""},{"$f":"IF(N225<O225,\"* Los exömenes Reactivos de  a_os NO DEBEN ser mayor a los Exömenes Procesados de la misma edad. \",\"\")","v":""},{"$f":"IF(P225<Q225,\"* Los exömenes Reactivos de  a_os NO DEBEN ser mayor a los Exömenes Procesados de la misma edad. \",\"\")","v":""},{"$f":"IF(R225<S225,\"* Los exömenes Reactivos de  a_os NO DEBEN ser mayor a los Exömenes Procesados de la misma edad. \",\"\")","v":""},{"$f":"IF(T225<U225,\"* Los exömenes Reactivos de  a_os NO DEBEN ser mayor a los Exömenes Procesados de la misma edad. \",\"\")","v":""},{"$f":"IF(V225<W225,\"* Los exömenes Reactivos de  a_os NO DEBEN ser mayor a los Exömenes Procesados de la misma edad. \",\"\")","v":""},{"$f":"IF(X225<Y225,\"* Los exömenes Reactivos de  a_os NO DEBEN ser mayor a los Exömenes Procesados de la misma edad. \",\"\")","v":""},{"$f":"IF(Z225<AA225,\"* Los exömenes Reactivos de  a_os NO DEBEN ser mayor a los Exömenes Procesados de la misma edad. \",\"\")","v":""},{"$f":"IF(AB225<AC225,\"* Los exömenes Reactivos de  a_os NO DEBEN ser mayor a los Exömenes Procesados de la misma edad. \",\"\")","v":""},{"$f":"IF(AD225<AE225,\"* Los exömenes Reactivos de  a_os NO DEBEN ser mayor a los Exömenes Procesados de la misma edad. \",\"\")","v":""},{"$f":"IF(AF225<AG225,\"* Los exömenes Reactivos de  a_os NO DEBEN ser mayor a los Exömenes Procesados de la misma edad. \",\"\")","v":""},{"$f":"IF(AH225<AI225,\"* Los exömenes Reactivos de  a_os NO DEBEN ser mayor a los Exömenes Procesados de la misma edad. \",\"\")","v":""},{"$f":"IF(AJ225<AK225,\"* Los exömenes Reactivos de  a_os NO DEBEN ser mayor a los Exömenes Procesados de la misma edad. \",\"\")","v":""},null,null,null,null,null,null,null,null,null,{"$f":"IF(D225<E225,1,0)","v":0},{"$f":"IF(F225<G225,1,0)","v":0},{"$f":"IF(H225<I225,1,0)","v":0},{"$f":"IF(J225<K225,1,0)","v":0},{"$f":"IF(L225<M225,1,0)","v":0},{"$f":"IF(N225<O225,1,0)","v":0},{"$f":"IF(P225<Q225,1,0)","v":0},{"$f":"IF(R225<S225,1,0)","v":0},{"$f":"IF(T225<U225,1,0)","v":0},{"$f":"IF(V225<W225,1,0)","v":0},{"$f":"IF(X225<Y225,1,0)","v":0},{"$f":"IF(Z225<AA225,1,0)","v":0},{"$f":"IF(AB225<AC225,1,0)","v":0},{"$f":"IF(AD225<AE225,1,0)","v":0},{"$f":"IF(AF225<AG225,1,0)","v":0},{"$f":"IF(AH225<AI225,1,0)","v":0},{"$f":"IF(AJ225<AK225,1,0)","v":0},null,null,null,0]
["COMERCIO SEXUAL",0,0,null,null,null,null,null,null,null,null,null,null,null,null,null,null,null,null,null,null,null,null,null,null,null,null,null,null,null,null,null,null,null,null,null,null,null,null,null,null,null,null,null,null,null,null,null,null,null,null,null,null,null,null,null,null,null,null,null,null,null,null,null,null,null,null,null,null,null,null,null,null,null,null,null,null,null,"","","","","",{"$f":"IF(D226<E226,\"* Los exömenes Reactivos de  a_os NO DEBEN ser mayor a los Exömenes Procesados de la misma edad. \",\"\")","v":""},{"$f":"IF(F226<G226,\"* Los exömenes Reactivos de  a_os NO DEBEN ser mayor a los Exömenes Procesados de la misma edad. \",\"\")","v":""},{"$f":"IF(H226<I226,\"* Los exömenes Reactivos de  a_os NO DEBEN ser mayor a los Exömenes Procesados de la misma edad. \",\"\")","v":""},{"$f":"IF(J226<K226,\"* Los exömenes Reactivos de  a_os NO DEBEN ser mayor a los Exömenes Procesados de la misma edad. \",\"\")","v":""},{"$f":"IF(L226<M226,\"* Los exömenes Reactivos de  a_os NO DEBEN ser mayor a los Exömenes Procesados de la misma edad. \",\"\")","v":""},{"$f":"IF(N226<O226,\"* Los exömenes Reactivos de  a_os NO DEBEN ser mayor a los Exömenes Procesados de la misma edad. \",\"\")","v":""},{"$f":"IF(P226<Q226,\"* Los exömenes Reactivos de  a_os NO DEBEN ser mayor a los Exömenes Procesados de la misma edad. \",\"\")","v":""},{"$f":"IF(R226<S226,\"* Los exömenes Reactivos de  a_os NO DEBEN ser mayor a los Exömenes Procesados de la misma edad. \",\"\")","v":""},{"$f":"IF(T226<U226,\"* Los exömenes Reactivos de  a_os NO DEBEN ser mayor a los Exömenes Procesados de la misma edad. \",\"\")","v":""},{"$f":"IF(V226<W226,\"* Los exömenes Reactivos de  a_os NO DEBEN ser mayor a los Exömenes Procesados de la misma edad. \",\"\")","v":""},{"$f":"IF(X226<Y226,\"* Los exömenes Reactivos de  a_os NO DEBEN ser mayor a los Exömenes Procesados de la misma edad. \",\"\")","v":""},{"$f":"IF(Z226<AA226,\"* Los exömenes Reactivos de  a_os NO DEBEN ser mayor a los Exömenes Procesados de la misma edad. \",\"\")","v":""},{"$f":"IF(AB226<AC226,\"* Los exömenes Reactivos de  a_os NO DEBEN ser mayor a los Exömenes Procesados de la misma edad. \",\"\")","v":""},{"$f":"IF(AD226<AE226,\"* Los exömenes Reactivos de  a_os NO DEBEN ser mayor a los Exömenes Procesados de la misma edad. \",\"\")","v":""},{"$f":"IF(AF226<AG226,\"* Los exömenes Reactivos de  a_os NO DEBEN ser mayor a los Exömenes Procesados de la misma edad. \",\"\")","v":""},{"$f":"IF(AH226<AI226,\"* Los exömenes Reactivos de  a_os NO DEBEN ser mayor a los Exömenes Procesados de la misma edad. \",\"\")","v":""},{"$f":"IF(AJ226<AK226,\"* Los exömenes Reactivos de  a_os NO DEBEN ser mayor a los Exömenes Procesados de la misma edad. \",\"\")","v":""},null,null,null,null,null,null,null,null,null,0,0,0,0,0,0,0,0,0,0,0,0,0,0,0,0,0,null,null,null,0]
["PERSONAS VIH (+)",0,0,null,null,null,null,null,null,null,null,null,null,null,null,null,null,null,null,null,null,null,null,null,null,null,null,null,null,null,null,null,null,null,null,null,null,null,null,null,null,null,null,null,null,null,null,null,null,null,null,null,null,null,null,null,null,null,null,null,null,null,null,null,null,null,null,null,null,null,null,null,null,null,null,null,null,null,"","","","","",{"$f":"IF(D227<E227,\"* Los exámenes Reactivos de 0 a 4 años años NO DEBEN ser mayor a los Exámenes Procesados de la misma edad. \",\"\")","v":""},{"$f":"IF(F227<G227,\"* Los exámenes Reactivos de 5 a 9 años años NO DEBEN ser mayor a los Exámenes Procesados de la misma edad. \",\"\")","v":""},{"$f":"IF(H227<I227,\"* Los exámenes Reactivos de 10 a 14 años años NO DEBEN ser mayor a los Exámenes Procesados de la misma edad. \",\"\")","v":""},{"$f":"IF(J227<K227,\"* Los exámenes Reactivos de 15 a 19 años años NO DEBEN ser mayor a los Exámenes Procesados de la misma edad. \",\"\")","v":""},{"$f":"IF(L227<M227,\"* Los exámenes Reactivos de 20 a 24 años años NO DEBEN ser mayor a los Exámenes Procesados de la misma edad. \",\"\")","v":""},{"$f":"IF(N227<O227,\"* Los exámenes Reactivos de 25 a 29 años años NO DEBEN ser mayor a los Exámenes Procesados de la misma edad. \",\"\")","v":""},{"$f":"IF(P227<Q227,\"* Los exámenes Reactivos de 30 a 34 años años NO DEBEN ser mayor a los Exámenes Procesados de la misma edad. \",\"\")","v":""},{"$f":"IF(R227<S227,\"* Los exámenes Reactivos de 35 a 39 años años NO DEBEN ser mayor a los Exámenes Procesados de la misma edad. \",\"\")","v":""},{"$f":"IF(T227<U227,\"* Los exámenes Reactivos de 40 a 44 años años NO DEBEN ser mayor a los Exámenes Procesados de la misma edad. \",\"\")","v":""},{"$f":"IF(V227<W227,\"* Los exámenes Reactivos de 45 a 49 años años NO DEBEN ser mayor a los Exámenes Procesados de la misma edad. \",\"\")","v":""},{"$f":"IF(X227<Y227,\"* Los exámenes Reactivos de 50 a 54 años años NO DEBEN ser mayor a los Exámenes Procesados de la misma edad. \",\"\")","v":""},{"$f":"IF(Z227<AA227,\"* Los exámenes Reactivos de 55 a 59 años años NO DEBEN ser mayor a los Exámenes Procesados de la misma edad. \",\"\")","v":""},{"$f":"IF(AB227<AC227,\"* Los exámenes Reactivos de 60 a 64 años años NO DEBEN ser mayor a los Exámenes Procesados de la misma edad. \",\"\")","v":""},{"$f":"IF(AD227<AE227,\"* Los exámenes Reactivos de 65 a 69 años años NO DEBEN ser mayor a los Exámenes Procesados de la misma edad. \",\"\")","v":""},{"$f":"IF(AF227<AG227,\"* Los exámenes Reactivos de 70 a 74 años años NO DEBEN ser mayor a los Exámenes Procesados de la misma edad. \",\"\")","v":""},{"$f":"IF(AH227<AI227,\"* Los exámenes Reactivos de 75 a 79 años años NO DEBEN ser mayor a los Exámenes Procesados de la misma edad. \",\"\")","v":""},{"$f":"IF(AJ227<AK227,\"* Los exámenes Reactivos de 80 y más años años NO DEBEN ser mayor a los Exámenes Procesados de la misma edad. \",\"\")","v":""},null,null,null,null,null,null,null,null,null,0,0,0,0,0,0,0,0,0,0,0,0,0,0,0,0,0,null,null,null,0]
["CONSULTANTE ITS AMBULATORIO (nivel1º y 2º)",0,0,null,null,null,null,null,null,null,null,null,null,null,null,null,null,null,null,null,null,null,null,null,null,null,null,null,null,null,null,null,null,null,null,null,null,null,null,null,null,null,null,null,null,null,null,null,null,null,null,null,null,null,null,null,null,null,null,null,null,null,null,null,null,null,null,null,null,null,null,null,null,null,null,null,null,null,"","","","","",{"$f":"IF(D228<E228,\"* Los exámenes Reactivos de 0 a 4 años años NO DEBEN ser mayor a los Exámenes Procesados de la misma edad. \",\"\")","v":""},{"$f":"IF(F228<G228,\"* Los exámenes Reactivos de 5 a 9 años años NO DEBEN ser mayor a los Exámenes Procesados de la misma edad. \",\"\")","v":""},{"$f":"IF(H228<I228,\"* Los exámenes Reactivos de 10 a 14 años años NO DEBEN ser mayor a los Exámenes Procesados de la misma edad. \",\"\")","v":""},{"$f":"IF(J228<K228,\"* Los exámenes Reactivos de 15 a 19 años años NO DEBEN ser mayor a los Exámenes Procesados de la misma edad. \",\"\")","v":""},{"$f":"IF(L228<M228,\"* Los exámenes Reactivos de 20 a 24 años años NO DEBEN ser mayor a los Exámenes Procesados de la misma edad. \",\"\")","v":""},{"$f":"IF(N228<O228,\"* Los exámenes Reactivos de 25 a 29 años años NO DEBEN ser mayor a los Exámenes Procesados de la misma edad. \",\"\")","v":""},{"$f":"IF(P228<Q228,\"* Los exámenes Reactivos de 30 a 34 años años NO DEBEN ser mayor a los Exámenes Procesados de la misma edad. \",\"\")","v":""},{"$f":"IF(R228<S228,\"* Los exámenes Reactivos de 35 a 39 años años NO DEBEN ser mayor a los Exámenes Procesados de la misma edad. \",\"\")","v":""},{"$f":"IF(T228<U228,\"* Los exámenes Reactivos de 40 a 44 años años NO DEBEN ser mayor a los Exámenes Procesados de la misma edad. \",\"\")","v":""},{"$f":"IF(V228<W228,\"* Los exámenes Reactivos de 45 a 49 años años NO DEBEN ser mayor a los Exámenes Procesados de la misma edad. \",\"\")","v":""},{"$f":"IF(X228<Y228,\"* Los exámenes Reactivos de 50 a 54 años años NO DEBEN ser mayor a los Exámenes Procesados de la misma edad. \",\"\")","v":""},{"$f":"IF(Z228<AA228,\"* Los exámenes Reactivos de 55 a 59 años años NO DEBEN ser mayor a los Exámenes Procesados de la misma edad. \",\"\")","v":""},{"$f":"IF(AB228<AC228,\"* Los exámenes Reactivos de 60 a 64 años años NO DEBEN ser mayor a los Exámenes Procesados de la misma edad. \",\"\")","v":""},{"$f":"IF(AD228<AE228,\"* Los exámenes Reactivos de 65 a 69 años años NO DEBEN ser mayor a los Exámenes Procesados de la misma edad. \",\"\")","v":""},{"$f":"IF(AF228<AG228,\"* Los exámenes Reactivos de 70 a 74 años años NO DEBEN ser mayor a los Exámenes Procesados de la misma edad. \",\"\")","v":""},{"$f":"IF(AH228<AI228,\"* Los exámenes Reactivos de 75 a 79 años años NO DEBEN ser mayor a los Exámenes Procesados de la misma edad. \",\"\")","v":""},{"$f":"IF(AJ228<AK228,\"* Los exámenes Reactivos de 80 y más años años NO DEBEN ser mayor a los Exámenes Procesados de la misma edad. \",\"\")","v":""},null,null,null,null,null,null,null,null,null,0,0,0,0,0,0,0,0,0,0,0,0,0,0,0,0,0,null,null,null,0]
["CONSULTANTE ITS HOSPITALARIO (nivel 3º y urgencia)",0,0,null,null,null,null,null,null,null,null,null,null,null,null,null,null,null,null,null,null,null,null,null,null,null,null,null,null,null,null,null,null,null,null,null,null,null,null,null,null,null,null,null,null,null,null,null,null,null,null,null,null,null,null,null,null,null,null,null,null,null,null,null,null,null,null,null,null,null,null,null,null,null,null,null,null,null,"","","","","",{"$f":"IF(D229<E229,\"* Los exámenes Reactivos de 0 a 4 años años NO DEBEN ser mayor a los Exámenes Procesados de la misma edad. \",\"\")","v":""},{"$f":"IF(F229<G229,\"* Los exámenes Reactivos de 5 a 9 años años NO DEBEN ser mayor a los Exámenes Procesados de la misma edad. \",\"\")","v":""},{"$f":"IF(H229<I229,\"* Los exámenes Reactivos de 10 a 14 años años NO DEBEN ser mayor a los Exámenes Procesados de la misma edad. \",\"\")","v":""},{"$f":"IF(J229<K229,\"* Los exámenes Reactivos de 15 a 19 años años NO DEBEN ser mayor a los Exámenes Procesados de la misma edad. \",\"\")","v":""},{"$f":"IF(L229<M229,\"* Los exámenes Reactivos de 20 a 24 años años NO DEBEN ser mayor a los Exámenes Procesados de la misma edad. \",\"\")","v":""},{"$f":"IF(N229<O229,\"* Los exámenes Reactivos de 25 a 29 años años NO DEBEN ser mayor a los Exámenes Procesados de la misma edad. \",\"\")","v":""},{"$f":"IF(P229<Q229,\"* Los exámenes Reactivos de 30 a 34 años años NO DEBEN ser mayor a los Exámenes Procesados de la misma edad. \",\"\")","v":""},{"$f":"IF(R229<S229,\"* Los exámenes Reactivos de 35 a 39 años años NO DEBEN ser mayor a los Exámenes Procesados de la misma edad. \",\"\")","v":""},{"$f":"IF(T229<U229,\"* Los exámenes Reactivos de 40 a 44 años años NO DEBEN ser mayor a los Exámenes Procesados de la misma edad. \",\"\")","v":""},{"$f":"IF(V229<W229,\"* Los exámenes Reactivos de 45 a 49 años años NO DEBEN ser mayor a los Exámenes Procesados de la misma edad. \",\"\")","v":""},{"$f":"IF(X229<Y229,\"* Los exámenes Reactivos de 50 a 54 años años NO DEBEN ser mayor a los Exámenes Procesados de la misma edad. \",\"\")","v":""},{"$f":"IF(Z229<AA229,\"* Los exámenes Reactivos de 55 a 59 años años NO DEBEN ser mayor a los Exámenes Procesados de la misma edad. \",\"\")","v":""},{"$f":"IF(AB229<AC229,\"* Los exámenes Reactivos de 60 a 64 años años NO DEBEN ser mayor a los Exámenes Procesados de la misma edad. \",\"\")","v":""},{"$f":"IF(AD229<AE229,\"* Los exámenes Reactivos de 65 a 69 años años NO DEBEN ser mayor a los Exámenes Procesados de la misma edad. \",\"\")","v":""},{"$f":"IF(AF229<AG229,\"* Los exámenes Reactivos de 70 a 74 años años NO DEBEN ser mayor a los Exámenes Procesados de la misma edad. \",\"\")","v":""},{"$f":"IF(AH229<AI229,\"* Los exámenes Reactivos de 75 a 79 años años NO DEBEN ser mayor a los Exámenes Procesados de la misma edad. \",\"\")","v":""},{"$f":"IF(AJ229<AK229,\"* Los exámenes Reactivos de 80 y más años años NO DEBEN ser mayor a los Exámenes Procesados de la misma edad. \",\"\")","v":""},null,null,null,null,null,null,null,null,null,0,0,0,0,0,0,0,0,0,0,0,0,0,0,0,0,0,null,null,null,0]
["VICTIMA DE VIOLENCIA SEXUAL",0,0,null,null,null,null,null,null,null,null,null,null,null,null,null,null,null,null,null,null,null,null,null,null,null,null,null,null,null,null,null,null,null,null,null,null,null,null,null,null,null,null,null,null,null,null,null,null,null,null,null,null,null,null,null,null,null,null,null,null,null,null,null,null,null,null,null,null,null,null,null,null,null,null,null,null,null,"","","","","",{"$f":"IF(D230<E230,\"* Los exámenes Reactivos de 0 a 4 años años NO DEBEN ser mayor a los Exámenes Procesados de la misma edad. \",\"\")","v":""},{"$f":"IF(F230<G230,\"* Los exámenes Reactivos de 5 a 9 años años NO DEBEN ser mayor a los Exámenes Procesados de la misma edad. \",\"\")","v":""},{"$f":"IF(H230<I230,\"* Los exámenes Reactivos de 10 a 14 años años NO DEBEN ser mayor a los Exámenes Procesados de la misma edad. \",\"\")","v":""},{"$f":"IF(J230<K230,\"* Los exámenes Reactivos de 15 a 19 años años NO DEBEN ser mayor a los Exámenes Procesados de la misma edad. \",\"\")","v":""},{"$f":"IF(L230<M230,\"* Los exámenes Reactivos de 20 a 24 años años NO DEBEN ser mayor a los Exámenes Procesados de la misma edad. \",\"\")","v":""},{"$f":"IF(N230<O230,\"* Los exámenes Reactivos de 25 a 29 años años NO DEBEN ser mayor a los Exámenes Procesados de la misma edad. \",\"\")","v":""},{"$f":"IF(P230<Q230,\"* Los exámenes Reactivos de 30 a 34 años años NO DEBEN ser mayor a los Exámenes Procesados de la misma edad. \",\"\")","v":""},{"$f":"IF(R230<S230,\"* Los exámenes Reactivos de 35 a 39 años años NO DEBEN ser mayor a los Exámenes Procesados de la misma edad. \",\"\")","v":""},{"$f":"IF(T230<U230,\"* Los exámenes Reactivos de 40 a 44 años años NO DEBEN ser mayor a los Exámenes Procesados de la misma edad. \",\"\")","v":""},{"$f":"IF(V230<W230,\"* Los exámenes Reactivos de 45 a 49 años años NO DEBEN ser mayor a los Exámenes Procesados de la misma edad. \",\"\")","v":""},{"$f":"IF(X230<Y230,\"* Los exámenes Reactivos de 50 a 54 años años NO DEBEN ser mayor a los Exámenes Procesados de la misma edad. \",\"\")","v":""},{"$f":"IF(Z230<AA230,\"* Los exámenes Reactivos de 55 a 59 años años NO DEBEN ser mayor a los Exámenes Procesados de la misma edad. \",\"\")","v":""},{"$f":"IF(AB230<AC230,\"* Los exámenes Reactivos de 60 a 64 años años NO DEBEN ser mayor a los Exámenes Procesados de la misma edad. \",\"\")","v":""},{"$f":"IF(AD230<AE230,\"* Los exámenes Reactivos de 65 a 69 años años NO DEBEN ser mayor a los Exámenes Procesados de la misma edad. \",\"\")","v":""},{"$f":"IF(AF230<AG230,\"* Los exámenes Reactivos de 70 a 74 años años NO DEBEN ser mayor a los Exámenes Procesados de la misma edad. \",\"\")","v":""},{"$f":"IF(AH230<AI230,\"* Los exámenes Reactivos de 75 a 79 años años NO DEBEN ser mayor a los Exámenes Procesados de la misma edad. \",\"\")","v":""},{"$f":"IF(AJ230<AK230,\"* Los exámenes Reactivos de 80 y más años años NO DEBEN ser mayor a los Exámenes Procesados de la misma edad. \",\"\")","v":""},null,null,null,null,null,null,null,null,null,0,0,0,0,0,0,0,0,0,0,0,0,0,0,0,0,0,null,null,null,0]
["OTROS",0,0,null,null,null,null,null,null,null,null,null,null,null,null,null,null,null,null,null,null,null,null,null,null,null,null,null,null,null,null,null,null,null,null,null,null,null,null,null,null,null,null,null,null,null,null,null,null,null,null,null,null,null,null,null,null,null,null,null,null,null,null,null,null,null,null,null,null,null,null,null,null,null,null,null,null,null,"","","","","",{"$f":"IF(D231<E231,\"* Los exámenes Reactivos de 0 a 4 años años NO DEBEN ser mayor a los Exámenes Procesados de la misma edad. \",\"\")","v":""},{"$f":"IF(F231<G231,\"* Los exámenes Reactivos de 5 a 9 años años NO DEBEN ser mayor a los Exámenes Procesados de la misma edad. \",\"\")","v":""},{"$f":"IF(H231<I231,\"* Los exámenes Reactivos de 10 a 14 años años NO DEBEN ser mayor a los Exámenes Procesados de la misma edad. \",\"\")","v":""},{"$f":"IF(J231<K231,\"* Los exámenes Reactivos de 15 a 19 años años NO DEBEN ser mayor a los Exámenes Procesados de la misma edad. \",\"\")","v":""},{"$f":"IF(L231<M231,\"* Los exámenes Reactivos de 20 a 24 años años NO DEBEN ser mayor a los Exámenes Procesados de la misma edad. \",\"\")","v":""},{"$f":"IF(N231<O231,\"* Los exámenes Reactivos de 25 a 29 años años NO DEBEN ser mayor a los Exámenes Procesados de la misma edad. \",\"\")","v":""},{"$f":"IF(P231<Q231,\"* Los exámenes Reactivos de 30 a 34 años años NO DEBEN ser mayor a los Exámenes Procesados de la misma edad. \",\"\")","v":""},{"$f":"IF(R231<S231,\"* Los exámenes Reactivos de 35 a 39 años años NO DEBEN ser mayor a los Exámenes Procesados de la misma edad. \",\"\")","v":""},{"$f":"IF(T231<U231,\"* Los exámenes Reactivos de 40 a 44 años años NO DEBEN ser mayor a los Exámenes Procesados de la misma edad. \",\"\")","v":""},{"$f":"IF(V231<W231,\"* Los exámenes Reactivos de 45 a 49 años años NO DEBEN ser mayor a los Exámenes Procesados de la misma edad. \",\"\")","v":""},{"$f":"IF(X231<Y231,\"* Los exámenes Reactivos de 50 a 54 años años NO DEBEN ser mayor a los Exámenes Procesados de la misma edad. \",\"\")","v":""},{"$f":"IF(Z231<AA231,\"* Los exámenes Reactivos de 55 a 59 años años NO DEBEN ser mayor a los Exámenes Procesados de la misma edad. \",\"\")","v":""},{"$f":"IF(AB231<AC231,\"* Los exámenes Reactivos de 60 a 64 años años NO DEBEN ser mayor a los Exámenes Procesados de la misma edad. \",\"\")","v":""},{"$f":"IF(AD231<AE231,\"* Los exámenes Reactivos de 65 a 69 años años NO DEBEN ser mayor a los Exámenes Procesados de la misma edad. \",\"\")","v":""},{"$f":"IF(AF231<AG231,\"* Los exámenes Reactivos de 70 a 74 años años NO DEBEN ser mayor a los Exámenes Procesados de la misma edad. \",\"\")","v":""},{"$f":"IF(AH231<AI231,\"* Los exámenes Reactivos de 75 a 79 años años NO DEBEN ser mayor a los Exámenes Procesados de la misma edad. \",\"\")","v":""},{"$f":"IF(AJ231<AK231,\"* Los exámenes Reactivos de 80 y más años años NO DEBEN ser mayor a los Exámenes Procesados de la misma edad. \",\"\")","v":""},null,null,null,null,null,null,null,null,null,0,0,0,0,0,0,0,0,0,0,0,0,0,0,0,0,0,null,null,null,0]
["SECCIÓN F: EXÁMENES  DE  VIH POR TECNICA VISUAL/RAPIDA Y GRUPOS DE USUARIOS (Uso exclusivo de establecimientos NO LABORATORIOS)"]
["GRUPOS DE USUARIOS POR INSTANCIA",null,"TOTAL",null,null,null,null,null,null,null,null,null,null,null,null,null,null,null,null,null,null,null,null,null,null,null,null,null,null,null,null,null,null,null,null,null,"POR SEXO",null,null,null,"TRANS",null,null,null,"Pueblos originarios",null,"Migrantes",null,"14-18 años"]
[null,null,null,null,"Menor de 12 meses",null,"12-24 meses",null,"3 a 4 años",null,"5 a 9 años",null,"10 a 14 años",null,"15 a 19 años",null,"20 a 24 años",null,"25 a 29 años",null,"30 a 34 años",null,"35 a 39 años",null,"40 a 44 años",null,"45 a 49 años",null,"50 a 54 años",null,"55 a 59 años",null,"60 a 64 años",null,"65 y Mas años",null,"Hombres",null,"Mujeres",null,"Femenino",null,"Masculino"]
[null,null,"Procesados","Confirmados positivos por ISP","Procesados","Confirmados positivos por ISP","Procesados","Confirmados positivos por ISP","Procesados","Confirmados positivos por ISP","Procesados","Confirmados positivos por ISP","Procesados","Confirmados positivos por ISP","Procesados","Confirmados positivos por ISP","Procesados","Confirmados positivos por ISP","Procesados","Confirmados positivos por ISP","Procesados","Confirmados positivos por ISP","Procesados","Confirmados positivos por ISP","Procesados","Confirmados positivos por ISP","Procesados","Confirmados positivos por ISP","Procesados","Confirmados positivos por ISP","Procesados","Confirmados positivos por ISP","Procesados","Confirmados positivos por ISP","Procesados","Confirmados positivos por ISP","Procesados","Confirmados positivos por ISP","Procesados","Confirmados positivos por ISP","Procesados","Confirmados positivos por ISP","Procesados","Confirmados positivos por ISP","Procesados","Confirmados positivos por ISP","Procesados","Confirmados positivos por ISP","Procesados","Confirmados positivos por ISP"]
["INTERIOR ESTABLECIMIENTO SALUD (INTRAMURO)","GESTANTES PRIMER EXAMEN",{"$f":"+M236+O236+Q236+S236+U236+W236+Y236+AA236+AC236","v":0},0,null,null,null,null,null,null,null,null,null,null,null,null,null,null,null,null,null,null,null,null,null,null,null,null,null,null,null,null,null,null,null,null,null,null,null,null,null,null,null,null,null,null,null,null,null,null,{"$f":"$CA236&$CB236&$CC236&$CD236&$CE236&$CF236&$CG236&$CH236&$CI236&$CJ236&$CK236&$CL236&$CM236&$CN236&$CO236&$CP236&$CQ236&$CR236&$CS236&$CT236&$CU236&$CV236&$CW236&$CX236&$CY236&$CZ236","v":""},null,null,null,null,null,null,null,null,null,null,null,null,null,null,null,null,null,null,null,null,null,null,null,null,null,null,null,{"$f":"IF(DA236=1,\"* El total de Confirmados Positivos por ISP NO DEBE ser mayor que el total de Procesados. \",\"\")","v":""},{"$f":"IF((AK236+AM236)<>C236,\"* El Total de Procesados por sexo DEBE ser igual al Total de Procesados. \",IF((AL236+AN236)<>D236,\"* El Total de Confirmados por sexo DEBE ser igual al Total de Confirmados. \",\"\"))","v":""},{"$f":"IF((AO236+AQ236)>C236,\"* El Total de Procesados Trans NO DEBE ser mayor al Total de Procesados. \",IF((AP236+AR236)>D236,\"* El Total de Confirmados Trans NO DEBE ser mayor al Total de Confirmados. \",\"\"))","v":""},{"$f":"IF(AS236>C236,\"* El Total de Pueblos Originarios Procesados NO DEBE ser mayor al Total de Procesados. \",IF(AT236>D236,\"* El Total de Pueblos Originarios Confirmados NO DEBE ser mayor al Total de Confirmados. \",\"\"))","v":""},{"$f":"IF(AU236>C236,\"* El Total de Migrantes Procesados NO DEBE ser mayor al Total de Procesados. \",IF(AV236>D236,\"* El Total deMigrantes Confirmados NO DEBE ser mayor al Total de Confirmados. \",\"\"))","v":""},{"$f":"IF((M236+O236)<AW236,\"* El Total de Procesados de 14-18 años NO DEBE ser mayor al Total de Procesados registrados en los grupos de edad 10 a 14 y 15 a 19 años. \",IF((N236+P236)<AX236,\"* El Total de Confirmados de 14-18 años NO DEBE ser mayor al Total de Confirmados registrados en los grupos de edad 10 a 14 y 15 a 19 años. \",\"\"))","v":""},{"$f":"IF(DG236=1,CONCATENATE(\"* Los exámenes positivos de \",$E$158,\" NO DEBEN ser mayor a los exámenes procesados de la misma edad. \"),\"\")","v":""},{"$f":"IF(DH236=1,CONCATENATE(\"* Los exámenes positivos de \",$G$158,\" NO DEBEN ser mayor a los exámenes procesados de la misma edad. \"),\"\")","v":""},{"$f":"IF(DI236=1,CONCATENATE(\"* Los exámenes positivos de \",$I$158,\" NO DEBEN ser mayor a los exámenes procesados de la misma edad. \"),\"\")","v":""},{"$f":"IF(DJ236=1,CONCATENATE(\"* Los exámenes positivos de \",$K$158,\" NO DEBEN ser mayor a los exámenes procesados de la misma edad. \"),\"\")","v":""},{"$f":"IF(DK236=1,CONCATENATE(\"* Los exámenes positivos de \",$M$158,\" NO DEBEN ser mayor a los exámenes procesados de la misma edad. \"),\"\")","v":""},{"$f":"IF(DL236=1,CONCATENATE(\"* Los exámenes positivos de \",$O$158,\" NO DEBEN ser mayor a los exámenes procesados de la misma edad. \"),\"\")","v":""},{"$f":"IF(DM236=1,CONCATENATE(\"* Los exámenes positivos de \",$Q$158,\" NO DEBEN ser mayor a los exámenes procesados de la misma edad. \"),\"\")","v":""},{"$f":"IF(DN236=1,CONCATENATE(\"* Los exámenes positivos de \",$S$158,\" NO DEBEN ser mayor a los exámenes procesados de la misma edad. \"),\"\")","v":""},{"$f":"IF(DO236=1,CONCATENATE(\"* Los exámenes positivos de \",$U$158,\" NO DEBEN ser mayor a los exámenes procesados de la misma edad. \"),\"\")","v":""},{"$f":"IF(DP236=1,CONCATENATE(\"* Los exámenes positivos de \",$W$158,\" NO DEBEN ser mayor a los exámenes procesados de la misma edad. \"),\"\")","v":""},{"$f":"IF(DQ236=1,CONCATENATE(\"* Los exámenes positivos de \",$Y$158,\" NO DEBEN ser mayor a los exámenes procesados de la misma edad. \"),\"\")","v":""},{"$f":"IF(DR236=1,CONCATENATE(\"* Los exámenes positivos de \",$AA$158,\" NO DEBEN ser mayor a los exámenes procesados de la misma edad. \"),\"\")","v":""},{"$f":"IF(DS236=1,CONCATENATE(\"* Los exámenes positivos de \",$AC$158,\" NO DEBEN ser mayor a los exámenes procesados de la misma edad. \"),\"\")","v":""},{"$f":"IF(DT236=1,CONCATENATE(\"* Los exámenes positivos de \",$AE$158,\" NO DEBEN ser mayor a los exámenes procesados de la misma edad. \"),\"\")","v":""},{"$f":"IF(DU236=1,CONCATENATE(\"* Los exámenes positivos de \",$AG$158,\" NO DEBEN ser mayor a los exámenes procesados de la misma edad. \"),\"\")","v":""},{"$f":"IF(DV236=1,CONCATENATE(\"* Los exámenes positivos de \",$AI$158,\" NO DEBEN ser mayor a los exámenes procesados de la misma edad. \"),\"\")","v":""},{"$f":"IF(DW236=1,\"* No olvide digitar la columna Procesados Trans y/o Pueblos Originarios y/o Migrantes (Digite Cero si no tiene). \",\"\")","v":""},{"$f":"IF(DX236=1,\"* No olvide digitar la columna Confirmados Trans y/o Pueblos Originarios y/o Migrantes (Digite Cero si no tiene). \",\"\")","v":""},null,null,{"$f":"IF(C236<D236,1,0)","v":0},{"$f":"IF(OR((AK236+AM236)<>C236,(AL236+AN236)<>D236),1,0)","v":0},{"$f":"IF(OR((AO236+AQ236)>C236,(AP236+AR236)>D236),1,0)","v":0},{"$f":"IF(OR(AS236>C236,AT236>D236),1,0)","v":0},{"$f":"IF(OR(AV236>D236,AU236>C236),1,0)","v":0},{"$f":"IF(OR((M236+O236)<AW236,(N236+P236)<AX236),1,0)","v":0},{"$f":"IF(E236<F236,1,0)","v":0},{"$f":"IF(G236<H236,1,0)","v":0},{"$f":"IF(I236<J236,1,0)","v":0},{"$f":"IF(K236<L236,1,0)","v":0},{"$f":"IF(M236<N236,1,0)","v":0},{"$f":"IF(O236<P236,1,0)","v":0},{"$f":"IF(Q236<R236,1,0)","v":0},{"$f":"IF(S236<T236,1,0)","v":0},{"$f":"IF(U236<V236,1,0)","v":0},{"$f":"IF(W236<X236,1,0)","v":0},{"$f":"IF(Y236<Z236,1,0)","v":0},{"$f":"IF(AA236<AB236,1,0)","v":0},{"$f":"IF(AC236<AD236,1,0)","v":0},{"$f":"IF(AE236<AF236,1,0)","v":0},{"$f":"IF(AG236<AH236,1,0)","v":0},{"$f":"IF(AI236<AJ236,1,0)","v":0},{"$f":"IF(AND(C236<>0,OR(AO236=\"\",AQ236=\"\",AS236=\"\",AU236=\"\")),1,0)","v":0},{"$f":"IF(AND(D236<>0,OR(AP236=\"\",AR236=\"\",AT236=\"\",AV236=\"\")),1,0)","v":0}]
[null,"GESTANTES SEGUNDO EXAMEN",0,0,null,null,null,null,null,null,null,null,null,null,null,null,null,null,null,null,null,null,null,null,null,null,null,null,null,null,null,null,null,null,null,null,null,null,null,null,null,null,null,null,null,null,null,null,null,null,"",null,null,null,null,null,null,null,null,null,null,null,null,null,null,null,null,null,null,null,null,null,null,null,null,null,null,null,{"$f":"IF(DA237=1,\"* El total de Confirmados Positivos por ISP NO DEBE ser mayor que el total de Procesados. \",\"\")","v":""},{"$f":"IF((AK237+AM237)<>C237,\"* El Total de Procesados por sexo DEBE ser igual al Total de Procesados. \",IF((AL237+AN237)<>D237,\"* El Total de Confirmados por sexo DEBE ser igual al Total de Confirmados. \",\"\"))","v":""},{"$f":"IF((AO237+AQ237)>C237,\"* El Total de Procesados Trans NO DEBE ser mayor al Total de Procesados. \",IF((AP237+AR237)>D237,\"* El Total de Confirmados Trans NO DEBE ser mayor al Total de Confirmados. \",\"\"))","v":""},{"$f":"IF(AS237>C237,\"* El Total de Pueblos Originarios Procesados NO DEBE ser mayor al Total de Procesados. \",IF(AT237>D237,\"* El Total de Pueblos Originarios Confirmados NO DEBE ser mayor al Total de Confirmados. \",\"\"))","v":""},{"$f":"IF(AU237>C237,\"* El Total de Migrantes Procesados NO DEBE ser mayor al Total de Procesados. \",IF(AV237>D237,\"* El Total deMigrantes Confirmados NO DEBE ser mayor al Total de Confirmados. \",\"\"))","v":""},{"$f":"IF((M237+O237)<AW237,\"* El Total de Procesados de 14-18 años NO DEBE ser mayor al Total de Procesados registrados en los grupos de edad 10 a 14 y 15 a 19 años. \",IF((N237+P237)<AX237,\"* El Total de Confirmados de 14-18 años NO DEBE ser mayor al Total de Confirmados registrados en los grupos de edad 10 a 14 y 15 a 19 años. \",\"\"))","v":""},{"$f":"IF(DG237=1,CONCATENATE(\"* Los exámenes positivos de \",$E$158,\" NO DEBEN ser mayor a los exámenes procesados de la misma edad. \"),\"\")","v":""},{"$f":"IF(DH237=1,CONCATENATE(\"* Los exámenes positivos de \",$G$158,\" NO DEBEN ser mayor a los exámenes procesados de la misma edad. \"),\"\")","v":""},{"$f":"IF(DI237=1,CONCATENATE(\"* Los exámenes positivos de \",$I$158,\" NO DEBEN ser mayor a los exámenes procesados de la misma edad. \"),\"\")","v":""},{"$f":"IF(DJ237=1,CONCATENATE(\"* Los exámenes positivos de \",$K$158,\" NO DEBEN ser mayor a los exámenes procesados de la misma edad. \"),\"\")","v":""},{"$f":"IF(DK237=1,CONCATENATE(\"* Los exámenes positivos de \",$M$158,\" NO DEBEN ser mayor a los exámenes procesados de la misma edad. \"),\"\")","v":""},{"$f":"IF(DL237=1,CONCATENATE(\"* Los exámenes positivos de \",$O$158,\" NO DEBEN ser mayor a los exámenes procesados de la misma edad. \"),\"\")","v":""},{"$f":"IF(DM237=1,CONCATENATE(\"* Los exámenes positivos de \",$Q$158,\" NO DEBEN ser mayor a los exámenes procesados de la misma edad. \"),\"\")","v":""},{"$f":"IF(DN237=1,CONCATENATE(\"* Los exámenes positivos de \",$S$158,\" NO DEBEN ser mayor a los exámenes procesados de la misma edad. \"),\"\")","v":""},{"$f":"IF(DO237=1,CONCATENATE(\"* Los exámenes positivos de \",$U$158,\" NO DEBEN ser mayor a los exámenes procesados de la misma edad. \"),\"\")","v":""},{"$f":"IF(DP237=1,CONCATENATE(\"* Los exámenes positivos de \",$W$158,\" NO DEBEN ser mayor a los exámenes procesados de la misma edad. \"),\"\")","v":""},{"$f":"IF(DQ237=1,CONCATENATE(\"* Los exámenes positivos de \",$Y$158,\" NO DEBEN ser mayor a los exámenes procesados de la misma edad. \"),\"\")","v":""},{"$f":"IF(DR237=1,CONCATENATE(\"* Los exámenes positivos de \",$AA$158,\" NO DEBEN ser mayor a los exámenes procesados de la misma edad. \"),\"\")","v":""},{"$f":"IF(DS237=1,CONCATENATE(\"* Los exámenes positivos de \",$AC$158,\" NO DEBEN ser mayor a los exámenes procesados de la misma edad. \"),\"\")","v":""},{"$f":"IF(DT237=1,CONCATENATE(\"* Los exámenes positivos de \",$AE$158,\" NO DEBEN ser mayor a los exámenes procesados de la misma edad. \"),\"\")","v":""},{"$f":"IF(DU237=1,CONCATENATE(\"* Los exámenes positivos de \",$AG$158,\" NO DEBEN ser mayor a los exámenes procesados de la misma edad. \"),\"\")","v":""},{"$f":"IF(DV237=1,CONCATENATE(\"* Los exámenes positivos de \",$AI$158,\" NO DEBEN ser mayor a los exámenes procesados de la misma edad. \"),\"\")","v":""},{"$f":"IF(DW237=1,\"* No olvide digitar la columna Procesados Trans y/o Pueblos Originarios y/o Migrantes (Digite Cero si no tiene). \",\"\")","v":""},{"$f":"IF(DX237=1,\"* No olvide digitar la columna Confirmados Trans y/o Pueblos Originarios y/o Migrantes (Digite Cero si no tiene). \",\"\")","v":""},null,null,{"$f":"IF(C237<D237,1,0)","v":0},{"$f":"IF(OR((AK237+AM237)<>C237,(AL237+AN237)<>D237),1,0)","v":0},{"$f":"IF(OR((AO237+AQ237)>C237,(AP237+AR237)>D237),1,0)","v":0},{"$f":"IF(OR(AS237>C237,AT237>D237),1,0)","v":0},{"$f":"IF(OR(AV237>D237,AU237>C237),1,0)","v":0},{"$f":"IF(OR((M237+O237)<AW237,(N237+P237)<AX237),1,0)","v":0},{"$f":"IF(E237<F237,1,0)","v":0},{"$f":"IF(G237<H237,1,0)","v":0},{"$f":"IF(I237<J237,1,0)","v":0},{"$f":"IF(K237<L237,1,0)","v":0},{"$f":"IF(M237<N237,1,0)","v":0},{"$f":"IF(O237<P237,1,0)","v":0},{"$f":"IF(Q237<R237,1,0)","v":0},{"$f":"IF(S237<T237,1,0)","v":0},{"$f":"IF(U237<V237,1,0)","v":0},{"$f":"IF(W237<X237,1,0)","v":0},{"$f":"IF(Y237<Z237,1,0)","v":0},{"$f":"IF(AA237<AB237,1,0)","v":0},{"$f":"IF(AC237<AD237,1,0)","v":0},{"$f":"IF(AE237<AF237,1,0)","v":0},{"$f":"IF(AG237<AH237,1,0)","v":0},{"$f":"IF(AI237<AJ237,1,0)","v":0},{"$f":"IF(AND(C237<>0,OR(AO237=\"\",AQ237=\"\",AS237=\"\",AU237=\"\")),1,0)","v":0},0]
[null,"MUJER EN TRABAJO DE PRE PARTO O PARTO",0,0,null,null,null,null,null,null,null,null,null,null,null,null,null,null,null,null,null,null,null,null,null,null,null,null,null,null,null,null,null,null,null,null,null,null,null,null,null,null,null,null,null,null,null,null,null,null,"",null,null,null,null,null,null,null,null,null,null,null,null,null,null,null,null,null,null,null,null,null,null,null,null,null,null,null,"","","","","","","","","","","","","","","","","","","","","","","","",null,null,0,0,0,0,0,0,0,0,0,0,0,0,0,0,0,0,0,0,0,0,0,0,0,0]
[null,"PERSONAS EN CONTROL POR COMERCIO SEXUAL",{"$f":"+O239+Q239+S239+U239+W239+Y239+AA239+AC239+AE239+AG239+AI239","v":0},{"$f":"+P239+R239+T239+V239+X239+Z239+AB239+AD239+AF239+AH239+AJ239","v":0},null,null,null,null,null,null,null,null,null,null,null,null,null,null,null,null,null,null,null,null,null,null,null,null,null,null,null,null,null,null,null,null,null,null,null,null,null,null,null,null,null,null,null,null,null,null,"",null,null,null,null,null,null,null,null,null,null,null,null,null,null,null,null,null,null,null,null,null,null,null,null,null,null,null,"","","","","","","","","","","","","","","","","","","","","","","","",null,null,0,0,0,0,0,0,0,0,0,0,0,0,0,0,0,0,0,0,0,0,0,0,0,0]
[null,"POR CONSULTA ITS",{"$f":"+E240+G240+I240+K240+M240+O240+Q240+S240+U240+W240+Y240+AA240+AC240+AE240+AG240+AI240","v":0},{"$f":"+F240+H240+J240+L240+N240+P240+R240+T240+V240+X240+Z240+AB240+AD240+AF240+AH240+AJ240","v":0},null,null,null,null,null,null,null,null,null,null,null,null,null,null,null,null,null,null,null,null,null,null,null,null,null,null,null,null,null,null,null,null,null,null,null,null,null,null,null,null,null,null,null,null,null,null,"",null,null,null,null,null,null,null,null,null,null,null,null,null,null,null,null,null,null,null,null,null,null,null,null,null,null,null,"","","","","","","","","","","","","","","","","","","","","","","","",null,null,0,0,0,0,0,0,0,0,0,0,0,0,0,0,0,0,0,0,0,0,0,0,0,0]
[null,"PERSONAS EN CONTROL DE REGULACIÓN FECUNDIDAD, GINECOLOGICO, CLIMATERIO",{"$f":"+M241+O241+Q241+S241+U241+W241+Y241+AA241+AC241+AE241+AG241+AI241","v":0},{"$f":"+N241+P241+R241+T241+V241+X241+Z241+AB241+AD241+AF241+AH241+AJ241","v":0},null,null,null,null,null,null,null,null,null,null,null,null,null,null,null,null,null,null,null,null,null,null,null,null,null,null,null,null,null,null,null,null,null,null,null,null,null,null,null,null,null,null,null,null,null,null,"",null,null,null,null,null,null,null,null,null,null,null,null,null,null,null,null,null,null,null,null,null,null,null,null,null,null,null,"","","","","","","","","","","","","","","","","","","","","","","","",null,null,0,0,0,0,0,0,0,0,0,0,0,0,0,0,0,0,0,0,0,0,0,0,0,0]
[null,"PERSONAS EMP/EMPAM ",{"$f":"+O242+Q242+S242+U242+W242+Y242+AA242+AC242+AE242+AG242+AI242","v":0},{"$f":"+P242+R242+T242+V242+X242+Z242+AB242+AD242+AF242+AH242+AJ242","v":0},null,null,null,null,null,null,null,null,null,null,null,null,null,null,null,null,null,null,null,null,null,null,null,null,null,null,null,null,null,null,null,null,null,null,null,null,null,null,null,null,null,null,null,null,null,null,"",null,null,null,null,null,null,null,null,null,null,null,null,null,null,null,null,null,null,null,null,null,null,null,null,null,null,null,"","","","","","","","","","","","","","","","","","","","","","","","",null,null,0,0,0,0,0,0,0,0,0,0,0,0,0,0,0,0,0,0,0,0,0,0,0,0]
[null,"PERSONAS EN CONTROL DE SALUD SEGÚN CICLO VITAL",{"$f":"+E243+G243+I243+K243+M243+O243+Q243+S243+U243+W243+Y243+AA243+AC243+AE243+AG243+AI243","v":0},{"$f":"+F243+H243+J243+L243+N243+P243+R243+T243+V243+X243+Z243+AB243+AD243+AF243+AH243+AJ243","v":0},null,null,null,null,null,null,null,null,null,null,null,null,null,null,null,null,null,null,null,null,null,null,null,null,null,null,null,null,null,null,null,null,null,null,null,null,null,null,null,null,null,null,null,null,null,null,"",null,null,null,null,null,null,null,null,null,null,null,null,null,null,null,null,null,null,null,null,null,null,null,null,null,null,null,"","","","","","","","","","","","","","","","","","","","","","","","",null,null,0,0,0,0,0,0,0,0,0,0,0,0,0,0,0,0,0,0,0,0,0,0,0,0]
[null,"DONANTES DE ÓRGANOS Y/O TEJIDOS",{"$f":"+M244+O244+Q244+S244+U244+W244+Y244+AA244+AC244+AE244+AG244+AI244","v":0},{"$f":"+N244+P244+R244+T244+V244+X244+Z244+AB244+AD244+AF244+AH244+AJ244","v":0},null,null,null,null,null,null,null,null,null,null,null,null,null,null,null,null,null,null,null,null,null,null,null,null,null,null,null,null,null,null,null,null,null,null,null,null,null,null,null,null,null,null,null,null,null,null,"",null,null,null,null,null,null,null,null,null,null,null,null,null,null,null,null,null,null,null,null,null,null,null,null,null,null,null,"","","","","","","","","","","","","","","","","","","","","","","","",null,null,0,0,0,0,0,0,0,0,0,0,0,0,0,0,0,0,0,0,0,0,0,0,0,0]
[null,"PERSONA EN CONTROL POR TBC",{"$f":"+M245+O245+Q245+S245+U245+W245+Y245+AA245+AC245+AE245+AG245+AI245","v":0},{"$f":"+N245+P245+R245+T245+V245+X245+Z245+AB245+AD245+AF245+AH245+AJ245","v":0},null,null,null,null,null,null,null,null,null,null,null,null,null,null,null,null,null,null,null,null,null,null,null,null,null,null,null,null,null,null,null,null,null,null,null,null,null,null,null,null,null,null,null,null,null,null,"",null,null,null,null,null,null,null,null,null,null,null,null,null,null,null,null,null,null,null,null,null,null,null,null,null,null,null,"","","","","","","","","","","","","","","","","","","","","","","","",null,null,0,0,0,0,0,0,0,0,0,0,0,0,0,0,0,0,0,0,0,0,0,0,0,0]
[null,"VÍCTIMA DE VIOLENCIA SEXUAL",{"$f":"+E246+G246+I246+K246+M246+O246+Q246+S246+U246+W246+Y246+AA246+AC246+AE246+AG246+AI246","v":0},{"$f":"+F246+H246+J246+L246+N246+P246+R246+T246+V246+X246+Z246+AB246+AD246+AF246+AH246+AJ246","v":0},null,null,null,null,null,null,null,null,null,null,null,null,null,null,null,null,null,null,null,null,null,null,null,null,null,null,null,null,null,null,null,null,null,null,null,null,null,null,null,null,null,null,null,null,null,null,"",null,null,null,null,null,null,null,null,null,null,null,null,null,null,null,null,null,null,null,null,null,null,null,null,null,null,null,"","","","","","","","","","","","","","","","","","","","","","","","",null,null,0,0,0,0,0,0,0,0,0,0,0,0,0,0,0,0,0,0,0,0,0,0,0,0]
[null,"PAREJA SERODISCORDANTE",{"$f":"+O247+Q247+S247+U247+W247+Y247+AA247+AC247+AE247+AG247+AI247","v":0},{"$f":"+P247+R247+T247+V247+X247+Z247+AB247+AD247+AF247+AH247+AJ247","v":0},null,null,null,null,null,null,null,null,null,null,null,null,null,null,null,null,null,null,null,null,null,null,null,null,null,null,null,null,null,null,null,null,null,null,null,null,null,null,null,null,null,null,null,null,null,null,"",null,null,null,null,null,null,null,null,null,null,null,null,null,null,null,null,null,null,null,null,null,null,null,null,null,null,null,"","","","","","","","","","","","","","","","","","","","","","","","",null,null,0,0,0,0,0,0,0,0,0,0,0,0,0,0,0,0,0,0,0,0,0,0,0,0]
[null,"PAREJA DE GESTANTE VIH POSITIVO",{"$f":"+M248+O248+Q248+S248+U248+W248+Y248+AA248+AC248+AE248+AG248+AI248","v":0},{"$f":"+N248+P248+R248+T248+V248+X248+Z248+AB248+AD248+AF248+AH248+AJ248","v":0},null,null,null,null,null,null,null,null,null,null,null,null,null,null,null,null,null,null,null,null,null,null,null,null,null,null,null,null,null,null,null,null,null,null,null,null,null,null,null,null,null,null,null,null,null,null,"",null,null,null,null,null,null,null,null,null,null,null,null,null,null,null,null,null,null,null,null,null,null,null,null,null,null,null,"","","","","","","","","","","","","","","","","","","","","","","","",null,null,0,0,0,0,0,0,0,0,0,0,0,0,0,0,0,0,0,0,0,0,0,0,0,0]
[null,"PERSONAL DE SALUD EXPUESTO A ACCIDENTE CORTOPUNZANTE",{"$f":"+Q249+S249+U249+W249+Y249+AA249+AC249+AE249+AG249+AI249+O249","v":0},{"$f":"+R249+T249+V249+X249+Z249+AB249+AD249+AF249+AH249+AJ249+P249","v":0},null,null,null,null,null,null,null,null,null,null,null,null,null,null,null,null,null,null,null,null,null,null,null,null,null,null,null,null,null,null,null,null,null,null,null,null,null,null,null,null,null,null,null,null,null,null,"",null,null,null,null,null,null,null,null,null,null,null,null,null,null,null,null,null,null,null,null,null,null,null,null,null,null,null,"","","","","","","","","","","","","","","","","","","","","","","","",null,null,0,0,0,0,0,0,0,0,0,0,0,0,0,0,0,0,0,0,0,0,0,0,0,0]
[null,"PACIENTES FUENTE DE ACCIDENTE CORTOPUNZANTE",{"$f":"+M250+O250+Q250+S250+U250+W250+Y250+AA250+AC250+AE250+AG250+AI250","v":0},0,null,null,null,null,null,null,null,null,null,null,null,null,null,null,null,null,null,null,null,null,null,null,null,null,null,null,null,null,null,null,null,null,null,null,null,null,null,null,null,null,null,null,null,null,null,null,"",null,null,null,null,null,null,null,null,null,null,null,null,null,null,null,null,null,null,null,null,null,null,null,null,null,null,null,"","","","","","","","","","","","","","","","","","","","","","","","",null,null,0,0,0,0,0,0,0,0,0,0,0,0,0,0,0,0,0,0,0,0,0,0,0,0]
[null,"PERSONA EN CONTROL POR HEPATITIS B",0,0,null,null,null,null,null,null,null,null,null,null,null,null,null,null,null,null,null,null,null,null,null,null,null,null,null,null,null,null,null,null,null,null,null,null,null,null,null,null,null,null,null,null,null,null,null,null,"",null,null,null,null,null,null,null,null,null,null,null,null,null,null,null,null,null,null,null,null,null,null,null,null,null,null,null,"","","","","","","","","","","","","","","","","","","","","","","","",null,null,0,0,0,0,0,0,0,0,0,0,0,0,0,0,0,0,0,0,0,0,0,0,0,0]
[null,"PERSONA EN CONTROL POR HEPATITIS C",0,0,null,null,null,null,null,null,null,null,null,null,null,null,null,null,null,null,null,null,null,null,null,null,null,null,null,null,null,null,null,null,null,null,null,null,null,null,null,null,null,null,null,null,null,null,null,null,"",null,null,null,null,null,null,null,null,null,null,null,null,null,null,null,null,null,null,null,null,null,null,null,null,null,null,null,"","","","","","","","","","","","","","","","","","","","","","","","",null,null,0,0,0,0,0,0,0,0,0,0,0,0,0,0,0,0,0,0,0,0,0,0,{"$f":"IF(AND(C252<>0,OR(AO252=\"\",AQ252=\"\",AS252=\"\",AU252=\"\")),1,0)","v":0},0]
[null,"CONSULTANTES POR MORBILIDAD",0,0,null,null,null,null,null,null,null,null,null,null,null,null,null,null,null,null,null,null,null,null,null,null,null,null,null,null,null,null,null,null,null,null,null,null,null,null,null,null,null,null,null,null,null,null,null,null,"",null,null,null,null,null,null,null,null,null,null,null,null,null,null,null,null,null,null,null,null,null,null,null,null,null,null,null,"","","","","","","","","","","","","","","","","","","","","","","","",null,null,0,0,0,0,0,0,0,0,0,0,0,0,0,0,0,0,0,0,0,0,0,0,0,0]
[null,"POR CONSULTA ESPONTÁNEA",0,0,null,null,null,null,null,null,null,null,null,null,null,null,null,null,null,null,null,null,null,null,null,null,null,null,null,null,null,null,null,null,null,null,null,null,null,null,null,null,null,null,null,null,null,null,null,null,"",null,null,null,null,null,null,null,null,null,null,null,null,null,null,null,null,null,null,null,null,null,null,null,null,null,null,null,"","","","","","","","","","","","","","","","","","","","","","","","",null,null,0,0,0,0,0,0,0,0,0,0,0,0,0,0,0,0,0,0,0,0,0,0,0,0]
["EXTERIOR ESTABLECIMIENTO DE SALUD (EXTRAMURO)","CENTROS PENITENCIARIOS",{"$f":"+E255+G255+I255+K255+M255+O255+Q255+S255+U255+W255+Y255+AA255+AC255+AE255+AG255+AI255","v":0},0,null,null,null,null,null,null,null,null,null,null,null,null,null,null,null,null,null,null,null,null,null,null,null,null,null,null,null,null,null,null,null,null,null,null,null,null,null,null,null,null,null,null,null,null,null,null,"",null,null,null,null,null,null,null,null,null,null,null,null,null,null,null,null,null,null,null,null,null,null,null,null,null,null,null,"","","","","","","","","","","","","","","","","","","","","","","","",null,null,0,0,0,0,0,0,0,0,0,0,0,0,0,0,0,0,0,0,0,0,0,0,0,0]
[null,"CENTROS SENAME",0,0,null,null,null,null,null,null,null,null,null,null,null,null,null,null,null,null,null,null,null,null,null,null,null,null,null,null,null,null,null,null,null,null,null,null,null,null,null,null,null,null,null,null,null,null,null,null,"",null,null,null,null,null,null,null,null,null,null,null,null,null,null,null,null,null,null,null,null,null,null,null,null,null,null,null,"","","","","","","","","","","","","","","","","","","","","","","","",null,null,0,0,0,0,0,0,0,0,0,0,0,0,0,0,0,0,0,0,0,0,0,0,0,0]
[null,"CENTROS EDUCACIONALES",0,0,null,null,null,null,null,null,null,null,null,null,null,null,null,null,null,null,null,null,null,null,null,null,null,null,null,null,null,null,null,null,null,null,null,null,null,null,null,null,null,null,null,null,null,null,null,null,"",null,null,null,null,null,null,null,null,null,null,null,null,null,null,null,null,null,null,null,null,null,null,null,null,null,null,null,"","","","","","","","","","","","","","","","","","","","","","","","",null,null,0,0,0,0,0,0,0,0,0,0,0,0,0,0,0,0,0,0,0,0,0,0,0,0]
[null,"OTROS ",0,0,null,null,null,null,null,null,null,null,null,null,null,null,null,null,null,null,null,null,null,null,null,null,null,null,null,null,null,null,null,null,null,null,null,null,null,null,null,null,null,null,null,null,null,null,null,null,"",null,null,null,null,null,null,null,null,null,null,null,null,null,null,null,null,null,null,null,null,null,null,null,null,null,null,null,"","","","","","","","","","","","","","","","","","","","","","","","",null,null,0,0,0,0,0,0,0,0,0,0,0,0,0,0,0,0,0,0,0,0,0,0,0,0]
["SECCIÓN G: SCREENING ENFERMEDAD DE CHAGAS PARA EMABARAZADAS, PUERPERAS Y MUJERES EN EDAD FÉRTIL"]
["CONDICIÓN","TOTAL","GRUPO DE EDAD ",null,null,null,null,null,null,null,null,null,"Pueblos Originarios","Migrantes"]
[null,null,"10 a 14 años","15 a 19 años","20 a 24 años","25 a 29 años","30 a 34 años","35 a 39 años","40 a 44 años","45 a 49 años","50 a 54 años","55 y más años"]
["Gestantes con examen de Chagas solicitado",{"$f":"SUM(C262:L262)","v":0},null,null,null,null,null,null,null,null,null,null,null,null,{"$f":"$CA262&$CB262&$CC262&$CD262&$CE262&$CF262&$CG262&$CH262&$CI262&$CJ262&$CK262&$CL262&$CM262&$CN262&$CO262&$CP262&$CQ262&$CR262&$CS262&$CT262&$CU262&$CV262&$CW262&$CX262&$CY262&$CZ262","v":""},null,null,null,null,null,null,null,null,null,null,null,null,null,null,null,null,null,null,null,null,null,null,null,null,null,null,null,null,null,null,null,null,null,null,null,null,null,null,null,null,null,null,null,null,null,null,null,null,null,null,null,null,null,null,null,null,null,null,null,null,null,null,null,{"$f":"IF(AND($B262<>0,M262=\"\"),\"* No olvide ingresar la columna Pueblos Originarios (Digite CERO si no tiene). \",IF(M262>$B262,\"* El Número de Screenings de Pueblos Originarios no puede superar el Total. \",\"\"))","v":""},{"$f":"IF(AND($B262<>0,N262=\"\"),\"* No olvide ingresar la columna Migrantes (Digite CERO si no tiene). \",IF(N262>$B262,\"* El Número de Screenings de Población Migrante no puede superar el Total. \",\"\"))","v":""},null,null,null,null,null,null,null,null,null,null,null,null,null,null,null,null,null,null,null,null,null,null,null,null,{"$f":"IF(AND($B262<>0,M262=\"\"),1,IF(M262>$B262,1,0))","v":0},0]
["Gestantes con examen de Chagas informado",{"$f":"SUM(C263:L263)","v":0},null,null,null,null,null,null,null,null,null,null,null,null,{"$f":"$CA263&$CB263&$CC263&$CD263&$CE263&$CF263&$CG263&$CH263&$CI263&$CJ263&$CK263&$CL263&$CM263&$CN263&$CO263&$CP263&$CQ263&$CR263&$CS263&$CT263&$CU263&$CV263&$CW263&$CX263&$CY263&$CZ263","v":""},null,null,null,null,null,null,null,null,null,null,null,null,null,null,null,null,null,null,null,null,null,null,null,null,null,null,null,null,null,null,null,null,null,null,null,null,null,null,null,null,null,null,null,null,null,null,null,null,null,null,null,null,null,null,null,null,null,null,null,null,null,null,null,{"$f":"IF(AND($B263<>0,M263=\"\"),\"* No olvide ingresar la columna Pueblos Originarios (Digite CERO si no tiene). \",IF(M263>$B263,\"* El Número de Screenings de Pueblos Originarios no puede superar el Total. \",\"\"))","v":""},{"$f":"IF(AND($B263<>0,N263=\"\"),\"* No olvide ingresar la columna Migrantes (Digite CERO si no tiene). \",IF(N263>$B263,\"* El Número de Screenings de Población Migrante no puede superar el Total. \",\"\"))","v":""},null,null,null,null,null,null,null,null,null,null,null,null,null,null,null,null,null,null,null,null,null,null,null,null,0,0]
["Gestantes con examen de Chagas confirmado",{"$f":"SUM(C264:L264)","v":0},null,null,null,null,null,null,null,null,null,null,null,null,{"$f":"$CA264&$CB264&$CC264&$CD264&$CE264&$CF264&$CG264&$CH264&$CI264&$CJ264&$CK264&$CL264&$CM264&$CN264&$CO264&$CP264&$CQ264&$CR264&$CS264&$CT264&$CU264&$CV264&$CW264&$CX264&$CY264&$CZ264","v":""},null,null,null,null,null,null,null,null,null,null,null,null,null,null,null,null,null,null,null,null,null,null,null,null,null,null,null,null,null,null,null,null,null,null,null,null,null,null,null,null,null,null,null,null,null,null,null,null,null,null,null,null,null,null,null,null,null,null,null,null,null,null,null,{"$f":"IF(AND($B264<>0,M264=\"\"),\"* No olvide ingresar la columna Pueblos Originarios (Digite CERO si no tiene). \",IF(M264>$B264,\"* El Número de Screenings de Pueblos Originarios no puede superar el Total. \",\"\"))","v":""},{"$f":"IF(AND($B264<>0,N264=\"\"),\"* No olvide ingresar la columna Migrantes (Digite CERO si no tiene). \",IF(N264>$B264,\"* El Número de Screenings de Población Migrante no puede superar el Total. \",\"\"))","v":""},null,null,null,null,null,null,null,null,null,null,null,null,null,null,null,null,null,null,null,null,null,null,null,null,0,0]
["Gestantes que ingresan a maternidad sin examen de enfermedad de Chagas",{"$f":"SUM(C265:L265)","v":0},null,null,null,null,null,null,null,null,null,null,null,null,{"$f":"$CA265&$CB265&$CC265&$CD265&$CE265&$CF265&$CG265&$CH265&$CI265&$CJ265&$CK265&$CL265&$CM265&$CN265&$CO265&$CP265&$CQ265&$CR265&$CS265&$CT265&$CU265&$CV265&$CW265&$CX265&$CY265&$CZ265","v":""},null,null,null,null,null,null,null,null,null,null,null,null,null,null,null,null,null,null,null,null,null,null,null,null,null,null,null,null,null,null,null,null,null,null,null,null,null,null,null,null,null,null,null,null,null,null,null,null,null,null,null,null,null,null,null,null,null,null,null,null,null,null,null,{"$f":"IF(AND($B265<>0,M265=\"\"),\"* No olvide ingresar la columna Pueblos Originarios (Digite CERO si no tiene). \",IF(M265>$B265,\"* El Número de Screenings de Pueblos Originarios no puede superar el Total. \",\"\"))","v":""},{"$f":"IF(AND($B265<>0,N265=\"\"),\"* No olvide ingresar la columna Migrantes (Digite CERO si no tiene). \",IF(N265>$B265,\"* El Número de Screenings de Población Migrante no puede superar el Total. \",\"\"))","v":""},null,null,null,null,null,null,null,null,null,null,null,null,null,null,null,null,null,null,null,null,null,null,null,null,0,0]
["Mujeres en Control Preconcepcional",{"$f":"SUM(C266:L266)","v":0},null,null,null,null,null,null,null,null,null,null,null,null,{"$f":"$CA266&$CB266&$CC266&$CD266&$CE266&$CF266&$CG266&$CH266&$CI266&$CJ266&$CK266&$CL266&$CM266&$CN266&$CO266&$CP266&$CQ266&$CR266&$CS266&$CT266&$CU266&$CV266&$CW266&$CX266&$CY266&$CZ266","v":""},null,null,null,null,null,null,null,null,null,null,null,null,null,null,null,null,null,null,null,null,null,null,null,null,null,null,null,null,null,null,null,null,null,null,null,null,null,null,null,null,null,null,null,null,null,null,null,null,null,null,null,null,null,null,null,null,null,null,null,null,null,null,null,{"$f":"IF(AND($B266<>0,M266=\"\"),\"* No olvide ingresar la columna Pueblos Originarios (Digite CERO si no tiene). \",IF(M266>$B266,\"* El Número de Screenings de Pueblos Originarios no puede superar el Total. \",\"\"))","v":""},{"$f":"IF(AND($B266<>0,N266=\"\"),\"* No olvide ingresar la columna Migrantes (Digite CERO si no tiene). \",IF(N266>$B266,\"* El Número de Screenings de Población Migrante no puede superar el Total. \",\"\"))","v":""},null,null,null,null,null,null,null,null,null,null,null,null,null,null,null,null,null,null,null,null,null,null,null,null,0,0]
["SECCIÓN H: DIAGNÓSTICO TRANSMISIÓN VERTICAL MADRE HIJO/A CON ENFERMEDAD DE CHAGAS "]
[" CONDICIÓN","TOTAL","GRUPO DE EDAD",null,null,null,null,null,null,null,null,null,null,null,null,null,null,null,"Pueblos Originarios","Migrantes"]
[null,null,"Menos de 1 mes","1 mes","2 meses","3 meses","4 meses","5 meses","6 meses","7 meses","8 meses","9 meses","10 meses","11 meses","12 meses","13 meses","14 meses","15 meses"]
["Hijos/as de Madre con Enfermedad de Chagas nacidos en el periodo ",{"$f":"SUM(C270:R270)","v":0},null,null,null,null,null,null,null,null,null,null,null,null,null,null,null,null,null,null,{"$f":"$CA270&$CB270&$CC270&$CD270&$CE270&$CF270&$CG270&$CH270&$CI270&$CJ270&$CK270&$CL270&$CM270&$CN270&$CO270&$CP270&$CQ270&$CR270&$CS270&$CT270&$CU270&$CV270&$CW270&$CX270&$CY270&$CZ270","v":""},null,null,null,null,null,null,null,null,null,null,null,null,null,null,null,null,null,null,null,null,null,null,null,null,null,null,null,null,null,null,null,null,null,null,null,null,null,null,null,null,null,null,null,null,null,null,null,null,null,null,null,null,null,null,null,null,null,{"$f":"IF(AND($B270<>0,S270=\"\"),\"* No olvide ingresar la columna Pueblos Originarios (Digite CERO si no tiene). \",IF(S270>$B270,\"* El Número de Hijos de Pueblos Originarios no puede superar el Total. \",\"\"))","v":""},{"$f":"IF(AND($B270<>0,T270=\"\"),\"* No olvide ingresar la columna Migrantes (Digite CERO si no tiene). \",IF(T270>$B270,\"* El Número de Hijos de Migrantes no puede superar el Total. \",\"\"))","v":""},null,null,null,null,null,null,null,null,null,null,null,null,null,null,null,null,null,null,null,null,null,null,null,null,{"$f":"IF(AND($B270<>0,S270=\"\"),1,IF(S270>$B270,1,0))","v":0},0]
["Hijos/as de Madre con Enfermedad de Chagas con diagnóstico directo realizado",{"$f":"SUM(C271:R271)","v":0},null,null,null,null,null,null,null,null,null,null,null,null,null,null,null,null,null,null,{"$f":"$CA271&$CB271&$CC271&$CD271&$CE271&$CF271&$CG271&$CH271&$CI271&$CJ271&$CK271&$CL271&$CM271&$CN271&$CO271&$CP271&$CQ271&$CR271&$CS271&$CT271&$CU271&$CV271&$CW271&$CX271&$CY271&$CZ271","v":""},null,null,null,null,null,null,null,null,null,null,null,null,null,null,null,null,null,null,null,null,null,null,null,null,null,null,null,null,null,null,null,null,null,null,null,null,null,null,null,null,null,null,null,null,null,null,null,null,null,null,null,null,null,null,null,null,null,{"$f":"IF(AND($B271<>0,S271=\"\"),\"* No olvide ingresar la columna Pueblos Originarios (Digite CERO si no tiene). \",IF(S271>$B271,\"* El Número de Hijos de Pueblos Originarios no puede superar el Total. \",\"\"))","v":""},{"$f":"IF(AND($B271<>0,T271=\"\"),\"* No olvide ingresar la columna Migrantes (Digite CERO si no tiene). \",IF(T271>$B271,\"* El Número de Hijos de Migrantes no puede superar el Total. \",\"\"))","v":""},null,null,null,null,null,null,null,null,null,null,null,null,null,null,null,null,null,null,null,null,null,null,null,null,0,0]
["Hijos/as de Madre con Enfermedad de Chagas con diagnóstico finalizado e informado (1° muestra) ",{"$f":"SUM(C272:R272)","v":0},null,null,null,null,null,null,null,null,null,null,null,null,null,null,null,null,null,null,{"$f":"$CA272&$CB272&$CC272&$CD272&$CE272&$CF272&$CG272&$CH272&$CI272&$CJ272&$CK272&$CL272&$CM272&$CN272&$CO272&$CP272&$CQ272&$CR272&$CS272&$CT272&$CU272&$CV272&$CW272&$CX272&$CY272&$CZ272","v":""},null,null,null,null,null,null,null,null,null,null,null,null,null,null,null,null,null,null,null,null,null,null,null,null,null,null,null,null,null,null,null,null,null,null,null,null,null,null,null,null,null,null,null,null,null,null,null,null,null,null,null,null,null,null,null,null,null,{"$f":"IF(AND($B272<>0,S272=\"\"),\"* No olvide ingresar la columna Pueblos Originarios (Digite CERO si no tiene). \",IF(S272>$B272,\"* El Número de Hijos de Pueblos Originarios no puede superar el Total. \",\"\"))","v":""},{"$f":"IF(AND($B272<>0,T272=\"\"),\"* No olvide ingresar la columna Migrantes (Digite CERO si no tiene). \",IF(T272>$B272,\"* El Número de Hijos de Migrantes no puede superar el Total. \",\"\"))","v":""},null,null,null,null,null,null,null,null,null,null,null,null,null,null,null,null,null,null,null,null,null,null,null,null,0,0]
["Hijos/as de Madre con Enfermedad de Chagas con diagnóstico finalizado e informado (2° muestra) ",{"$f":"SUM(C273:R273)","v":0},null,null,null,null,null,null,null,null,null,null,null,null,null,null,null,null,null,null,{"$f":"$CA273&$CB273&$CC273&$CD273&$CE273&$CF273&$CG273&$CH273&$CI273&$CJ273&$CK273&$CL273&$CM273&$CN273&$CO273&$CP273&$CQ273&$CR273&$CS273&$CT273&$CU273&$CV273&$CW273&$CX273&$CY273&$CZ273","v":""},null,null,null,null,null,null,null,null,null,null,null,null,null,null,null,null,null,null,null,null,null,null,null,null,null,null,null,null,null,null,null,null,null,null,null,null,null,null,null,null,null,null,null,null,null,null,null,null,null,null,null,null,null,null,null,null,null,{"$f":"IF(AND($B273<>0,S273=\"\"),\"* No olvide ingresar la columna Pueblos Originarios (Digite CERO si no tiene). \",IF(S273>$B273,\"* El Número de Hijos de Pueblos Originarios no puede superar el Total. \",\"\"))","v":""},{"$f":"IF(AND($B273<>0,T273=\"\"),\"* No olvide ingresar la columna Migrantes (Digite CERO si no tiene). \",IF(T273>$B273,\"* El Número de Hijos de Migrantes no puede superar el Total. \",\"\"))","v":""},null,null,null,null,null,null,null,null,null,null,null,null,null,null,null,null,null,null,null,null,null,null,null,null,0,0]
["Hijos/as de Madre con enfermedad de Chagas con diagnóstico finalizado e informado (3° muestra) ",{"$f":"SUM(C274:R274)","v":0},null,null,null,null,null,null,null,null,null,null,null,null,null,null,null,null,null,null,{"$f":"$CA274&$CB274&$CC274&$CD274&$CE274&$CF274&$CG274&$CH274&$CI274&$CJ274&$CK274&$CL274&$CM274&$CN274&$CO274&$CP274&$CQ274&$CR274&$CS274&$CT274&$CU274&$CV274&$CW274&$CX274&$CY274&$CZ274","v":""},null,null,null,null,null,null,null,null,null,null,null,null,null,null,null,null,null,null,null,null,null,null,null,null,null,null,null,null,null,null,null,null,null,null,null,null,null,null,null,null,null,null,null,null,null,null,null,null,null,null,null,null,null,null,null,null,null,{"$f":"IF(AND($B274<>0,S274=\"\"),\"* No olvide ingresar la columna Pueblos Originarios (Digite CERO si no tiene). \",IF(S274>$B274,\"* El Número de Hijos de Pueblos Originarios no puede superar el Total. \",\"\"))","v":""},{"$f":"IF(AND($B274<>0,T274=\"\"),\"* No olvide ingresar la columna Migrantes (Digite CERO si no tiene). \",IF(T274>$B274,\"* El Número de Hijos de Migrantes no puede superar el Total. \",\"\"))","v":""},null,null,null,null,null,null,null,null,null,null,null,null,null,null,null,null,null,null,null,null,null,null,null,null,0,0]
["SECCION I: TRATAMIENTOS FAMACOLÓGICOS"]
["CONDICIÓN","TOTAL",null,null,"GRUPO DE EDAD Y SEXO"]
[null,null,null,null,"menor 1 ",null,"1-4",null,"5-9",null,"10-14",null,"15 - 19",null,"20 - 24",null,"25 - 29",null,"30 - 34",null,"35 - 39",null,"40 - 44",null,"45 - 49",null,"50 - 54",null,"55-59",null,"60-64",null,"65-69",null,"mayor 70"]
[null,"Ambos sexos","Hombres","Mujeres","menor 1 año",null,"1-4 años",null,"5-9 años",null,"10-14 años",null,"15 - 19 años",null,"20 - 24 años",null,"25 - 29 años",null,"30 - 34 años",null,"35 - 39 años",null,"40 - 44 años",null,"45 - 49 años",null,"50 - 54 años",null,"55-59 años",null,"60-64 años",null,"65-69 años",null,"mayor 70 años"]
[null,null,null,null,"Hombres","Mujeres","Hombres","Mujeres","Hombres","Mujeres","Hombres","Mujeres","Hombres","Mujeres","Hombres","Mujeres","Hombres","Mujeres","Hombres","Mujeres","Hombres","Mujeres","Hombres","Mujeres","Hombres","Mujeres","Hombres","Mujeres","Hombres","Mujeres","Hombres","Mujeres","Hombres","Mujeres","Hombres","Mujeres"]
["Personas con enfermedad de Chagas que ingresan a tratamiento farmacológico en el periodo (nifurtimox)",{"$f":"SUM(C280:D280)","v":0},{"$f":"+E280+G280+I280+K280+M280+O280+Q280+S280+U280+W280+Y280+AA280+AC280+AE280+AG280+AI280","v":0},{"$f":"+F280+H280+J280+L280+N280+P280+R280+T280+V280+X280+Z280+AB280+AD280+AF280+AH280+AJ280","v":0}]
["Personas con enfermedad de Chagas que suspenden o rechazan tratamiento farmacológico en el periodo (nifurtimox)",0,{"$f":"+E281+G281+I281+K281+M281+O281+Q281+S281+U281+W281+Y281+AA281+AC281+AE281+AG281+AI281","v":0},0]
["Personas con enfermedad de Chagas que finalizan tratamiento farmacológico en el periodo (nifurtimox)",0,0,0]
["Personas con enfermedad de Chagas que ingresan a tratamiento farmacológico en el periodo (benznidazol)",0,0,0]
["Personas con enfermedad de Chagas que suspenden o rechazan tratamiento farmacológico en el periodo (benznidazol)",0,0,0]
["Personas con enfermedad de Chagas que finalizan tratamiento farmacológico en el periodo (benznidazol)",0,0,0]
["SECCION J: DONANTES CONFIRMADOS ENFEMERDAD DE CHAGAS"]
["CONDICIÓN","TOTAL",null,null,"GRUPO DE EDAD y SEXO",null,null,null,null,null,null,null,null,null,null,null,null,null,null,null,null,null,null,null,null,null,null,null,"Pueblos Originarios","Migrantes"]
[null,null,null,null,"18-19 años",null,"20 - 24 años",null,"25 - 29 años",null,"30 - 34 años",null,"35 - 39 años",null,"40 - 44 años",null,"45 - 49 años",null,"50 - 54 años",null,"55-59 años",null,"60-64 años",null,"65-69 años",null,"mayor a 70 años"]
[null,"Ambos sexos","Hombres","Mujeres","Hombres","Mujeres","Hombres","Mujeres","Hombres","Mujeres","Hombres","Mujeres","Hombres","Mujeres","Hombres","Mujeres","Hombres","Mujeres","Hombres","Mujeres","Hombres","Mujeres","Hombres","Mujeres","Hombres","Mujeres","Hombres","Mujeres"]
["Donantes confirmados con enfermedad de Chagas en el periodo",{"$f":"SUM(C290:D290)","v":0},{"$f":"+E290+G290+I290+K290+M290+O290+Q290+S290+U290+W290+Y290+AA290","v":0},{"$f":"+F290+H290+J290+L290+N290+P290+R290+T290+V290+X290+Z290+AB290","v":0},null,null,null,null,null,null,null,null,null,null,null,null,null,null,null,null,null,null,null,null,null,null,null,null,null,null,{"$f":"$CA290&$CB290&$CC290&$CD290&$CE290&$CF290&$CG290&$CH290&$CI290&$CJ290&$CK290&$CL290&$CM290&$CN290&$CO290&$CP290&$CQ290&$CR290&$CS290&$CT290&$CU290&$CV290&$CW290&$CX290&$CY290&$CZ290","v":""},null,null,null,null,null,null,null,null,null,null,null,null,null,null,null,null,null,null,null,null,null,null,null,null,null,null,null,null,null,null,null,null,null,null,null,null,null,null,null,null,null,null,null,null,null,null,null,{"$f":"IF(AND($B290<>0,AC290=\"\"),\"* No olvide ingresar la columna Pueblos Originarios (Digite CERO si no tiene). \",IF(AC290>$B290,\"* El Número de Donantes Confirmados pertenecientes a Pueblos Originarios no puede superar el Total. \",\"\"))","v":""},{"$f":"IF(AND($B290<>0,AD290=\"\"),\"* No olvide ingresar la columna Migrantes (Digite CERO si no tiene). \",IF(AD290>$B290,\"* El Número de Donantes Confirmados pertenecientes a Población Migrante no puede superar el Total. \",\"\"))","v":""},null,null,null,null,null,null,null,null,null,null,null,null,null,null,null,null,null,null,null,null,null,null,null,null,{"$f":"IF(AND($B290<>0,AC290=\"\"),1,IF(AC290>$B290,1,0))","v":0},{"$f":"IF(AND($B290<>0,AD290=\"\"),1,IF(AD290>$B290,1,0))","v":0}]
["Donantes confirmados e  informados de su condición serologica para enfermedad de Chagas",{"$f":"SUM(C291:D291)","v":0},{"$f":"+E291+G291+I291+K291+M291+O291+Q291+S291+U291+W291+Y291+AA291","v":0},{"$f":"+F291+H291+J291+L291+N291+P291+R291+T291+V291+X291+Z291+AB291","v":0},null,null,null,null,null,null,null,null,null,null,null,null,null,null,null,null,null,null,null,null,null,null,null,null,null,null,{"$f":"$CA291&$CB291&$CC291&$CD291&$CE291&$CF291&$CG291&$CH291&$CI291&$CJ291&$CK291&$CL291&$CM291&$CN291&$CO291&$CP291&$CQ291&$CR291&$CS291&$CT291&$CU291&$CV291&$CW291&$CX291&$CY291&$CZ291","v":""},null,null,null,null,null,null,null,null,null,null,null,null,null,null,null,null,null,null,null,null,null,null,null,null,null,null,null,null,null,null,null,null,null,null,null,null,null,null,null,null,null,null,null,null,null,null,null,{"$f":"IF(AND($B291<>0,AC291=\"\"),\"* No olvide ingresar la columna Pueblos Originarios (Digite CERO si no tiene). \",IF(AC291>$B291,\"* El Número de Donantes Confirmados pertenecientes a Pueblos Originarios no puede superar el Total. \",\"\"))","v":""},{"$f":"IF(AND($B291<>0,AD291=\"\"),\"* No olvide ingresar la columna Migrantes (Digite CERO si no tiene). \",IF(AD291>$B291,\"* El Número de Donantes Confirmados pertenecientes a Población Migrante no puede superar el Total. \",\"\"))","v":""},null,null,null,null,null,null,null,null,null,null,null,null,null,null,null,null,null,null,null,null,null,null,null,null,{"$f":"IF(AND($B291<>0,AC291=\"\"),1,IF(AC291>$B291,1,0))","v":0},{"$f":"IF(AND($B291<>0,AD291=\"\"),1,IF(AD291>$B291,1,0))","v":0}]
["SECCIÓN K: SEGUIMIENTO DE CASOS"]
["CONDICIÓN","TOTAL",null,null,"GRUPO DE EDAD y SEXO",null,null,null,null,null,null,null,null,null,null,null,null,null,null,null,null,null,null,null,null,null,null,null,null,null,null,null,null,null,null,null,"Pueblos Originarios","Migrantes"]
[null,null,null,null,"menor 1 año",null,"1-4 años",null,"5-9 años",null,"10-14 años",null,"15 - 19 años",null,"20 - 24 años",null,"25 - 29 años",null,"30 - 34 años",null,"35 - 39 años",null,"40 - 44 años",null,"45 - 49 años",null,"50 - 54 años",null,"55-59 años",null,"60-64 años",null,"65-69 años",null,"mayor 70 años"]
[null,"Ambos sexos","Hombres","Mujeres","Hombres","Mujeres","Hombres","Mujeres","Hombres","Mujeres","Hombres","Mujeres","Hombres","Mujeres","Hombres","Mujeres","Hombres","Mujeres","Hombres","Mujeres","Hombres","Mujeres","Hombres","Mujeres","Hombres","Mujeres","Hombres","Mujeres","Hombres","Mujeres","Hombres","Mujeres","Hombres","Mujeres","Hombres","Mujeres"]
["Control de las personas con Chagas crónico en Atencion Primaria de Salud",{"$f":"SUM(C296:D296)","v":0},{"$f":"+E296+G296+I296+K296+M296+O296+Q296+S296+U296+W296+Y296+AA296+AC296+AE296+AG296+AI296","v":0},0]
["Estudio de  contactos familiares de un caso por Infección por T cruzi",{"$f":"SUM(C297:D297)","v":0},0,0,null,null,null,null,null,null,null,null,null,null,null,null,null,null,null,null,null,null,null,null,null,null,null,null,null,null,null,null,null,null,null,null,null,null,{"$f":"$CA297&$CB297&$CC297&$CD297&$CE297&$CF297&$CG297&$CH297&$CI297&$CJ297&$CK297&$CL297&$CM297&$CN297&$CO297&$CP297&$CQ297&$CR297&$CS297&$CT297&$CU297&$CV297&$CW297&$CX297&$CY297&$CZ297","v":""},null,null,null,null,null,null,null,null,null,null,null,null,null,null,null,null,null,null,null,null,null,null,null,null,null,null,null,null,null,null,null,null,null,null,null,null,null,null,null,{"$f":"IF(AND($B297<>0,AK297=\"\"),\"* No olvide ingresar la columna Pueblos Originarios (Digite CERO si no tiene). \",IF(AK297>$B297,\"* El Número de personas en seguimiento pertenecientes a Pueblos Originarios no puede superar el Total. \",\"\"))","v":""},{"$f":"IF(AND($B297<>0,AL297=\"\"),\"* No olvide ingresar la columna Migrantes (Digite CERO si no tiene). \",IF(AL297>$B297,\"* El Número de personas en seguimiento pertenecientes a Población Migrante no puede superar el Total. \",\"\"))","v":""},null,null,null,null,null,null,null,null,null,null,null,null,null,null,null,null,null,null,null,null,null,null,null,null,{"$f":"IF(AND($B297<>0,AK297=\"\"),1,IF(AK297>$B297,1,0))","v":0},{"$f":"IF(AND($B297<>0,AL297=\"\"),1,IF(AL297>$B297,1,0))","v":0}]
["Casos contactos familiares confirmados por Infección por T cruzi",{"$f":"SUM(C298:D298)","v":0},0,0,null,null,null,null,null,null,null,null,null,null,null,null,null,null,null,null,null,null,null,null,null,null,null,null,null,null,null,null,null,null,null,null,null,null,{"$f":"$CA298&$CB298&$CC298&$CD298&$CE298&$CF298&$CG298&$CH298&$CI298&$CJ298&$CK298&$CL298&$CM298&$CN298&$CO298&$CP298&$CQ298&$CR298&$CS298&$CT298&$CU298&$CV298&$CW298&$CX298&$CY298&$CZ298","v":""},null,null,null,null,null,null,null,null,null,null,null,null,null,null,null,null,null,null,null,null,null,null,null,null,null,null,null,null,null,null,null,null,null,null,null,null,null,null,null,{"$f":"IF(AND($B298<>0,AK298=\"\"),\"* No olvide ingresar la columna Pueblos Originarios (Digite CERO si no tiene). \",IF(AK298>$B298,\"* El Número de personas en seguimiento pertenecientes a Pueblos Originarios no puede superar el Total. \",\"\"))","v":""},{"$f":"IF(AND($B298<>0,AL298=\"\"),\"* No olvide ingresar la columna Migrantes (Digite CERO si no tiene). \",IF(AL298>$B298,\"* El Número de personas en seguimiento pertenecientes a Población Migrante no puede superar el Total. \",\"\"))","v":""},null,null,null,null,null,null,null,null,null,null,null,null,null,null,null,null,null,null,null,null,null,null,null,null,{"$f":"IF(AND($B298<>0,AK298=\"\"),1,IF(AK298>$B298,1,0))","v":0},{"$f":"IF(AND($B298<>0,AL298=\"\"),1,IF(AL298>$B298,1,0))","v":0}]
[]
[]
[]
[]
[]
[]
[]
[]
[]
[{"$f":"SUM(B296:B298,B290:B291,B280:B285,B270:B274,B262:B266,C236:D258,B225:C231,B214:C220,C187:D209,C160:D182,C151:P155,C143:P147,B122:C139,B100:C117,B78:C95,B56:C73,B34:C51,B12:C29)","v":0},{"$f":"SUM(DA12:DZ298)","v":0}]

{"sheet":"A11a","index":11,"n_rows":101,"n_cols":86,"rows_kept":101,"cut":false,"hidden":false,"merged":[[47,0,47,7],[37,11,38,11],[37,12,38,12],[23,0,23,6],[24,0,25,0],[24,1,25,1],[24,2,24,10],[24,11,25,11],[60,12,61,12],[7,0,7,2],[36,0,36,8],[5,2,5,10],[74,0,75,0],[74,1,75,1],[74,2,74,10],[60,1,61,1],[60,2,60,10],[53,0,53,6],[53,7,53,10],[59,0,59,6],[59,7,59,10],[32,0,32,6],[37,1,38,1],[37,2,37,10],[60,0,61,0],[92,0,92,3],[24,12,25,12],[8,0,9,0],[8,1,9,1],[8,2,8,10],[8,11,9,11],[8,12,9,12],[73,0,73,6],[88,0,88,12],[19,7,19,10],[19,0,19,4],[37,0,38,0],[74,11,75,11],[74,12,75,12],[60,11,61,11]]}
["SERVICIO DE SALUD"]
[{"$f":"CONCATENATE(\"COMUNA: \",NOMBRE!B2,\" - \",\"( \",NOMBRE!C2,NOMBRE!D2,NOMBRE!E2,NOMBRE!F2,NOMBRE!G2,\" )\")","v":"COMUNA:  - (  )"}]
[{"$f":"CONCATENATE(\"ESTABLECIMIENTO/ESTRATEGIA: \",NOMBRE!B3,\" - \",\"( \",NOMBRE!C3,NOMBRE!D3,NOMBRE!E3,NOMBRE!F3,NOMBRE!G3,NOMBRE!H3,\" )\")","v":"ESTABLECIMIENTO/ESTRATEGIA:  - (  )"}]
[{"$f":"CONCATENATE(\"MES: \",NOMBRE!B6,\" - \",\"( \",NOMBRE!C6,NOMBRE!D6,\" )\")","v":"MES:  - (  )"}]
[{"$f":"CONCATENATE(\"AÑO: \",NOMBRE!B7)","v":"AÑO: 2023"}]
[null,null,"REM-A11a.  TRANSMISIÓN VERTICAL MATERNO INFANTIL"]
[]
["SECCION A: TRATAMIENTO DE SIFILIS EN GESTANTES"]
[null,"Total","GRUPO DE EDAD (En años)",null,null,null,null,null,null,null,null,"Pueblos Originarios","Migrantes"]
[null,null,"10 a 14 años","15 a 19 años","20 a 24 años","25 a 29 años","30 a 34 años","35 a 39 años","40 a 44 años","45 a 49 años","50 a 54 años"]
["TRATAMIENTO DE SIFILIS EN GESTANTES EN ATENCIÓN PRIMARIA"]
["Gestantes con 1° test no treponémico reactivo en este embarazo con  penicilina administrada en Atención Primaria",{"$f":"SUM(C12:K12)","v":0},null,null,null,null,null,null,null,null,null,null,null,{"$f":"CONCATENATE($CA12,$CB12)","v":""},null,null,null,null,null,null,null,null,null,null,null,null,null,null,null,null,null,null,null,null,null,null,null,null,null,null,null,null,null,null,null,null,null,null,null,null,null,null,null,null,null,null,null,null,null,null,null,null,null,null,null,null,null,null,null,null,null,null,null,null,null,null,null,null,{"$f":"IF(AND($B12<>0,L12=\"\"),\"* No olvide ingresar la columna Pueblos Originarios (Digite CERO si no tiene). \",IF(L12>$B12,\"* El Número de personas en tratamiento pertenecientes a Pueblos Originarios no puede superar el Total. \",\"\"))","v":""},{"$f":"IF(AND($B12<>0,M12=\"\"),\"* No olvide ingresar la columna Migrantes (Digite CERO si no tiene). \",IF(M12>$B12,\"* El Número de personas en tratamiento pertenecientes a Población Migrante no puede superar el Total. \",\"\"))","v":""},null,null,null,null,{"$f":"IF(AND($B12<>0,L12=\"\"),1,IF(L12>$B12,1,0))","v":0},0]
["Gestantes con 1° test no treponémico reactivo ",{"$f":"SUM(C13:K13)","v":0},null,null,null,null,null,null,null,null,null,null,null,{"$f":"CONCATENATE($CA13,$CB13)","v":""},null,null,null,null,null,null,null,null,null,null,null,null,null,null,null,null,null,null,null,null,null,null,null,null,null,null,null,null,null,null,null,null,null,null,null,null,null,null,null,null,null,null,null,null,null,null,null,null,null,null,null,null,null,null,null,null,null,null,null,null,null,null,null,null,{"$f":"IF(AND($B13<>0,L13=\"\"),\"* No olvide ingresar la columna Pueblos Originarios (Digite CERO si no tiene). \",IF(L13>$B13,\"* El Número de personas en tratamiento pertenecientes a Pueblos Originarios no puede superar el Total. \",\"\"))","v":""},{"$f":"IF(AND($B13<>0,M13=\"\"),\"* No olvide ingresar la columna Migrantes (Digite CERO si no tiene). \",IF(M13>$B13,\"* El Número de personas en tratamiento pertenecientes a Población Migrante no puede superar el Total. \",\"\"))","v":""},null,null,null,null,0,0]
["TRATAMIENTO DE  SIFILIS EN GESTANTES EN ESPECIALIDADES",null,null,null,null,null,null,null,null,null,null,null,null,null,null,null,null,null,null,null,null,null,null,null,null,null,null,null,null,null,null,null,null,null,null,null,null,null,null,null,null,null,null,null,null,null,null,null,null,null,null,null,null,null,null,null,null,null,null,null,null,null,null,null,null,null,null,null,null,null,null,null,null,null,null,null,null,null,"","",null,null,null,null,0,0]
["Gestantes con 1° test no treponémico reactivo en este embarazo  con penicilina administrada en especialidades",{"$f":"SUM(C15:K15)","v":0},null,null,null,null,null,null,null,null,null,null,null,"",null,null,null,null,null,null,null,null,null,null,null,null,null,null,null,null,null,null,null,null,null,null,null,null,null,null,null,null,null,null,null,null,null,null,null,null,null,null,null,null,null,null,null,null,null,null,null,null,null,null,null,null,null,null,null,null,null,null,null,null,null,null,null,null,"","",null,null,null,null,0,0]
["Gestantes con 1° test no treponémico reactivo en este embarazo",{"$f":"SUM(C16:K16)","v":0},null,null,null,null,null,null,null,null,null,null,null,"",null,null,null,null,null,null,null,null,null,null,null,null,null,null,null,null,null,null,null,null,null,null,null,null,null,null,null,null,null,null,null,null,null,null,null,null,null,null,null,null,null,null,null,null,null,null,null,null,null,null,null,null,null,null,null,null,null,null,null,null,null,null,null,null,"","",null,null,null,null,0,0]
["TRATAMIENTO SIFILIS EN GESTANTES AL MOMENTO DEL PARTO",null,null,null,null,null,null,null,null,null,null,null,null,null,null,null,null,null,null,null,null,null,null,null,null,null,null,null,null,null,null,null,null,null,null,null,null,null,null,null,null,null,null,null,null,null,null,null,null,null,null,null,null,null,null,null,null,null,null,null,null,null,null,null,null,null,null,null,null,null,null,null,null,null,null,null,null,null,"","",null,null,null,null,0,0]
["Gestantes con 1° test no treponemico reactivo en este embarazo con  penicilina administrada al parto",{"$f":"SUM(C18:K18)","v":0},null,null,null,null,null,null,null,null,null,null,null,"",null,null,null,null,null,null,null,null,null,null,null,null,null,null,null,null,null,null,null,null,null,null,null,null,null,null,null,null,null,null,null,null,null,null,null,null,null,null,null,null,null,null,null,null,null,null,null,null,null,null,null,null,null,null,null,null,null,null,null,null,null,null,null,null,"","",null,null,null,null,0,0]
["Gestantes con 1° test no treponémico reactivo en este embarazo",{"$f":"SUM(C19:K19)","v":0},null,null,null,null,null,null,null,null,null,null,null,"",null,null,null,null,null,null,null,null,null,null,null,null,null,null,null,null,null,null,null,null,null,null,null,null,null,null,null,null,null,null,null,null,null,null,null,null,null,null,null,null,null,null,null,null,null,null,null,null,null,null,null,null,null,null,null,null,null,null,null,null,null,null,null,null,"","",null,null,null,null,0,0]
["SECCIÓN B: NIÑOS Y NIÑAS EXPUESTOS A LA SIFILIS TRATADOS AL NACER"]
[null,"Total","Pueblos Originarios","Migrantes"]
["Recién nacidos/as expuestos a sífilis (hijos de mujer con serología reactiva para sífilis al parto no tratada o inadecuadamente tratada), que reciben tratamiento para sífilis congénita al nacer",null,null,null,{"$f":"CONCATENATE($CA22,$CB22)","v":""},null,null,null,null,null,null,null,null,null,null,null,null,null,null,null,null,null,null,null,null,null,null,null,null,null,null,null,null,null,null,null,null,null,null,null,null,null,null,null,null,null,null,null,null,null,null,null,null,null,null,null,null,null,null,null,null,null,null,null,null,null,null,null,null,null,null,null,null,null,null,null,null,null,{"$f":"IF(AND($B22<>0,C22=\"\"),\"* No olvide ingresar la columna Pueblos Originarios (Digite CERO si no tiene). \",IF(C22>$B22,\"* El Número de recién nacidos pertenecientes a Pueblos Originarios no puede superar el Total. \",\"\"))","v":""},{"$f":"IF(AND($B22<>0,D22=\"\"),\"* No olvide ingresar la columna Migrantes (Digite CERO si no tiene). \",IF(D22>$B22,\"* El Número de recién nacidos en tratamiento pertenecientes a Población Migrante no puede superar el Total. \",\"\"))","v":""},null,null,null,null,{"$f":"IF(AND($B22<>0,C22=\"\"),1,IF(C22>$B22,1,0))","v":0},{"$f":"IF(AND($B22<>0,D22=\"\"),1,IF(D22>$B22,1,0))","v":0}]
["Recién nacidos/as expuestos a sífilis (hijos de mujer con serología reactiva para sífilis al parto  no tratada o inadecuadamente tratada)",null,null,null,{"$f":"CONCATENATE($CA23,$CB23)","v":""},null,null,null,null,null,null,null,null,null,null,null,null,null,null,null,null,null,null,null,null,null,null,null,null,null,null,null,null,null,null,null,null,null,null,null,null,null,null,null,null,null,null,null,null,null,null,null,null,null,null,null,null,null,null,null,null,null,null,null,null,null,null,null,null,null,null,null,null,null,null,null,null,null,{"$f":"IF(AND($B23<>0,C23=\"\"),\"* No olvide ingresar la columna Pueblos Originarios (Digite CERO si no tiene). \",IF(C23>$B23,\"* El Número de recién nacidos pertenecientes a Pueblos Originarios no puede superar el Total. \",\"\"))","v":""},{"$f":"IF(AND($B23<>0,D23=\"\"),\"* No olvide ingresar la columna Migrantes (Digite CERO si no tiene). \",IF(D23>$B23,\"* El Número de recién nacidos en tratamiento pertenecientes a Población Migrante no puede superar el Total. \",\"\"))","v":""},null,null,null,null,{"$f":"IF(AND($B23<>0,C23=\"\"),1,IF(C23>$B23,1,0))","v":0},{"$f":"IF(AND($B23<>0,D23=\"\"),1,IF(D23>$B23,1,0))","v":0}]
["SECCIÓN C: ABORTOS Y DEFUNCIONES FETALES ATRIBUIDAS A SIFILIS SEGÚN EDAD GESTACIONAL"]
[null,"Total","GRUPO DE EDAD (En años)",null,null,null,null,null,null,null,null,"Pueblos Originarios","Migrantes"]
[null,null,"10 a 14 años","15 a 19 años","20 a 24 años","25 a 29 años","30 a 34 años","35 a 39 años","40 a 44 años","45 a 49 años","50 a 54 años"]
["Mujeres con serología reactiva para sífilis con aborto menor o igual a 19+6 semanas o menor a 500 grs ",{"$f":"SUM(C27:K27)","v":0},null,null,null,null,null,null,null,null,null,null,null,{"$f":"CONCATENATE($CA27,$CB27)","v":""},null,null,null,null,null,null,null,null,null,null,null,null,null,null,null,null,null,null,null,null,null,null,null,null,null,null,null,null,null,null,null,null,null,null,null,null,null,null,null,null,null,null,null,null,null,null,null,null,null,null,null,null,null,null,null,null,null,null,null,null,null,null,null,null,{"$f":"IF(AND($B27<>0,L27=\"\"),\"* No olvide ingresar la columna Pueblos Originarios (Digite CERO si no tiene). \",IF(L27>$B27,\"* El Número de mujeres pertenecientes a Pueblos Originarios no puede superar el Total. \",\"\"))","v":""},{"$f":"IF(AND($B27<>0,M27=\"\"),\"* No olvide ingresar la columna Migrantes (Digite CERO si no tiene). \",IF(M27>$B27,\"* El Número de mujeres pertenecientes a Población Migrante no puede superar el Total. \",\"\"))","v":""},null,null,null,null,{"$f":"IF(AND($B27<>0,L27=\"\"),1,IF(L27>$B27,1,0))","v":0},0]
["Mujeres con aborto menor o igual a 19+6 semanas o menor a 500 grs ",0,null,null,null,null,null,null,null,null,null,null,null,"",null,null,null,null,null,null,null,null,null,null,null,null,null,null,null,null,null,null,null,null,null,null,null,null,null,null,null,null,null,null,null,null,null,null,null,null,null,null,null,null,null,null,null,null,null,null,null,null,null,null,null,null,null,null,null,null,null,null,null,null,null,null,null,null,"","",null,null,null,null,0,0]
["Mujeres con serología reactiva para sífilis con aborto entre las 20 y las 21+6 semanas o mayor a 500 grs ",0,null,null,null,null,null,null,null,null,null,null,null,"",null,null,null,null,null,null,null,null,null,null,null,null,null,null,null,null,null,null,null,null,null,null,null,null,null,null,null,null,null,null,null,null,null,null,null,null,null,null,null,null,null,null,null,null,null,null,null,null,null,null,null,null,null,null,null,null,null,null,null,null,null,null,null,null,"","",null,null,null,null,0,0]
["Mujeres con aborto entre las 20 y las 21+6 semanas o mayor a 500 grs ",0,null,null,null,null,null,null,null,null,null,null,null,"",null,null,null,null,null,null,null,null,null,null,null,null,null,null,null,null,null,null,null,null,null,null,null,null,null,null,null,null,null,null,null,null,null,null,null,null,null,null,null,null,null,null,null,null,null,null,null,null,null,null,null,null,null,null,null,null,null,null,null,null,null,null,null,null,"","",null,null,null,null,0,0]
["Mujeres con serología reactiva para sífilis con mortinato mayor o igual a 22 semanas ",0,null,null,null,null,null,null,null,null,null,null,null,"",null,null,null,null,null,null,null,null,null,null,null,null,null,null,null,null,null,null,null,null,null,null,null,null,null,null,null,null,null,null,null,null,null,null,null,null,null,null,null,null,null,null,null,null,null,null,null,null,null,null,null,null,null,null,null,null,null,null,null,null,null,null,null,null,"","",null,null,null,null,0,0]
["Mujeres con mortinato mayor o igual a 22 semanas ",0,null,null,null,null,null,null,null,null,null,null,null,"",null,null,null,null,null,null,null,null,null,null,null,null,null,null,null,null,null,null,null,null,null,null,null,null,null,null,null,null,null,null,null,null,null,null,null,null,null,null,null,null,null,null,null,null,null,null,null,null,null,null,null,null,null,null,null,null,null,null,null,null,null,null,null,null,"","",null,null,null,null,0,0]
["SECCION D: APLICACIÓN DE PROFILAXIS OCULAR PARA GONORREA EN RECIEN NACIDOS"]
[null,"Total","Pueblos Originarios","Migrantes"]
["Recién Nacidos  vivos que reciben profilaxis ocular para gonorrea al nacer",null,null,null,{"$f":"CONCATENATE($CA35,$CB35)","v":""},null,null,null,null,null,null,null,null,null,null,null,null,null,null,null,null,null,null,null,null,null,null,null,null,null,null,null,null,null,null,null,null,null,null,null,null,null,null,null,null,null,null,null,null,null,null,null,null,null,null,null,null,null,null,null,null,null,null,null,null,null,null,null,null,null,null,null,null,null,null,null,null,null,{"$f":"IF(AND($B35<>0,C35=\"\"),\"* No olvide ingresar la columna Pueblos Originarios (Digite CERO si no tiene). \",IF(C35>$B35,\"* El Número de recién nacidos pertenecientes a Pueblos Originarios no puede superar el Total. \",\"\"))","v":""},{"$f":"IF(AND($B35<>0,D35=\"\"),\"* No olvide ingresar la columna Migrantes (Digite CERO si no tiene). \",IF(D35>$B35,\"* El Número de recién nacidos en tratamiento pertenecientes a Población Migrante no puede superar el Total. \",\"\"))","v":""},null,null,null,null,{"$f":"IF(AND($B35<>0,C35=\"\"),1,IF(C35>$B35,1,0))","v":0},{"$f":"IF(AND($B35<>0,D35=\"\"),1,IF(D35>$B35,1,0))","v":0}]
["Recién nacidos vivos ",null,null,null,{"$f":"CONCATENATE($CA36,$CB36)","v":""},null,null,null,null,null,null,null,null,null,null,null,null,null,null,null,null,null,null,null,null,null,null,null,null,null,null,null,null,null,null,null,null,null,null,null,null,null,null,null,null,null,null,null,null,null,null,null,null,null,null,null,null,null,null,null,null,null,null,null,null,null,null,null,null,null,null,null,null,null,null,null,null,null,{"$f":"IF(AND($B36<>0,C36=\"\"),\"* No olvide ingresar la columna Pueblos Originarios (Digite CERO si no tiene). \",IF(C36>$B36,\"* El Número de recién nacidos pertenecientes a Pueblos Originarios no puede superar el Total. \",\"\"))","v":""},{"$f":"IF(AND($B36<>0,D36=\"\"),\"* No olvide ingresar la columna Migrantes (Digite CERO si no tiene). \",IF(D36>$B36,\"* El Número de recién nacidos en tratamiento pertenecientes a Población Migrante no puede superar el Total. \",\"\"))","v":""},null,null,null,null,{"$f":"IF(AND($B36<>0,C36=\"\"),1,IF(C36>$B36,1,0))","v":0},{"$f":"IF(AND($B36<>0,D36=\"\"),1,IF(D36>$B36,1,0))","v":0}]
["SECCIÓN E: MUJERES VIH QUE RECIBE PROTOCOLO PREVENCIÓN TRANSMISIÓN VERTICAL  AL PARTO (PTV)"]
[null,"Total","GRUPO DE EDAD (En años)",null,null,null,null,null,null,null,null,"Pueblos Originarios","Migrantes"]
[null,null,"10 a 14 años","15 a 19 años","20 a 24 años","25 a 29 años","30 a 34 años","35 a 39 años","40 a 44 años","45 a 49 años","50 a 54 años"]
["Mujeres VIH (+) confirmada  por ISP que recibieron protocolo PTV completo al parto",{"$f":"SUM(C40:K40)","v":0},null,null,null,null,null,null,null,null,null,null,null,{"$f":"CONCATENATE($CA40,$CB40)","v":""},null,null,null,null,null,null,null,null,null,null,null,null,null,null,null,null,null,null,null,null,null,null,null,null,null,null,null,null,null,null,null,null,null,null,null,null,null,null,null,null,null,null,null,null,null,null,null,null,null,null,null,null,null,null,null,null,null,null,null,null,null,null,null,null,{"$f":"IF(AND($B40<>0,L40=\"\"),\"* No olvide ingresar la columna Pueblos Originarios (Digite CERO si no tiene). \",IF(L40>$B40,\"* El Número de mujeres pertenecientes a Pueblos Originarios no puede superar el Total. \",\"\"))","v":""},{"$f":"IF(AND($B40<>0,M40=\"\"),\"* No olvide ingresar la columna Migrantes (Digite CERO si no tiene). \",IF(M40>$B40,\"* El Número de mujeres pertenecientes a Población Migrante no puede superar el Total. \",\"\"))","v":""},null,null,null,null,{"$f":"IF(AND($B40<>0,L40=\"\"),1,IF(L40>$B40,1,0))","v":0},{"$f":"IF(AND($B40<>0,M40=\"\"),1,IF(M40>$B40,1,0))","v":0}]
["Mujeres VIH (+) confirmada  por ISP que recibieron protocolo PTV incompleto al parto",{"$f":"SUM(C41:K41)","v":0},null,null,null,null,null,null,null,null,null,null,null,"",null,null,null,null,null,null,null,null,null,null,null,null,null,null,null,null,null,null,null,null,null,null,null,null,null,null,null,null,null,null,null,null,null,null,null,null,null,null,null,null,null,null,null,null,null,null,null,null,null,null,null,null,null,null,null,null,null,null,null,null,null,null,null,null,{"$f":"IF(AND($B41<>0,L41=\"\"),\"* No olvide ingresar la columna Pueblos Originarios (Digite CERO si no tiene). \",IF(L41>$B41,\"* El Número de mujeres pertenecientes a Pueblos Originarios no puede superar el Total. \",\"\"))","v":""},{"$f":"IF(AND($B41<>0,M41=\"\"),\"* No olvide ingresar la columna Migrantes (Digite CERO si no tiene). \",IF(M41>$B41,\"* El Número de mujeres pertenecientes a Población Migrante no puede superar el Total. \",\"\"))","v":""},null,null,null,null,{"$f":"IF(AND($B41<>0,L41=\"\"),1,IF(L41>$B41,1,0))","v":0},{"$f":"IF(AND($B41<>0,M41=\"\"),1,IF(M41>$B41,1,0))","v":0}]
["Mujeres VIH (+) confirmada  por ISP que no recibieron protocolo PTV al parto",0,null,null,null,null,null,null,null,null,null,null,null,"",null,null,null,null,null,null,null,null,null,null,null,null,null,null,null,null,null,null,null,null,null,null,null,null,null,null,null,null,null,null,null,null,null,null,null,null,null,null,null,null,null,null,null,null,null,null,null,null,null,null,null,null,null,null,null,null,null,null,null,null,null,null,null,null,"","",null,null,null,null,0,0]
["Mujeres VIH (+) confirmada por ISP atendidas por parto ",0,null,null,null,null,null,null,null,null,null,null,null,"",null,null,null,null,null,null,null,null,null,null,null,null,null,null,null,null,null,null,null,null,null,null,null,null,null,null,null,null,null,null,null,null,null,null,null,null,null,null,null,null,null,null,null,null,null,null,null,null,null,null,null,null,null,null,null,null,null,null,null,null,null,null,null,null,"","",null,null,null,null,0,0]
["Mujeres con serología VIH (+) no confirmada por ISP que recibieron protocolo PTV completo al parto",0,null,null,null,null,null,null,null,null,null,null,null,"",null,null,null,null,null,null,null,null,null,null,null,null,null,null,null,null,null,null,null,null,null,null,null,null,null,null,null,null,null,null,null,null,null,null,null,null,null,null,null,null,null,null,null,null,null,null,null,null,null,null,null,null,null,null,null,null,null,null,null,null,null,null,null,null,"","",null,null,null,null,0,0]
["Mujeres con serología VIH (+) no confirmada  por ISP que recibieron protocolo PTV incompleto al parto",0,null,null,null,null,null,null,null,null,null,null,null,"",null,null,null,null,null,null,null,null,null,null,null,null,null,null,null,null,null,null,null,null,null,null,null,null,null,null,null,null,null,null,null,null,null,null,null,null,null,null,null,null,null,null,null,null,null,null,null,null,null,null,null,null,null,null,null,null,null,null,null,null,null,null,null,null,"","",null,null,null,null,0,0]
["Mujeres con serología VIH (+) no confirmada  por ISP que No recibieron protocolo PTV al parto",{"$f":"SUM(C46:K46)","v":0},null,null,null,null,null,null,null,null,null,null,null,"",null,null,null,null,null,null,null,null,null,null,null,null,null,null,null,null,null,null,null,null,null,null,null,null,null,null,null,null,null,null,null,null,null,null,null,null,null,null,null,null,null,null,null,null,null,null,null,null,null,null,null,null,null,null,null,null,null,null,null,null,null,null,null,null,"","",null,null,null,null,0,0]
["Mujeres con serología VIH (+) no confirmada por ISP atendidas por parto  ",0,null,null,null,null,null,null,null,null,null,null,null,"",null,null,null,null,null,null,null,null,null,null,null,null,null,null,null,null,null,null,null,null,null,null,null,null,null,null,null,null,null,null,null,null,null,null,null,null,null,null,null,null,null,null,null,null,null,null,null,null,null,null,null,null,null,null,null,null,null,null,null,null,null,null,null,null,"","",null,null,null,null,0,0]
["SECCIÓN F: RECIEN NACIDOS EXPUESTOS AL VIH QUE RECIBE PROTOCOLO DE TRANSMISION VERTICAL"]
[null,"Total","Pueblos Originarios","Migrantes"]
["Recién nacidos vivos hijos de mujer VIH (+) confirmada por ISP que iniciaron profilaxis para VIH durante las primeras 12 hrs de vida ",null,null,null,{"$f":"CONCATENATE($CA50,$CB50)","v":""},null,null,null,null,null,null,null,null,null,null,null,null,null,null,null,null,null,null,null,null,null,null,null,null,null,null,null,null,null,null,null,null,null,null,null,null,null,null,null,null,null,null,null,null,null,null,null,null,null,null,null,null,null,null,null,null,null,null,null,null,null,null,null,null,null,null,null,null,null,null,null,null,null,{"$f":"IF(AND($B50<>0,C50=\"\"),\"* No olvide ingresar la columna Pueblos Originarios (Digite CERO si no tiene). \",IF(C50>$B50,\"* El Número de recién nacidos pertenecientes a Pueblos Originarios no puede superar el Total. \",\"\"))","v":""},{"$f":"IF(AND($B50<>0,D50=\"\"),\"* No olvide ingresar la columna Migrantes (Digite CERO si no tiene). \",IF(D50>$B50,\"* El Número de recién nacidos en tratamiento pertenecientes a Población Migrante no puede superar el Total. \",\"\"))","v":""},null,null,null,null,{"$f":"IF(AND($B50<>0,C50=\"\"),1,IF(C50>$B50,1,0))","v":0},0]
["Recién nacidos vivos hijos de mujer VIH (+) confirmada por ISP",null,null,null,{"$f":"CONCATENATE($CA51,$CB51)","v":""},null,null,null,null,null,null,null,null,null,null,null,null,null,null,null,null,null,null,null,null,null,null,null,null,null,null,null,null,null,null,null,null,null,null,null,null,null,null,null,null,null,null,null,null,null,null,null,null,null,null,null,null,null,null,null,null,null,null,null,null,null,null,null,null,null,null,null,null,null,null,null,null,null,{"$f":"IF(AND($B51<>0,C51=\"\"),\"* No olvide ingresar la columna Pueblos Originarios (Digite CERO si no tiene). \",IF(C51>$B51,\"* El Número de recién nacidos pertenecientes a Pueblos Originarios no puede superar el Total. \",\"\"))","v":""},{"$f":"IF(AND($B51<>0,D51=\"\"),\"* No olvide ingresar la columna Migrantes (Digite CERO si no tiene). \",IF(D51>$B51,\"* El Número de recién nacidos en tratamiento pertenecientes a Población Migrante no puede superar el Total. \",\"\"))","v":""},null,null,null,null,0,0]
["Recién nacidos vivos hijos de mujer con serología VIH (+) no confirmada por ISP que iniciaron profilaxis para VIH durante las primeras 12 hrs de vida ",null,null,null,{"$f":"CONCATENATE($CA52,$CB52)","v":""},null,null,null,null,null,null,null,null,null,null,null,null,null,null,null,null,null,null,null,null,null,null,null,null,null,null,null,null,null,null,null,null,null,null,null,null,null,null,null,null,null,null,null,null,null,null,null,null,null,null,null,null,null,null,null,null,null,null,null,null,null,null,null,null,null,null,null,null,null,null,null,null,null,{"$f":"IF(AND($B52<>0,C52=\"\"),\"* No olvide ingresar la columna Pueblos Originarios (Digite CERO si no tiene). \",IF(C52>$B52,\"* El Número de recién nacidos pertenecientes a Pueblos Originarios no puede superar el Total. \",\"\"))","v":""},{"$f":"IF(AND($B52<>0,D52=\"\"),\"* No olvide ingresar la columna Migrantes (Digite CERO si no tiene). \",IF(D52>$B52,\"* El Número de recién nacidos en tratamiento pertenecientes a Población Migrante no puede superar el Total. \",\"\"))","v":""},null,null,null,null,0,0]
["Recién nacidos vivos hijos de mujer con serología VIH (+) no confirmada por ISP",null,null,null,{"$f":"CONCATENATE($CA53,$CB53)","v":""},null,null,null,null,null,null,null,null,null,null,null,null,null,null,null,null,null,null,null,null,null,null,null,null,null,null,null,null,null,null,null,null,null,null,null,null,null,null,null,null,null,null,null,null,null,null,null,null,null,null,null,null,null,null,null,null,null,null,null,null,null,null,null,null,null,null,null,null,null,null,null,null,null,{"$f":"IF(AND($B53<>0,C53=\"\"),\"* No olvide ingresar la columna Pueblos Originarios (Digite CERO si no tiene). \",IF(C53>$B53,\"* El Número de recién nacidos pertenecientes a Pueblos Originarios no puede superar el Total. \",\"\"))","v":""},{"$f":"IF(AND($B53<>0,D53=\"\"),\"* No olvide ingresar la columna Migrantes (Digite CERO si no tiene). \",IF(D53>$B53,\"* El Número de recién nacidos en tratamiento pertenecientes a Población Migrante no puede superar el Total. \",\"\"))","v":""},null,null,null,null,0,0]
["SECCÓN G: RECIEN NACIDOS EXPUESTOS AL VIH QUE RECIBEN LECHE MATERNIZADA AL ALTA"]
[null,"Total","Pueblos Originarios","Migrantes"]
["Recién nacidos vivos hijos de mujer VIH (+) confirmada por ISP que recibieron leche maternizada al alta (para ser consumida en su casa)",null,null,null,{"$f":"CONCATENATE($CA56,$CB56)","v":""},null,null,null,null,null,null,null,null,null,null,null,null,null,null,null,null,null,null,null,null,null,null,null,null,null,null,null,null,null,null,null,null,null,null,null,null,null,null,null,null,null,null,null,null,null,null,null,null,null,null,null,null,null,null,null,null,null,null,null,null,null,null,null,null,null,null,null,null,null,null,null,null,null,{"$f":"IF(AND($B56<>0,C56=\"\"),\"* No olvide ingresar la columna Pueblos Originarios (Digite CERO si no tiene). \",IF(C56>$B56,\"* El Número de recién nacidos pertenecientes a Pueblos Originarios no puede superar el Total. \",\"\"))","v":""},{"$f":"IF(AND($B56<>0,D56=\"\"),\"* No olvide ingresar la columna Migrantes (Digite CERO si no tiene). \",IF(D56>$B56,\"* El Número de recién nacidos en tratamiento pertenecientes a Población Migrante no puede superar el Total. \",\"\"))","v":""},null,null,null,null,{"$f":"IF(AND($B56<>0,C56=\"\"),1,IF(C56>$B56,1,0))","v":0},0]
["Recién nacidos vivos hijos de mujer VIH (+) confirmada por ISP",null,null,null,{"$f":"CONCATENATE($CA57,$CB57)","v":""},null,null,null,null,null,null,null,null,null,null,null,null,null,null,null,null,null,null,null,null,null,null,null,null,null,null,null,null,null,null,null,null,null,null,null,null,null,null,null,null,null,null,null,null,null,null,null,null,null,null,null,null,null,null,null,null,null,null,null,null,null,null,null,null,null,null,null,null,null,null,null,null,null,{"$f":"IF(AND($B57<>0,C57=\"\"),\"* No olvide ingresar la columna Pueblos Originarios (Digite CERO si no tiene). \",IF(C57>$B57,\"* El Número de recién nacidos pertenecientes a Pueblos Originarios no puede superar el Total. \",\"\"))","v":""},{"$f":"IF(AND($B57<>0,D57=\"\"),\"* No olvide ingresar la columna Migrantes (Digite CERO si no tiene). \",IF(D57>$B57,\"* El Número de recién nacidos en tratamiento pertenecientes a Población Migrante no puede superar el Total. \",\"\"))","v":""},null,null,null,null,0,0]
["Recien nacidos vivos hijos de mujer con serología VIH (+) no confirmada por el ISP  que recibieron leche maternizada al alta (para ser consumida en su casa)",null,null,null,{"$f":"CONCATENATE($CA58,$CB58)","v":""},null,null,null,null,null,null,null,null,null,null,null,null,null,null,null,null,null,null,null,null,null,null,null,null,null,null,null,null,null,null,null,null,null,null,null,null,null,null,null,null,null,null,null,null,null,null,null,null,null,null,null,null,null,null,null,null,null,null,null,null,null,null,null,null,null,null,null,null,null,null,null,null,null,{"$f":"IF(AND($B58<>0,C58=\"\"),\"* No olvide ingresar la columna Pueblos Originarios (Digite CERO si no tiene). \",IF(C58>$B58,\"* El Número de recién nacidos pertenecientes a Pueblos Originarios no puede superar el Total. \",\"\"))","v":""},{"$f":"IF(AND($B58<>0,D58=\"\"),\"* No olvide ingresar la columna Migrantes (Digite CERO si no tiene). \",IF(D58>$B58,\"* El Número de recién nacidos en tratamiento pertenecientes a Población Migrante no puede superar el Total. \",\"\"))","v":""},null,null,null,null,0,0]
["Recien nacidos vivos hijos de mujer con serología VIH (+) no confirmada por el ISP",null,null,null,{"$f":"CONCATENATE($CA59,$CB59)","v":""},null,null,null,null,null,null,null,null,null,null,null,null,null,null,null,null,null,null,null,null,null,null,null,null,null,null,null,null,null,null,null,null,null,null,null,null,null,null,null,null,null,null,null,null,null,null,null,null,null,null,null,null,null,null,null,null,null,null,null,null,null,null,null,null,null,null,null,null,null,null,null,null,null,{"$f":"IF(AND($B59<>0,C59=\"\"),\"* No olvide ingresar la columna Pueblos Originarios (Digite CERO si no tiene). \",IF(C59>$B59,\"* El Número de recién nacidos pertenecientes a Pueblos Originarios no puede superar el Total. \",\"\"))","v":""},{"$f":"IF(AND($B59<>0,D59=\"\"),\"* No olvide ingresar la columna Migrantes (Digite CERO si no tiene). \",IF(D59>$B59,\"* El Número de recién nacidos en tratamiento pertenecientes a Población Migrante no puede superar el Total. \",\"\"))","v":""},null,null,null,null,0,0]
["SECCION H: GESTANTES ESTUDIADAS PARA ESTREPTOCOCCUS GRUPO B (EGB) "]
[null,"Total","GRUPO DE EDAD (En años)",null,null,null,null,null,null,null,null,"Pueblos Originarios","Migrantes"]
[null,null,"10 a 14 años","15 a 19 años","20 a 24 años","25 a 29 años","30 a 34 años","35 a 39 años","40 a 44 años","45 a 49 años","50 a 54 años"]
["GESTANTES ESTUDIADAS PARA ESTREPTOCOCCUS GRUPO B (EGB) EN APS",null,null,null,null,null,null,null,null,null,null,null,null,null,null,null,null,null,null,null,null,null,null,null,null,null,null,null,null,null,null,null,null,null,null,null,null,null,null,null,null,null,null,null,null,null,null,null,null,null,null,null,null,null,null,null,null,null,null,null,null,null,null,null,null,null,null,null,null,null,null,null,null,null,null,null,null,null,{"$f":"IF(AND($B63<>0,L63=\"\"),\"* No olvide ingresar la columna Pueblos Originarios (Digite CERO si no tiene). \",IF(L63>$B63,\"* El Número de gestantes pertenecientes a Pueblos Originarios no puede superar el Total. \",\"\"))","v":""},{"$f":"IF(AND($B63<>0,M63=\"\"),\"* No olvide ingresar la columna Migrantes (Digite CERO si no tiene). \",IF(M63>$B63,\"* El Número de gestantes pertenecientes a Población Migrante no puede superar el Total. \",\"\"))","v":""},null,null,null,null,{"$f":"IF(AND($B63<>0,L63=\"\"),1,IF(L63>$B63,1,0))","v":0},{"$f":"IF(AND($B63<>0,M63=\"\"),1,IF(M63>$B63,1,0))","v":0}]
["Gestantes estudiadas para EGB en APS",{"$f":"SUM(C64:K64)","v":0},null,null,null,null,null,null,null,null,null,null,null,{"$f":"CONCATENATE($CA64,$CB64)","v":""},null,null,null,null,null,null,null,null,null,null,null,null,null,null,null,null,null,null,null,null,null,null,null,null,null,null,null,null,null,null,null,null,null,null,null,null,null,null,null,null,null,null,null,null,null,null,null,null,null,null,null,null,null,null,null,null,null,null,null,null,null,null,null,null,{"$f":"IF(AND($B64<>0,L64=\"\"),\"* No olvide ingresar la columna Pueblos Originarios (Digite CERO si no tiene). \",IF(L64>$B64,\"* El Número de gestantes pertenecientes a Pueblos Originarios no puede superar el Total. \",\"\"))","v":""},{"$f":"IF(AND($B64<>0,M64=\"\"),\"* No olvide ingresar la columna Migrantes (Digite CERO si no tiene). \",IF(M64>$B64,\"* El Número de gestantes pertenecientes a Población Migrante no puede superar el Total. \",\"\"))","v":""},null,null,null,null,{"$f":"IF(AND($B64<>0,L64=\"\"),1,IF(L64>$B64,1,0))","v":0},{"$f":"IF(AND($B64<>0,M64=\"\"),1,IF(M64>$B64,1,0))","v":0}]
["Gestantes estudiadas en APS con examen EGB (+) ",{"$f":"SUM(C65:K65)","v":0},null,null,null,null,null,null,null,null,null,null,null,"",null,null,null,null,null,null,null,null,null,null,null,null,null,null,null,null,null,null,null,null,null,null,null,null,null,null,null,null,null,null,null,null,null,null,null,null,null,null,null,null,null,null,null,null,null,null,null,null,null,null,null,null,null,null,null,null,null,null,null,null,null,null,null,null,"","",null,null,null,null,0,0]
["GESTANTES ESTUDIADAS PARA ESTREPTOCOCCUS GRUPO B (EGB) EN ESPECIALIDADES",null,null,null,null,null,null,null,null,null,null,null,null,null,null,null,null,null,null,null,null,null,null,null,null,null,null,null,null,null,null,null,null,null,null,null,null,null,null,null,null,null,null,null,null,null,null,null,null,null,null,null,null,null,null,null,null,null,null,null,null,null,null,null,null,null,null,null,null,null,null,null,null,null,null,null,null,null,"","",null,null,null,null,0,0]
["Gestantes estudiadas para EGB en Especialidades",{"$f":"SUM(C67:K67)","v":0},null,null,null,null,null,null,null,null,null,null,null,"",null,null,null,null,null,null,null,null,null,null,null,null,null,null,null,null,null,null,null,null,null,null,null,null,null,null,null,null,null,null,null,null,null,null,null,null,null,null,null,null,null,null,null,null,null,null,null,null,null,null,null,null,null,null,null,null,null,null,null,null,null,null,null,null,"","",null,null,null,null,0,0]
["Gestantes estudiadas en Especialidades con examen EGB (+) ",{"$f":"SUM(C68:K68)","v":0},null,null,null,null,null,null,null,null,null,null,null,"",null,null,null,null,null,null,null,null,null,null,null,null,null,null,null,null,null,null,null,null,null,null,null,null,null,null,null,null,null,null,null,null,null,null,null,null,null,null,null,null,null,null,null,null,null,null,null,null,null,null,null,null,null,null,null,null,null,null,null,null,null,null,null,null,"","",null,null,null,null,0,0]
["GESTANTES ESTUDIADAS PARA ESTREPTOCOCCUS GRUPO B (EGB) EN NIVEL HOSPITALARIO",null,null,null,null,null,null,null,null,null,null,null,null,null,null,null,null,null,null,null,null,null,null,null,null,null,null,null,null,null,null,null,null,null,null,null,null,null,null,null,null,null,null,null,null,null,null,null,null,null,null,null,null,null,null,null,null,null,null,null,null,null,null,null,null,null,null,null,null,null,null,null,null,null,null,null,null,null,"","",null,null,null,null,0,0]
["Gestantes estudiadas para EGB en nivel hospitalario",{"$f":"SUM(C70:K70)","v":0},null,null,null,null,null,null,null,null,null,null,null,"",null,null,null,null,null,null,null,null,null,null,null,null,null,null,null,null,null,null,null,null,null,null,null,null,null,null,null,null,null,null,null,null,null,null,null,null,null,null,null,null,null,null,null,null,null,null,null,null,null,null,null,null,null,null,null,null,null,null,null,null,null,null,null,null,"","",null,null,null,null,0,0]
["Gestantes estudiadas en nivel hospitalario con examen EGB (+) ",{"$f":"SUM(C71:K71)","v":0},null,null,null,null,null,null,null,null,null,null,null,"",null,null,null,null,null,null,null,null,null,null,null,null,null,null,null,null,null,null,null,null,null,null,null,null,null,null,null,null,null,null,null,null,null,null,null,null,null,null,null,null,null,null,null,null,null,null,null,null,null,null,null,null,null,null,null,null,null,null,null,null,null,null,null,null,"","",null,null,null,null,0,0]
["GESTANTES CON PROFILAXIS PARA ESTREPTOCOCCUS GRUPO B (EGB) AL PARTO",null,null,null,null,null,null,null,null,null,null,null,null,null,null,null,null,null,null,null,null,null,null,null,null,null,null,null,null,null,null,null,null,null,null,null,null,null,null,null,null,null,null,null,null,null,null,null,null,null,null,null,null,null,null,null,null,null,null,null,null,null,null,null,null,null,null,null,null,null,null,null,null,null,null,null,null,null,"","",null,null,null,null,0,0]
["Gestantes con profilaxis para  EGB (+) al parto.",{"$f":"SUM(C73:K73)","v":0},null,null,null,null,null,null,null,null,null,null,null,"",null,null,null,null,null,null,null,null,null,null,null,null,null,null,null,null,null,null,null,null,null,null,null,null,null,null,null,null,null,null,null,null,null,null,null,null,null,null,null,null,null,null,null,null,null,null,null,null,null,null,null,null,null,null,null,null,null,null,null,null,null,null,null,null,"",{"$f":"IF(AND($B73<>0,M73=\"\"),\"* No olvide ingresar la columna Migrantes (Digite CERO si no tiene). \",IF(M73>$B73,\"* El Número de gestantes pertenecientes a Población Migrante no puede superar el Total. \",\"\"))","v":""},null,null,null,null,0,0]
["SECCION I: GESTANTES EVALUADAS PARA HEPATITIS B"]
[null,"Total","GRUPO DE EDAD (En años)",null,null,null,null,null,null,null,null,"Pueblos Originarios","Migrantes"]
[null,null,"10 a 14 años","15 a 19 años","20 a 24 años","25 a 29 años","30 a 34 años","35 a 39 años","40 a 44 años","45 a 49 años","50 a 54 años"]
["GESTANTES EVALUADAS PARA HEPATITIS B EN ATENCIÓN PRIMARIA",null,null,null,null,null,null,null,null,null,null,null,null,null,null,null,null,null,null,null,null,null,null,null,null,null,null,null,null,null,null,null,null,null,null,null,null,null,null,null,null,null,null,null,null,null,null,null,null,null,null,null,null,null,null,null,null,null,null,null,null,null,null,null,null,null,null,null,null,null,null,null,null,null,null,null,null,null,{"$f":"IF(AND($B77<>0,L77=\"\"),\"* No olvide ingresar la columna Pueblos Originarios (Digite CERO si no tiene). \",IF(L77>$B77,\"* El Número de gestantes pertenecientes a Pueblos Originarios no puede superar el Total. \",\"\"))","v":""},{"$f":"IF(AND($B77<>0,M77=\"\"),\"* No olvide ingresar la columna Migrantes (Digite CERO si no tiene). \",IF(M77>$B77,\"* El Número de gestantes pertenecientes a Población Migrante no puede superar el Total. \",\"\"))","v":""},null,null,null,null,{"$f":"IF(AND($B77<>0,L77=\"\"),1,IF(L77>$B77,1,0))","v":0},{"$f":"IF(AND($B77<>0,M77=\"\"),1,IF(M77>$B77,1,0))","v":0}]
["Gestantes con solicitud de estudio serológico para Hepatitis B ",{"$f":"SUM(C78:K78)","v":0},null,null,null,null,null,null,null,null,null,null,null,{"$f":"CONCATENATE($CA78,$CB78)","v":""},null,null,null,null,null,null,null,null,null,null,null,null,null,null,null,null,null,null,null,null,null,null,null,null,null,null,null,null,null,null,null,null,null,null,null,null,null,null,null,null,null,null,null,null,null,null,null,null,null,null,null,null,null,null,null,null,null,null,null,null,null,null,null,null,{"$f":"IF(AND($B78<>0,L78=\"\"),\"* No olvide ingresar la columna Pueblos Originarios (Digite CERO si no tiene). \",IF(L78>$B78,\"* El Número de gestantes pertenecientes a Pueblos Originarios no puede superar el Total. \",\"\"))","v":""},{"$f":"IF(AND($B78<>0,M78=\"\"),\"* No olvide ingresar la columna Migrantes (Digite CERO si no tiene). \",IF(M78>$B78,\"* El Número de gestantes pertenecientes a Población Migrante no puede superar el Total. \",\"\"))","v":""},null,null,null,null,{"$f":"IF(AND($B78<>0,L78=\"\"),1,IF(L78>$B78,1,0))","v":0},{"$f":"IF(AND($B78<>0,M78=\"\"),1,IF(M78>$B78,1,0))","v":0}]
["Gestantes con estudio serológico positivo confirmado para Hepatitis B ",{"$f":"SUM(C79:K79)","v":0},null,null,null,null,null,null,null,null,null,null,null,"",null,null,null,null,null,null,null,null,null,null,null,null,null,null,null,null,null,null,null,null,null,null,null,null,null,null,null,null,null,null,null,null,null,null,null,null,null,null,null,null,null,null,null,null,null,null,null,null,null,null,null,null,null,null,null,null,null,null,null,null,null,null,null,null,"","",null,null,null,null,0,0]
["Gestantes con Hepatitis B positivo derivada con especialista (Gastroenterólogo, hepatólogo u otro) ",{"$f":"SUM(C80:K80)","v":0},null,null,null,null,null,null,null,null,null,null,null,"",null,null,null,null,null,null,null,null,null,null,null,null,null,null,null,null,null,null,null,null,null,null,null,null,null,null,null,null,null,null,null,null,null,null,null,null,null,null,null,null,null,null,null,null,null,null,null,null,null,null,null,null,null,null,null,null,null,null,null,null,null,null,null,null,"","",null,null,null,null,0,0]
["GESTANTES EVALUADAS PARA HEPATITIS B EN ESPECIALIDADES",null,null,null,null,null,null,null,null,null,null,null,null,null,null,null,null,null,null,null,null,null,null,null,null,null,null,null,null,null,null,null,null,null,null,null,null,null,null,null,null,null,null,null,null,null,null,null,null,null,null,null,null,null,null,null,null,null,null,null,null,null,null,null,null,null,null,null,null,null,null,null,null,null,null,null,null,null,"","",null,null,null,null,0,0]
["Gestantes con solicitud de estudio serológico para Hepatitis B ",{"$f":"SUM(C82:K82)","v":0},null,null,null,null,null,null,null,null,null,null,null,"",null,null,null,null,null,null,null,null,null,null,null,null,null,null,null,null,null,null,null,null,null,null,null,null,null,null,null,null,null,null,null,null,null,null,null,null,null,null,null,null,null,null,null,null,null,null,null,null,null,null,null,null,null,null,null,null,null,null,null,null,null,null,null,null,"","",null,null,null,null,0,0]
["Gestantes con estudio serológico positivo confirmado para Hepatitis B ",{"$f":"SUM(C83:K83)","v":0},null,null,null,null,null,null,null,null,null,null,null,"",null,null,null,null,null,null,null,null,null,null,null,null,null,null,null,null,null,null,null,null,null,null,null,null,null,null,null,null,null,null,null,null,null,null,null,null,null,null,null,null,null,null,null,null,null,null,null,null,null,null,null,null,null,null,null,null,null,null,null,null,null,null,null,null,"","",null,null,null,null,0,0]
["Gestantes con Hepatitis B positivo derivada con especialista (Gastroenterólogo, hepatólogo u otro) ",{"$f":"SUM(C84:K84)","v":0},null,null,null,null,null,null,null,null,null,null,null,"",null,null,null,null,null,null,null,null,null,null,null,null,null,null,null,null,null,null,null,null,null,null,null,null,null,null,null,null,null,null,null,null,null,null,null,null,null,null,null,null,null,null,null,null,null,null,null,null,null,null,null,null,null,null,null,null,null,null,null,null,null,null,null,null,"","",null,null,null,null,0,0]
["GESTANTES EVALUADAS PARA HEPATITIS B EN PARTOS",null,null,null,null,null,null,null,null,null,null,null,null,null,null,null,null,null,null,null,null,null,null,null,null,null,null,null,null,null,null,null,null,null,null,null,null,null,null,null,null,null,null,null,null,null,null,null,null,null,null,null,null,null,null,null,null,null,null,null,null,null,null,null,null,null,null,null,null,null,null,null,null,null,null,null,null,null,"","",null,null,null,null,0,0]
["Gestantes con solicitud de estudio serológico para Hepatitis B ",{"$f":"SUM(C86:K86)","v":0},null,null,null,null,null,null,null,null,null,null,null,"",null,null,null,null,null,null,null,null,null,null,null,null,null,null,null,null,null,null,null,null,null,null,null,null,null,null,null,null,null,null,null,null,null,null,null,null,null,null,null,null,null,null,null,null,null,null,null,null,null,null,null,null,null,null,null,null,null,null,null,null,null,null,null,null,"","",null,null,null,null,0,0]
["Gestantes con estudio serológico positivo confirmado para Hepatitis B ",{"$f":"SUM(C87:K87)","v":0},null,null,null,null,null,null,null,null,null,null,null,"",null,null,null,null,null,null,null,null,null,null,null,null,null,null,null,null,null,null,null,null,null,null,null,null,null,null,null,null,null,null,null,null,null,null,null,null,null,null,null,null,null,null,null,null,null,null,null,null,null,null,null,null,null,null,null,null,null,null,null,null,null,null,null,null,"","",null,null,null,null,0,0]
["Gestantes con Hepatitis B positivo derivada con especialista (Gastroenterólogo, hepatólogo u otro) ",{"$f":"SUM(C88:K88)","v":0},null,null,null,null,null,null,null,null,null,null,null,"",null,null,null,null,null,null,null,null,null,null,null,null,null,null,null,null,null,null,null,null,null,null,null,null,null,null,null,null,null,null,null,null,null,null,null,null,null,null,null,null,null,null,null,null,null,null,null,null,null,null,null,null,null,null,null,null,null,null,null,null,null,null,null,null,{"$f":"IF(AND($B88<>0,L88=\"\"),\"* No olvide ingresar la columna Pueblos Originarios (Digite CERO si no tiene). \",IF(L88>$B88,\"* El Número de gestantes pertenecientes a Pueblos Originarios no puede superar el Total. \",\"\"))","v":""},{"$f":"IF(AND($B88<>0,M88=\"\"),\"* No olvide ingresar la columna Migrantes (Digite CERO si no tiene). \",IF(M88>$B88,\"* El Número de gestantes pertenecientes a Población Migrante no puede superar el Total. \",\"\"))","v":""},null,null,null,null,0,0]
["SECCION J: PROFILAXIS DE TRANSMISIÓN VERTICAL APLICADA AL RECIEN NACIDO, HIJO DE MADRE HEPATITIS B POSITIVA"]
[null,"Total","Pueblos Originarios","Migrantes"]
["Recién nacidos hijos de madre Hepatitis B positiva, nacidos en el periodo",null,null,null,{"$f":"CONCATENATE($CA91,$CB91)","v":""},null,null,null,null,null,null,null,null,null,null,null,null,null,null,null,null,null,null,null,null,null,null,null,null,null,null,null,null,null,null,null,null,null,null,null,null,null,null,null,null,null,null,null,null,null,null,null,null,null,null,null,null,null,null,null,null,null,null,null,null,null,null,null,null,null,null,null,null,null,null,null,null,null,{"$f":"IF(AND($B91<>0,C91=\"\"),\"* No olvide ingresar la columna Pueblos Originarios (Digite CERO si no tiene). \",IF(C91>$B91,\"* El Número de recién nacidos pertenecientes a Pueblos Originarios no puede superar el Total. \",\"\"))","v":""},{"$f":"IF(AND($B91<>0,D91=\"\"),\"* No olvide ingresar la columna Migrantes (Digite CERO si no tiene). \",IF(D91>$B91,\"* El Número de recién nacidos en tratamiento pertenecientes a Población Migrante no puede superar el Total. \",\"\"))","v":""},null,null,null,null,{"$f":"IF(AND($B91<>0,C91=\"\"),1,IF(C91>$B91,1,0))","v":0},{"$f":"IF(AND($B91<>0,D91=\"\"),1,IF(D91>$B91,1,0))","v":0}]
["Recién nacidos hijos de madre Hepatitis B positiva que recibieron profilaxis completa, según la normativa vigente",null,null,null,{"$f":"CONCATENATE($CA92,$CB92)","v":""},null,null,null,null,null,null,null,null,null,null,null,null,null,null,null,null,null,null,null,null,null,null,null,null,null,null,null,null,null,null,null,null,null,null,null,null,null,null,null,null,null,null,null,null,null,null,null,null,null,null,null,null,null,null,null,null,null,null,null,null,null,null,null,null,null,null,null,null,null,null,null,null,null,{"$f":"IF(AND($B92<>0,C92=\"\"),\"* No olvide ingresar la columna Pueblos Originarios (Digite CERO si no tiene). \",IF(C92>$B92,\"* El Número de recién nacidos pertenecientes a Pueblos Originarios no puede superar el Total. \",\"\"))","v":""},{"$f":"IF(AND($B92<>0,D92=\"\"),\"* No olvide ingresar la columna Migrantes (Digite CERO si no tiene). \",IF(D92>$B92,\"* El Número de recién nacidos en tratamiento pertenecientes a Población Migrante no puede superar el Total. \",\"\"))","v":""},null,null,null,null,{"$f":"IF(AND($B92<>0,C92=\"\"),1,IF(C92>$B92,1,0))","v":0},{"$f":"IF(AND($B92<>0,D92=\"\"),1,IF(D92>$B92,1,0))","v":0}]
["SECCION K: SEGUIMIENTO DE NIÑOS Y NIÑAS AL AÑO DE VIDA"]
[null,"Total","Pueblos Originarios","Migrantes"]
["Niños/as  hijos de madre Hepatitis B positiva evaluados al año de vida",null,null,null,{"$f":"CONCATENATE($CA95,$CB95)","v":""},null,null,null,null,null,null,null,null,null,null,null,null,null,null,null,null,null,null,null,null,null,null,null,null,null,null,null,null,null,null,null,null,null,null,null,null,null,null,null,null,null,null,null,null,null,null,null,null,null,null,null,null,null,null,null,null,null,null,null,null,null,null,null,null,null,null,null,null,null,null,null,null,null,{"$f":"IF(AND($B95<>0,C95=\"\"),\"* No olvide ingresar la columna Pueblos Originarios (Digite CERO si no tiene). \",IF(C95>$B95,\"* El Número de niños pertenecientes a Pueblos Originarios no puede superar el Total. \",\"\"))","v":""},{"$f":"IF(AND($B95<>0,D95=\"\"),\"* No olvide ingresar la columna Migrantes (Digite CERO si no tiene). \",IF(D95>$B95,\"* El Número de niños en tratamiento pertenecientes a Población Migrante no puede superar el Total. \",\"\"))","v":""},null,null,null,null,{"$f":"IF(AND($B95<>0,C95=\"\"),1,IF(C95>$B95,1,0))","v":0},{"$f":"IF(AND($B95<>0,D95=\"\"),1,IF(D95>$B95,1,0))","v":0}]
["Niños/as  hijos de madre Hepatitis B positiva, evaluados al año de vida, confirmado positivo de transmisión vertical para Hepatitis B",null,null,null,{"$f":"CONCATENATE($CA96,$CB96)","v":""},null,null,null,null,null,null,null,null,null,null,null,null,null,null,null,null,null,null,null,null,null,null,null,null,null,null,null,null,null,null,null,null,null,null,null,null,null,null,null,null,null,null,null,null,null,null,null,null,null,null,null,null,null,null,null,null,null,null,null,null,null,null,null,null,null,null,null,null,null,null,null,null,null,{"$f":"IF(AND($B96<>0,C96=\"\"),\"* No olvide ingresar la columna Pueblos Originarios (Digite CERO si no tiene). \",IF(C96>$B96,\"* El Número de niños pertenecientes a Pueblos Originarios no puede superar el Total. \",\"\"))","v":""},{"$f":"IF(AND($B96<>0,D96=\"\"),\"* No olvide ingresar la columna Migrantes (Digite CERO si no tiene). \",IF(D96>$B96,\"* El Número de niños en tratamiento pertenecientes a Población Migrante no puede superar el Total. \",\"\"))","v":""},null,null,null,null,{"$f":"IF(AND($B96<>0,C96=\"\"),1,IF(C96>$B96,1,0))","v":0},{"$f":"IF(AND($B96<>0,D96=\"\"),1,IF(D96>$B96,1,0))","v":0}]
[]
[]
[]
[]
[{"$f":"SUM(B11:B19,B22:D23,B27:B32,B35:D36,B40:B47,B50:D53,B56:D59,B63:B73,B77:B88,B91:D92,B95:D96)","v":0},{"$f":"SUM(CG9:CL98)","v":0}]

{"sheet":"A19a","index":12,"n_rows":200,"n_cols":89,"rows_kept":200,"cut":false,"hidden":false,"merged":[[11,21,11,22],[11,37,11,38],[11,25,11,26],[11,27,11,28],[11,29,11,30],[11,31,11,32],[11,33,11,34],[11,35,11,36],[11,23,11,24],[155,3,156,3],[155,0,156,0],[155,1,156,1],[155,2,156,2],[136,11,137,11],[138,0,141,0],[142,0,145,0],[146,0,149,0],[150,0,153,0],[136,0,137,0],[136,1,137,1],[136,2,137,2],[136,3,136,9],[136,10,137,10],[9,47,12,47],[5,0,5,19],[7,0,7,1],[9,0,12,0],[9,1,12,1],[9,2,11,4],[9,5,10,38],[9,42,12,42],[9,43,12,43],[9,44,12,44],[9,45,12,45],[9,39,12,39],[9,40,11,41],[9,46,12,46],[11,5,11,6],[11,7,11,8],[52,0,55,0],[13,0,23,0],[24,0,34,0],[35,0,45,0],[46,0,51,0],[11,9,11,10],[11,11,11,12],[11,19,11,20],[71,13,71,14],[71,15,71,16],[71,17,71,18],[71,19,71,20],[11,13,11,14],[11,15,11,16],[11,17,11,18],[71,9,71,10],[71,11,71,12],[108,0,111,0],[112,0,115,0],[98,0,99,0],[98,1,99,1],[98,2,99,2],[100,0,103,0],[70,44,72,44],[98,10,99,10],[98,11,99,11],[104,0,107,0],[98,3,98,9],[73,0,78,0],[79,0,84,0],[86,0,95,0],[70,1,72,1],[70,43,72,43],[70,5,70,38],[70,39,71,40],[71,5,71,6],[71,7,71,8],[71,35,71,36],[71,23,71,24],[56,0,62,0],[63,0,67,0],[70,0,72,0],[70,42,72,42],[70,2,71,4],[70,41,72,41],[71,31,71,32],[71,33,71,34],[71,37,71,38],[71,27,71,28],[71,29,71,30],[71,25,71,26],[71,21,71,22]]}
["SERVICIO DE SALUD"]
[{"$f":"CONCATENATE(\"COMUNA: \",NOMBRE!B2,\" - \",\"( \",NOMBRE!C2,NOMBRE!D2,NOMBRE!E2,NOMBRE!F2,NOMBRE!G2,\" )\")","v":"COMUNA:  - (  )"}]
[{"$f":"CONCATENATE(\"ESTABLECIMIENTO/ESTRATEGIA: \",NOMBRE!B3,\" - \",\"( \",NOMBRE!C3,NOMBRE!D3,NOMBRE!E3,NOMBRE!F3,NOMBRE!G3,NOMBRE!H3,\" )\")","v":"ESTABLECIMIENTO/ESTRATEGIA:  - (  )"}]
[{"$f":"CONCATENATE(\"MES: \",NOMBRE!B6,\" - \",\"( \",NOMBRE!C6,NOMBRE!D6,\" )\")","v":"MES:  - (  )"}]
[{"$f":"CONCATENATE(\"AÑO: \",NOMBRE!B7)","v":"AÑO: 2023"}]
["REM-19a.   ACTIVIDADES DE PROMOCIÓN Y PREVENCIÓN DE LA SALUD"]
[]
["SECCIÓN A: CONSEJERÍAS"]
["SECCIÓN A.1: CONSEJERÍAS INDIVIDUALES"]
["ACTIVIDADES Y ÁREAS TEMÁTICAS","PROFESIONAL","TOTAL              ",null,null,"GRUPOS DE EDAD (en años)",null,null,null,null,null,null,null,null,null,null,null,null,null,null,null,null,null,null,null,null,null,null,null,null,null,null,null,null,null,null,null,null,null,"Espacios Amigables / adolescentes","TRANS",null,"Pueblos Originarios","Migrantes","14-18 años","Niños, Niñas, Adolescentes y Jóvenes SENAME","Niños, Niñas, Adolescentes y Jóvenes Mejor Niñez","Espacios Amigables"]
[]
[null,null,null,null,null,"0 - 4 años",null,"5 - 9 años",null,"10 - 14 años",null,"15-19 años ",null,"20-24 años",null,"25-29 años",null,"30-34 años",null,"35-39 años",null,"40-44 años",null,"45-49 años",null,"50-54 años",null,"55-59 años",null,"60-64 años",null,"65-69 años",null,"70-74 años",null,"75- 79 años",null,"80 y mas años"]
[null,null,"AMBOS SEXOS","HOMBRES","MUJERES","HOMBRES","MUJERES","HOMBRES","MUJERES","HOMBRES","MUJERES","HOMBRES","MUJERES","HOMBRES","MUJERES","HOMBRES","MUJERES","HOMBRES","MUJERES","HOMBRES","MUJERES","HOMBRES","MUJERES","HOMBRES","MUJERES","HOMBRES","MUJERES","HOMBRES","MUJERES","HOMBRES","MUJERES","HOMBRES","MUJERES","HOMBRES","MUJERES","HOMBRES","MUJERES","HOMBRES","MUJERES",null,"Masculino","Femenino"]
["ACTIVIDAD FÍSICA Y ALIMENTACION SALUDABLE","MÉDICO/A",{"$f":"SUM(D14+E14)","v":0},{"$f":"+F14+H14+J14+L14+N14+P14+R14+T14+V14+X14+Z14+AB14+AD14+AF14+AH14+AJ14+AL14","v":0},{"$f":"+G14+I14+K14+M14+O14+Q14+S14+U14+W14+Y14+AA14+AC14+AE14+AG14+AI14+AK14+AM14","v":0},null,null,null,null,null,null,null,null,null,null,null,null,null,null,null,null,null,null,null,null,null,null,null,null,null,null,null,null,null,null,null,null,null,null,null,null,null,null,null,null,null,null,null,null,null,null,null,null,null,null,null,null,null,null,null,null,null,null,null,null,null,null,null,null,null,null,null,null,null,null,null,null,null,null,{"$f":"IF(CH14=1,\"* No olvide digitar la columna Trans y/o Pueblos Originarios y/o Migrantes y/o Población SENAME (Digite Cero si no tiene). \",\"\")","v":""},{"$f":"IF(CI14=1,\"* El número de Trans y/o Pueblos Originarios y/o Migrantes y/o Población SENAME NO DEBE ser mayor que el Total. \",\"\")","v":""},{"$f":"IF(CJ14=1,\"* Las consejerías realizadas en Espacios amigables NO DEBEN ser mayor al Total. \",\"\")","v":""},{"$f":"IF(CK14=1,\"* La columna 14-18 AÑOS no puede ser mayor al total por grupo edad de 10 a 19 años. \",\"\")","v":""},null,null,{"$f":"IF(AND(C14<>0,OR(AO14=\"\",AP14=\"\",AQ14=\"\",AR14=\"\",AT14=\"\")),1,0)","v":0},{"$f":"IF(OR(C14<(AO14+AP14),C14<AQ14,C14<AR14,C14<AT14),1,0)","v":0},{"$f":"IF(C14<AN14,1,0)","v":0},{"$f":"IF((J14+K14+L14+M14)<AS14,1,0)","v":0}]
[null,"ENFERMERA /O",0,{"$f":"+F15+H15+J15+L15+N15+P15+R15+T15+V15+X15+Z15+AB15+AD15+AF15+AH15+AJ15+AL15","v":0},{"$f":"+G15+I15+K15+M15+O15+Q15+S15+U15+W15+Y15+AA15+AC15+AE15+AG15+AI15+AK15+AM15","v":0},null,null,null,null,null,null,null,null,null,null,null,null,null,null,null,null,null,null,null,null,null,null,null,null,null,null,null,null,null,null,null,null,null,null,null,null,null,null,null,null,null,null,null,null,null,null,null,null,null,null,null,null,null,null,null,null,null,null,null,null,null,null,null,null,null,null,null,null,null,null,null,null,null,null,"","","","",null,null,0,0,0,0]
[null,"MATRONA /ÓN",0,0,0,null,null,null,null,null,null,null,null,null,null,null,null,null,null,null,null,null,null,null,null,null,null,null,null,null,null,null,null,null,null,null,null,null,null,null,null,null,null,null,null,null,null,null,null,null,null,null,null,null,null,null,null,null,null,null,null,null,null,null,null,null,null,null,null,null,null,null,null,null,null,null,null,null,null,"","","","",null,null,0,0,0,0]
[null,"NUTRICIONISTA",0,0,0,null,null,null,null,null,null,null,null,null,null,null,null,null,null,null,null,null,null,null,null,null,null,null,null,null,null,null,null,null,null,null,null,null,null,null,null,null,null,null,null,null,null,null,null,null,null,null,null,null,null,null,null,null,null,null,null,null,null,null,null,null,null,null,null,null,null,null,null,null,null,null,null,null,null,"","","","",null,null,0,0,0,0]
[null,"TRABAJADOR/A SOCIAL",0,0,0,null,null,null,null,null,null,null,null,null,null,null,null,null,null,null,null,null,null,null,null,null,null,null,null,null,null,null,null,null,null,null,null,null,null,null,null,null,null,null,null,null,null,null,null,null,null,null,null,null,null,null,null,null,null,null,null,null,null,null,null,null,null,null,null,null,null,null,null,null,null,null,null,null,null,"","","","",null,null,0,0,0,0]
[null,"PSICÓLOGO /A",0,0,0,null,null,null,null,null,null,null,null,null,null,null,null,null,null,null,null,null,null,null,null,null,null,null,null,null,null,null,null,null,null,null,null,null,null,null,null,null,null,null,null,null,null,null,null,null,null,null,null,null,null,null,null,null,null,null,null,null,null,null,null,null,null,null,null,null,null,null,null,null,null,null,null,null,null,"","","","",null,null,0,0,0,0]
[null,"KINESIÓLOGO/A",0,0,0,null,null,null,null,null,null,null,null,null,null,null,null,null,null,null,null,null,null,null,null,null,null,null,null,null,null,null,null,null,null,null,null,null,null,null,null,null,null,null,null,null,null,null,null,null,null,null,null,null,null,null,null,null,null,null,null,null,null,null,null,null,null,null,null,null,null,null,null,null,null,null,null,null,null,"","","","",null,null,0,0,0,0]
[null,"TERAPEUTA OCUPACIONAL",0,0,0,null,null,null,null,null,null,null,null,null,null,null,null,null,null,null,null,null,null,null,null,null,null,null,null,null,null,null,null,null,null,null,null,null,null,null,null,null,null,null,null,null,null,null,null,null,null,null,null,null,null,null,null,null,null,null,null,null,null,null,null,null,null,null,null,null,null,null,null,null,null,null,null,null,null,"","","","",null,null,0,0,0,0]
[null,"OTRO PROFESIONAL",0,0,0,null,null,null,null,null,null,null,null,null,null,null,null,null,null,null,null,null,null,null,null,null,null,null,null,null,null,null,null,null,null,null,null,null,null,null,null,null,null,null,null,null,null,null,null,null,null,null,null,null,null,null,null,null,null,null,null,null,null,null,null,null,null,null,null,null,null,null,null,null,null,null,null,null,null,"","","","",null,null,0,0,0,0]
[null,"FACILITADOR/A INTERCULTURAL",0,0,0,null,null,null,null,null,null,null,null,null,null,null,null,null,null,null,null,null,null,null,null,null,null,null,null,null,null,null,null,null,null,null,null,null,null,null,null,null,null,null,null,null,null,null,null,null,null,null,null,null,null,null,null,null,null,null,null,null,null,null,null,null,null,null,null,null,null,null,null,null,null,null,null,null,null,"","","","",null,null,0,0,0,0]
[null,"TÉCNICO PARAMÉDICO",0,0,0,null,null,null,null,null,null,null,null,null,null,null,null,null,null,null,null,null,null,null,null,null,null,null,null,null,null,null,null,null,null,null,null,null,null,null,null,null,null,null,null,null,null,null,null,null,null,null,null,null,null,null,null,null,null,null,null,null,null,null,null,null,null,null,null,null,null,null,null,null,null,null,null,null,null,"","","","",null,null,0,0,0,0]
["TABAQUISMO","MÉDICO/A",0,{"$f":"SUM(H25+J25+L25+N25+P25+R25+T25+V25+X25+Z25+AB25+AD25+AF25+AH25+AJ25+AL25)","v":0},{"$f":"SUM(I25+K25+M25+O25+Q25+S25+U25+W25+Y25+AA25+AC25+AE25+AG25+AI25+AK25+AM25)","v":0},null,null,null,null,null,null,null,null,null,null,null,null,null,null,null,null,null,null,null,null,null,null,null,null,null,null,null,null,null,null,null,null,null,null,null,null,null,null,null,null,null,null,null,null,null,null,null,null,null,null,null,null,null,null,null,null,null,null,null,null,null,null,null,null,null,null,null,null,null,null,null,null,null,null,"","","","",null,null,0,0,0,0]
[null,"ENFERMERA /O",0,{"$f":"SUM(H26+J26+L26+N26+P26+R26+T26+V26+X26+Z26+AB26+AD26+AF26+AH26+AJ26+AL26)","v":0},0,null,null,null,null,null,null,null,null,null,null,null,null,null,null,null,null,null,null,null,null,null,null,null,null,null,null,null,null,null,null,null,null,null,null,null,null,null,null,null,null,null,null,null,null,null,null,null,null,null,null,null,null,null,null,null,null,null,null,null,null,null,null,null,null,null,null,null,null,null,null,null,null,null,null,"","","","",null,null,0,0,0,0]
[null,"MATRONA /ÓN",0,0,0,null,null,null,null,null,null,null,null,null,null,null,null,null,null,null,null,null,null,null,null,null,null,null,null,null,null,null,null,null,null,null,null,null,null,null,null,null,null,null,null,null,null,null,null,null,null,null,null,null,null,null,null,null,null,null,null,null,null,null,null,null,null,null,null,null,null,null,null,null,null,null,null,null,null,"","","","",null,null,0,0,0,0]
[null,"NUTRICIONISTA",0,0,0,null,null,null,null,null,null,null,null,null,null,null,null,null,null,null,null,null,null,null,null,null,null,null,null,null,null,null,null,null,null,null,null,null,null,null,null,null,null,null,null,null,null,null,null,null,null,null,null,null,null,null,null,null,null,null,null,null,null,null,null,null,null,null,null,null,null,null,null,null,null,null,null,null,null,"","","","",null,null,0,0,0,0]
[null,"TRABAJADOR/A SOCIAL",0,0,0,null,null,null,null,null,null,null,null,null,null,null,null,null,null,null,null,null,null,null,null,null,null,null,null,null,null,null,null,null,null,null,null,null,null,null,null,null,null,null,null,null,null,null,null,null,null,null,null,null,null,null,null,null,null,null,null,null,null,null,null,null,null,null,null,null,null,null,null,null,null,null,null,null,null,"","","","",null,null,0,0,0,0]
[null,"PSICÓLOGO /A",0,0,0,null,null,null,null,null,null,null,null,null,null,null,null,null,null,null,null,null,null,null,null,null,null,null,null,null,null,null,null,null,null,null,null,null,null,null,null,null,null,null,null,null,null,null,null,null,null,null,null,null,null,null,null,null,null,null,null,null,null,null,null,null,null,null,null,null,null,null,null,null,null,null,null,null,null,"","","","",null,null,0,0,0,0]
[null,"KINESIÓLOGO/A",0,0,0,null,null,null,null,null,null,null,null,null,null,null,null,null,null,null,null,null,null,null,null,null,null,null,null,null,null,null,null,null,null,null,null,null,null,null,null,null,null,null,null,null,null,null,null,null,null,null,null,null,null,null,null,null,null,null,null,null,null,null,null,null,null,null,null,null,null,null,null,null,null,null,null,null,null,"","","","",null,null,0,0,0,0]
[null,"TERAPEUTA OCUPACIONAL",0,0,0,null,null,null,null,null,null,null,null,null,null,null,null,null,null,null,null,null,null,null,null,null,null,null,null,null,null,null,null,null,null,null,null,null,null,null,null,null,null,null,null,null,null,null,null,null,null,null,null,null,null,null,null,null,null,null,null,null,null,null,null,null,null,null,null,null,null,null,null,null,null,null,null,null,null,"","","","",null,null,0,0,0,0]
[null,"OTRO PROFESIONAL",0,0,0,null,null,null,null,null,null,null,null,null,null,null,null,null,null,null,null,null,null,null,null,null,null,null,null,null,null,null,null,null,null,null,null,null,null,null,null,null,null,null,null,null,null,null,null,null,null,null,null,null,null,null,null,null,null,null,null,null,null,null,null,null,null,null,null,null,null,null,null,null,null,null,null,null,null,"","","","",null,null,0,0,0,0]
[null,"FACILITADOR/A INTERCULTURAL",0,0,0,null,null,null,null,null,null,null,null,null,null,null,null,null,null,null,null,null,null,null,null,null,null,null,null,null,null,null,null,null,null,null,null,null,null,null,null,null,null,null,null,null,null,null,null,null,null,null,null,null,null,null,null,null,null,null,null,null,null,null,null,null,null,null,null,null,null,null,null,null,null,null,null,null,null,"","","","",null,null,0,0,0,0]
[null,"TÉCNICO PARAMÉDICO",{"$f":"SUM(D35+E35)","v":0},0,0,null,null,null,null,null,null,null,null,null,null,null,null,null,null,null,null,null,null,null,null,null,null,null,null,null,null,null,null,null,null,null,null,null,null,null,null,null,null,null,null,null,null,null,null,null,null,null,null,null,null,null,null,null,null,null,null,null,null,null,null,null,null,null,null,null,null,null,null,null,null,null,null,null,null,{"$f":"IF(CH35=1,\"* No olvide digitar la columna Trans y/o Pueblos Originarios y/o Migrantes y/o Población SENAME (Digite Cero si no tiene). \",\"\")","v":""},{"$f":"IF(CI35=1,\"* El número de Trans y/o Pueblos Originarios y/o Migrantes y/o Población SENAME NO DEBE ser mayor que el Total. \",\"\")","v":""},{"$f":"IF(CJ35=1,\"* Las consejerías realizadas en Espacios amigables NO DEBEN ser mayor al Total. \",\"\")","v":""},{"$f":"IF(CK35=1,\"* La columna 14-18 AÑOS no puede ser mayor al total por grupo edad de 10 a 19 años. \",\"\")","v":""},null,null,0,0,0,0]
["CONSUMO DE DROGAS","MÉDICO/A",0,0,0,null,null,null,null,null,null,null,null,null,null,null,null,null,null,null,null,null,null,null,null,null,null,null,null,null,null,null,null,null,null,null,null,null,null,null,null,null,null,null,null,null,null,null,null,null,null,null,null,null,null,null,null,null,null,null,null,null,null,null,null,null,null,null,null,null,null,null,null,null,null,null,null,null,null,"","","","",null,null,0,0,0,0]
[null,"ENFERMERA /O",0,{"$f":"SUM(H37+J37+L37+N37+P37+R37+T37+V37+X37+Z37+AB37+AD37+AF37+AH37+AJ37+AL37)","v":0},0,null,null,null,null,null,null,null,null,null,null,null,null,null,null,null,null,null,null,null,null,null,null,null,null,null,null,null,null,null,null,null,null,null,null,null,null,null,null,null,null,null,null,null,null,null,null,null,null,null,null,null,null,null,null,null,null,null,null,null,null,null,null,null,null,null,null,null,null,null,null,null,null,null,null,"","","","",null,null,0,0,0,0]
[null,"MATRONA /ÓN",0,0,0,null,null,null,null,null,null,null,null,null,null,null,null,null,null,null,null,null,null,null,null,null,null,null,null,null,null,null,null,null,null,null,null,null,null,null,null,null,null,null,null,null,null,null,null,null,null,null,null,null,null,null,null,null,null,null,null,null,null,null,null,null,null,null,null,null,null,null,null,null,null,null,null,null,null,"","","","",null,null,0,0,0,0]
[null,"NUTRICIONISTA",0,0,0,null,null,null,null,null,null,null,null,null,null,null,null,null,null,null,null,null,null,null,null,null,null,null,null,null,null,null,null,null,null,null,null,null,null,null,null,null,null,null,null,null,null,null,null,null,null,null,null,null,null,null,null,null,null,null,null,null,null,null,null,null,null,null,null,null,null,null,null,null,null,null,null,null,null,"","","","",null,null,0,0,0,0]
[null,"TRABAJADOR/A SOCIAL",0,{"$f":"SUM(H40+J40+L40+N40+P40+R40+T40+V40+X40+Z40+AB40+AD40+AF40+AH40+AJ40+AL40)","v":0},0,null,null,null,null,null,null,null,null,null,null,null,null,null,null,null,null,null,null,null,null,null,null,null,null,null,null,null,null,null,null,null,null,null,null,null,null,null,null,null,null,null,null,null,null,null,null,null,null,null,null,null,null,null,null,null,null,null,null,null,null,null,null,null,null,null,null,null,null,null,null,null,null,null,null,"","","","",null,null,0,0,0,0]
[null,"PSICÓLOGO /A",0,0,0,null,null,null,null,null,null,null,null,null,null,null,null,null,null,null,null,null,null,null,null,null,null,null,null,null,null,null,null,null,null,null,null,null,null,null,null,null,null,null,null,null,null,null,null,null,null,null,null,null,null,null,null,null,null,null,null,null,null,null,null,null,null,null,null,null,null,null,null,null,null,null,null,null,null,"","","","",null,null,0,0,0,0]
[null,"KINESIÓLOGO/A",0,{"$f":"SUM(H42+J42+L42+N42+P42+R42+T42+V42+X42+Z42+AB42+AD42+AF42+AH42+AJ42+AL42)","v":0},0,null,null,null,null,null,null,null,null,null,null,null,null,null,null,null,null,null,null,null,null,null,null,null,null,null,null,null,null,null,null,null,null,null,null,null,null,null,null,null,null,null,null,null,null,null,null,null,null,null,null,null,null,null,null,null,null,null,null,null,null,null,null,null,null,null,null,null,null,null,null,null,null,null,null,"","","","",null,null,0,0,0,0]
[null,"TERAPEUTA OCUPACIONAL",0,0,0,null,null,null,null,null,null,null,null,null,null,null,null,null,null,null,null,null,null,null,null,null,null,null,null,null,null,null,null,null,null,null,null,null,null,null,null,null,null,null,null,null,null,null,null,null,null,null,null,null,null,null,null,null,null,null,null,null,null,null,null,null,null,null,null,null,null,null,null,null,null,null,null,null,null,"","","","",null,null,0,0,0,0]
[null,"OTRO PROFESIONAL",0,0,0,null,null,null,null,null,null,null,null,null,null,null,null,null,null,null,null,null,null,null,null,null,null,null,null,null,null,null,null,null,null,null,null,null,null,null,null,null,null,null,null,null,null,null,null,null,null,null,null,null,null,null,null,null,null,null,null,null,null,null,null,null,null,null,null,null,null,null,null,null,null,null,null,null,null,"","","","",null,null,0,0,0,0]
[null,"FACILITADOR/A INTERCULTURAL",0,0,0,null,null,null,null,null,null,null,null,null,null,null,null,null,null,null,null,null,null,null,null,null,null,null,null,null,null,null,null,null,null,null,null,null,null,null,null,null,null,null,null,null,null,null,null,null,null,null,null,null,null,null,null,null,null,null,null,null,null,null,null,null,null,null,null,null,null,null,null,null,null,null,null,null,null,"","","","",null,null,0,0,0,0]
[null,"TÉCNICO PARAMÉDICO",0,0,0,null,null,null,null,null,null,null,null,null,null,null,null,null,null,null,null,null,null,null,null,null,null,null,null,null,null,null,null,null,null,null,null,null,null,null,null,null,null,null,null,null,null,null,null,null,null,null,null,null,null,null,null,null,null,null,null,null,null,null,null,null,null,null,null,null,null,null,null,null,null,null,null,null,null,"","","","",null,null,{"$f":"IF(AND(C46<>0,OR(AO46=\"\",AP46=\"\",AQ46=\"\",AR46=\"\",AT46=\"\")),1,0)","v":0},{"$f":"IF(OR(C46<(AO46+AP46),C46<AQ46,C46<AR46,C46<AT46),1,0)","v":0},{"$f":"IF(C46<AN46,1,0)","v":0},{"$f":"IF((J46+K46+L46+M46)<AS46,1,0)","v":0}]
["SALUD SEXUAL Y REPRODUCTIVA CON O SIN ENTREGA DE PRESERVATIVOS","MÉDICO/A",0,{"$f":"SUM(J47+L47+N47+P47+R47+T47+V47+X47+Z47+AB47+AD47+AF47+AH47+AJ47+AL47)","v":0},{"$f":"SUM(K47+M47+O47+Q47+S47+U47+W47+Y47+AA47+AC47+AE47+AG47+AI47+AK47+AM47)","v":0},null,null,null,null,null,null,null,null,null,null,null,null,null,null,null,null,null,null,null,null,null,null,null,null,null,null,null,null,null,null,null,null,null,null,null,null,null,null,null,null,null,null,null,null,null,null,null,null,null,null,null,null,null,null,null,null,null,null,null,null,null,null,null,null,null,null,null,null,null,null,null,null,null,null,"","","","",null,null,0,0,0,0]
[null,"ENFERMERA /O",0,{"$f":"SUM(J48+L48+N48+P48+R48+T48+V48+X48+Z48+AB48+AD48+AF48+AH48+AJ48+AL48)","v":0},{"$f":"SUM(K48+M48+O48+Q48+S48+U48+W48+Y48+AA48+AC48+AE48+AG48+AI48+AK48+AM48)","v":0},null,null,null,null,null,null,null,null,null,null,null,null,null,null,null,null,null,null,null,null,null,null,null,null,null,null,null,null,null,null,null,null,null,null,null,null,null,null,null,null,null,null,null,null,null,null,null,null,null,null,null,null,null,null,null,null,null,null,null,null,null,null,null,null,null,null,null,null,null,null,null,null,null,null,"","","","",null,null,0,0,0,0]
[null,"MATRONA /ÓN",0,{"$f":"SUM(J49+L49+N49+P49+R49+T49+V49+X49+Z49+AB49+AD49+AF49+AH49+AJ49+AL49)","v":0},{"$f":"SUM(K49+M49+O49+Q49+S49+U49+W49+Y49+AA49+AC49+AE49+AG49+AI49+AK49+AM49)","v":0},null,null,null,null,null,null,null,null,null,null,null,null,null,null,null,null,null,null,null,null,null,null,null,null,null,null,null,null,null,null,null,null,null,null,null,null,null,null,null,null,null,null,null,null,null,null,null,null,null,null,null,null,null,null,null,null,null,null,null,null,null,null,null,null,null,null,null,null,null,null,null,null,null,null,"","","","",null,null,0,0,0,0]
[null,"PSICÓLOGO /A",0,0,0,null,null,null,null,null,null,null,null,null,null,null,null,null,null,null,null,null,null,null,null,null,null,null,null,null,null,null,null,null,null,null,null,null,null,null,null,null,null,null,null,null,null,null,null,null,null,null,null,null,null,null,null,null,null,null,null,null,null,null,null,null,null,null,null,null,null,null,null,null,null,null,null,null,null,"","","","",null,null,0,0,0,0]
[null,"FACILITADOR/A INTERCULTURAL",0,{"$f":"SUM(J51+L51+N51+P51+R51+T51+V51+X51+Z51+AB51+AD51+AF51+AH51+AJ51+AL51)","v":0},{"$f":"SUM(K51+M51+O51+Q51+S51+U51+W51+Y51+AA51+AC51+AE51+AG51+AI51+AK51+AM51)","v":0},null,null,null,null,null,null,null,null,null,null,null,null,null,null,null,null,null,null,null,null,null,null,null,null,null,null,null,null,null,null,null,null,null,null,null,null,null,null,null,null,null,null,null,null,null,null,null,null,null,null,null,null,null,null,null,null,null,null,null,null,null,null,null,null,null,null,null,null,null,null,null,null,null,null,"","","","",null,null,0,0,0,0]
[null,"OTRO PROFESIONAL",0,0,0,null,null,null,null,null,null,null,null,null,null,null,null,null,null,null,null,null,null,null,null,null,null,null,null,null,null,null,null,null,null,null,null,null,null,null,null,null,null,null,null,null,null,null,null,null,null,null,null,null,null,null,null,null,null,null,null,null,null,null,null,null,null,null,null,null,null,null,null,null,null,null,null,null,null,"","","","",null,null,0,0,0,0]
["REGULACIÓN DE FERTILIDAD CON O SIN ENTREGA DE PRESERVATIVOS","MÉDICO/A",0,{"$f":"SUM(J53+L53+N53+P53+R53+T53+V53+X53+Z53+AB53)","v":0},0,null,null,null,null,null,null,null,null,null,null,null,null,null,null,null,null,null,null,null,null,null,null,null,null,null,null,null,null,null,null,null,null,null,null,null,null,null,null,null,null,null,null,null,null,null,null,null,null,null,null,null,null,null,null,null,null,null,null,null,null,null,null,null,null,null,null,null,null,null,null,null,null,null,null,"","","","",null,null,0,0,0,0]
[null,"MATRONA /ÓN",0,0,0,null,null,null,null,null,null,null,null,null,null,null,null,null,null,null,null,null,null,null,null,null,null,null,null,null,null,null,null,null,null,null,null,null,null,null,null,null,null,null,null,null,null,null,null,null,null,null,null,null,null,null,null,null,null,null,null,null,null,null,null,null,null,null,null,null,null,null,null,null,null,null,null,null,null,"","","","",null,null,0,0,0,0]
[null,"FACILITADOR/A INTERCULTURAL",0,0,0,null,null,null,null,null,null,null,null,null,null,null,null,null,null,null,null,null,null,null,null,null,null,null,null,null,null,null,null,null,null,null,null,null,null,null,null,null,null,null,null,null,null,null,null,null,null,null,null,null,null,null,null,null,null,null,null,null,null,null,null,null,null,null,null,null,null,null,null,null,null,null,null,null,null,"","","","",null,null,0,0,0,0]
[null,"OTRO PROFESIONAL",0,0,0,null,null,null,null,null,null,null,null,null,null,null,null,null,null,null,null,null,null,null,null,null,null,null,null,null,null,null,null,null,null,null,null,null,null,null,null,null,null,null,null,null,null,null,null,null,null,null,null,null,null,null,null,null,null,null,null,null,null,null,null,null,null,null,null,null,null,null,null,null,null,null,null,null,null,"","","","",null,null,0,0,0,0]
["PREVENCIÓN VIH E INFECCIÓN DE TRANSMISIÓN SEXUAL (ITS) CON O SIN ENTREGA DE PRESERVATIVOS","MÉDICO/A",0,{"$f":"SUM(J57+L57+N57+P57+R57+T57+V57+X57+Z57+AB57+AD57+AF57+AH57+AJ57+AL57)","v":0},{"$f":"SUM(K57+M57+O57+Q57+S57+U57+W57+Y57+AA57+AC57+AE57+AG57+AI57+AK57+AM57)","v":0},null,null,null,null,null,null,null,null,null,null,null,null,null,null,null,null,null,null,null,null,null,null,null,null,null,null,null,null,null,null,null,null,null,null,null,null,null,null,null,null,null,null,null,null,null,null,null,null,null,null,null,null,null,null,null,null,null,null,null,null,null,null,null,null,null,null,null,null,null,null,null,null,null,null,"","","","",null,null,0,0,0,0]
[null,"ENFERMERA /O",0,{"$f":"SUM(J58+L58+N58+P58+R58+T58+V58+X58+Z58+AB58+AD58+AF58+AH58+AJ58+AL58)","v":0},{"$f":"SUM(K58+M58+O58+Q58+S58+U58+W58+Y58+AA58+AC58+AE58+AG58+AI58+AK58+AM58)","v":0},null,null,null,null,null,null,null,null,null,null,null,null,null,null,null,null,null,null,null,null,null,null,null,null,null,null,null,null,null,null,null,null,null,null,null,null,null,null,null,null,null,null,null,null,null,null,null,null,null,null,null,null,null,null,null,null,null,null,null,null,null,null,null,null,null,null,null,null,null,null,null,null,null,null,"","","","",null,null,0,0,0,0]
[null,"MATRONA /ÓN",0,0,0,null,null,null,null,null,null,null,null,null,null,null,null,null,null,null,null,null,null,null,null,null,null,null,null,null,null,null,null,null,null,null,null,null,null,null,null,null,null,null,null,null,null,null,null,null,null,null,null,null,null,null,null,null,null,null,null,null,null,null,null,null,null,null,null,null,null,null,null,null,null,null,null,null,null,"","","","",null,null,0,0,0,0]
[null,"TRABAJADOR/A SOCIAL",0,0,0,null,null,null,null,null,null,null,null,null,null,null,null,null,null,null,null,null,null,null,null,null,null,null,null,null,null,null,null,null,null,null,null,null,null,null,null,null,null,null,null,null,null,null,null,null,null,null,null,null,null,null,null,null,null,null,null,null,null,null,null,null,null,null,null,null,null,null,null,null,null,null,null,null,null,"","","","",null,null,0,0,0,0]
[null,"PSICÓLOGO /A",0,0,0,null,null,null,null,null,null,null,null,null,null,null,null,null,null,null,null,null,null,null,null,null,null,null,null,null,null,null,null,null,null,null,null,null,null,null,null,null,null,null,null,null,null,null,null,null,null,null,null,null,null,null,null,null,null,null,null,null,null,null,null,null,null,null,null,null,null,null,null,null,null,null,null,null,null,"","","","",null,null,0,0,0,0]
[null,"FACILITADOR/A INTERCULTURAL",0,0,0,null,null,null,null,null,null,null,null,null,null,null,null,null,null,null,null,null,null,null,null,null,null,null,null,null,null,null,null,null,null,null,null,null,null,null,null,null,null,null,null,null,null,null,null,null,null,null,null,null,null,null,null,null,null,null,null,null,null,null,null,null,null,null,null,null,null,null,null,null,null,null,null,null,null,"","","","",null,null,0,0,0,0]
[null,"OTRO PROFESIONAL",0,0,0,null,null,null,null,null,null,null,null,null,null,null,null,null,null,null,null,null,null,null,null,null,null,null,null,null,null,null,null,null,null,null,null,null,null,null,null,null,null,null,null,null,null,null,null,null,null,null,null,null,null,null,null,null,null,null,null,null,null,null,null,null,null,null,null,null,null,null,null,null,null,null,null,null,null,"","","","",null,null,0,0,0,0]
["PREVENCIÓN DE LA TRANSMISIÓN VERTICAL DEL VIH (EMBARAZADAS) CON O SIN ENTREGA DE PRESERVATIVOS","MÉDICO/A PRE TEST",{"$f":"SUM(D64+E64)","v":0},null,{"$f":"SUM(K64+M64+O64+Q64+S64+U64+W64+Y64+AA64+AC64)","v":0},null,null,null,null,null,null,null,null,null,null,null,null,null,null,null,null,null,null,null,null,null,null,null,null,null,null,null,null,null,null,null,null,null,null,null,null,null,null,null,null,null,null,null,null,null,null,null,null,null,null,null,null,null,null,null,null,null,null,null,null,null,null,null,null,null,null,null,null,null,null,null,null,null,null,"","","","",null,null,0,0,0,0]
[null,"MATRONA /ÓN PRE TEST",0,null,{"$f":"SUM(K65+M65+O65+Q65+S65+U65+W65+Y65+AA65+AC65)","v":0},null,null,null,null,null,null,null,null,null,null,null,null,null,null,null,null,null,null,null,null,null,null,null,null,null,null,null,null,null,null,null,null,null,null,null,null,null,null,null,null,null,null,null,null,null,null,null,null,null,null,null,null,null,null,null,null,null,null,null,null,null,null,null,null,null,null,null,null,null,null,null,null,null,null,"","","","",null,null,0,0,0,0]
[null,"MÉDICO/A POST TEST",{"$f":"SUM(D66+E66)","v":0},null,{"$f":"SUM(K66+M66+O66+Q66+S66+U66+W66+Y66+AA66+AC66)","v":0},null,null,null,null,null,null,null,null,null,null,null,null,null,null,null,null,null,null,null,null,null,null,null,null,null,null,null,null,null,null,null,null,null,null,null,null,null,null,null,null,null,null,null,null,null,null,null,null,null,null,null,null,null,null,null,null,null,null,null,null,null,null,null,null,null,null,null,null,null,null,null,null,null,null,{"$f":"IF(CH66=1,\"* No olvide digitar la columna Trans y/o Pueblos Originarios y/o Migrantes y/o Población SENAME (Digite Cero si no tiene). \",\"\")","v":""},{"$f":"IF(CI66=1,\"* El número de Trans y/o Pueblos Originarios y/o Migrantes y/o Población SENAME NO DEBE ser mayor que el Total. \",\"\")","v":""},{"$f":"IF(CJ66=1,\"* Las consejerías realizadas en Espacios amigables NO DEBEN ser mayor al Total. \",\"\")","v":""},{"$f":"IF(CK66=1,\"* La columna 14-18 AÑOS no puede ser mayor al total por grupo edad de 10 a 19 años. \",\"\")","v":""},null,null,0,0,0,0]
[null,"MATRONA /ÓN POST TEST",{"$f":"SUM(D67+E67)","v":0},null,{"$f":"SUM(K67+M67+O67+Q67+S67+U67+W67+Y67+AA67+AC67)","v":0},null,null,null,null,null,null,null,null,null,null,null,null,null,null,null,null,null,null,null,null,null,null,null,null,null,null,null,null,null,null,null,null,null,null,null,null,null,null,null,null,null,null,null,null,null,null,null,null,null,null,null,null,null,null,null,null,null,null,null,null,null,null,null,null,null,null,null,null,null,null,null,null,null,null,{"$f":"IF(CH67=1,\"* No olvide digitar la columna Trans y/o Pueblos Originarios y/o Migrantes y/o Población SENAME (Digite Cero si no tiene). \",\"\")","v":""},{"$f":"IF(CI67=1,\"* El número de Trans y/o Pueblos Originarios y/o Migrantes y/o Población SENAME NO DEBE ser mayor que el Total. \",\"\")","v":""},{"$f":"IF(CJ67=1,\"* Las consejerías realizadas en Espacios amigables NO DEBEN ser mayor al Total. \",\"\")","v":""},{"$f":"IF(CK67=1,\"* La columna 14-18 AÑOS no puede ser mayor al total por grupo edad de 10 a 19 años. \",\"\")","v":""},null,null,0,0,0,0]
[null,"FACILITADOR/A INTERCULTURAL",{"$f":"SUM(D68+E68)","v":0},null,{"$f":"SUM(K68+M68+O68+Q68+S68+U68+W68+Y68+AA68+AC68)","v":0},null,null,null,null,null,null,null,null,null,null,null,null,null,null,null,null,null,null,null,null,null,null,null,null,null,null,null,null,null,null,null,null,null,null,null,null,null,null,null,null,null,null,null,null,null,null,null,null,null,null,null,null,null,null,null,null,null,null,null,null,null,null,null,null,null,null,null,null,null,null,null,null,null,null,{"$f":"IF(CH68=1,\"* No olvide digitar la columna Trans y/o Pueblos Originarios y/o Migrantes y/o Población SENAME (Digite Cero si no tiene). \",\"\")","v":""},{"$f":"IF(CI68=1,\"* El número de Trans y/o Pueblos Originarios y/o Migrantes y/o Población SENAME NO DEBE ser mayor que el Total. \",\"\")","v":""},{"$f":"IF(CJ68=1,\"* Las consejerías realizadas en Espacios amigables NO DEBEN ser mayor al Total. \",\"\")","v":""},{"$f":"IF(CK68=1,\"* La columna 14-18 AÑOS no puede ser mayor al total por grupo edad de 10 a 19 años. \",\"\")","v":""},null,null,0,0,0,0]
["DESARROLLO INFANTIL INTEGRAL","ENFERMERA /O",{"$f":"SUM(D69+E69)","v":0},{"$f":"SUM(F69+H69+J69)","v":0},{"$f":"SUM(G69+I69+K69)","v":0},null,null,null,null,null,null,null,null,null,null,null,null,null,null,null,null,null,null,null,null,null,null,null,null,null,null,null,null,null,null,null,null,null,null,null,null,null,null,null,null,null,null,null,null,null,null,null,null,null,null,null,null,null,null,null,null,null,null,null,null,null,null,null,null,null,null,null,null,null,null,null,null,null,null,{"$f":"IF(CH69=1,\"* No olvide digitar la columna Trans y/o Pueblos Originarios y/o Migrantes y/o Población SENAME (Digite Cero si no tiene). \",\"\")","v":""},{"$f":"IF(CI69=1,\"* El número de Trans y/o Pueblos Originarios y/o Migrantes y/o Población SENAME NO DEBE ser mayor que el Total. \",\"\")","v":""},{"$f":"IF(CJ69=1,\"* Las consejerías realizadas en Espacios amigables NO DEBEN ser mayor al Total. \",\"\")","v":""},{"$f":"IF(CK69=1,\"* La columna 14-18 AÑOS no puede ser mayor al total por grupo edad de 10 a 19 años. \",\"\")","v":""},null,null,0,0,0,0]
["SECCIÓN A.2: CONSEJERÍAS INDIVIDUALES POR VIH (NO INCLUIDAS EN LA SECCIÓN A.1)"]
["CONSEJERÍAS","ÁREA O NIVEL","TOTAL              ",null,null,"GRUPOS DE EDAD (en años)",null,null,null,null,null,null,null,null,null,null,null,null,null,null,null,null,null,null,null,null,null,null,null,null,null,null,null,null,null,null,null,null,null,"TRANS",null,"Pueblos Originarios","Migrantes","Niños, Niñas, Adolescentes y Jóvenes SENAME","Niños, Niñas, Adolescentes y Jóvenes Mejor Niñez"]
[null,null,null,null,null,"0 - 4 años",null,"5 - 9 años",null,"10 - 14 años",null,"15-19 años ",null,"20-24 años",null,"25-29 años",null,"30-34 años",null,"35-39 años",null,"40-44 años",null,"45-49 años",null,"50-54 años",null,"55-59 años",null,"60-64 años",null,"65-69 años",null,"70-74 años",null,"75- 79 años",null,"80 y mas años"]
[null,null,"AMBOS SEXOS","HOMBRES","MUJERES","HOMBRES","MUJERES","HOMBRES","MUJERES","HOMBRES","MUJERES","HOMBRES","MUJERES","HOMBRES","MUJERES","HOMBRES","MUJERES","HOMBRES","MUJERES","HOMBRES","MUJERES","HOMBRES","MUJERES","HOMBRES","MUJERES","HOMBRES","MUJERES","HOMBRES","MUJERES","HOMBRES","MUJERES","HOMBRES","MUJERES","HOMBRES","MUJERES","HOMBRES","MUJERES","HOMBRES","MUJERES","Masculino","Femenino"]
["CONSEJERIA PRE TEST VIH","EN BANCO DE SANGRE  (DONANTES)",{"$f":"SUM(D74+E74)","v":0},{"$f":"+L74+N74+P74+R74+T74+V74+X74+Z74+AB74+AD74","v":0},{"$f":"+M74+O74+Q74+S74+U74+W74+Y74+AA74+AC74+AE74","v":0},null,null,null,null,null,null,null,null,null,null,null,null,null,null,null,null,null,null,null,null,null,null,null,null,null,null,null,null,null,null,null,null,null,null,null,null,null,null,null,null,{"$f":"$CB74&$CC74&$CD74&$CE74","v":""},null,null,null,null,null,null,null,null,null,null,null,null,null,null,null,null,null,null,null,null,null,null,null,null,null,null,null,null,null,null,null,null,null,{"$f":"IF(CH74=1,\"* No olvide digitar la columna Trans y/o Pueblos Originarios y/o Migrantes y/o Población SENAME (Digite Cero si no tiene). \",\"\")","v":""},{"$f":"IF(CI74=1,\"* El número de Trans y/o Pueblos Originarios y/o Migrantes y/o Población SENAME NO DEBE ser mayor que el Total. \",\"\")","v":""},null,null,null,null,{"$f":"IF(AND(C74<>0,OR(AO74=\"\",AP74=\"\",AQ74=\"\",AR74=\"\",AN74=\"\")),1,0)","v":0},{"$f":"IF(OR(C74<(AN74+AO74),C74<AQ74,C74<AP74,C74<AR74),1,0)","v":0}]
[null,"HOSPITALIZACIÓN",0,{"$f":"SUM(F75+H75+J75+L75+N75+P75+R75+T75+V75+X75+Z75+AB75+AD75+AF75+AH75+AJ75+AL75)","v":0},0,null,null,null,null,null,null,null,null,null,null,null,null,null,null,null,null,null,null,null,null,null,null,null,null,null,null,null,null,null,null,null,null,null,null,null,null,null,null,null,null,"",null,null,null,null,null,null,null,null,null,null,null,null,null,null,null,null,null,null,null,null,null,null,null,null,null,null,null,null,null,null,null,null,null,"","",null,null,null,null,0,0]
[null,"EN CDT - CRS",0,0,0,null,null,null,null,null,null,null,null,null,null,null,null,null,null,null,null,null,null,null,null,null,null,null,null,null,null,null,null,null,null,null,null,null,null,null,null,null,null,null,null,"",null,null,null,null,null,null,null,null,null,null,null,null,null,null,null,null,null,null,null,null,null,null,null,null,null,null,null,null,null,null,null,null,null,"","",null,null,null,null,0,0]
[null,"EN APS",0,0,0,null,null,null,null,null,null,null,null,null,null,null,null,null,null,null,null,null,null,null,null,null,null,null,null,null,null,null,null,null,null,null,null,null,null,null,null,null,null,null,null,"",null,null,null,null,null,null,null,null,null,null,null,null,null,null,null,null,null,null,null,null,null,null,null,null,null,null,null,null,null,null,null,null,null,"","",null,null,null,null,0,0]
[null,"EN APS - ESPACIOS AMIGABLES",0,{"$f":"+J78+L78+N78","v":0},{"$f":"+K78+M78+O78","v":0},null,null,null,null,null,null,null,null,null,null,null,null,null,null,null,null,null,null,null,null,null,null,null,null,null,null,null,null,null,null,null,null,null,null,null,null,null,null,null,null,"",null,null,null,null,null,null,null,null,null,null,null,null,null,null,null,null,null,null,null,null,null,null,null,null,null,null,null,null,null,null,null,null,null,"","",null,null,null,null,0,0]
[null,"EN OTRAS INSTANCIAS",0,{"$f":"SUM(F79+H79+J79+L79+N79+P79+R79+T79+V79+X79+Z79+AB79+AD79+AF79+AH79+AJ79+AL79)","v":0},{"$f":"SUM(G79+I79+K79+M79+O79+Q79+S79+U79+W79+Y79+AA79+AC79+AE79+AG79+AI79+AK79+AM79)","v":0},null,null,null,null,null,null,null,null,null,null,null,null,null,null,null,null,null,null,null,null,null,null,null,null,null,null,null,null,null,null,null,null,null,null,null,null,null,null,null,null,"",null,null,null,null,null,null,null,null,null,null,null,null,null,null,null,null,null,null,null,null,null,null,null,null,null,null,null,null,null,null,null,null,null,"","",null,null,null,null,0,0]
["CONSEJERÍAS POST TEST VIH","EN BANCO DE SANGRE  (DONANTES)",{"$f":"SUM(D80+E80)","v":0},{"$f":"+L80+N80+P80+R80+T80+V80+X80+Z80+AB80+AD80","v":0},{"$f":"+M80+O80+Q80+S80+U80+W80+Y80+AA80+AC80+AE80","v":0},null,null,null,null,null,null,null,null,null,null,null,null,null,null,null,null,null,null,null,null,null,null,null,null,null,null,null,null,null,null,null,null,null,null,null,null,null,null,null,null,"",null,null,null,null,null,null,null,null,null,null,null,null,null,null,null,null,null,null,null,null,null,null,null,null,null,null,null,null,null,null,null,null,null,"","",null,null,null,null,0,0]
[null,"HOSPITALIZACIÓN",0,{"$f":"SUM(F81+H81+J81+L81+N81+P81+R81+T81+V81+X81+Z81+AB81+AD81+AF81+AH81+AJ81+AL81)","v":0},0,null,null,null,null,null,null,null,null,null,null,null,null,null,null,null,null,null,null,null,null,null,null,null,null,null,null,null,null,null,null,null,null,null,null,null,null,null,null,null,null,"",null,null,null,null,null,null,null,null,null,null,null,null,null,null,null,null,null,null,null,null,null,null,null,null,null,null,null,null,null,null,null,null,null,"","",null,null,null,null,0,0]
[null,"EN CDT - CRS",0,0,0,null,null,null,null,null,null,null,null,null,null,null,null,null,null,null,null,null,null,null,null,null,null,null,null,null,null,null,null,null,null,null,null,null,null,null,null,null,null,null,null,"",null,null,null,null,null,null,null,null,null,null,null,null,null,null,null,null,null,null,null,null,null,null,null,null,null,null,null,null,null,null,null,null,null,"","",null,null,null,null,0,0]
[null,"EN APS",0,0,0,null,null,null,null,null,null,null,null,null,null,null,null,null,null,null,null,null,null,null,null,null,null,null,null,null,null,null,null,null,null,null,null,null,null,null,null,null,null,null,null,"",null,null,null,null,null,null,null,null,null,null,null,null,null,null,null,null,null,null,null,null,null,null,null,null,null,null,null,null,null,null,null,null,null,"","",null,null,null,null,0,0]
[null,"EN APS - ESPACIOS AMIGABLES",0,{"$f":"+J84+L84+N84","v":0},{"$f":"+K84+M84+O84","v":0},null,null,null,null,null,null,null,null,null,null,null,null,null,null,null,null,null,null,null,null,null,null,null,null,null,null,null,null,null,null,null,null,null,null,null,null,null,null,null,null,"",null,null,null,null,null,null,null,null,null,null,null,null,null,null,null,null,null,null,null,null,null,null,null,null,null,null,null,null,null,null,null,null,null,"","",null,null,null,null,0,0]
[null,"EN OTRAS INSTANCIAS",0,{"$f":"SUM(F85+H85+J85+L85+N85+P85+R85+T85+V85+X85+Z85+AB85+AD85+AF85+AH85+AJ85+AL85)","v":0},{"$f":"SUM(G85+I85+K85+M85+O85+Q85+S85+U85+W85+Y85+AA85+AC85+AE85+AG85+AI85+AK85+AM85)","v":0},null,null,null,null,null,null,null,null,null,null,null,null,null,null,null,null,null,null,null,null,null,null,null,null,null,null,null,null,null,null,null,null,null,null,null,null,null,null,null,null,"",null,null,null,null,null,null,null,null,null,null,null,null,null,null,null,null,null,null,null,null,null,null,null,null,null,null,null,null,null,null,null,null,null,"","",null,null,null,null,0,0]
["SECCIÓN A.3: CONSEJERÍAS FAMILIARES"]
["TEMAS PRIORIDAD","FAMILIA","TOTAL ACTIVIDADES","ESPACIOS AMIGABLES"]
[null,"CON RIESGO PSICOSOCIAL",null,null,{"$f":"$CA88&$CB88&$CC88&$CD88","v":""},null,null,null,null,null,null,null,null,null,null,null,null,null,null,null,null,null,null,null,null,null,null,null,null,null,null,null,null,null,null,null,null,null,null,null,null,null,null,null,null,null,null,null,null,null,null,null,null,null,null,null,null,null,null,null,null,null,null,null,null,null,null,null,null,null,null,null,null,null,null,null,null,null,{"$f":"IF(D88<=C88,\"\",\"* Las consejerías realizadas en Espacios Amigables NO DEBEN ser mayor al Total de Actividades. \")","v":""},null,null,null,null,null,{"$f":"IF(D88<=C88,0,1)","v":0}]
[null,"CON INTEGRANTE DE PATOLOGÍA CRÓNICA",null,null,{"$f":"$CA89&$CB89&$CC89&$CD89","v":""},null,null,null,null,null,null,null,null,null,null,null,null,null,null,null,null,null,null,null,null,null,null,null,null,null,null,null,null,null,null,null,null,null,null,null,null,null,null,null,null,null,null,null,null,null,null,null,null,null,null,null,null,null,null,null,null,null,null,null,null,null,null,null,null,null,null,null,null,null,null,null,null,null,{"$f":"IF(D89<=C89,\"\",\"* Las consejerías realizadas en Espacios Amigables NO DEBEN ser mayor al Total de Actividades. \")","v":""},null,null,null,null,null,{"$f":"IF(D89<=C89,0,1)","v":0}]
[null,"CON INTEGRANTE CON PROBLEMA DE SALUD MENTAL",null,null,{"$f":"$CA90&$CB90&$CC90&$CD90","v":""},null,null,null,null,null,null,null,null,null,null,null,null,null,null,null,null,null,null,null,null,null,null,null,null,null,null,null,null,null,null,null,null,null,null,null,null,null,null,null,null,null,null,null,null,null,null,null,null,null,null,null,null,null,null,null,null,null,null,null,null,null,null,null,null,null,null,null,null,null,null,null,null,null,{"$f":"IF(D90<=C90,\"\",\"* Las consejerías realizadas en Espacios Amigables NO DEBEN ser mayor al Total de Actividades. \")","v":""},null,null,null,null,null,{"$f":"IF(D90<=C90,0,1)","v":0}]
[null,"CON ADULTO MAYOR DEPENDIENTE"]
[null,"CON ADULTO MAYOR CON DEMENCIA"]
[null,"CON INTEGRANTE CON ENFERMEDAD TERMINAL",null,null,{"$f":"$CA93&$CB93&$CC93&$CD93","v":""},null,null,null,null,null,null,null,null,null,null,null,null,null,null,null,null,null,null,null,null,null,null,null,null,null,null,null,null,null,null,null,null,null,null,null,null,null,null,null,null,null,null,null,null,null,null,null,null,null,null,null,null,null,null,null,null,null,null,null,null,null,null,null,null,null,null,null,null,null,null,null,null,null,{"$f":"IF(D93<=C93,\"\",\"* Las consejerías realizadas en Espacios Amigables NO DEBEN ser mayor al Total de Actividades. \")","v":""},null,null,null,null,null,{"$f":"IF(D93<=C93,0,1)","v":0}]
[null,"CON INTEGRANTE DEPENDIENTE SEVERO",null,null,{"$f":"$CA94&$CB94&$CC94&$CD94","v":""},null,null,null,null,null,null,null,null,null,null,null,null,null,null,null,null,null,null,null,null,null,null,null,null,null,null,null,null,null,null,null,null,null,null,null,null,null,null,null,null,null,null,null,null,null,null,null,null,null,null,null,null,null,null,null,null,null,null,null,null,null,null,null,null,null,null,null,null,null,null,null,null,null,{"$f":"IF(D94<=C94,\"\",\"* Las consejerías realizadas en Espacios Amigables NO DEBEN ser mayor al Total de Actividades. \")","v":""},null,null,null,null,null,{"$f":"IF(D94<=C94,0,1)","v":0}]
[null,"OTRAS ÁREAS DE INTERVENCIÓN",null,null,{"$f":"$CA95&$CB95&$CC95&$CD95","v":""},null,null,null,null,null,null,null,null,null,null,null,null,null,null,null,null,null,null,null,null,null,null,null,null,null,null,null,null,null,null,null,null,null,null,null,null,null,null,null,null,null,null,null,null,null,null,null,null,null,null,null,null,null,null,null,null,null,null,null,null,null,null,null,null,null,null,null,null,null,null,null,null,null,{"$f":"IF(D95<=C95,\"\",\"* Las consejerías realizadas en Espacios Amigables NO DEBEN ser mayor al Total de Actividades. \")","v":""},null,null,null,null,null,{"$f":"IF(D95<=C95,0,1)","v":0}]
[null,"CON ADOLESCENTE VIH (+)",null,null,{"$f":"$CA96&$CB96&$CC96&$CD96","v":""},null,null,null,null,null,null,null,null,null,null,null,null,null,null,null,null,null,null,null,null,null,null,null,null,null,null,null,null,null,null,null,null,null,null,null,null,null,null,null,null,null,null,null,null,null,null,null,null,null,null,null,null,null,null,null,null,null,null,null,null,null,null,null,null,null,null,null,null,null,null,null,null,null,{"$f":"IF(D96<=C96,\"\",\"* Las consejerías realizadas en Espacios Amigables NO DEBEN ser mayor al Total de Actividades. \")","v":""},null,null,null,null,null,{"$f":"IF(D96<=C96,0,1)","v":0}]
["SECCIÓN B: ACTIVIDADES DE PROMOCIÓN"]
["SECCIÓN B.1: ACTIVIDADES DE PROMOCIÓN SEGÚN ESTRATEGIAS Y CONDICIONANTES ABORDADAS Y NÚMERO DE PARTICIPANTES"]
["ACTIVIDADES","ESTRATEGIA, ESPACIOS  O LÍNEAS DE ACCIÓN ","TOTAL ACTIVIDADES","CONDICIONANTES ABORDADAS",null,null,null,null,null,null,"DETERMINANTES SOCIALES DE LA SALUD ABORDADAS - CHILE CRECE CONTIGO","TOTAL PARTICIPANTES "]
[null,null,null,"Actividad física","Alimentación ","Ambiente libre de humo de tabaco","Factores protectores psicosociales","Factores protectores ambientales","Derechos humanos","Salud sexual y prevención de VIH/SIDA e ITS"]
["EVENTOS  MASIVOS ","COMUNAS, COMUNIDADES.",{"$f":"SUM(D101:J101)","v":0}]
[null,"ESPACIOS AMIGABLES EN APS",{"$f":"SUM(D102:J102)","v":0}]
[null,"LUGARES DE TRABAJO",0]
[null,"ESTABLECIMIENTOS EDUCACIÓN",0]
["REUNIONES DE PLANIFICACIÓN PARTICIPATIVA","COMUNAS, COMUNIDADES.",0]
[null,"ESPACIOS AMIGABLES EN APS",0]
[null,"LUGARES DE TRABAJO",0]
[null,"ESTABLECIMIENTOS EDUCACIÓN",0]
["\nJORNADAS Y  \nSEMINARIOS","COMUNAS, COMUNIDADES.",0]
[null,"ESPACIOS AMIGABLES EN APS",0]
[null,"LUGARES DE TRABAJO",0]
[null,"ESTABLECIMIENTOS EDUCACIÓN",0]
["EDUCACIÓN GRUPAL ","COMUNAS, COMUNIDADES.",0]
[null,"ESPACIOS AMIGABLES EN APS",0]
[null,"LUGARES DE TRABAJO",0]
[null,"ESTABLECIMIENTOS EDUCACIÓN",0]
["SECCIÓN B.2: TALLERES GRUPALES DE VIDA SANA SEGÚN TIPO, POR ESPACIOS DE ACCIÓN"]
["ESPACIOS DE ACCIÓN","TOTAL  TALLERES","\"AUTOESTIMA Y AUTOCUIDADO\" ","\"MENTE SANA Y CUERPO SANO\"","\"COMUNICACIÓN\"","\"YO ME CUIDO\"","CONTROL DEL TABACO","OTROS TIPO DE TALLERES"]
["COMUNAS, COMUNIDADES"]
["ESPACIOS AMIGABLES EN APS"]
["LUGARES DE TRABAJO"]
["ESTABLECIMIENTOS EDUCACIONALES"]
["SECCIÓN B.3: ACTIVIDADES DE GESTIÓN SEGÚN TIPO, POR ESPACIOS DE ACCIÓN"]
["ESPACIOS DE ACCIÓN","TOTAL ACTIVIDADES","REUNIONES DE GESTIÓN ","REUNIONES  MASIVAS DE GESTIÓN","ACCIONES DE COMUNICACIÓN Y DIFUSIÓN","PREPARACIÓN ACTIVIDADES EDUCATIVAS","ENTREVISTAS","INVESTIGACIÓN Y CAPACITACIÓN DE RRHH"]
["COMUNAS, COMUNIDADES",{"$f":"SUM(C125:H125)","v":0}]
["ESPACIOS AMIGABLES EN APS",0]
["LUGARES DE TRABAJO",0]
["ESTABLECIMIENTOS \nEDUCACIONALES",0]
["OFICINA INTERCULTURAL",0]
["OTROS",0]
["SECCIÓN B.4: TALLERES GRUPALES SEGÚN TEMÁTICA Y NUMERO DE PARTICIPANTES EN PROGRAMA ESPACIOS AMIGABLES "]
["ESPACIOS DE ACCIÓN","TOTAL TALLERES","Total Participantes","Total participantes en Actividad Física","Total Participantes en Alimentación ","Total Participantes en Libre de Humo del Tabaco","Total Parcicipantes en Factores Protectores Psicosociales ","Total Participantes en Prevención Consumo de Alcohol y Otras Drogas","Total Participantes en Salud Sexual y Prevención de VIH/SIDA e ITS","Total Participantes en Otros Tipos de Talleres"]
["ESPACIOS COMUNITARIOS"]
["ESTABLECIMIENTOS EDUCACIONALES"]
["CENTROS DE SALUD"]
["SECCIÓN C: TRABAJO CON AGRUPACIONES DE USUARIOS, COMUNIDAD Y DERECHOS HUMANOS (PRAIS)"]
["ACTIVIDADES","ESTRATEGIA, ESPACIOS  O LÍNEAS DE ACCIÓN ","TOTAL ACTIVIDADES","CONDICIONANTES ABORDADAS",null,null,null,null,null,null,"DETERMINANTES SOCIALES DE LA SALUD ABORDADAS - CHILE CRECE CONTIGO","TOTAL PARTICIPANTES "]
[null,null,null,"Actividad física","Alimentación ","Ambiente libre de humo de tabaco","Factores protectores psicosociales","Factores protectores ambientales","Derechos humanos","Salud sexual y prevención de VIH/SIDA e ITS"]
["EVENTOS  MASIVOS ","COMUNAS, COMUNIDADES.",{"$f":"SUM(D139:J139)","v":0}]
[null,"ESPACIOS AMIGABLES EN APS",{"$f":"SUM(D140:J140)","v":0}]
[null,"LUGARES DE TRABAJO",0]
[null,"ESTABLECIMIENTOS EDUCACIÓN",0]
["REUNIONES DE PLANIFICACIÓN PARTICIPATIVA","COMUNAS, COMUNIDADES.",0]
[null,"ESPACIOS AMIGABLES EN APS",0]
[null,"LUGARES DE TRABAJO",0]
[null,"ESTABLECIMIENTOS EDUCACIÓN",0]
["\nJORNADAS Y  \nSEMINARIOS","COMUNAS, COMUNIDADES.",0]
[null,"ESPACIOS AMIGABLES EN APS",0]
[null,"LUGARES DE TRABAJO",0]
[null,"ESTABLECIMIENTOS EDUCACIÓN",0]
["EDUCACIÓN GRUPAL ","COMUNAS, COMUNIDADES.",0]
[null,"ESPACIOS AMIGABLES EN APS",0]
[null,"LUGARES DE TRABAJO",0]
[null,"ESTABLECIMIENTOS EDUCACIÓN",0]
["SECCIÓN D. TRABAJO INTERSECTORIAL PRAIS"]
["ACTIVIDADES","TOTAL DE PARTICIPANTES","Nº REUNIONES / SESIONES","Nº INSTITUCIONES,  ORGANIZACIONES  PARTICIPANTES"]
[]
["TRABAJO INTERSECTORIAL"]
["TRABAJO CON ORGANIZACIONES COMUNITARIAS DE BASE"]
["TRABAJO CON ORGANIZACIONES DE USUARIOS Y FAMILIARES"]
["COLABORACIÓN CON GRUPO DE AUTOAYUDA"]
["REUNIONES CON INSTITUCIONES DEL SECTOR SALUD PROGRAMA ACOMPAÑAMIENTO PSICOSOCIAL"]
["REUNIONES CON INSTITUCIONES DEL INTERSECTOR ACOMPAÑAMIENTO PSICOSOCIAL"]
["REUNIONES CON ORGANIZACIONES COMUNITARIAS ACOMPAÑAMIENTO PSICOSOCIAL"]
[]
[]
[]
[]
[]
[]
[]
[]
[]
[]
[]
[]
[]
[]
[]
[]
[]
[]
[]
[]
[]
[]
[]
[]
[]
[]
[]
[]
[]
[]
[]
[]
[]
[]
[]
[{"$f":"SUM(C14:C69,C74:C85,C88:C96,C101:C116,B119:B122,B125:B130,B133:B135,C139:C154,B158:B164)","v":0},{"$f":"SUM(DA14:DZ164)","v":0}]

{"sheet":"A19b","index":13,"n_rows":195,"n_cols":75,"rows_kept":195,"cut":false,"hidden":false,"merged":[[40,0,40,1],[41,0,41,1],[42,0,42,1],[43,0,43,1],[44,0,44,1],[39,0,39,1],[30,0,31,1],[30,7,30,10],[30,11,30,13],[32,0,32,1],[33,0,33,1],[34,0,34,1],[35,0,35,1],[36,0,36,1],[37,0,37,1],[38,0,38,1],[30,2,30,6],[5,0,5,15],[8,0,9,0],[8,5,8,6],[8,7,9,7],[8,8,8,9],[8,1,8,4]]}
["SERVICIO DE SALUD"]
[{"$f":"CONCATENATE(\"COMUNA: \",NOMBRE!B2,\" - \",\"( \",NOMBRE!C2,NOMBRE!D2,NOMBRE!E2,NOMBRE!F2,NOMBRE!G2,\" )\")","v":"COMUNA:  - (  )"}]
[{"$f":"CONCATENATE(\"ESTABLECIMIENTO/ESTRATEGIA: \",NOMBRE!B3,\" - \",\"( \",NOMBRE!C3,NOMBRE!D3,NOMBRE!E3,NOMBRE!F3,NOMBRE!G3,NOMBRE!H3,\" )\")","v":"ESTABLECIMIENTO/ESTRATEGIA:  - (  )"}]
[{"$f":"CONCATENATE(\"MES: \",NOMBRE!B6,\" - \",\"( \",NOMBRE!C6,NOMBRE!D6,\" )\")","v":"MES:  - (  )"}]
[{"$f":"CONCATENATE(\"AÑO: \",NOMBRE!B7)","v":"AÑO: 2023"}]
["REM-19b.   ACTIVIDADES DE PARTICIPACIÓN SOCIAL"]
[]
["SECCIÓN A: ATENCIÓN OFICINAS DE INFORMACIONES (SISTEMA INTEGRAL DE ATENCIÓN A USUARIOS)"]
["TIPO DE ATENCION","Nº DE ATENCIONES EN EL MES",null,null,null,"RESPUESTAS DEL MES DENTRO DE PLAZOS LEGALES ( 15 DIAS HÁBILES)",null,"RECLAMOS RESPONDIDOS FUERA DE PLAZOS LEGALES","RECLAMOS PENDIENTES"]
[null,"Total","Hombres","Mujeres","TRANS Femenino/Masculino","Reclamos generados en el mes","Reclamos generados en el mes anterior",null,"Respuestas pendientes dentro del plazo legal","Respuestas pendientes fuera del plazo legal"]
["TOTAL DE RECLAMOS ",{"$f":"SUM(C11:E11)","v":0},{"$f":"SUM(C12:C24)","v":0},0,0,0,0,0,0,0]
["TRATO",{"$f":"SUM(C12:E12)","v":0}]
["COMPETENCIA TÉCNICA",{"$f":"SUM(C13:E13)","v":0}]
["INFRAESTRUCTURA",0]
["TIEMPO DE ESPERA (EN SALA DE ESPERA)",0]
["TIEMPO DE ESPERA, POR CONSULTA ESPECIALIDAD (POR LISTA DE ESPERA)",0]
["TIEMPO DE ESPERA, POR PROCEDIMIENTO (LISTA DE ESPERA)",0]
["TIEMPO DE ESPERA , POR CIRUGÍA (LISTA DE ESPERA)",0]
["INFORMACIÓN",0]
["PROCEDIMIENTOS ADMINISTRATIVOS",0]
["PROBIDAD ADMINISTRATIVA",0]
["INCUMPLIMIENTO GARANTÍAS EXPLÍCITAS EN SALUD (GES)",0]
["INCUMPLIMIENTO DE GARANTÍAS LEY RICARTE SOTO",0]
["INCUMPLIMIENTO DE GARANTÍAS FOFAR",0]
["CONSULTAS",0]
["SUGERENCIAS",0]
["FELICITACIONES",0]
["SOLICITUDES",0]
["SOLICITUDES LEY 20.285 (Ley de Transparencia)",0]
["SECCIÓN B: ACTIVIDADES POR ESTRATEGIA/LÍNEA DE ACCIÓN O ESPACIO / INSTANCIA DE PARTICIPACIÓN SOCIAL"]
["TIPO DE ACTIVIDADES",null,"ESPACIOS/INSTANCIAS ",null,null,null,null,"ESTRATEGIAS/LÍNEAS DE ACCIÓN",null,null,null,"PARTICIPANTES"]
[null,null,"Consultas Ciudadanas","Consejo de la Sociedad Civil, Consejos consultivos, de desarrollo y comités locales"," Consejos consultivos de Adolescentes y Jóvenes","Otras instancias de Participación Juvenil","Mesas: Territoriales, diálogos ciudadanos, mesa salud intercultural","Cuentas públicas participativas","Presupuestos participativos","Estrategias de satisfacción usuaria","Planificación local participativa (Diagnósticos, programación y evaluación)","Total participantes","Total hombres","Total mujeres"]
["ADMINISTRACIÓN Y GESTIÓN",null,null,null,null,null,null,null,null,null,null,{"$f":"SUM(M33+N33)","v":0}]
["ENTREVISTAS",null,null,null,null,null,null,null,null,null,null,{"$f":"SUM(M34+N34)","v":0}]
["REUNIONES INTRASECTOR",null,null,null,null,null,null,null,null,null,null,{"$f":"SUM(M35+N35)","v":0}]
["REUNIONES INTERSECTOR",null,null,null,null,null,null,null,null,null,null,{"$f":"SUM(M36+N36)","v":0}]
["ACTIVIDADES DE MONITOREO"]
["ASESORÍA TÉCNICA"]
["JORNADAS DE INTERCAMBIO DE EXPERIENCIAS"]
["ACTIVIDADES DE DIFUSIÓN Y COMUNICACIÓN"]
["EDUCACIÓN Y CAPACITACIÓN COMUNITARIA",null,null,null,null,null,null,null,null,null,null,{"$f":"SUM(M41+N41)","v":0}]
["EVENTOS MASIVOS (ASAMBLEAS, CABILDOS, OTROS)"]
["ACTIVIDADES A PUEBLOS INDÍGENAS",null,null,null,null,null,null,null,null,null,null,{"$f":"SUM(M43+N43)","v":0}]
["TOTAL DE ACTIVIDADES",null,{"$f":"SUM(C33:C43)","v":0},{"$f":"SUM(D33:D43)","v":0},{"$f":"SUM(E33:E43)","v":0},{"$f":"SUM(F33:F43)","v":0},{"$f":"SUM(G33:G43)","v":0},{"$f":"SUM(H33:H42)","v":0},{"$f":"SUM(I33:I43)","v":0},{"$f":"SUM(J33:J43)","v":0},{"$f":"SUM(K33:K43)","v":0},{"$f":"SUM(L33+L34+L35+L36+L39+L40+L41+L43)","v":0},{"$f":"SUM(M33+M34+M35+M36+M41+M43)","v":0},{"$f":"SUM(N33+N34+N35+N36+N41+N43)","v":0}]
["ACTIVIDADES DE PARTICIPACIÓN SOCIAL POR TEC. PARAMÉDICO",null,null,null,null,null,null,null,null,null,null,{"$f":"SUM(M45+N45)","v":0}]
[]
[]
[null,null,null,null,null,null,null,null,null,null,null,null,null,null,null,null,null,null,null,null,null,null,null,null,null,null,null,null,null,null,null,null,null,null,null,null,null,null,null,null,null,null,null,null,null,null,null,null,null,null,null,null,null,null,null,null,null,null,null,null,null,null,null,null,null,null,null,null,null,null,null,null,null,null,{"$f":"IF(#REF!>#REF!,\"Casos/Instituciones deben ser menor o iguales al total Reuniones A. Mayor\",\"\")","v":{"$error":"#REF!"}}]
[]
[]
[]
[]
[]
[]
[]
[]
[]
[]
[]
[]
[]
[]
[]
[]
[]
[]
[]
[]
[]
[]
[]
[]
[]
[]
[]
[]
[]
[]
[]
[]
[]
[]
[]
[]
[]
[]
[]
[]
[]
[]
[]
[]
[]
[]
[]
[]
[]
[]
[]
[]
[]
[]
[]
[]
[]
[]
[]
[]
[]
[]
[]
[]
[]
[]
[]
[]
[]
[]
[]
[]
[]
[]
[]
[]
[]
[]
[]
[]
[]
[]
[]
[]
[]
[]
[]
[]
[]
[]
[]
[]
[]
[]
[]
[]
[]
[]
[]
[]
[]
[]
[]
[]
[]
[]
[]
[]
[]
[]
[]
[]
[]
[]
[]
[]
[]
[]
[]
[]
[]
[]
[]
[]
[]
[]
[]
[]
[]
[]
[]
[]
[]
[]
[]
[]
[]
[]
[]
[]
[]
[]
[]
[]
[]
[]
[{"$f":"SUM(B11,B25:B29,C44:N44)","v":0},{"$f":"SUM(CG6:CM50)","v":0}]

{"sheet":"A21","index":14,"n_rows":207,"n_cols":90,"rows_kept":207,"cut":false,"hidden":false,"merged":[[112,0,113,0],[112,2,112,4],[112,1,113,1],[25,0,25,4],[62,0,63,1],[68,0,69,0],[62,2,63,2],[64,0,64,1],[33,3,34,4],[50,1,50,6],[62,6,62,11],[62,3,62,5],[30,0,31,0],[102,5,102,6],[70,0,70,1],[102,0,103,0],[33,0,35,0],[49,0,49,6],[102,7,103,7],[50,0,51,0],[9,25,10,27],[27,0,27,1],[28,0,29,0],[9,15,10,19],[9,20,10,24],[9,10,10,14],[33,1,34,2],[33,5,33,8],[102,1,103,1],[102,2,102,4],[34,5,34,6],[34,7,34,8],[9,28,10,30],[8,25,8,30],[8,5,11,5],[8,10,8,24],[8,6,10,9],[8,4,11,4],[8,3,11,3],[8,2,11,2],[8,1,11,1],[8,0,11,0]]}
["SERVICIO DE SALUD"]
[{"$f":"CONCATENATE(\"COMUNA: \",NOMBRE!B2,\" - \",\"( \",NOMBRE!C2,NOMBRE!D2,NOMBRE!E2,NOMBRE!F2,NOMBRE!G2,\" )\")","v":"COMUNA:  - (  )"}]
[{"$f":"CONCATENATE(\"ESTABLECIMIENTO/ESTRATEGIA: \",NOMBRE!B3,\" - \",\"( \",NOMBRE!C3,NOMBRE!D3,NOMBRE!E3,NOMBRE!F3,NOMBRE!G3,NOMBRE!H3,\" )\")","v":"ESTABLECIMIENTO/ESTRATEGIA:  - (  )"}]
[{"$f":"CONCATENATE(\"MES: \",NOMBRE!B6,\" - \",\"( \",NOMBRE!C6,NOMBRE!D6,\" )\")","v":"MES:  - (  )"}]
[{"$f":"CONCATENATE(\"AÑO: \",NOMBRE!B7)","v":"AÑO: 2023"}]
[null,null,null,null,null,"REM-21.   QUIRÓFANOS Y OTROS RECURSOS HOSPITALARIOS"]
[]
["SECCIÓN A:  CAPACIDAD INSTALADA Y UTILIZACIÓN DE LOS QUIRÓFANOS"]
["TIPO DE QUIRÓFANOS","NÙMERO DE QUIRÓFANOS EN DOTACIÓN","PROMEDIO MENSUAL DE QUIRÓFANOS HABILITADOS","PROMEDIO MENSUAL  DE QUIRÓFANOS EN TRABAJO","TOTAL  DE HORAS MENSUALES DE QUIRÓFANOS HABILITADOS (HORARIO HÁBIL)","TOTAL DE HORAS MENSUALES DE QUIRÓFANOS EN TRABAJO","HORAS MENSUALES PROGRAMADAS DE TABLA QUIRÚRGICA DE QUIRÓFANOS EN TRABAJO, HORARIO HABIL",null,null,null,"CIRUGIAS MAYORES",null,null,null,null,null,null,null,null,null,null,null,null,null,null,"CIRUGIAS MENORES Y PROCEDIMIENTOS"]
[null,null,null,null,null,null,null,null,null,null,"HORAS MENSUALES OCUPADAS DE QUIRÓFANOS EN TRABAJO HORARIO HÁBIL",null,null,null,null,"HORAS MENSUALES OCUPADAS DE QUIRÓFANOS EN TRABAJO HORARIO INHÁBIL DE LUNES A VIERNES",null,null,null,null,"HORAS MENSUALES OCUPADAS DE QUIRÓFANOS EN TRABAJO HORARIO SÁBADO, DOMINGO Y FESTIVO",null,null,null,null,"TOTAL HORAS MENSUALES OCUPADAS DE QUIRÓFANOS EN TRABAJO, HORARIO HABIL",null,null,"TOTAL HORAS MENSUALES OCUPADAS DE QUIRÓFANOS EN TRABAJO, HORARIO INHABIL"]
[]
[null,null,null,null,null,null,"Totales","Beneficiarios MAI","Beneficiarios MLE","Otros","Totales","Beneficiarios MAI","Beneficiarios MLE","Otros","De preparación","Totales","Beneficiarios MAI","Beneficiarios MOLE","Otros","De preparación","Totales","Beneficiarios MAI","Beneficiarios MLE","Otros","De preparación","Totales","Cirugía Menor","Otros Procedimientos","Totales","Cirugía Menor","Otros Procedimientos"]
["TOTAL QUIRÓFANOS",{"$f":"SUM(B14:B18)","v":0},0,0,0,0,0,0,0,0,0,0,0,0,0,0,0,0,0,0,0,0,0,0,0,0,0,0,0,0,0]
["DE CIRUGÍA ELECTIVA",null,null,null,null,null,{"$f":"SUM(H14:J14)","v":0},null,null,null,{"$f":"SUM(L14:O14)","v":0},null,null,null,null,{"$f":"SUM(Q14:T14)","v":0},null,null,null,null,{"$f":"SUM(V14:Y14)","v":0},null,null,null,null,{"$f":"SUM(AA14:AB14)","v":0},null,null,{"$f":"SUM(AD14:AE14)","v":0}]
["GINECO/OBSTÉTRICO ELECTIVO",null,null,null,null,null,{"$f":"SUM(H15:J15)","v":0},null,null,null,{"$f":"SUM(L15:O15)","v":0},null,null,null,null,{"$f":"SUM(Q15:T15)","v":0},null,null,null,null,{"$f":"SUM(V15:Y15)","v":0},null,null,null,null,{"$f":"SUM(AA15:AB15)","v":0},null,null,{"$f":"SUM(AD15:AE15)","v":0}]
["DE URGENCIA",null,null,null,null,null,{"$f":"SUM(H16:J16)","v":0},null,null,null,{"$f":"SUM(L16:O16)","v":0},null,null,null,null,{"$f":"SUM(Q16:T16)","v":0},null,null,null,null,{"$f":"SUM(V16:Y16)","v":0},null,null,null,null,{"$f":"SUM(AA16:AB16)","v":0},null,null,{"$f":"SUM(AD16:AE16)","v":0}]
["OBSTÉTRICO",null,null,null,null,null,{"$f":"SUM(H17:J17)","v":0},null,null,null,null,null,null,null,null,null,null,null,null,null,null,null,null,null,null,{"$f":"SUM(AA17:AB17)","v":0},null,null,{"$f":"SUM(AD17:AE17)","v":0}]
["INDIFERENCIADO",null,null,null,null,null,{"$f":"SUM(H18:J18)","v":0},null,null,null,{"$f":"SUM(L18:O18)","v":0},null,null,null,null,{"$f":"SUM(Q18:T18)","v":0},null,null,null,null,{"$f":"SUM(V18:Y18)","v":0},null,null,null,null,{"$f":"SUM(AA18:AB18)","v":0},null,null,{"$f":"SUM(AD18:AE18)","v":0}]
["SECCIÓN B:  PROCEDIMIENTOS COMPLEJOS AMBULATORIOS"]
["COMPONENTES","TOTAL","Quimioterapia","Hemodiálisis","Cirugía Mayor Ambulatoria\n","Coronariografía\n","Otras"]
["RECURSO DISPONIBLE",{"$f":"SUM(C21:G21)","v":0}]
["INGRESOS",{"$f":"SUM(C22:G22)","v":0}]
["PERSONAS ATENDIDAS",{"$f":"SUM(C23:G23)","v":0}]
["DÍAS PERSONAS ATENDIDAS",{"$f":"SUM(C24:G24)","v":0}]
["ALTAS",{"$f":"SUM(C25:G25)","v":0}]
["SECCIÓN C: APOYO PSICOSOCIAL EN NIÑOS, NIÑAS Y ADOLESCENTES HOSPITALIZADOS"]
["CONCEPTO","INTERVENCIÓN","TOTAL","Hasta 28 días","29 días hasta menor de 1 año ","1 a 4 años","5 a 9 años","10 a 14 años","15 a 19 años"]
["TOTAL DE EGRESOS (en el período)",null,{"$f":"SUM(D28:I28)","v":0},null,null,null,null,null,null,{"$f":"CA28&CB28&CC28&CD28&CE28&CF28","v":""},null,null,null,null,null,null,null,null,null,null,null,null,null,null,null,null,null,null,null,null,null,null,null,null,null,null,null,null,null,null,null,null,null,null,null,null,null,null,null,null,null,null,null,null,null,null,null,null,null,null,null,null,null,null,null,null,null,null,null,null,null,null,null,null,null,null,null,null,{"$f":"IF(D29+D30>D28,\"* La suma del Total egresados con apoyo psicosocial Hasta 28 días deben ser menor o igual al Total de Egresos de Hasta 28 días. \",\"\")","v":""},{"$f":"IF(E29+E30>E28,\"* La suma del Total egresados con apoyo psicosocial de 29 dias hasta menor de 1 año deben ser menor al Total de Egresos de de 29 dias hasta menor de 1 año. \",\"\")","v":""},{"$f":"IF(F29+F30>F28,\"* La suma del Total egresados con apoyo psicosocial de 1 a 4 años deben ser menor al Total de Egresos de 1 a 4 años. \",\"\")","v":""},{"$f":"IF(G29+G30>G28,\"* La suma del Total egresados con apoyo psicosocial de 9 años deben ser menor o igual al Total de Egresos de de 5 a 9 años. \",\"\")","v":""},{"$f":"IF(H29+H30>H28,\"* La suma del Total egresados con apoyo psicosocial de 10 a 14 años deben ser menor al Total de Egresos de 10 a 14 años. \",\"\")","v":""},{"$f":"IF(I29+I30>I28,\"* La suma del Total egresados con apoyo psicosocial de 15 a 19 años deben ser menor al Total de Egresos de 15 a 19 años. \",\"\")","v":""},{"$f":"IF(D29+D30>D28,1,0)","v":0},0,0,0,0,0]
["EGRESADOS CON APOYO PSICOSOCIAL (en el período)","Intervención Psicosocial",{"$f":"SUM(D29:I29)","v":0},null,null,null,null,null,null,{"$f":"CA29&CB29&CC29&CD29&CE29&CF29","v":""}]
[null,"Estimulación del Desarrollo",{"$f":"SUM(D30:I30)","v":0},null,null,null,null,null,null,{"$f":"CA30&CB30&CC30&CD30&CE30&CF30","v":""}]
["Nº DE ATENCIONES (en el mes)","Intervención Psicosocial",{"$f":"SUM(D31:I31)","v":0},null,null,null,null,null,null,{"$f":"CA31&CB31&CC31&CD31&CE31&CF31","v":""}]
[null,"Estimulación del Desarrollo",{"$f":"SUM(D32:I32)","v":0},null,null,null,null,null,null,{"$f":"CA32&CB32&CC32&CD32&CE32&CF32","v":""}]
["SECCIÓN D: GESTIÓN DE PROCESOS DE PACIENTES QUIRÚRGICOS CON CIRUGÍA ELECTIVA"]
["ESPECIALIDAD","DÍAS DE ESTADA PREQUIRÚRGICOS",null,"PACIENTES INTERVENIDOS",null,"PROGRAMACIÓN DE TABLA QUIRÚRGICA (N° DE PACIENTES)"]
[null,null,null,null,null,"PACIENTES PROGRAMADOS",null,"PACIENTES SUSPENDIDOS"]
[null,"Menores de 15 años","15 años y más","Menores de 15 años","15 años y más","Menores de 15 años","15 años y más","Menores de 15 años","15 años y más"]
["CIRUGÍA GENERAL",null,null,null,null,null,null,null,null,{"$f":"CA37","v":""},null,null,null,null,null,null,null,null,null,null,null,null,null,null,null,null,null,null,null,null,null,null,null,null,null,null,null,null,null,null,null,null,null,null,null,null,null,null,null,null,null,null,null,null,null,null,null,null,null,null,null,null,null,null,null,null,null,null,null,null,null,null,null,null,null,null,null,null,{"$f":"IF(CG37=1,\" * La suma de los Pacientes Intervenidos debe ser mayor o igual a la Suma de Pacientes Programados menos la Suma de Pacientes Suspendidos. \",\"\")","v":""},null,null,null,null,null,{"$f":"IF(((F37+G37)-(H37+I37))>(D37+E37),1,0)","v":0}]
["CIRUGÍA CARDIOVASCULAR",null,null,null,null,null,null,null,null,{"$f":"CA38","v":""},null,null,null,null,null,null,null,null,null,null,null,null,null,null,null,null,null,null,null,null,null,null,null,null,null,null,null,null,null,null,null,null,null,null,null,null,null,null,null,null,null,null,null,null,null,null,null,null,null,null,null,null,null,null,null,null,null,null,null,null,null,null,null,null,null,null,null,null,{"$f":"IF(CG38=1,\" * La suma de los Pacientes Intervenidos debe ser mayor o igual a la Suma de Pacientes Programados menos la Suma de Pacientes Suspendidos. \",\"\")","v":""},null,null,null,null,null,{"$f":"IF(((F38+G38)-(H38+I38))>(D38+E38),1,0)","v":0}]
["CIRUGÍA MÁXILOFACIAL",null,null,null,null,null,null,null,null,"",null,null,null,null,null,null,null,null,null,null,null,null,null,null,null,null,null,null,null,null,null,null,null,null,null,null,null,null,null,null,null,null,null,null,null,null,null,null,null,null,null,null,null,null,null,null,null,null,null,null,null,null,null,null,null,null,null,null,null,null,null,null,null,null,null,null,null,null,"",null,null,null,null,null,0]
["CIRUGÍA TÓRAX",null,null,null,null,null,null,null,null,"",null,null,null,null,null,null,null,null,null,null,null,null,null,null,null,null,null,null,null,null,null,null,null,null,null,null,null,null,null,null,null,null,null,null,null,null,null,null,null,null,null,null,null,null,null,null,null,null,null,null,null,null,null,null,null,null,null,null,null,null,null,null,null,null,null,null,null,null,"",null,null,null,null,null,0]
["TRAUMATOLOGÍA",null,null,null,null,null,null,null,null,"",null,null,null,null,null,null,null,null,null,null,null,null,null,null,null,null,null,null,null,null,null,null,null,null,null,null,null,null,null,null,null,null,null,null,null,null,null,null,null,null,null,null,null,null,null,null,null,null,null,null,null,null,null,null,null,null,null,null,null,null,null,null,null,null,null,null,null,null,"",null,null,null,null,null,0]
["NEUROCIRUGÍA",null,null,null,null,null,null,null,null,"",null,null,null,null,null,null,null,null,null,null,null,null,null,null,null,null,null,null,null,null,null,null,null,null,null,null,null,null,null,null,null,null,null,null,null,null,null,null,null,null,null,null,null,null,null,null,null,null,null,null,null,null,null,null,null,null,null,null,null,null,null,null,null,null,null,null,null,null,"",null,null,null,null,null,0]
["OTORRINOLARINGOLOGÍA",null,null,null,null,null,null,null,null,"",null,null,null,null,null,null,null,null,null,null,null,null,null,null,null,null,null,null,null,null,null,null,null,null,null,null,null,null,null,null,null,null,null,null,null,null,null,null,null,null,null,null,null,null,null,null,null,null,null,null,null,null,null,null,null,null,null,null,null,null,null,null,null,null,null,null,null,null,"",null,null,null,null,null,0]
["OFTALMOLOGÍA",null,null,null,null,null,null,null,null,"",null,null,null,null,null,null,null,null,null,null,null,null,null,null,null,null,null,null,null,null,null,null,null,null,null,null,null,null,null,null,null,null,null,null,null,null,null,null,null,null,null,null,null,null,null,null,null,null,null,null,null,null,null,null,null,null,null,null,null,null,null,null,null,null,null,null,null,null,"",null,null,null,null,null,0]
["OBSTETRICIA Y GINECOLOGÍA",null,null,null,null,null,null,null,null,"",null,null,null,null,null,null,null,null,null,null,null,null,null,null,null,null,null,null,null,null,null,null,null,null,null,null,null,null,null,null,null,null,null,null,null,null,null,null,null,null,null,null,null,null,null,null,null,null,null,null,null,null,null,null,null,null,null,null,null,null,null,null,null,null,null,null,null,null,"",null,null,null,null,null,0]
["GINECOLOGÍA",null,null,null,null,null,null,null,null,"",null,null,null,null,null,null,null,null,null,null,null,null,null,null,null,null,null,null,null,null,null,null,null,null,null,null,null,null,null,null,null,null,null,null,null,null,null,null,null,null,null,null,null,null,null,null,null,null,null,null,null,null,null,null,null,null,null,null,null,null,null,null,null,null,null,null,null,null,"",null,null,null,null,null,0]
["UROLOGÍA",null,null,null,null,null,null,null,null,"",null,null,null,null,null,null,null,null,null,null,null,null,null,null,null,null,null,null,null,null,null,null,null,null,null,null,null,null,null,null,null,null,null,null,null,null,null,null,null,null,null,null,null,null,null,null,null,null,null,null,null,null,null,null,null,null,null,null,null,null,null,null,null,null,null,null,null,null,"",null,null,null,null,null,0]
["RESTO ESPECIALIDADES",null,null,null,null,null,null,null,null,"",null,null,null,null,null,null,null,null,null,null,null,null,null,null,null,null,null,null,null,null,null,null,null,null,null,null,null,null,null,null,null,null,null,null,null,null,null,null,null,null,null,null,null,null,null,null,null,null,null,null,null,null,null,null,null,null,null,null,null,null,null,null,null,null,null,null,null,null,{"$f":"IF(CG48=1,\" * La suma de los Pacientes Intervenidos debe ser mayor o igual a la Suma de Pacientes Programados menos la Suma de Pacientes Suspendidos. \",\"\")","v":""},null,null,null,null,null,0]
["TOTAL",{"$f":"SUM(B37:B48)","v":0},0,0,0,0,0,0,0]
["SECCIÓN E: CAUSAS DE SUSPENSIÓN DE CIRUGÍAS ELECTIVAS"]
["CAUSAS DE SUSPENSIÓN ATRIBUIBLES A:\n","Nº DE PERSONAS"]
[null,"TOTALES","Menores de 15 años","15 años y más","Beneficiarios MAI","Beneficiarios MLE","Otros"]
["PACIENTE",{"$f":"SUM(C53+D53)","v":0},null,null,null,null,null,{"$f":"CA53","v":""},null,null,null,null,null,null,null,null,null,null,null,null,null,null,null,null,null,null,null,null,null,null,null,null,null,null,null,null,null,null,null,null,null,null,null,null,null,null,null,null,null,null,null,null,null,null,null,null,null,null,null,null,null,null,null,null,null,null,null,null,null,null,null,null,null,null,null,null,null,null,{"$f":"IF(CH53=1,\" * La suma de los Beneficiarios MAI, MLE y Otros debe seri igual al Total. \",\"\")","v":""},null,null,null,null,null,null,{"$f":"IF(B53<>(E53+F53+G53),1,0)","v":0}]
["ADMINISTRATIVAS",0,null,null,null,null,null,{"$f":"CA54","v":""},null,null,null,null,null,null,null,null,null,null,null,null,null,null,null,null,null,null,null,null,null,null,null,null,null,null,null,null,null,null,null,null,null,null,null,null,null,null,null,null,null,null,null,null,null,null,null,null,null,null,null,null,null,null,null,null,null,null,null,null,null,null,null,null,null,null,null,null,null,null,{"$f":"IF(CH54=1,\" * La suma de los Beneficiarios MAI, MLE y Otros debe seri igual al Total. \",\"\")","v":""},null,null,null,null,null,null,0]
["UNIDAD DE APOYO CLÍNICO",0,null,null,null,null,null,"",null,null,null,null,null,null,null,null,null,null,null,null,null,null,null,null,null,null,null,null,null,null,null,null,null,null,null,null,null,null,null,null,null,null,null,null,null,null,null,null,null,null,null,null,null,null,null,null,null,null,null,null,null,null,null,null,null,null,null,null,null,null,null,null,null,null,null,null,null,null,"",null,null,null,null,null,null,0]
["EQUIPO QUIRÚRGICO",0,null,null,null,null,null,"",null,null,null,null,null,null,null,null,null,null,null,null,null,null,null,null,null,null,null,null,null,null,null,null,null,null,null,null,null,null,null,null,null,null,null,null,null,null,null,null,null,null,null,null,null,null,null,null,null,null,null,null,null,null,null,null,null,null,null,null,null,null,null,null,null,null,null,null,null,null,"",null,null,null,null,null,null,0]
["INFRAESTRUCTURA",0,null,null,null,null,null,"",null,null,null,null,null,null,null,null,null,null,null,null,null,null,null,null,null,null,null,null,null,null,null,null,null,null,null,null,null,null,null,null,null,null,null,null,null,null,null,null,null,null,null,null,null,null,null,null,null,null,null,null,null,null,null,null,null,null,null,null,null,null,null,null,null,null,null,null,null,null,"",null,null,null,null,null,null,0]
["EMERGENCIAS",0,null,null,null,null,null,"",null,null,null,null,null,null,null,null,null,null,null,null,null,null,null,null,null,null,null,null,null,null,null,null,null,null,null,null,null,null,null,null,null,null,null,null,null,null,null,null,null,null,null,null,null,null,null,null,null,null,null,null,null,null,null,null,null,null,null,null,null,null,null,null,null,null,null,null,null,null,"",null,null,null,null,null,null,0]
["GREMIALES",0,null,null,null,null,null,"",null,null,null,null,null,null,null,null,null,null,null,null,null,null,null,null,null,null,null,null,null,null,null,null,null,null,null,null,null,null,null,null,null,null,null,null,null,null,null,null,null,null,null,null,null,null,null,null,null,null,null,null,null,null,null,null,null,null,null,null,null,null,null,null,null,null,null,null,null,null,"",null,null,null,null,null,null,0]
["TOTAL",{"$f":"SUM(B53:B59)","v":0},0,0,0,0,0,"",null,null,null,null,null,null,null,null,null,null,null,null,null,null,null,null,null,null,null,null,null,null,null,null,null,null,null,null,null,null,null,null,null,null,null,null,null,null,null,null,null,null,null,null,null,null,null,null,null,null,null,null,null,null,null,null,null,null,null,null,null,null,null,null,null,null,null,null,null,null,{"$f":"IF(CG60=1,\" * El total de causas de suspensión debe coincidir con la suma de Suspendidos de la sección D. \",\"\")","v":""},null,null,null,null,null,{"$f":"IF(B60<>(H49+I49),1,0)","v":0}]
["SECCIÓN F:  HOSPITALIZACIÓN DOMICILIARIA "]
["SECCIÓN F.1:  PERSONAS ATENDIDAS EN EL PROGRAMA"]
["COMPONENTES",null,"TOTAL","EDAD",null,null,"ORIGEN DE LA DERIVACIÓN"]
[null,null,null,"Menores de 15 años","15 a 19 años","20 y más años","APS","Urgencia","Hospitalización","Ambulatorio","Ley de Urgencia","UGCC"]
["INGRESOS",null,{"$f":"SUM(D65:F65)","v":0},null,null,null,null,null,null,null,null,null,{"$f":"CA65","v":""},null,null,null,null,null,null,null,null,null,null,null,null,null,null,null,null,null,null,null,null,null,null,null,null,null,null,null,null,null,null,null,null,null,null,null,null,null,null,null,null,null,null,null,null,null,null,null,null,null,null,null,null,null,null,null,null,null,null,null,null,null,null,null,null,null,{"$f":"IF(CG65=1,\" * La Suma de Personas por Origen de Derivación no puede ser Mayor a la suma de Personas por Edad. \",\"\")","v":""},null,null,null,null,null,{"$f":"IF(SUM(G65:L65)>C65,1,0)","v":0}]
["PERSONAS ATENDIDAS",null,0,null,null,null,null,null,null,null,null,null,"",null,null,null,null,null,null,null,null,null,null,null,null,null,null,null,null,null,null,null,null,null,null,null,null,null,null,null,null,null,null,null,null,null,null,null,null,null,null,null,null,null,null,null,null,null,null,null,null,null,null,null,null,null,null,null,null,null,null,null,null,null,null,null,null,null,{"$f":"IF(CG66=1,\" * La Suma de Personas por Origen de Derivación no puede ser Mayor a la suma de Personas por Edad. \",\"\")","v":""},null,null,null,null,null,0]
["DÍAS PERSONAS ATENDIDAS",null,0,null,null,null,null,null,null,null,null,null,"",null,null,null,null,null,null,null,null,null,null,null,null,null,null,null,null,null,null,null,null,null,null,null,null,null,null,null,null,null,null,null,null,null,null,null,null,null,null,null,null,null,null,null,null,null,null,null,null,null,null,null,null,null,null,null,null,null,null,null,null,null,null,null,null,null,"",null,null,null,null,null,0]
["ALTAS",null,0,null,null,null,null,null,null,null,null,null,"",null,null,null,null,null,null,null,null,null,null,null,null,null,null,null,null,null,null,null,null,null,null,null,null,null,null,null,null,null,null,null,null,null,null,null,null,null,null,null,null,null,null,null,null,null,null,null,null,null,null,null,null,null,null,null,null,null,null,null,null,null,null,null,null,null,"",null,null,null,null,null,0]
["FALLECIDOS","Esperados",0,null,null,null,null,null,null,null,null,null,"",null,null,null,null,null,null,null,null,null,null,null,null,null,null,null,null,null,null,null,null,null,null,null,null,null,null,null,null,null,null,null,null,null,null,null,null,null,null,null,null,null,null,null,null,null,null,null,null,null,null,null,null,null,null,null,null,null,null,null,null,null,null,null,null,null,"",null,null,null,null,null,0]
[null,"No esperados ",0,null,null,null,null,null,null,null,null,null,"",null,null,null,null,null,null,null,null,null,null,null,null,null,null,null,null,null,null,null,null,null,null,null,null,null,null,null,null,null,null,null,null,null,null,null,null,null,null,null,null,null,null,null,null,null,null,null,null,null,null,null,null,null,null,null,null,null,null,null,null,null,null,null,null,null,"",null,null,null,null,null,0]
["REINGRESOS A HOSPITALIZACIÓN TRADICIONAL",null,0,null,null,null,null,null,null,null,null,null,"",null,null,null,null,null,null,null,null,null,null,null,null,null,null,null,null,null,null,null,null,null,null,null,null,null,null,null,null,null,null,null,null,null,null,null,null,null,null,null,null,null,null,null,null,null,null,null,null,null,null,null,null,null,null,null,null,null,null,null,null,null,null,null,null,null,"",null,null,null,null,null,0]
["SECCIÓN F.2:  VISITAS REALIZADAS "]
["COMPONENTE","Total"]
["MÉDICO"]
["ENFERMERA"]
["TÉCNICO PARAMÉDICO"]
["MATRONA"]
["KINESIÓLOGO"]
["PSICÓLOGO"]
["FONOAUDIÓLOGO"]
["TRABAJADOR SOCIAL"]
["TERAPEUTA OCUPACIONAL"]
["SECCIÓN F.3:  CUPOS DISPONIBLES EN UNIDAD DE HOSPITALIZACIÓN DOMICILIARIA"]
["COMPONENTES","TOTAL","N° de Cupos","N° de cupos CAM INV Adicionales","N° de cupos Campaña de Invierno"]
["NÚMERO CUPOS PROGRAMADOS",{"$f":"SUM(C85:E85)","v":0}]
["NÚMERO CUPOS UTILIZADOS",{"$f":"SUM(C86:E86)","v":0}]
["NÚMERO DE CUPOS DISPONIBLES",{"$f":"SUM(C87:E87)","v":0}]
["SECCIÓN F.4: ASISTENCIA VENTILATORIA Y OXÍGENO EN DOMICILIO"]
["TIPO DE ESTRATEGIA","TOTAL","Menores de 15 años","15 a 19 años","20 y más años","N° de cupos Campaña de Invierno"]
["Estrategia de Asistencia Ventilatoria Invasiva en Domicilio",{"$f":"SUM(C90:E90)","v":0}]
["Estrategia de Asistencia Ventilatoria no Invasiva en Domicilio",{"$f":"SUM(C91:E91)","v":0}]
["Estrategia Oxígeno Domiciliario para pacientes Crónicos",{"$f":"SUM(C92:E92)","v":0}]
["SECCIÓN F.5: INGRESOS Y EGRESOS AL PROGRAMA"]
["ACTIVIDAD","Número de ingresos ","Número de egresos ","Número de personas activas","Número de controles médicos"]
["ASISTENCIA VENTILATORIA INVASIVA INFANTIL (AVI)"]
["ASISTENCIA VENTILATORIA INVASIVA DEL ADULTO (AVIA)"]
["ASISTENCIA VENTILATORIA NO INVASIVA INFANTIL (AVNI)"]
["ASISTENCIA VENTILATORIA NO INVASIVA ADULTO (AVNIA)"]
["OXIGENOTERAPIA AMBULATORIO CRÓNICO RESPIRATORIO INFANTIL"]
["OXIGENOTERAPIA AMBULATORIO CRÓNICO RESPIRATORIO ADULTO "]
["TOTAL",{"$f":"SUM(B95:B100)","v":0},{"$f":"SUM(C95:C100)","v":0},{"$f":"SUM(D95:D100)","v":0},{"$f":"SUM(E95:E100)","v":0}]
["SECCIÓN G: HOSPITALIZACIÓN DOMICILIARIA EN APS "]
["COMPONENTES","TOTAL","Edad",null,null,"Sexo",null,"N° de cupos Campaña de Invierno"]
[null,null,"0-19 años","20-64 años","65 y más años","Hombres","Mujeres"]
["INGRESOS",{"$f":"SUM(C105:E105)","v":0},null,null,null,null,null,null,{"$f":"CA105","v":""},null,null,null,null,null,null,null,null,null,null,null,null,null,null,null,null,null,null,null,null,null,null,null,null,null,null,null,null,null,null,null,null,null,null,null,null,null,null,null,null,null,null,null,null,null,null,null,null,null,null,null,null,null,null,null,null,null,null,null,null,null,null,null,null,null,null,null,null,null,{"$f":"IF(CG105=1,\" * El total por Edad debe ser igual a la suma de personas por Sexo. \",\"\")","v":""},null,null,null,null,null,{"$f":"IF(SUM(F105:G105)<>B105,1,0)","v":0}]
["PACIENTES ATENDIDOS",0,null,null,null,null,null,null,{"$f":"CA106","v":""},null,null,null,null,null,null,null,null,null,null,null,null,null,null,null,null,null,null,null,null,null,null,null,null,null,null,null,null,null,null,null,null,null,null,null,null,null,null,null,null,null,null,null,null,null,null,null,null,null,null,null,null,null,null,null,null,null,null,null,null,null,null,null,null,null,null,null,null,null,{"$f":"IF(CG106=1,\" * El total por Edad debe ser igual a la suma de personas por Sexo. \",\"\")","v":""},null,null,null,null,null,{"$f":"IF(SUM(F106:G106)<>B106,1,0)","v":0}]
["ATENCIONES REALIZADAS POR EQUIPO",0,null,null,null,null,null,null,"",null,null,null,null,null,null,null,null,null,null,null,null,null,null,null,null,null,null,null,null,null,null,null,null,null,null,null,null,null,null,null,null,null,null,null,null,null,null,null,null,null,null,null,null,null,null,null,null,null,null,null,null,null,null,null,null,null,null,null,null,null,null,null,null,null,null,null,null,null,"",null,null,null,null,null,0]
["DIAS CAMA EFECTIVAMENTE UTILIZADOS",0,null,null,null,null,null,null,"",null,null,null,null,null,null,null,null,null,null,null,null,null,null,null,null,null,null,null,null,null,null,null,null,null,null,null,null,null,null,null,null,null,null,null,null,null,null,null,null,null,null,null,null,null,null,null,null,null,null,null,null,null,null,null,null,null,null,null,null,null,null,null,null,null,null,null,null,null,"",null,null,null,null,null,0]
["DERIVACION A HOSPITAL POR AGRAVAMIENTO",0,null,null,null,null,null,null,"",null,null,null,null,null,null,null,null,null,null,null,null,null,null,null,null,null,null,null,null,null,null,null,null,null,null,null,null,null,null,null,null,null,null,null,null,null,null,null,null,null,null,null,null,null,null,null,null,null,null,null,null,null,null,null,null,null,null,null,null,null,null,null,null,null,null,null,null,null,"",null,null,null,null,null,0]
["EGRESOS POR ALTA",0,null,null,null,null,null,null,"",null,null,null,null,null,null,null,null,null,null,null,null,null,null,null,null,null,null,null,null,null,null,null,null,null,null,null,null,null,null,null,null,null,null,null,null,null,null,null,null,null,null,null,null,null,null,null,null,null,null,null,null,null,null,null,null,null,null,null,null,null,null,null,null,null,null,null,null,null,"",null,null,null,null,null,0]
["FALLECIMIENTOS",0,null,null,null,null,null,null,"",null,null,null,null,null,null,null,null,null,null,null,null,null,null,null,null,null,null,null,null,null,null,null,null,null,null,null,null,null,null,null,null,null,null,null,null,null,null,null,null,null,null,null,null,null,null,null,null,null,null,null,null,null,null,null,null,null,null,null,null,null,null,null,null,null,null,null,null,null,"",null,null,null,null,null,0]
["SECCIÓN H: ESTERILIZACIONES QUIRÚRGICAS"]
["SEXO","TOTAL      ","EDAD (en años)"]
[null,null,"Menor \nde 20 años","20 - 34 años","35 y más años"]
["MUJER",0]
["HOMBRE",0]
["TRANS (Femenino/Masculino)",{"$f":"SUM(C117:E117)","v":0}]
[]
[]
[]
[]
[]
[]
[]
[]
[]
[]
[]
[]
[]
[]
[]
[]
[]
[]
[]
[]
[]
[]
[]
[]
[]
[]
[]
[]
[]
[]
[]
[]
[]
[]
[]
[]
[]
[]
[]
[]
[]
[]
[]
[]
[]
[]
[]
[]
[]
[]
[]
[]
[]
[]
[]
[]
[]
[]
[]
[]
[]
[]
[]
[]
[]
[]
[]
[]
[]
[]
[]
[]
[]
[]
[]
[]
[]
[]
[]
[]
[]
[]
[]
[]
[]
[]
[]
[]
[]
[{"$f":"SUM(B13:O13,B21:B25,B74:B82,C28,B49:I49,B60:G60,C29:C32,B85:B87,C65:C71,B90:B92,B101,B105:B111,B115:B117)","v":0},{"$f":"SUM(CG3:CN117)","v":0}]

{"sheet":"A23","index":15,"n_rows":199,"n_cols":108,"rows_kept":199,"cut":false,"hidden":false,"merged":[[182,0,183,1],[184,0,185,1],[172,0,175,0],[177,0,179,1],[177,2,179,2],[177,3,178,5],[177,6,177,37],[178,6,178,7],[178,8,178,9],[178,10,178,11],[178,12,178,13],[178,14,178,15],[178,16,178,17],[178,18,178,19],[178,20,178,21],[178,22,178,23],[178,24,178,25],[178,26,178,27],[178,28,178,29],[178,30,178,31],[178,32,178,33],[178,34,178,35],[178,36,178,37],[180,0,181,1],[8,38,11,38],[44,37,46,37],[102,4,102,35],[103,28,103,29],[103,16,103,17],[103,18,103,19],[103,20,103,21],[109,4,109,35],[110,4,110,5],[110,24,110,25],[110,26,110,27],[110,28,110,29],[103,32,103,33],[103,34,103,35],[103,4,103,5],[103,6,103,7],[103,8,103,9],[103,10,103,11],[103,12,103,13],[103,30,103,31],[103,14,103,15],[110,6,110,7],[110,10,110,11],[110,12,110,13],[89,4,89,35],[90,4,90,5],[90,6,90,7],[90,8,90,9],[90,10,90,11],[90,24,90,25],[90,26,90,27],[90,28,90,29],[90,30,90,31],[90,32,90,33],[90,34,90,35],[90,12,90,13],[90,14,90,15],[90,16,90,17],[90,18,90,19],[90,20,90,21],[90,22,90,23],[79,20,79,21],[79,22,79,23],[79,24,79,25],[79,26,79,27],[79,28,79,29],[78,1,79,3],[78,4,78,35],[79,4,79,5],[79,6,79,7],[79,8,79,9],[79,10,79,11],[79,12,79,13],[79,14,79,15],[79,16,79,17],[79,30,79,31],[79,32,79,33],[79,34,79,35],[79,18,79,19],[70,36,72,36],[71,4,71,5],[71,6,71,7],[71,8,71,9],[71,10,71,11],[71,12,71,13],[71,14,71,15],[71,16,71,17],[71,18,71,19],[71,20,71,21],[71,32,71,33],[71,34,71,35],[71,28,71,29],[71,30,71,31],[70,4,70,35],[71,22,71,23],[71,24,71,25],[71,26,71,27],[64,4,64,35],[65,22,66,23],[65,24,66,25],[65,26,66,27],[65,28,66,29],[64,36,67,36],[65,4,66,5],[65,6,66,7],[65,8,66,9],[65,10,66,11],[65,12,66,13],[65,14,66,15],[65,16,66,17],[65,18,66,19],[65,20,66,21],[65,30,66,31],[65,32,66,33],[65,34,66,35],[44,36,46,36],[45,22,45,23],[45,24,45,25],[45,26,45,27],[45,28,45,29],[45,30,45,31],[45,32,45,33],[45,34,45,35],[45,16,45,17],[45,18,45,19],[45,20,45,21],[44,4,44,35],[45,4,45,5],[45,6,45,7],[45,8,45,9],[45,10,45,11],[45,12,45,13],[45,14,45,15],[51,4,51,35],[51,36,52,37],[52,4,53,5],[52,6,53,7],[52,8,53,9],[52,10,53,11],[52,12,53,13],[53,37,54,37],[52,34,53,35],[53,36,54,36],[52,26,53,27],[52,28,53,29],[52,30,53,31],[52,32,53,33],[52,14,53,15],[52,16,53,17],[52,18,53,19],[52,20,53,21],[52,22,53,23],[52,24,53,25],[25,37,28,37],[26,5,27,6],[26,7,27,8],[26,9,27,10],[26,11,27,12],[26,13,27,14],[26,15,27,16],[26,35,27,36],[8,37,11,37],[9,4,10,5],[9,6,10,7],[9,8,10,9],[9,10,10,11],[9,30,10,31],[9,32,10,33],[9,34,10,35],[9,12,10,13],[9,14,10,15],[9,16,10,17],[9,18,10,19],[9,20,10,21],[9,22,10,23],[9,24,10,25],[9,26,10,27],[119,28,119,29],[5,0,5,21],[8,1,10,3],[8,4,8,35],[8,36,11,36],[9,28,10,29],[35,0,36,0],[37,0,37,1],[38,0,38,1],[39,0,39,1],[26,29,27,30],[26,31,27,32],[26,33,27,34],[29,0,31,0],[32,0,34,0],[26,17,27,18],[26,19,27,20],[26,21,27,22],[26,23,27,24],[26,25,27,26],[26,27,27,28],[25,0,28,1],[25,2,27,4],[25,5,25,36],[153,12,153,13],[153,14,153,15],[119,32,119,33],[119,16,119,17],[119,30,119,31],[119,18,119,19],[131,24,131,25],[131,26,131,27],[131,28,131,29],[131,30,131,31],[131,32,131,33],[153,16,153,17],[153,18,153,19],[153,20,153,21],[153,22,153,23],[153,24,153,25],[153,26,153,27],[130,4,130,35],[131,4,131,5],[119,6,119,7],[131,34,131,35],[131,6,131,7],[119,4,119,5],[119,34,119,35],[161,0,161,1],[162,0,164,0],[160,0,160,2],[129,0,129,4],[146,0,149,0],[142,0,145,0],[152,0,154,0],[141,0,141,1],[165,0,167,0],[168,0,168,2],[169,0,171,1],[169,2,170,4],[169,5,169,10],[170,5,170,6],[170,7,170,8],[170,9,170,10],[25,38,28,38],[25,39,28,39],[131,10,131,11],[131,14,131,15],[131,16,131,17],[110,30,110,31],[110,32,110,33],[110,34,110,35],[103,22,103,23],[103,24,103,25],[103,26,103,27],[110,8,110,9],[110,14,110,15],[110,16,110,17],[110,18,110,19],[110,20,110,21],[110,22,110,23],[131,20,131,21],[131,22,131,23],[119,8,119,9],[119,10,119,11],[119,12,119,13],[131,8,131,9],[152,1,153,3],[152,4,152,35],[153,4,153,5],[153,6,153,7],[131,12,131,13],[150,0,150,1],[130,0,132,0],[130,1,131,3],[153,10,153,11],[153,28,153,29],[153,34,153,35],[153,8,153,9],[119,20,119,21],[119,22,119,23],[119,24,119,25],[119,14,119,15],[118,0,120,0],[153,32,153,33],[119,26,119,27],[118,1,119,3],[118,4,118,35],[153,30,153,31],[51,0,54,0],[44,0,46,0],[8,0,11,0],[40,0,40,1],[41,0,41,1],[42,0,42,1],[51,1,53,3],[64,1,66,3],[44,1,45,3],[109,0,111,0],[102,0,104,0],[89,0,91,0],[78,0,80,0],[70,0,72,0],[64,0,67,0],[70,1,71,3],[89,1,90,3],[102,1,103,3],[109,1,110,3],[131,18,131,19]]}
["SERVICIO DE SALUD"]
[{"$f":"CONCATENATE(\"COMUNA: \",NOMBRE!B2,\" - \",\"( \",NOMBRE!C2,NOMBRE!D2,NOMBRE!E2,NOMBRE!F2,NOMBRE!G2,\" )\")","v":"COMUNA:  - (  )"}]
[{"$f":"CONCATENATE(\"ESTABLECIMIENTO/ESTRATEGIA: \",NOMBRE!B3,\" - \",\"( \",NOMBRE!C3,NOMBRE!D3,NOMBRE!E3,NOMBRE!F3,NOMBRE!G3,NOMBRE!H3,\" )\")","v":"ESTABLECIMIENTO/ESTRATEGIA:  - (  )"}]
[{"$f":"CONCATENATE(\"MES: \",NOMBRE!B6,\" - \",\"( \",NOMBRE!C6,NOMBRE!D6,\" )\")","v":"MES:  - (  )"}]
[{"$f":"CONCATENATE(\"AÑO: \",NOMBRE!B7)","v":"AÑO: 2023"}]
["REM-23.   SALAS: IRA, ERA Y MIXTAS EN APS"]
[]
["SECCIÓN A: INGRESOS AGUDOS SEGÚN DIAGNOSTICO DERIVADOS A SALA"]
["DIAGNÓSTICOS","TOTAL",null,null,"POR EDAD",null,null,null,null,null,null,null,null,null,null,null,null,null,null,null,null,null,null,null,null,null,null,null,null,null,null,null,null,null,null,null,"Pueblos Originarios","Migrantes","Por Campaña de Invierno"]
[null,null,null,null,"Menos \n1 año",null,"1 - 4 \naños",null,"5 - 9 \naños",null,"10 - 14\naños",null,"15 - 19\naños",null,"20 a 24 años\n",null,"25 a 39 años",null,"40 - 44 años",null,"45 - 49 años",null,"50 - 54 años",null,"55 - 59 años",null,"60 - 64 años",null,"65 - 69 años",null,"70 - 74 años",null,"75 - 79 años",null,"80 y mas años"]
[]
[null,"Ambos Sexos","Hombres","Mujeres","Hombres","Mujeres","Hombres","Mujeres","Hombres","Mujeres","Hombres","Mujeres","Hombres","Mujeres","Hombres","Mujeres","Hombres","Mujeres","Hombres","Mujeres","Hombres","Mujeres","Hombres","Mujeres","Hombres","Mujeres","Hombres","Mujeres","Hombres","Mujeres","Hombres","Mujeres","Hombres","Mujeres","Hombres","Mujeres"]
["I.R.A. ALTA",{"$f":"SUM(C13+D13)","v":0},{"$f":"SUM(E13+G13+I13+K13+M13+O13+Q13+S13+U13+W13+Y13+AA13+AC13+AE13+AG13+AI13)","v":0},{"$f":"SUM(F13+H13+J13+L13+N13+P13+R13+T13+V13+X13+Z13+AB13+AD13+AF13+AH13+AJ13)","v":0},null,null,null,null,null,null,null,null,null,null,null,null,null,null,null,null,null,null,null,null,null,null,null,null,null,null,null,null,null,null,null,null,null,null,null,null,null,null,null,null,null,null,null,null,null,null,null,null,null,null,null,null,null,null,null,null,null,null,null,null,null,null,null,null,null,null,null,null,null,null,null,null,null,null,null,null,null,null,null,null,null,null,null,null,null,null,null,null,null,null,null,null,null,null,null,null,null,null,null,null,null,0,null,0]
["INFLUENZA",{"$f":"SUM(C14+D14)","v":0},{"$f":"SUM(E14+G14+I14+K14+M14+O14+Q14+S14+U14+W14+Y14+AA14+AC14+AE14+AG14+AI14)","v":0},0]
["NEUMONÍA ",0,0,0]
["COQUELUCHE",0,0,0]
["BRONQUITIS OBSTRUCTIVA AGUDA",0,0,0]
["OTRAS IRAS  BAJAS",0,0,0]
["EXACERBACIÓN SÍNDROME BRONQUIAL OBSTRUCTIVO RECURRENTE (SBOR)",0,0,0]
["EXACERBACIÓN ASMA",0,0,0]
["EXACERBACIÓN DE ENFERMEDAD PULMONAR OBSTRUCTIVA CRÓNICA (EPOC)",0,0,0]
["EXACERBACIÓN FIBROSIS QUÍSTICA",0,0,0]
["EXACERBACIÓN OTRAS RESPIRATORIAS CRÓNICAS",0,0,0]
["TOTAL",{"$f":"SUM(B13:B23)","v":0},0,0,0,0,0,0,0,0,0,0,0,0,0,0,0,0,0,0,0,0,0,0,0,0,0,0,0,0,0,0,0,0,0,0,0,0,0]
["SECCIÓN B: INGRESO CRÓNICO SEGÚN DIAGNÓSTICO (SOLO MÉDICO)"]
["DIAGNÓSTICOS",null,"TOTAL",null,null,"POR EDAD",null,null,null,null,null,null,null,null,null,null,null,null,null,null,null,null,null,null,null,null,null,null,null,null,null,null,null,null,null,null,null,"Reingresos","Pueblos Originarios","Migrantes"]
[null,null,null,null,null,"Menos \n1 año",null,"1 - 4 \naños",null,"5 - 9 \naños",null,"10 - 14\naños",null,"15 - 19\naños",null,"20 a 24 años\n",null,"25 a 39 años",null,"40 - 44 años",null,"45 - 49 años",null,"50 - 54 años",null,"55 - 59 años",null,"60 - 64 años",null,"65 - 69 años",null,"70 - 74 años",null,"75 - 79 años",null,"80 y mas años"]
[]
[null,null,"Ambos Sexos","Hombres","Mujeres","Hombres","Mujeres","Hombres","Mujeres","Hombres","Mujeres","Hombres","Mujeres","Hombres","Mujeres","Hombres","Mujeres","Hombres","Mujeres","Hombres","Mujeres","Hombres","Mujeres","Hombres","Mujeres","Hombres","Mujeres","Hombres","Mujeres","Hombres","Mujeres","Hombres","Mujeres","Hombres","Mujeres","Hombres","Mujeres"]
["SÍNDROME BRONQUIAL OBSTRUCTIVO RECURRENTE (SBOR)","Leve",{"$f":"SUM(D30+E30)","v":0},{"$f":"SUM(F30+H30)","v":0},0,null,null,null,null,null,null,null,null,null,null,null,null,null,null,null,null,null,null,null,null,null,null,null,null,null,null,null,null,null,null,null,null,null,null,null,null,null,null,null,null,null,null,null,null,null,null,null,null,null,null,null,null,null,null,null,null,null,null,null,null,null,null,null,null,null,null,null,null,null,null,null,null,null,null,null,null,null,null,null,null,null,null,null,null,null,null,null,null,null,null,null,null,null,null,null,null,null,null,null,null,0,null,0]
[null,"Moderado",0,0,0]
[null,"Severo",0,0,0]
["ASMA BRONQUIAL","Leve",0,{"$f":"SUM(H33+J33+L33+N33+P33+R33+T33+V33+X33+Z33+AB33+AD33+AF33+AH33+AJ33)","v":0},0]
[null,"Moderado",0,0,0]
[null,"Severo",0,0,0]
["ENFERMEDAD PULMONAR OBSTRUCTIVA CRÓNICA (EPOC)","Tipo A",0,{"$f":"SUM(T36+V36+X36+Z36+AB36+AD36+AF36+AH36+AJ36)","v":0},{"$f":"SUM(U36+W36+Y36+AA36+AC36+AE36+AG36+AI36+AK36)","v":0}]
[null,"Tipo B",0,{"$f":"SUM(F37+H37+J37+L37+N37+P37+R37+T37+V37+X37+Z37+AB37+AD37+AF37+AH37+AJ37)","v":0},0]
["DISPLASIA BRONCOPULMONAR",null,0,0,0]
["FIBROSIS QUÍSTICA",null,0,0,0]
["OXIGENO DEPENDIENTE",null,0,0,0]
["ASISTENCIA VENTILATORIA NO INVASIVA O INVASIVA ",null,0,0,0]
["OTRAS RESPIRATORIAS CRÓNICAS",null,0,0,0]
["TOTAL",null,{"$f":"SUM(C30:C42)","v":0},0,0,0,0,0,0,0,0,0,0,0,0,0,0,0,0,0,0,0,0,0,0,0,0,0,0,0,0,0,0,0,0,0,0,0,{"$f":"SUM(AM30:AM42)","v":0},{"$f":"SUM(AN30:AN42)","v":0}]
["SECCIÓN C: SEGUIMIENTO DE ATENCIONES REALIZADAS EN AGUDOS"]
["PROFESIONAL","TOTAL",null,null,"POR EDAD",null,null,null,null,null,null,null,null,null,null,null,null,null,null,null,null,null,null,null,null,null,null,null,null,null,null,null,null,null,null,null,"Beneficiarios","Por Campaña de Invierno"]
[null,null,null,null,"Menos \n1 año",null,"1 - 4 \naños",null,"5 - 9 \naños",null,"10 - 14\naños",null,"15 - 19\naños",null,"20 a 24 años\n",null,"25 a 39 años",null,"40 - 44 años",null,"45 - 49 años",null,"50 - 54 años",null,"55 - 59 años",null,"60 - 64 años",null,"65 - 69 años",null,"70 - 74 años",null,"75 - 79 años",null,"80 y mas años"]
[null,"Ambos Sexos","Hombres","Mujeres","Hombres","Mujeres","Hombres","Mujeres","Hombres","Mujeres","Hombres","Mujeres","Hombres","Mujeres","Hombres","Mujeres","Hombres","Mujeres","Hombres","Mujeres","Hombres","Mujeres","Hombres","Mujeres","Hombres","Mujeres","Hombres","Mujeres","Hombres","Mujeres","Hombres","Mujeres","Hombres","Mujeres","Hombres","Mujeres"]
["ENFERMERA",{"$f":"SUM(C48+D48)","v":0},{"$f":"SUM(E48+G48+I48+K48+M48+O48+Q48+S48+U48+W48+Y48+AA48+AC48+AE48+AG48+AI48)","v":0},{"$f":"SUM(F48+H48+J48+L48+N48+P48+R48+T48+V48+X48+Z48+AB48+AD48+AF48+AH48+AJ48)","v":0},null,null,null,null,null,null,null,null,null,null,null,null,null,null,null,null,null,null,null,null,null,null,null,null,null,null,null,null,null,null,null,null,null,null,null,null,null,null,null,null,null,null,null,null,null,null,null,null,null,null,null,null,null,null,null,null,null,null,null,null,null,null,null,null,null,null,null,null,null,null,null,null,null,null,null,null,null,null,null,null,null,null,null,null,null,null,null,null,null,null,null,null,null,null,null,null,null,null,null,null,null,0]
["KINESIÓLOGO",{"$f":"SUM(C49+D49)","v":0},{"$f":"SUM(E49+G49+I49+K49+M49+O49+Q49+S49+U49+W49+Y49+AA49+AC49+AE49+AG49+AI49)","v":0},{"$f":"SUM(F49+H49+J49+L49+N49+P49+R49+T49+V49+X49+Z49+AB49+AD49+AF49+AH49+AJ49)","v":0},null,null,null,null,null,null,null,null,null,null,null,null,null,null,null,null,null,null,null,null,null,null,null,null,null,null,null,null,null,null,null,null,null,null,null,null,null,null,null,null,null,null,null,null,null,null,null,null,null,null,null,null,null,null,null,null,null,null,null,null,null,null,null,null,null,null,null,null,null,null,null,null,null,null,null,null,null,null,null,null,0]
["TOTAL",{"$f":"SUM(B48:B49)","v":0},{"$f":"SUM(C48:C49)","v":0},0,{"$f":"SUM(E48:E49)","v":0},0,0,0,0,0,0,0,0,0,0,0,0,0,0,0,0,0,0,0,0,0,0,0,0,0,0,0,0,0,0,0,0,{"$f":"SUM(AL48:AL49)","v":0},null,null,null,null,null,null,null,null,null,null,null,null,null,null,null,null,null,null,null,null,null,null,null,null,null,null,null,null,null,null,null,null,null,null,null,null,null,null,null,null,null,null,null,null,null,null,0]
["SECCION D: EGRESOS",null,null,null,null,null,null,null,null,null,null,null,null,null,null,null,null,null,null,null,null,null,null,null,null,null,null,null,null,null,null,null,null,null,null,null,null,null,null,null,null,null,null,null,null,null,null,null,null,null,null,null,null,null,null,null,null,null,null,null,null,null,null,null,null,null,null,null,null,null,null,null,null,null,null,null,null,null,null,null,null,null,null,null,0]
["PROGRAMAS","TOTAL",null,null,"POR EDAD",null,null,null,null,null,null,null,null,null,null,null,null,null,null,null,null,null,null,null,null,null,null,null,null,null,null,null,null,null,null,null,"CAUSAL",null,null,null,null,null,null,null,null,null,null,null,null,null,null,null,null,null,null,null,null,null,null,null,null,null,null,null,null,null,null,null,null,null,null,null,null,null,null,null,null,null,null,null,null,null,null,null,0]
[null,null,null,null,"Menos \n1 año",null,"1 - 4 \naños",null,"5 - 9 \naños",null,"10 - 14\naños",null,"15 - 19\naños",null,"20 a 24 años\n",null,"25 a 39 años",null,"40 - 44 años",null,"45 - 49 años",null,"50 - 54 años",null,"55 - 59 años",null,"60 - 64 años",null,"65 - 69 años",null,"70 - 74 años",null,"75 - 79 años",null,"80 y mas años",null,null,null,null,null,null,null,null,null,null,null,null,null,null,null,null,null,null,null,null,null,null,null,null,null,null,null,null,null,null,null,null,null,null,null,null,null,null,null,null,null,null,null,null,null,null,null,null,null,0]
[null,null,null,null,null,null,null,null,null,null,null,null,null,null,null,null,null,null,null,null,null,null,null,null,null,null,null,null,null,null,null,null,null,null,null,null,"Abandono","Fallecimiento",null,null,null,null,null,null,null,null,null,null,null,null,null,null,null,null,null,null,null,null,null,null,null,null,null,null,null,null,null,null,null,null,null,null,null,null,null,null,null,null,"* El total egresos NO DEBE ser menor a los egresos según causales. ",null,null,null,null,null,1]
[null,"Ambos Sexos","Hombres","Mujeres","Hombres","Mujeres","Hombres","Mujeres","Hombres","Mujeres","Hombres","Mujeres","Hombres","Mujeres","Hombres","Mujeres","Hombres","Mujeres","Hombres","Mujeres","Hombres","Mujeres","Hombres","Mujeres","Hombres","Mujeres","Hombres","Mujeres","Hombres","Mujeres","Hombres","Mujeres","Hombres","Mujeres","Hombres","Mujeres",null,null,null,null,null,null,null,null,null,null,null,null,null,null,null,null,null,null,null,null,null,null,null,null,null,null,null,null,null,null,null,null,null,null,null,null,null,null,null,null,null,null,null,null,null,null,null,null,0]
["SÍNDROME BRONQUIAL OBSTRUCTIVA RECURRENTE (SBOR)",{"$f":"SUM(C56+D56)","v":0},{"$f":"SUM(E56+G56)","v":0},{"$f":"SUM(F56+H56)","v":0},null,null,null,null,null,null,null,null,null,null,null,null,null,null,null,null,null,null,null,null,null,null,null,null,null,null,null,null,null,null,null,null,null,null,null,null,null,null,null,null,null,null,null,null,null,null,null,null,null,null,null,null,null,null,null,null,null,null,null,null,null,null,null,null,null,null,null,null,null,null,null,null,null,null,null,null,null,null,null,0,0,null,null,null,null,null,null,null,null,null,null,null,null,null,null,null,null,null,null,null,0]
["ASMA BRONQUIAL",0,{"$f":"SUM(G57+I57+K57+M57+O57+Q57+S57+U57+W57+Y57+AA57+AC57+AE57+AG57+AI57)","v":0},{"$f":"SUM(H57+J57+L57+N57+P57+R57+T57+V57+X57+Z57+AB57+AD57+AF57+AH57+AJ57)","v":0},null,null,null,null,null,null,null,null,null,null,null,null,null,null,null,null,null,null,null,null,null,null,null,null,null,null,null,null,null,null,null,null,null,null,null,null,null,null,null,null,null,null,null,null,null,null,null,null,null,null,null,null,null,null,null,null,null,null,null,null,null,null,null,null,null,null,null,null,null,null,null,null,null,null,null,null,null,null,null,0]
["ENFERMEDAD PULMONAR OBSTRUCTIVA CRÓNICA (EPOC)",0,{"$f":"SUM(S58+U58+W58+Y58+AA58+AC58+AE58+AG58+AI58)","v":0},{"$f":"SUM(T58+V58+X58+Z58+AB58+AD58+AF58+AH58+AJ58)","v":0},null,null,null,null,null,null,null,null,null,null,null,null,null,null,null,null,null,null,null,null,null,null,null,null,null,null,null,null,null,null,null,null,null,null,null,null,null,null,null,null,null,null,null,null,null,null,null,null,null,null,null,null,null,null,null,null,null,null,null,null,null,null,null,null,null,null,null,null,null,null,null,null,null,null,null,null,null,null,null,0]
["DISPLASIA BRONCOPULMONAR",0,{"$f":"SUM(E59+G59+I59+K59+M59+O59+Q59+S59+U59+W59+Y59+AA59+AC59+AE59+AG59+AI59)","v":0},0,null,null,null,null,null,null,null,null,null,null,null,null,null,null,null,null,null,null,null,null,null,null,null,null,null,null,null,null,null,null,null,null,null,null,null,null,null,null,null,null,null,null,null,null,null,null,null,null,null,null,null,null,null,null,null,null,null,null,null,null,null,null,null,null,null,null,null,null,null,null,null,null,null,null,null,null,null,null,null,0]
["FIBROSIS QUÍSTICA",0,0,0,null,null,null,null,null,null,null,null,null,null,null,null,null,null,null,null,null,null,null,null,null,null,null,null,null,null,null,null,null,null,null,null,null,null,null,null,null,null,null,null,null,null,null,null,null,null,null,null,null,null,null,null,null,null,null,null,null,null,null,null,null,null,null,null,null,null,null,null,null,null,null,null,null,null,null,null,null,null,null,0]
["OXÍGENO DEPENDIENTE",0,0,0,null,null,null,null,null,null,null,null,null,null,null,null,null,null,null,null,null,null,null,null,null,null,null,null,null,null,null,null,null,null,null,null,null,null,null,null,null,null,null,null,null,null,null,null,null,null,null,null,null,null,null,null,null,null,null,null,null,null,null,null,null,null,null,null,null,null,null,null,null,null,null,null,null,null,null,null,null,null,null,0]
["ASISTENCIA VENTILATORIA NO INVASIVA O INVASIVA ",0,0,0,null,null,null,null,null,null,null,null,null,null,null,null,null,null,null,null,null,null,null,null,null,null,null,null,null,null,null,null,null,null,null,null,null,null,null,null,null,null,null,null,null,null,null,null,null,null,null,null,null,null,null,null,null,null,null,null,null,null,null,null,null,null,null,null,null,null,null,null,null,null,null,null,null,null,null,null,null,null,null,0,0,0]
["OTRAS RESPIRATORIAS CRÓNICAS",0,0,0,null,null,null,null,null,null,null,null,null,null,null,null,null,null,null,null,null,null,null,null,null,null,null,null,null,null,null,null,null,null,null,null,null,null,null,null,null,null,null,null,null,null,null,null,null,null,null,null,null,null,null,null,null,null,null,null,null,null,null,null,null,null,null,null,null,null,null,null,null,null,null,null,null,null,null,null,null,null,null,0]
["SECCIÓN E: CONSULTAS DE MORBILIDAD POR ENFERMEDADES RESPIRATORIAS EN SALAS IRA, ERA Y MIXTA"]
["PROFESIONAL","TOTAL",null,null,"POR EDAD",null,null,null,null,null,null,null,null,null,null,null,null,null,null,null,null,null,null,null,null,null,null,null,null,null,null,null,null,null,null,null,"Beneficiarios"]
[null,null,null,null,"Menos \n1 año",null,"1 - 4 \naños",null,"5 - 9 \naños",null,"10 - 14\naños",null,"15 - 19\naños",null,"20 a 24 años\n",null,"25 a 39 años",null,"40 - 44 años",null,"45 - 49 años",null,"50 - 54 años",null,"55 - 59 años",null,"60 - 64 años",null,"65 - 69 años",null,"70 - 74 años",null,"75 - 79 años",null,"80 y mas años"]
[null,null,null,null,null,null,null,null,null,null,null,null,null,null,null,null,null,null,null,null,null,null,null,null,null,null,null,null,null,null,null,null,null,null,null,null,null,null,null,null,null,null,null,null,null,null,null,null,null,null,null,null,null,null,null,null,null,null,null,null,null,null,null,null,null,null,null,null,null,null,null,null,null,null,null,null,null,null,null,null,null,null,null,null,0,0]
[null,"Ambos Sexos","Hombres","Mujeres","Hombres","Mujeres","Hombres","Mujeres","Hombres","Mujeres","Hombres","Mujeres","Hombres","Mujeres","Hombres","Mujeres","Hombres","Mujeres","Hombres","Mujeres","Hombres","Mujeres","Hombres","Mujeres","Hombres","Mujeres","Hombres","Mujeres","Hombres","Mujeres","Hombres","Mujeres","Hombres","Mujeres","Hombres","Mujeres",null,null,null,null,null,null,null,null,null,null,null,null,null,null,null,null,null,null,null,null,null,null,null,null,null,null,null,null,null,null,null,null,null,null,null,null,null,null,null,null,null,null,null,"* No olvide digitar la columna Beneficiarios. ",null,null,null,null,0,1]
["MÉDICO",{"$f":"SUM(C69+D69)","v":0},{"$f":"SUM(E69+G69+I69+K69+M69+O69+Q69+S69+U69+W69+Y69+AA69+AC69+AE69+AG69+AI69)","v":0},{"$f":"SUM(F69+H69+J69+L69+N69+P69+R69+T69+V69+X69+Z69+AB69+AD69+AF69+AH69+AJ69)","v":0},null,null,null,null,null,null,null,null,null,null,null,null,null,null,null,null,null,null,null,null,null,null,null,null,null,null,null,null,null,null,null,null,null,null,null,null,null,null,null,null,null,null,null,null,null,null,null,null,null,null,null,null,null,null,null,null,null,null,null,null,null,null,null,null,null,null,null,null,null,null,null,null,null,null,null,null,null,null,null,0,0,0,null,null,null,null,null,null,null,null,null,null,null,null,null,null,null,null,null,null,null,0]
["SECCIÓN F: CONTROLES REALIZADOS (CRONICOS)"]
["PROFESIONAL","TOTAL",null,null,"POR EDAD",null,null,null,null,null,null,null,null,null,null,null,null,null,null,null,null,null,null,null,null,null,null,null,null,null,null,null,null,null,null,null,"Beneficiarios"]
[null,null,null,null,"Menos \n1 año",null,"1 - 4 \naños",null,"5 - 9 \naños",null,"10 - 14\naños",null,"15 - 19\naños",null,"20 a 24 años\n",null,"25 a 39 años",null,"40 - 44 años",null,"45 - 49 años",null,"50 - 54 años",null,"55 - 59 años",null,"60 - 64 años",null,"65 - 69 años",null,"70 - 74 años",null,"75 - 79 años",null,"80 y mas años"]
[null,"Ambos Sexos","Hombres","Mujeres","Hombres","Mujeres","Hombres","Mujeres","Hombres","Mujeres","Hombres","Mujeres","Hombres","Mujeres","Hombres","Mujeres","Hombres","Mujeres","Hombres","Mujeres","Hombres","Mujeres","Hombres","Mujeres","Hombres","Mujeres","Hombres","Mujeres","Hombres","Mujeres","Hombres","Mujeres","Hombres","Mujeres","Hombres","Mujeres"]
["MÉDICO",{"$f":"SUM(C74+D74)","v":0},{"$f":"SUM(E74+G74+I74+K74+M74+O74+Q74+S74+U74+W74+Y74+AA74+AC74+AE74+AG74+AI74)","v":0},0,null,null,null,null,null,null,null,null,null,null,null,null,null,null,null,null,null,null,null,null,null,null,null,null,null,null,null,null,null,null,null,null,null,null,null,null,null,null,null,null,null,null,null,null,null,null,null,null,null,null,null,null,null,null,null,null,null,null,null,null,null,null,null,null,null,null,null,null,null,null,null,null,null,null,null,null,null,null,null,0,0,null,null,null,null,null,null,null,null,null,null,null,null,null,null,null,null,null,null,null,null,0]
["ENFERMERA",{"$f":"SUM(C75+D75)","v":0},0,0,null,null,null,null,null,null,null,null,null,null,null,null,null,null,null,null,null,null,null,null,null,null,null,null,null,null,null,null,null,null,null,null,null,null,null,null,null,null,null,null,null,null,null,null,null,null,null,null,null,null,null,null,null,null,null,null,null,null,null,null,null,null,null,null,null,null,null,null,null,null,null,null,null,null,null,null,null,null,null,0,0,0]
["KINESIÓLOGO",{"$f":"SUM(C76+D76)","v":0},0,0,null,null,null,null,null,null,null,null,null,null,null,null,null,null,null,null,null,null,null,null,null,null,null,null,null,null,null,null,null,null,null,null,null,null,null,null,null,null,null,null,null,null,null,null,null,null,null,null,null,null,null,null,null,null,null,null,null,null,null,null,null,null,null,null,null,null,null,null,null,null,null,null,null,null,null,null,null,null,null,0,0,0]
["TOTAL",{"$f":"SUM(B74:B76)","v":0},0,0,0,0,0,0,0,0,0,0,0,0,0,0,0,0,0,0,0,0,0,0,0,0,0,0,0,0,0,0,0,0,0,0,0]
["SECCIÓN G: INASISTENTES A CONTROL DE CRÓNICOS"]
["DIAGNÓSTICOS","TOTAL",null,null,"POR EDAD"]
[null,null,null,null,"Menos \n1 año",null,"1 - 4 \naños",null,"5 - 9 \naños",null,"10 - 14\naños",null,"15 - 19\naños",null,"20 a 24 años\n",null,"25 a 39 años",null,"40 - 44 años",null,"45 - 49 años",null,"50 - 54 años",null,"55 - 59 años",null,"60 - 64 años",null,"65 - 69 años",null,"70 - 74 años",null,"75 - 79 años",null,"80 y mas años"]
[null,"Ambos Sexos","Hombres","Mujeres","Hombres","Mujeres","Hombres","Mujeres","Hombres","Mujeres","Hombres","Mujeres","Hombres","Mujeres","Hombres","Mujeres","Hombres","Mujeres","Hombres","Mujeres","Hombres","Mujeres","Hombres","Mujeres","Hombres","Mujeres","Hombres","Mujeres","Hombres","Mujeres","Hombres","Mujeres","Hombres","Mujeres","Hombres","Mujeres"]
["S.B.O. RECURRENTE",{"$f":"SUM(C82+D82)","v":0},{"$f":"SUM(E82+G82)","v":0},{"$f":"SUM(F82+H82)","v":0}]
["DISPLASIA BRONCOPULMONAR",0,{"$f":"SUM(E83+G83+I83+K83+M83+O83+Q83+S83+U83+W83+Y83+AA83+AC83+AE83+AG83+AI83)","v":0},{"$f":"SUM(F83+H83+J83+L83+N83+P83+R83+T83+V83+X83+Z83+AB83+AD83+AF83+AH83+AJ83)","v":0}]
["FIBROSIS QUÍSTICA",0,{"$f":"SUM(E84+G84+I84+K84+M84+O84+Q84+S84+U84+W84+Y84+AA84+AC84+AE84+AG84+AI84)","v":0},{"$f":"SUM(F84+H84+J84+L84+N84+P84+R84+T84+V84+X84+Z84+AB84+AD84+AF84+AH84+AJ84)","v":0}]
["ASMA",0,{"$f":"SUM(G85+I85+K85+M85+O85+Q85+S85+U85+W85+Y85+AA85+AC85+AE85+AG85+AI85)","v":0},{"$f":"SUM(H85+J85+L85+N85+P85+R85+T85+V85+X85+Z85+AB85+AD85+AF85+AH85+AJ85)","v":0}]
["ENFERMEDAD PULMONAR OBSTRUCTIVA CRÓNICA",0,{"$f":"SUM(S86+U86+W86+Y86+AA86+AC86+AE86+AG86+AI86)","v":0},{"$f":"SUM(T86+V86+X86+Z86+AB86+AD86+AF86+AH86+AJ86)","v":0}]
["OTRAS RESPIRATORIAS CRÓNICAS",0,{"$f":"SUM(E87+G87+I87+K87+M87+O87+Q87+S87+U87+W87+Y87+AA87+AC87+AE87+AG87+AI87)","v":0},{"$f":"SUM(F87+H87+J87+L87+N87+P87+R87+T87+V87+X87+Z87+AB87+AD87+AF87+AH87+AJ87)","v":0}]
["TOTAL",{"$f":"SUM(B82:B87)","v":0},0,0,0,0,0,0,0,0,0,0,0,0,0,0,0,0,0,0,0,0,0,0,0,0,0,0,0,0,0,0,0,0,0,0]
["SECCIÓN H: PROCEDIMIENTOS REALIZADOS"]
["PROCEDIMIENTO","TOTAL",null,null,"POR EDAD"]
[null,null,null,null,"Menos \n1 año",null,"1 - 4 \naños",null,"5 - 9 \naños",null,"10 - 14\naños",null,"15 - 19\naños",null,"20 a 24 años\n",null,"25 a 39 años",null,"40 - 44 años",null,"45 - 49 años",null,"50 - 54 años",null,"55 - 59 años",null,"60 - 64 años",null,"65 - 69 años",null,"70 - 74 años",null,"75 - 79 años",null,"80 y mas años"]
[null,"Ambos Sexos","Hombres","Mujeres","Hombres","Mujeres","Hombres","Mujeres","Hombres","Mujeres","Hombres","Mujeres","Hombres","Mujeres","Hombres","Mujeres","Hombres","Mujeres","Hombres","Mujeres","Hombres","Mujeres","Hombres","Mujeres","Hombres","Mujeres","Hombres","Mujeres","Hombres","Mujeres","Hombres","Mujeres","Hombres","Mujeres","Hombres","Mujeres"]
["ESPIROMETRÍA BASAL ",{"$f":"SUM(C93+D93)","v":0},{"$f":"SUM(I93+K93+M93+O93+Q93+S93+U93+W93+Y93+AA93+AC93+AE93+AG93+AI93)","v":0},0,null,null,null,null,null,null,null,null,null,null,null,null,null,null,null,null,null,null,null,null,null,null,null,null,null,null,null,null,null,null,null,null,null,null,null,null,null,null,null,null,null,null,null,null,null,null,null,null,null,null,null,null,null,null,null,null,null,null,null,null,null,null,null,null,null,null,null,null,null,null,null,null,null,null,null,null,null,null,0]
["ESPIROMETRÍA POST BD",0,0,0,null,null,null,null,null,null,null,null,null,null,null,null,null,null,null,null,null,null,null,null,null,null,null,null,null,null,null,null,null,null,null,null,null,null,null,null,null,null,null,null,null,null,null,null,null,null,null,null,null,null,null,null,null,null,null,null,null,null,null,null,null,null,null,null,null,null,null,null,null,null,null,null,null,null,null,null,null,null,0]
["FLUJOMETRÍA BASAL ",0,0,{"$f":"SUM(J95+L95+N95+P95+R95+T95+V95+X95+Z95+AB95+AD95+AF95+AH95+AJ95)","v":0},null,null,null,null,null,null,null,null,null,null,null,null,null,null,null,null,null,null,null,null,null,null,null,null,null,null,null,null,null,null,null,null,null,null,null,null,null,null,null,null,null,null,null,null,null,null,null,null,null,null,null,null,null,null,null,null,null,null,null,null,null,null,null,null,null,null,null,null,null,null,null,null,null,null,null,null,null,null,0]
["FLUJOMETRÍA POST BD",0,{"$f":"SUM(I96+K96+M96+O96+Q96+S96+U96+W96+Y96+AA96+AC96+AE96+AG96+AI96)","v":0},0,null,null,null,null,null,null,null,null,null,null,null,null,null,null,null,null,null,null,null,null,null,null,null,null,null,null,null,null,null,null,null,null,null,null,null,null,null,null,null,null,null,null,null,null,null,null,null,null,null,null,null,null,null,null,null,null,null,null,null,null,null,null,null,null,null,null,null,null,null,null,null,null,null,null,null,null,null,null,0]
["PIMOMETRÍA",0,{"$f":"SUM(I97+K97+M97+O97+Q97+S97+U97+W97+Y97+AA97+AC97+AE97+AG97+AI97)","v":0},0,null,null,null,null,null,null,null,null,null,null,null,null,null,null,null,null,null,null,null,null,null,null,null,null,null,null,null,null,null,null,null,null,null,null,null,null,null,null,null,null,null,null,null,null,null,null,null,null,null,null,null,null,null,null,null,null,null,null,null,null,null,null,null,null,null,null,null,null,null,null,null,null,null,null,null,null,null,null,0]
["TEST DE PROVOCACIÓN CON EJERCICIO",0,0,0,null,null,null,null,null,null,null,null,null,null,null,null,null,null,null,null,null,null,null,null,null,null,null,null,null,null,null,null,null,null,null,null,null,null,null,null,null,null,null,null,null,null,null,null,null,null,null,null,null,null,null,null,null,null,null,null,null,null,null,null,null,null,null,null,null,null,null,null,null,null,null,null,null,null,null,null,null,null,0]
["TEST DE MARCHA 6 MINUTOS",0,0,0,null,null,null,null,null,null,null,null,null,null,null,null,null,null,null,null,null,null,null,null,null,null,null,null,null,null,null,null,null,null,null,null,null,null,null,null,null,null,null,null,null,null,null,null,null,null,null,null,null,null,null,null,null,null,null,null,null,null,null,null,null,null,null,null,null,null,null,null,null,null,null,null,null,null,null,null,null,null,0]
["SESIONES DE KINESIOTERAPIA RESPIRATORIA",0,{"$f":"SUM(E100+G100+I100+K100+M100+O100+Q100+S100+U100+W100+Y100+AA100+AC100+AE100+AG100+AI100)","v":0},{"$f":"SUM(F100+H100+J100+L100+N100+P100+R100+T100+V100+X100+Z100+AB100+AD100+AF100+AH100+AJ100)","v":0},null,null,null,null,null,null,null,null,null,null,null,null,null,null,null,null,null,null,null,null,null,null,null,null,null,null,null,null,null,null,null,null,null,null,null,null,null,null,null,null,null,null,null,null,null,null,null,null,null,null,null,null,null,null,null,null,null,null,null,null,null,null,null,null,null,null,null,null,null,null,null,null,null,null,null,null,null,null,0,null,0]
["TOMA DE MUESTRA SECRECIÓN MUCOSA/BRONQUIAL",0,{"$f":"SUM(E101+G101+I101+K101+M101+O101+Q101+S101+U101+W101+Y101+AA101+AC101+AE101+AG101+AI101)","v":0},{"$f":"SUM(F101+H101+J101+L101+N101+P101+R101+T101+V101+X101+Z101+AB101+AD101+AF101+AH101+AJ101)","v":0},null,null,null,null,null,null,null,null,null,null,null,null,null,null,null,null,null,null,null,null,null,null,null,null,null,null,null,null,null,null,null,null,null,null,null,null,null,null,null,null,null,null,null,null,null,null,null,null,null,null,null,null,null,null,null,null,null,null,null,null,null,null,null,null,null,null,null,null,null,null,null,null,null,null,null,null,null,null,0,null,0]
["SECCIÓN I: DERIVACIÓN DE PACIENTES SEGÚN DESTINO",null,null,null,null,null,null,null,null,null,null,null,null,null,null,null,null,null,null,null,null,null,null,null,null,null,null,null,null,null,null,null,null,null,null,null,null,null,null,null,null,null,null,null,null,null,null,null,null,null,null,null,null,null,null,null,null,null,null,null,null,null,null,null,null,null,null,null,null,null,null,null,null,null,null,null,null,null,null,null,null,null,null,null,0]
["DESTINO","TOTAL",null,null,"POR EDAD",null,null,null,null,null,null,null,null,null,null,null,null,null,null,null,null,null,null,null,null,null,null,null,null,null,null,null,null,null,null,null,null,null,null,null,null,null,null,null,null,null,null,null,null,null,null,null,null,null,null,null,null,null,null,null,null,null,null,null,null,null,null,null,null,null,null,null,null,null,null,null,null,null,null,null,null,null,null,null,0]
[null,null,null,null,"Menos \n1 año",null,"1 - 4 \naños",null,"5 - 9 \naños",null,"10 - 14\naños",null,"15 - 19\naños",null,"20 a 24 años\n",null,"25 a 39 años",null,"40 - 44 años",null,"45 - 49 años",null,"50 - 54 años",null,"55 - 59 años",null,"60 - 64 años",null,"65 - 69 años",null,"70 - 74 años",null,"75 - 79 años",null,"80 y mas años",null,null,null,null,null,null,null,null,null,null,null,null,null,null,null,null,null,null,null,null,null,null,null,null,null,null,null,null,null,null,null,null,null,null,null,null,null,null,null,null,null,null,null,null,null,null,null,null,null,0]
[null,"Ambos Sexos","Hombres","Mujeres","Hombres","Mujeres","Hombres","Mujeres","Hombres","Mujeres","Hombres","Mujeres","Hombres","Mujeres","Hombres","Mujeres","Hombres","Mujeres","Hombres","Mujeres","Hombres","Mujeres","Hombres","Mujeres","Hombres","Mujeres","Hombres","Mujeres","Hombres","Mujeres","Hombres","Mujeres","Hombres","Mujeres","Hombres","Mujeres",null,null,null,null,null,null,null,null,null,null,null,null,null,null,null,null,null,null,null,null,null,null,null,null,null,null,null,null,null,null,null,null,null,null,null,null,null,null,null,null,null,null,null,null,null,null,null,null,0]
["UNIDAD EMERGENCIA HOSPITALARIA",{"$f":"SUM(C106:D106)","v":0},{"$f":"+E106+G106+I106+K106+M106+O106+Q106+S106+U106+W106+Y106+AA106+AC106+AE106+AG106+AI106","v":0},0,null,null,null,null,null,null,null,null,null,null,null,null,null,null,null,null,null,null,null,null,null,null,null,null,null,null,null,null,null,null,null,null,null,null,null,null,null,null,null,null,null,null,null,null,null,null,null,null,null,null,null,null,null,null,null,null,null,null,null,null,null,null,null,null,null,null,null,null,null,null,null,null,null,null,null,null,null,null,null,null,0]
["SAPU, SUR O SAR",{"$f":"SUM(C107:D107)","v":0},0,0,null,null,null,null,null,null,null,null,null,null,null,null,null,null,null,null,null,null,null,null,null,null,null,null,null,null,null,null,null,null,null,null,null,null,null,null,null,null,null,null,null,null,null,null,null,null,null,null,null,null,null,null,null,null,null,null,null,null,null,null,null,null,null,null,null,null,null,null,null,null,null,null,null,null,null,null,null,null,null,null,0]
["CAE / CDT / CRS",{"$f":"SUM(C108:D108)","v":0},0,0,null,null,null,null,null,null,null,null,null,null,null,null,null,null,null,null,null,null,null,null,null,null,null,null,null,null,null,null,null,null,null,null,null,null,null,null,null,null,null,null,null,null,null,null,null,null,null,null,null,null,null,null,null,null,null,null,null,null,null,null,null,null,null,null,null,null,null,null,null,null,null,null,null,null,null,null,null,null,null,null,0]
["SECCIÓN J: RECEPCIÓN DE PACIENTES SEGÚN ORIGEN"]
["DESTINO","TOTAL",null,null,"POR EDAD"]
[null,null,null,null,"Menos \n1 año",null,"1 - 4 \naños",null,"5 - 9 \naños",null,"10 - 14\naños",null,"15 - 19\naños",null,"20 a 24 años\n",null,"25 a 39 años",null,"40 - 44 años",null,"45 - 49 años",null,"50 - 54 años",null,"55 - 59 años",null,"60 - 64 años",null,"65 - 69 años",null,"70 - 74 años",null,"75 - 79 años",null,"80 y mas años"]
[null,"Ambos Sexos","Hombres","Mujeres","Hombres","Mujeres","Hombres","Mujeres","Hombres","Mujeres","Hombres","Mujeres","Hombres","Mujeres","Hombres","Mujeres","Hombres","Mujeres","Hombres","Mujeres","Hombres","Mujeres","Hombres","Mujeres","Hombres","Mujeres","Hombres","Mujeres","Hombres","Mujeres","Hombres","Mujeres","Hombres","Mujeres","Hombres","Mujeres"]
["UNIDAD EMERGENCIA HOSPITALARIA",{"$f":"SUM(C113+D113)","v":0},{"$f":"+E113+G113+I113+K113+M113+O113+Q113+S113+U113+W113+Y113+AA113+AC113+AE113+AG113+AI113","v":0},{"$f":"+F113+H113+J113+L113+N113+P113+R113+T113+V113+X113+Z113+AB113+AD113+AF113+AH113+AJ113","v":0}]
["SAPU , SUR O SAR",{"$f":"SUM(C114+D114)","v":0},{"$f":"+E114+G114+I114+K114+M114+O114+Q114+S114+U114+W114+Y114+AA114+AC114+AE114+AG114+AI114","v":0},0]
["CONSULTA DE MORBILIDAD",{"$f":"SUM(C115+D115)","v":0},0,0]
["CAE / CDT / CRS",{"$f":"SUM(C116+D116)","v":0},0,0]
["EXTRASISTEMA",{"$f":"SUM(C117+D117)","v":0},0,0]
["SECCIÓN K: HOSPITALIZACION ABREVIADA / INTERVENCION EN CRISIS RESPIRATORIA"]
["DIAGNÓSTICOS","TOTAL",null,null,"POR EDAD"]
[null,null,null,null,"Menos \n1 año",null,"1 - 4 \naños",null,"5 - 9 \naños",null,"10 - 14\naños",null,"15 - 19\naños",null,"20 a 24 años\n",null,"25 a 39 años",null,"40 - 44 años",null,"45 - 49 años",null,"50 - 54 años",null,"55 - 59 años",null,"60 - 64 años",null,"65 - 69 años",null,"70 - 74 años",null,"75 - 79 años",null,"80 y mas años"]
[null,"Ambos Sexos","Hombres","Mujeres","Hombres","Mujeres","Hombres","Mujeres","Hombres","Mujeres","Hombres","Mujeres","Hombres","Mujeres","Hombres","Mujeres","Hombres","Mujeres","Hombres","Mujeres","Hombres","Mujeres","Hombres","Mujeres","Hombres","Mujeres","Hombres","Mujeres","Hombres","Mujeres","Hombres","Mujeres","Hombres","Mujeres","Hombres","Mujeres"]
["BRONQUITIS OBSTRUCTIVA",{"$f":"SUM(C122+D122)","v":0},{"$f":"SUM(E122+G122+I122+K122+M122+O122+Q122+S122+U122+W122+Y122+AA122+AC122+AE122+AG122+AI122)","v":0},{"$f":"SUM(F122+H122+J122+L122+N122+P122+R122+T122+V122+X122+Z122+AB122+AD122+AF122+AH122+AJ122)","v":0}]
["REAGUDIZACIÓN DE SBOR",0,{"$f":"SUM(E123+G123)","v":0},{"$f":"SUM(F123+H123)","v":0}]
["REAGUDIZACIÓN DE ASMA",0,{"$f":"SUM(G124+I124+K124+M124+O124+Q124+S124+U124+W124+Y124+AA124+AC124+AE124+AG124+AI124)","v":0},{"$f":"SUM(H124+J124+L124+N124+P124+R124+T124+V124+X124+Z124+AB124+AD124+AF124+AH124+AJ124)","v":0}]
["NEUMONÍA",0,{"$f":"SUM(E125+G125+I125+K125+M125+O125+Q125+S125+U125+W125+Y125+AA125+AC125+AE125+AG125+AI125)","v":0},{"$f":"SUM(F125+H125+J125+L125+N125+P125+R125+T125+V125+X125+Z125+AB125+AD125+AF125+AH125+AJ125)","v":0}]
["REAGUDIZACIÓN DE EPOC",0,{"$f":"SUM(S126+U126+W126+Y126+AA126+AC126+AE126+AG126+AI126)","v":0},{"$f":"SUM(T126+V126+X126+Z126+AB126+AD126+AF126+AH126+AJ126)","v":0}]
["OTRAS RESPIRATORIAS",0,{"$f":"SUM(E127+G127+I127+K127+M127+O127+Q127+S127+U127+W127+Y127+AA127+AC127+AE127+AG127+AI127)","v":0},{"$f":"SUM(F127+H127+J127+L127+N127+P127+R127+T127+V127+X127+Z127+AB127+AD127+AF127+AH127+AJ127)","v":0}]
["TOTAL",{"$f":"SUM(B122:B127)","v":0},0,0,{"$f":"SUM(E122:E127)","v":0},0,{"$f":"SUM(G122:G127)","v":0},0,0,0,0,0,0,0,0,0,0,0,0,0,0,0,0,0,0,0,0,0,0,0,0,0,0,0,0,0]
["SECCIÓN L: EDUCACIÓN EN SALAS"]
["SECCIÓN L.1: EDUCACION INDIVIDUAL EN SALA"]
["DESTINO","TOTAL",null,null,"POR EDAD"]
[null,null,null,null,"Menos \n1 año",null,"1 - 4 \naños",null,"5 - 9 \naños",null,"10 - 14\naños",null,"15 - 19\naños",null,"20 a 24 años\n",null,"25 a 39 años",null,"40 - 44 años",null,"45 - 49 años",null,"50 - 54 años",null,"55 - 59 años",null,"60 - 64 años",null,"65 - 69 años",null,"70 - 74 años",null,"75 - 79 años",null,"80 y mas años"]
[null,"Ambos Sexos","Hombres","Mujeres","Hombres","Mujeres","Hombres","Mujeres","Hombres","Mujeres","Hombres","Mujeres","Hombres","Mujeres","Hombres","Mujeres","Hombres","Mujeres","Hombres","Mujeres","Hombres","Mujeres","Hombres","Mujeres","Hombres","Mujeres","Hombres","Mujeres","Hombres","Mujeres","Hombres","Mujeres","Hombres","Mujeres","Hombres","Mujeres"]
["ANTITABACO",{"$f":"SUM(C134+D134)","v":0},{"$f":"SUM(E134+G134+I134+K134+M134+O134+Q134+S134+U134+W134+Y134+AA134+AC134+AE134+AG134+AI134)","v":0},0]
["AUTOCUIDADO SEGÚN PATOLOGÍA",0,0,0]
["USO DE TERAPIA INHALATORIA",0,0,0,null,null,null,null,null,null,null,null,null,null,null,null,null,null,null,null,null,null,null,null,null,null,null,null,null,null,null,null,null,null,null,null,null,null,null,null,null,null,null,null,null,null,null,null,null,null,null,null,null,null,null,null,null,null,null,null,null,null,null,null,null,null,null,null,null,null,null,null,null,null,null,null,null,null,null,null,null,null,null,0]
["EDUCACION INTEGRAL EN SALUD RESPIRATORIA ",0,0,0,null,null,null,null,null,null,null,null,null,null,null,null,null,null,null,null,null,null,null,null,null,null,null,null,null,null,null,null,null,null,null,null,null,null,null,null,null,null,null,null,null,null,null,null,null,null,null,null,null,null,null,null,null,null,null,null,null,null,null,null,null,null,null,null,null,null,null,null,null,null,null,null,null,null,null,null,null,null,null,0]
["ESTILO DE VIDA SALUDABLES",0,0,0,null,null,null,null,null,null,null,null,null,null,null,null,null,null,null,null,null,null,null,null,null,null,null,null,null,null,null,null,null,null,null,null,null,null,null,null,null,null,null,null,null,null,null,null,null,null,null,null,null,null,null,null,null,null,null,null,null,null,null,null,null,null,null,null,null,null,null,null,null,null,null,null,null,null,null,null,null,null,null,0]
["OTRAS",0,0,0,null,null,null,null,null,null,null,null,null,null,null,null,null,null,null,null,null,null,null,null,null,null,null,null,null,null,null,null,null,null,null,null,null,null,null,null,null,null,null,null,null,null,null,null,null,null,null,null,null,null,null,null,null,null,null,null,null,null,null,null,null,null,null,null,null,null,null,null,null,null,null,null,null,null,null,null,null,null,null,0]
["TOTAL",{"$f":"SUM(B134:B139)","v":0},{"$f":"SUM(C134:C139)","v":0},{"$f":"SUM(D134:D139)","v":0},{"$f":"SUM(E134:E139)","v":0},{"$f":"SUM(F134:F139)","v":0},0,0,0,0,0,0,0,0,0,0,0,0,0,0,0,0,0,0,0,0,0,0,0,0,0,0,0,0,0,0,null,null,null,null,null,null,null,null,null,null,null,null,null,null,null,null,null,null,null,null,null,null,null,null,null,null,null,null,null,null,null,null,null,null,null,null,null,null,null,null,null,null,null,null,null,null,null,0]
["SECCIÓN L.2: EDUCACIÓN GRUPAL (AGENDADA Y PROGRAMADA)",null,null,null,null,null,null,null,null,null,null,null,null,null,null,null,null,null,null,null,null,null,null,null,null,null,null,null,null,null,null,null,null,null,null,null,null,null,null,null,null,null,null,null,null,null,null,null,null,null,null,null,null,null,null,null,null,null,null,null,null,null,null,null,null,null,null,null,null,null,null,null,null,null,null,null,null,null,null,null,null,null,null,null,0]
["TEMAS",null,"Nº Sesiones","Nº Participantes",null,null,null,null,null,null,null,null,null,null,null,null,null,null,null,null,null,null,null,null,null,null,null,null,null,null,null,null,null,null,null,null,null,null,null,null,null,null,null,null,null,null,null,null,null,null,null,null,null,null,null,null,null,null,null,null,null,null,null,null,null,null,null,null,null,null,null,null,null,null,null,"* El número de profesionales NO DEBE ser mayor al N\u008d de sesiones. ",null,null,null,null,null,1,null,0]
["EDUCACION INTEGRAL EN SALUD RESPIRATORIA ","PACIENTES, PADRES O CUIDADORES",null,null,null,null,null,null,null,null,null,null,null,null,null,null,null,null,null,null,null,null,null,null,null,null,null,null,null,null,null,null,null,null,null,null,null,null,null,null,null,null,null,null,null,null,null,null,null,null,null,null,null,null,null,null,null,null,null,null,null,null,null,null,null,null,null,null,null,null,null,null,null,null,null,null,null,null,null,null,null,0,null,0]
[null,"SALAS CUNAS Y JARDINES INFANTILES",null,null,null,null,null,null,null,null,null,null,null,null,null,null,null,null,null,null,null,null,null,null,null,null,null,null,null,null,null,null,null,null,null,null,null,null,null,null,null,null,null,null,null,null,null,null,null,null,null,null,null,null,null,null,null,null,null,null,null,null,null,null,null,null,null,null,null,null,null,null,null,null,null,null,null,null,null,null,null,0,null,0]
[null,"ESTABLECIMIENTOS EDUCACIONALES",null,null,null,null,null,null,null,null,null,null,null,null,null,null,null,null,null,null,null,null,null,null,null,null,null,null,null,null,null,null,null,null,null,null,null,null,null,null,null,null,null,null,null,null,null,null,null,null,null,null,null,null,null,null,null,null,null,null,null,null,null,null,null,null,null,null,null,null,null,null,null,null,null,null,null,null,null,null,null,0]
[null,"INTERSECTOR",null,null,null,null,null,null,null,null,null,null,null,null,null,null,null,null,null,null,null,null,null,null,null,null,null,null,null,null,null,null,null,null,null,null,null,null,null,null,null,null,null,null,null,null,null,null,null,null,null,null,null,null,null,null,null,null,null,null,null,null,null,null,null,null,null,null,null,null,null,null,null,null,null,null,null,null,null,null,null,0]
["ANTITABACO","PACIENTES, PADRES O CUIDADORES",null,null,null,null,null,null,null,null,null,null,null,null,null,null,null,null,null,null,null,null,null,null,null,null,null,null,null,null,null,null,null,null,null,null,null,null,null,null,null,null,null,null,null,null,null,null,null,null,null,null,null,null,null,null,null,null,null,null,null,null,null,null,null,null,null,null,null,null,null,null,null,null,null,null,null,null,null,null,null,0]
[null,"SALAS CUNAS Y JARDINES INFANTILES",null,null,null,null,null,null,null,null,null,null,null,null,null,null,null,null,null,null,null,null,null,null,null,null,null,null,null,null,null,null,null,null,null,null,null,null,null,null,null,null,null,null,null,null,null,null,null,null,null,null,null,null,null,null,null,null,null,null,null,null,null,null,null,null,null,null,null,null,null,null,null,null,null,null,null,null,null,null,null,0]
[null,"ESTABLECIMIENTOS EDUCACIONALES",null,null,null,null,null,null,null,null,null,null,null,null,null,null,null,null,null,null,null,null,null,null,null,null,null,null,null,null,null,null,null,null,null,null,null,null,null,null,null,null,null,null,null,null,null,null,null,null,null,null,null,null,null,null,null,null,null,null,null,null,null,null,null,null,null,null,null,null,null,null,null,null,null,null,null,null,null,null,null,0]
[null,"INTERSECTOR",null,null,null,null,null,null,null,null,null,null,null,null,null,null,null,null,null,null,null,null,null,null,null,null,null,null,null,null,null,null,null,null,null,null,null,null,null,null,null,null,null,null,null,null,null,null,null,null,null,null,null,null,null,null,null,null,null,null,null,null,null,null,null,null,null,null,null,null,null,null,null,null,null,null,null,null,null,null,null,0]
["TOTAL",null,{"$f":"SUM(C143:C150)","v":0},{"$f":"SUM(D143:D150)","v":0}]
["SECCIÓN M: VISITAS DOMICILIARIAS Y SEGUIMIENTO REALIZADOS POR EQUIPO IRA-ERA "]
["CONCEPTOS","TOTAL",null,null,"POR EDAD"]
[null,null,null,null,"Menos \n1 año",null,"1 - 4 \naños",null,"5 - 9 \naños",null,"10 - 14\naños",null,"15 - 19\naños",null,"20 a 24 años\n",null,"25 a 39 años",null,"40 - 44 años",null,"45 - 49 años",null,"50 - 54 años",null,"55 - 59 años",null,"60 - 64 años",null,"65 - 69 años",null,"70 - 74 años",null,"75 - 79 años",null,"80 y mas años"]
[null,"Ambos Sexos","Hombres","Mujeres","Hombres","Mujeres","Hombres","Mujeres","Hombres","Mujeres","Hombres","Mujeres","Hombres","Mujeres","Hombres","Mujeres","Hombres","Mujeres","Hombres","Mujeres","Hombres","Mujeres","Hombres","Mujeres","Hombres","Mujeres","Hombres","Mujeres","Hombres","Mujeres","Hombres","Mujeres","Hombres","Mujeres","Hombres","Mujeres"]
["HOGAR LIBRE DEL HUMO DEL TABACO",{"$f":"SUM(C156:D156)","v":0},{"$f":"+E156+G156+I156+K156+M156+O156+Q156+S156+U156+W156+Y156+AA156+AC156+AE156+AG156+AI156","v":0},0]
["POR MUERTE DE NEUMONÍA EN DOMICILIO",{"$f":"SUM(C157:D157)","v":0},0,0]
["PROGRAMA OXIGENOTERAPIA AMBULATORIA, AVNI, AVI, AVNIA, AVIA",{"$f":"SUM(C158:D158)","v":0},0,0]
["SEGUIMIENTO TELEFÓNICO REALIZADO POR KINESIOLOGO SALA",{"$f":"SUM(C159:D159)","v":0},0,0]
["OTRAS VISITAS",{"$f":"SUM(C160:D160)","v":0},0,0]
["SECCIÓN N: REHABILITACION PULMONAR Y ACTIVIDAD FISICA "]
["ACTIVIDADES",null,"TOTAL DE ACTIVIADES POR DAIGNOSTICO","EPOC A","EPOC B","ASMA","OTROS"]
["REHABILITACION PULMONAR","SESIONES EDUCATIVAS",{"$f":"SUM(D163:G163)","v":0}]
[null,"SESIONES ACTIVIDAD FISICA",0]
[null,"ARTICULACION CONTINUIDAD CON INTERSECTOR",0]
["PLANES DE ACTIVIDAD FISICA","DISEÑO PLAN DE TRABAJO",0]
[null,"SEGUIMIENTO PRESENCIAL",0]
[null,"SEGUIMIENTO TELEFONICO",0]
["SECCIÓN O: REHABILITACION PULMONAR POST COVID"]
["ACTIVIDADES",null,"TOTAL",null,null,"POR EDAD"]
[null,null,null,null,null,"Menor de 15 años",null,"15 A 64 años",null,"65 y más años"]
[null,null,"Ambos Sexos","Hombres","Mujeres","Hombre","Mujer","Hombre","Mujer","Hombre","Mujer"]
["REHABILITACION PULMONAR POST COVID","DISEÑO PLAN DE TRABAJO",{"$f":"SUM(D173:H173)","v":0},0,0]
[null,"SESIONES EDUCATIVAS",0,0,0]
[null,"SESIONES ACTIVIDAD FISICA",0,0,0]
[null,"SEGUIMIENTO TELEFONICO",0,0,0]
["SECCIÓN P: APLICACIÓN DE ENCUESTA CALIDAD DE VIDA"]
["DIAGNÓSTICO",null,"ENCUESTAS REALIZADAS","TOTAL",null,null,"POR EDAD"]
[null,null,null,null,null,null,"Menos \n1 año",null,"1 - 4 \naños",null,"5 - 9 \naños",null,"10 - 14\naños",null,"15 - 19\naños",null,"20 a 24 años\n",null,"25 a 39 años",null,"40 - 44 años",null,"45 - 49 años",null,"50 - 54 años",null,"55 - 59 años",null,"60 - 64 años",null,"65 - 69 años",null,"70 - 74 años",null,"75 - 79 años",null,"80 y mas años"]
[null,null,null,"Ambos Sexos","Hombres","Mujeres","Hombres","Mujeres","Hombres","Mujeres","Hombres","Mujeres","Hombres","Mujeres","Hombres","Mujeres","Hombres","Mujeres","Hombres","Mujeres","Hombres","Mujeres","Hombres","Mujeres","Hombres","Mujeres","Hombres","Mujeres","Hombres","Mujeres","Hombres","Mujeres","Hombres","Mujeres","Hombres","Mujeres","Hombres","Mujeres"]
["EPOC",null,"INGRESO",{"$f":"SUM(E181:F181)","v":0},{"$f":"SUM(G181+I181+K181+M181+O181+Q181+S181+U181+W181+Y181+AA181+AC181+AE181+AG181+AI181+AK181)","v":0},{"$f":"SUM(H181+J181+L181+N181+P181+R181+T181+V181+X181+Z181+AB181+AD181+AF181+AH181+AJ181+AL181)","v":0}]
[null,null,"REEVALUACIÓN ANUAL",0,{"$f":"SUM(G182+I182+K182+M182+O182+Q182+S182+U182+W182+Y182+AA182+AC182+AE182+AG182+AI182+AK182)","v":0},{"$f":"SUM(H182+J182+L182+N182+P182+R182+T182+V182+X182+Z182+AB182+AD182+AF182+AH182+AJ182+AL182)","v":0}]
["ASMA",null,"INGRESO",0,{"$f":"SUM(G183+I183+K183+M183+O183+Q183+S183+U183+W183+Y183+AA183+AC183+AE183+AG183+AI183+AK183)","v":0},0]
[null,null,"REEVALUACIÓN ANUAL",0,0,0]
["OTRAS CRÓNICAS RESPIRATORIAS",null,"INGRESO",0,0,0]
[null,null,"REEVALUACIÓN ANUAL",0,0,0]
[]
[]
[]
[]
[]
[]
[]
[]
[]
[]
[]
[]
[{"$f":"SUM(B24,C43,B56:B63,B69,B77,B48:B50,B88,B93:B101,B106:B108,B113:B117,B128,B140,C151:D151,B156:B160,C163:C168,C173:C176,D181:D186)","v":0},{"$f":"SUM(DA28:DZ186)","v":0}]

{"sheet":"A24","index":16,"n_rows":269,"n_cols":110,"rows_kept":269,"cut":false,"hidden":false,"merged":[[125,11,126,11],[125,12,126,12],[131,0,132,0],[101,0,101,1],[77,0,78,1],[91,0,91,1],[92,0,92,1],[81,0,86,0],[87,0,87,1],[99,0,100,1],[103,10,104,10],[125,2,125,10],[103,11,103,14],[103,0,104,0],[117,0,117,1],[118,0,119,0],[99,2,99,3],[99,4,99,7],[99,8,99,9],[79,0,79,1],[80,0,80,1],[88,0,88,1],[89,0,90,0],[95,0,96,1],[95,2,96,2],[95,3,95,10],[5,0,5,11],[131,6,132,6],[131,1,131,4],[67,18,68,18],[67,17,68,17],[67,11,67,13],[67,16,68,16],[99,10,100,10],[99,11,100,11],[77,2,78,2],[77,3,78,3],[77,4,78,4],[77,5,77,7],[99,12,100,12],[93,0,93,6],[94,0,94,6],[95,11,96,11],[97,0,97,1],[125,0,126,0],[125,1,126,1],[102,0,102,6],[103,1,104,1],[103,2,103,9],[49,0,49,1],[67,1,69,1],[67,14,67,15],[67,0,69,0],[67,19,68,19],[38,0,38,1],[39,0,39,1],[40,0,41,0],[42,0,42,1],[43,0,43,1],[44,0,45,0],[46,0,46,1],[47,0,47,1],[50,0,50,1],[51,0,51,1],[67,2,67,10],[70,0,71,0],[72,0,73,0],[74,0,75,0],[53,0,53,1],[54,0,58,0],[59,0,59,1],[60,0,60,1],[30,0,30,1],[31,0,32,0],[33,0,33,1],[34,0,35,0],[48,0,48,1],[24,0,24,1],[25,0,25,1],[26,0,27,0],[19,0,19,1],[20,0,21,0],[28,0,28,1],[29,0,29,1],[61,0,61,1],[120,0,123,0],[8,24,10,24],[8,25,10,25],[9,3,10,3],[9,4,10,4],[9,5,10,5],[9,6,10,6],[9,7,10,7],[9,8,10,8],[9,9,10,9],[9,11,10,11],[9,12,10,12],[9,13,10,13],[9,14,10,14],[9,15,10,15],[9,16,10,16],[9,17,9,18],[8,11,8,16],[8,17,8,20],[62,0,62,1],[63,0,63,1],[64,0,64,1],[65,0,65,1],[8,21,10,21],[8,22,10,22],[8,23,10,23],[9,19,9,20],[8,10,10,10],[15,0,15,1],[16,0,16,1],[17,0,17,1],[18,0,18,1],[8,0,10,1],[8,2,10,2],[8,3,8,5],[8,6,8,9],[11,0,11,1],[12,0,12,1],[13,0,13,1],[14,0,14,1]]}
["SERVICIO DE SALUD"]
[{"$f":"CONCATENATE(\"COMUNA: \",NOMBRE!B2,\" - \",\"( \",NOMBRE!C2,NOMBRE!D2,NOMBRE!E2,NOMBRE!F2,NOMBRE!G2,\" )\")","v":"COMUNA:  - (  )"}]
[{"$f":"CONCATENATE(\"ESTABLECIMIENTO/ESTRATEGIA: \",NOMBRE!B3,\" - \",\"( \",NOMBRE!C3,NOMBRE!D3,NOMBRE!E3,NOMBRE!F3,NOMBRE!G3,NOMBRE!H3,\" )\")","v":"ESTABLECIMIENTO/ESTRATEGIA:  - (  )"}]
[{"$f":"CONCATENATE(\"MES: \",NOMBRE!B6,\" - \",\"( \",NOMBRE!C6,NOMBRE!D6,\" )\")","v":"MES:  - (  )"}]
[{"$f":"CONCATENATE(\"AÑO: \",NOMBRE!B7)","v":"AÑO: 2023"}]
["REM-A24.   ATENCIÓN EN MATERNIDAD"]
[]
["SECCIÓN A: INFORMACIÓN GENERAL DE PARTOS"]
["CARACTERISTICAS DEL PARTO",null,"Total","PARTOS SEGÚN EDAD DE LA MADRE",null,null,"PARTOS PREMATUROS (considerar sobre 22 semanas)",null,null,null,"Uso de oxitocina profiláctica","Anestesia y/o Analgesia del párto (medidas farmacologicas y no farmacologica)",null,null,null,null,null,"CONTACTO INMEDIATO PIEL A PIEL >30 MINUTOS",null,null,null,"Lactancia materna en los primeros  60 minutos de vida  (RN con peso de 2.500 grs. o más)","Atención con pertinencia cultural","Pueblos Originarios","Migrantes","Trans "]
[null,null,null,"< 14 AÑOS","15 A 19 AÑOS","> 35 AÑOS","Partos prematuros menos de 24 semanas","Partos prematuros de 24 a 28 semanas","Partos prematuros de 29 a 32 semanas","Partos prematuros de 33 a 36 semanas",null,"Anestesia Neuroaxial","Oxido nitroso","Analgesia endovenosa","General","Local","Medidas no farmacológicas","Con la Madre",null,"Con el padre o acompañante significativo"]
[null,null,null,null,null,null,null,null,null,null,null,null,null,null,null,null,null,"RN peso menor o igual a 2.499 grs. ","RN con peso de 2.500 grs. o más","RN peso menor o igual a 2.499 grs. ","RN con peso de 2.500 grs. o más"]
["TOTAL PARTOS",null,{"$f":"SUM(C13:C18)","v":0},{"$f":"SUM(D13:D22)","v":0},0,0,0,0,0,0,0,0,0,0,0,0,0,0,0,0,0,0,0,0,0,0,null,null,null,null,null,null,null,null,null,null,null,null,null,null,null,null,null,null,null,null,null,null,null,null,null,null,null,null,null,null,null,null,null,null,null,null,null,null,null,null,null,null,null,null,null,null,null,null,null,null,null,null,null,null,null,null,null,null,null,null,null,null,null,null,null,null,null,null,null,null,null,null,null,null,null,null,null,null,"Total menor que suma por edad","Total menor que suma prematuros","Total menor que originarios","Total menor que migrantes","total menor que trans"]
["VAGINAL",null,null,null,null,null,null,null,null,null,null,null,null,null,null,null,null,null,null,null,null,null,null,null,null,null,{"$f":"CA13&CB13&CC13&CD13&CE13","v":""},null,null,null,null,null,null,null,null,null,null,null,null,null,null,null,null,null,null,null,null,null,null,null,null,null,null,null,null,null,null,null,null,null,null,null,null,null,null,null,null,null,null,null,null,null,null,null,null,null,null,null,{"$f":"IF(DA13=1,\" * El Total de partos por edad no puede ser mayor al Total de Partos registrado. \",\"\")","v":""},{"$f":"IF(DB13=1,\" * El Total de partos prematuros no puede ser mayor al Total de Partos registrado. \",\"\")","v":""},{"$f":"IF(DC13=1,\" * El Total de partos de personas pertenecientes a pueblos originarios no puede ser mayor al Total de Partos registrado. \",\"\")","v":""},{"$f":"IF(DD13=1,\" * El Total de partos de Personas Migrantes no puede ser mayor al Total de Partos registrado. \",\"\")","v":""},{"$f":"IF(DE13=1,\" * El Total de partos de Personas Trans no puede ser mayor al Total de Partos registrado. \",\"\")","v":""},null,null,null,null,null,null,null,null,null,null,null,null,null,null,null,null,null,null,null,null,null,{"$f":"IF($C13<(SUM(D13:F13)),1,0)","v":0},{"$f":"IF($C13<(SUM(G13:J13)),1,0)","v":0},{"$f":"IF($C13<X13,1,0)","v":0},{"$f":"IF($C13<Y13,1,0)","v":0},{"$f":"IF($C13<Z13,1,0)","v":0}]
["INSTRUMENTAL",null,null,null,null,null,null,null,null,null,null,null,null,null,null,null,null,null,null,null,null,null,null,null,null,null,{"$f":"CA14&CB14&CC14&CD14&CE14","v":""},null,null,null,null,null,null,null,null,null,null,null,null,null,null,null,null,null,null,null,null,null,null,null,null,null,null,null,null,null,null,null,null,null,null,null,null,null,null,null,null,null,null,null,null,null,null,null,null,null,null,null,{"$f":"IF(DA14=1,\" * El Total de partos por edad no puede ser mayor al Total de Partos registrado. \",\"\")","v":""},{"$f":"IF(DB14=1,\" * El Total de partos prematuros no puede ser mayor al Total de Partos registrado. \",\"\")","v":""},{"$f":"IF(DC14=1,\" * El Total de partos de personas pertenecientes a pueblos originarios no puede ser mayor al Total de Partos registrado. \",\"\")","v":""},{"$f":"IF(DD14=1,\" * El Total de partos de Personas Migrantes no puede ser mayor al Total de Partos registrado. \",\"\")","v":""},{"$f":"IF(DE14=1,\" * El Total de partos de Personas Trans no puede ser mayor al Total de Partos registrado. \",\"\")","v":""},null,null,null,null,null,null,null,null,null,null,null,null,null,null,null,null,null,null,null,null,null,{"$f":"IF(C14<(SUM(D14:F14)),1,0)","v":0},{"$f":"IF(C14<(SUM(G14:J14)),1,0)","v":0},{"$f":"IF($C14<X14,1,0)","v":0},{"$f":"IF($C14<Y14,1,0)","v":0},{"$f":"IF($C14<Z14,1,0)","v":0}]
["CESÁREA ELECTIVA",null,null,null,null,null,null,null,null,null,null,null,null,null,null,null,null,null,null,null,null,null,null,null,null,null,"",null,null,null,null,null,null,null,null,null,null,null,null,null,null,null,null,null,null,null,null,null,null,null,null,null,null,null,null,null,null,null,null,null,null,null,null,null,null,null,null,null,null,null,null,null,null,null,null,null,null,null,"","","","","",null,null,null,null,null,null,null,null,null,null,null,null,null,null,null,null,null,null,null,null,null,0,0,0,0,0]
["CESÁREA URGENCIA",null,null,null,null,null,null,null,null,null,null,null,null,null,null,null,null,null,null,null,null,null,null,null,null,null,"",null,null,null,null,null,null,null,null,null,null,null,null,null,null,null,null,null,null,null,null,null,null,null,null,null,null,null,null,null,null,null,null,null,null,null,null,null,null,null,null,null,null,null,null,null,null,null,null,null,null,null,"","","","","",null,null,null,null,null,null,null,null,null,null,null,null,null,null,null,null,null,null,null,null,null,0,0,0,0,0]
["PARTO PREHOSPITALARIO (en establecimientos salud o ambulancias)",null,null,null,null,null,null,null,null,null,null,null,null,null,null,null,null,null,null,null,null,null,null,null,null,null,"",null,null,null,null,null,null,null,null,null,null,null,null,null,null,null,null,null,null,null,null,null,null,null,null,null,null,null,null,null,null,null,null,null,null,null,null,null,null,null,null,null,null,null,null,null,null,null,null,null,null,null,"","","","","",null,null,null,null,null,null,null,null,null,null,null,null,null,null,null,null,null,null,null,null,null,0,0,0,0,0]
["PARTOS FUERA DE LA RED ASISTENCIAL ",null,null,null,null,null,null,null,null,null,null,null,null,null,null,null,null,null,null,null,null,null,null,null,null,null,"",null,null,null,null,null,null,null,null,null,null,null,null,null,null,null,null,null,null,null,null,null,null,null,null,null,null,null,null,null,null,null,null,null,null,null,null,null,null,null,null,null,null,null,null,null,null,null,null,null,null,null,"","","","","",null,null,null,null,null,null,null,null,null,null,null,null,null,null,null,null,null,null,null,null,null,0,0,0,0,0]
["ENTREGA DE PLACENTA A SOLICITUD ",null,null,null,null,null,null,null,null,null,null,null,null,null,null,null,null,null,null,null,null,null,null,null,null,null,"",null,null,null,null,null,null,null,null,null,null,null,null,null,null,null,null,null,null,null,null,null,null,null,null,null,null,null,null,null,null,null,null,null,null,null,null,null,null,null,null,null,null,null,null,null,null,null,null,null,null,null,"","","","","",null,null,null,null,null,null,null,null,null,null,null,null,null,null,null,null,null,null,null,null,null,0,0,0,0,0]
["EMBARAZO NO CONTROLADO",null,null,null,null,null,null,null,null,null,null,null,null,null,null,null,null,null,null,null,null,null,null,null,null,null,"",null,null,null,null,null,null,null,null,null,null,null,null,null,null,null,null,null,null,null,null,null,null,null,null,null,null,null,null,null,null,null,null,null,null,null,null,null,null,null,null,null,null,null,null,null,null,null,null,null,null,null,"","","","","",null,null,null,null,null,null,null,null,null,null,null,null,null,null,null,null,null,null,null,null,null,0,0,0,0,0]
["PARTO EN DOMICILIO","CON ATENCION PROFESIONAL",null,null,null,null,null,null,null,null,null,null,null,null,null,null,null,null,null,null,null,null,null,null,null,null,"",null,null,null,null,null,null,null,null,null,null,null,null,null,null,null,null,null,null,null,null,null,null,null,null,null,null,null,null,null,null,null,null,null,null,null,null,null,null,null,null,null,null,null,null,null,null,null,null,null,null,null,"","","","","",null,null,null,null,null,null,null,null,null,null,null,null,null,null,null,null,null,null,null,null,null,0,0,0,0,0]
[null,"SIN ATENCION PROFESIONAL",null,null,null,null,null,null,null,null,null,null,null,null,null,null,null,null,null,null,null,null,null,null,null,null,"",null,null,null,null,null,null,null,null,null,null,null,null,null,null,null,null,null,null,null,null,null,null,null,null,null,null,null,null,null,null,null,null,null,null,null,null,null,null,null,null,null,null,null,null,null,null,null,null,null,null,null,"","","","","",null,null,null,null,null,null,null,null,null,null,null,null,null,null,null,null,null,null,null,null,null,0,0,0,0,0]
["(*) Incluido en Parto Normal","(**) Partos de Término y Pre-Término"]
["SECCION A.1: PARTOS VAGINALES*"]
["CARACTERISTICAS DEL MODELO DE ATENCION",null,"TOTAL","<28 semanas","28 a 37 semanas","> 38 semanas",null,null,null,null,null,null,null,null,null,null,null,null,null,null,null,null,null,null,null,null,null,null,null,null,null,null,null,null,null,null,null,null,null,null,null,null,null,null,null,null,null,null,null,null,null,null,null,null,null,null,null,null,null,null,null,null,null,null,null,null,null,null,null,null,null,null,null,null,null,null,null,null,null,null,null,null,null,null,null,null,null,null,null,null,null,null,null,null,null,null,null,null,null,null,null,null,null,null,"suma partos por cantidad de semanas igual a total"]
["ESPONTANEO",null,null,null,null,null,{"$f":"CA26&CB26&CC26&CD26&CE26","v":""},null,null,null,null,null,null,null,null,null,null,null,null,null,null,null,null,null,null,null,null,null,null,null,null,null,null,null,null,null,null,null,null,null,null,null,null,null,null,null,null,null,null,null,null,null,null,null,null,null,null,null,null,null,null,null,null,null,null,null,null,null,null,null,null,null,null,null,null,null,null,null,{"$f":"IF(DA26=1,\" * El Total de partos por cantidad de semanas no puede ser mayor al Total de Partos vaginales registrado. \",\"\")","v":""},null,null,null,null,null,null,null,null,null,null,null,null,null,null,null,null,null,null,null,null,null,null,null,null,null,{"$f":"IF(C26<>SUM(D26:F26),1,0)","v":0}]
["INDUCIDOS","MECÁNICA",null,null,null,null,{"$f":"CA27&CB27&CC27&CD27&CE27","v":""},null,null,null,null,null,null,null,null,null,null,null,null,null,null,null,null,null,null,null,null,null,null,null,null,null,null,null,null,null,null,null,null,null,null,null,null,null,null,null,null,null,null,null,null,null,null,null,null,null,null,null,null,null,null,null,null,null,null,null,null,null,null,null,null,null,null,null,null,null,null,null,{"$f":"IF(DA27=1,\" * El Total de partos por cantidad de semanas no puede ser mayor al Total de Partos vaginales registrado. \",\"\")","v":""},null,null,null,null,null,null,null,null,null,null,null,null,null,null,null,null,null,null,null,null,null,null,null,null,null,{"$f":"IF(C27<>SUM(D27:F27),1,0)","v":0}]
[null,"FARMACOLÓGICA",null,null,null,null,"",null,null,null,null,null,null,null,null,null,null,null,null,null,null,null,null,null,null,null,null,null,null,null,null,null,null,null,null,null,null,null,null,null,null,null,null,null,null,null,null,null,null,null,null,null,null,null,null,null,null,null,null,null,null,null,null,null,null,null,null,null,null,null,null,null,null,null,null,null,null,null,"",null,null,null,null,null,null,null,null,null,null,null,null,null,null,null,null,null,null,null,null,null,null,null,null,null,0]
["CONDUCCIÓN OCITÓCICA",null,null,null,null,null,"",null,null,null,null,null,null,null,null,null,null,null,null,null,null,null,null,null,null,null,null,null,null,null,null,null,null,null,null,null,null,null,null,null,null,null,null,null,null,null,null,null,null,null,null,null,null,null,null,null,null,null,null,null,null,null,null,null,null,null,null,null,null,null,null,null,null,null,null,null,null,null,"",null,null,null,null,null,null,null,null,null,null,null,null,null,null,null,null,null,null,null,null,null,null,null,null,null,0]
["LIBERTAD DE MOVIMIENTO",null,null,null,null,null,"",null,null,null,null,null,null,null,null,null,null,null,null,null,null,null,null,null,null,null,null,null,null,null,null,null,null,null,null,null,null,null,null,null,null,null,null,null,null,null,null,null,null,null,null,null,null,null,null,null,null,null,null,null,null,null,null,null,null,null,null,null,null,null,null,null,null,null,null,null,null,null,"",null,null,null,null,null,null,null,null,null,null,null,null,null,null,null,null,null,null,null,null,null,null,null,null,null,0]
["RÉGIMEN HÍDRICO AMPLIO",null,null,null,null,null,"",null,null,null,null,null,null,null,null,null,null,null,null,null,null,null,null,null,null,null,null,null,null,null,null,null,null,null,null,null,null,null,null,null,null,null,null,null,null,null,null,null,null,null,null,null,null,null,null,null,null,null,null,null,null,null,null,null,null,null,null,null,null,null,null,null,null,null,null,null,null,null,"",null,null,null,null,null,null,null,null,null,null,null,null,null,null,null,null,null,null,null,null,null,null,null,null,null,0]
["POSICIÓN AL MOMENTO DEL EXPULSIVO","LITOTOMÍA",null,null,null,null,"",null,null,null,null,null,null,null,null,null,null,null,null,null,null,null,null,null,null,null,null,null,null,null,null,null,null,null,null,null,null,null,null,null,null,null,null,null,null,null,null,null,null,null,null,null,null,null,null,null,null,null,null,null,null,null,null,null,null,null,null,null,null,null,null,null,null,null,null,null,null,null,"",null,null,null,null,null,null,null,null,null,null,null,null,null,null,null,null,null,null,null,null,null,null,null,null,null,0]
[null,"OTRAS POSICIONES",null,null,null,null,"",null,null,null,null,null,null,null,null,null,null,null,null,null,null,null,null,null,null,null,null,null,null,null,null,null,null,null,null,null,null,null,null,null,null,null,null,null,null,null,null,null,null,null,null,null,null,null,null,null,null,null,null,null,null,null,null,null,null,null,null,null,null,null,null,null,null,null,null,null,null,null,"",null,null,null,null,null,null,null,null,null,null,null,null,null,null,null,null,null,null,null,null,null,null,null,null,null,0]
["EPISIOTOMIA",null,null,null,null,null,"",null,null,null,null,null,null,null,null,null,null,null,null,null,null,null,null,null,null,null,null,null,null,null,null,null,null,null,null,null,null,null,null,null,null,null,null,null,null,null,null,null,null,null,null,null,null,null,null,null,null,null,null,null,null,null,null,null,null,null,null,null,null,null,null,null,null,null,null,null,null,null,"",null,null,null,null,null,null,null,null,null,null,null,null,null,null,null,null,null,null,null,null,null,null,null,null,null,0]
["ACOMPAÑAMIENTO  ","DURANTE EL TRABAJO DE PARTO",null,null,null,null,"",null,null,null,null,null,null,null,null,null,null,null,null,null,null,null,null,null,null,null,null,null,null,null,null,null,null,null,null,null,null,null,null,null,null,null,null,null,null,null,null,null,null,null,null,null,null,null,null,null,null,null,null,null,null,null,null,null,null,null,null,null,null,null,null,null,null,null,null,null,null,null,"",null,null,null,null,null,null,null,null,null,null,null,null,null,null,null,null,null,null,null,null,null,null,null,null,null,0]
[null,"SOLO EN EL EXPULSIVO",null,null,null,null,"",null,null,null,null,null,null,null,null,null,null,null,null,null,null,null,null,null,null,null,null,null,null,null,null,null,null,null,null,null,null,null,null,null,null,null,null,null,null,null,null,null,null,null,null,null,null,null,null,null,null,null,null,null,null,null,null,null,null,null,null,null,null,null,null,null,null,null,null,null,null,null,"",null,null,null,null,null,null,null,null,null,null,null,null,null,null,null,null,null,null,null,null,null,null,null,null,null,0]
["(*) Partos de Término y Pre-Término"]
["SECCION A.2: CESÁREAS (responsabilidad del Médico Jefe del Servicio de Obstetricia) "]
["CLASIFICACIÓN SEGÚN MODELO DE ROBSON",null,"PROGRAMADA","URGENCIA"]
["GRUPO 1: Nulíparas, embarazo único, cefálica, ≥37 semanas en trabajo de parto espontáneo"]
["GRUPO 2: Nulíparas, Embarazo único, cefálica, ≥37 semanas, cesárea programada o con inducción de trabajo de parto. ","Total cesáreas grupo 2 "]
[null,"Por requerimiento materno"]
["GRUPO 3: Multípara, sin cesárea previa, embarazo único, cefálica, ≥37 semanas en trabajo de parto espontáneo"]
["GRUPO 4: Multípara, sin cesárea previa, embarazo único, cefálica, ≥37 semanas, cesárea programada o con inducción de trabajo de parto. "]
["GRUPO 5: Multíparas con al menos 1 cesárea previa, embarazo unico, cefálica, ≥37 semanas. ","5.1: con 1 cesárea previa"]
[null,"5.2: 2 o más cesareas previas"]
["GRUPO 6: Nulíparas, embarazo único, podálica"]
["GRUPO 7: Multíparas, embarazo único, podálica, con 1 o más cesáreas previas. "]
["GRUPO 8: Todas las mujeres con embarazo múltiple, incluidas las que tienen 1 o más cesáreas previas. "]
["GRUPO 9: Embarazo único, transverso y oblicuo, incluidas las que tienen una o mas cesáreas previas. "]
["GRUPO 10: Todas las mujeres con embarazo único, cefálica, <37 semanas, incluidas las que tienen 1 o más cesáreas. "]
["Acompañamiento durante la cesárea"]
["SECCION A.3: COMPLICACIONES"]
["Tipo de Complicación",null,"Atención institucional","Parto en Domicilio"]
["HEMORRAGIA POST PARTO","INERCIA"]
[null,"RESTOS"]
[null,"TRAUMA"]
[null,"DESGARROS III Y IV"]
[null,"ALTERACIONES DE LA COAGULACIÓN"]
["PREECLAMPSIA SEVERA"]
["ECLAMPSIA"]
["SEPSIS O INFECCION SISTÉMICA GRAVE"]
["OTRO"]
["MANEJO QUIRURGICO DE LA INERCIA UTERINA"]
["HISTERECTOMÍA OBSTÉTRICA"]
["TRANSFUSION"]
["SECCIÓN B: INTERRUPCIÓN VOLUNTARIA DEL EMBARAZO"]
["CAUSALES","Desea Interrumpir","Grupos de edad en años",null,null,null,null,null,null,null,null,"Abortos",null,null,"Partos ",null,"Beneficiarias","Pueblos Originarios","Migrantes","TRANS"]
[null,null,"Menor de 14 años","14 a 19 años","20 a 24 años","25 a 29 años","30 a 34 años","35 a 39 años","40 a 44 años","45 a 49 años","50 y más años","Hasta 12 semanas y cero días","12 semanas y un día hasta 14 semanas y cero días","de 14 hasta 21 semanas y 6 días","Partos vaginales inducidos","Cesáreas"]
[null,null,{"$f":"SUM(C71:C76)","v":0},{"$f":"SUM(D71:D76)","v":0},0,0,0,0,0,0,0,0,0,0,{"$f":"SUM(O71:O73)","v":0},{"$f":"SUM(P71:P73)","v":0},{"$f":"SUM(Q71:Q76)","v":0},{"$f":"SUM(R71:R76)","v":0},{"$f":"SUM(S71:S76)","v":0},{"$f":"SUM(T71:T76)","v":0}]
["CAUSAL N° 1: MUJER EMBARAZADA CON RIESGO VITAL ","Acepta",null,null,null,null,null,null,null,null,null,null,null,null,null,null,null,null,null,null,{"$f":"CA71&CB71&CC71&CD71&CE71&CF71","v":""},null,null,null,null,null,null,null,null,null,null,null,null,null,null,null,null,null,null,null,null,null,null,null,null,null,null,null,null,null,null,null,null,null,null,null,null,null,null,null,null,null,null,null,null,null,null,null,null,null,null,null,null,null,null,null,null,null,{"$f":"IF(DA71=1,\"* La suma de los Abortos y Partos DEBE ser igual al Total de IVE realizada según causal. \",\"\")","v":""},{"$f":"IF(DB71=1,\"* No olvide digitar los campos Beneficiarios y/o Pueblo Originario y/o Migrantes y/o Personas Trans (Digite CEROS si no tiene). \",\"\")","v":""},{"$f":"IF(DC71=1,\"* Beneficiarias NO DEBEN ser Mayor al Total. \",\"\")","v":""},{"$f":"IF(DD71=1,\"* Pueblos Originarios NO DEBEN ser Mayor al Total. \",\"\")","v":""},{"$f":"IF(DE71=1,\"* Migrantes NO DEBEN ser Mayor al Total. \",\"\")","v":""},{"$f":"IF(DF71=1,\"* Personas Trans NO DEBEN ser Mayor al Total. \",\"\")","v":""},null,null,null,null,null,null,null,null,null,null,null,null,null,null,null,null,null,null,null,null,{"$f":"IF(SUM(C71:K71)<>SUM(L71:P71),1,0)","v":0},{"$f":"IF(AND(SUM(C71:K71)<>0,OR(Q71=\"\",R71=\"\",S71=\"\",T71=\"\")),1,0)","v":0},{"$f":"IF(SUM($C71:$K71)<Q71,1,0)","v":0},0,0,0]
[null,"Rechaza",null,null,null,null,null,null,null,null,null,null,null,null,null,null,null,null,null,null,"",null,null,null,null,null,null,null,null,null,null,null,null,null,null,null,null,null,null,null,null,null,null,null,null,null,null,null,null,null,null,null,null,null,null,null,null,null,null,null,null,null,null,null,null,null,null,null,null,null,null,null,null,null,null,null,null,null,"","","","","","",null,null,null,null,null,null,null,null,null,null,null,null,null,null,null,null,null,null,null,null,0,0,0,0,0,0]
["CAUSAL N° 2: INVIABILIDAD FETAL DE CARÁCTER LETAL","Acepta",null,null,null,null,null,null,null,null,null,null,null,null,null,null,null,null,null,null,"",null,null,null,null,null,null,null,null,null,null,null,null,null,null,null,null,null,null,null,null,null,null,null,null,null,null,null,null,null,null,null,null,null,null,null,null,null,null,null,null,null,null,null,null,null,null,null,null,null,null,null,null,null,null,null,null,null,"","","","","","",null,null,null,null,null,null,null,null,null,null,null,null,null,null,null,null,null,null,null,null,0,0,0,0,0,0]
[null,"Rechaza",null,null,null,null,null,null,null,null,null,null,null,null,null,null,null,null,null,null,"",null,null,null,null,null,null,null,null,null,null,null,null,null,null,null,null,null,null,null,null,null,null,null,null,null,null,null,null,null,null,null,null,null,null,null,null,null,null,null,null,null,null,null,null,null,null,null,null,null,null,null,null,null,null,null,null,null,"","","","","","",null,null,null,null,null,null,null,null,null,null,null,null,null,null,null,null,null,null,null,null,0,0,0,0,0,0]
["CAUSAL N° 3: POR VIOLACIÓN","Acepta",null,null,null,null,null,null,null,null,null,null,null,null,null,null,null,null,null,null,"",null,null,null,null,null,null,null,null,null,null,null,null,null,null,null,null,null,null,null,null,null,null,null,null,null,null,null,null,null,null,null,null,null,null,null,null,null,null,null,null,null,null,null,null,null,null,null,null,null,null,null,null,null,null,null,null,null,"","","","","","",null,null,null,null,null,null,null,null,null,null,null,null,null,null,null,null,null,null,null,null,0,0,0,0,0,0]
[null,"Rechaza",null,null,null,null,null,null,null,null,null,null,null,null,null,null,null,null,null,null,"",null,null,null,null,null,null,null,null,null,null,null,null,null,null,null,null,null,null,null,null,null,null,null,null,null,null,null,null,null,null,null,null,null,null,null,null,null,null,null,null,null,null,null,null,null,null,null,null,null,null,null,null,null,null,null,null,null,"","","","","","",null,null,null,null,null,null,null,null,null,null,null,null,null,null,null,null,null,null,null,null,0,0,0,0,0,0]
["SECCIÓN C: MÉTODO ANTICONCEPTIVO AL ALTA"]
["METODO ANTICONCEPTIVO",null,"POST ABORTO","POST IVE","POST PARTO","Edad en años "]
[null,null,null,null,null,"<14 años","15-19 años","20 y más años"]
["DIU con Cobre"]
["DIU con Levonorgestrel"]
["HORMONAL","Oral Combinado"]
[null,"Oral Progestágeno"]
[null,"Inyectable Combinado"]
[null,"Inyectable Progestágeno"]
[null,"Implante Etonogestrel (3 años)"]
[null,"Implante Levonorgestrel (5 años)"]
["Anillo vaginal"]
["Métodos de barrera"]
["Esterilización quirúrgica","Esterilización quirpurgica"]
[null,"Cesárea más esterilización quirúrgica"]
["Alta sin método anticonceptivo"]
["TOTAL ALTAS",null,{"$f":"SUM(C80:C90)","v":0},0,0,0,0,0]
["SECCIÓN D: INFORMACIÓN DE RECIÉN NACIDOS"]
["SECCIÓN D.1: INFORMACION GENERAL DE RECIEN NACIDOS VIVOS"]
["TIPO",null,"TOTAL","PESO AL NACER (EN GRAMOS)",null,null,null,null,null,null,null,"Anomalía Congénita"]
[null,null,null,"Menos de 500","500 a 999","1.000 a \n1.499","1.500 a \n1.999","2.000 a \n2.499","2.500 a \n2.999","3.000 a \n3.999","4.000 y \nmás"]
["NACIDOS VIVOS",null,{"$f":"SUM(D98:K98)","v":0},null,null,null,null,null,null,null,null,null,{"$f":"CA98","v":""},null,null,null,null,null,null,null,null,null,null,null,null,null,null,null,null,null,null,null,null,null,null,null,null,null,null,null,null,null,null,null,null,null,null,null,null,null,null,null,null,null,null,null,null,null,null,null,null,null,null,null,null,null,null,null,null,null,null,null,null,null,null,null,null,null,{"$f":"IF(DA98=1,\"* Total Nacidos Vivos con Anomalía Congénita NO DEBE ser MAYOR a Nacidos Vivos según peso al Nacer. \",\"\")","v":""},null,null,null,null,null,null,null,null,null,null,null,null,null,null,null,null,null,null,null,null,null,null,null,null,null,{"$f":"IF(C98<L98,1,0)","v":0}]
["SECCIÓN D.2: ATENCION INMEDIATA DEL RECIEN NACIDO"]
["TIPO",null,"PROFILAXIS",null,"TRAUMATISMO DEL PARTO",null,null,null,"APGAR  ",null,"Reanimación Básica ","Reanimación Avanzada ","EHI                Grado II y III"]
[null,null,"Hepatitis B","Ocular","Parto Vaginal","Parto Instrumental","Cesárea","Parto extrahospitalario","Apgar menor o igual a 3 al minuto ","Apgar menor o igual a 6 a los 5 minutos "]
["NACIDOS VIVOS"]
["SECCIÓN D.3: NACIDOS  FALLECIDOS (LEY DOMINGA)"]
["TIPO","TOTAL","PESO AL NACER (EN GRAMOS)",null,null,null,null,null,null,null,"ANOMALÍA CONGÉNITA","ACOMPAÑAMIENTO INTEGRAL DUELO PERINATAL"]
[null,null,"Menos de 500","500 a 999","1.000 a \n1.499","1.500 a \n1.999","2.000 a \n2.499","2.500 a \n2.999","3.000 a \n3.999","4.000 y \nmás",null,"Atención en Sala Diferenciada","Entrega de recuerdos de maternidad/\npaternidad","Con acompañamiento psicosocial","padre o familiar significativo "]
["ABORTOS",{"$f":"SUM(C106:J106)","v":0},null,null,null,null,null,null,null,null,null,null,null,null,null,{"$f":"CA106","v":""},null,null,null,null,null,null,null,null,null,null,null,null,null,null,null,null,null,null,null,null,null,null,null,null,null,null,null,null,null,null,null,null,null,null,null,null,null,null,null,null,null,null,null,null,null,null,null,null,null,null,null,null,null,null,null,null,null,null,null,null,null,null,{"$f":"IF(DA106=1,\"* Total Nacidos Fallecidos con Anomalía Congénita NO DEBE ser MAYOR a Nacidos fallecidos según peso al Nacer. \",\"\")","v":""},null,null,null,null,null,null,null,null,null,null,null,null,null,null,null,null,null,null,null,null,null,null,null,null,null,{"$f":"IF(B106<K106,1,0)","v":0}]
["MORTINATOS",{"$f":"SUM(C107:J107)","v":0},null,null,null,null,null,null,null,null,null,null,null,null,null,{"$f":"CA107","v":""},null,null,null,null,null,null,null,null,null,null,null,null,null,null,null,null,null,null,null,null,null,null,null,null,null,null,null,null,null,null,null,null,null,null,null,null,null,null,null,null,null,null,null,null,null,null,null,null,null,null,null,null,null,null,null,null,null,null,null,null,null,null,{"$f":"IF(DA107=1,\"* Total Nacidos Fallecidos con Anomalía Congénita NO DEBE ser MAYOR a Nacidos fallecidos según peso al Nacer. \",\"\")","v":""},null,null,null,null,null,null,null,null,null,null,null,null,null,null,null,null,null,null,null,null,null,null,null,null,null,{"$f":"IF(B107<K107,1,0)","v":0}]
["MORTINEONATOS",{"$f":"SUM(C108:J108)","v":0},null,null,null,null,null,null,null,null,null,null,null,null,null,{"$f":"CA108","v":""},null,null,null,null,null,null,null,null,null,null,null,null,null,null,null,null,null,null,null,null,null,null,null,null,null,null,null,null,null,null,null,null,null,null,null,null,null,null,null,null,null,null,null,null,null,null,null,null,null,null,null,null,null,null,null,null,null,null,null,null,null,null,{"$f":"IF(DA108=1,\"* Total Nacidos Fallecidos con Anomalía Congénita NO DEBE ser MAYOR a Nacidos fallecidos según peso al Nacer. \",\"\")","v":""},null,null,null,null,null,null,null,null,null,null,null,null,null,null,null,null,null,null,null,null,null,null,null,null,null,{"$f":"IF(B108<K108,1,0)","v":0}]
["SECCIÓN E: EGRESOS DE MATERNIDAD, SEGÚN LACTANCIA MATERNA EXCLUSIVA"]
["TIPO DE ALIMENTACIÓN","Egresos (Puérperas con RN vivo)","Pueblos Originarios","Migrantes"]
["EGRESADOS CON LACTANCIA MATERNA EXCLUSIVA ",null,null,null,{"$f":"CA111&CB111&CC111","v":""},null,null,null,null,null,null,null,null,null,null,null,null,null,null,null,null,null,null,null,null,null,null,null,null,null,null,null,null,null,null,null,null,null,null,null,null,null,null,null,null,null,null,null,null,null,null,null,null,null,null,null,null,null,null,null,null,null,null,null,null,null,null,null,null,null,null,null,null,null,null,null,null,null,{"$f":"IF(DA111=1,\"* Recuerde digitar los campos Pueblo Originario y/o Migrantes (Digite Cero si no tiene). \",\"\")","v":""},{"$f":"IF(DB111=1,\"* Pueblos Originarios NO DEBEN ser Mayor al Total. \",\"\")","v":""},{"$f":"IF(DC111=1,\"* Migrantes NO DEBEN ser Mayor al Total. \",\"\")","v":""},null,null,null,null,null,null,null,null,null,null,null,null,null,null,null,null,null,null,null,null,null,null,null,{"$f":"IF(AND(B111<>0,OR(C111=\"\",D111=\"\")),1,0)","v":0},{"$f":"IF($B111<C111,1,0)","v":0},0]
["EGRESADOS CON LACTANCIA MATERNA EXCLUSIVA DURANTE LA HOSPITALIZACIÓN Y QUE INCLUYE EL ALTA (incluido en fila 67)",null,null,null,{"$f":"CA112&CB112&CC112","v":""},null,null,null,null,null,null,null,null,null,null,null,null,null,null,null,null,null,null,null,null,null,null,null,null,null,null,null,null,null,null,null,null,null,null,null,null,null,null,null,null,null,null,null,null,null,null,null,null,null,null,null,null,null,null,null,null,null,null,null,null,null,null,null,null,null,null,null,null,null,null,null,null,null,{"$f":"IF(DA112=1,\"* Recuerde digitar los campos Pueblo Originario y/o Migrantes (Digite Cero si no tiene). \",\"\")","v":""},{"$f":"IF(DB112=1,\"* Pueblos Originarios NO DEBEN ser Mayor al Total. \",\"\")","v":""},{"$f":"IF(DC112=1,\"* Migrantes NO DEBEN ser Mayor al Total. \",\"\")","v":""},null,null,null,null,null,null,null,null,null,null,null,null,null,null,null,null,null,null,null,null,null,null,null,{"$f":"IF(AND(B112<>0,OR(C112=\"\",D112=\"\")),1,0)","v":0},0,0]
["EGRESADOS CON MADRES SEROLOGÍA POSITIVA (VIH) ",null,null,null,{"$f":"CA113&CB113&CC113","v":""},null,null,null,null,null,null,null,null,null,null,null,null,null,null,null,null,null,null,null,null,null,null,null,null,null,null,null,null,null,null,null,null,null,null,null,null,null,null,null,null,null,null,null,null,null,null,null,null,null,null,null,null,null,null,null,null,null,null,null,null,null,null,null,null,null,null,null,null,null,null,null,null,null,{"$f":"IF(DA113=1,\"* Recuerde digitar los campos Pueblo Originario y/o Migrantes (Digite Cero si no tiene). \",\"\")","v":""},{"$f":"IF(DB113=1,\"* Pueblos Originarios NO DEBEN ser Mayor al Total. \",\"\")","v":""},{"$f":"IF(DC113=1,\"* Migrantes NO DEBEN ser Mayor al Total. \",\"\")","v":""},null,null,null,null,null,null,null,null,null,null,null,null,null,null,null,null,null,null,null,null,null,null,null,{"$f":"IF(AND(B113<>0,OR(C113=\"\",D113=\"\")),1,0)","v":0},0,0]
["EGRESADOS CON MADRES SEROLOGÍA POSITIVA   (HTLV-1)",null,null,null,{"$f":"CA114&CB114&CC114","v":""},null,null,null,null,null,null,null,null,null,null,null,null,null,null,null,null,null,null,null,null,null,null,null,null,null,null,null,null,null,null,null,null,null,null,null,null,null,null,null,null,null,null,null,null,null,null,null,null,null,null,null,null,null,null,null,null,null,null,null,null,null,null,null,null,null,null,null,null,null,null,null,null,null,{"$f":"IF(DA114=1,\"* Recuerde digitar los campos Pueblo Originario y/o Migrantes (Digite Cero si no tiene). \",\"\")","v":""},{"$f":"IF(DB114=1,\"* Pueblos Originarios NO DEBEN ser Mayor al Total. \",\"\")","v":""},{"$f":"IF(DC114=1,\"* Migrantes NO DEBEN ser Mayor al Total. \",\"\")","v":""},null,null,null,null,null,null,null,null,null,null,null,null,null,null,null,null,null,null,null,null,null,null,null,{"$f":"IF(AND(B114<>0,OR(C114=\"\",D114=\"\")),1,0)","v":0},0,0]
["EGRESADOS CON MADRES ACOGIDAS A LA LEY 21.155 (Derecho a no amamantar)",null,null,null,{"$f":"CA115&CB115&CC115","v":""},null,null,null,null,null,null,null,null,null,null,null,null,null,{"$f":"CB115&CC115","v":""},null,null,null,null,null,null,null,null,null,null,null,null,null,null,null,null,null,null,null,null,null,null,null,null,null,null,null,null,null,null,null,null,null,null,null,null,null,null,null,null,null,null,null,null,null,null,null,null,null,null,null,null,null,null,null,null,null,null,null,{"$f":"IF(DA115=1,\"* Recuerde digitar los campos Pueblo Originario y/o Migrantes (Digite Cero si no tiene). \",\"\")","v":""},{"$f":"IF(DB115=1,\"* Pueblos Originarios NO DEBEN ser Mayor al Total. \",\"\")","v":""},{"$f":"IF(DC115=1,\"* Migrantes NO DEBEN ser Mayor al Total. \",\"\")","v":""},null,null,null,null,null,null,null,null,null,null,null,null,null,null,null,null,null,null,null,null,null,null,null,{"$f":"IF(AND(B115<>0,OR(C115=\"\",D115=\"\")),1,0)","v":0},0,0]
["TOTAL DE EGRESOS",{"$f":"+B111+B113+B114+B115","v":0},{"$f":"+C111+C113+C114+C115","v":0},{"$f":"+D111+D113+D114+D115","v":0},{"$f":"CA110&CB110&CC110&CD110&CE110&CF110","v":""},null,null,null,null,null,null,null,null,null,null,null,null,null,{"$f":"CB116&CC116","v":""},null,null,null,null,null,null,null,null,null,null,null,null,null,null,null,null,null,null,null,null,null,null,null,null,null,null,null,null,null,null,null,null,null,null,null,null,null,null,null,null,null,null,null,null,null,null,null,null,null,null,null,null,null,null,null,null,null,null,null,null,null,{"$f":"IF(CI116=1,\"* Pueblo Originario y/o Migrante NO DEBE ser mayor al Total. \",\"\")","v":""}]
["SECCIÓN F: CONSULTA DE LACTANCIA MATERNA EN SERVICIOS GINECO-OBSTÉTRICOS"]
["TIPOS DE CONSULTA",null,"TOTAL"]
["CONSULTA DE LACTANCIA","Consulta de Lactancia Materna durante la hospitalización "]
[null,"Consulta de Lactancia Materna posterior al alta "]
["CONSULTA DE LACTANCIA POR PROFESIONAL","Médico"]
[null,"Matrón/a"]
[null,"Enfermera/o"]
[null,"Nutricionista"]
["SECCIÓN G: TALLERES GRUPALES DE LACTANCIA MATERNA"]
["CONCEPTO","Total","GRUPO DE EDAD (En años)",null,null,null,null,null,null,null,null,"Pueblos Originarios","Migrantes"]
[null,null,"10 a 14 años","15 a 19 años","20 a 24 años","25 a 29 años","30 a 34 años","35 a 39 años","40 a 44 años","45 a 49 años","50 a 54 años"]
["Número de Talleres de Lactancia Materna realizada en Maternidades",null,null,null,null,null,null,null,null,null,null,null,null,null,null,null,null,null,null,null,null,null,null,null,null,null,null,null,null,null,null,null,null,null,null,null,null,null,null,null,null,null,null,null,null,null,null,null,null,null,null,null,null,null,null,null,null,null,null,null,null,null,null,null,null,null,null,null,null,null,null,null,null,null,null,null,null,null,{"$f":"IF(DA128=1,\"* Recuerde digitar los campos Pueblo Originario y/o Migrantes (Digite Cero si no tiene). \",\"\")","v":""},{"$f":"IF(DB128=1,\"* Pueblos Originarios NO DEBEN ser Mayor al Total. \",\"\")","v":""},{"$f":"IF(DC128=1,\"* Migrantes NO DEBEN ser Mayor al Total. \",\"\")","v":""}]
["Número de Participantes de Talleres de Lactancia Materna realizada en Maternidades",null,null,null,null,null,null,null,null,null,null,null,null,{"$f":"CA129&CB129&CC129","v":""},null,null,null,null,null,null,null,null,null,null,null,null,null,null,null,null,null,null,null,null,null,null,null,null,null,null,null,null,null,null,null,null,null,null,null,null,null,null,null,null,null,null,null,null,null,null,null,null,null,null,null,null,null,null,null,null,null,null,null,null,null,null,null,null,{"$f":"IF(DA129=1,\"* Recuerde digitar los campos Pueblo Originario y/o Migrantes (Digite Cero si no tiene). \",\"\")","v":""},{"$f":"IF(DB129=1,\"* Pueblos Originarios NO DEBEN ser Mayor al Total. \",\"\")","v":""},{"$f":"IF(DC129=1,\"* Migrantes NO DEBEN ser Mayor al Total. \",\"\")","v":""},null,null,null,null,null,null,null,null,null,null,null,null,null,null,null,null,null,null,null,null,null,null,null,{"$f":"IF(AND(B129<>0,OR(L129=\"\",M129=\"\")),1,0)","v":0},{"$f":"IF($B129<L129,1,0)","v":0},{"$f":"IF($B129<M129,1,0)","v":0}]
["SECCIÓN H:  TAMIZAJES DEL RECIÉN NACIDO "]
["SECCION H.1: TAMIZAJE METABOLICO"]
["EXAMENES","PROGRAMA FENILQUETONURIA (PKU) E HIPOTIROIDISMO CONGÉNITO (HC)",null,null,null,"FIBROSIS QUISTICA","TOMA DE MUESTRA AMBULATORIA"]
[null,"Primeras Muestras","Exámenes de 2a punción","2a muestra en <36 semanas","Examenes alterados","RN tamizados según piloto"]
["RECIEN NACIDOS TAMIZADOS"]
["SECCIÓN H.2:  TAMIZAJE AUDITIVO"]
["RECIEN NACIDOS VIVOS TAMIZADOS","Tamizaje","Re-Tamizaje","Ambulatorio","Pueblos Originarios"]
["TOTAL DE RECIEN NACIDOS TAMIZADOS"]
["RECIEN NACIDOS VIVOS QUE PASAN"]
["RECIEN NACIDOS QUE REFIEREN"]
["EXAMENES REALIZADOS","EOA","PEATa","Pueblos Originarios"]
["MATERNIDAD"]
["NEONATOLOGÍA"]
["SERVICIO OTORRINOLARINGOLOGÍA (realizado antes de los 6 meses de vida)"]
["SECCION H.3: TAMIZAJE CARDIOPATÍAS CONGÉNITAS"]
["EXAMENES REALIZADOS","Recien Nacidos  Tamizados","Recién  Nacidos referidos a Cardiología "]
["MATERNIDAD"]
["NEONATOLOGÍA"]
[]
[]
[]
[]
[]
[]
[]
[]
[]
[]
[]
[]
[]
[]
[]
[]
[]
[]
[]
[]
[]
[]
[]
[]
[]
[]
[]
[]
[]
[]
[]
[]
[]
[]
[]
[]
[]
[]
[]
[]
[]
[]
[]
[]
[]
[]
[]
[]
[]
[]
[]
[]
[]
[]
[]
[]
[]
[]
[]
[]
[]
[]
[]
[]
[]
[]
[]
[]
[]
[]
[]
[]
[]
[]
[]
[]
[]
[]
[]
[]
[]
[]
[]
[]
[]
[]
[]
[]
[]
[]
[]
[]
[]
[]
[]
[]
[]
[]
[]
[]
[]
[]
[]
[]
[]
[]
[]
[]
[]
[]
[]
[]
[]
[]
[]
[]
[]
[]
[]
[]
[]
[{"$f":"SUM(C12,C26:C36,C40:D52,C55:D66,C70:P70,C93:H93,C98,C102:M102,B106:B108,B116:D116,C119:C124,B128:B129,B134:F134,B137:D139,B141:C143,B146:C147)","v":0},{"$f":"SUM(DA12:DZ147)","v":0}]

{"sheet":"A25","index":17,"n_rows":335,"n_cols":79,"rows_kept":335,"cut":false,"hidden":false,"merged":[[29,2,29,3],[51,1,51,3],[52,0,53,0],[52,1,52,3],[53,1,53,3],[54,0,59,0],[54,1,59,1],[54,2,54,3],[55,2,55,3],[56,2,56,3],[57,2,57,3],[58,2,58,3],[59,2,59,3],[41,0,47,0],[41,1,47,1],[41,2,41,3],[42,2,43,2],[44,2,44,3],[45,2,45,3],[46,2,46,3],[47,2,47,3],[48,0,51,0],[48,1,48,3],[37,1,40,1],[188,2,188,4],[161,7,162,7],[161,8,162,8],[161,2,162,4],[163,2,163,4],[164,2,164,4],[165,2,165,4],[166,2,166,4],[167,2,167,4],[168,2,168,4],[169,2,169,4],[170,2,170,4],[171,2,171,4],[172,2,172,4],[173,2,173,4],[174,2,174,4],[175,2,175,4],[176,2,176,4],[177,2,177,4],[178,2,178,4],[179,2,179,4],[180,2,180,4],[181,2,181,4],[182,2,182,4],[161,6,162,6],[163,0,173,0],[163,1,170,1],[171,1,173,1],[174,0,187,0],[174,1,177,1],[178,1,187,1],[161,0,162,0],[161,1,162,1],[161,5,162,5],[183,2,183,4],[184,2,184,4],[185,2,185,4],[186,2,186,4],[187,2,187,4],[235,0,235,1],[236,0,236,1],[211,0,214,0],[216,0,220,0],[221,0,222,0],[226,0,227,0],[228,0,229,0],[230,0,231,0],[232,0,233,0],[234,0,234,1],[223,0,225,0],[289,0,289,1],[290,0,290,1],[271,0,271,1],[280,0,280,1],[281,0,281,1],[282,0,282,1],[283,0,283,1],[284,0,284,1],[285,0,285,1],[286,0,286,1],[287,0,287,1],[288,0,288,1],[155,0,155,1],[157,0,157,1],[158,0,159,0],[149,0,149,1],[150,0,152,0],[153,0,153,1],[154,0,154,1],[138,0,138,1],[139,0,141,0],[142,0,142,1],[143,0,143,1],[147,0,148,1],[147,2,148,2],[120,0,120,1],[122,0,122,4],[129,0,129,3],[134,3,135,3],[134,4,135,4],[137,0,137,1],[113,0,113,8],[114,0,114,1],[115,0,115,1],[116,0,118,0],[119,0,119,1],[147,3,147,5],[147,6,147,8],[104,0,104,7],[105,0,105,1],[106,0,106,1],[107,0,109,0],[110,0,110,1],[111,0,111,1],[97,0,97,1],[98,0,98,1],[99,0,99,1],[100,0,100,1],[101,0,101,1],[102,0,102,1],[91,0,91,1],[92,0,92,1],[94,0,94,11],[95,0,96,1],[95,2,96,2],[95,3,96,3],[95,4,95,6],[95,7,96,7],[89,0,89,1],[90,0,90,1],[84,0,84,8],[85,0,86,1],[85,2,86,2],[85,3,86,3],[85,4,85,6],[85,7,86,7],[80,0,82,0],[87,0,87,1],[88,0,88,1],[62,1,63,1],[39,2,39,3],[40,2,40,3],[75,0,79,0],[83,0,83,1],[60,1,60,3],[30,0,40,0],[30,2,30,3],[31,2,31,3],[32,2,32,3],[33,1,34,1],[33,2,33,3],[34,2,34,3],[35,1,36,1],[35,2,35,3],[36,2,36,3],[30,1,32,1],[14,0,14,2],[15,0,15,2],[19,26,19,27],[21,0,24,0],[21,1,22,1],[23,1,24,1],[19,22,19,23],[19,24,19,25],[9,26,9,27],[19,18,19,19],[19,20,19,21],[16,0,16,2],[18,0,20,0],[18,1,20,2],[18,3,19,5],[9,18,9,19],[9,20,9,21],[9,22,9,23],[19,8,19,9],[19,10,19,11],[19,12,19,13],[19,14,19,15],[19,16,19,17],[9,24,9,25],[11,0,12,0],[13,0,13,1],[8,0,10,0],[8,1,10,2],[8,3,9,5],[9,6,9,7],[9,8,9,9],[9,10,9,11],[9,12,9,13],[8,6,8,27],[9,14,9,15],[9,16,9,17],[28,0,28,5],[19,6,19,7],[18,6,18,29],[258,0,261,0],[262,0,266,0],[267,0,270,0],[238,0,238,1],[239,0,239,1],[240,0,240,1],[241,0,241,1],[19,28,19,29],[244,0,257,0],[49,1,49,3],[50,1,50,3],[25,0,26,1],[27,0,27,2],[68,0,69,0],[68,1,69,1],[68,2,69,2],[70,0,74,0],[61,0,61,7],[37,2,37,3],[38,2,38,3],[62,0,63,0]]}
["SERVICIO DE SALUD",null,null,null,null,null,null,null,null,null,null,null,null,null,null,null,null,null,null,null,null,null,null,null,null,null,null,null,null,null,null,null,null,null,null,null,null,null,null,null,null,null,null,null,null,null,null,null,null,null,null,null,null,null,null,null,null,null,null,null,null,null,null,null,null,null,null,null,null,null,null,null,null,null,null,null,null,null,"CG5:CN157"]
[{"$f":"CONCATENATE(\"COMUNA: \",NOMBRE!B2,\" - \",\"( \",NOMBRE!C2,NOMBRE!D2,NOMBRE!E2,NOMBRE!F2,NOMBRE!G2,\" )\")","v":"COMUNA:  - (  )"}]
[{"$f":"CONCATENATE(\"ESTABLECIMIENTO/ESTRATEGIA: \",NOMBRE!B3,\" - \",\"( \",NOMBRE!C3,NOMBRE!D3,NOMBRE!E3,NOMBRE!F3,NOMBRE!G3,NOMBRE!H3,\" )\")","v":"ESTABLECIMIENTO/ESTRATEGIA:  - (  )"}]
[{"$f":"CONCATENATE(\"MES: \",NOMBRE!B6,\" - \",\"( \",NOMBRE!C6,NOMBRE!D6,\" )\")","v":"MES:  - (  )"}]
[{"$f":"CONCATENATE(\"AÑO: \",NOMBRE!B7)","v":"AÑO: 2023"}]
[null,null,null,null,null,"REM-25.  SERVICIOS DE SANGRE"]
[]
["SECCIÓN A.1: POBLACIÓN DONANTE (CS-UMT-BS)"]
["DONANTES","DESCRIPCIÓN",null,"TOTAL",null,null,"POR EDAD"]
[null,null,null,null,null,null,"18-19 años",null,"20-24 años",null,"25-29 años",null,"30-34 años",null,"35-39 años",null,"40-44 años",null,"45-49 años",null,"50-54 años",null,"55-59 años",null,"60-64 años",null,"65 y más años"]
[null,null,null,"Ambos Sexos","Hombres","Mujeres","Hombres","Mujeres","Hombres","Mujeres","Hombres","Mujeres","Hombres","Mujeres","Hombres","Mujeres","Hombres","Mujeres","Hombres","Mujeres","Hombres","Mujeres","Hombres","Mujeres","Hombres","Mujeres","Hombres","Mujeres"]
["ALTRUISTAS","NUEVOS","Aceptados",{"$f":"SUM(E12+F12)","v":0},{"$f":"SUM(G12+I12+K12+M12+O12+Q12+S12+U12+W12+Y12)","v":0},0]
[null,"REPETIDOS","Aceptados",{"$f":"SUM(E13+F13)","v":0},0,0]
["FAMILIARES O REPOSICIÓN",null,"Aceptados",{"$f":"SUM(E14+F14)","v":0},0,0]
["TOTAL",null,null,{"$f":"SUM(E15+F15)","v":0},0,0,{"$f":"SUM(G12:G14)","v":0},0,0,0,0,0,0,0,0,0,0,0,0,0,0,0,0,0,0,0,{"$f":"SUM(AA12:AA14)","v":0},{"$f":"SUM(AB12:AB14)","v":0}]
["TOTAL DÍAS ATENCIÓN OTORGADOS"]
["TOTAL COLECTAS MÓVILES REALIZADAS"]
["SECCIÓN A.2:  TIPO DE DONANTES CON CONTRAINDICACIÓN"]
["DONANTES","DESCRIPCIÓN",null,"TOTAL",null,null,"POR EDAD"]
[null,null,null,null,null,null,"17 años",null,"18-19 años",null,"20-24 años",null,"25-29 años",null,"30-34 años",null,"35-39 años",null,"40-44 años",null,"45-49 años",null,"50-54 años",null,"55-59 años",null,"60-64 años",null,"65 y más años"]
[null,null,null,"Ambos Sexos","Hombres","Mujeres","Hombres","Mujeres","Hombres","Mujeres","Hombres","Mujeres","Hombres","Mujeres","Hombres","Mujeres","Hombres","Mujeres","Hombres","Mujeres","Hombres","Mujeres","Hombres","Mujeres","Hombres","Mujeres","Hombres","Mujeres","Hombres","Mujeres"]
["ALTRUISTAS","NUEVOS","Contraindicación Transitoria",{"$f":"SUM(E22+F22)","v":0},{"$f":"SUM(I22+K22+M22+O22+Q22+S22+U22+W22+Y22+AA22)","v":0},0]
[null,null,"Contraindicación Permanente",0,0,0]
[null,"REPETIDOS","Contraindicación Transitoria",0,0,0]
[null,null,"Contraindicación Permanente",0,0,0]
["FAMILIARES O REPOSICIÓN",null,"Contraindicación Transitoria",0,0,0]
[null,null,"Contraindicación Permanente",0,0,0]
["TOTAL",null,null,{"$f":"SUM(D22:D27)","v":0},0,0,{"$f":"SUM(G22:G27)","v":0},{"$f":"SUM(H22:H27)","v":0},0,0,0,0,0,0,0,0,0,0,0,0,0,0,0,0,0,0,0,0,{"$f":"SUM(AC22:AC27)","v":0},{"$f":"SUM(AD22:AD27)","v":0}]
["SECCIÓN A.3: REACCIONES ADVERSAS A LA DONACIÓN (CS - UMT - BS)"]
["Clasificación","Tipo","Subtipo",null,"Total","Altruista","Reposición"]
["A. Complicaciones con síntomas locales","A.1 Sangre fuera de los vasos sanguíneos","Hematoma",null,{"$f":"SUM(F31:G31)","v":0}]
[null,null,"Punción arterial",null,{"$f":"SUM(F32:G32)","v":0}]
[null,null,"Sangramiento posterior",null,0]
[null,"A.2 Dolor","Irritación o injuria en un nervio",null,0]
[null,null,"Brazo doloroso",null,0]
[null,"A.3 Inflamación o infección localizada","Tromboflebitis",null,0]
[null,null,"Celulitis",null,0]
[null,"A.4 Otras injurias mayores en los vasos sanguíneos","Trombosis venosa profunda",null,0]
[null,null,"Fístula arteriovenosa",null,0]
[null,null,"Síndrome compartimental",null,0]
[null,null,"Pseudoaneurisma de la arteria braquial",null,0]
["B. Complicaciones con síntomas generalizados","B.1 Reacción vasovagal (RVV)","Sin pérdida de conciencia",null,0]
[null,null,"Con pérdida de conciencia","<60 segundos, sin complicaciones",0]
[null,null,null,"≥ 60 segundos y / o convulsiones o incontinencia",0]
[null,null,"Con lesión",null,0]
[null,null,"Sin lesión",null,0]
[null,null,"En el sitio de recolección",null,0]
[null,null,"Fuera del sitio de recolección",null,0]
["C. Complicaciones relacionadas a la aféresis","C.1 Reacción al citrato",null,null,0]
[null,"C.2 Hemólisis",null,null,0]
[null,"C.3 Embolismo aéreo",null,null,0]
[null,"C.4 Infiltración",null,null,0]
["D. Reacción alérgica","D.1 Alergia local",null,null,0]
[null,"D.2 Reacción alérgica generalizada (anafilaxia)",null,null,0]
["E. Otras complicaciones serias a la donación de sangre","E.1 Evento mayor cardiovascular","Síntomas agudos cardíacos",null,0]
[null,null,"Infarto al miorcardio",null,0]
[null,null,"Paro cardiaco",null,0]
[null,null,"Ataque isquémico transitorio",null,0]
[null,null,"Accidente cerebrovascular",null,0]
[null,null,"Muerte",null,0]
["F. Otras complicaciones","F.1 Otras no mencionadas",null,null,0]
["SECCIÓN B: INGRESO UNIDADES DE SANGRE A PRODUCIÓN  (CS-BS)"]
["UNIDADES DE SANGRE","TOTAL"]
[]
["APTAS"]
["NO APTAS"]
["TOTAL",{"$f":"SUM(B65+B66)","v":0}]
["SECCIÓN C: PRODUCCIÓN DE COMPONENTES SANGUÍNEOS (CS-BS)"]
["PRODUCCIÓN","DESCRIPCIÓN","TOTAL"]
[]
["GLÓBULOS ROJOS","DESPLAMATIZADOS"]
[null,"LEUCOREDUCIDOS"]
[null,"FILTRADOS"]
[null,"AFERESIS"]
[null,"IRRADIADAS"]
["PLAQUETAS","ESTÁNDAR"]
[null,"LEUCORREDUCIDA POOL"]
[null,"LEUCODEPLETADA POOL"]
[null,"AFÉRESIS"]
[null,"IRRADIADAS"]
["PLASMAS","PLASMA FRESCO CONGELADO TERAPÉUTICO"]
[null,"PLASMA USO NO TERAPÉUTICO"]
[null,"AFÉRESIS"]
["CRIOPRECIPITADOS"]
["SECCIÓN C.1: COMPONENTES SANGUÍNEOS ELIMINADOS (CS-BS )"]
["CAUSA",null,"GLOBULOS ROJOS*","PLASMAS*","PLAQUETAS",null,null,"CRIOPRECIPI-TADOS"]
[null,null,null,null,"Estándar","Pool*","Aféresis"]
["CALIFICACIÓN MICROBIOLÓGICA REACTIVA"]
["OBSOLESCENCIA"]
["FALLA POR CADENA DE FRÍO EN ALMACENAMIENTO"]
["FALLA POR CADENA DE FRÍO EN TRANSPORTE  "]
["OTROS"]
["TOTAL",null,{"$f":"SUM(C88:C92)","v":0},0,0,0,0,0]
["* Cualquier tipo"]
["SECCIÓN C.2 .: COMPONENTES SANGUÍNEOS ELIMINADOS O DEVUELTOS AL CENTRO DE SANGRE ( UMT)"]
["CAUSA",null,"GLOBULOS ROJOS*","PLASMAS*","PLAQUETAS",null,null,"CRIOPRECIPI-TADOS"]
[null,null,null,null,"Estándar","Pool*","Aféresis"]
["OBSOLESCENCIA"]
["FALLA POR CADENA DE FRÍO"]
["DEVOLUCIONES POR PRODUCTO POR NO CUMPLIR ESTÁNDAR"]
["DESCONGELAMIENTO SIN USO"]
["OTROS"]
["TOTAL",null,{"$f":"SUM(C98:C102)","v":0},0,0,0,0,0]
["* Cualquier tipo"]
["SECCIÓN C.3 : COMPONENTES SANGUÍNEOS TRANSFORMACIONES (CS-BS-UMT)"]
["COMPONENTES",null,"Total","Unidades Pediatricas","Irradiación ","Reconstitucón para uso pediátrico (recambio) ","Reducción volumen ","Desplasmatización ","Filtrados "]
["GLOBULOS ROJOS*"]
["PLAQUETAS","ESTÁNDAR"]
[null,"POOL*"]
[null,"AFÉRESIS"]
["PLASMAS*"]
["CRIOPRECIPITADOS"]
["* Cualquier tipo"]
["SECCIÓN C.4: COMPONENTES SANGUÍNEOS DISTRIBUÍBLES (CS)"]
["COMPONENTES",null,"Total","Unidades Pediatricas","Irradiación ","Reconstitucón para uso pediátrico (recambio) ","Reducción volumen ","Desplasmatización ","Filtrados "]
["GLOBULOS ROJOS*"]
["PLAQUETAS","ESTÁNDAR"]
[null,"POOL*"]
[null,"AFÉRESIS"]
["PLASMAS*"]
["CRIOPRECIPITADOS"]
["* Cualquier tipo"]
["SECCIÓN C.5:INSATISFACCION OPTIMO (7 DÍAS) CS"]
["GR","NÚMERO DÍAS BAJO STOCK ÓPTIMO"]
["O +"]
["A +"]
["B +"]
["O ( - )"]
["A ( - )"]
["SECCIÓN C.6: INSATISFACCION STOCK MINIMO (3 DÍAS) UMT"]
["GR","NÚMERO DÍAS BAJO STOCK MINIMO"]
["O +"]
["A +"]
["B +"]
["O ( - )"]
["A ( - )"]
["SECCIÓN D: COMPONENTES SANGUINEOS DISTRIBUIDOS (CS) O TRANSFERIDOS (BS Y UMT)"]
["DESCRIPCIÓN",null,"TOTAL","PÚBLICO","PRIVADO**","F.F.A.A."]
["GLOBULOS ROJOS*",null,{"$f":"SUM(D139:F139)","v":0}]
["PLAQUETAS","ESTANDAR",0]
[null,"POOL*",0]
[null,"AFERESIS",0]
["PLASMAS*",null,0]
["CRIOPRECIPITADOS",null,0]
["* Cualquier tipo"]
["**Universitarios, Clínicas Privadas, Otros"]
["SECCIÓN D.1: TRANSFUSIONES (UMT - BS )"]
["TRANSFUSIONES                                                   (Nº DE UNIDADES)",null,"TOTAL","MENORES DE 15 AÑOS",null,null,"DE 15 Y MAS AÑOS"]
[null,null,null,"Normales ","Irradiados","Filtrados","Normales","Irradiados","Filtrados"]
["GLOBULOS ROJOS*",null,{"$f":"SUM(D150:H150)","v":0}]
["PLAQUETAS","ESTANDAR",0]
[null,"POOL*",0]
[null,"AFERESIS",0]
["PLASMAS*",null,0]
["CRIOPRECIPITADOS",null,0]
["TOTAL",null,0,{"$f":"SUM(D150:D155)","v":0},0,0,0,0,0]
["SECCIÓN E: DEMANDA GLÓBULOS ROJOS PARA TRANSFUSIÓN (UMT-BS)"]
["TIPO",null,"TOTAL"]
["UNIDADES","SOLICITADAS"]
[null,"DESPACHADAS"]
["SECCIÓN F: REACCIONES ADVERSAS POR ACTO* TRANSFUSIONAL  (UMT-BS) (NUEVA)"]
["Tipo Complicación","Origen","Tipo",null,null,"Total","Glóbulos Rojos","Plasma","Plaquetas"]
[]
["COMPLICACIONES AGUDAS","INMUNOLÓGICO","Reacción hemolítica aguda"]
[null,null,"Reacción febril no hemolítica"]
[null,null,"Reacción alérgica"]
[null,null,"Anafilaxia/Hipersensibilidad "]
[null,null,"Lesión pulmonar aguda relacionada con la transfusión (TRALI)"]
[null,null,"Aloinmunización con destrucción plaquetaria inmediata"]
[null,null,"Reacción Hemolítica aguda por inmunocompatibilidad ABO"]
[null,null,"Reacción Hemolítica aguda por otra causa "]
[null,"NO INMUNOLÓGICO","Contaminación bacteriana"]
[null,null,"Sobrecarga circulatoria"]
[null,null,"Hemólisis no inmune"]
["COMPLICACIONES RETARDADAS","INMUNOLÓGICO","Reacción hemolítica retardada"]
[null,null,"Aloinmunización frente a antígenos eritrocitarios"]
[null,null,"Púrpura postransfusional"]
[null,null,"Enfermedad injerto contra huésped postransfusional (EICHT)"]
[null,"NO INMUNOLÓGICO","Hemosiderosis transfusional"]
[null,null,"Transmisión de priones"]
[null,null,"Formación de inhibidores"]
[null,null,"Septicemia "]
[null,null,"Transmisión de VIH Post transfusional "]
[null,null,"Transmisión de VHC post transfusional "]
[null,null,"Transmisión de VHB post transfusional "]
[null,null,"Transmisión de otros virus post transfusional "]
[null,null,"Malaria/Paludismo "]
[null,null,"Otras Infecciones Parasitarias post transfusional "]
[null,null,"Total",null,null,{"$f":"+SUM(F164:F188)","v":0},{"$f":"+SUM(G164:G188)","v":0},{"$f":"+SUM(H164:H188)","v":0},{"$f":"+SUM(I164:I188)","v":0}]
["SECCIÓN: G INMUNOHEMATOLOGIA"]
["SECCIÓN:G.1 CLASIFICACIÓN SANGUÍNEA ABO-RhD (CS-BS-UMT)"]
["FENOTIPO","Total","Donantes","Pacientes"]
["O RhD+"]
["O RhD-"]
["A RhD+"]
["A RhD-"]
["B RhD+"]
["B RhD-"]
["AB RhD+"]
["AB RhD-"]
["DISCREPANTE ABO"]
["DISCREPANTE RhD"]
["TOTAL",{"$f":"+SUM(B193:B202)","v":0},{"$f":"+SUM(C193:C202)","v":0},{"$f":"+SUM(D193:D202)","v":0}]
["SECCIÓN:G.2 DETECCIÓN DE ANTICUERPOS IRREGULARES (CS-BS-UMT)"]
["DETECCIÓN","Donantes","Pacientes","Emarazadas"]
["Positivo"]
["Negativo"]
["Indeterminado"]
["Total",{"$f":"+SUM(B206:B208)","v":0},{"$f":"+SUM(C206:C208)","v":0},{"$f":"+SUM(D206:D208)","v":0}]
["SECCIÓN:G.3 IDENTIFICACIÓN DE ANTICUERPOS IRREGULARES (CS-BS-UMT)"]
["SISTEMA","Anticuerpo","Donantes","Pacientes","Emarazadas"]
["MNS","M"]
[null,"N"]
[null,"S"]
[null,"s"]
["P1PK","P1"]
["Rh","D"]
[null,"C"]
[null,"E"]
[null,"c"]
[null,"e"]
["LUTHERAN","Lua"]
[null,"Lub"]
["KELL","K"]
[null,"k"]
[null,"Kpa"]
["LEWIS","Lea"]
[null,"Leb"]
["DUFFY","Fya"]
[null,"Fyb"]
["KIDD","Jka"]
[null,"Jkb"]
["DIEGO","Dia"]
[null,"Dib"]
["NO CONCLUYENTE"]
["OTROS"]
["TOTAL",null,{"$f":"+SUM(C212:C236)","v":0},{"$f":"+SUM(D212:D236)","v":0},{"$f":"+SUM(E212:E236)","v":0}]
["SECCIÓN:G.4 PRUEBAS CRUZADAS ERITROCITARIAS (BS - UMT)"]
["PRUEBAS CRUZADAS",null,"TOTAL","Menores de 15 años","15 años y más"]
["COMPATIBLE (NEGATIVO)"]
["INCOMPATIBLE (POSITIVO)"]
["TOTAL",null,{"$f":"+SUM(C240:C241)","v":0},{"$f":"+SUM(D240:D241)","v":0},{"$f":"+SUM(E240:E241)","v":0}]
["SECCIÓN:G.5 FENOTIPO ERITROCITARIO (CS-BS-UMT)"]
["SISTEMA","FENOTIPO","DONANTES","PACIENTES"]
["Rh","DCce"]
[null,"DCe"]
[null,"DCcEe"]
[null,"Dce"]
[null,"DcEe"]
[null,"DcE"]
[null,"DCEe"]
[null,"DCcE"]
[null,"DCE"]
[null,"ce"]
[null,"Cce"]
[null,"cEe"]
[null,"CcEe"]
[null,"Total Rh",{"$f":"SUM(C245:C257)","v":0},{"$f":"SUM(D245:D257)","v":0}]
["KELL","K-k+"]
[null,"K+k+"]
[null,"K+k-"]
[null,"Total Kell",{"$f":"SUM(C259:C261)","v":0},{"$f":"SUM(D259:D261)","v":0}]
["DUFFY","Fy(a+b-)"]
[null,"Fy(a+b+)"]
[null,"Fy(a-b+)"]
[null,"Fy(a-b-)"]
[null,"Total Duffy",{"$f":"SUM(C263:C266)","v":0},{"$f":"SUM(D263:D266)","v":0}]
["KIDD","Jk(a+b-)"]
[null,"Jk(a+b+)"]
[null,"Jk(a-b+)"]
[null,"Total Kidd",{"$f":"SUM(C268:C270)","v":0},{"$f":"SUM(D268:D270)","v":0}]
["TOTAL",null,{"$f":"+C258+C262+C267+C271","v":0},{"$f":"+D258+D262+D267+D271","v":0}]
["SECCIÓN:G.6 PRUEBA DE ANTIGLOBULINA DIRECTA EN PACIENTES (BS-UMT)"]
["PRUEBA DE ANTIGLOBULINA DIRECTA","Poliespecífico ","Monoespecífico IgG","Monoespecífico  C3d"]
["POSITIVO"]
["NEGATIVO"]
["INDETERMINADO"]
["TOTAL",{"$f":"+SUM(B275:B277)","v":0},{"$f":"+SUM(C275:C277)","v":0},{"$f":"+SUM(D275:D277)","v":0}]
["Sección:H AFÉRESIS"]
["SECCIÓN: H.1 AFERESIS DE DONACIÓN (BS- UMT- CS)"]
["AFÉRESIS DE DONACIÓN",null,"TOTAL DONANTES"]
["Procedimientos para obtención de Glóbulos Rojos"]
["Procedimientos para obtención de Plaquetas"]
["Procedimientos para obtención de Plasma"]
["Procedimientos para obtención de Leucocitos"]
["Procedimientos para obtención de Progenitores Hematopoyéticos Periféricos autólogos"]
["Procedimientos para obtención de Progenitores Hematopoyéticos Periféricos alogénicos"]
["Procedimientos para obtención de Progenitores Hematopoyéticos desde Médula Ósea autólogo"]
["Procedimientos para obtención de Progenitores Hematopoyéticos desde Médula Ósea alogénico"]
["Procedimientos para obtención de Plasma Convalesciente o hiperinmune"]
["TOTAL",null,{"$f":"+SUM(C282:C290)","v":0}]
["SECCIÓN: H.2 AFERESIS TERAPÉUTICA (UMT - BS)"]
["AFÉRESIS TERAPÉUTICA","TOTAL PACIENTES"]
["Procedimientos de Recambio de Glóbulos Rojos"]
["Procedimientos de Recambio Plasmático"]
["Procedimientos de Depleción de Glóbulos Rojos"]
["Procedimientos de Depleción de Plaquetas"]
["Procedimientos de Depleción de Leucocitos"]
["Procedimientos de Fotoféresis"]
["TOTAL",{"$f":"+SUM(B294:B299)","v":0}]
[]
[]
[]
[]
[]
[]
[]
[]
[]
[]
[]
[]
[]
[]
[]
[]
[]
[]
[]
[]
[]
[]
[]
[]
[]
[]
[]
[]
[]
[]
[]
[]
[]
[]
[{"$f":"SUM(D15,D16:D17,D28,E31:E61,B67,C71:C84,C93:H93,C103:H103,C107:I112,C116:I121,B125:B129,B132:B136,C139:C144,C156,C159:C160,F189,B203,B209:D209,C237:E237,C242,C272:D272,B278:D278,C291,B300)","v":0},{"$f":"SUM(CG5:CN235)","v":0}]

{"sheet":"A26","index":18,"n_rows":198,"n_cols":108,"rows_kept":198,"cut":false,"hidden":false,"merged":[[100,0,102,0],[100,1,102,1],[101,2,101,17],[100,2,100,17],[81,0,81,1],[96,0,97,0],[96,1,97,1],[96,2,97,2],[91,0,92,0],[91,1,92,1],[91,2,91,6],[88,0,88,1],[82,0,82,1],[83,0,83,1],[86,0,86,1],[87,0,87,1],[84,0,84,1],[85,0,85,1],[64,0,64,1],[65,0,65,1],[78,7,79,8],[79,2,80,2],[79,3,79,5],[79,6,80,6],[78,0,80,1],[78,2,78,6],[66,0,76,0],[34,0,34,1],[60,0,60,1],[63,0,63,1],[58,0,58,1],[53,0,53,1],[54,0,54,1],[55,0,57,0],[50,0,50,1],[51,0,51,1],[52,0,52,1],[59,0,59,1],[36,0,36,1],[37,0,40,0],[8,0,8,1],[9,0,9,1],[10,0,10,1],[11,0,11,1],[12,0,12,1],[18,0,18,1],[13,0,13,1],[14,0,14,1],[15,0,15,1],[16,0,16,1],[17,0,17,1],[43,26,43,27],[19,0,19,1],[20,0,20,1],[21,0,21,1],[31,0,31,1],[22,0,22,1],[23,0,23,1],[24,0,24,1],[25,0,25,1],[26,0,26,1],[27,0,27,1],[28,0,28,1],[29,0,29,1],[30,0,30,1],[32,0,32,1],[33,0,33,1],[43,16,43,17],[43,18,43,19],[43,20,43,21],[43,22,43,23],[43,24,43,25],[100,18,101,19],[42,4,42,37],[42,1,43,3],[42,0,44,0],[42,38,43,40],[43,28,43,29],[43,30,43,31],[43,32,43,33],[43,34,43,35],[43,36,43,37],[43,4,43,5],[43,6,43,7],[43,8,43,9],[43,10,43,11],[43,12,43,13],[43,14,43,15]]}
["SERVICIO DE SALUD"]
[{"$f":"CONCATENATE(\"COMUNA: \",NOMBRE!B2,\" - \",\"( \",NOMBRE!C2,NOMBRE!D2,NOMBRE!E2,NOMBRE!F2,NOMBRE!G2,\" )\")","v":"COMUNA:  - (  )"}]
[{"$f":"CONCATENATE(\"ESTABLECIMIENTO/ESTRATEGIA: \",NOMBRE!B3,\" - \",\"( \",NOMBRE!C3,NOMBRE!D3,NOMBRE!E3,NOMBRE!F3,NOMBRE!G3,NOMBRE!H3,\" )\")","v":"ESTABLECIMIENTO/ESTRATEGIA:  - (  )"}]
[{"$f":"CONCATENATE(\"MES: \",NOMBRE!B6,\" - \",\"( \",NOMBRE!C6,NOMBRE!D6,\" )\")","v":"MES:  - (  )"}]
[{"$f":"CONCATENATE(\"AÑO: \",NOMBRE!B7)","v":"AÑO: 2023"}]
[null,null,"REM-26.  ACTIVIDADES EN DOMICILIO Y OTROS ESPACIOS"]
[]
["SECCIÓN A: VISITAS DOMICILIARIAS INTEGRALES A FAMILIAS (ESTABLECIMIENTOS APS)"]
["CONCEPTOS",null,"TOTAL","UN PROFESIONAL","DOS O MÁS PROFESIONALES","UN PROFESIONAL Y UN TÉCNICO EN ENFERMERÍA ","TÉCNICO EN ENFERMERÍA ","FACILITADOR/A INTERCULTURAL PUEBLOS ORIGINARIOS","AGENTE COMUNITARIO","PRIMERA VISITA","SEGUNDA VISITA","TERCERA O MÁS VISITAS DE SEGUIMIENTO","PROGRAMA DE ACOMPAÑAMIENTO PSICOSOCIAL EN APS","Pueblos Originarios","Migrantes","Espacios Amigables "]
["FAMILIA CON NIÑO PREMATURO",null,{"$f":"SUM(D10:G10)","v":0},null,null,null,null,null,null,null,null,null,null,null,null,null,{"$f":"CA10&CB10&CC10&CD10","v":""},null,null,null,null,null,null,null,null,null,null,null,null,null,null,null,null,null,null,null,null,null,null,null,null,null,null,null,null,null,null,null,null,null,null,null,null,null,null,null,null,null,null,null,null,null,null,null,null,null,null,null,null,null,null,null,null,null,null,null,null,null,{"$f":"IF(DA10=1,\"* La suma del número de Primera, Segunda y Tercera o más Visitas de Seguimiento debe coincidir con el Total. \",\"\")","v":""},{"$f":"IF(DB10=1,\"* Programa de Atención Domiciliaria a Personas con Dependencia Severa debe ser MENOR O IGUAL al Total. \",\"\")","v":""},{"$f":"IF(DC10=1,\"* Pueblos Originarios debe ser MENOR O IGUAL al Total. \",\"\")","v":""},{"$f":"IF(DD10=1,\"* Migrantes debe ser MENOR O IGUAL al Total. \",\"\")","v":""},null,null,null,null,null,null,null,null,null,null,null,null,null,null,null,null,null,null,null,null,null,null,{"$f":"IF((K10+J10+L10)<>C10,1,0)","v":0},null,{"$f":"IF(N10>$C10,1,0)","v":0},{"$f":"IF(O10>$C10,1,0)","v":0}]
["FAMILIA CON NIÑO RECIÉN NACIDO",null,{"$f":"SUM(D11:G11)","v":0},null,null,null,null,null,null,null,null,null,null,null,null,null,{"$f":"CA11&CB11&CC11&CD11","v":""},null,null,null,null,null,null,null,null,null,null,null,null,null,null,null,null,null,null,null,null,null,null,null,null,null,null,null,null,null,null,null,null,null,null,null,null,null,null,null,null,null,null,null,null,null,null,null,null,null,null,null,null,null,null,null,null,null,null,null,null,null,{"$f":"IF(DA11=1,\"* La suma del número de Primera, Segunda y Tercera o más Visitas de Seguimiento debe coincidir con el Total. \",\"\")","v":""},"",{"$f":"IF(DC11=1,\"* Pueblos Originarios debe ser MENOR O IGUAL al Total. \",\"\")","v":""},{"$f":"IF(DD11=1,\"* Migrantes debe ser MENOR O IGUAL al Total. \",\"\")","v":""},null,null,null,null,null,null,null,null,null,null,null,null,null,null,null,null,null,null,null,null,null,null,0,null,0,0]
["FAMILIA CON NIÑO CON DÉFICIT DEL DSM",null,{"$f":"SUM(D12:G12)","v":0},null,null,null,null,null,null,null,null,null,null,null,null,null,"",null,null,null,null,null,null,null,null,null,null,null,null,null,null,null,null,null,null,null,null,null,null,null,null,null,null,null,null,null,null,null,null,null,null,null,null,null,null,null,null,null,null,null,null,null,null,null,null,null,null,null,null,null,null,null,null,null,null,null,null,null,"","","","",null,null,null,null,null,null,null,null,null,null,null,null,null,null,null,null,null,null,null,null,null,null,0,null,0,0]
["FAMILIA CON NIÑO EN RIESGO VINCULAR AFECTIVO",null,{"$f":"SUM(D13:G13)","v":0},null,null,null,null,null,null,null,null,null,null,null,null,null,"",null,null,null,null,null,null,null,null,null,null,null,null,null,null,null,null,null,null,null,null,null,null,null,null,null,null,null,null,null,null,null,null,null,null,null,null,null,null,null,null,null,null,null,null,null,null,null,null,null,null,null,null,null,null,null,null,null,null,null,null,null,"","","","",null,null,null,null,null,null,null,null,null,null,null,null,null,null,null,null,null,null,null,null,null,null,0,null,0,0]
["FAMILIA CON NIÑO < 7 MESES CON SCORE DE RIESGO MODERADO DE MORIR POR NEUMONÍA",null,0,null,null,null,null,null,null,null,null,null,null,null,null,null,"",null,null,null,null,null,null,null,null,null,null,null,null,null,null,null,null,null,null,null,null,null,null,null,null,null,null,null,null,null,null,null,null,null,null,null,null,null,null,null,null,null,null,null,null,null,null,null,null,null,null,null,null,null,null,null,null,null,null,null,null,null,"","","","",null,null,null,null,null,null,null,null,null,null,null,null,null,null,null,null,null,null,null,null,null,null,0,null,0,0]
["FAMILIA CON NIÑO < 7 MESES CON SCORE DE RIESGO GRAVE DE MORIR POR NEUMONÍA",null,0,null,null,null,null,null,null,null,null,null,null,null,null,null,"",null,null,null,null,null,null,null,null,null,null,null,null,null,null,null,null,null,null,null,null,null,null,null,null,null,null,null,null,null,null,null,null,null,null,null,null,null,null,null,null,null,null,null,null,null,null,null,null,null,null,null,null,null,null,null,null,null,null,null,null,null,"","","","",null,null,null,null,null,null,null,null,null,null,null,null,null,null,null,null,null,null,null,null,null,null,0,null,0,0]
["FAMILIA CON NIÑO CON PROBLEMA RESPIRATORIO CRÓNICO O NO CONTROLADO",null,0,null,null,null,null,null,null,null,null,null,null,null,null,null,"",null,null,null,null,null,null,null,null,null,null,null,null,null,null,null,null,null,null,null,null,null,null,null,null,null,null,null,null,null,null,null,null,null,null,null,null,null,null,null,null,null,null,null,null,null,null,null,null,null,null,null,null,null,null,null,null,null,null,null,null,null,"","","","",null,null,null,null,null,null,null,null,null,null,null,null,null,null,null,null,null,null,null,null,null,null,0,null,0,0]
["FAMILIA CON NIÑO MALNUTRIDO",null,0,null,null,null,null,null,null,null,null,null,null,null,null,null,"",null,null,null,null,null,null,null,null,null,null,null,null,null,null,null,null,null,null,null,null,null,null,null,null,null,null,null,null,null,null,null,null,null,null,null,null,null,null,null,null,null,null,null,null,null,null,null,null,null,null,null,null,null,null,null,null,null,null,null,null,null,"","","","",null,null,null,null,null,null,null,null,null,null,null,null,null,null,null,null,null,null,null,null,null,null,0,null,0,0]
["FAMILIA CON NIÑO CON RIESGO PSICOSOCIAL (EXCLUYE VINCULAR AFECTIVO)",null,0,null,null,null,null,null,null,null,null,null,null,null,null,null,"",null,null,null,null,null,null,null,null,null,null,null,null,null,null,null,null,null,null,null,null,null,null,null,null,null,null,null,null,null,null,null,null,null,null,null,null,null,null,null,null,null,null,null,null,null,null,null,null,null,null,null,null,null,null,null,null,null,null,null,null,null,"","","","",null,null,null,null,null,null,null,null,null,null,null,null,null,null,null,null,null,null,null,null,null,null,0,{"$f":"IF(M18>$C18,1,0)","v":0},{"$f":"IF(N18>$C18,1,0)","v":0},{"$f":"IF(O18>$C18,1,0)","v":0}]
["FAMILIA CON ADOLESCENTE EN RIESGO O PROBLEMA PSICOSOCIAL",null,0,null,null,null,null,null,null,null,null,null,null,null,null,null,"",null,null,null,null,null,null,null,null,null,null,null,null,null,null,null,null,null,null,null,null,null,null,null,null,null,null,null,null,null,null,null,null,null,null,null,null,null,null,null,null,null,null,null,null,null,null,null,null,null,null,null,null,null,null,null,null,null,null,null,null,null,"","","","",null,null,null,null,null,null,null,null,null,null,null,null,null,null,null,null,null,null,null,null,null,null,0,{"$f":"IF(M19>C19,1,0)","v":0},{"$f":"IF(N19>$C19,1,0)","v":0},{"$f":"IF(O19>$C19,1,0)","v":0}]
["FAMILIA CON INTEGRANTE CON PATOLOGÍA CRÓNICA DESCOMPENSADA",null,0,null,null,null,null,null,null,null,null,null,null,null,null,null,"",null,null,null,null,null,null,null,null,null,null,null,null,null,null,null,null,null,null,null,null,null,null,null,null,null,null,null,null,null,null,null,null,null,null,null,null,null,null,null,null,null,null,null,null,null,null,null,null,null,null,null,null,null,null,null,null,null,null,null,null,null,"","","","",null,null,null,null,null,null,null,null,null,null,null,null,null,null,null,null,null,null,null,null,null,null,0,{"$f":"IF(M20>C20,1,0)","v":0},0,0]
["FAMILIA CON ADULTO MAYOR DEPENDEDIENTE (EXCLUYE DEPENDIENTE SEVERO)",null,0,null,null,null,null,null,null,null,null,null,null,null,null,null,"",null,null,null,null,null,null,null,null,null,null,null,null,null,null,null,null,null,null,null,null,null,null,null,null,null,null,null,null,null,null,null,null,null,null,null,null,null,null,null,null,null,null,null,null,null,null,null,null,null,null,null,null,null,null,null,null,null,null,null,null,null,"","","","",null,null,null,null,null,null,null,null,null,null,null,null,null,null,null,null,null,null,null,null,null,null,0,null,0,0]
["FAMILIA CON ADULTO MAYOR EN RIESGO PSICOSOCIAL",null,0,null,null,null,null,null,null,null,null,null,null,null,null,null,"",null,null,null,null,null,null,null,null,null,null,null,null,null,null,null,null,null,null,null,null,null,null,null,null,null,null,null,null,null,null,null,null,null,null,null,null,null,null,null,null,null,null,null,null,null,null,null,null,null,null,null,null,null,null,null,null,null,null,null,null,null,"","","","",null,null,null,null,null,null,null,null,null,null,null,null,null,null,null,null,null,null,null,null,null,null,0,null,0,0]
["FAMILIA CON GESTANTE ADOLESCENTE 10 A 14 AÑOS",null,{"$f":"SUM(D23:G23)","v":0},null,null,null,null,null,null,null,null,null,null,null,null,null,"",null,null,null,null,null,null,null,null,null,null,null,null,null,null,null,null,null,null,null,null,null,null,null,null,null,null,null,null,null,null,null,null,null,null,null,null,null,null,null,null,null,null,null,null,null,null,null,null,null,null,null,null,null,null,null,null,null,null,null,null,null,"","","","",null,null,null,null,null,null,null,null,null,null,null,null,null,null,null,null,null,null,null,null,null,null,0,{"$f":"IF(M23>C23,1,0)","v":0},0,0]
["FAMILIA CON GESTANTE >20 AÑOS EN RIESGO PSICOSOCIAL",null,0,null,null,null,null,null,null,null,null,null,null,null,null,null,"",null,null,null,null,null,null,null,null,null,null,null,null,null,null,null,null,null,null,null,null,null,null,null,null,null,null,null,null,null,null,null,null,null,null,null,null,null,null,null,null,null,null,null,null,null,null,null,null,null,null,null,null,null,null,null,null,null,null,null,null,null,"","","","",null,null,null,null,null,null,null,null,null,null,null,null,null,null,null,null,null,null,null,null,null,null,0,{"$f":"IF(M24>C24,1,0)","v":0},0,0]
["FAMILIA CON GESTANTE ADOLESCENTE EN RIESGO PSICOSOCIAL 15 A 19 AÑOS",null,{"$f":"SUM(D25:G25)","v":0},null,null,null,null,null,null,null,null,null,null,null,null,null,"",null,null,null,null,null,null,null,null,null,null,null,null,null,null,null,null,null,null,null,null,null,null,null,null,null,null,null,null,null,null,null,null,null,null,null,null,null,null,null,null,null,null,null,null,null,null,null,null,null,null,null,null,null,null,null,null,null,null,null,null,null,"","","","",null,null,null,null,null,null,null,null,null,null,null,null,null,null,null,null,null,null,null,null,null,null,0,{"$f":"IF(M25>C25,1,0)","v":0},0,0]
["FAMILIA CON ADOLESCENTE CON PROBLEMA RESPIRATORIO CRÓNICO O NO CONTROLADO",null,0,null,null,null,null,null,null,null,null,null,null,null,null,null,"",null,null,null,null,null,null,null,null,null,null,null,null,null,null,null,null,null,null,null,null,null,null,null,null,null,null,null,null,null,null,null,null,null,null,null,null,null,null,null,null,null,null,null,null,null,null,null,null,null,null,null,null,null,null,null,null,null,null,null,null,null,"","","","",null,null,null,null,null,null,null,null,null,null,null,null,null,null,null,null,null,null,null,null,null,null,0,null,0,0]
["FAMILIA CON ADULTO CON PROBLEMA RESPIRATORIO CRÓNICO O NO CONTROLADO",null,0,null,null,null,null,null,null,null,null,null,null,null,null,null,"",null,null,null,null,null,null,null,null,null,null,null,null,null,null,null,null,null,null,null,null,null,null,null,null,null,null,null,null,null,null,null,null,null,null,null,null,null,null,null,null,null,null,null,null,null,null,null,null,null,null,null,null,null,null,null,null,null,null,null,null,null,"","","","",null,null,null,null,null,null,null,null,null,null,null,null,null,null,null,null,null,null,null,null,null,null,0,null,0,0]
["FAMILIA CON GESTANTE EN RIESGO BIOMÉDICO",null,0,null,null,null,null,null,null,null,null,null,null,null,null,null,"",null,null,null,null,null,null,null,null,null,null,null,null,null,null,null,null,null,null,null,null,null,null,null,null,null,null,null,null,null,null,null,null,null,null,null,null,null,null,null,null,null,null,null,null,null,null,null,null,null,null,null,null,null,null,null,null,null,null,null,null,null,"","","","",null,null,null,null,null,null,null,null,null,null,null,null,null,null,null,null,null,null,null,null,null,null,0,null,0,0]
["FAMILIA CON OTRO RIESGO PSICOSOCIAL",null,0,null,null,null,null,null,null,null,null,null,null,null,null,null,"",null,null,null,null,null,null,null,null,null,null,null,null,null,null,null,null,null,null,null,null,null,null,null,null,null,null,null,null,null,null,null,null,null,null,null,null,null,null,null,null,null,null,null,null,null,null,null,null,null,null,null,null,null,null,null,null,null,null,null,null,null,"","","","",null,null,null,null,null,null,null,null,null,null,null,null,null,null,null,null,null,null,null,null,null,null,0,{"$f":"IF(M29>C29,1,0)","v":0},0,0]
["FAMILIA CON INTEGRANTE CON PROBLEMA DE SALUD MENTAL",null,0,null,null,null,null,null,null,null,null,null,null,null,null,null,"",null,null,null,null,null,null,null,null,null,null,null,null,null,null,null,null,null,null,null,null,null,null,null,null,null,null,null,null,null,null,null,null,null,null,null,null,null,null,null,null,null,null,null,null,null,null,null,null,null,null,null,null,null,null,null,null,null,null,null,null,null,"","","","",null,null,null,null,null,null,null,null,null,null,null,null,null,null,null,null,null,null,null,null,null,null,0,0,0,0]
["FAMILIA CON NIÑOS/AS DE 5 A 9 AÑOS CON PROBLEMAS Y/O TRASTORNOS DE SALUD MENTAL",null,{"$f":"SUM(D31:G31)","v":0},null,null,null,null,null,null,null,null,null,null,null,null,null,"",null,null,null,null,null,null,null,null,null,null,null,null,null,null,null,null,null,null,null,null,null,null,null,null,null,null,null,null,null,null,null,null,null,null,null,null,null,null,null,null,null,null,null,null,null,null,null,null,null,null,null,null,null,null,null,null,null,null,null,null,null,"","","","",null,null,null,null,null,null,null,null,null,null,null,null,null,null,null,null,null,null,null,null,null,null,0,0,0,0]
["FAMILIA CON INTEGRANTE ALTA HOSPITALIZACIÓN PRECOZ",null,{"$f":"SUM(D32:G32)","v":0},null,null,null,null,null,null,null,null,null,null,null,null,null,"",null,null,null,null,null,null,null,null,null,null,null,null,null,null,null,null,null,null,null,null,null,null,null,null,null,null,null,null,null,null,null,null,null,null,null,null,null,null,null,null,null,null,null,null,null,null,null,null,null,null,null,null,null,null,null,null,null,null,null,null,null,"",{"$f":"IF(DB32=1,\"* Programa de Atención Domiciliaria a Personas con Dependencia Severa debe ser MENOR O IGUAL al Total. \",\"\")","v":""},"","",null,null,null,null,null,null,null,null,null,null,null,null,null,null,null,null,null,null,null,null,null,null,null,0,0,0]
["FAMILIA CON INTEGRANTE CON MULTIMORBILIDAD CRONICA (excluye dependencia severa)",null,{"$f":"SUM(D33:G33)","v":0},null,null,null,null,null,null,null,null,null,null,null,null,null,"",null,null,null,null,null,null,null,null,null,null,null,null,null,null,null,null,null,null,null,null,null,null,null,null,null,null,null,null,null,null,null,null,null,null,null,null,null,null,null,null,null,null,null,null,null,null,null,null,null,null,null,null,null,null,null,null,null,null,null,null,null,"",{"$f":"IF(DB33=1,\"* Programa de Atención Domiciliaria a Personas con Dependencia Severa debe ser MENOR O IGUAL al Total. \",\"\")","v":""},"","",null,null,null,null,null,null,null,null,null,null,null,null,null,null,null,null,null,null,null,null,null,null,{"$f":"IF((K33+J33+L33)<>C33,1,0)","v":0},0,0,0]
["FAMILIA CON NIÑOS CON NECESIDADES ESPECIALES (NANEAS)",null,{"$f":"SUM(D34:G34)","v":0},null,null,null,null,null,null,null,null,null,null,null,null,null,"",null,null,null,null,null,null,null,null,null,null,null,null,null,null,null,null,null,null,null,null,null,null,null,null,null,null,null,null,null,null,null,null,null,null,null,null,null,null,null,null,null,null,null,null,null,null,null,null,null,null,null,null,null,null,null,null,null,null,null,null,null,"",{"$f":"IF(DB34=1,\"* Programa de Atención Domiciliaria a Personas con Dependencia Severa debe ser MENOR O IGUAL al Total. \",\"\")","v":""},"","",null,null,null,null,null,null,null,null,null,null,null,null,null,null,null,null,null,null,null,null,null,null,{"$f":"IF((K34+J34+L34)<>C34,1,0)","v":0},0,0,0]
["FAMILIA CON NNA TRANS FEMENINO/MASCULINO",null,{"$f":"SUM(D35:G35)","v":0},null,null,null,null,null,null,null,null,null,null,null,null,null,"",null,null,null,null,null,null,null,null,null,null,null,null,null,null,null,null,null,null,null,null,null,null,null,null,null,null,null,null,null,null,null,null,null,null,null,null,null,null,null,null,null,null,null,null,null,null,null,null,null,null,null,null,null,null,null,null,null,null,null,null,null,"",{"$f":"IF(DB35=1,\"* Programa de Atención Domiciliaria a Personas con Dependencia Severa debe ser MENOR O IGUAL al Total. \",\"\")","v":""},"","",null,null,null,null,null,null,null,null,null,null,null,null,null,null,null,null,null,null,null,null,null,null,{"$f":"IF((K35+J35+L35)<>C35,1,0)","v":0},0,0,0]
["SECCIÓN A.1: VISITAS DOMICILIARIAS INTEGRALES A PERSONAS CON DEPENDENCIA SEVERA Y SUS CUIDADORES"]
["CONCEPTOS",null,"Primera Visita","Segunda Visita","Tercera o másVisitas de Seguimiento ","Elaboración Plan de Cuidados a Personas Dependientes ","Evaluación plan de cuidados a personas dependientes ","Elaboración plan de cuidados a cuidador","Evaluación Plan de Cuidados a Cuidador ","Evaluación Zarit cuidador ","Migrantes","Pueblos Originarios","Población Multimorbilidad Crónica ","Población ELEAM o institucionalizada "]
[" A PERSONAS CON DEPENDENCIA SEVERA EN PROGRAMA","FAMILIA CON PERSONA CON DEMENCIA"]
[null,"FAMILIA CON INTEGRANTE DEPENDIENTE SEVERO EN PROGRAMA CON ENFERMEDAD TERMINAL"]
[null,"FAMILIA CON INTEGRANTE CON DEPENDENCIA SEVERA (excluye adulto mayor)"]
[null,"FAMILIA CON ADULTO MAYOR DEPENDIENTE SEVERO"]
["SECCIÓN A.2: INGRESOS, EGRESOS Y TRASLADOS AL PROGRAMA DE ATENCION DOMICILIARIA PERSONAS CON DEPENDENCIA SEVERA"]
["CONCEPTOS","TOTAL",null,null,"POR EDAD",null,null,null,null,null,null,null,null,null,null,null,null,null,null,null,null,null,null,null,null,null,null,null,null,null,null,null,null,null,null,null,null,null,"CAUSAL"]
[null,null,null,null,"0 a 4 años",null,"5 - 9 \naños",null,"10 - 14 años",null,"15 - 19  años",null,"20 a 24 años\n",null,"25 a 29 años",null,"30 - 34 años",null,"35 - 39 años",null,"40 - 44 años",null,"45 - 49 años",null,"50 - 54 años",null,"55 - 59 años",null,"60 - 64 años",null,"65 - 69 años",null,"70 - 74 años",null,"75 - 79 años",null,"80 y mas años"]
[null,"Ambos Sexos","Hombres","Mujeres","Hombres","Mujeres","Hombres","Mujeres","Hombres","Mujeres","Hombres","Mujeres","Hombres","Mujeres","Hombres","Mujeres","Hombres","Mujeres","Hombres","Mujeres","Hombres","Mujeres","Hombres","Mujeres","Hombres","Mujeres","Hombres","Mujeres","Hombres","Mujeres","Hombres","Mujeres","Hombres","Mujeres","Hombres","Mujeres","Hombres","Mujeres","Alta","Fallecimiento","Otro"]
["INGRESO",{"$f":"SUM(C46:D46)","v":0},{"$f":"+E46+G46+I46+K46+M46+O46+Q46+S46+U46+W46+Y46+AA46+AC46+AE46+AG46+AI46+AK46","v":0},0]
["REINGRESO",{"$f":"SUM(C47:D47)","v":0},0,0]
["EGRESO",{"$f":"SUM(C48:D48)","v":0},0,0]
["TRASLADO",{"$f":"SUM(C49:D49)","v":0},0,0]
["SECCIÓN B: OTRAS VISITAS INTEGRALES"]
["CONCEPTOS",null,"TOTAL","UN PROFESIONAL","DOS O MÁS \nPROFESIONALES","UN PROFESIONAL Y \nUN TÉCNICO EN ENFERMERÍA ","TÉCNICO EN ENFERMERÍA ","FACILITADOR/A INTERCULTURAL PUEBLOS ORIGINARIOS","AGENTE COMUNITARIO","Pueblos Originarios","Migrantes","Niños, Niñas, Adolescentes y Jóvenes Población SENAME","Niños, Niñas, Adolescentes y Jóvenes Mejor Niñez"]
["VISITA EPIDEMIOLÓGICA",null,{"$f":"SUM(D52:F52)","v":0},null,null,null,null,null,null,null,null,null,null,{"$f":"CA52&CB52&CC52&CD52","v":""},null,null,null,null,null,null,null,null,null,null,null,null,null,null,null,null,null,null,null,null,null,null,null,null,null,null,null,null,null,null,null,null,null,null,null,null,null,null,null,null,null,null,null,null,null,null,null,null,null,null,null,null,null,null,null,null,null,null,null,null,null,null,null,null,{"$f":"IF(DA52=1,\"* Pueblos Originarios debe ser MENOR O IGUAL al Total. \",\"\")","v":""},{"$f":"IF(DB52=1,\"* Migrantes debe ser MENOR O IGUAL al Total. \",\"\")","v":""},{"$f":"IF(DC52=1,\"* NNAJ SENAME debe ser MENOR O IGUAL al Total. \",\"\")","v":""},{"$f":"IF(DD52=1,\"* NNAJ Mejor Niñez debe ser MENOR O IGUAL al Total. \",\"\")","v":""},null,null,null,null,null,null,null,null,null,null,null,null,null,null,null,null,null,null,null,null,null,null,{"$f":"IF(J52>$C52,1,0)","v":0},{"$f":"IF(K52>$C52,1,0)","v":0},{"$f":"IF(L52>$C52,1,0)","v":0},{"$f":"IF(M52>$C52,1,0)","v":0}]
["A LUGAR DE TRABAJO (*)",null,{"$f":"SUM(D53:F53)","v":0},null,null,null,null,null,null,null,null,null,null,{"$f":"CA53&CB53&CC53&CD53","v":""},null,null,null,null,null,null,null,null,null,null,null,null,null,null,null,null,null,null,null,null,null,null,null,null,null,null,null,null,null,null,null,null,null,null,null,null,null,null,null,null,null,null,null,null,null,null,null,null,null,null,null,null,null,null,null,null,null,null,null,null,null,null,null,null,{"$f":"IF(DA53=1,\"* Pueblos Originarios debe ser MENOR O IGUAL al Total. \",\"\")","v":""},{"$f":"IF(DB53=1,\"* Migrantes debe ser MENOR O IGUAL al Total. \",\"\")","v":""},{"$f":"IF(DC53=1,\"* NNAJ SENAME debe ser MENOR O IGUAL al Total. \",\"\")","v":""},{"$f":"IF(DD53=1,\"* NNAJ Mejor Niñez debe ser MENOR O IGUAL al Total. \",\"\")","v":""},null,null,null,null,null,null,null,null,null,null,null,null,null,null,null,null,null,null,null,null,null,null,{"$f":"IF(J53>$C53,1,0)","v":0},{"$f":"IF(K53>$C53,1,0)","v":0},{"$f":"IF(L53>$C53,1,0)","v":0},{"$f":"IF(M53>$C53,1,0)","v":0}]
["A COLEGIO, SALAS CUNA, JARDÍN INFANTIL (*)",null,0,null,null,null,null,null,null,null,null,null,null,"",null,null,null,null,null,null,null,null,null,null,null,null,null,null,null,null,null,null,null,null,null,null,null,null,null,null,null,null,null,null,null,null,null,null,null,null,null,null,null,null,null,null,null,null,null,null,null,null,null,null,null,null,null,null,null,null,null,null,null,null,null,null,null,null,"","","","",null,null,null,null,null,null,null,null,null,null,null,null,null,null,null,null,null,null,null,null,null,null,0,0,0,0]
["A GRUPO COMUNITARIO",null,0,null,null,null,null,null,null,null,null,null,null,"",null,null,null,null,null,null,null,null,null,null,null,null,null,null,null,null,null,null,null,null,null,null,null,null,null,null,null,null,null,null,null,null,null,null,null,null,null,null,null,null,null,null,null,null,null,null,null,null,null,null,null,null,null,null,null,null,null,null,null,null,null,null,null,null,"","","","",null,null,null,null,null,null,null,null,null,null,null,null,null,null,null,null,null,null,null,null,null,null,0,0,0,0]
["VISITA INTEGRAL DE SALUD MENTAL","A DOMICILIO (NIVEL SECUNDARIO)",0,null,null,null,null,null,null,null,null,null,null,"",null,null,null,null,null,null,null,null,null,null,null,null,null,null,null,null,null,null,null,null,null,null,null,null,null,null,null,null,null,null,null,null,null,null,null,null,null,null,null,null,null,null,null,null,null,null,null,null,null,null,null,null,null,null,null,null,null,null,null,null,null,null,null,null,"","","","",null,null,null,null,null,null,null,null,null,null,null,null,null,null,null,null,null,null,null,null,null,null,0,0,0,0]
[null,"A LUGAR DE TRABAJO",0,null,null,null,null,null,null,null,null,null,null,"",null,null,null,null,null,null,null,null,null,null,null,null,null,null,null,null,null,null,null,null,null,null,null,null,null,null,null,null,null,null,null,null,null,null,null,null,null,null,null,null,null,null,null,null,null,null,null,null,null,null,null,null,null,null,null,null,null,null,null,null,null,null,null,null,"","","","",null,null,null,null,null,null,null,null,null,null,null,null,null,null,null,null,null,null,null,null,null,null,0,0,0,0]
[null,"A ESTABLECIMIENTOS EDUCACIONALES",0,null,null,null,null,null,null,null,null,null,null,"",null,null,null,null,null,null,null,null,null,null,null,null,null,null,null,null,null,null,null,null,null,null,null,null,null,null,null,null,null,null,null,null,null,null,null,null,null,null,null,null,null,null,null,null,null,null,null,null,null,null,null,null,null,null,null,null,null,null,null,null,null,null,null,null,"","","","",null,null,null,null,null,null,null,null,null,null,null,null,null,null,null,null,null,null,null,null,null,null,0,0,0,0]
["EN SECTOR RURAL",null,{"$f":"SUM(D59:G59)","v":0},null,null,null,null,null,null,null,null,null,null,"",null,null,null,null,null,null,null,null,null,null,null,null,null,null,null,null,null,null,null,null,null,null,null,null,null,null,null,null,null,null,null,null,null,null,null,null,null,null,null,null,null,null,null,null,null,null,null,null,null,null,null,null,null,null,null,null,null,null,null,null,null,null,null,null,"","","","",null,null,null,null,null,null,null,null,null,null,null,null,null,null,null,null,null,null,null,null,null,null,0,0,0,0]
["OTRAS",null,{"$f":"SUM(D60:G60)","v":0},null,null,null,null,null,null,null,null,null,null,"",null,null,null,null,null,null,null,null,null,null,null,null,null,null,null,null,null,null,null,null,null,null,null,null,null,null,null,null,null,null,null,null,null,null,null,null,null,null,null,null,null,null,null,null,null,null,null,null,null,null,null,null,null,null,null,null,null,null,null,null,null,null,null,null,"","","","",null,null,null,null,null,null,null,null,null,null,null,null,null,null,null,null,null,null,null,null,null,null,0,0,0,0]
["TOTAL",null,{"$f":"SUM(C52:C60)","v":0},{"$f":"SUM(D52:D60)","v":0},0,0,{"$f":"SUM(G59:G60)","v":0},0,0,0,{"$f":"SUM(K52:K60)","v":0},{"$f":"SUM(L52:L60)","v":0},{"$f":"SUM(M52:M60)","v":0}]
["(*) Excluye visita integral de salud mental"]
["SECCIÓN C:  VISITAS CON FINES DE TRATAMIENTOS Y/O PROCEDIMIENTOS EN DOMICILIO A PERSONAS CON DEPENDENCIA"]
["CONCEPTOS",null,"TOTAL","Profesional","Tecnico en Enfermería","Otro","Pueblos Originarios","Migrantes","Multimorbilidad Crónica","Población ELEAM o Institucionalizada"]
["A PERSONAS CON DEPENDENCIA LEVE",null,{"$f":"SUM(D65:F65)","v":0},null,null,null,null,null,null,null,null,null,null,null,null,null,null,null,null,null,null,null,null,null,null,null,null,null,null,null,null,null,null,null,null,null,null,null,null,null,null,null,null,null,null,null,null,null,null,null,null,null,null,null,null,null,null,null,null,null,null,null,null,null,null,null,null,null,null,null,null,null,null,null,null,null,null,null,{"$f":"IF(DA65=1,\"* Pueblos Originarios debe ser MENOR O IGUAL al Total. \",\"\")","v":""},{"$f":"IF(DB65=1,\"* Migrantes debe ser MENOR O IGUAL al Total. \",\"\")","v":""},{"$f":"IF(DC65=1,\"* Multimorbilidad Crónica debe ser MENOR O IGUAL al Total. \",\"\")","v":""},{"$f":"IF(DD65=1,\"* Población ELEAM o Institucionalizada debe ser MENOR O IGUAL al Total. \",\"\")","v":""},null,null,null,null,null,null,null,null,null,null,null,null,null,null,null,null,null,null,null,null,null,null,{"$f":"IF(G65>$C65,1,0)","v":0},{"$f":"IF(H65>$C65,1,0)","v":0},{"$f":"IF(I65>$C65,1,0)","v":0},{"$f":"IF(J65>$C65,1,0)","v":0}]
["A PERSONAS CON DEPENDENCIA MODERADA",null,{"$f":"SUM(D66:F66)","v":0},null,null,null,null,null,null,null,null,null,null,null,null,null,null,null,null,null,null,null,null,null,null,null,null,null,null,null,null,null,null,null,null,null,null,null,null,null,null,null,null,null,null,null,null,null,null,null,null,null,null,null,null,null,null,null,null,null,null,null,null,null,null,null,null,null,null,null,null,null,null,null,null,null,null,null,{"$f":"IF(DA66=1,\"* Pueblos Originarios debe ser MENOR O IGUAL al Total. \",\"\")","v":""},{"$f":"IF(DB66=1,\"* Migrantes debe ser MENOR O IGUAL al Total. \",\"\")","v":""},{"$f":"IF(DC66=1,\"* Multimorbilidad Crónica debe ser MENOR O IGUAL al Total. \",\"\")","v":""},{"$f":"IF(DD66=1,\"* Población ELEAM o Institucionalizada debe ser MENOR O IGUAL al Total. \",\"\")","v":""},null,null,null,null,null,null,null,null,null,null,null,null,null,null,null,null,null,null,null,null,null,null,{"$f":"IF(G66>$C66,1,0)","v":0},{"$f":"IF(H66>$C66,1,0)","v":0},{"$f":"IF(I66>$C66,1,0)","v":0},{"$f":"IF(J66>$C66,1,0)","v":0}]
[" A PERSONAS CON DEPENDENCIA SEVERA","ONCOLÓGICOS (Excluye cuidados paliativos)",{"$f":"SUM(D67:F67)","v":0},null,null,null,null,null,null,null,null,null,null,null,null,null,null,null,null,null,null,null,null,null,null,null,null,null,null,null,null,null,null,null,null,null,null,null,null,null,null,null,null,null,null,null,null,null,null,null,null,null,null,null,null,null,null,null,null,null,null,null,null,null,null,null,null,null,null,null,null,null,null,null,null,null,null,null,"","","","",null,null,null,null,null,null,null,null,null,null,null,null,null,null,null,null,null,null,null,null,null,null,0,0,0,0]
[null,"NO ONCOLÓGICOS",{"$f":"SUM(D68:F68)","v":0},null,null,null,null,null,null,null,null,null,null,null,null,null,null,null,null,null,null,null,null,null,null,null,null,null,null,null,null,null,null,null,null,null,null,null,null,null,null,null,null,null,null,null,null,null,null,null,null,null,null,null,null,null,null,null,null,null,null,null,null,null,null,null,null,null,null,null,null,null,null,null,null,null,null,null,"","","","",null,null,null,null,null,null,null,null,null,null,null,null,null,null,null,null,null,null,null,null,null,null,0,0,0,0]
[null,"ATENCION ODONTOLOGICA",{"$f":"SUM(D69)","v":0},null,null,null,null,null,null,null,null,null,null,null,null,null,null,null,null,null,null,null,null,null,null,null,null,null,null,null,null,null,null,null,null,null,null,null,null,null,null,null,null,null,null,null,null,null,null,null,null,null,null,null,null,null,null,null,null,null,null,null,null,null,null,null,null,null,null,null,null,null,null,null,null,null,null,null,"","","","",null,null,null,null,null,null,null,null,null,null,null,null,null,null,null,null,null,null,null,null,null,null,0,0,0,0]
[null,"ENTREGA FARMACOS/ALIMENTOS",{"$f":"SUM(D70:F70)","v":0},null,null,null,null,null,null,null,null,null,null,null,null,null,null,null,null,null,null,null,null,null,null,null,null,null,null,null,null,null,null,null,null,null,null,null,null,null,null,null,null,null,null,null,null,null,null,null,null,null,null,null,null,null,null,null,null,null,null,null,null,null,null,null,null,null,null,null,null,null,null,null,null,null,null,null,"","","","",null,null,null,null,null,null,null,null,null,null,null,null,null,null,null,null,null,null,null,null,null,null,0,0,0,0]
[null,"ATENCION FARMACEUTICA",{"$f":"SUM(D71)","v":0},null,null,null,null,null,null,null,null,null,null,null,null,null,null,null,null,null,null,null,null,null,null,null,null,null,null,null,null,null,null,null,null,null,null,null,null,null,null,null,null,null,null,null,null,null,null,null,null,null,null,null,null,null,null,null,null,null,null,null,null,null,null,null,null,null,null,null,null,null,null,null,null,null,null,null,"","","","",null,null,null,null,null,null,null,null,null,null,null,null,null,null,null,null,null,null,null,null,null,null,0,0,0,0]
[null,"ATENCION NUTRICIONAL A PERSONAS CON INDICACION DE NED",{"$f":"SUM(D72)","v":0},null,null,null,null,null,null,null,null,null,null,null,null,null,null,null,null,null,null,null,null,null,null,null,null,null,null,null,null,null,null,null,null,null,null,null,null,null,null,null,null,null,null,null,null,null,null,null,null,null,null,null,null,null,null,null,null,null,null,null,null,null,null,null,null,null,null,null,null,null,null,null,null,null,null,null,"","","","",null,null,null,null,null,null,null,null,null,null,null,null,null,null,null,null,null,null,null,null,null,null,0,0,0,0]
[null,"PODOLOGO",{"$f":"SUM(F73)","v":0},null,null,null,null,null,null,null,null,null,null,null,null,null,null,null,null,null,null,null,null,null,null,null,null,null,null,null,null,null,null,null,null,null,null,null,null,null,null,null,null,null,null,null,null,null,null,null,null,null,null,null,null,null,null,null,null,null,null,null,null,null,null,null,null,null,null,null,null,null,null,null,null,null,null,null,"","","","",null,null,null,null,null,null,null,null,null,null,null,null,null,null,null,null,null,null,null,null,null,null,0,0,0,0]
[null,"MORBILIDAD MEDICA",{"$f":"SUM(D74:F74)","v":0},null,null,null,null,null,null,null,null,null,null,null,null,null,null,null,null,null,null,null,null,null,null,null,null,null,null,null,null,null,null,null,null,null,null,null,null,null,null,null,null,null,null,null,null,null,null,null,null,null,null,null,null,null,null,null,null,null,null,null,null,null,null,null,null,null,null,null,null,null,null,null,null,null,null,null,"","","","",null,null,null,null,null,null,null,null,null,null,null,null,null,null,null,null,null,null,null,null,null,null,0,0,0,0]
[null,"VISITAS CON OTROS FINES ",{"$f":"SUM(D75:F75)","v":0},null,null,null,null,null,null,null,null,null,null,null,null,null,null,null,null,null,null,null,null,null,null,null,null,null,null,null,null,null,null,null,null,null,null,null,null,null,null,null,null,null,null,null,null,null,null,null,null,null,null,null,null,null,null,null,null,null,null,null,null,null,null,null,null,null,null,null,null,null,null,null,null,null,null,null,"","","","",null,null,null,null,null,null,null,null,null,null,null,null,null,null,null,null,null,null,null,null,null,null,0,0,0,0]
[null,"TELEMEDICINA/TELEASISTENCIA",{"$f":"SUM(D76:F76)","v":0},null,null,null,null,null,null,null,null,null,null,null,null,null,null,null,null,null,null,null,null,null,null,null,null,null,null,null,null,null,null,null,null,null,null,null,null,null,null,null,null,null,null,null,null,null,null,null,null,null,null,null,null,null,null,null,null,null,null,null,null,null,null,null,null,null,null,null,null,null,null,null,null,null,null,null,{"$f":"IF(DA76=1,\"* Pueblos Originarios debe ser MENOR O IGUAL al Total. \",\"\")","v":""},{"$f":"IF(DB76=1,\"* Migrantes debe ser MENOR O IGUAL al Total. \",\"\")","v":""},{"$f":"IF(DC76=1,\"* Multimorbilidad Crónica debe ser MENOR O IGUAL al Total. \",\"\")","v":""},{"$f":"IF(DD76=1,\"* Población ELEAM o Institucionalizada debe ser MENOR O IGUAL al Total. \",\"\")","v":""},null,null,null,null,null,null,null,null,null,null,null,null,null,null,null,null,null,null,null,null,null,null,0,0,0,0]
[null,"SEGUIMIENTO REMOTO",{"$f":"SUM(D77:F77)","v":0},null,null,null,null,null,null,null,null,null,null,null,null,null,null,null,null,null,null,null,null,null,null,null,null,null,null,null,null,null,null,null,null,null,null,null,null,null,null,null,null,null,null,null,null,null,null,null,null,null,null,null,null,null,null,null,null,null,null,null,null,null,null,null,null,null,null,null,null,null,null,null,null,null,null,null,{"$f":"IF(DA77=1,\"* Pueblos Originarios debe ser MENOR O IGUAL al Total. \",\"\")","v":""},{"$f":"IF(DB77=1,\"* Migrantes debe ser MENOR O IGUAL al Total. \",\"\")","v":""},{"$f":"IF(DC77=1,\"* Multimorbilidad Crónica debe ser MENOR O IGUAL al Total. \",\"\")","v":""},{"$f":"IF(DD77=1,\"* Población ELEAM o Institucionalizada debe ser MENOR O IGUAL al Total. \",\"\")","v":""},null,null,null,null,null,null,null,null,null,null,null,null,null,null,null,null,null,null,null,null,null,null,0,0,0,0]
["SECCIÓN D: RESCATE DE PACIENTES INASISTENTES"]
["GRUPO ETARIO",null,"RESCATE EN DOMICILIO",null,null,null,null,"RESCATE TELEFÓNICO"]
[null,null,"TOTAL","FUNCIONARIO",null,null,"COMPRA DE SERVICIO (*)"]
[null,null,null,"Técnico en enfermería ","Administrativo","Otro",null,"Desde el establecimiento","Compra de servicio (*)"]
["Menor de  1 año ",null,{"$f":"SUM(D82:F82)+H82","v":0}]
["1 a 4 años",null,0]
["5 a 9 años",null,0]
["10 a 14 años ",null,0]
["15 a 19 años",null,0]
["20 a 24 años",null,0]
["25 a 64 años",null,0]
["65 y más años",null,0]
["* No incluidas como producción del establecimiento."]
["SECCIÓN E: OTRAS VISITAS PROGRAMA DE ACOMPAÑAMIENTO PSICOSOCIAL EN ATENCIÓN PRIMARIA"]
["GRUPOS","TOTAL VISITAS","NÚMERO DE OTRAS VISITAS SEGÚN RANGO ETARIO"]
[null,null,"0 - 4 años","5 - 9 años","10 - 14 años","15 - 19 años","20 - 24 años"]
["ESTABLECIMIENTO EDUCACIONAL",{"$f":"SUM(C94:G94)","v":0}]
["A LUGAR DE TRABAJO",{"$f":"SUM(C95:G95)","v":0}]
["SECCIÓN F: VISITA A ESTABLECIMIENTO EDUCACIONAL PROGRAMA DE APOYO A LA SALUD MENTAL INFANTIL (PASMI) EN ATENCIÓN PRIMARIA"]
["CONCEPTO","TOTAL VISITAS\n5 A 9 AÑOS","NÚMERO DE NIÑOS/AS VISITADOS\n5 A 9 AÑOS"]
[]
["ESTABLECIMIENTO EDUCACIONAL"]
["SECCIÓN G: CONSULTAS Y CONTROLES  DE ESPECIALIDAD RESUELTAS POR VISITAS DOMICILIARIAS"]
["ACTIVIDADES","TOTAL","CONTROLES DE ESPECIALIDAD RESUELTOS POR VISITAS DOMICILIARIAS",null,null,null,null,null,null,null,null,null,null,null,null,null,null,null,"SEXO"]
[null,null,"GRUPO DE EDAD (en años)"]
[null,null,"0 - 4 años","5 - 9 años","10 - 14 años","15 - 19 años","20 - 24 años","25 - 29 años","30 - 34 años","35 - 39 años","40 - 44 años","45 - 49 años","50 - 54 años","55 - 59 años","60 - 64 años","70 - 74 años","75 - 79 años","80 y mas años","Hombres","Mujeres"]
["Pediatría (incluye totalidad de producción pediatrica de subespecialidades)",{"$f":"SUM(C104:R104)","v":0},null,null,null,null,null,null,null,null,null,null,null,null,null,null,null,null,null,null,{"$f":"CA104","v":""},null,null,null,null,null,null,null,null,null,null,null,null,null,null,null,null,null,null,null,null,null,null,null,null,null,null,null,null,null,null,null,null,null,null,null,null,null,null,null,null,null,null,null,null,null,null,null,null,null,null,null,null,null,null,null,null,null,{"$f":"IF(DA104=1,\"* El Total de consultas por Sexo debe ser igual al Total de Consultas por Grupo de Edad. \",\"\")","v":""},null,null,null,null,null,null,null,null,null,null,null,null,null,null,null,null,null,null,null,null,null,null,null,null,null,{"$f":"IF(B104<>S104+T104,1,0)","v":0}]
["Medicina Interna",{"$f":"SUM(C105:R105)","v":0},null,null,null,null,null,null,null,null,null,null,null,null,null,null,null,null,null,null,{"$f":"CA105","v":""},null,null,null,null,null,null,null,null,null,null,null,null,null,null,null,null,null,null,null,null,null,null,null,null,null,null,null,null,null,null,null,null,null,null,null,null,null,null,null,null,null,null,null,null,null,null,null,null,null,null,null,null,null,null,null,null,null,{"$f":"IF(DA105=1,\"* El Total de consultas por Sexo debe ser igual al Total de Consultas por Grupo de Edad. \",\"\")","v":""},null,null,null,null,null,null,null,null,null,null,null,null,null,null,null,null,null,null,null,null,null,null,null,null,null,{"$f":"IF(B105<>S105+T105,1,0)","v":0}]
["Cirugía",0,null,null,null,null,null,null,null,null,null,null,null,null,null,null,null,null,null,null,"",null,null,null,null,null,null,null,null,null,null,null,null,null,null,null,null,null,null,null,null,null,null,null,null,null,null,null,null,null,null,null,null,null,null,null,null,null,null,null,null,null,null,null,null,null,null,null,null,null,null,null,null,null,null,null,null,null,"",null,null,null,null,null,null,null,null,null,null,null,null,null,null,null,null,null,null,null,null,null,null,null,null,null,0]
["Enfermedad respiratoria de adulto (broncopulmonar)",0,null,null,null,null,null,null,null,null,null,null,null,null,null,null,null,null,null,null,"",null,null,null,null,null,null,null,null,null,null,null,null,null,null,null,null,null,null,null,null,null,null,null,null,null,null,null,null,null,null,null,null,null,null,null,null,null,null,null,null,null,null,null,null,null,null,null,null,null,null,null,null,null,null,null,null,null,"",null,null,null,null,null,null,null,null,null,null,null,null,null,null,null,null,null,null,null,null,null,null,null,null,null,0]
["Cardiología adulto",0,null,null,null,null,null,null,null,null,null,null,null,null,null,null,null,null,null,null,"",null,null,null,null,null,null,null,null,null,null,null,null,null,null,null,null,null,null,null,null,null,null,null,null,null,null,null,null,null,null,null,null,null,null,null,null,null,null,null,null,null,null,null,null,null,null,null,null,null,null,null,null,null,null,null,null,null,"",null,null,null,null,null,null,null,null,null,null,null,null,null,null,null,null,null,null,null,null,null,null,null,null,null,0]
["Endocrinología adulto",{"$f":"SUM(C109:R109)","v":0},null,null,null,null,null,null,null,null,null,null,null,null,null,null,null,null,null,null,"",null,null,null,null,null,null,null,null,null,null,null,null,null,null,null,null,null,null,null,null,null,null,null,null,null,null,null,null,null,null,null,null,null,null,null,null,null,null,null,null,null,null,null,null,null,null,null,null,null,null,null,null,null,null,null,null,null,"",null,null,null,null,null,null,null,null,null,null,null,null,null,null,null,null,null,null,null,null,null,null,null,null,null,0]
["Reumatología adulto",0,null,null,null,null,null,null,null,null,null,null,null,null,null,null,null,null,null,null,"",null,null,null,null,null,null,null,null,null,null,null,null,null,null,null,null,null,null,null,null,null,null,null,null,null,null,null,null,null,null,null,null,null,null,null,null,null,null,null,null,null,null,null,null,null,null,null,null,null,null,null,null,null,null,null,null,null,"",null,null,null,null,null,null,null,null,null,null,null,null,null,null,null,null,null,null,null,null,null,null,null,null,null,0]
["Infectología adulto",0,null,null,null,null,null,null,null,null,null,null,null,null,null,null,null,null,null,null,"",null,null,null,null,null,null,null,null,null,null,null,null,null,null,null,null,null,null,null,null,null,null,null,null,null,null,null,null,null,null,null,null,null,null,null,null,null,null,null,null,null,null,null,null,null,null,null,null,null,null,null,null,null,null,null,null,null,"",null,null,null,null,null,null,null,null,null,null,null,null,null,null,null,null,null,null,null,null,null,null,null,null,null,0]
["Diabetología",0,null,null,null,null,null,null,null,null,null,null,null,null,null,null,null,null,null,null,"",null,null,null,null,null,null,null,null,null,null,null,null,null,null,null,null,null,null,null,null,null,null,null,null,null,null,null,null,null,null,null,null,null,null,null,null,null,null,null,null,null,null,null,null,null,null,null,null,null,null,null,null,null,null,null,null,null,"",null,null,null,null,null,null,null,null,null,null,null,null,null,null,null,null,null,null,null,null,null,null,null,null,null,0]
["Psiquiatría",0,null,null,null,null,null,null,null,null,null,null,null,null,null,null,null,null,null,null,"",null,null,null,null,null,null,null,null,null,null,null,null,null,null,null,null,null,null,null,null,null,null,null,null,null,null,null,null,null,null,null,null,null,null,null,null,null,null,null,null,null,null,null,null,null,null,null,null,null,null,null,null,null,null,null,null,null,"",null,null,null,null,null,null,null,null,null,null,null,null,null,null,null,null,null,null,null,null,null,null,null,null,null,0]
["Oftalmología",0,null,null,null,null,null,null,null,null,null,null,null,null,null,null,null,null,null,null,"",null,null,null,null,null,null,null,null,null,null,null,null,null,null,null,null,null,null,null,null,null,null,null,null,null,null,null,null,null,null,null,null,null,null,null,null,null,null,null,null,null,null,null,null,null,null,null,null,null,null,null,null,null,null,null,null,null,"",null,null,null,null,null,null,null,null,null,null,null,null,null,null,null,null,null,null,null,null,null,null,null,null,null,0]
["Otorrinolaringología",0,null,null,null,null,null,null,null,null,null,null,null,null,null,null,null,null,null,null,"",null,null,null,null,null,null,null,null,null,null,null,null,null,null,null,null,null,null,null,null,null,null,null,null,null,null,null,null,null,null,null,null,null,null,null,null,null,null,null,null,null,null,null,null,null,null,null,null,null,null,null,null,null,null,null,null,null,"",null,null,null,null,null,null,null,null,null,null,null,null,null,null,null,null,null,null,null,null,null,null,null,null,null,0]
["Obstetricia y Ginecología",0,null,null,null,null,null,null,null,null,null,null,null,null,null,null,null,null,null,null,"",null,null,null,null,null,null,null,null,null,null,null,null,null,null,null,null,null,null,null,null,null,null,null,null,null,null,null,null,null,null,null,null,null,null,null,null,null,null,null,null,null,null,null,null,null,null,null,null,null,null,null,null,null,null,null,null,null,"",null,null,null,null,null,null,null,null,null,null,null,null,null,null,null,null,null,null,null,null,null,null,null,null,null,0]
["Traumatología",0,null,null,null,null,null,null,null,null,null,null,null,null,null,null,null,null,null,null,"",null,null,null,null,null,null,null,null,null,null,null,null,null,null,null,null,null,null,null,null,null,null,null,null,null,null,null,null,null,null,null,null,null,null,null,null,null,null,null,null,null,null,null,null,null,null,null,null,null,null,null,null,null,null,null,null,null,"",null,null,null,null,null,null,null,null,null,null,null,null,null,null,null,null,null,null,null,null,null,null,null,null,null,0]
["Otras Especialidades Adulto",0,null,null,null,null,null,null,null,null,null,null,null,null,null,null,null,null,null,null,"",null,null,null,null,null,null,null,null,null,null,null,null,null,null,null,null,null,null,null,null,null,null,null,null,null,null,null,null,null,null,null,null,null,null,null,null,null,null,null,null,null,null,null,null,null,null,null,null,null,null,null,null,null,null,null,null,null,"",null,null,null,null,null,null,null,null,null,null,null,null,null,null,null,null,null,null,null,null,null,null,null,null,null,0]
["TOTAL",{"$f":"SUM(C119:R119)","v":0},{"$f":"SUM(C104:C118)","v":0},{"$f":"SUM(D104:D118)","v":0},0,0,0,0,0,0,0,0,0,0,0,0,0,0,0,0]
[]
[]
[]
[]
[]
[]
[]
[]
[]
[]
[]
[]
[]
[]
[]
[]
[]
[]
[]
[]
[]
[]
[]
[]
[]
[]
[]
[]
[]
[]
[]
[]
[]
[]
[]
[]
[]
[]
[]
[]
[]
[]
[]
[]
[]
[]
[]
[]
[]
[]
[]
[]
[]
[]
[]
[]
[]
[]
[]
[]
[]
[]
[]
[]
[]
[]
[]
[]
[]
[]
[]
[]
[]
[]
[]
[]
[]
[]
[{"$f":"SUM(C10:C35,C38:N41,B46:B49,C61,C65:C77,C82:C89,B94:B95,B99:C99,B119)","v":0},{"$f":"SUM(DA10:DZ119)","v":0}]

{"sheet":"A27","index":19,"n_rows":222,"n_cols":88,"rows_kept":222,"cut":false,"hidden":false,"merged":[[194,33,196,33],[195,27,195,28],[195,29,195,30],[195,31,195,32],[195,21,195,22],[195,23,195,24],[195,25,195,26],[195,19,195,20],[195,5,195,6],[195,7,195,8],[195,9,195,10],[195,11,195,12],[195,13,195,14],[197,0,201,0],[194,0,196,0],[195,15,195,16],[195,17,195,18],[194,1,196,1],[194,2,195,4],[194,5,194,32],[192,1,192,2],[159,0,159,2],[160,0,192,0],[160,1,160,2],[161,1,164,1],[165,1,165,2],[166,1,166,2],[167,1,167,2],[168,1,168,2],[169,1,169,2],[170,1,170,2],[171,1,171,2],[172,1,172,2],[173,1,173,2],[174,1,176,1],[177,1,179,1],[180,1,180,2],[181,1,182,1],[183,1,183,2],[184,1,184,2],[185,1,185,2],[186,1,186,2],[187,1,189,1],[190,1,190,2],[191,1,191,2],[8,30,9,30],[8,28,9,28],[8,29,9,29],[108,0,108,2],[110,0,111,2],[110,3,111,3],[110,4,110,9],[110,10,110,11],[112,0,114,1],[104,7,104,20],[104,21,105,21],[104,22,105,22],[106,0,106,2],[107,0,107,2],[100,0,100,2],[101,0,101,2],[102,0,102,2],[135,0,136,0],[135,1,136,1],[115,0,117,1],[118,0,120,1],[125,0,126,0],[125,1,125,8],[130,0,131,0],[135,2,135,5],[135,6,136,6],[135,7,136,7],[130,1,131,1],[130,2,130,12],[104,0,105,2],[104,3,105,3],[104,4,105,4],[104,5,104,6],[94,0,94,2],[94,4,94,5],[95,0,95,2],[95,4,95,5],[96,0,96,2],[98,0,99,2],[98,3,99,3],[98,4,99,4],[88,0,88,2],[89,0,89,2],[90,0,90,2],[91,0,91,2],[93,0,93,2],[93,4,93,5],[10,0,47,0],[10,1,10,2],[11,1,14,1],[15,1,15,2],[60,1,60,2],[58,1,58,2],[62,1,62,2],[86,0,86,2],[87,0,87,2],[70,1,70,2],[71,1,72,1],[73,1,73,2],[74,1,74,2],[75,1,75,2],[76,1,76,2],[49,0,49,2],[50,0,84,0],[50,1,50,2],[51,1,54,1],[55,1,55,2],[56,1,56,2],[57,1,57,2],[77,1,81,1],[82,1,82,2],[83,1,83,2],[84,1,84,2],[8,24,8,26],[8,27,9,27],[16,1,16,2],[17,1,17,2],[18,1,18,2],[34,1,35,1],[36,1,36,2],[37,1,37,2],[24,1,24,2],[26,1,26,2],[27,1,29,1],[30,1,32,1],[33,1,33,2],[23,1,23,2],[140,0,141,2],[140,3,141,3],[140,4,140,13],[140,14,140,15],[142,0,149,1],[150,0,157,1],[61,1,61,2],[59,1,59,2],[5,0,5,14],[8,0,9,2],[8,3,9,3],[8,4,8,8],[8,9,8,23],[19,1,22,1],[25,1,25,2],[38,1,38,2],[39,1,39,2],[40,1,44,1],[63,1,63,2],[64,1,66,1],[67,1,69,1],[45,1,45,2],[46,1,46,2],[47,1,47,2]]}
["SERVICIO DE SALUD"]
[{"$f":"CONCATENATE(\"COMUNA: \",NOMBRE!B2,\" - \",\"( \",NOMBRE!C2,NOMBRE!D2,NOMBRE!E2,NOMBRE!F2,NOMBRE!G2,\" )\")","v":"COMUNA:  - (  )"}]
[{"$f":"CONCATENATE(\"ESTABLECIMIENTO/ESTRATEGIA: \",NOMBRE!B3,\" - \",\"( \",NOMBRE!C3,NOMBRE!D3,NOMBRE!E3,NOMBRE!F3,NOMBRE!G3,NOMBRE!H3,\" )\")","v":"ESTABLECIMIENTO/ESTRATEGIA:  - (  )"}]
[{"$f":"CONCATENATE(\"MES: \",NOMBRE!B6,\" - \",\"( \",NOMBRE!C6,NOMBRE!D6,\" )\")","v":"MES:  - (  )"}]
[{"$f":"CONCATENATE(\"AÑO: \",NOMBRE!B7)","v":"AÑO: 2023"}]
["REM-27.  EDUCACIÓN PARA LA SALUD"]
[]
["SECCIÓN A: PERSONAS QUE INGRESAN A EDUCACIÓN GRUPAL SEGÚN ÁREAS TEMÁTICAS Y EDAD"]
["ÁREAS TEMÁTICAS DE PREVENCIÓN",null,null,"TOTAL","MADRE, PADRE O CUIDADOR DE :",null,null,null,null,"GRUPO DE EDAD (en años)",null,null,null,null,null,null,null,null,null,null,null,null,null,null,"GESTANTES",null,null,"Familias en Riesgo","Pueblos Originarios","Migrantes","Espacios Amigables"]
[null,null,null,null,"Menores de 1 año","Niños 12 a 23 meses","Niños de 2 a 5 años","Niños de 6 a 9 años","10 a 14 años","10 a 14 años","15 a 19 años","20 a 24 años","25 - 29 años","30 - 34 años","35 - 39 años","40 - 44 años","45 - 49 años","50 - 54 años","55 - 59 años","60 - 64 años","65 - 69 años","70 - 74 años","75 - 79 años","80 y mas años","APS","Nivel Secundario","Nivel Terciario"]
["EDUCACIÓN DE GRUPO","ESTIMULACIÓN DESARROLLO PSICOMOTOR",null,{"$f":"SUM(E11:G11)","v":0},null,null,null,null,null,null,null,null,null,null,null,null,null,null,null,null,null,null,null,null,null,null,null,null,null,null,null,{"$f":"CA11","v":""},null,null,null,null,null,null,null,null,null,null,null,null,null,null,null,null,null,null,null,null,null,null,null,null,null,null,null,null,null,null,null,null,null,null,null,null,null,null,null,null,null,null,null,null,null,null,{"$f":"IF(CG11=1,\"* Total por edad NO DEBE ser menor que la suma de los subgrupos. \",\"\")","v":""},null,null,null,null,null,{"$f":"IF(D11<SUM(Y11:AE11),1,0)","v":0}]
[null,"NUTRICIÓN","RIESGO DE MALNUTRICIÓN POR EXCESO",{"$f":"SUM(E12:X12)","v":0},null,null,null,null,null,null,null,null,null,null,null,null,null,null,null,null,null,null,null,null,null,null,null,null,null,null,null,{"$f":"CA12","v":""},null,null,null,null,null,null,null,null,null,null,null,null,null,null,null,null,null,null,null,null,null,null,null,null,null,null,null,null,null,null,null,null,null,null,null,null,null,null,null,null,null,null,null,null,null,null,{"$f":"IF(CG12=1,\"* Total por edad NO DEBE ser menor que la suma de los subgrupos. \",\"\")","v":""},null,null,null,null,null,{"$f":"IF(D12<SUM(Y12:AE12),1,0)","v":0}]
[null,null,"MALNUTRICIÓN POR EXCESO",{"$f":"SUM(E13:X13)","v":0},null,null,null,null,null,null,null,null,null,null,null,null,null,null,null,null,null,null,null,null,null,null,null,null,null,null,null,"",null,null,null,null,null,null,null,null,null,null,null,null,null,null,null,null,null,null,null,null,null,null,null,null,null,null,null,null,null,null,null,null,null,null,null,null,null,null,null,null,null,null,null,null,null,null,"",null,null,null,null,null,0]
[null,null,"MALNUTRICIÓN DE DÉFICIT",0,null,null,null,null,null,null,null,null,null,null,null,null,null,null,null,null,null,null,null,null,null,null,null,null,null,null,null,"",null,null,null,null,null,null,null,null,null,null,null,null,null,null,null,null,null,null,null,null,null,null,null,null,null,null,null,null,null,null,null,null,null,null,null,null,null,null,null,null,null,null,null,null,null,null,"",null,null,null,null,null,0]
[null,null,"SIN RIESGO DE MALNUTRICIÓN",0,null,null,null,null,null,null,null,null,null,null,null,null,null,null,null,null,null,null,null,null,null,null,null,null,null,null,null,"",null,null,null,null,null,null,null,null,null,null,null,null,null,null,null,null,null,null,null,null,null,null,null,null,null,null,null,null,null,null,null,null,null,null,null,null,null,null,null,null,null,null,null,null,null,null,"",null,null,null,null,null,0]
[null,"PREVENCIÓN DE IRA - ERA",null,0,null,null,null,null,null,null,null,null,null,null,null,null,null,null,null,null,null,null,null,null,null,null,null,null,null,null,null,"",null,null,null,null,null,null,null,null,null,null,null,null,null,null,null,null,null,null,null,null,null,null,null,null,null,null,null,null,null,null,null,null,null,null,null,null,null,null,null,null,null,null,null,null,null,null,"",null,null,null,null,null,0]
[null,"PREVENCIÓN DE ACCIDENTES",null,0,null,null,null,null,null,null,null,null,null,null,null,null,null,null,null,null,null,null,null,null,null,null,null,null,null,null,null,"",null,null,null,null,null,null,null,null,null,null,null,null,null,null,null,null,null,null,null,null,null,null,null,null,null,null,null,null,null,null,null,null,null,null,null,null,null,null,null,null,null,null,null,null,null,null,"",null,null,null,null,null,0]
[null,"SALUD BUCO-DENTAL",null,0,null,null,null,null,null,null,null,null,null,null,null,null,null,null,null,null,null,null,null,null,null,null,null,null,null,null,null,"",null,null,null,null,null,null,null,null,null,null,null,null,null,null,null,null,null,null,null,null,null,null,null,null,null,null,null,null,null,null,null,null,null,null,null,null,null,null,null,null,null,null,null,null,null,null,"",null,null,null,null,null,0]
[null,"PREVENCIÓN VIOLENCIA DE GÉNERO",null,0,null,null,null,null,null,null,null,null,null,null,null,null,null,null,null,null,null,null,null,null,null,null,null,null,null,null,null,"",null,null,null,null,null,null,null,null,null,null,null,null,null,null,null,null,null,null,null,null,null,null,null,null,null,null,null,null,null,null,null,null,null,null,null,null,null,null,null,null,null,null,null,null,null,null,"",null,null,null,null,null,0]
[null,"SALUD SEXUAL Y REPRODUCTIVA","MUJERES",{"$f":"SUM(E20:X20)","v":0},null,null,null,null,null,null,null,null,null,null,null,null,null,null,null,null,null,null,null,null,null,null,null,null,null,null,null,"",null,null,null,null,null,null,null,null,null,null,null,null,null,null,null,null,null,null,null,null,null,null,null,null,null,null,null,null,null,null,null,null,null,null,null,null,null,null,null,null,null,null,null,null,null,null,"",null,null,null,null,null,0]
[null,null,"HOMBRES",{"$f":"SUM(E21:X21)","v":0},null,null,null,null,null,null,null,null,null,null,null,null,null,null,null,null,null,null,null,null,null,null,null,null,null,null,null,"",null,null,null,null,null,null,null,null,null,null,null,null,null,null,null,null,null,null,null,null,null,null,null,null,null,null,null,null,null,null,null,null,null,null,null,null,null,null,null,null,null,null,null,null,null,null,"",null,null,null,null,null,0]
[null,null,"TRANS FEMENINO",{"$f":"SUM(E22:X22)","v":0},null,null,null,null,null,null,null,null,null,null,null,null,null,null,null,null,null,null,null,null,null,null,null,null,null,null,null,"",null,null,null,null,null,null,null,null,null,null,null,null,null,null,null,null,null,null,null,null,null,null,null,null,null,null,null,null,null,null,null,null,null,null,null,null,null,null,null,null,null,null,null,null,null,null,"",null,null,null,null,null,0]
[null,null,"TRANS MASCULINO",{"$f":"SUM(E23:X23)","v":0},null,null,null,null,null,null,null,null,null,null,null,null,null,null,null,null,null,null,null,null,null,null,null,null,null,null,null,"",null,null,null,null,null,null,null,null,null,null,null,null,null,null,null,null,null,null,null,null,null,null,null,null,null,null,null,null,null,null,null,null,null,null,null,null,null,null,null,null,null,null,null,null,null,null,"",null,null,null,null,null,0]
[null,"TALLERES DE CLIMATERIO",null,{"$f":"+E24+F24+G24+H24+I24+Q24+R24+S24+T24","v":0},null,null,null,null,null,null,null,null,null,null,null,null,null,null,null,null,null,null,null,null,null,null,null,null,null,null,null,"",null,null,null,null,null,null,null,null,null,null,null,null,null,null,null,null,null,null,null,null,null,null,null,null,null,null,null,null,null,null,null,null,null,null,null,null,null,null,null,null,null,null,null,null,null,null,"",null,null,null,null,null,0]
[null,"EDUCACIÓN PRENATAL (NUTRICIÓN - LACTANCIA - CRIANZA - AUTOCUIDADO - PREPARACIÓN PARTO Y OTROS)",null,{"$f":"SUM(J25:S25)","v":0},null,null,null,null,null,null,null,null,null,null,null,null,null,null,null,null,null,null,null,null,null,null,null,null,null,null,null,"",null,null,null,null,null,null,null,null,null,null,null,null,null,null,null,null,null,null,null,null,null,null,null,null,null,null,null,null,null,null,null,null,null,null,null,null,null,null,null,null,null,null,null,null,null,null,"",null,null,null,null,null,0]
[null,"VISITA GUIADA A LA MATERNIDAD",null,{"$f":"SUM(J26:S26)","v":0},null,null,null,null,null,null,null,null,null,null,null,null,null,null,null,null,null,null,null,null,null,null,null,null,null,null,null,"",null,null,null,null,null,null,null,null,null,null,null,null,null,null,null,null,null,null,null,null,null,null,null,null,null,null,null,null,null,null,null,null,null,null,null,null,null,null,null,null,null,null,null,null,null,null,"",null,null,null,null,null,0]
[null,"PROMOCIÓN DE SALUD MENTAL",null,{"$f":"SUM(H27:X27)","v":0},null,null,null,null,null,null,null,null,null,null,null,null,null,null,null,null,null,null,null,null,null,null,null,null,null,null,null,"",null,null,null,null,null,null,null,null,null,null,null,null,null,null,null,null,null,null,null,null,null,null,null,null,null,null,null,null,null,null,null,null,null,null,null,null,null,null,null,null,null,null,null,null,null,null,"",null,null,null,null,null,0]
[null,"PROMOCIÓN DEL DESARROLLO INFANTIL TEMPRANO","DEL LENGUAJE",{"$f":"SUM(E28:F28)","v":0},null,null,null,null,null,null,null,null,null,null,null,null,null,null,null,null,null,null,null,null,null,null,null,null,null,null,null,"",null,null,null,null,null,null,null,null,null,null,null,null,null,null,null,null,null,null,null,null,null,null,null,null,null,null,null,null,null,null,null,null,null,null,null,null,null,null,null,null,null,null,null,null,null,null,"",null,null,null,null,null,0]
[null,null,"MOTOR",{"$f":"SUM(E29:G29)","v":0},null,null,null,null,null,null,null,null,null,null,null,null,null,null,null,null,null,null,null,null,null,null,null,null,null,null,null,"",null,null,null,null,null,null,null,null,null,null,null,null,null,null,null,null,null,null,null,null,null,null,null,null,null,null,null,null,null,null,null,null,null,null,null,null,null,null,null,null,null,null,null,null,null,null,"",null,null,null,null,null,0]
[null,null,"OTROS",{"$f":"SUM(E30:G30)","v":0},null,null,null,null,null,null,null,null,null,null,null,null,null,null,null,null,null,null,null,null,null,null,null,null,null,null,null,"",null,null,null,null,null,null,null,null,null,null,null,null,null,null,null,null,null,null,null,null,null,null,null,null,null,null,null,null,null,null,null,null,null,null,null,null,null,null,null,null,null,null,null,null,null,null,"",null,null,null,null,null,0]
[null,"HABILIDADES PARENTALES","NADIE ES PERFECTO",{"$f":"SUM(E31:H31)","v":0},null,null,null,null,null,null,null,null,null,null,null,null,null,null,null,null,null,null,null,null,null,null,null,null,null,null,null,"",null,null,null,null,null,null,null,null,null,null,null,null,null,null,null,null,null,null,null,null,null,null,null,null,null,null,null,null,null,null,null,null,null,null,null,null,null,null,null,null,null,null,null,null,null,null,"",null,null,null,null,null,0]
[null,null,"FAMILIAS FUERTES",{"$f":"SUM(E32:I32)","v":0},null,null,null,null,null,null,null,null,null,null,null,null,null,null,null,null,null,null,null,null,null,null,null,null,null,null,null,"",null,null,null,null,null,null,null,null,null,null,null,null,null,null,null,null,null,null,null,null,null,null,null,null,null,null,null,null,null,null,null,null,null,null,null,null,null,null,null,null,null,null,null,null,null,null,"",null,null,null,null,null,0]
[null,null,"OTROS",{"$f":"SUM(E33:I33)","v":0},null,null,null,null,null,null,null,null,null,null,null,null,null,null,null,null,null,null,null,null,null,null,null,null,null,null,null,"",null,null,null,null,null,null,null,null,null,null,null,null,null,null,null,null,null,null,null,null,null,null,null,null,null,null,null,null,null,null,null,null,null,null,null,null,null,null,null,null,null,null,null,null,null,null,"",null,null,null,null,null,0]
[null,"APOYO MADRE A MADRE",null,{"$f":"SUM(E34:X34)","v":0},null,null,null,null,null,null,null,null,null,null,null,null,null,null,null,null,null,null,null,null,null,null,null,null,null,null,null,"",null,null,null,null,null,null,null,null,null,null,null,null,null,null,null,null,null,null,null,null,null,null,null,null,null,null,null,null,null,null,null,null,null,null,null,null,null,null,null,null,null,null,null,null,null,null,"",null,null,null,null,null,0]
[null,"PREVENCIÓN DE SALUD MENTAL ","PREVENCIÓN SUICIDIO",{"$f":"SUM(E35:X35)","v":0},null,null,null,null,null,null,null,null,null,null,null,null,null,null,null,null,null,null,null,null,null,null,null,null,null,null,null,"",null,null,null,null,null,null,null,null,null,null,null,null,null,null,null,null,null,null,null,null,null,null,null,null,null,null,null,null,null,null,null,null,null,null,null,null,null,null,null,null,null,null,null,null,null,null,"",null,null,null,null,null,0]
[null,null,"PREVENCIÓN TRASTORNO MENTAL",{"$f":"SUM(E36:X36)","v":0},null,null,null,null,null,null,null,null,null,null,null,null,null,null,null,null,null,null,null,null,null,null,null,null,null,null,null,"",null,null,null,null,null,null,null,null,null,null,null,null,null,null,null,null,null,null,null,null,null,null,null,null,null,null,null,null,null,null,null,null,null,null,null,null,null,null,null,null,null,null,null,null,null,null,"",null,null,null,null,null,0]
[null,"PREVENCIÓN ALCOHOL Y DROGAS",null,{"$f":"SUM(E37:X37)","v":0},null,null,null,null,null,null,null,null,null,null,null,null,null,null,null,null,null,null,null,null,null,null,null,null,null,null,null,"",null,null,null,null,null,null,null,null,null,null,null,null,null,null,null,null,null,null,null,null,null,null,null,null,null,null,null,null,null,null,null,null,null,null,null,null,null,null,null,null,null,null,null,null,null,null,"",null,null,null,null,null,0]
[null,"ANTITABÁQUICA (excluye REM 23)",null,{"$f":"SUM(E38:X38)","v":0},null,null,null,null,null,null,null,null,null,null,null,null,null,null,null,null,null,null,null,null,null,null,null,null,null,null,null,"",null,null,null,null,null,null,null,null,null,null,null,null,null,null,null,null,null,null,null,null,null,null,null,null,null,null,null,null,null,null,null,null,null,null,null,null,null,null,null,null,null,null,null,null,null,null,"",null,null,null,null,null,0]
[null,"PREVENCIÓN DE LA TRANSMISIÓN VERTICAL DE VIH-SÍFILIS",null,{"$f":"SUM(J39:S39)","v":0},null,null,null,null,null,null,null,null,null,null,null,null,null,null,null,null,null,null,null,null,null,null,null,null,null,null,null,"",null,null,null,null,null,null,null,null,null,null,null,null,null,null,null,null,null,null,null,null,null,null,null,null,null,null,null,null,null,null,null,null,null,null,null,null,null,null,null,null,null,null,null,null,null,null,"",null,null,null,null,null,0]
[null,"OTRAS ÁREAS TEMÁTICAS",null,{"$f":"SUM(E40:X40)","v":0},null,null,null,null,null,null,null,null,null,null,null,null,null,null,null,null,null,null,null,null,null,null,null,null,null,null,null,"",null,null,null,null,null,null,null,null,null,null,null,null,null,null,null,null,null,null,null,null,null,null,null,null,null,null,null,null,null,null,null,null,null,null,null,null,null,null,null,null,null,null,null,null,null,null,"",null,null,null,null,null,0]
[null,"EDUCACIÓN ESPECIAL EN ADULTO MAYOR","ESTIMULACIÓN DE MEMORIA",{"$f":"SUM(U41:X41)","v":0},null,null,null,null,null,null,null,null,null,null,null,null,null,null,null,null,null,null,null,null,null,null,null,null,null,null,null,"",null,null,null,null,null,null,null,null,null,null,null,null,null,null,null,null,null,null,null,null,null,null,null,null,null,null,null,null,null,null,null,null,null,null,null,null,null,null,null,null,null,null,null,null,null,null,"",null,null,null,null,null,0]
[null,null,"PREVENCIÓN CAÍDAS",{"$f":"SUM(U42:X42)","v":0},null,null,null,null,null,null,null,null,null,null,null,null,null,null,null,null,null,null,null,null,null,null,null,null,null,null,null,"",null,null,null,null,null,null,null,null,null,null,null,null,null,null,null,null,null,null,null,null,null,null,null,null,null,null,null,null,null,null,null,null,null,null,null,null,null,null,null,null,null,null,null,null,null,null,"",null,null,null,null,null,0]
[null,null,"ESTIMULACIÓN DE ACTIVIDAD FÍSICA",{"$f":"SUM(U43:X43)","v":0},null,null,null,null,null,null,null,null,null,null,null,null,null,null,null,null,null,null,null,null,null,null,null,null,null,null,null,"",null,null,null,null,null,null,null,null,null,null,null,null,null,null,null,null,null,null,null,null,null,null,null,null,null,null,null,null,null,null,null,null,null,null,null,null,null,null,null,null,null,null,null,null,null,null,"",null,null,null,null,null,0]
[null,null,"AUTO CUIDADO",{"$f":"SUM(U44:X44)","v":0},null,null,null,null,null,null,null,null,null,null,null,null,null,null,null,null,null,null,null,null,null,null,null,null,null,null,null,"",null,null,null,null,null,null,null,null,null,null,null,null,null,null,null,null,null,null,null,null,null,null,null,null,null,null,null,null,null,null,null,null,null,null,null,null,null,null,null,null,null,null,null,null,null,null,"",null,null,null,null,null,0]
[null,null,"OTRAS TEMATICAS",{"$f":"SUM(U45:X45)","v":0},null,null,null,null,null,null,null,null,null,null,null,null,null,null,null,null,null,null,null,null,null,null,null,null,null,null,null,"",null,null,null,null,null,null,null,null,null,null,null,null,null,null,null,null,null,null,null,null,null,null,null,null,null,null,null,null,null,null,null,null,null,null,null,null,null,null,null,null,null,null,null,null,null,null,"",null,null,null,null,null,0]
[null,"USO RACIONAL DE MEDICAMENTOS",null,{"$f":"SUM(E46:X46)","v":0},null,null,null,null,null,null,null,null,null,null,null,null,null,null,null,null,null,null,null,null,null,null,null,null,null,null,null,"",null,null,null,null,null,null,null,null,null,null,null,null,null,null,null,null,null,null,null,null,null,null,null,null,null,null,null,null,null,null,null,null,null,null,null,null,null,null,null,null,null,null,null,null,null,null,"",null,null,null,null,null,0]
[null,"RESISTENCIA ANTIMICROBIANOS",null,{"$f":"SUM(E47:X47)","v":0},null,null,null,null,null,null,null,null,null,null,null,null,null,null,null,null,null,null,null,null,null,null,null,null,null,null,null,"",null,null,null,null,null,null,null,null,null,null,null,null,null,null,null,null,null,null,null,null,null,null,null,null,null,null,null,null,null,null,null,null,null,null,null,null,null,null,null,null,null,null,null,null,null,null,"",null,null,null,null,null,0]
[null,"TOTAL",null,{"$f":"SUM(E48:X48)","v":0},{"$f":"SUM(E11:E47)","v":0},{"$f":"SUM(F11:F47)","v":0},0,0,0,0,0,0,0,0,0,0,0,0,0,0,0,0,{"$f":"SUM(W11:W47)","v":0},0,0,0,0,{"$f":"SUM(AB11:AB47)","v":0},{"$f":"SUM(AC11:AC47)","v":0},{"$f":"SUM(AD11:AD47)","v":0},{"$f":"SUM(AE11:AE47)","v":0}]
["SECCIÓN B: ACTIVIDADES DE EDUCACIÓN PARA LA SALUD SEGÚN PERSONAL QUE LAS REALIZA (SESIONES)"]
["ÁREAS TEMÁTICAS DE PREVENCIÓN",null,null,"TOTAL","UN PROFESIONAL","DOS O MÁS PROFESIO- NALES","UN PROFESIONAL Y UN TÉCNICO PARAMÉDICO","TÉCNICO \nPARAMÉ-\nDICO","FACILITADOR/A INTERCULTURAL PUEBLOS ORIGINARIOS"]
["EDUCACIÓN DE GRUPO","ESTIMULACIÓN DESARROLLO PSICOMOTOR",null,{"$f":"SUM(E51:H51)","v":0},null,null,null,null,null,{"$f":"CA51","v":""},null,null,null,null,null,null,null,null,null,null,null,null,null,null,null,null,null,null,null,null,null,null,null,null,null,null,null,null,null,null,null,null,null,null,null,null,null,null,null,null,null,null,null,null,null,null,null,null,null,null,null,null,null,null,null,null,null,null,null,null,null,null,null,null,null,null,null,null,{"$f":"IF(CG51=1,\"* En esta área en Sección A se consignan personas pero falta registrar la Sesión. \",\"\")","v":""},null,null,null,null,null,{"$f":"IF(AND(D51=0,D11<>0),1,0)","v":0}]
[null,"NUTRICIÓN","RIESGO DE MALNUTRICIÓN POR EXCESO",0,null,null,null,null,null,{"$f":"CA52","v":""},null,null,null,null,null,null,null,null,null,null,null,null,null,null,null,null,null,null,null,null,null,null,null,null,null,null,null,null,null,null,null,null,null,null,null,null,null,null,null,null,null,null,null,null,null,null,null,null,null,null,null,null,null,null,null,null,null,null,null,null,null,null,null,null,null,null,null,null,{"$f":"IF(CG52=1,\"* En esta área en Sección A se consignan personas pero falta registrar la Sesión. \",\"\")","v":""},null,null,null,null,null,0]
[null,null,"MALNUTRICIÓN POR EXCESO",0,null,null,null,null,null,"",null,null,null,null,null,null,null,null,null,null,null,null,null,null,null,null,null,null,null,null,null,null,null,null,null,null,null,null,null,null,null,null,null,null,null,null,null,null,null,null,null,null,null,null,null,null,null,null,null,null,null,null,null,null,null,null,null,null,null,null,null,null,null,null,null,null,null,null,"",null,null,null,null,null,0]
[null,null,"MALNUTRICIÓN DE DÉFICIT",0,null,null,null,null,null,"",null,null,null,null,null,null,null,null,null,null,null,null,null,null,null,null,null,null,null,null,null,null,null,null,null,null,null,null,null,null,null,null,null,null,null,null,null,null,null,null,null,null,null,null,null,null,null,null,null,null,null,null,null,null,null,null,null,null,null,null,null,null,null,null,null,null,null,null,"",null,null,null,null,null,0]
[null,null,"SIN RIESGO DE MALNUTRICIÓN",0,null,null,null,null,null,"",null,null,null,null,null,null,null,null,null,null,null,null,null,null,null,null,null,null,null,null,null,null,null,null,null,null,null,null,null,null,null,null,null,null,null,null,null,null,null,null,null,null,null,null,null,null,null,null,null,null,null,null,null,null,null,null,null,null,null,null,null,null,null,null,null,null,null,null,"",null,null,null,null,null,0]
[null,"PREVENCIÓN DE IRA - ERA",null,0,null,null,null,null,null,"",null,null,null,null,null,null,null,null,null,null,null,null,null,null,null,null,null,null,null,null,null,null,null,null,null,null,null,null,null,null,null,null,null,null,null,null,null,null,null,null,null,null,null,null,null,null,null,null,null,null,null,null,null,null,null,null,null,null,null,null,null,null,null,null,null,null,null,null,"",null,null,null,null,null,0]
[null,"PREVENCIÓN DE ACCIDENTES",null,0,null,null,null,null,null,"",null,null,null,null,null,null,null,null,null,null,null,null,null,null,null,null,null,null,null,null,null,null,null,null,null,null,null,null,null,null,null,null,null,null,null,null,null,null,null,null,null,null,null,null,null,null,null,null,null,null,null,null,null,null,null,null,null,null,null,null,null,null,null,null,null,null,null,null,"",null,null,null,null,null,0]
[null,"SALUD BUCO-DENTAL",null,0,null,null,null,null,null,"",null,null,null,null,null,null,null,null,null,null,null,null,null,null,null,null,null,null,null,null,null,null,null,null,null,null,null,null,null,null,null,null,null,null,null,null,null,null,null,null,null,null,null,null,null,null,null,null,null,null,null,null,null,null,null,null,null,null,null,null,null,null,null,null,null,null,null,null,"",null,null,null,null,null,0]
[null,"PREVENCIÓN VIOLENCIA DE GÉNERO",null,0,null,null,null,null,null,"",null,null,null,null,null,null,null,null,null,null,null,null,null,null,null,null,null,null,null,null,null,null,null,null,null,null,null,null,null,null,null,null,null,null,null,null,null,null,null,null,null,null,null,null,null,null,null,null,null,null,null,null,null,null,null,null,null,null,null,null,null,null,null,null,null,null,null,null,"",null,null,null,null,null,0]
[null,"SALUD SEXUAL Y REPRODUCTIVA",null,0,null,null,null,null,null,"",null,null,null,null,null,null,null,null,null,null,null,null,null,null,null,null,null,null,null,null,null,null,null,null,null,null,null,null,null,null,null,null,null,null,null,null,null,null,null,null,null,null,null,null,null,null,null,null,null,null,null,null,null,null,null,null,null,null,null,null,null,null,null,null,null,null,null,null,"",null,null,null,null,null,{"$f":"IF(AND(D60=0,SUM(D20:D23)<>0),1,0)","v":0}]
[null,"TALLERES DE CLIMATERIO",null,0,null,null,null,null,null,"",null,null,null,null,null,null,null,null,null,null,null,null,null,null,null,null,null,null,null,null,null,null,null,null,null,null,null,null,null,null,null,null,null,null,null,null,null,null,null,null,null,null,null,null,null,null,null,null,null,null,null,null,null,null,null,null,null,null,null,null,null,null,null,null,null,null,null,null,"",null,null,null,null,null,{"$f":"IF(AND(D61=0,D24<>0),1,0)","v":0}]
[null,"EDUCACIÓN PRENATAL (NUTRICIÓN - LACTANCIA - CRIANZA - AUTOCUIDADO - PREPARACIÓN PARTO Y OTROS)",null,0,null,null,null,null,null,"",null,null,null,null,null,null,null,null,null,null,null,null,null,null,null,null,null,null,null,null,null,null,null,null,null,null,null,null,null,null,null,null,null,null,null,null,null,null,null,null,null,null,null,null,null,null,null,null,null,null,null,null,null,null,null,null,null,null,null,null,null,null,null,null,null,null,null,null,"",null,null,null,null,null,{"$f":"IF(AND(D62=0,D25<>0),1,0)","v":0}]
[null,"VISITA GUIADA A LA MATERNIDAD",null,{"$f":"SUM(E63:H63)","v":0},null,null,null,null,null,"",null,null,null,null,null,null,null,null,null,null,null,null,null,null,null,null,null,null,null,null,null,null,null,null,null,null,null,null,null,null,null,null,null,null,null,null,null,null,null,null,null,null,null,null,null,null,null,null,null,null,null,null,null,null,null,null,null,null,null,null,null,null,null,null,null,null,null,null,"",null,null,null,null,null,0]
[null,"PROMOCIÓN DE SALUD MENTAL",null,0,null,null,null,null,null,"",null,null,null,null,null,null,null,null,null,null,null,null,null,null,null,null,null,null,null,null,null,null,null,null,null,null,null,null,null,null,null,null,null,null,null,null,null,null,null,null,null,null,null,null,null,null,null,null,null,null,null,null,null,null,null,null,null,null,null,null,null,null,null,null,null,null,null,null,"",null,null,null,null,null,0]
[null,"PROMOCIÓN DEL DESARROLLO INFANTIL TEMPRANO","DEL LENGUAJE",0,null,null,null,null,null,"",null,null,null,null,null,null,null,null,null,null,null,null,null,null,null,null,null,null,null,null,null,null,null,null,null,null,null,null,null,null,null,null,null,null,null,null,null,null,null,null,null,null,null,null,null,null,null,null,null,null,null,null,null,null,null,null,null,null,null,null,null,null,null,null,null,null,null,null,"",null,null,null,null,null,0]
[null,null,"MOTOR",0,null,null,null,null,null,"",null,null,null,null,null,null,null,null,null,null,null,null,null,null,null,null,null,null,null,null,null,null,null,null,null,null,null,null,null,null,null,null,null,null,null,null,null,null,null,null,null,null,null,null,null,null,null,null,null,null,null,null,null,null,null,null,null,null,null,null,null,null,null,null,null,null,null,null,"",null,null,null,null,null,0]
[null,null,"OTROS",0,null,null,null,null,null,"",null,null,null,null,null,null,null,null,null,null,null,null,null,null,null,null,null,null,null,null,null,null,null,null,null,null,null,null,null,null,null,null,null,null,null,null,null,null,null,null,null,null,null,null,null,null,null,null,null,null,null,null,null,null,null,null,null,null,null,null,null,null,null,null,null,null,null,null,"",null,null,null,null,null,0]
[null,"HABILIDADES PARENTALES","NADIE ES PERFECTO",0,null,null,null,null,null,"",null,null,null,null,null,null,null,null,null,null,null,null,null,null,null,null,null,null,null,null,null,null,null,null,null,null,null,null,null,null,null,null,null,null,null,null,null,null,null,null,null,null,null,null,null,null,null,null,null,null,null,null,null,null,null,null,null,null,null,null,null,null,null,null,null,null,null,null,"",null,null,null,null,null,0]
[null,null,"FAMILIAS FUERTES",0,null,null,null,null,null,"",null,null,null,null,null,null,null,null,null,null,null,null,null,null,null,null,null,null,null,null,null,null,null,null,null,null,null,null,null,null,null,null,null,null,null,null,null,null,null,null,null,null,null,null,null,null,null,null,null,null,null,null,null,null,null,null,null,null,null,null,null,null,null,null,null,null,null,null,"",null,null,null,null,null,0]
[null,null,"OTROS",0,null,null,null,null,null,"",null,null,null,null,null,null,null,null,null,null,null,null,null,null,null,null,null,null,null,null,null,null,null,null,null,null,null,null,null,null,null,null,null,null,null,null,null,null,null,null,null,null,null,null,null,null,null,null,null,null,null,null,null,null,null,null,null,null,null,null,null,null,null,null,null,null,null,null,"",null,null,null,null,null,0]
[null,"APOYO MADRE A MADRE",null,0,null,null,null,null,null,"",null,null,null,null,null,null,null,null,null,null,null,null,null,null,null,null,null,null,null,null,null,null,null,null,null,null,null,null,null,null,null,null,null,null,null,null,null,null,null,null,null,null,null,null,null,null,null,null,null,null,null,null,null,null,null,null,null,null,null,null,null,null,null,null,null,null,null,null,"",null,null,null,null,null,0]
[null,"PREVENCIÓN DE SALUD MENTAL ","PREVENCIÓN SUICIDIO",0,null,null,null,null,null,"",null,null,null,null,null,null,null,null,null,null,null,null,null,null,null,null,null,null,null,null,null,null,null,null,null,null,null,null,null,null,null,null,null,null,null,null,null,null,null,null,null,null,null,null,null,null,null,null,null,null,null,null,null,null,null,null,null,null,null,null,null,null,null,null,null,null,null,null,"",null,null,null,null,null,0]
[null,null,"PREVENCIÓN TRASTORNO MENTAL",0,null,null,null,null,null,"",null,null,null,null,null,null,null,null,null,null,null,null,null,null,null,null,null,null,null,null,null,null,null,null,null,null,null,null,null,null,null,null,null,null,null,null,null,null,null,null,null,null,null,null,null,null,null,null,null,null,null,null,null,null,null,null,null,null,null,null,null,null,null,null,null,null,null,null,"",null,null,null,null,null,0]
[null,"PREVENCIÓN ALCOHOL Y DROGAS",null,0,null,null,null,null,null,"",null,null,null,null,null,null,null,null,null,null,null,null,null,null,null,null,null,null,null,null,null,null,null,null,null,null,null,null,null,null,null,null,null,null,null,null,null,null,null,null,null,null,null,null,null,null,null,null,null,null,null,null,null,null,null,null,null,null,null,null,null,null,null,null,null,null,null,null,"",null,null,null,null,null,0]
[null,"ANTITABÁQUICA (excluye REM 23)",null,0,null,null,null,null,null,"",null,null,null,null,null,null,null,null,null,null,null,null,null,null,null,null,null,null,null,null,null,null,null,null,null,null,null,null,null,null,null,null,null,null,null,null,null,null,null,null,null,null,null,null,null,null,null,null,null,null,null,null,null,null,null,null,null,null,null,null,null,null,null,null,null,null,null,null,"",null,null,null,null,null,0]
[null,"PREVENCIÓN DE LA TRANSMISIÓN VERTICAL DE VIH-SÍFILIS",null,0,null,null,null,null,null,"",null,null,null,null,null,null,null,null,null,null,null,null,null,null,null,null,null,null,null,null,null,null,null,null,null,null,null,null,null,null,null,null,null,null,null,null,null,null,null,null,null,null,null,null,null,null,null,null,null,null,null,null,null,null,null,null,null,null,null,null,null,null,null,null,null,null,null,null,"",null,null,null,null,null,0]
[null,"OTRAS ÁREAS TEMÁTICAS",null,0,null,null,null,null,null,"",null,null,null,null,null,null,null,null,null,null,null,null,null,null,null,null,null,null,null,null,null,null,null,null,null,null,null,null,null,null,null,null,null,null,null,null,null,null,null,null,null,null,null,null,null,null,null,null,null,null,null,null,null,null,null,null,null,null,null,null,null,null,null,null,null,null,null,null,"",null,null,null,null,null,0]
[null,"EDUCACIÓN ESPECIAL EN ADULTO MAYOR","ESTIMULACIÓN DE MEMORIA",0,null,null,null,null,null,"",null,null,null,null,null,null,null,null,null,null,null,null,null,null,null,null,null,null,null,null,null,null,null,null,null,null,null,null,null,null,null,null,null,null,null,null,null,null,null,null,null,null,null,null,null,null,null,null,null,null,null,null,null,null,null,null,null,null,null,null,null,null,null,null,null,null,null,null,"",null,null,null,null,null,0]
[null,null,"PREVENCIÓN CAÍDAS",{"$f":"SUM(E79:H79)","v":0},null,null,null,null,null,"",null,null,null,null,null,null,null,null,null,null,null,null,null,null,null,null,null,null,null,null,null,null,null,null,null,null,null,null,null,null,null,null,null,null,null,null,null,null,null,null,null,null,null,null,null,null,null,null,null,null,null,null,null,null,null,null,null,null,null,null,null,null,null,null,null,null,null,null,"",null,null,null,null,null,0]
[null,null,"ESTIMULACIÓN DE ACTIVIDAD FÍSICA",0,null,null,null,null,null,"",null,null,null,null,null,null,null,null,null,null,null,null,null,null,null,null,null,null,null,null,null,null,null,null,null,null,null,null,null,null,null,null,null,null,null,null,null,null,null,null,null,null,null,null,null,null,null,null,null,null,null,null,null,null,null,null,null,null,null,null,null,null,null,null,null,null,null,null,"",null,null,null,null,null,0]
[null,null,"AUTO CUIDADO",{"$f":"SUM(E81:H81)","v":0},null,null,null,null,null,"",null,null,null,null,null,null,null,null,null,null,null,null,null,null,null,null,null,null,null,null,null,null,null,null,null,null,null,null,null,null,null,null,null,null,null,null,null,null,null,null,null,null,null,null,null,null,null,null,null,null,null,null,null,null,null,null,null,null,null,null,null,null,null,null,null,null,null,null,"",null,null,null,null,null,0]
[null,null,"OTRAS TEMATICAS",0,null,null,null,null,null,"",null,null,null,null,null,null,null,null,null,null,null,null,null,null,null,null,null,null,null,null,null,null,null,null,null,null,null,null,null,null,null,null,null,null,null,null,null,null,null,null,null,null,null,null,null,null,null,null,null,null,null,null,null,null,null,null,null,null,null,null,null,null,null,null,null,null,null,null,"",null,null,null,null,null,0]
[null,"USO RACIONAL DE MEDICAMENTOS",null,{"$f":"SUM(E83:H83)","v":0},null,null,null,null,null,"",null,null,null,null,null,null,null,null,null,null,null,null,null,null,null,null,null,null,null,null,null,null,null,null,null,null,null,null,null,null,null,null,null,null,null,null,null,null,null,null,null,null,null,null,null,null,null,null,null,null,null,null,null,null,null,null,null,null,null,null,null,null,null,null,null,null,null,null,"",null,null,null,null,null,0]
[null,"RESISTENCIA ANTIMICROBIANOS",null,{"$f":"SUM(E84:H84)","v":0},null,null,null,null,null,"",null,null,null,null,null,null,null,null,null,null,null,null,null,null,null,null,null,null,null,null,null,null,null,null,null,null,null,null,null,null,null,null,null,null,null,null,null,null,null,null,null,null,null,null,null,null,null,null,null,null,null,null,null,null,null,null,null,null,null,null,null,null,null,null,null,null,null,null,"",null,null,null,null,null,0]
[null,"TOTAL",null,{"$f":"SUM(E85:H85)","v":0},{"$f":"SUM(E51:E84)","v":0},{"$f":"SUM(F51:F84)","v":0},{"$f":"SUM(G51:G84)","v":0},{"$f":"SUM(H51:H84)","v":0},{"$f":"SUM(I51:I84)","v":0}]
["SECCIÓN C: ACTIVIDAD FÍSICA GRUPAL PARA PROGRAMA SALUD CARDIOVASCULAR (SESIONES)"]
["GRUPO DE EDAD",null,null,"TOTAL SESIONES","PROFESOR\nEDUCACIÓN FÍSICA","KINESIÓLOGO","OTROS PROFESIONALES","TÉCNICO PARAMÉDICO"]
["10 A 19 AÑOS",null,null,{"$f":"SUM(E88:H88)","v":0}]
["20 A 24 AÑOS",null,null,{"$f":"SUM(E89:H89)","v":0}]
["25 A 64 AÑOS",null,null,{"$f":"SUM(E90:H90)","v":0}]
["65 Y MÁS",null,null,{"$f":"SUM(E91:H91)","v":0}]
["TOTAL",null,null,{"$f":"SUM(E92:H92)","v":0},{"$f":"SUM(E88:E91)","v":0},{"$f":"SUM(F88:F91)","v":0},{"$f":"SUM(G88:G91)","v":0},{"$f":"SUM(H88:H91)","v":0}]
["SECCIÓN D: EDUCACIÓN GRUPAL A GESTANTES DE ALTO RIESGO OBSTÉTRICO (Nivel Secundario)"]
["TEMAS",null,null,"TOTAL \nSESIONES"]
["AUTOCUIDADO SEGÚN PATOLOGÍA"]
["PREPARACIÓN PARA EL PARTO"]
["TALLER DE EDUCACIÓN PRENATAL"]
["SECCIÓN E: TALLERES PROGRAMA \"MÁS A.M AUTOVALENTES\""]
["TALLER",null,null,"Nº DE SESIONES","Nº DE PARTICIPANTES"]
[]
["ESTIMULACIÓN DE FUNCIONES MOTORAS Y PREVENCIÓN DE CAÍDAS"]
["ESTIMULACIÓN DE FUNCIONES  COGNITIVA"]
["AUTOCUIDADO Y ESTILOS DE VIDA SALUDABLE"]
["SECCIÓN F: TALLERES PROGRAMA ELIGE VIDA SANA"]
["TALLER",null,null,"Nº DE SESIONES","Nº de Participantes","MADRE, PADRE O CUIDADOR DE :",null,"POR EDAD",null,null,null,null,null,null,null,null,null,null,null,null,null,"Gestantes","Post Parto"]
[null,null,null,null,null,"Menores de 1 año","Niños 12 a 23 meses","menor de 2 años","2 a 4 años","5 a 9 años","10 a 14 años","15 a 19 años","20 a 24 años","25 - 29 años","30 - 34 años","35 - 39 años","40 - 44 años","45 - 49 años","50 - 54 años","55 - 59 años","60 - 64 años"]
["CIRCULO DE ACTIVIDAD FÍSICA",null,null,null,{"$f":"+F107+G107+H107+I107+J107+K107+L107+M107+N107+O107+P107+Q107+R107+S107+T107+U107","v":0},null,null,null,null,null,null,null,null,null,null,null,null,null,null,null,null,null,null,{"$f":"CA107&CB107","v":""},null,null,null,null,null,null,null,null,null,null,null,null,null,null,null,null,null,null,null,null,null,null,null,null,null,null,null,null,null,null,null,null,null,null,null,null,null,null,null,null,null,null,null,null,null,null,null,null,null,null,null,null,null,null,{"$f":"IF(CG107=1,\" * No olvide agregar la columna Gestantes y/o Post Parto (Digite Cero si no tiene). \",\"\")","v":""},{"$f":"IF(CH107=1,\" * La suma de Gestantes y Post Parto debe ser menor o igual al total de participantes.\",\"\")","v":""},null,null,null,null,{"$f":"IF(AND(E107<>0,OR(V107=\"\",W107=\"\")),1,0)","v":0},{"$f":"IF((V107+W107)>E107,1,0)","v":0}]
["CIRCULO DE VIDA SANA",null,null,null,{"$f":"+F108+G108+H108+I108+J108+K108+L108+M108+N108+O108+P108+Q108+R108+S108+T108+U108","v":0},null,null,null,null,null,null,null,null,null,null,null,null,null,null,null,null,null,null,{"$f":"CA108&CB108","v":""},null,null,null,null,null,null,null,null,null,null,null,null,null,null,null,null,null,null,null,null,null,null,null,null,null,null,null,null,null,null,null,null,null,null,null,null,null,null,null,null,null,null,null,null,null,null,null,null,null,null,null,null,null,null,{"$f":"IF(CG108=1,\" * No olvide agregar la columna Gestantes y/o Post Parto (Digite Cero si no tiene). \",\"\")","v":""},{"$f":"IF(CH108=1,\" * La suma de Gestantes y Post Parto debe ser menor o igual al total de participantes.\",\"\")","v":""},null,null,null,null,{"$f":"IF(AND(E108<>0,OR(V108=\"\",W108=\"\")),1,0)","v":0},{"$f":"IF((V108+W108)>E108,1,0)","v":0}]
["ACTIVIDADES MASIVAS",null,null,null,{"$f":"+F109+G109+H109+I109+J109+K109+L109+M109+N109+O109+P109+Q109+R109+S109+T109+U109","v":0},null,null,null,null,null,null,null,null,null,null,null,null,null,null,null,null,null,null,{"$f":"CA109&CB109","v":""},null,null,null,null,null,null,null,null,null,null,null,null,null,null,null,null,null,null,null,null,null,null,null,null,null,null,null,null,null,null,null,null,null,null,null,null,null,null,null,null,null,null,null,null,null,null,null,null,null,null,null,null,null,null,{"$f":"IF(CG109=1,\" * No olvide agregar la columna Gestantes y/o Post Parto (Digite Cero si no tiene). \",\"\")","v":""},{"$f":"IF(CH109=1,\" * La suma de Gestantes y Post Parto debe ser menor o igual al total de participantes.\",\"\")","v":""},null,null,null,null,{"$f":"IF(AND(E109<>0,OR(V109=\"\",W109=\"\")),1,0)","v":0},{"$f":"IF((V109+W109)>E109,1,0)","v":0}]
["SECCIÓN G: INTERVENCIONES POR PATRÓN DE CONSUMO DE ALCOHOL, TABACO Y OTRAS DROGAS"]
["TIPO DE INTERVENCIÓN",null,null,"Nº DE INTERVENCIONES","POR EDAD",null,null,null,null,null,"SEXO"]
[null,null,null,null,"10-14 años","15-19 años","20-24 años","25-44 años","45-64 años","65 o más","Hombres","Mujeres"]
["INTERVENCIÓN MÍNIMA\n(BAJO RIESGO)",null," ALCOHOL",{"$f":"SUM(E113:J113)","v":0},null,null,null,null,null,null,null,null,{"$f":"CA113","v":""},null,null,null,null,null,null,null,null,null,null,null,null,null,null,null,null,null,null,null,null,null,null,null,null,null,null,null,null,null,null,null,null,null,null,null,null,null,null,null,null,null,null,null,null,null,null,null,null,null,null,null,null,null,null,null,null,null,null,null,null,null,null,null,null,null,{"$f":"IF(CG113=1,\"* La Suma por edad NO DEBE ser distinto al total por Sexo. \",\"\")","v":""},null,null,null,null,null,{"$f":"IF((K113+L113)<>(E113+F113+G113+H113+I113+J113),1,0)","v":0}]
[null,null," TABACO",{"$f":"SUM(E114:J114)","v":0},null,null,null,null,null,null,null,null,{"$f":"CA114","v":""},null,null,null,null,null,null,null,null,null,null,null,null,null,null,null,null,null,null,null,null,null,null,null,null,null,null,null,null,null,null,null,null,null,null,null,null,null,null,null,null,null,null,null,null,null,null,null,null,null,null,null,null,null,null,null,null,null,null,null,null,null,null,null,null,null,{"$f":"IF(CG114=1,\"* La Suma por edad NO DEBE ser distinto al total por Sexo. \",\"\")","v":""},null,null,null,null,null,{"$f":"IF((K114+L114)<>(E114+F114+G114+H114+I114+J114),1,0)","v":0}]
[null,null," DROGAS",0,null,null,null,null,null,null,null,null,"",null,null,null,null,null,null,null,null,null,null,null,null,null,null,null,null,null,null,null,null,null,null,null,null,null,null,null,null,null,null,null,null,null,null,null,null,null,null,null,null,null,null,null,null,null,null,null,null,null,null,null,null,null,null,null,null,null,null,null,null,null,null,null,null,null,"",null,null,null,null,null,0]
["INTERVENCIÓN BREVE O MOTIVACIONAL\n(RIESGO)",null," ALCOHOL",0,null,null,null,null,null,null,null,null,"",null,null,null,null,null,null,null,null,null,null,null,null,null,null,null,null,null,null,null,null,null,null,null,null,null,null,null,null,null,null,null,null,null,null,null,null,null,null,null,null,null,null,null,null,null,null,null,null,null,null,null,null,null,null,null,null,null,null,null,null,null,null,null,null,null,"",null,null,null,null,null,0]
[null,null," TABACO",0,null,null,null,null,null,null,null,null,"",null,null,null,null,null,null,null,null,null,null,null,null,null,null,null,null,null,null,null,null,null,null,null,null,null,null,null,null,null,null,null,null,null,null,null,null,null,null,null,null,null,null,null,null,null,null,null,null,null,null,null,null,null,null,null,null,null,null,null,null,null,null,null,null,null,"",null,null,null,null,null,0]
[null,null," DROGAS",0,null,null,null,null,null,null,null,null,"",null,null,null,null,null,null,null,null,null,null,null,null,null,null,null,null,null,null,null,null,null,null,null,null,null,null,null,null,null,null,null,null,null,null,null,null,null,null,null,null,null,null,null,null,null,null,null,null,null,null,null,null,null,null,null,null,null,null,null,null,null,null,null,null,null,"",null,null,null,null,null,0]
["INTERVENCIÓN REFERENCIA ASISTIDA\n(PERJUDICIAL O DEPENDENCIA)",null," ALCOHOL",0,null,null,null,null,null,null,null,null,"",null,null,null,null,null,null,null,null,null,null,null,null,null,null,null,null,null,null,null,null,null,null,null,null,null,null,null,null,null,null,null,null,null,null,null,null,null,null,null,null,null,null,null,null,null,null,null,null,null,null,null,null,null,null,null,null,null,null,null,null,null,null,null,null,null,"",null,null,null,null,null,0]
[null,null," TABACO",{"$f":"SUM(E120:J120)","v":0},null,null,null,null,null,null,null,null,"",null,null,null,null,null,null,null,null,null,null,null,null,null,null,null,null,null,null,null,null,null,null,null,null,null,null,null,null,null,null,null,null,null,null,null,null,null,null,null,null,null,null,null,null,null,null,null,null,null,null,null,null,null,null,null,null,null,null,null,null,null,null,null,null,null,"",null,null,null,null,null,0]
[null,null," DROGAS",0,null,null,null,null,null,null,null,null,"",null,null,null,null,null,null,null,null,null,null,null,null,null,null,null,null,null,null,null,null,null,null,null,null,null,null,null,null,null,null,null,null,null,null,null,null,null,null,null,null,null,null,null,null,null,null,null,null,null,null,null,null,null,null,null,null,null,null,null,null,null,null,null,null,null,"",null,null,null,null,null,{"$f":"IF((K121+L121)<>(E121+F121+G121+H121+I121+J121),1,0)","v":0}]
["SECCIÓN H: PERSONAS QUE INGRESAN A TALLERES PARA PADRES DEL PROGRAMA DE APOYO A LA SALUD MENTAL INFANTIL (PASMI)"]
["CONCEPTO","Total de Padres, Madres o Cuidadores de 5 a 9 años","Total de talleres","Total de sesiones"]
["Taller Nadie es Perfecto (PASMI)"]
["SECCIÓN I: ORGANIZACIONES SOCIALES DE LA RED DEL PROGRAMA MÁS ADULTOS MAYORES AUTOVALENTES"]
["CONCEPTO","POR TIPO DE ORGANIZACIÓN"]
[null,"N° Total de Organizaciones","Clubes de Adultos Mayores","Centros de Madres","Clubes Deportivos","Uniones Comunales de Adultos Mayores","Junta de Vecinos","Organizaciones Informales","Otras organizaciones Formales"]
["Organizaciones ingresadas al programa de estimilación funcional del programa más adultos mayores autovalentes \n",{"$f":"SUM(C128:I128)","v":0}]
["Organizaciones con lideres comunitarios capcitados por el programa más adultos mayores autovalentes",{"$f":"SUM(C129:I129)","v":0}]
["SECCIÓN J: SERVICIOS DE LA RED DEL PROGRAMA MÁS ADULTOS MAYORES AUTOVALENTES"]
["CONCEPTO","N° Total de Servicios","POR TIPO DE SERVICIO"]
[null,null,"Unidad Municipal de Personas Mayores ","Unidad Municipal de Atención Social","Unidad Municipal de Deportes","Unidad Municipal Turismo","Unidad Municipal Educación","Biblioteca Municipal","Unidad Cultural Municipal","Otras Unidades Municipales","Escuelas o Colegios","Universidades","Otras Unidades externas al Municipio"]
["Servicios Locales con oferta programatica para personas mayores (total o parcial)",{"$f":"SUM(C133:M133)","v":0}]
["Servicios locales con planes intersectoriales para el fomento del autocuidado y estimulación funcionaldel desarrollo junto al programa mas adultos mayores autovalentes",{"$f":"SUM(C134:M134)","v":0}]
["SECCIÓN K: TALLERES GRUPALES  DE LACTANCIA MATERNA EN ATENCIÓN PRIMARIA "]
["CONCEPTO","Nº DE TALLERES","POR RANGO ETARIO",null,null,null,"Pueblos Originarios","Migrantes"]
[null,null," De 0 a 29 días","De 1 mes a 2 meses 29 días","De 3 meses a 5 meses 29 días","De 6 meses a 11 meses 29 días"]
["Número de Talleres de Lactancia Materna realziada en Atención Primaria a menores de un año",null,null,null,null,null,null,null,{"$f":"CA138&CB138&CC138&CD138","v":""},null,null,null,null,null,null,null,null,null,null,null,null,null,null,null,null,null,null,null,null,null,null,null,null,null,null,null,null,null,null,null,null,null,null,null,null,null,null,null,null,null,null,null,null,null,null,null,null,null,null,null,null,null,null,null,null,null,null,null,null,null,null,null,null,null,null,null,null,null,{"$f":"IF(CG138=1,\"* No olvide ingresar la columna Pueblos Originarios (Digite cero si no tiene). \",\"\")","v":""},{"$f":"IF(CH138=1,\"* No olvide ingresar la columna Migrantes (Digite cero si no tiene). \",\"\")","v":""},{"$f":"IF(CI138=1,\"* El total de Pueblos Originarios NO DEBE superar la suma por grupo de edad. \",\"\")","v":""},{"$f":"IF(CJ138=1,\"* El total de Migrantes NO DEBE superar la suma por grupo de edad\",\"\")","v":""},null,null,{"$f":"IF(AND(G138=\"\",SUM(C138:F138)<>0),1,0)","v":0},{"$f":"IF(AND(H138=\"\",SUM(C138:F138)<>0),1,0)","v":0},{"$f":"IF(SUM(C138:F138)<G138,1,0)","v":0},{"$f":"IF(SUM(C138:F138)<H138,1,0)","v":0}]
["Número de participantes de Talleres de Lactancia Materna en Atención Primaria a Menores de un año",null,null,null,null,null,null,null,{"$f":"CA139&CB139&CC139&CD139","v":""},null,null,null,null,null,null,null,null,null,null,null,null,null,null,null,null,null,null,null,null,null,null,null,null,null,null,null,null,null,null,null,null,null,null,null,null,null,null,null,null,null,null,null,null,null,null,null,null,null,null,null,null,null,null,null,null,null,null,null,null,null,null,null,null,null,null,null,null,null,{"$f":"IF(CG139=1,\"* No olvide ingresar la columna Pueblos Originarios (Digite cero si no tiene). \",\"\")","v":""},{"$f":"IF(CH139=1,\"* No olvide ingresar la columna Migrantes (Digite cero si no tiene). \",\"\")","v":""},{"$f":"IF(CI139=1,\"* El total de Pueblos Originarios NO DEBE superar la suma por grupo de edad. \",\"\")","v":""},{"$f":"IF(CJ139=1,\"* El total de Migrantes NO DEBE superar la suma por grupo de edad\",\"\")","v":""},null,null,{"$f":"IF(AND(G139=\"\",SUM(C139:F139)<>0),1,0)","v":0},{"$f":"IF(AND(H139=\"\",SUM(C139:F139)<>0),1,0)","v":0},{"$f":"IF(SUM(C139:F139)<G139,1,0)","v":0},{"$f":"IF(SUM(C139:F139)<H139,1,0)","v":0}]
["SECCIÓN L: INTERVENCIONES POSTERIOR AL TAMIZAJE DE SALUD MENTAL"]
["TIPO DE INTERVENCIÓN",null,null,"Nº DE INTERVENCIONES","POR EDAD",null,null,null,null,null,null,null,null,null,"SEXO"]
[null,null,null,null,"0-4 años","5-9 años","10-14 años","15-19 años","20-24 años","25-44 años","45-64 años","65-69 años","70-79 años","80 y más años","Hombres","Mujeres"]
["CONSEJERÍA EN CONTEXTO DE TAMIZAJE",null,"Nº DE M-CHAT-R/F",{"$f":"+E143","v":0},null,null,null,null,null,null,null,null,null,null,null,null,{"$f":"CA143","v":""},null,null,null,null,null,null,null,null,null,null,null,null,null,null,null,null,null,null,null,null,null,null,null,null,null,null,null,null,null,null,null,null,null,null,null,null,null,null,null,null,null,null,null,null,null,null,null,null,null,null,null,null,null,null,null,null,null,null,null,null,null,{"$f":"IF(CG143=1,\" * El Total por sexo Debe ser igual al total de las intervenciones. \",\"\")","v":""},null,null,null,null,null,{"$f":"IF((O143+P143)<>D143,1,0)","v":0}]
[null,null,"Nº de Cuestionario PSC-17",{"$f":"+F144","v":0},null,null,null,null,null,null,null,null,null,null,null,null,{"$f":"CA144","v":""},null,null,null,null,null,null,null,null,null,null,null,null,null,null,null,null,null,null,null,null,null,null,null,null,null,null,null,null,null,null,null,null,null,null,null,null,null,null,null,null,null,null,null,null,null,null,null,null,null,null,null,null,null,null,null,null,null,null,null,null,null,{"$f":"IF(CG144=1,\" * El Total por sexo Debe ser igual al total de las intervenciones. \",\"\")","v":""},null,null,null,null,null,{"$f":"IF((O144+P144)<>D144,1,0)","v":0}]
[null,null,"Nº de Cuestionario PSC-Y-17",{"$f":"+G145","v":0},null,null,null,null,null,null,null,null,null,null,null,null,"",null,null,null,null,null,null,null,null,null,null,null,null,null,null,null,null,null,null,null,null,null,null,null,null,null,null,null,null,null,null,null,null,null,null,null,null,null,null,null,null,null,null,null,null,null,null,null,null,null,null,null,null,null,null,null,null,null,null,null,null,null,"",null,null,null,null,null,0]
[null,null,"N° de Cuestionario PHQ-9 modificado para Adolescentes",{"$f":"+H146","v":0},null,null,null,null,null,null,null,null,null,null,null,null,"",null,null,null,null,null,null,null,null,null,null,null,null,null,null,null,null,null,null,null,null,null,null,null,null,null,null,null,null,null,null,null,null,null,null,null,null,null,null,null,null,null,null,null,null,null,null,null,null,null,null,null,null,null,null,null,null,null,null,null,null,null,"",null,null,null,null,null,0]
[null,null,"N° de Cuestionario PHQ-9 para Adultos ",{"$f":"+I147+J147+K147","v":0},null,null,null,null,null,null,null,null,null,null,null,null,"",null,null,null,null,null,null,null,null,null,null,null,null,null,null,null,null,null,null,null,null,null,null,null,null,null,null,null,null,null,null,null,null,null,null,null,null,null,null,null,null,null,null,null,null,null,null,null,null,null,null,null,null,null,null,null,null,null,null,null,null,null,"",null,null,null,null,null,0]
[null,null,"N° de Escala CAPE-P15",{"$f":"+G148+H148+I148","v":0},null,null,null,null,null,null,null,null,null,null,null,null,"",null,null,null,null,null,null,null,null,null,null,null,null,null,null,null,null,null,null,null,null,null,null,null,null,null,null,null,null,null,null,null,null,null,null,null,null,null,null,null,null,null,null,null,null,null,null,null,null,null,null,null,null,null,null,null,null,null,null,null,null,null,"",null,null,null,null,null,0]
[null,null,"N° de escala de Columbia ",{"$f":"+G149+H149+I149","v":0},null,null,null,null,null,null,null,null,null,null,null,null,"",null,null,null,null,null,null,null,null,null,null,null,null,null,null,null,null,null,null,null,null,null,null,null,null,null,null,null,null,null,null,null,null,null,null,null,null,null,null,null,null,null,null,null,null,null,null,null,null,null,null,null,null,null,null,null,null,null,null,null,null,null,"",null,null,null,null,null,0]
[null,null,"N° de Escala de Depresión Geriatríca de  YESAVAGE GDS-15",{"$f":"+L150+M150+N150","v":0},null,null,null,null,null,null,null,null,null,null,null,null,"",null,null,null,null,null,null,null,null,null,null,null,null,null,null,null,null,null,null,null,null,null,null,null,null,null,null,null,null,null,null,null,null,null,null,null,null,null,null,null,null,null,null,null,null,null,null,null,null,null,null,null,null,null,null,null,null,null,null,null,null,null,"",null,null,null,null,null,0]
["REFERENCIA ASISTIDA EN CONTEXTO DE TAMIZAJE",null,"Nº DE M-CHAT-R/F",{"$f":"+E151","v":0},null,null,null,null,null,null,null,null,null,null,null,null,"",null,null,null,null,null,null,null,null,null,null,null,null,null,null,null,null,null,null,null,null,null,null,null,null,null,null,null,null,null,null,null,null,null,null,null,null,null,null,null,null,null,null,null,null,null,null,null,null,null,null,null,null,null,null,null,null,null,null,null,null,null,"",null,null,null,null,null,0]
[null,null,"Nº de Cuestionario PSC-17",{"$f":"+F152","v":0},null,null,null,null,null,null,null,null,null,null,null,null,"",null,null,null,null,null,null,null,null,null,null,null,null,null,null,null,null,null,null,null,null,null,null,null,null,null,null,null,null,null,null,null,null,null,null,null,null,null,null,null,null,null,null,null,null,null,null,null,null,null,null,null,null,null,null,null,null,null,null,null,null,null,"",null,null,null,null,null,0]
[null,null,"Nº de Cuestionario PSC-Y-17",{"$f":"+G153","v":0},null,null,null,null,null,null,null,null,null,null,null,null,"",null,null,null,null,null,null,null,null,null,null,null,null,null,null,null,null,null,null,null,null,null,null,null,null,null,null,null,null,null,null,null,null,null,null,null,null,null,null,null,null,null,null,null,null,null,null,null,null,null,null,null,null,null,null,null,null,null,null,null,null,null,"",null,null,null,null,null,0]
[null,null,"N° de Cuestionario PHQ-9 modificado para Adolescentes",{"$f":"+H154","v":0},null,null,null,null,null,null,null,null,null,null,null,null,"",null,null,null,null,null,null,null,null,null,null,null,null,null,null,null,null,null,null,null,null,null,null,null,null,null,null,null,null,null,null,null,null,null,null,null,null,null,null,null,null,null,null,null,null,null,null,null,null,null,null,null,null,null,null,null,null,null,null,null,null,null,"",null,null,null,null,null,0]
[null,null,"N° de Cuestionario PHQ-9 para Adultos ",{"$f":"+I155+J155+K155","v":0},null,null,null,null,null,null,null,null,null,null,null,null,"",null,null,null,null,null,null,null,null,null,null,null,null,null,null,null,null,null,null,null,null,null,null,null,null,null,null,null,null,null,null,null,null,null,null,null,null,null,null,null,null,null,null,null,null,null,null,null,null,null,null,null,null,null,null,null,null,null,null,null,null,null,"",null,null,null,null,null,0]
[null,null,"N° de Escala CAPE-P15",{"$f":"+G156+H156+I156","v":0},null,null,null,null,null,null,null,null,null,null,null,null,"",null,null,null,null,null,null,null,null,null,null,null,null,null,null,null,null,null,null,null,null,null,null,null,null,null,null,null,null,null,null,null,null,null,null,null,null,null,null,null,null,null,null,null,null,null,null,null,null,null,null,null,null,null,null,null,null,null,null,null,null,null,"",null,null,null,null,null,0]
[null,null,"N° de escala de Columbia ",{"$f":"+G157+H157+I157","v":0},null,null,null,null,null,null,null,null,null,null,null,null,"",null,null,null,null,null,null,null,null,null,null,null,null,null,null,null,null,null,null,null,null,null,null,null,null,null,null,null,null,null,null,null,null,null,null,null,null,null,null,null,null,null,null,null,null,null,null,null,null,null,null,null,null,null,null,null,null,null,null,null,null,null,"",null,null,null,null,null,0]
[null,null,"N° de Escala de Depresión Geriatríca de  YESAVAGE GDS-15",{"$f":"+L158+M158+N158","v":0},null,null,null,null,null,null,null,null,null,null,null,null,"",null,null,null,null,null,null,null,null,null,null,null,null,null,null,null,null,null,null,null,null,null,null,null,null,null,null,null,null,null,null,null,null,null,null,null,null,null,null,null,null,null,null,null,null,null,null,null,null,null,null,null,null,null,null,null,null,null,null,null,null,null,"",null,null,null,null,null,0]
["SECCIÓN M: TRABAJO SECTORIAL DE INFORMACIÓN Y SENSIBILIZACIÓN PRAIS"]
["ÁREAS TEMÁTICAS DE PREVENCIÓN",null,null,"TOTAL","Un Profesional","Dos o más profesioanles ","Un profesional y un Técnico en Enfermería ","Técnico en Enfermería ","Facilitador/a Intercultural Pueblos Originarios "]
["EDUCACIÓN DE GRUPO","ESTIMULACIÓN DESARROLLO PSICOMOTOR",null,{"$f":"SUM(E161:H161)","v":0}]
[null,"NUTRICIÓN","RIESGO DE MALNUTRICIÓN POR EXCESO",0]
[null,null,"MALNUTRICIÓN POR EXCESO",0]
[null,null,"MALNUTRICIÓN DE DÉFICIT",0]
[null,null,"SIN RIESGO DE MALNUTRICIÓN",0]
[null,"PREVENCIÓN DE IRA - ERA",null,0]
[null,"PREVENCIÓN DE ACCIDENTES",null,0]
[null,"SALUD BUCO-DENTAL",null,0]
[null,"PREVENCIÓN VIOLENCIA DE GÉNERO",null,0]
[null,"SALUD SEXUAL Y REPRODUCTIVA",null,0]
[null,"TALLERES DE CLIMATERIO",null,0]
[null,"EDUCACIÓN PRENATAL (NUTRICIÓN - LACTANCIA - CRIANZA - AUTOCUIDADO - PREPARACIÓN PARTO Y OTROS)",null,0]
[null,"VISITA GUIADA A LA MATERNIDAD",null,{"$f":"SUM(E173:H173)","v":0}]
[null,"PROMOCIÓN DE SALUD MENTAL",null,0]
[null,"PROMOCIÓN DEL DESARROLLO INFANTIL TEMPRANO","DEL LENGUAJE",0]
[null,null,"MOTOR",0]
[null,null,"OTROS",0]
[null,"HABILIDADES PARENTALES","NADIE ES PERFECTO",0]
[null,null,"FAMILIAS FUERTES",0]
[null,null,"OTROS",0]
[null,"APOYO MADRE A MADRE",null,0]
[null,"PREVENCIÓN DE SALUD MENTAL ","PREVENCIÓN SUICIDIO",0]
[null,null,"PREVENCIÓN TRASTORNO MENTAL",0]
[null,"PREVENCIÓN ALCOHOL Y DROGAS",null,0]
[null,"ANTITABÁQUICA (excluye REM 23)",null,0]
[null,"PREVENCIÓN DE LA TRANSMISIÓN VERTICAL DE VIH-SÍFILIS",null,0]
[null,"OTRAS ÁREAS TEMÁTICAS",null,0]
[null,"EDUCACIÓN ESPECIAL EN ADULTO MAYOR","ESTIMULACIÓN DE MEMORIA",0]
[null,null,"PREVENCIÓN CAÍDAS",0]
[null,null,"ESTIMULACIÓN DE ACTIVIDAD FÍSICA",0]
[null,"USO RACIONAL DE MEDICAMENTOS",null,{"$f":"SUM(E191:H191)","v":0}]
[null,"RESISTENCIA ANTIMICROBIANOS",null,{"$f":"SUM(E192:H192)","v":0}]
[null,"TOTAL",null,{"$f":"SUM(E193:H193)","v":0},{"$f":"SUM(E161:E192)","v":0},{"$f":"SUM(F161:F192)","v":0},{"$f":"SUM(G161:G192)","v":0},{"$f":"SUM(H161:H192)","v":0},{"$f":"SUM(I161:I192)","v":0}]
["SECCIÓN N: EDUCACIÓN PARA PROGRAMA DE SALUD CARDIOVASCULAR",null,null,null,null,null," "]
["TIPO DE EDUCACIÓN","PROFESIONAL/OTROS","TOTAL",null,null,"POR EDAD ",null,null,null,null,null,null,null,null,null,null,null,null,null,null,null,null,null,null,null,null,null,null,null,null,null,null,null,"Beneficiarios"]
[null,null,null,null,null,"15 a 19 años",null,"20 - 24 años",null,"25 - 29 años",null,"30 - 34 años",null,"35 - 39 años",null,"40 - 44 años",null,"45 - 49 años",null,"50 - 54 años",null,"55 - 59 años",null,"60 - 64 años",null,"65 - 69 años",null,"70 - 74 años",null,"75 - 79 años",null,"80 y mas años"]
[null,null,"Ambos Sexos","Hombres","Mujeres","Hombres","Mujeres","Hombres","Mujeres","Hombres","Mujeres","Hombres","Mujeres","Hombres","Mujeres","Hombres","Mujeres","Hombres","Mujeres","Hombres","Mujeres","Hombres","Mujeres","Hombres","Mujeres","Hombres","Mujeres","Hombres","Mujeres","Hombres","Mujeres","Hombres","Mujeres"]
["INDIVIDUAL","MÉDICO/A",{"$f":"SUM(D198:E198)","v":0},{"$f":"+F198+H198+J198+L198+N198+P198+R198+T198+V198+X198+Z198+AB198+AD198+AF198","v":0},0,null,null,null,null,null,null,null,null,null,null,null,null,null,null,null,null,null,null,null,null,null,null,null,null,null,null,null,null,null,{"$f":"CA198&CB198","v":""},null,null,null,null,null,null,null,null,null,null,null,null,null,null,null,null,null,null,null,null,null,null,null,null,null,null,null,null,null,null,null,null,null,null,null,null,null,null,null,null,null,null,null,{"$f":"IF(CG198=1,\"* No olvide ingresar la columna Beneficiarios (Digite cero si no tiene). \",\"\")","v":""},{"$f":"IF(CH198=1,\"* El total de Beneficiarios NO DEBE superar el total por sexo. \",\"\")","v":""},null,null,null,null,{"$f":"IF(AND(AH198=\"\",C198<>0),1,0)","v":0},{"$f":"IF(C198<AH198,1,0)","v":0}]
[null,"ENFERMERA/O",0,0,0,null,null,null,null,null,null,null,null,null,null,null,null,null,null,null,null,null,null,null,null,null,null,null,null,null,null,null,null,null,"",null,null,null,null,null,null,null,null,null,null,null,null,null,null,null,null,null,null,null,null,null,null,null,null,null,null,null,null,null,null,null,null,null,null,null,null,null,null,null,null,null,null,null,"","",null,null,null,null,0,0]
[null,"NUTRICIONISTA",0,0,0,null,null,null,null,null,null,null,null,null,null,null,null,null,null,null,null,null,null,null,null,null,null,null,null,null,null,null,null,null,"",null,null,null,null,null,null,null,null,null,null,null,null,null,null,null,null,null,null,null,null,null,null,null,null,null,null,null,null,null,null,null,null,null,null,null,null,null,null,null,null,null,null,null,"","",null,null,null,null,0,0]
[null,"PODÓLOGA/O  CLINICO",0,0,0,null,null,null,null,null,null,null,null,null,null,null,null,null,null,null,null,null,null,null,null,null,null,null,null,null,null,null,null,null,"",null,null,null,null,null,null,null,null,null,null,null,null,null,null,null,null,null,null,null,null,null,null,null,null,null,null,null,null,null,null,null,null,null,null,null,null,null,null,null,null,null,null,null,"","",null,null,null,null,0,0]
[null,"TÉCNICO EN ENFERMERÍA",0,0,0,null,null,null,null,null,null,null,null,null,null,null,null,null,null,null,null,null,null,null,null,null,null,null,null,null,null,null,null,null,"",null,null,null,null,null,null,null,null,null,null,null,null,null,null,null,null,null,null,null,null,null,null,null,null,null,null,null,null,null,null,null,null,null,null,null,null,null,null,null,null,null,null,null,"","",null,null,null,null,0,0]
["TALLER GRUPAL","EQUIPO MULTIDISCIPLINARIO",0,0,0,null,null,null,null,null,null,null,null,null,null,null,null,null,null,null,null,null,null,null,null,null,null,null,null,null,null,null,null,null,"",null,null,null,null,null,null,null,null,null,null,null,null,null,null,null,null,null,null,null,null,null,null,null,null,null,null,null,null,null,null,null,null,null,null,null,null,null,null,null,null,null,null,null,"","",null,null,null,null,0,0]
[]
[]
[]
[]
[]
[]
[]
[]
[]
[]
[]
[]
[]
[]
[]
[]
[]
[]
[{"$f":"SUM(D48,D85,D92,D95:D97,D101:E103,D107:E109,D113:D121,B124:D124,B128:B129,B133:B134,B138:F139,D143:D158,D193,C203)","v":0},{"$f":"SUM(CG11:CJ203)","v":0}]

{"sheet":"A28","index":20,"n_rows":364,"n_cols":89,"rows_kept":364,"cut":false,"hidden":false,"merged":[[183,19,183,23],[184,19,184,21],[184,22,184,23],[183,2,184,18],[144,19,144,21],[145,20,145,21],[145,19,146,19],[26,13,26,14],[26,5,26,6],[26,7,26,8],[61,23,61,25],[61,19,61,22],[69,19,69,22],[145,18,146,18],[145,9,146,9],[145,10,146,10],[145,11,146,11],[145,12,146,12],[145,13,146,13],[145,15,146,15],[145,16,146,16],[145,17,146,17],[145,2,146,2],[145,14,146,14],[144,1,146,1],[145,3,146,3],[145,4,146,4],[145,5,146,5],[145,6,146,6],[145,7,146,7],[25,2,26,4],[25,5,25,38],[26,37,26,38],[26,35,26,36],[124,8,124,9],[51,2,51,5],[26,9,26,10],[26,11,26,12],[61,1,62,1],[69,1,70,1],[130,0,134,0],[51,0,53,0],[126,0,129,0],[124,2,124,3],[118,5,119,5],[118,2,118,4],[118,6,119,6],[26,27,26,28],[51,6,51,8],[52,6,53,6],[52,7,53,7],[52,8,53,8],[25,0,27,0],[113,2,113,5],[118,7,118,10],[26,25,26,26],[61,0,62,0],[69,0,70,0],[26,40,27,40],[10,38,11,38],[26,39,27,39],[25,39,25,42],[26,41,27,41],[26,42,27,42],[5,0,5,13],[9,0,11,0],[9,1,10,3],[10,32,10,33],[10,34,10,35],[10,36,10,37],[26,29,26,30],[10,30,10,31],[10,24,10,25],[10,10,10,11],[10,14,10,15],[10,16,10,17],[286,0,287,0],[51,1,53,1],[183,0,185,0],[250,0,251,0],[144,0,146,0],[250,1,251,1],[52,4,53,4],[52,5,53,5],[118,1,119,1],[124,0,125,0],[124,1,125,1],[124,4,124,5],[118,0,119,0],[256,0,257,0],[113,0,114,0],[52,3,53,3],[113,1,114,1],[286,1,287,1],[206,1,208,1],[206,2,207,18],[256,2,256,18],[286,2,286,18],[135,0,140,0],[124,6,124,7],[206,19,206,23],[207,19,207,21],[207,22,207,23],[206,0,208,0],[256,1,257,1],[250,2,250,18],[9,43,11,43],[10,28,10,29],[9,38,9,41],[195,0,197,0],[145,8,146,8],[144,2,144,18],[69,23,69,25],[52,2,53,2],[113,6,113,8],[124,10,124,12],[196,22,196,23],[195,19,195,23],[196,19,196,21],[61,2,61,18],[69,2,69,18],[183,1,185,1],[195,1,197,1],[195,2,196,18],[9,44,11,44],[9,42,11,42],[29,0,47,0],[9,4,9,37],[25,1,27,1],[28,0,28,1],[10,26,10,27],[10,12,10,13],[10,22,10,23],[10,4,10,5],[10,6,10,7],[10,8,10,9],[26,15,26,16],[26,17,26,18],[26,19,26,20],[26,21,26,22],[10,41,11,41],[10,40,11,40],[26,31,26,32],[26,33,26,34],[10,39,11,39],[10,18,10,19],[10,20,10,21],[26,23,26,24]]}
["SERVICIO DE SALUD"]
[{"$f":"CONCATENATE(\"COMUNA: \",NOMBRE!B2,\" - \",\"( \",NOMBRE!C2,NOMBRE!D2,NOMBRE!E2,NOMBRE!F2,NOMBRE!G2,\" )\")","v":"COMUNA:  - (  )"}]
[{"$f":"CONCATENATE(\"ESTABLECIMIENTO/ESTRATEGIA: \",NOMBRE!B3,\" - \",\"( \",NOMBRE!C3,NOMBRE!D3,NOMBRE!E3,NOMBRE!F3,NOMBRE!G3,NOMBRE!H3,\" )\")","v":"ESTABLECIMIENTO/ESTRATEGIA:  - (  )"}]
[{"$f":"CONCATENATE(\"MES: \",NOMBRE!B6,\" - \",\"( \",NOMBRE!C6,NOMBRE!D6,\" )\")","v":"MES:  - (  )"}]
[{"$f":"CONCATENATE(\"AÑO: \",NOMBRE!B7)","v":"AÑO: 2023"}]
["REM-28. REHABILITACIÓN INTEGRAL"]
[]
["SECCIÓN A:  ATENCIONES DE REHABILITACIÓN NIVEL PRIMARIO  "]
["SECCIÓN A.1: INGRESOS Y EGRESOS  A ATENCIONES DE REHABILITACIÓN EN EL NIVEL PRIMARIO "]
["TIPO DE INGRESO","TOTAL",null,null,"POR EDAD (en años)",null,null,null,null,null,null,null,null,null,null,null,null,null,null,null,null,null,null,null,null,null,null,null,null,null,null,null,null,null,null,null,null,null,"TIPO DE ESTRATEGIA ",null,null,null,"Personas con discapacidad (con RND)","Pueblos Originarios","Migrantes"]
[null,null,null,null,"0 a 4 años",null,"5 a 9 años",null,"10 - 14",null,"15 - 19 ",null,"20 - 24 ",null,"25-29",null,"30-34",null,"35 - 39",null,"40 - 44",null,"45- 49",null,"50 - 54",null,"55 - 59",null,"60 - 64",null,"65 - 69",null,"70 - 74",null,"75 - 79",null,"80 y mas",null,"Rehabilitación Infantil","Rehabilitación Base Comunitaria (RBC)","Rehabilitación Integral(RI)","Rehabilitación Rural (RR)"]
[null,"Ambos Sexos","Hombres","Mujeres","Hombres","Mujeres","Hombres","Mujeres","Hombres","Mujeres","Hombres","Mujeres","Hombres","Mujeres","Hombres","Mujeres","Hombres","Mujeres","Hombres","Mujeres","Hombres","Mujeres","Hombres","Mujeres","Hombres","Mujeres","Hombres","Mujeres","Hombres","Mujeres","Hombres","Mujeres","Hombres","Mujeres","Hombres","Mujeres","Hombres","Mujeres"]
["INGRESOS",{"$f":"SUM(C13:D13)","v":0},{"$f":"SUM(E13,G13,I13,K13,M13,O13,Q13,S13,U13,W13,Y13,AA13,AC13,AE13,AG13,AI13,AK13)","v":0},{"$f":"SUM(F13,H13,J13,L13,N13,P13,R13,T13,V13,X13,Z13,AB13,AD13,AF13,AH13,AJ13,AL13)","v":0},null,null,null,null,null,null,null,null,null,null,null,null,null,null,null,null,null,null,null,null,null,null,null,null,null,null,null,null,null,null,null,null,null,null,null,null,null,null,null,null,null,{"$f":"CA13&CB13&CC13&CD13","v":""},null,null,null,null,null,null,null,null,null,null,null,null,null,null,null,null,null,null,null,null,null,null,null,null,null,null,null,null,null,null,null,null,{"$f":"IF(CG13=1,\"* Total Ingresos debe ser igual a la suma de los Tipos de Estrategia. \",\"\")","v":""},{"$f":"IF(CH13=1,\" * El Número de personas con discapacidad NO DEBE superar el total de ingresos. \",\"\")","v":""},{"$f":"IF(CI13=1,\" * El Número de personas de pueblos originarios NO DEBE superar el total de ingresos. \",\"\")","v":""},{"$f":"IF(CJ13=1,\" * El Número de personas migrantes NO DEBE superar el total de ingresos. \",\"\")","v":""},null,null,{"$f":"IF(B13<>SUM(AM13:AP13),1,0)","v":0},{"$f":"IF(B13<AQ13,1,0)","v":0},{"$f":"IF(C13<AR13,1,0)","v":0},{"$f":"IF(D13<AS13,1,0)","v":0}]
["INGRESOS CON PLAN DE TRATAMIENTO INTEGRAL (PTI)",{"$f":"SUM(C14:D14)","v":0},{"$f":"SUM(E14,G14,I14,K14,M14,O14,Q14,S14,U14,W14,Y14,AA14,AC14,AE14,AG14,AI14,AK14)","v":0},{"$f":"SUM(F14,H14,J14,L14,N14,P14,R14,T14,V14,X14,Z14,AB14,AD14,AF14,AH14,AJ14,AL14)","v":0},null,null,null,null,null,null,null,null,null,null,null,null,null,null,null,null,null,null,null,null,null,null,null,null,null,null,null,null,null,null,null,null,null,null,null,null,null,null,null,null,null,{"$f":"CA14&CB14&CC14&CD14","v":""},null,null,null,null,null,null,null,null,null,null,null,null,null,null,null,null,null,null,null,null,null,null,null,null,null,null,null,null,null,null,null,null,"","","","",null,null,{"$f":"IF(B14<>SUM(AM14:AP14),1,0)","v":0},{"$f":"IF(B14<AQ14,1,0)","v":0},{"$f":"IF(C14<AR14,1,0)","v":0},{"$f":"IF(D14<AS14,1,0)","v":0}]
["INGRESOS CON PLAN DE TRATAMIENTO INTEGRAL (PTI) CON OBJETIVOS PARA EL TRABAJO",0,0,0,null,null,null,null,null,null,null,null,null,null,null,null,null,null,null,null,null,null,null,null,null,null,null,null,null,null,null,null,null,null,null,null,null,null,null,null,null,null,null,null,null,"",null,null,null,null,null,null,null,null,null,null,null,null,null,null,null,null,null,null,null,null,null,null,null,null,null,null,null,null,null,null,null,null,"","","","",null,null,0,0,0,0]
["INGRESOS  DE USUARIOS CON CUIDADOR ",0,0,0,null,null,null,null,null,null,null,null,null,null,null,null,null,null,null,null,null,null,null,null,null,null,null,null,null,null,null,null,null,null,null,null,null,null,null,null,null,null,null,null,null,"",null,null,null,null,null,null,null,null,null,null,null,null,null,null,null,null,null,null,null,null,null,null,null,null,null,null,null,null,null,null,null,null,"","","","",null,null,0,0,0,0]
["REINGRESO",0,0,0,null,null,null,null,null,null,null,null,null,null,null,null,null,null,null,null,null,null,null,null,null,null,null,null,null,null,null,null,null,null,null,null,null,null,null,null,null,null,null,null,null,"",null,null,null,null,null,null,null,null,null,null,null,null,null,null,null,null,null,null,null,null,null,null,null,null,null,null,null,null,null,null,null,null,"","","","",null,null,0,0,0,0]
["INGRESOS CON PTI CUIDADOR",0,0,0,null,null,null,null,null,null,null,null,null,null,null,null,null,null,null,null,null,null,null,null,null,null,null,null,null,null,null,null,null,null,null,null,null,null,null,null,null,null,null,null,null,"",null,null,null,null,null,null,null,null,null,null,null,null,null,null,null,null,null,null,null,null,null,null,null,null,null,null,null,null,null,null,null,null,"","","","",null,null,0,0,0,0]
["EGRESOS",0,0,0,{"$f":"SUM(E20:E24)","v":0},{"$f":"SUM(F20:F24)","v":0},0,0,0,0,0,0,0,0,0,0,0,0,0,0,0,0,0,0,0,0,0,0,0,0,0,0,0,0,0,0,0,0,0,0,0,0,0,0,0]
["EGRESOS POR ALTA",0,0,0,null,null,null,null,null,null,null,null,null,null,null,null,null,null,null,null,null,null,null,null,null,null,null,null,null,null,null,null,null,null,null,null,null,null,null,null,null,null,null,null,null,"",null,null,null,null,null,null,null,null,null,null,null,null,null,null,null,null,null,null,null,null,null,null,null,null,null,null,null,null,null,null,null,null,{"$f":"IF(CG20=1,\"* Total Egresos debe ser igual a la suma de los Tipos de Estrategia. \",\"\")","v":""},{"$f":"IF(CH20=1,\" * El Número de personas con discapacidad NO DEBE superar el total de egresos. \",\"\")","v":""},{"$f":"IF(CI20=1,\" * El Número de personas de pueblos originarios NO DEBE superar el total de egresos. \",\"\")","v":""},{"$f":"IF(CJ20=1,\" * El Número de personas migrantes NO DEBE superar el total de egresos. \",\"\")","v":""},null,null,0,0,0,0]
["EGRESOS POR ABANDONO",0,0,0,null,null,null,null,null,null,null,null,null,null,null,null,null,null,null,null,null,null,null,null,null,null,null,null,null,null,null,null,null,null,null,null,null,null,null,null,null,null,null,null,null,"",null,null,null,null,null,null,null,null,null,null,null,null,null,null,null,null,null,null,null,null,null,null,null,null,null,null,null,null,null,null,null,null,{"$f":"IF(CG21=1,\"* Total Egresos debe ser igual a la suma de los Tipos de Estrategia. \",\"\")","v":""},{"$f":"IF(CH21=1,\" * El Número de personas con discapacidad NO DEBE superar el total de egresos. \",\"\")","v":""},{"$f":"IF(CI21=1,\" * El Número de personas de pueblos originarios NO DEBE superar el total de egresos. \",\"\")","v":""},{"$f":"IF(CJ21=1,\" * El Número de personas migrantes NO DEBE superar el total de egresos. \",\"\")","v":""},null,null,0,0,0,0]
["EGRESOS POR FALLECIMIENTO",0,0,0,null,null,null,null,null,null,null,null,null,null,null,null,null,null,null,null,null,null,null,null,null,null,null,null,null,null,null,null,null,null,null,null,null,null,null,null,null,null,null,null,null,"",null,null,null,null,null,null,null,null,null,null,null,null,null,null,null,null,null,null,null,null,null,null,null,null,null,null,null,null,null,null,null,null,{"$f":"IF(CG22=1,\"* Total Egresos debe ser igual a la suma de los Tipos de Estrategia. \",\"\")","v":""},{"$f":"IF(CH22=1,\" * El Número de personas con discapacidad NO DEBE superar el total de egresos. \",\"\")","v":""},{"$f":"IF(CI22=1,\" * El Número de personas de pueblos originarios NO DEBE superar el total de egresos. \",\"\")","v":""},{"$f":"IF(CJ22=1,\" * El Número de personas migrantes NO DEBE superar el total de egresos. \",\"\")","v":""},null,null,0,0,0,0]
["EGRESOS POR OTRAS CAUSAS",0,0,0,null,null,null,null,null,null,null,null,null,null,null,null,null,null,null,null,null,null,null,null,null,null,null,null,null,null,null,null,null,null,null,null,null,null,null,null,null,null,null,null,null,"",null,null,null,null,null,null,null,null,null,null,null,null,null,null,null,null,null,null,null,null,null,null,null,null,null,null,null,null,null,null,null,null,{"$f":"IF(CG23=1,\"* Total Egresos debe ser igual a la suma de los Tipos de Estrategia. \",\"\")","v":""},{"$f":"IF(CH23=1,\" * El Número de personas con discapacidad NO DEBE superar el total de egresos. \",\"\")","v":""},{"$f":"IF(CI23=1,\" * El Número de personas de pueblos originarios NO DEBE superar el total de egresos. \",\"\")","v":""},{"$f":"IF(CJ23=1,\" * El Número de personas migrantes NO DEBE superar el total de egresos. \",\"\")","v":""},null,null,0,0,0,0]
["EGRESOS CON PTI CUIDADOR",0,0,0,null,null,null,null,null,null,null,null,null,null,null,null,null,null,null,null,null,null,null,null,null,null,null,null,null,null,null,null,null,null,null,null,null,null,null,null,null,null,null,null,null,"",null,null,null,null,null,null,null,null,null,null,null,null,null,null,null,null,null,null,null,null,null,null,null,null,null,null,null,null,null,null,null,null,{"$f":"IF(CG24=1,\"* Total Egresos debe ser igual a la suma de los Tipos de Estrategia. \",\"\")","v":""},{"$f":"IF(CH24=1,\" * El Número de personas con discapacidad NO DEBE superar el total de egresos. \",\"\")","v":""},{"$f":"IF(CI24=1,\" * El Número de personas de pueblos originarios NO DEBE superar el total de egresos. \",\"\")","v":""},{"$f":"IF(CJ24=1,\" * El Número de personas migrantes NO DEBE superar el total de egresos. \",\"\")","v":""},null,null,0,0,0,0]
["SECCIÓN A.2: INGRESOS POR CONDICIÓN DE SALUD"]
["CONDICIÓN DE SALUD","CONCEPTO","TOTAL",null,null,"POR EDAD (en años)",null,null,null,null,null,null,null,null,null,null,null,null,null,null,null,null,null,null,null,null,null,null,null,null,null,null,null,null,null,null,null,null,null,"TIPO DE ESTRATEGIA "]
[null,null,null,null,null,"0 a 4 años",null,"5 a 9 años",null,"10 - 14",null,"15 - 19 ",null,"20 - 24 ",null,"25-29",null,"30-34",null,"35 - 39",null,"40 - 44",null,"45- 49",null,"50 - 54",null,"55 - 59",null,"60 - 64",null,"65 - 69",null,"70 - 74",null,"75 - 79",null,"80 y mas",null,"Rehabilitación Infantil","Rehabilitación Base Comunitaria (RBC)","Rehabilitación Integral(RI)","Rehabilitación Rural (RR)"]
[null,null,"Ambos Sexos","Hombres","Mujeres","Hombres","Mujeres","Hombres","Mujeres","Hombres","Mujeres","Hombres","Mujeres","Hombres","Mujeres","Hombres","Mujeres","Hombres","Mujeres","Hombres","Mujeres","Hombres","Mujeres","Hombres","Mujeres","Hombres","Mujeres","Hombres","Mujeres","Hombres","Mujeres","Hombres","Mujeres","Hombres","Mujeres","Hombres","Mujeres","Hombres","Mujeres"]
["TOTAL INGRESO (N° DE PERSONAS)",null,{"$f":"SUM(D29:E29)","v":0},{"$f":"+F29+H29+J29+L29+N29+P29+R29+T29+V29+X29+Z29+AB29+AD29+AF29+AH29+AJ29+AL29","v":0},{"$f":"+G29+I29+K29+M29+O29+Q29+S29+U29+W29+Y29+AA29+AC29+AE29+AG29+AI29+AK29+AM29","v":0},null,null,null,null,null,null,null,null,null,null,null,null,null,null,null,null,null,null,null,null,null,null,null,null,null,null,null,null,null,null,null,null,null,null,null,null,null,null,{"$f":"CA29&CB29&CC29&CD29","v":""},null,null,null,null,null,null,null,null,null,null,null,null,null,null,null,null,null,null,null,null,null,null,null,null,null,null,null,null,null,null,null,null,null,null,{"$f":"IF(CG29=1,\"* Existen patologías que son mayores al Total de Ingresos-Persona. \",\"\")","v":""},{"$f":"IF(CH29=1,\"* EN Rehabilitación Infantil Existen Patologías que son Mayores a los Ingresos-Personas. \",\"\")","v":""},{"$f":"IF(CI29=1,\"* En RBC existen Patologías que son mayores a los Ingresos-Personas. \",\"\")","v":""},{"$f":"IF(CJ29=1,\"* En RI Existen Patologías que son mayores a los Ingresos-Personas. \",\"\")","v":""},{"$f":"IF(CK29=1,\"* En RR existen patologías que son mayores a los Ingresos-Persona. \",\"\")","v":""},null,{"$f":"IF(C29<MAX(C30:C48),1,0)","v":0},{"$f":"IF(AN29<MAX(AN30:AN48),1,0)","v":0},{"$f":"IF(AO29<MAX(AO30:AO48),1,0)","v":0},{"$f":"IF(AP29<MAX(AP30:AP48),1,0)","v":0},{"$f":"IF(AQ29<MAX(AQ30:AQ48),1,0)","v":0}]
["CONDICIÓN FÍSICA","DOLOR CERVICAL AGUDO",{"$f":"SUM(D30:E30)","v":0},{"$f":"+F30+H30+J30+L30+N30+P30+R30+T30+V30+X30+Z30+AB30+AD30+AF30+AH30+AJ30+AL30","v":0},0,null,null,null,null,null,null,null,null,null,null,null,null,null,null,null,null,null,null,null,null,null,null,null,null,null,null,null,null,null,null,null,null,null,null,null,null,null,null,{"$f":"CA30&CB30&CC30&CD30","v":""},null,null,null,null,null,null,null,null,null,null,null,null,null,null,null,null,null,null,null,null,null,null,null,null,null,null,null,null,null,null,null,null,null,null,{"$f":"IF(CG30=1,\" * El total de Ingresos debe ser igual a la suma de los Tipos de Estrategia. \",\"\")","v":""},null,null,null,null,null,{"$f":"IF(SUM(AN30:AQ30)=C30,0,1)","v":0}]
[null,"DOLOR LUMBAR AGUDO",{"$f":"SUM(D31:E31)","v":0},0,0,null,null,null,null,null,null,null,null,null,null,null,null,null,null,null,null,null,null,null,null,null,null,null,null,null,null,null,null,null,null,null,null,null,null,null,null,null,null,"",null,null,null,null,null,null,null,null,null,null,null,null,null,null,null,null,null,null,null,null,null,null,null,null,null,null,null,null,null,null,null,null,null,null,{"$f":"IF(CG31=1,\" * El total de Ingresos debe ser igual a la suma de los Tipos de Estrategia. \",\"\")","v":""},null,null,null,null,null,{"$f":"IF(SUM(AN31:AQ31)=C31,0,1)","v":0}]
[null,"HOMBRO DOLOROSO AGUDO ",0,0,0,null,null,null,null,null,null,null,null,null,null,null,null,null,null,null,null,null,null,null,null,null,null,null,null,null,null,null,null,null,null,null,null,null,null,null,null,null,null,"",null,null,null,null,null,null,null,null,null,null,null,null,null,null,null,null,null,null,null,null,null,null,null,null,null,null,null,null,null,null,null,null,null,null,"",null,null,null,null,null,0]
[null,"OTRO DOLOR MUSCULOESQUELÉTICO AGUDO",0,0,0,null,null,null,null,null,null,null,null,null,null,null,null,null,null,null,null,null,null,null,null,null,null,null,null,null,null,null,null,null,null,null,null,null,null,null,null,null,null,"",null,null,null,null,null,null,null,null,null,null,null,null,null,null,null,null,null,null,null,null,null,null,null,null,null,null,null,null,null,null,null,null,null,null,"",null,null,null,null,null,0]
[null,"ARTROSIS DE RODILLA Y CADERA",0,0,0,null,null,null,null,null,null,null,null,null,null,null,null,null,null,null,null,null,null,null,null,null,null,null,null,null,null,null,null,null,null,null,null,null,null,null,null,null,null,"",null,null,null,null,null,null,null,null,null,null,null,null,null,null,null,null,null,null,null,null,null,null,null,null,null,null,null,null,null,null,null,null,null,null,"",null,null,null,null,null,0]
[null,"ARTRITIS REUMATOIDEA",0,0,0,null,null,null,null,null,null,null,null,null,null,null,null,null,null,null,null,null,null,null,null,null,null,null,null,null,null,null,null,null,null,null,null,null,null,null,null,null,null,"",null,null,null,null,null,null,null,null,null,null,null,null,null,null,null,null,null,null,null,null,null,null,null,null,null,null,null,null,null,null,null,null,null,null,"",null,null,null,null,null,0]
[null,"OTRO DOLOR MUSCULOESQUELÉTICO CRÓNICO",0,0,0,null,null,null,null,null,null,null,null,null,null,null,null,null,null,null,null,null,null,null,null,null,null,null,null,null,null,null,null,null,null,null,null,null,null,null,null,null,null,"",null,null,null,null,null,null,null,null,null,null,null,null,null,null,null,null,null,null,null,null,null,null,null,null,null,null,null,null,null,null,null,null,null,null,"",null,null,null,null,null,0]
[null,"ATAQUE CEREBRO VASCULAR (ACV)",0,0,0,null,null,null,null,null,null,null,null,null,null,null,null,null,null,null,null,null,null,null,null,null,null,null,null,null,null,null,null,null,null,null,null,null,null,null,null,null,null,"",null,null,null,null,null,null,null,null,null,null,null,null,null,null,null,null,null,null,null,null,null,null,null,null,null,null,null,null,null,null,null,null,null,null,"",null,null,null,null,null,0]
[null,"TRAUMATISMO ENCÉFALO CRANEANO (TEC)",0,0,0,null,null,null,null,null,null,null,null,null,null,null,null,null,null,null,null,null,null,null,null,null,null,null,null,null,null,null,null,null,null,null,null,null,null,null,null,null,null,"",null,null,null,null,null,null,null,null,null,null,null,null,null,null,null,null,null,null,null,null,null,null,null,null,null,null,null,null,null,null,null,null,null,null,"",null,null,null,null,null,0]
[null,"LESIÓN MEDULAR",0,0,0,null,null,null,null,null,null,null,null,null,null,null,null,null,null,null,null,null,null,null,null,null,null,null,null,null,null,null,null,null,null,null,null,null,null,null,null,null,null,"",null,null,null,null,null,null,null,null,null,null,null,null,null,null,null,null,null,null,null,null,null,null,null,null,null,null,null,null,null,null,null,null,null,null,"",null,null,null,null,null,0]
[null,"ENFERMEDAD DE PARKINSON",0,0,0,null,null,null,null,null,null,null,null,null,null,null,null,null,null,null,null,null,null,null,null,null,null,null,null,null,null,null,null,null,null,null,null,null,null,null,null,null,null,"",null,null,null,null,null,null,null,null,null,null,null,null,null,null,null,null,null,null,null,null,null,null,null,null,null,null,null,null,null,null,null,null,null,null,"",null,null,null,null,null,0]
[null,"ENFERMEDADES NEUROMUSCULARES",0,0,0,null,null,null,null,null,null,null,null,null,null,null,null,null,null,null,null,null,null,null,null,null,null,null,null,null,null,null,null,null,null,null,null,null,null,null,null,null,null,"",null,null,null,null,null,null,null,null,null,null,null,null,null,null,null,null,null,null,null,null,null,null,null,null,null,null,null,null,null,null,null,null,null,null,"",null,null,null,null,null,0]
[null,"ALTERACIONES EN EL DESARROLLO PSICOMOTOR",0,0,0,null,null,null,null,null,null,null,null,null,null,null,null,null,null,null,null,null,null,null,null,null,null,null,null,null,null,null,null,null,null,null,null,null,null,null,null,null,null,"",null,null,null,null,null,null,null,null,null,null,null,null,null,null,null,null,null,null,null,null,null,null,null,null,null,null,null,null,null,null,null,null,null,null,"",null,null,null,null,null,0]
[null,"DISRAFIAS ESPINALES",0,0,0,null,null,null,null,null,null,null,null,null,null,null,null,null,null,null,null,null,null,null,null,null,null,null,null,null,null,null,null,null,null,null,null,null,null,null,null,null,null,"",null,null,null,null,null,null,null,null,null,null,null,null,null,null,null,null,null,null,null,null,null,null,null,null,null,null,null,null,null,null,null,null,null,null,"",null,null,null,null,null,0]
[null,"TRASTORNO DEL NEURODESARROLLO",0,0,0,null,null,null,null,null,null,null,null,null,null,null,null,null,null,null,null,null,null,null,null,null,null,null,null,null,null,null,null,null,null,null,null,null,null,null,null,null,null,"",null,null,null,null,null,null,null,null,null,null,null,null,null,null,null,null,null,null,null,null,null,null,null,null,null,null,null,null,null,null,null,null,null,null,"",null,null,null,null,null,0]
[null,"AMPUTACIÓN ",0,0,0,null,null,null,null,null,null,null,null,null,null,null,null,null,null,null,null,null,null,null,null,null,null,null,null,null,null,null,null,null,null,null,null,null,null,null,null,null,null,"",null,null,null,null,null,null,null,null,null,null,null,null,null,null,null,null,null,null,null,null,null,null,null,null,null,null,null,null,null,null,null,null,null,null,"",null,null,null,null,null,0]
[null,"QUEMADOS",0,0,0,null,null,null,null,null,null,null,null,null,null,null,null,null,null,null,null,null,null,null,null,null,null,null,null,null,null,null,null,null,null,null,null,null,null,null,null,null,null,"",null,null,null,null,null,null,null,null,null,null,null,null,null,null,null,null,null,null,null,null,null,null,null,null,null,null,null,null,null,null,null,null,null,null,"",null,null,null,null,null,0]
[null,"COVID-19",0,0,0,null,null,null,null,null,null,null,null,null,null,null,null,null,null,null,null,null,null,null,null,null,null,null,null,null,null,null,null,null,null,null,null,null,null,null,null,null,null,"",null,null,null,null,null,null,null,null,null,null,null,null,null,null,null,null,null,null,null,null,null,null,null,null,null,null,null,null,null,null,null,null,null,null,"",null,null,null,null,null,0]
[null,"OTROS",0,0,0,null,null,null,null,null,null,null,null,null,null,null,null,null,null,null,null,null,null,null,null,null,null,null,null,null,null,null,null,null,null,null,null,null,null,null,null,null,null,"",null,null,null,null,null,null,null,null,null,null,null,null,null,null,null,null,null,null,null,null,null,null,null,null,null,null,null,null,null,null,null,null,null,null,"",null,null,null,null,null,0]
["CONDICIÓN SENSORIAL VISUAL",null,{"$f":"SUM(D49:E49)","v":0},0,0,null,null,null,null,null,null,null,null,null,null,null,null,null,null,null,null,null,null,null,null,null,null,null,null,null,null,null,null,null,null,null,null,null,null,null,null,null,null,"",null,null,null,null,null,null,null,null,null,null,null,null,null,null,null,null,null,null,null,null,null,null,null,null,null,null,null,null,null,null,null,null,null,null,"",null,null,null,null,null,0]
["CONDICIÓN SENSORIAL AUDITIVO",null,{"$f":"SUM(D50:E50)","v":0},0,0,null,null,null,null,null,null,null,null,null,null,null,null,null,null,null,null,null,null,null,null,null,null,null,null,null,null,null,null,null,null,null,null,null,null,null,null,null,null,"",null,null,null,null,null,null,null,null,null,null,null,null,null,null,null,null,null,null,null,null,null,null,null,null,null,null,null,null,null,null,null,null,null,null,"",null,null,null,null,null,0]
["SECCIÓN A.3: EVALUACIÓN INICIAL",null,null,null,null,null,null,null,null,null,null,null,null,null,null,null,null,null,null,null,null,null,null,null,null,null,null,null,null,null,null,null,null,null,null,null,null,null,null,null,null,null,null,null,null,null,null,null,null,null,null,null,null,null,null,null,null,null,null,null,null,null,null,null,null,null,null,null,null,null,null,null,null,null,null,null,null,null,""]
["PROFESIONAL","TOTAL      ","TIPO DE ESTRATEGIA ",null,null,null,"MODALIDAD DE REHABILITACIÓN  ",null,null,null,null,null,null,null,null,null,null,null,null,null,null,null,null,null,null,null,null,null,null,null,null,null,null,null,null,null,null,null,null,null,null,null,null,null,null,null,null,null,null,null,null,null,null,null,null,null,null,null,null,null,null,null,null,null,null,null,null,null,null,null,null,null,null,null,null,null,null,null,""]
[null,null,"Rehabilitación Infantil","Rehabilitación Base Comunitaria (RBC)","Rehabilitación Integral(RI)","Rehabilitación Rural (RR)","Presencial (Establecimiento) ","A distancia","Domiciliaria"]
[]
["MÉDICO/A",{"$f":"SUM(C55:F55)","v":0},null,null,null,null,null,null,null,null,null,null,null,null,null,null,null,null,null,null,null,null,null,null,null,null,null,null,null,null,null,null,null,null,null,null,null,null,null,null,null,null,null,null,null,null,null,null,null,null,null,null,null,null,null,null,null,null,null,null,null,null,null,null,null,null,null,null,null,null,null,null,null,null,null,null,null,null,{"$f":"IF(CG55=1,\" * El total de Ingresos debe ser igual a la suma de los Tipos de Estrategia. \",\"\")","v":""}]
["KINESIÓLOGO/A",{"$f":"SUM(C56:F56)","v":0},null,null,null,null,null,null,null,null,null,null,null,null,null,null,null,null,null,null,null,null,null,null,null,null,null,null,null,null,null,null,null,null,null,null,null,null,null,null,null,null,null,null,null,null,null,null,null,null,null,null,null,null,null,null,null,null,null,null,null,null,null,null,null,null,null,null,null,null,null,null,null,null,null,null,null,null,{"$f":"IF(CG56=1,\" * El total de Ingresos debe ser igual a la suma de los Tipos de Estrategia. \",\"\")","v":""}]
["TERAPEUTA OCUPACIONAL",{"$f":"SUM(C57:F57)","v":0}]
["FONOAUDIÓLOGO/A",{"$f":"SUM(C58:F58)","v":0}]
["PSICÓLOGO/A",{"$f":"SUM(C59:F59)","v":0}]
["TOTAL",{"$f":"SUM(B55:B59)","v":0},0,0,0,0,0,null,{"$f":"SUM(I55:I59)","v":0}]
["SECCIÓN A.4: EVALUACIÓN INTERMEDIA"]
["PROFESIONAL","TOTAL      ","POR EDAD (en años)",null,null,null,null,null,null,null,null,null,null,null,null,null,null,null,null,"TIPO DE ESTRATEGIA ",null,null,null,"MODALIDAD DE REHABILITACIÓN   "]
[null,null,"0 a 4 años","5 a 9 años","10 - 14","15 - 19 ","20 - 24 ","25-29","30-34","35 - 39","40 - 44","45- 49","50 - 54","55 - 59","60 - 64","65 - 69","70 - 74","75 - 79","80 y mas","Rehabilitación Base Comunitaria (RBC)","Rehabilitación Integral (RI)","Rehabilitación Rural (RR)","Rehabilitación Infantil","Presencial (Establecimiento)","A distancia","Domiciliaria"]
["KINESIÓLOGO/A",{"$f":"SUM(C64:S64)","v":0}]
["TERAPEUTA OCUPACIONAL",{"$f":"SUM(C65:S65)","v":0}]
["FONOAUDIÓLOGO/A",{"$f":"SUM(C66:S66)","v":0}]
["PSICÓLOGO/A",{"$f":"SUM(C67:S67)","v":0}]
["TOTAL",{"$f":"SUM(B64:B67)","v":0},{"$f":"SUM(C64:C67)","v":0},{"$f":"SUM(D64:D67)","v":0},0,0,0,0,0,0,0,0,0,0,0,0,0,0,0,0,0,0,0]
["SECCIÓN A.5: SESIONES DE REHABILITACIÓN"]
["PROFESIONAL","TOTAL      ","POR EDAD (en años)",null,null,null,null,null,null,null,null,null,null,null,null,null,null,null,null,"TIPO DE ESTRATEGIA ",null,null,null,"Modalidad de rehabilitación "]
[null,null,"0 a 4 años","5 a 9 años","10 - 14","15 - 19 ","20 - 24 ","25-29","30-34","35 - 39","40 - 44","45- 49","50 - 54","55 - 59","60 - 64","65 - 69","70 - 74","75 - 79","80 y mas","Rehabilitación Infantil","Rehabilitación Base Comunitaria (RBC)","Rehabilitación Integral (RI)","Rehabilitación Rural (RR)","Presencial (Establecimiento)","A distancia","Domiciliaria"]
["KINESIÓLOGO/A",{"$f":"SUM(C72:S72)","v":0}]
["TERAPEUTA OCUPACIONAL",{"$f":"SUM(C73:S73)","v":0}]
["FONOAUDIÓLOGO/A",{"$f":"SUM(C74:S74)","v":0}]
["PSICÓLOGO/A",{"$f":"SUM(C75:S75)","v":0}]
["TOTAL",{"$f":"SUM(B72:B75)","v":0},{"$f":"SUM(C72:C75)","v":0},{"$f":"SUM(D72:D75)","v":0},0,0,0,0,0,0,0,0,0,0,0,0,0,0,{"$f":"SUM(S72:S75)","v":0},0,0,0,0]
["SECCIÓN A.6: PROCEDIMIENTOS Y ACTIVIDADES"]
["TIPO","Rehabilitación Infantil","Total Rehabilitacion Base Comunitaria","Total Rehabilitación Integral","Total Rehabilitacion  Rural "]
["FISIOTERAPIA"]
["ACTIVIDAD FÍSICA"]
["EJERCICIOS TERAPÉUTICOS"]
["INTERVENCIÓN EN ACTIVIDADES DE LA VIDA DIARIA, BÁSICAS, INSTRUMENTALES Y AVANZADAS"]
["HABILITACIÓN Y REHABILITACIÓN EDUCACIONAL"]
["ACTIVIDADES TERAPÉUTICAS"]
["INTEGRACIÓN SENSORIAL"]
["ADAPTACIÓN DEL HOGAR"]
["CONFECCIÓN ÓRTESIS Y/O ADAPTACIONES"]
["REPARACIÓN DE ÓRTESIS Y/O ADAPTACIONES"]
["HABILITACIÓN Y REHABILITACIÓN SOCIO-LABORAL"]
["ESTIMULACIÓN COGNITIVA"]
["REHABILITACIÓN DE LA VOZ, HABLA Y/O LENGUAJE "]
["REHABILITACIÓN DE LA DEGLUCIÓN"]
["REHABILITACIÓN VESTIBULAR "]
["EDUCACIÓN PERSONA USUARIO/A, CUIDADOR/A Y/O FAMILIARES"]
["ATENCIÓN PSICOTERAPÉUTICA"]
["TOTAL",{"$f":"SUM(B79:B95)","v":0},{"$f":"SUM(C79:C95)","v":0},{"$f":"SUM(D79:D95)","v":0},{"$f":"SUM(E79:E95)","v":0}]
["SECCIÓN A.7: CONSEJERÍA INDIVIDUAL AGENDADA"]
["PROFESIONAL","Rehabilitación Infantil","Total Rehabilitacion Base Comunitaria","Total Rehabilitación Integral","Total Rehabilitacion  Rural "]
["KINESIÓLOGO/A"]
["TERAPEUTA OCUPACIONAL"]
["FONOAUDIÓLOGO/A"]
["PSICÓLOGO/A"]
["TRABADOR/A SOCIAL"]
["TOTAL",{"$f":"SUM(B99:B103)","v":0},{"$f":"SUM(C99:C103)","v":0},{"$f":"SUM(D99:D103)","v":0},{"$f":"SUM(E99:E103)","v":0}]
["SECCIÓN A.8: CONSEJERÍA FAMILIAR AGENDADA"]
["PROFESIONAL","Rehabilitación Infantil","Total Rehabilitacion Base Comunitaria","Total Rehabilitación Integral","Total Rehabilitacion  Rural "]
["KINESIÓLOGO"]
["TERAPEUTA OCUPACIONAL"]
["FONOAUDIÓLOGO"]
["PSICÓLOGO/A"]
["TRABAJADOR/A SOCIAL"]
["TOTAL",{"$f":"SUM(B107:B111)","v":0},{"$f":"SUM(C107:C111)","v":0},{"$f":"SUM(D107:D111)","v":0},{"$f":"SUM(E107:E111)","v":0}]
["SECCIÓN A.9: INTERVENCIONES TERAPÉUTICAS GRUPALES "]
["ÁREA TEMÁTICA DE PREVENCIÓN Y TRATAMIENTO","TOTAL","TIPO DE ESTRATEGIA ",null,null,null,"MODALIDAD DE REHABILITACIÓN "]
[null,null,"Rehabilitación Infantil","Rehabilitación Base Comunitaria (RBC)","Rehabilitación Integral(RI)","Rehabilitación Rural (RR)","Presencial (Establecimiento)","A distancia","Domiciliaria"]
["NÚMERO DE PERSONAS ",{"$f":"SUM(C116:F116)","v":0}]
["NÙMERO DE SESIONES",{"$f":"SUM(C117:F117)","v":0}]
["SECCIÓN A.10: PERSONAS QUE LOGRAN PARTICIPACIÓN EN COMUNIDAD "]
["COMPONENTE (Nº PERSONAS)","TOTAL","LABORAL",null,null,"Educativa","Comunitario","TIPO DE ESTRATEGIA "]
[null,null,"Trabajo con objetivos de habilitación y rehabilitación","Trabajo sin objetivos de habilitación y rehabilitación","Dueña/o de casa",null,null,"Rehabilitación Infantil","Rehabilitación Base Comunitaria (RBC)","Rehabilitación Integral(RI)","Rehabilitación Rural (RR)"]
["CONDICIÓN FÍSICA",{"$f":"SUM(C121:G121)","v":0},null,null,null,null,null,null,null,null,null,{"$f":"CA121","v":""},null,null,null,null,null,null,null,null,null,null,null,null,null,null,null,null,null,null,null,null,null,null,null,null,null,null,null,null,null,null,null,null,null,null,null,null,null,null,null,null,null,null,null,null,null,null,null,null,null,null,null,null,null,null,null,null,null,null,null,null,null,null,null,null,null,null,{"$f":"IF(CG121=1,\"* Total Personas debe ser igual que según Tipo estrategia. \",\"\")","v":""},null,null,null,null,null,{"$f":"IF(B121<>SUM(H121:K121),1,0)","v":0}]
["CONDICIÓN SENSORIAL VISUAL",{"$f":"SUM(C122:G122)","v":0},null,null,null,null,null,null,null,null,null,{"$f":"CA122","v":""},null,null,null,null,null,null,null,null,null,null,null,null,null,null,null,null,null,null,null,null,null,null,null,null,null,null,null,null,null,null,null,null,null,null,null,null,null,null,null,null,null,null,null,null,null,null,null,null,null,null,null,null,null,null,null,null,null,null,null,null,null,null,null,null,null,null,{"$f":"IF(CG122=1,\"* Total Personas debe ser igual que según Tipo estrategia. \",\"\")","v":""},null,null,null,null,null,{"$f":"IF(B122<>SUM(H122:K122),1,0)","v":0}]
["CONDICIÓN SENSORIAL AUDITIVO",{"$f":"SUM(C123:G123)","v":0},null,null,null,null,null,null,null,null,null,{"$f":"CA123","v":""},null,null,null,null,null,null,null,null,null,null,null,null,null,null,null,null,null,null,null,null,null,null,null,null,null,null,null,null,null,null,null,null,null,null,null,null,null,null,null,null,null,null,null,null,null,null,null,null,null,null,null,null,null,null,null,null,null,null,null,null,null,null,null,null,null,null,{"$f":"IF(CG123=1,\"* Total Personas debe ser igual que según Tipo estrategia. \",\"\")","v":""},null,null,null,null,null,{"$f":"IF(B123<>SUM(H123:K123),1,0)","v":0}]
["SECCIÓN A.11: ACTIVIDADES Y PARTICIPACIÓN"]
["MODALIDADES DE INTERVENCIÓN","GRUPO OBJETIVO","Totales Rehabilitación Infantil",null,"Totales Rehabilitación Base Comunitaria (RBC)",null,"Totales Rehabilitación Integral  (RI)",null,"Totales Rehabilitación Rural (RR)",null,"Modalidad de rehabilitación "]
[null,null," Actividades ","Participantes "," Actividades ","Participantes "," Actividades ","Participantes "," Actividades ","Participantes ","Presencial (Establecimiento)","A distancia","Domiciliaria"]
["DIAGNÓSTICO O PLANIFICACIÓN PARTICIPATIVA ","COMUNAS, COMUNIDADES"]
[null,"ORGANIZACIONES ASOCIADAS A DISCAPACIDAD"]
[null,"ORGANIZACIONES COMUNITARIAS"]
[null,"COMUNIDAD EDUCATIVA"]
["ACTIVIDADES DE PROMOCIÓN DE LA SALUD","COMUNAS, COMUNIDADES."]
[null,"EMPLEADORES Y COMPAÑEROS DE TRABAJO"]
[null,"COMUNIDAD EDUCATIVA"]
[null,"RED DE APOYO"]
[null,"CUIDADORES"]
["ACTIVIDADES PARA FORTALECER LOS CONOCIMIENTOS Y DESTREZAS PERSONALES","PROFESIONALES DE SALUD"]
[null,"EMPLEADORES Y COMPAÑEROS DE TRABAJO"]
[null,"COMUNIDAD EDUCATIVA"]
[null,"MONITORES"]
[null,"RED DE APOYO"]
[null,"CUIDADORES"]
["ASESORÍA A GRUPOS COMUNITARIOS","ORGANIZACIONES COMUNITARIAS"]
["SECCIÓN B: NIVEL HOSPITALARIO"]
["SECCIÓN B.1: INGRESOS Y EGRESOS  A REHABILITACIÓN INTEGRAL"]
["INGRESOS","TOTAL","POR DE EDAD (en años)",null,null,null,null,null,null,null,null,null,null,null,null,null,null,null,null,"TIPO ATENCIÓN"]
[null,null,"0 - 4","5 - 9","10 - 14","15 -19","20 - 24 ","25-29","30-34","35 - 39","40 - 44","45- 49","50 - 54","55 - 59","60 - 64","65 - 69","70 - 74","75 - 79","80 y mas","Abierta","CERRADA"]
[null,null,null,null,null,null,null,null,null,null,null,null,null,null,null,null,null,null,null,null,"UPC","Cuidados Medios y Básicos"]
["TOTAL INGRESO (N° DE PERSONAS)",{"$f":"SUM(C148:S148)","v":0},null,null,null,null,null,null,null,null,null,null,null,null,null,null,null,null,null,null,null,null,{"$f":"CA148","v":""},null,null,null,null,null,null,null,null,null,null,null,null,null,null,null,null,null,null,null,null,null,null,null,null,null,null,null,null,null,null,null,null,null,null,null,null,null,null,null,null,null,null,null,null,null,null,null,null,null,null,null,null,null,null,null,{"$f":"IF(CG148=1,\"* El número de Consultas Según tipo de atención NO DEBE ser diferente al Total. \",\"\")","v":""},null,null,null,null,null,{"$f":"IF(B148<>SUM(T148:V148),1,0)","v":0}]
["INGRESOS CON PLAN DE TRATAMIENTO INTEGRAL (PTI)",{"$f":"SUM(C149:S149)","v":0},null,null,null,null,null,null,null,null,null,null,null,null,null,null,null,null,null,null,null,null,{"$f":"CA149","v":""},null,null,null,null,null,null,null,null,null,null,null,null,null,null,null,null,null,null,null,null,null,null,null,null,null,null,null,null,null,null,null,null,null,null,null,null,null,null,null,null,null,null,null,null,null,null,null,null,null,null,null,null,null,null,null,"",null,null,null,null,null,{"$f":"IF(B149<>SUM(T149:V149),1,0)","v":0}]
["ATAQUE CEREBRO VASCULAR (ACV)",0,null,null,null,null,null,null,null,null,null,null,null,null,null,null,null,null,null,null,null,null,"",null,null,null,null,null,null,null,null,null,null,null,null,null,null,null,null,null,null,null,null,null,null,null,null,null,null,null,null,null,null,null,null,null,null,null,null,null,null,null,null,null,null,null,null,null,null,null,null,null,null,null,null,null,null,null,"",null,null,null,null,null,0]
["TRAUMATISMO ENCÉFALO CRANEANO (TEC)",0,null,null,null,null,null,null,null,null,null,null,null,null,null,null,null,null,null,null,null,null,"",null,null,null,null,null,null,null,null,null,null,null,null,null,null,null,null,null,null,null,null,null,null,null,null,null,null,null,null,null,null,null,null,null,null,null,null,null,null,null,null,null,null,null,null,null,null,null,null,null,null,null,null,null,null,null,"",null,null,null,null,null,0]
["LESIÓN MEDULAR",0,null,null,null,null,null,null,null,null,null,null,null,null,null,null,null,null,null,null,null,null,"",null,null,null,null,null,null,null,null,null,null,null,null,null,null,null,null,null,null,null,null,null,null,null,null,null,null,null,null,null,null,null,null,null,null,null,null,null,null,null,null,null,null,null,null,null,null,null,null,null,null,null,null,null,null,null,"",null,null,null,null,null,0]
["NEUROMUSCULARES AGUDAS",0,null,null,null,null,null,null,null,null,null,null,null,null,null,null,null,null,null,null,null,null,"",null,null,null,null,null,null,null,null,null,null,null,null,null,null,null,null,null,null,null,null,null,null,null,null,null,null,null,null,null,null,null,null,null,null,null,null,null,null,null,null,null,null,null,null,null,null,null,null,null,null,null,null,null,null,null,"",null,null,null,null,null,0]
["NEUROMUSCULARES CRÓNICAS",0,null,null,null,null,null,null,null,null,null,null,null,null,null,null,null,null,null,null,null,null,"",null,null,null,null,null,null,null,null,null,null,null,null,null,null,null,null,null,null,null,null,null,null,null,null,null,null,null,null,null,null,null,null,null,null,null,null,null,null,null,null,null,null,null,null,null,null,null,null,null,null,null,null,null,null,null,"",null,null,null,null,null,0]
["DISRAFIAS ESPINALES",0,null,null,null,null,null,null,null,null,null,null,null,null,null,null,null,null,null,null,null,null,"",null,null,null,null,null,null,null,null,null,null,null,null,null,null,null,null,null,null,null,null,null,null,null,null,null,null,null,null,null,null,null,null,null,null,null,null,null,null,null,null,null,null,null,null,null,null,null,null,null,null,null,null,null,null,null,"",null,null,null,null,null,0]
["OTRAS NEUROLÓGICAS",0,null,null,null,null,null,null,null,null,null,null,null,null,null,null,null,null,null,null,null,null,"",null,null,null,null,null,null,null,null,null,null,null,null,null,null,null,null,null,null,null,null,null,null,null,null,null,null,null,null,null,null,null,null,null,null,null,null,null,null,null,null,null,null,null,null,null,null,null,null,null,null,null,null,null,null,null,"",null,null,null,null,null,0]
["TRASTORNOS DEL NEURODESARROLLO",0,null,null,null,null,null,null,null,null,null,null,null,null,null,null,null,null,null,null,null,null,"",null,null,null,null,null,null,null,null,null,null,null,null,null,null,null,null,null,null,null,null,null,null,null,null,null,null,null,null,null,null,null,null,null,null,null,null,null,null,null,null,null,null,null,null,null,null,null,null,null,null,null,null,null,null,null,"",null,null,null,null,null,0]
["PARÁLISIS CEREBRAL",0,null,null,null,null,null,null,null,null,null,null,null,null,null,null,null,null,null,null,null,null,"",null,null,null,null,null,null,null,null,null,null,null,null,null,null,null,null,null,null,null,null,null,null,null,null,null,null,null,null,null,null,null,null,null,null,null,null,null,null,null,null,null,null,null,null,null,null,null,null,null,null,null,null,null,null,null,"",null,null,null,null,null,0]
["RECIEN NACIDO DE ALTO RIESGO",0,null,null,null,null,null,null,null,null,null,null,null,null,null,null,null,null,null,null,null,null,"",null,null,null,null,null,null,null,null,null,null,null,null,null,null,null,null,null,null,null,null,null,null,null,null,null,null,null,null,null,null,null,null,null,null,null,null,null,null,null,null,null,null,null,null,null,null,null,null,null,null,null,null,null,null,null,"",null,null,null,null,null,0]
["SÍNDROME POST-UCI",0,null,null,null,null,null,null,null,null,null,null,null,null,null,null,null,null,null,null,null,null,"",null,null,null,null,null,null,null,null,null,null,null,null,null,null,null,null,null,null,null,null,null,null,null,null,null,null,null,null,null,null,null,null,null,null,null,null,null,null,null,null,null,null,null,null,null,null,null,null,null,null,null,null,null,null,null,"",null,null,null,null,null,0]
["COVID-19",0,null,null,null,null,null,null,null,null,null,null,null,null,null,null,null,null,null,null,null,null,"",null,null,null,null,null,null,null,null,null,null,null,null,null,null,null,null,null,null,null,null,null,null,null,null,null,null,null,null,null,null,null,null,null,null,null,null,null,null,null,null,null,null,null,null,null,null,null,null,null,null,null,null,null,null,null,"",null,null,null,null,null,0]
["ENFERMEDADES RESPIRATORIAS ",0,null,null,null,null,null,null,null,null,null,null,null,null,null,null,null,null,null,null,null,null,"",null,null,null,null,null,null,null,null,null,null,null,null,null,null,null,null,null,null,null,null,null,null,null,null,null,null,null,null,null,null,null,null,null,null,null,null,null,null,null,null,null,null,null,null,null,null,null,null,null,null,null,null,null,null,null,"",null,null,null,null,null,0]
["ENFERMEDADES CARDIACAS",0,null,null,null,null,null,null,null,null,null,null,null,null,null,null,null,null,null,null,null,null,"",null,null,null,null,null,null,null,null,null,null,null,null,null,null,null,null,null,null,null,null,null,null,null,null,null,null,null,null,null,null,null,null,null,null,null,null,null,null,null,null,null,null,null,null,null,null,null,null,null,null,null,null,null,null,null,"",null,null,null,null,null,0]
["DOLOR MUSCULOESQUELÉTICO CRÓNICO",0,null,null,null,null,null,null,null,null,null,null,null,null,null,null,null,null,null,null,null,null,"",null,null,null,null,null,null,null,null,null,null,null,null,null,null,null,null,null,null,null,null,null,null,null,null,null,null,null,null,null,null,null,null,null,null,null,null,null,null,null,null,null,null,null,null,null,null,null,null,null,null,null,null,null,null,null,"",null,null,null,null,null,0]
["ARTRITIS REUMATOIDEA",0,null,null,null,null,null,null,null,null,null,null,null,null,null,null,null,null,null,null,null,null,"",null,null,null,null,null,null,null,null,null,null,null,null,null,null,null,null,null,null,null,null,null,null,null,null,null,null,null,null,null,null,null,null,null,null,null,null,null,null,null,null,null,null,null,null,null,null,null,null,null,null,null,null,null,null,null,"",null,null,null,null,null,0]
["OTRAS REUMATOLÓGICAS",0,null,null,null,null,null,null,null,null,null,null,null,null,null,null,null,null,null,null,null,null,"",null,null,null,null,null,null,null,null,null,null,null,null,null,null,null,null,null,null,null,null,null,null,null,null,null,null,null,null,null,null,null,null,null,null,null,null,null,null,null,null,null,null,null,null,null,null,null,null,null,null,null,null,null,null,null,"",null,null,null,null,null,0]
["TRAUMATOLÓGICOS",0,null,null,null,null,null,null,null,null,null,null,null,null,null,null,null,null,null,null,null,null,"",null,null,null,null,null,null,null,null,null,null,null,null,null,null,null,null,null,null,null,null,null,null,null,null,null,null,null,null,null,null,null,null,null,null,null,null,null,null,null,null,null,null,null,null,null,null,null,null,null,null,null,null,null,null,null,"",null,null,null,null,null,0]
[" OTROS PRE Y POST QUIRÚRGICOS",0,null,null,null,null,null,null,null,null,null,null,null,null,null,null,null,null,null,null,null,null,"",null,null,null,null,null,null,null,null,null,null,null,null,null,null,null,null,null,null,null,null,null,null,null,null,null,null,null,null,null,null,null,null,null,null,null,null,null,null,null,null,null,null,null,null,null,null,null,null,null,null,null,null,null,null,null,"",null,null,null,null,null,0]
["ONCOLÓGICOS ",0,null,null,null,null,null,null,null,null,null,null,null,null,null,null,null,null,null,null,null,null,"",null,null,null,null,null,null,null,null,null,null,null,null,null,null,null,null,null,null,null,null,null,null,null,null,null,null,null,null,null,null,null,null,null,null,null,null,null,null,null,null,null,null,null,null,null,null,null,null,null,null,null,null,null,null,null,"",null,null,null,null,null,0]
["GENITOURINARIAS",0,null,null,null,null,null,null,null,null,null,null,null,null,null,null,null,null,null,null,null,null,"",null,null,null,null,null,null,null,null,null,null,null,null,null,null,null,null,null,null,null,null,null,null,null,null,null,null,null,null,null,null,null,null,null,null,null,null,null,null,null,null,null,null,null,null,null,null,null,null,null,null,null,null,null,null,null,"",null,null,null,null,null,0]
["AMPUTACIÓN ",0,null,null,null,null,null,null,null,null,null,null,null,null,null,null,null,null,null,null,null,null,"",null,null,null,null,null,null,null,null,null,null,null,null,null,null,null,null,null,null,null,null,null,null,null,null,null,null,null,null,null,null,null,null,null,null,null,null,null,null,null,null,null,null,null,null,null,null,null,null,null,null,null,null,null,null,null,"",null,null,null,null,null,0]
["QUEMADOS",0,null,null,null,null,null,null,null,null,null,null,null,null,null,null,null,null,null,null,null,null,"",null,null,null,null,null,null,null,null,null,null,null,null,null,null,null,null,null,null,null,null,null,null,null,null,null,null,null,null,null,null,null,null,null,null,null,null,null,null,null,null,null,null,null,null,null,null,null,null,null,null,null,null,null,null,null,"",null,null,null,null,null,0]
["SENSORIALES AUDITIVOS",0,null,null,null,null,null,null,null,null,null,null,null,null,null,null,null,null,null,null,null,null,"",null,null,null,null,null,null,null,null,null,null,null,null,null,null,null,null,null,null,null,null,null,null,null,null,null,null,null,null,null,null,null,null,null,null,null,null,null,null,null,null,null,null,null,null,null,null,null,null,null,null,null,null,null,null,null,"",null,null,null,null,null,0]
["SENSORIALES VISUALES",0,null,null,null,null,null,null,null,null,null,null,null,null,null,null,null,null,null,null,null,null,"",null,null,null,null,null,null,null,null,null,null,null,null,null,null,null,null,null,null,null,null,null,null,null,null,null,null,null,null,null,null,null,null,null,null,null,null,null,null,null,null,null,null,null,null,null,null,null,null,null,null,null,null,null,null,null,"",null,null,null,null,null,0]
["TRASTORNO ESPECTRO AUTISTA",0,null,null,null,null,null,null,null,null,null,null,null,null,null,null,null,null,null,null,null,null,"",null,null,null,null,null,null,null,null,null,null,null,null,null,null,null,null,null,null,null,null,null,null,null,null,null,null,null,null,null,null,null,null,null,null,null,null,null,null,null,null,null,null,null,null,null,null,null,null,null,null,null,null,null,null,null,"",null,null,null,null,null,0]
["OTROS",0,null,null,null,null,null,null,null,null,null,null,null,null,null,null,null,null,null,null,null,null,"",null,null,null,null,null,null,null,null,null,null,null,null,null,null,null,null,null,null,null,null,null,null,null,null,null,null,null,null,null,null,null,null,null,null,null,null,null,null,null,null,null,null,null,null,null,null,null,null,null,null,null,null,null,null,null,"",null,null,null,null,null,0]
["EGRESOS",{"$f":"SUM(B178:B182)","v":0},{"$f":"SUM(C178:C182)","v":0},{"$f":"SUM(D178:D182)","v":0},0,0,0,0,0,0,0,0,0,0,0,0,0,0,0,0,0,0]
["EGRESOS POR ALTA",{"$f":"SUM(C178:S178)","v":0},null,null,null,null,null,null,null,null,null,null,null,null,null,null,null,null,null,null,null,null,"",null,null,null,null,null,null,null,null,null,null,null,null,null,null,null,null,null,null,null,null,null,null,null,null,null,null,null,null,null,null,null,null,null,null,null,null,null,null,null,null,null,null,null,null,null,null,null,null,null,null,null,null,null,null,null,{"$f":"IF(CG178=1,\"* El número de Egresos Según tipo de atención NO DEBE ser diferente al Total. \",\"\")","v":""},null,null,null,null,null,0]
["EGRESOS POR ABANDONO",{"$f":"SUM(C179:S179)","v":0},null,null,null,null,null,null,null,null,null,null,null,null,null,null,null,null,null,null,null,null,"",null,null,null,null,null,null,null,null,null,null,null,null,null,null,null,null,null,null,null,null,null,null,null,null,null,null,null,null,null,null,null,null,null,null,null,null,null,null,null,null,null,null,null,null,null,null,null,null,null,null,null,null,null,null,null,{"$f":"IF(CG179=1,\"* El número de Egresos Según tipo de atención NO DEBE ser diferente al Total. \",\"\")","v":""},null,null,null,null,null,0]
["EGRESOS POR FALLECIMIENTO",{"$f":"SUM(C180:S180)","v":0},null,null,null,null,null,null,null,null,null,null,null,null,null,null,null,null,null,null,null,null,"",null,null,null,null,null,null,null,null,null,null,null,null,null,null,null,null,null,null,null,null,null,null,null,null,null,null,null,null,null,null,null,null,null,null,null,null,null,null,null,null,null,null,null,null,null,null,null,null,null,null,null,null,null,null,null,{"$f":"IF(CG180=1,\"* El número de Egresos Según tipo de atención NO DEBE ser diferente al Total. \",\"\")","v":""},null,null,null,null,null,0]
["EGRESOS ACV REFERIDO A APS",{"$f":"SUM(C181:S181)","v":0},null,null,null,null,null,null,null,null,null,null,null,null,null,null,null,null,null,null,null,null,"",null,null,null,null,null,null,null,null,null,null,null,null,null,null,null,null,null,null,null,null,null,null,null,null,null,null,null,null,null,null,null,null,null,null,null,null,null,null,null,null,null,null,null,null,null,null,null,null,null,null,null,null,null,null,null,{"$f":"IF(CG181=1,\"* El número de Egresos Según tipo de atención NO DEBE ser diferente al Total. \",\"\")","v":""},null,null,null,null,null,0]
["OTROS",{"$f":"SUM(C182:S182)","v":0},null,null,null,null,null,null,null,null,null,null,null,null,null,null,null,null,null,null,null,null,"",null,null,null,null,null,null,null,null,null,null,null,null,null,null,null,null,null,null,null,null,null,null,null,null,null,null,null,null,null,null,null,null,null,null,null,null,null,null,null,null,null,null,null,null,null,null,null,null,null,null,null,null,null,null,null,{"$f":"IF(CG182=1,\"* El número de Egresos Según tipo de atención NO DEBE ser diferente al Total. \",\"\")","v":""},null,null,null,null,null,0]
["SECCIÓN B.2: EVALUACIÓN INICIAL"]
["PROFESIONAL","Total","POR EDAD (en años)",null,null,null,null,null,null,null,null,null,null,null,null,null,null,null,null,"TIPO ATENCIÓN"]
[null,null,null,null,null,null,null,null,null,null,null,null,null,null,null,null,null,null,null,"Abierta",null,null,"Cerrada"]
[null,null,"0 a 4 años","5 a 9 años","10 - 14","15 - 19 ","20 - 24 ","25-29","30-34","35 - 39","40 - 44","45- 49","50 - 54","55 - 59","60 - 64","65 - 69","70 - 74","75 - 79","80 y mas","Presencial ","A Distancia","Domiciliaria ","UPC","Cuidados Medios y Básicos"]
["KINESIÓLOGO/A",{"$f":"SUM(C187:S187)","v":0},null,null,null,null,null,null,null,null,null,null,null,null,null,null,null,null,null,null,null,null,null,null,{"$f":"CA187","v":""},null,null,null,null,null,null,null,null,null,null,null,null,null,null,null,null,null,null,null,null,null,null,null,null,null,null,null,null,null,null,null,null,null,null,null,null,null,null,null,null,null,null,null,null,null,null,null,null,null,null,null,null,null,{"$f":"IF(CG187=1,\" * El total de Evaluaciones según tipo de atencion NO DEBE ser diferente al total.  \",\"\")","v":""},null,null,null,null,null,{"$f":"IF(B187<>SUM(T187:X187),1,0)","v":0}]
["TERAPEUTA OCUPACIONAL",0,null,null,null,null,null,null,null,null,null,null,null,null,null,null,null,null,null,null,null,null,null,null,{"$f":"CA188","v":""},null,null,null,null,null,null,null,null,null,null,null,null,null,null,null,null,null,null,null,null,null,null,null,null,null,null,null,null,null,null,null,null,null,null,null,null,null,null,null,null,null,null,null,null,null,null,null,null,null,null,null,null,null,{"$f":"IF(CG188=1,\" * El total de Evaluaciones según tipo de atencion NO DEBE ser diferente al total.  \",\"\")","v":""},null,null,null,null,null,{"$f":"IF(B188<>SUM(T188:X188),1,0)","v":0}]
["FONOAUDIÓLOGO/A",0,null,null,null,null,null,null,null,null,null,null,null,null,null,null,null,null,null,null,null,null,null,null,"",null,null,null,null,null,null,null,null,null,null,null,null,null,null,null,null,null,null,null,null,null,null,null,null,null,null,null,null,null,null,null,null,null,null,null,null,null,null,null,null,null,null,null,null,null,null,null,null,null,null,null,null,null,"",null,null,null,null,null,0]
["PSICÓLOGO/A",0,null,null,null,null,null,null,null,null,null,null,null,null,null,null,null,null,null,null,null,null,null,null,"",null,null,null,null,null,null,null,null,null,null,null,null,null,null,null,null,null,null,null,null,null,null,null,null,null,null,null,null,null,null,null,null,null,null,null,null,null,null,null,null,null,null,null,null,null,null,null,null,null,null,null,null,null,"",null,null,null,null,null,0]
["TRABAJADOR/A SOCIAL",0,null,null,null,null,null,null,null,null,null,null,null,null,null,null,null,null,null,null,null,null,null,null,"",null,null,null,null,null,null,null,null,null,null,null,null,null,null,null,null,null,null,null,null,null,null,null,null,null,null,null,null,null,null,null,null,null,null,null,null,null,null,null,null,null,null,null,null,null,null,null,null,null,null,null,null,null,"",null,null,null,null,null,0]
["ORTOPROTESISTA",0,null,null,null,null,null,null,null,null,null,null,null,null,null,null,null,null,null,null,null,null,null,null,"",null,null,null,null,null,null,null,null,null,null,null,null,null,null,null,null,null,null,null,null,null,null,null,null,null,null,null,null,null,null,null,null,null,null,null,null,null,null,null,null,null,null,null,null,null,null,null,null,null,null,null,null,null,"",null,null,null,null,null,0]
["ENFERMERA/O",0,null,null,null,null,null,null,null,null,null,null,null,null,null,null,null,null,null,null,null,null,null,null,"",null,null,null,null,null,null,null,null,null,null,null,null,null,null,null,null,null,null,null,null,null,null,null,null,null,null,null,null,null,null,null,null,null,null,null,null,null,null,null,null,null,null,null,null,null,null,null,null,null,null,null,null,null,"",null,null,null,null,null,0]
["TOTAL",{"$f":"SUM(B187:B193)","v":0},{"$f":"SUM(C187:C193)","v":0},{"$f":"SUM(D187:D193)","v":0},0,0,0,0,0,0,0,0,0,0,0,0,0,0,0,{"$f":"SUM(T187:T193)","v":0},{"$f":"SUM(U187:U193)","v":0},{"$f":"SUM(V187:V193)","v":0},{"$f":"SUM(W187:W193)","v":0},{"$f":"SUM(X187:X193)","v":0}]
["SECCIÓN B.3: EVALUACIÓN INTERMEDIA"]
["PROFESIONAL","Total","POR EDAD (en años)",null,null,null,null,null,null,null,null,null,null,null,null,null,null,null,null,"TIPO ATENCIÓN"]
[null,null,null,null,null,null,null,null,null,null,null,null,null,null,null,null,null,null,null,"Abierta",null,null,"Cerrada"]
[null,null,"0 a 4 años","5 a 9 años","10 - 14","15 - 19 ","20 - 24 ","25-29","30-34","35 - 39","40 - 44","45- 49","50 - 54","55 - 59","60 - 64","65 - 69","70 - 74","75 - 79","80 y mas","Presencial ","A Distancia","Domiciliaria ","UPC","Cuidados Medios y Básicos"]
["KINESIÓLOGO/A",{"$f":"SUM(C199:S199)","v":0},null,null,null,null,null,null,null,null,null,null,null,null,null,null,null,null,null,null,null,null,null,null,{"$f":"CA199","v":""},null,null,null,null,null,null,null,null,null,null,null,null,null,null,null,null,null,null,null,null,null,null,null,null,null,null,null,null,null,null,null,null,null,null,null,null,null,null,null,null,null,null,null,null,null,null,null,null,null,null,null,null,null,{"$f":"IF(CG199=1,\" * El total de Evaluaciones según tipo de atencion NO DEBE ser diferente al total.  \",\"\")","v":""},null,null,null,null,null,{"$f":"IF(B199<>SUM(T199:X199),1,0)","v":0}]
["TERAPEUTA OCUPACIONAL",0,null,null,null,null,null,null,null,null,null,null,null,null,null,null,null,null,null,null,null,null,null,null,"",null,null,null,null,null,null,null,null,null,null,null,null,null,null,null,null,null,null,null,null,null,null,null,null,null,null,null,null,null,null,null,null,null,null,null,null,null,null,null,null,null,null,null,null,null,null,null,null,null,null,null,null,null,"",null,null,null,null,null,0]
["FONOAUDIÓLOGO/A",0,null,null,null,null,null,null,null,null,null,null,null,null,null,null,null,null,null,null,null,null,null,null,"",null,null,null,null,null,null,null,null,null,null,null,null,null,null,null,null,null,null,null,null,null,null,null,null,null,null,null,null,null,null,null,null,null,null,null,null,null,null,null,null,null,null,null,null,null,null,null,null,null,null,null,null,null,"",null,null,null,null,null,0]
["PSICÓLOGO/A",0,null,null,null,null,null,null,null,null,null,null,null,null,null,null,null,null,null,null,null,null,null,null,"",null,null,null,null,null,null,null,null,null,null,null,null,null,null,null,null,null,null,null,null,null,null,null,null,null,null,null,null,null,null,null,null,null,null,null,null,null,null,null,null,null,null,null,null,null,null,null,null,null,null,null,null,null,"",null,null,null,null,null,0]
["ORTOPROTESISTA",0,null,null,null,null,null,null,null,null,null,null,null,null,null,null,null,null,null,null,null,null,null,null,"",null,null,null,null,null,null,null,null,null,null,null,null,null,null,null,null,null,null,null,null,null,null,null,null,null,null,null,null,null,null,null,null,null,null,null,null,null,null,null,null,null,null,null,null,null,null,null,null,null,null,null,null,null,"",null,null,null,null,null,0]
["TRABAJADOR/A SOCIAL",0,null,null,null,null,null,null,null,null,null,null,null,null,null,null,null,null,null,null,null,null,null,null,"",null,null,null,null,null,null,null,null,null,null,null,null,null,null,null,null,null,null,null,null,null,null,null,null,null,null,null,null,null,null,null,null,null,null,null,null,null,null,null,null,null,null,null,null,null,null,null,null,null,null,null,null,null,"",null,null,null,null,null,0]
["TOTAL",{"$f":"SUM(B199:B204)","v":0},{"$f":"SUM(C199:C204)","v":0},{"$f":"SUM(D199:D204)","v":0},{"$f":"SUM(E199:E204)","v":0},0,0,0,0,0,0,0,0,0,0,0,0,0,0,0,0,0,0,0]
["SECCIÓN B.4: SESIONES DE REHABILITACIÓN"]
["PROFESIONAL","Total","POR EDAD (en años)",null,null,null,null,null,null,null,null,null,null,null,null,null,null,null,null,"TIPO ATENCIÓN"]
[null,null,null,null,null,null,null,null,null,null,null,null,null,null,null,null,null,null,null,"Abierta",null,null,"Cerrada"]
[null,null,"0 a 4 años","5 a 9 años","10 - 14","15 - 19 ","20 - 24 ","25-29","30-34","35 - 39","40 - 44","45- 49","50 - 54","55 - 59","60 - 64","65 - 69","70 - 74","75 - 79","80 y mas","Presencial ","A Distancia","Domiciliaria ","UPC","Cuidados Medios y Básicos"]
["KINESIÓLOGO/A",{"$f":"SUM(C210:S210)","v":0},null,null,null,null,null,null,null,null,null,null,null,null,null,null,null,null,null,null,null,null,null,null,{"$f":"CA210","v":""},null,null,null,null,null,null,null,null,null,null,null,null,null,null,null,null,null,null,null,null,null,null,null,null,null,null,null,null,null,null,null,null,null,null,null,null,null,null,null,null,null,null,null,null,null,null,null,null,null,null,null,null,null,{"$f":"IF(CG210=1,\" * El total de Evaluaciones según tipo de atencion NO DEBE ser diferente al total.  \",\"\")","v":""},null,null,null,null,null,{"$f":"IF(B210<>SUM(T210:X210),1,0)","v":0}]
["TERAPEUTA OCUPACIONAL",{"$f":"SUM(C211:S211)","v":0},null,null,null,null,null,null,null,null,null,null,null,null,null,null,null,null,null,null,null,null,null,null,{"$f":"CA211","v":""},null,null,null,null,null,null,null,null,null,null,null,null,null,null,null,null,null,null,null,null,null,null,null,null,null,null,null,null,null,null,null,null,null,null,null,null,null,null,null,null,null,null,null,null,null,null,null,null,null,null,null,null,null,{"$f":"IF(CG211=1,\" * El total de Evaluaciones según tipo de atencion NO DEBE ser diferente al total.  \",\"\")","v":""},null,null,null,null,null,{"$f":"IF(B211<>SUM(T211:X211),1,0)","v":0}]
["FONOAUDIÓLOGO/A",{"$f":"SUM(C212:S212)","v":0},null,null,null,null,null,null,null,null,null,null,null,null,null,null,null,null,null,null,null,null,null,null,{"$f":"CA212","v":""},null,null,null,null,null,null,null,null,null,null,null,null,null,null,null,null,null,null,null,null,null,null,null,null,null,null,null,null,null,null,null,null,null,null,null,null,null,null,null,null,null,null,null,null,null,null,null,null,null,null,null,null,null,{"$f":"IF(CG212=1,\" * El total de Evaluaciones según tipo de atencion NO DEBE ser diferente al total.  \",\"\")","v":""},null,null,null,null,null,{"$f":"IF(B212<>SUM(T212:X212),1,0)","v":0}]
["PSICÓLOGO/A",{"$f":"SUM(C213:S213)","v":0},null,null,null,null,null,null,null,null,null,null,null,null,null,null,null,null,null,null,null,null,null,null,{"$f":"CA213","v":""},null,null,null,null,null,null,null,null,null,null,null,null,null,null,null,null,null,null,null,null,null,null,null,null,null,null,null,null,null,null,null,null,null,null,null,null,null,null,null,null,null,null,null,null,null,null,null,null,null,null,null,null,null,{"$f":"IF(CG213=1,\" * El total de Evaluaciones según tipo de atencion NO DEBE ser diferente al total.  \",\"\")","v":""},null,null,null,null,null,{"$f":"IF(B213<>SUM(T213:X213),1,0)","v":0}]
["TOTAL",{"$f":"SUM(B210:B213)","v":0},{"$f":"SUM(C210:C213)","v":0},{"$f":"SUM(D210:D213)","v":0},0,0,0,0,0,0,0,0,0,0,0,0,0,0,0,0,0,0,0,0]
["SECCIÓN B.5: DERIVACIONES Y CONTINUIDAD EN LOS CUIDADOS"]
["DERIVACIÓN","TOTAL      "]
["A OTRO HOSPITAL (hospitalizado)"]
["A NIVEL SECUNDARIO (ambulatorio)"]
["A NIVEL PRIMARIO"]
["INSTITUCIÓN CON CONVENIO"]
["SECCIÓN B.6: PROCEDIMIENTOS Y ACTIVIDADES"]
["TIPO","TOTAL"]
["FISIOTERAPIA"]
["ACTIVIDAD FÍSICA"]
["EJERCICIOS TERAPÉUTICOS"]
["INTERVENCIÓN EN ACTIVIDADES DE LA VIDA DIARIA, BÁSICAS, INSTRUMENTALES Y AVANZADAS"]
["HABILITACIÓN Y REHABILITACIÓN EDUCACIONAL"]
["ACTIVIDADES TERAPÉUTICAS"]
["INTEGRACIÓN SENSORIAL"]
["TRATAMIENTO COMPRESIVO"]
["HABILITACIÓN Y REHABILITACIÓN SOCIO-LABORAL"]
["ADAPTACIÓN DEL HOGAR"]
["CONFECCIÓN ÓRTESIS Y/O ADAPTACIONES"]
["REPARACIÓN DE ÓRTESIS Y/O ADAPTACIONES"]
["CONFECCIÓN DE PRÓTESIS"]
["REPARACIÓN DE PRÓTESIS"]
["ESTIMULACIÓN COGNITIVA"]
["REHABILITACIÓN DE LA VOZ, HABLA Y/O LENGUAJE "]
["REHABILITACIÓN DE LA DEGLUCIÓN"]
["REHABILITACIÓN VESTIBULAR "]
["EDUCACIÓN A USUARIO/A, CUIDADOR/A Y/O FAMILIA"]
["ATENCIÓN PSICOTERAPÉUTICA"]
["ORIENTACIÓN Y MOVILIDAD"]
["ESTIMULACIÓN SENSORIAL"]
["TERAPIA RESPIRATORIA Y FUNCIONAL PULMONAR"]
["REHABILITACIÓN AUDITIVA INDIVIDUAL"]
["REHABILITACIÓN AUDITIVA GRUPAL"]
["TOTAL",{"$f":"SUM(B223:B247)","v":0}]
["SECCIÓN C: AYUDAS TÉCNICAS DE SALUD, NIVEL APS Y HOSPITALARIO"]
["SECCIÓN C.1: NÚMERO DE PERSONAS QUE RECIBEN AYUDAS TÉCNICAS"]
["AYUDAS TÉCNICAS","TOTAL","POR DE EDAD (en años)"]
[null,null,"0 - 4","5 - 9","10 - 14","15 - 19 ","20 - 24 ","25-29","30-34","35 - 39","40 - 44","45- 49","50 - 54","55 - 59","60 - 64","65 - 69","70 - 74","75 - 79","80 y mas"]
["NUMERO DE EVALUACIONES DE AYUDAS TÉCNICAS",{"$f":"SUM(C253:S253)","v":0}]
["NÚMERO DE PERSONAS CON AYUDA TÉCNICA ENTREGADA",{"$f":"SUM(C254:S254)","v":0}]
["NUMERO DE ENTRENAMIENTO DE AYUDAS TÉCNICAS",{"$f":"SUM(C255:S255)","v":0}]
["SECCIÓN C.2: NÚMERO DE  AYUDAS TÉCNICAS ENTREGADAS POR TIPO"]
["TOTAL DE AYUDAS TÉCNICAS ENTREGADAS","TOTAL ","POR DE EDAD (en años)"]
[null,null,"0 - 4","5 - 9","10 - 14","15 - 19 ","20 - 24 ","25-29","30-34","35 - 39","40 - 44","45- 49","50 - 54","55 - 59","60 - 64","65 - 69","70 - 74","75 - 79","80 y mas"]
["SILLAS DE RUEDAS ESTÁNDAR",{"$f":"SUM(C259:S259)","v":0}]
["SILLA DE RUEDAS NEUROLÓGICA",{"$f":"SUM(C260:S260)","v":0}]
["COJÍN ANTI ESCARAS",{"$f":"SUM(C261:S261)","v":0}]
["COLCHÓN ANTI ESCARAS",0]
["BASTONES",0]
["ANDADORES",0]
["SITTING",0]
["ÓRTESIS DE COLUMNA VERTEBRAL ",0]
["ÓRTESIS MIEMBRO INFERIOR ",0]
["ÓRTESIS MIEMBRO SUPERIOR ",0]
["COJINES Y RESPALDOS PARA LA ESTABILIZACIÓN Y POSICIONAMIENTO DEL CUERPO ",0]
["AYUDAS TÉCNICAS PARA ACTIVIDADES DE ALIMENTACIÓN, VESTUARIO E HIGIENE PERSONAL ",{"$f":"SUM(C270:S270)","v":0}]
["SISTEMA COMPRESIVO",0]
["PRÓTESIS EXTREMIDAD INFERIOR TRANSTIBIAL ",0]
["PRÓTESIS EXTREMIDAD INFERIOR TRANSFERMORAL ",0]
["OTRAS PRÓTESIS EXTREMIDAD INFERIOR ",0]
["PRÓTESIS EXTREMIDAD SUPERIOR",0]
["AYUDA TÉCNICA AUDITIVAS AUDÍFONOS",0]
["AYUDA TÉCNICA VISUALES LENTES",0]
["PLANTILLA ORTOPÉDICA",0]
["BOTA O BOTÍN DE DESCARGA",0]
["ZAPATO ORTOPÉDICO",0]
["BAÑO PORTÁTIL",0]
["TECNOLOGÍAS DE LA COMUNICACIÓN AUMENTATIVA Y ALTERNATIVAS",0]
["EQUIPO VENTILADOR MECÁNICO NO INVASIVO",0]
["ASPIRADOR DE SECRECIONES",{"$f":"SUM(C284:S284)","v":0}]
["OTRAS",0]
["SECCIÓN C.3: AYUDAS TÉCNICAS POR CONDICIÓN DE SALUD"]
["TOTAL AYUDA TÉCNICA POR CONDICIÓN DE SALUD ","TOTAL","POR DE EDAD (en años)"]
[null,null,"0 - 4","5 - 9","10 - 14","15 - 19 ","20 - 24 ","25-29","30-34","35 - 39","40 - 44","45- 49","50 - 54","55 - 59","60 - 64","65 - 69","70 - 74","75 - 79","80 y mas"]
["TRAUMATISMO ENCÉFALO CRANEANO (TEC)",{"$f":"SUM(C289:S289)","v":0}]
["DISRAFIAS ESPINALES",{"$f":"SUM(C290:S290)","v":0}]
["LESIÓN MEDULAR",0]
["ATAQUE CEREBRO VASCULAR (ACV)",0]
["PARÁLISIS CEREBRAL",0]
["ENFERMEDAD DE PARKINSON",0]
["ESCLEROSIS LATERAL AMIOTRÓFICA",0]
["OTRAS NEUROLÓGICAS ",0]
["DOLOR MUSCULOESQUELÉTICO CRÓNICO",0]
["DIABETES MELLITUS",0]
["AMPUTACIÓN ",0]
["ONCOLÓGICOS",0]
["QUEMADOS",0]
["SENSORIAL AUDITIVO",0]
["SENSORIAL VISUAL",0]
["COVID-19",0]
["SÍNDROME POST-UCI",0]
["PERSONA MAYOR FRÁGIL ",0]
["ARTRITIS REUMATOIDEA",0]
["OTRAS REUMATOLÓGICAS",0]
["OTRAS CONDICIONES DE SALUD",{"$f":"SUM(C309:S309)","v":0}]
[]
[]
[]
[]
[]
[]
[]
[]
[]
[]
[]
[]
[]
[]
[]
[]
[]
[]
[]
[null,null,null,null,null,null,null,null,null,null,null,null,null,null,null,null,null,null,null,null,null,null,null,null,null,null,null,null,null,null,null,null,null,null,null,null,null,null,null,null,null,null,null,null,null,null,null,null,null,null,null,null,null,null,null,null,null,null,null,null,null,null,null,null,null,null,null,null,null,null,null,null,null,null,null,null,null,null,{"$f":"IF(CG329=1,\"*El Total de Beneficiarios no puede superar el Total por Sexo. \",\"\")","v":""},null,null,null,null,null,{"$f":"IF(AR329>C329,1,0)","v":0}]
[null,null,null,null,null,null,null,null,null,null,null,null,null,null,null,null,null,null,null,null,null,null,null,null,null,null,null,null,null,null,null,null,null,null,null,null,null,null,null,null,null,null,null,null,null,null,null,null,null,null,null,null,null,null,null,null,null,null,null,null,null,null,null,null,null,null,null,null,null,null,null,null,null,null,null,null,null,null,"",null,null,null,null,null,{"$f":"IF(AR330>C330,1,0)","v":0}]
[null,null,null,null,null,null,null,null,null,null,null,null,null,null,null,null,null,null,null,null,null,null,null,null,null,null,null,null,null,null,null,null,null,null,null,null,null,null,null,null,null,null,null,null,null,null,null,null,null,null,null,null,null,null,null,null,null,null,null,null,null,null,null,null,null,null,null,null,null,null,null,null,null,null,null,null,null,null,"",null,null,null,null,null,0]
[null,null,null,null,null,null,null,null,null,null,null,null,null,null,null,null,null,null,null,null,null,null,null,null,null,null,null,null,null,null,null,null,null,null,null,null,null,null,null,null,null,null,null,null,null,null,null,null,null,null,null,null,null,null,null,null,null,null,null,null,null,null,null,null,null,null,null,null,null,null,null,null,null,null,null,null,null,null,"",null,null,null,null,null,0]
[null,null,null,null,null,null,null,null,null,null,null,null,null,null,null,null,null,null,null,null,null,null,null,null,null,null,null,null,null,null,null,null,null,null,null,null,null,null,null,null,null,null,null,null,null,null,null,null,null,null,null,null,null,null,null,null,null,null,null,null,null,null,null,null,null,null,null,null,null,null,null,null,null,null,null,null,null,null,"",null,null,null,null,null,0]
[null,null,null,null,null,null,null,null,null,null,null,null,null,null,null,null,null,null,null,null,null,null,null,null,null,null,null,null,null,null,null,null,null,null,null,null,null,null,null,null,null,null,null,null,null,null,null,null,null,null,null,null,null,null,null,null,null,null,null,null,null,null,null,null,null,null,null,null,null,null,null,null,null,null,null,null,null,null,"",null,null,null,null,null,0]
[null,null,null,null,null,null,null,null,null,null,null,null,null,null,null,null,null,null,null,null,null,null,null,null,null,null,null,null,null,null,null,null,null,null,null,null,null,null,null,null,null,null,null,null,null,null,null,null,null,null,null,null,null,null,null,null,null,null,null,null,null,null,null,null,null,null,null,null,null,null,null,null,null,null,null,null,null,null,"",null,null,null,null,null,0]
[null,null,null,null,null,null,null,null,null,null,null,null,null,null,null,null,null,null,null,null,null,null,null,null,null,null,null,null,null,null,null,null,null,null,null,null,null,null,null,null,null,null,null,null,null,null,null,null,null,null,null,null,null,null,null,null,null,null,null,null,null,null,null,null,null,null,null,null,null,null,null,null,null,null,null,null,null,null,"",null,null,null,null,null,0]
[null,null,null,null,null,null,null,null,null,null,null,null,null,null,null,null,null,null,null,null,null,null,null,null,null,null,null,null,null,null,null,null,null,null,null,null,null,null,null,null,null,null,null,null,null,null,null,null,null,null,null,null,null,null,null,null,null,null,null,null,null,null,null,null,null,null,null,null,null,null,null,null,null,null,null,null,null,null,"",null,null,null,null,null,0]
[null,null,null,null,null,null,null,null,null,null,null,null,null,null,null,null,null,null,null,null,null,null,null,null,null,null,null,null,null,null,null,null,null,null,null,null,null,null,null,null,null,null,null,null,null,null,null,null,null,null,null,null,null,null,null,null,null,null,null,null,null,null,null,null,null,null,null,null,null,null,null,null,null,null,null,null,null,null,"",null,null,null,null,null,0]
[null,null,null,null,null,null,null,null,null,null,null,null,null,null,null,null,null,null,null,null,null,null,null,null,null,null,null,null,null,null,null,null,null,null,null,null,null,null,null,null,null,null,null,null,null,null,null,null,null,null,null,null,null,null,null,null,null,null,null,null,null,null,null,null,null,null,null,null,null,null,null,null,null,null,null,null,null,null,"",null,null,null,null,null,0]
[null,null,null,null,null,null,null,null,null,null,null,null,null,null,null,null,null,null,null,null,null,null,null,null,null,null,null,null,null,null,null,null,null,null,null,null,null,null,null,null,null,null,null,null,null,null,null,null,null,null,null,null,null,null,null,null,null,null,null,null,null,null,null,null,null,null,null,null,null,null,null,null,null,null,null,null,null,null,"",null,null,null,null,null,0]
[]
[]
[]
[]
[null,null,null,null,null,null,null,null,null,null,null,null,null,null,null,null,null,null,null,null,null,null,null,null,null,null,null,null,null,null,null,null,null,null,null,null,null,null,null,null,null,null,null,null,null,null,null,null,null,null,null,null,null,null,null,null,null,null,null,null,null,null,null,null,null,null,null,null,null,null,null,null,null,null,null,null,null,null,{"$f":"IF(CG345=1,\"*El Total de Beneficiarios no puede superar el Total por Sexo. \",\"\")","v":""},null,null,null,null,null,{"$f":"IF(AR345>C345,1,0)","v":0}]
[{"$f":"SUM(B13:B24,C29:C50,B60,B68,B76,B96:E96,B104:E104,B112:E112,B116:B117,B121:B123,C127:M142,B148:B176,B177,B194,B205,B214,B217:B220,B248,B253:B255,B259:B285,B289:B309)","v":0},{"$f":"SUM(CG6:CT341)","v":0},null,null,null,null,null,null,null,null,null,null,null,null,null,null,null,null,null,null,null,null,null,null,null,null,null,null,null,null,null,null,null,null,null,null,null,null,null,null,null,null,null,null,null,null,null,null,null,null,null,null,null,null,null,null,null,null,null,null,null,null,null,null,null,null,null,null,null,null,null,null,null,null,null,null,null,null,"",null,null,null,null,null,0]
[null,null,null,null,null,null,null,null,null,null,null,null,null,null,null,null,null,null,null,null,null,null,null,null,null,null,null,null,null,null,null,null,null,null,null,null,null,null,null,null,null,null,null,null,null,null,null,null,null,null,null,null,null,null,null,null,null,null,null,null,null,null,null,null,null,null,null,null,null,null,null,null,null,null,null,null,null,null,"",null,null,null,null,null,0]
[null,null,null,null,null,null,null,null,null,null,null,null,null,null,null,null,null,null,null,null,null,null,null,null,null,null,null,null,null,null,null,null,null,null,null,null,null,null,null,null,null,null,null,null,null,null,null,null,null,null,null,null,null,null,null,null,null,null,null,null,null,null,null,null,null,null,null,null,null,null,null,null,null,null,null,null,null,null,"",null,null,null,null,null,0]
[null,null,null,null,null,null,null,null,null,null,null,null,null,null,null,null,null,null,null,null,null,null,null,null,null,null,null,null,null,null,null,null,null,null,null,null,null,null,null,null,null,null,null,null,null,null,null,null,null,null,null,null,null,null,null,null,null,null,null,null,null,null,null,null,null,null,null,null,null,null,null,null,null,null,null,null,null,null,"",null,null,null,null,null,0]
[null,null,null,null,null,null,null,null,null,null,null,null,null,null,null,null,null,null,null,null,null,null,null,null,null,null,null,null,null,null,null,null,null,null,null,null,null,null,null,null,null,null,null,null,null,null,null,null,null,null,null,null,null,null,null,null,null,null,null,null,null,null,null,null,null,null,null,null,null,null,null,null,null,null,null,null,null,null,"",null,null,null,null,null,0]
[null,null,null,null,null,null,null,null,null,null,null,null,null,null,null,null,null,null,null,null,null,null,null,null,null,null,null,null,null,null,null,null,null,null,null,null,null,null,null,null,null,null,null,null,null,null,null,null,null,null,null,null,null,null,null,null,null,null,null,null,null,null,null,null,null,null,null,null,null,null,null,null,null,null,null,null,null,null,"",null,null,null,null,null,0]
[null,null,null,null,null,null,null,null,null,null,null,null,null,null,null,null,null,null,null,null,null,null,null,null,null,null,null,null,null,null,null,null,null,null,null,null,null,null,null,null,null,null,null,null,null,null,null,null,null,null,null,null,null,null,null,null,null,null,null,null,null,null,null,null,null,null,null,null,null,null,null,null,null,null,null,null,null,null,"",null,null,null,null,null,0]
[null,null,null,null,null,null,null,null,null,null,null,null,null,null,null,null,null,null,null,null,null,null,null,null,null,null,null,null,null,null,null,null,null,null,null,null,null,null,null,null,null,null,null,null,null,null,null,null,null,null,null,null,null,null,null,null,null,null,null,null,null,null,null,null,null,null,null,null,null,null,null,null,null,null,null,null,null,null,"",null,null,null,null,null,0]
[null,null,null,null,null,null,null,null,null,null,null,null,null,null,null,null,null,null,null,null,null,null,null,null,null,null,null,null,null,null,null,null,null,null,null,null,null,null,null,null,null,null,null,null,null,null,null,null,null,null,null,null,null,null,null,null,null,null,null,null,null,null,null,null,null,null,null,null,null,null,null,null,null,null,null,null,null,null,"",null,null,null,null,null,0]
[null,null,null,null,null,null,null,null,null,null,null,null,null,null,null,null,null,null,null,null,null,null,null,null,null,null,null,null,null,null,null,null,null,null,null,null,null,null,null,null,null,null,null,null,null,null,null,null,null,null,null,null,null,null,null,null,null,null,null,null,null,null,null,null,null,null,null,null,null,null,null,null,null,null,null,null,null,null,"",null,null,null,null,null,0]
[null,null,null,null,null,null,null,null,null,null,null,null,null,null,null,null,null,null,null,null,null,null,null,null,null,null,null,null,null,null,null,null,null,null,null,null,null,null,null,null,null,null,null,null,null,null,null,null,null,null,null,null,null,null,null,null,null,null,null,null,null,null,null,null,null,null,null,null,null,null,null,null,null,null,null,null,null,null,"",null,null,null,null,null,0]
[]
[]
[]
[]
[null,null,null,null,null,null,null,null,null,null,null,null,null,null,null,null,null,null,null,null,null,null,null,null,null,null,null,null,null,null,null,null,null,null,null,null,null,null,null,null,null,null,null,null,null,null,null,null,null,null,null,null,null,null,null,null,null,null,null,null,null,null,null,null,null,null,null,null,null,null,null,null,null,null,null,null,null,null,{"$f":"IF(CG361=1,\"*El Total de Beneficiarios no puede superar el Total por Sexo. \",\"\")","v":""},null,null,null,null,null,{"$f":"IF(AR361>C361,1,0)","v":0}]
[null,null,null,null,null,null,null,null,null,null,null,null,null,null,null,null,null,null,null,null,null,null,null,null,null,null,null,null,null,null,null,null,null,null,null,null,null,null,null,null,null,null,null,null,null,null,null,null,null,null,null,null,null,null,null,null,null,null,null,null,null,null,null,null,null,null,null,null,null,null,null,null,null,null,null,null,null,null,{"$f":"IF(CG362=1,\"*El Total de Beneficiarios no puede superar el Total por Sexo. \",\"\")","v":""},null,null,null,null,null,{"$f":"IF(AR362>C362,1,0)","v":0}]
[null,null,null,null,null,null,null,null,null,null,null,null,null,null,null,null,null,null,null,null,null,null,null,null,null,null,null,null,null,null,null,null,null,null,null,null,null,null,null,null,null,null,null,null,null,null,null,null,null,null,null,null,null,null,null,null,null,null,null,null,null,null,null,null,null,null,null,null,null,null,null,null,null,null,null,null,null,null,{"$f":"IF(CG363=1,\"*El Total de Beneficiarios no puede superar el Total por Sexo. \",\"\")","v":""},null,null,null,null,null,{"$f":"IF(AR363>C363,1,0)","v":0}]
[null,null,null,null,null,null,null,null,null,null,null,null,null,null,null,null,null,null,null,null,null,null,null,null,null,null,null,null,null,null,null,null,null,null,null,null,null,null,null,null,null,null,null,null,null,null,null,null,null,null,null,null,null,null,null,null,null,null,null,null,null,null,null,null,null,null,null,null,null,null,null,null,null,null,null,null,null,null,{"$f":"IF(CG364=1,\"*El Total de Beneficiarios no puede superar el Total por Sexo. \",\"\")","v":""},null,null,null,null,null,{"$f":"IF(AR364>C364,1,0)","v":0}]

{"sheet":"A29","index":21,"n_rows":225,"n_cols":95,"rows_kept":225,"cut":false,"hidden":false,"merged":[[87,0,100,0],[67,0,86,0],[147,4,147,5],[147,2,147,3],[147,6,147,7],[147,1,148,1],[147,0,148,0],[102,0,104,0],[129,0,130,0],[132,0,133,0],[134,0,135,0],[136,0,137,0],[147,10,147,12],[147,8,147,9],[153,2,154,3],[153,0,155,0],[153,1,155,1],[154,6,154,7],[153,4,153,7],[154,4,155,4],[154,5,155,5],[29,15,30,15],[29,16,30,16],[102,1,104,1],[102,2,103,3],[29,2,30,2],[29,12,29,14],[65,2,66,2],[65,3,66,3],[65,1,66,1],[5,0,5,19],[8,1,8,3],[8,4,8,5],[8,6,8,7],[8,8,8,9],[8,10,8,11],[8,12,8,13],[8,14,8,15],[8,0,9,0],[8,18,9,18],[8,19,9,19],[8,16,8,17],[31,0,38,0],[42,0,44,0],[39,0,41,0],[29,0,30,1],[29,3,29,11],[65,0,66,0],[48,0,53,0],[45,0,47,0],[54,0,57,0],[58,0,61,0],[62,0,63,0]]}
["SERVICIO DE SALUD"]
[{"$f":"CONCATENATE(\"COMUNA: \",NOMBRE!B2,\" - \",\"( \",NOMBRE!C2,NOMBRE!D2,NOMBRE!E2,NOMBRE!F2,NOMBRE!G2,\" )\")","v":"COMUNA:  - (  )"}]
[{"$f":"CONCATENATE(\"ESTABLECIMIENTO/ESTRATEGIA: \",NOMBRE!B3,\" - \",\"( \",NOMBRE!C3,NOMBRE!D3,NOMBRE!E3,NOMBRE!F3,NOMBRE!G3,NOMBRE!H3,\" )\")","v":"ESTABLECIMIENTO/ESTRATEGIA:  - (  )"}]
[{"$f":"CONCATENATE(\"MES: \",NOMBRE!B6,\" - \",\"( \",NOMBRE!C6,NOMBRE!D6,\" )\")","v":"MES:  - (  )"}]
[{"$f":"CONCATENATE(\"AÑO: \",NOMBRE!B7)","v":"AÑO: 2023"}]
["REM-29.  PROGRAMA DE IMÁGENES DIAGNÓSTICAS Y/O RESOLUTIVIDAD EN ATENCIÓN PRIMARIA"]
[]
["SECCIÓN A: PROGRAMA DE RESOLUTIVIDAD ATENCIÓN PRIMARIA DE SALUD"]
["CONSULTAS","TOTAL",null,null,"<15 años",null,"15 - 19 años",null,"20 - 64 años",null,"65 y más años",null,"TOTAL INTERCONSULTAS GENERADAS EN APS PARA RESOLUCIÓN POR ESPECIALIDAD OFTALMOLOGÍA (UAPO Y CANASTA INTEGRAL)",null,"TOTAL INTERCONSULTAS GENERADAS EN APS PARA RESOLUCIÓN POR ESPECIALIDAD OTORRINOLARINGOLOGÍA (UAPORRINO Y CANASTA INTEGRAL)",null,"MODALIDAD",null,"Pueblos Originarios","Migrantes"]
[null,"Ambos Sexos","Hombres","Mujeres","Hombres","Mujeres","Hombres","Mujeres","Hombres","Mujeres","Hombres","Mujeres","Menos 15 años","15 y más años","Menos 15 años","15 y más años","Presencial","Remoto"]
["CONSULTAS MÉDICAS DE ESPECIALIDADES"]
["OFTALMOLOGÍA /UAPO",{"$f":"SUM(C12+D12)","v":0},{"$f":"SUM(E12+G12+I12+K12)","v":0},0,null,null,null,null,null,null,null,null,null,null,null,null,null,null,null,null,{"$f":"CA12&CB12&CC12&CD12","v":""},null,null,null,null,null,null,null,null,null,null,null,null,null,null,null,null,null,null,null,null,null,null,null,null,null,null,null,null,null,null,null,null,null,null,null,null,null,null,null,null,null,null,null,null,null,null,null,null,null,null,null,null,null,null,null,null,null,null,null,{"$f":"IF(CP12=1,\" * El número de consultas de personas pertenecientes a pueblos originarios no debe superar el Total de consultas. \",\"\")","v":""},{"$f":"IF(CQ12=1,\" * El número de consultas de personas migrantes no debe superar el Total de consultas. \",\"\")","v":""},null,null,null,null,null,null,null,null,null,null,null,{"$f":"IF(S12>$B$12,1,0)","v":0},{"$f":"IF(T12>$B$12,1,0)","v":0}]
["OTORRINOLARINGOLOGÍA/UAPORRINO",{"$f":"SUM(C13+D13)","v":0},{"$f":"SUM(E13+G13+I13+K13)","v":0},0,null,null,null,null,null,null,null,null,null,null,null,null,null,null,null,null,{"$f":"CA13&CB13&CC13&CD13","v":""},null,null,null,null,null,null,null,null,null,null,null,null,null,null,null,null,null,null,null,null,null,null,null,null,null,null,null,null,null,null,null,null,null,null,null,null,null,null,null,null,null,null,null,null,null,null,null,null,null,null,null,null,null,null,null,null,null,null,null,{"$f":"IF(CP13=1,\" * El número de consultas de personas pertenecientes a pueblos originarios no debe superar el Total de consultas. \",\"\")","v":""},{"$f":"IF(CQ13=1,\" * El número de consultas de personas migrantes no debe superar el Total de consultas. \",\"\")","v":""},null,null,null,null,null,null,null,null,null,null,null,{"$f":"IF(S13>$B$12,1,0)","v":0},{"$f":"IF(T13>$B$12,1,0)","v":0}]
["CANASTA INTEGRAL OFTALMOLOGICA",{"$f":"SUM(C14+D14)","v":0},0,0,null,null,null,null,null,null,null,null,null,null,null,null,null,null,null,null,"",null,null,null,null,null,null,null,null,null,null,null,null,null,null,null,null,null,null,null,null,null,null,null,null,null,null,null,null,null,null,null,null,null,null,null,null,null,null,null,null,null,null,null,null,null,null,null,null,null,null,null,null,null,null,null,null,null,null,null,"","",null,null,null,null,null,null,null,null,null,null,null,0,0]
["CANASTA INTEGRAL DE OTORRINOLARINGOLÓGICA",{"$f":"SUM(C15+D15)","v":0},{"$f":"SUM(E15+G15+I15+K15)","v":0},0,null,null,null,null,null,null,null,null,null,null,null,null,null,null,null,null,"",null,null,null,null,null,null,null,null,null,null,null,null,null,null,null,null,null,null,null,null,null,null,null,null,null,null,null,null,null,null,null,null,null,null,null,null,null,null,null,null,null,null,null,null,null,null,null,null,null,null,null,null,null,null,null,null,null,null,null,"","",null,null,null,null,null,null,null,null,null,null,null,0,0]
["CONSULTAS OTROS PROFESIONALES",null,null,null,null,null,null,null,null,null,null,null,null,null,null,null,null,null,null,null,"",null,null,null,null,null,null,null,null,null,null,null,null,null,null,null,null,null,null,null,null,null,null,null,null,null,null,null,null,null,null,null,null,null,null,null,null,null,null,null,null,null,null,null,null,null,null,null,null,null,null,null,null,null,null,null,null,null,null,null,"","",null,null,null,null,null,null,null,null,null,null,null,0,0]
["TECNÓLOGO/A MÉDICO/A CONSULTA POR VICIO DE REFRACCIÓN ",{"$f":"SUM(C17+D17)","v":0},{"$f":"SUM(E17+G17+I17+K17)","v":0},0,null,null,null,null,null,null,null,null,null,null,null,null,null,null,null,null,"",null,null,null,null,null,null,null,null,null,null,null,null,null,null,null,null,null,null,null,null,null,null,null,null,null,null,null,null,null,null,null,null,null,null,null,null,null,null,null,null,null,null,null,null,null,null,null,null,null,null,null,null,null,null,null,null,null,null,null,"","",null,null,null,null,null,null,null,null,null,null,null,0,0]
["TECNÓLOGO MÉDICO (OFTALMOLOGÍA) OTRAS CONSULTAS ",0,{"$f":"SUM(E18+G18+I18+K18)","v":0},0,null,null,null,null,null,null,null,null,null,null,null,null,null,null,null,null,"",null,null,null,null,null,null,null,null,null,null,null,null,null,null,null,null,null,null,null,null,null,null,null,null,null,null,null,null,null,null,null,null,null,null,null,null,null,null,null,null,null,null,null,null,null,null,null,null,null,null,null,null,null,null,null,null,null,null,null,"","",null,null,null,null,null,null,null,null,null,null,null,0,0]
["TECNÓLOGO MÉDICO O FONOAUDIÓLOGO POR HIPOACUSIA (UAPORRINO)",0,0,0,null,null,null,null,null,null,null,null,null,null,null,null,null,null,null,null,"",null,null,null,null,null,null,null,null,null,null,null,null,null,null,null,null,null,null,null,null,null,null,null,null,null,null,null,null,null,null,null,null,null,null,null,null,null,null,null,null,null,null,null,null,null,null,null,null,null,null,null,null,null,null,null,null,null,null,null,"","",null,null,null,null,null,null,null,null,null,null,null,0,0]
["TECNÓLOGO MÉDICO O FONOAUDIÓLOGO CONSULTAS (UAPORRINO)",0,0,0,null,null,null,null,null,null,null,null,null,null,null,null,null,null,null,null,"",null,null,null,null,null,null,null,null,null,null,null,null,null,null,null,null,null,null,null,null,null,null,null,null,null,null,null,null,null,null,null,null,null,null,null,null,null,null,null,null,null,null,null,null,null,null,null,null,null,null,null,null,null,null,null,null,null,null,null,"","",null,null,null,null,null,null,null,null,null,null,null,0,0]
["CONSULTA DE CALIFICACIÓN DE URGENCIA POR TECNÓLOGO MÉDICO (UAPO)",0,0,0,null,null,null,null,null,null,null,null,null,null,null,null,null,null,null,null,"",null,null,null,null,null,null,null,null,null,null,null,null,null,null,null,null,null,null,null,null,null,null,null,null,null,null,null,null,null,null,null,null,null,null,null,null,null,null,null,null,null,null,null,null,null,null,null,null,null,null,null,null,null,null,null,null,null,null,null,"","",null,null,null,null,null,null,null,null,null,null,null,0,0]
["TERAPEUTA OCUPACIONAL ",0,0,0,null,null,null,null,null,null,null,null,null,null,null,null,null,null,null,null,"",null,null,null,null,null,null,null,null,null,null,null,null,null,null,null,null,null,null,null,null,null,null,null,null,null,null,null,null,null,null,null,null,null,null,null,null,null,null,null,null,null,null,null,null,null,null,null,null,null,null,null,null,null,null,null,null,null,null,null,"","",null,null,null,null,null,null,null,null,null,null,null,0,0]
["INGRESOS Y EGRESOS GLAUCOMA UAPO",null,null,null,null,null,null,null,null,null,null,null,null,null,null,null,null,null,null,null,"",null,null,null,null,null,null,null,null,null,null,null,null,null,null,null,null,null,null,null,null,null,null,null,null,null,null,null,null,null,null,null,null,null,null,null,null,null,null,null,null,null,null,null,null,null,null,null,null,null,null,null,null,null,null,null,null,null,null,null,"","",null,null,null,null,null,null,null,null,null,null,null,0,0]
["INGRESOS GLAUCOMA UAPO",{"$f":"SUM(C24+D24)","v":0},{"$f":"SUM(E24+G24+I24+K24)","v":0},{"$f":"SUM(F24+H24+J24+L24)","v":0},null,null,null,null,null,null,null,null,null,null,null,null,null,null,null,null,"",null,null,null,null,null,null,null,null,null,null,null,null,null,null,null,null,null,null,null,null,null,null,null,null,null,null,null,null,null,null,null,null,null,null,null,null,null,null,null,null,null,null,null,null,null,null,null,null,null,null,null,null,null,null,null,null,null,null,null,"","",null,null,null,null,null,null,null,null,null,null,null,0,0]
["EGRESOS GLAUCOMA UAPO",{"$f":"SUM(C25+D25)","v":0},{"$f":"SUM(E25+G25+I25+K25)","v":0},{"$f":"SUM(F25+H25+J25+L25)","v":0},null,null,null,null,null,null,null,null,null,null,null,null,null,null,null,null,"",null,null,null,null,null,null,null,null,null,null,null,null,null,null,null,null,null,null,null,null,null,null,null,null,null,null,null,null,null,null,null,null,null,null,null,null,null,null,null,null,null,null,null,null,null,null,null,null,null,null,null,null,null,null,null,null,null,null,null,"","",null,null,null,null,null,null,null,null,null,null,null,0,0]
["GLAUCOMA (por médico/a) (inlcuidas dentro de consultas de oftalmologia)",null,null,null,null,null,null,null,null,null,null,null,null,null,null,null,null,null,null,null,"",null,null,null,null,null,null,null,null,null,null,null,null,null,null,null,null,null,null,null,null,null,null,null,null,null,null,null,null,null,null,null,null,null,null,null,null,null,null,null,null,null,null,null,null,null,null,null,null,null,null,null,null,null,null,null,null,null,null,null,"","",null,null,null,null,null,null,null,null,null,null,null,0,0]
["CONTROLES DE GLAUCOMA UAPO",{"$f":"SUM(C27+D27)","v":0},{"$f":"SUM(E27+G27+I27+K27)","v":0},{"$f":"SUM(F27+H27+J27+L27)","v":0},null,null,null,null,null,null,null,null,null,null,null,null,null,null,null,null,"",null,null,null,null,null,null,null,null,null,null,null,null,null,null,null,null,null,null,null,null,null,null,null,null,null,null,null,null,null,null,null,null,null,null,null,null,null,null,null,null,null,null,null,null,null,null,null,null,null,null,null,null,null,null,null,null,null,null,null,"","",null,null,null,null,null,null,null,null,null,null,null,0,0]
["CONSULTA NUEVA GLAUCOMA UAPO",{"$f":"SUM(C28+D28)","v":0},{"$f":"SUM(E28+G28+I28+K28)","v":0},{"$f":"SUM(F28+H28+J28+L28)","v":0},null,null,null,null,null,null,null,null,null,null,null,null,null,null,null,null,"",null,null,null,null,null,null,null,null,null,null,null,null,null,null,null,null,null,null,null,null,null,null,null,null,null,null,null,null,null,null,null,null,null,null,null,null,null,null,null,null,null,null,null,null,null,null,null,null,null,null,null,null,null,null,null,null,null,null,null,"","",null,null,null,null,null,null,null,null,null,null,null,{"$f":"IF(S28>$B$12,1,0)","v":0},{"$f":"IF(T28>$B$12,1,0)","v":0}]
["SECCIÓN B: PROCEDIMIENTOS DE IMÁGENES DIAGNOSTICAS Y PROGRAMA DE RESOLUTIVIDAD EN APS  "]
["TIPO DE EXAMEN Y PROCEDIMIENTO DIAGNOSTICO",null,"TOTAL","POR EDAD (EN AÑOS)",null,null,null,null,null,null,null,null,"MODALIDAD",null,null,"Pueblos Originarios","Migrantes"]
[null,null,null,"< 35 años","35 A 49 años","50 a 54 años","55 a 59 años","60 a 64 años","65 a 69 años","70 a 74 años","75 a 79 años","80 y más años","INSTITUCIONAL","COMPRA AL SISTEMA","COMPRA EXTRASISTEMA"]
["MAMOGRAFÍA","SOLICITADAS",{"$f":"SUM(D32:L32)","v":0},null,null,null,null,null,null,null,null,null,null,null,null,null,null,{"$f":"CA32&CB32&CC32&CD32","v":""},null,null,null,null,null,null,null,null,null,null,null,null,null,null,null,null,null,null,null,null,null,null,null,null,null,null,null,null,null,null,null,null,null,null,null,null,null,null,null,null,null,null,null,null,null,null,null,null,null,null,null,null,null,null,null,null,null,null,null,null,null,null,{"$f":"IF(CP32=1,\" * El número de procedimientos de personas pertenecientes a pueblos originarios no debe superar el Total de procedimientos. \",\"\")","v":""},{"$f":"IF(CQ32=1,\" * El número de procedimientos de personas migrantes no debe superar el Total de procedimientos. \",\"\")","v":""},null,null,null,null,null,null,null,null,null,null,null,{"$f":"IF(P32>$B$12,1,0)","v":0},{"$f":"IF(Q32>$B$12,1,0)","v":0}]
[null,"INFORMADAS",0,{"$f":"SUM(D34:D39)","v":0},{"$f":"SUM(E34:E39)","v":0},0,0,0,{"$f":"SUM(I34:I39)","v":0},0,0,0,null,null,null,null,null,{"$f":"CA33&CB33&CC33&CD33","v":""},null,null,null,null,null,null,null,null,null,null,null,null,null,null,null,null,null,null,null,null,null,null,null,null,null,null,null,null,null,null,null,null,null,null,null,null,null,null,null,null,null,null,null,null,null,null,null,null,null,null,null,null,null,null,null,null,null,null,null,null,{"$f":"IF(CN33=1,\"* La Suma de Institucional, Compra al Sistema y Compra Extrasistema NO DEBE ser mayor al Total. \",\"\")","v":""},{"$f":"IF(CO33=1,\"* No olvide llenar los valores de modalidad Institucional, Compra al Sistema o Compra Extrasistema (Digite CERO si no tiene).\",\"\")","v":""},{"$f":"IF(CP33=1,\" * El número de procedimientos de personas pertenecientes a pueblos originarios no debe superar el Total de procedimientos. \",\"\")","v":""},{"$f":"IF(CQ33=1,\" * El número de procedimientos de personas migrantes no debe superar el Total de procedimientos. \",\"\")","v":""},null,null,null,null,null,null,null,null,null,{"$f":"IF(C33<SUM(M33:O33),1,0)","v":0},{"$f":"IF(AND(C33<>0,OR(M33=\"\",N33=\"\",O33=\"\")),1,0)","v":0},{"$f":"IF(P33>$B$12,1,0)","v":0},{"$f":"IF(Q33>$B$12,1,0)","v":0}]
[null,"CON BIRADS 0",0,null,null,null,null,null,null,null,null,null,null,null,null,null,null,"",null,null,null,null,null,null,null,null,null,null,null,null,null,null,null,null,null,null,null,null,null,null,null,null,null,null,null,null,null,null,null,null,null,null,null,null,null,null,null,null,null,null,null,null,null,null,null,null,null,null,null,null,null,null,null,null,null,null,null,null,null,null,"","",null,null,null,null,null,null,null,null,null,null,null,0,0]
[null,"CON BIRADS 1 o 2",0,null,null,null,null,null,null,null,null,null,null,null,null,null,null,"",null,null,null,null,null,null,null,null,null,null,null,null,null,null,null,null,null,null,null,null,null,null,null,null,null,null,null,null,null,null,null,null,null,null,null,null,null,null,null,null,null,null,null,null,null,null,null,null,null,null,null,null,null,null,null,null,null,null,null,null,null,null,"","",null,null,null,null,null,null,null,null,null,null,null,0,0]
[null,"CON BIRADS  3",0,null,null,null,null,null,null,null,null,null,null,null,null,null,null,"",null,null,null,null,null,null,null,null,null,null,null,null,null,null,null,null,null,null,null,null,null,null,null,null,null,null,null,null,null,null,null,null,null,null,null,null,null,null,null,null,null,null,null,null,null,null,null,null,null,null,null,null,null,null,null,null,null,null,null,null,null,null,"","",null,null,null,null,null,null,null,null,null,null,null,0,0]
[null,"CON BIRADS  4, 5 o 6",0,null,null,null,null,null,null,null,null,null,null,null,null,null,null,"",null,null,null,null,null,null,null,null,null,null,null,null,null,null,null,null,null,null,null,null,null,null,null,null,null,null,null,null,null,null,null,null,null,null,null,null,null,null,null,null,null,null,null,null,null,null,null,null,null,null,null,null,null,null,null,null,null,null,null,null,null,null,"","",null,null,null,null,null,null,null,null,null,null,null,0,0]
[null,"SIN INFORME BIRADS",0,null,null,null,null,null,null,null,null,null,null,null,null,null,null,"",null,null,null,null,null,null,null,null,null,null,null,null,null,null,null,null,null,null,null,null,null,null,null,null,null,null,null,null,null,null,null,null,null,null,null,null,null,null,null,null,null,null,null,null,null,null,null,null,null,null,null,null,null,null,null,null,null,null,null,null,null,null,"","",null,null,null,null,null,null,null,null,null,null,null,0,0]
[null,"PROYECCIÓN COMPLEMENTARIA",0,null,null,null,null,null,null,null,null,null,null,null,null,null,null,"",null,null,null,null,null,null,null,null,null,null,null,null,null,null,null,null,null,null,null,null,null,null,null,null,null,null,null,null,null,null,null,null,null,null,null,null,null,null,null,null,null,null,null,null,null,null,null,null,null,null,null,null,null,null,null,null,null,null,null,null,null,null,"","",null,null,null,null,null,null,null,null,null,null,null,0,0]
["ECOTOMOGRAFÍA MAMARIA","SOLICITADAS",0,null,null,null,null,null,null,null,null,null,null,null,null,null,null,"",null,null,null,null,null,null,null,null,null,null,null,null,null,null,null,null,null,null,null,null,null,null,null,null,null,null,null,null,null,null,null,null,null,null,null,null,null,null,null,null,null,null,null,null,null,null,null,null,null,null,null,null,null,null,null,null,null,null,null,null,null,null,"","",null,null,null,null,null,null,null,null,null,null,null,0,0]
[null,"INFORMADAS",0,null,null,null,null,null,null,null,null,null,null,null,null,null,null,"",null,null,null,null,null,null,null,null,null,null,null,null,null,null,null,null,null,null,null,null,null,null,null,null,null,null,null,null,null,null,null,null,null,null,null,null,null,null,null,null,null,null,null,null,null,null,null,null,null,null,null,null,null,null,null,null,null,null,null,null,{"$f":"IF(CN41=1,\"* La Suma de Institucional, Compra al Sistema y Compra Extrasistema NO DEBE ser mayor al Total. \",\"\")","v":""},{"$f":"IF(CO41=1,\"* No olvide llenar los valores de modalidad Institucional, Compra al Sistema o Compra Extrasistema (Digite CERO si no tiene).\",\"\")","v":""},"","",null,null,null,null,null,null,null,null,null,{"$f":"IF(C41<SUM(M41:O41),1,0)","v":0},{"$f":"IF(AND(C41<>0,OR(M41=\"\",N41=\"\",O41=\"\")),1,0)","v":0},0,0]
[null,"CON INFORME DE SOSPECHA DE MALIGNIDAD",0,null,null,null,null,null,null,null,null,null,null,null,null,null,null,"",null,null,null,null,null,null,null,null,null,null,null,null,null,null,null,null,null,null,null,null,null,null,null,null,null,null,null,null,null,null,null,null,null,null,null,null,null,null,null,null,null,null,null,null,null,null,null,null,null,null,null,null,null,null,null,null,null,null,null,null,null,null,"","",null,null,null,null,null,null,null,null,null,null,null,0,0]
["ECOTOMOGRAFÍA ABDOMINAL","SOLICITADAS",0,null,null,null,null,null,null,null,null,null,null,null,null,null,null,"",null,null,null,null,null,null,null,null,null,null,null,null,null,null,null,null,null,null,null,null,null,null,null,null,null,null,null,null,null,null,null,null,null,null,null,null,null,null,null,null,null,null,null,null,null,null,null,null,null,null,null,null,null,null,null,null,null,null,null,null,null,null,"","",null,null,null,null,null,null,null,null,null,null,null,0,0]
[null,"INFORMADAS",0,null,null,null,null,null,null,null,null,null,null,null,null,null,null,"",null,null,null,null,null,null,null,null,null,null,null,null,null,null,null,null,null,null,null,null,null,null,null,null,null,null,null,null,null,null,null,null,null,null,null,null,null,null,null,null,null,null,null,null,null,null,null,null,null,null,null,null,null,null,null,null,null,null,null,null,{"$f":"IF(CN44=1,\"* La Suma de Institucional, Compra al Sistema y Compra Extrasistema NO DEBE ser mayor al Total. \",\"\")","v":""},{"$f":"IF(CO44=1,\"* No olvide llenar los valores de modalidad Institucional, Compra al Sistema o Compra Extrasistema (Digite CERO si no tiene).\",\"\")","v":""},"","",null,null,null,null,null,null,null,null,null,{"$f":"IF(C44<SUM(M44:O44),1,0)","v":0},{"$f":"IF(AND(C44<>0,OR(M44=\"\",N44=\"\",O44=\"\")),1,0)","v":0},0,0]
[null,"CON RESULTADO LITIASIS BILIAR",0,null,null,null,null,null,null,null,null,null,null,null,null,null,null,"",null,null,null,null,null,null,null,null,null,null,null,null,null,null,null,null,null,null,null,null,null,null,null,null,null,null,null,null,null,null,null,null,null,null,null,null,null,null,null,null,null,null,null,null,null,null,null,null,null,null,null,null,null,null,null,null,null,null,null,null,null,null,"","",null,null,null,null,null,null,null,null,null,null,null,0,0]
["ECOGRAFÍA TRANSVAGINAL O RECTAL (excluye Climaterio)","SOLICITADAS",{"$f":"SUM(D46:L46)","v":0},null,null,null,null,null,null,null,null,null,null,null,null,null,null,"",null,null,null,null,null,null,null,null,null,null,null,null,null,null,null,null,null,null,null,null,null,null,null,null,null,null,null,null,null,null,null,null,null,null,null,null,null,null,null,null,null,null,null,null,null,null,null,null,null,null,null,null,null,null,null,null,null,null,null,null,null,null,"","",null,null,null,null,null,null,null,null,null,null,null,0,0]
[null,"INFORMADAS",{"$f":"SUM(D47:L47)","v":0},null,null,null,null,null,null,null,null,null,null,null,null,null,null,"",null,null,null,null,null,null,null,null,null,null,null,null,null,null,null,null,null,null,null,null,null,null,null,null,null,null,null,null,null,null,null,null,null,null,null,null,null,null,null,null,null,null,null,null,null,null,null,null,null,null,null,null,null,null,null,null,null,null,null,null,null,null,"","",null,null,null,null,null,null,null,null,null,null,null,0,0]
[null,"CON INFORME DE SOSPECHA DE PATOLIGÍA MALIGNA",{"$f":"SUM(D48:L48)","v":0},null,null,null,null,null,null,null,null,null,null,null,null,null,null,"",null,null,null,null,null,null,null,null,null,null,null,null,null,null,null,null,null,null,null,null,null,null,null,null,null,null,null,null,null,null,null,null,null,null,null,null,null,null,null,null,null,null,null,null,null,null,null,null,null,null,null,null,null,null,null,null,null,null,null,null,null,null,"","",null,null,null,null,null,null,null,null,null,null,null,0,0]
["ENDOSCOPIA DIGESTIVA ALTA","SOLICITADAS",0,null,null,null,null,null,null,null,null,null,null,null,null,null,null,"",null,null,null,null,null,null,null,null,null,null,null,null,null,null,null,null,null,null,null,null,null,null,null,null,null,null,null,null,null,null,null,null,null,null,null,null,null,null,null,null,null,null,null,null,null,null,null,null,null,null,null,null,null,null,null,null,null,null,null,null,null,null,"","",null,null,null,null,null,null,null,null,null,null,null,0,0]
[null,"INFORMADAS",0,null,null,null,null,null,null,null,null,null,null,null,null,null,null,"",null,null,null,null,null,null,null,null,null,null,null,null,null,null,null,null,null,null,null,null,null,null,null,null,null,null,null,null,null,null,null,null,null,null,null,null,null,null,null,null,null,null,null,null,null,null,null,null,null,null,null,null,null,null,null,null,null,null,null,null,{"$f":"IF(CN50=1,\"* La Suma de Institucional, Compra al Sistema y Compra Extrasistema NO DEBE ser mayor al Total. \",\"\")","v":""},{"$f":"IF(CO50=1,\"* No olvide llenar los valores de modalidad Institucional, Compra al Sistema o Compra Extrasistema (Digite CERO si no tiene).\",\"\")","v":""},"","",null,null,null,null,null,null,null,null,null,{"$f":"IF(C50<SUM(M50:O50),1,0)","v":0},{"$f":"IF(AND(C50<>0,OR(M50=\"\",N50=\"\",O50=\"\")),1,0)","v":0},0,0]
[null,"TOMA DE BIOPSIA",0,null,null,null,null,null,null,null,null,null,null,null,null,null,null,"",null,null,null,null,null,null,null,null,null,null,null,null,null,null,null,null,null,null,null,null,null,null,null,null,null,null,null,null,null,null,null,null,null,null,null,null,null,null,null,null,null,null,null,null,null,null,null,null,null,null,null,null,null,null,null,null,null,null,null,null,null,null,"","",null,null,null,null,null,null,null,null,null,null,null,0,0]
[null,"CON INFORME DE SOSPECHA DE MALIGNIDAD",0,null,null,null,null,null,null,null,null,null,null,null,null,null,null,"",null,null,null,null,null,null,null,null,null,null,null,null,null,null,null,null,null,null,null,null,null,null,null,null,null,null,null,null,null,null,null,null,null,null,null,null,null,null,null,null,null,null,null,null,null,null,null,null,null,null,null,null,null,null,null,null,null,null,null,null,null,null,"","",null,null,null,null,null,null,null,null,null,null,null,0,0]
[null,"TEST DE UREASA SOLICITADAS",0,null,null,null,null,null,null,null,null,null,null,null,null,null,null,"",null,null,null,null,null,null,null,null,null,null,null,null,null,null,null,null,null,null,null,null,null,null,null,null,null,null,null,null,null,null,null,null,null,null,null,null,null,null,null,null,null,null,null,null,null,null,null,null,null,null,null,null,null,null,null,null,null,null,null,null,null,null,"","",null,null,null,null,null,null,null,null,null,null,null,0,0]
[null,"TEST DE UREASA POSITIVAS (+) H PYLORI",0,null,null,null,null,null,null,null,null,null,null,null,null,null,null,"",null,null,null,null,null,null,null,null,null,null,null,null,null,null,null,null,null,null,null,null,null,null,null,null,null,null,null,null,null,null,null,null,null,null,null,null,null,null,null,null,null,null,null,null,null,null,null,null,null,null,null,null,null,null,null,null,null,null,null,null,null,null,"","",null,null,null,null,null,null,null,null,null,null,null,0,0]
["(PROCEDIMIENTOS CUTANEOS QUIRURGICOS DE BAJA COMPLEJIDAD)","SOLICITADAS",0,null,null,null,null,null,null,null,null,null,null,null,null,null,null,"",null,null,null,null,null,null,null,null,null,null,null,null,null,null,null,null,null,null,null,null,null,null,null,null,null,null,null,null,null,null,null,null,null,null,null,null,null,null,null,null,null,null,null,null,null,null,null,null,null,null,null,null,null,null,null,null,null,null,null,null,null,null,"","",null,null,null,null,null,null,null,null,null,null,null,0,0]
[null,"REALIZADAS",0,null,null,null,null,null,null,null,null,null,null,null,null,null,null,"",null,null,null,null,null,null,null,null,null,null,null,null,null,null,null,null,null,null,null,null,null,null,null,null,null,null,null,null,null,null,null,null,null,null,null,null,null,null,null,null,null,null,null,null,null,null,null,null,null,null,null,null,null,null,null,null,null,null,null,null,{"$f":"IF(CN56=1,\"* La Suma de Institucional, Compra al Sistema y Compra Extrasistema NO DEBE ser mayor al Total. \",\"\")","v":""},{"$f":"IF(CO56=1,\"* No olvide llenar los valores de modalidad Institucional, Compra al Sistema o Compra Extrasistema (Digite CERO si no tiene).\",\"\")","v":""},"","",null,null,null,null,null,null,null,null,null,{"$f":"IF(C56<SUM(M56:O56),1,0)","v":0},{"$f":"IF(AND(C56<>0,OR(M56=\"\",N56=\"\",O56=\"\")),1,0)","v":0},0,0]
[null,"BIOPSIAS DE CIRUGÍA MENOR ENVIADAS A ANATOMÍA PATOLÓGICA",0,null,null,null,null,null,null,null,null,null,null,null,null,null,null,"",null,null,null,null,null,null,null,null,null,null,null,null,null,null,null,null,null,null,null,null,null,null,null,null,null,null,null,null,null,null,null,null,null,null,null,null,null,null,null,null,null,null,null,null,null,null,null,null,null,null,null,null,null,null,null,null,null,null,null,null,null,null,"","",null,null,null,null,null,null,null,null,null,null,null,0,0]
[null,"N° BIOPSIAS DE CIRUGÍA MENOR CON INFORME DE SOSPECHA DE MALIGNIDAD",{"$f":"SUM(D58:L58)","v":0},null,null,null,null,null,null,null,null,null,null,null,null,null,null,"",null,null,null,null,null,null,null,null,null,null,null,null,null,null,null,null,null,null,null,null,null,null,null,null,null,null,null,null,null,null,null,null,null,null,null,null,null,null,null,null,null,null,null,null,null,null,null,null,null,null,null,null,null,null,null,null,null,null,null,null,null,null,"","",null,null,null,null,null,null,null,null,null,null,null,0,0]
["RADIOGRAFÍA TÓRAX POR SOSPECHA NEUMONÍA Y SOSPECHA DE OTRA PATOLOGÍA RESPIRATORIA CRÓNICA","SOLICITADAS",null,null,null,null,null,null,null,null,null,null,null,null,null,null,null,"",null,null,null,null,null,null,null,null,null,null,null,null,null,null,null,null,null,null,null,null,null,null,null,null,null,null,null,null,null,null,null,null,null,null,null,null,null,null,null,null,null,null,null,null,null,null,null,null,null,null,null,null,null,null,null,null,null,null,null,null,null,null,"","",null,null,null,null,null,null,null,null,null,null,null,0,0]
[null,"REALIZADAS",{"$f":"SUM(D60:L60)","v":0},{"$f":"SUM(D61:D62)","v":0},{"$f":"SUM(E61:E62)","v":0},0,0,0,0,0,0,0,null,null,null,null,null,"",null,null,null,null,null,null,null,null,null,null,null,null,null,null,null,null,null,null,null,null,null,null,null,null,null,null,null,null,null,null,null,null,null,null,null,null,null,null,null,null,null,null,null,null,null,null,null,null,null,null,null,null,null,null,null,null,null,null,null,null,{"$f":"IF(CN60=1,\"* La Suma de Institucional, Compra al Sistema y Compra Extrasistema NO DEBE ser mayor al Total. \",\"\")","v":""},{"$f":"IF(CO60=1,\"* No olvide llenar los valores de modalidad Institucional, Compra al Sistema o Compra Extrasistema (Digite CERO si no tiene).\",\"\")","v":""},"","",null,null,null,null,null,null,null,null,null,{"$f":"IF(C60<SUM(M60:O60),1,0)","v":0},{"$f":"IF(AND(C60<>0,OR(M60=\"\",N60=\"\",O60=\"\")),1,0)","v":0},0,0]
[null,"ANTERO POSTERIOR (FRONTAL)",{"$f":"SUM(D61:L61)","v":0},null,null,null,null,null,null,null,null,null,null,null,null,null,null,"",null,null,null,null,null,null,null,null,null,null,null,null,null,null,null,null,null,null,null,null,null,null,null,null,null,null,null,null,null,null,null,null,null,null,null,null,null,null,null,null,null,null,null,null,null,null,null,null,null,null,null,null,null,null,null,null,null,null,null,null,null,null,"","",null,null,null,null,null,null,null,null,null,null,null,0,0]
[null,"ANTERO POSTERIOR  Y LATERAL",{"$f":"SUM(D62:L62)","v":0},null,null,null,null,null,null,null,null,null,null,null,null,null,null,"",null,null,null,null,null,null,null,null,null,null,null,null,null,null,null,null,null,null,null,null,null,null,null,null,null,null,null,null,null,null,null,null,null,null,null,null,null,null,null,null,null,null,null,null,null,null,null,null,null,null,null,null,null,null,null,null,null,null,null,null,null,null,"","",null,null,null,null,null,null,null,null,null,null,null,0,0]
["RADIOGRAFÍA DE CADERAS 3-6 MESES (SCREENING) ","SOLICITADAS",null,null,null,null,null,null,null,null,null,null,null,null,null,null,null,"",null,null,null,null,null,null,null,null,null,null,null,null,null,null,null,null,null,null,null,null,null,null,null,null,null,null,null,null,null,null,null,null,null,null,null,null,null,null,null,null,null,null,null,null,null,null,null,null,null,null,null,null,null,null,null,null,null,null,null,null,null,null,"","",null,null,null,null,null,null,null,null,null,null,null,0,0]
[null,"INFORMADAS",null,null,null,null,null,null,null,null,null,null,null,null,null,null,null,"",null,null,null,null,null,null,null,null,null,null,null,null,null,null,null,null,null,null,null,null,null,null,null,null,null,null,null,null,null,null,null,null,null,null,null,null,null,null,null,null,null,null,null,null,null,null,null,null,null,null,null,null,null,null,null,null,null,null,null,null,{"$f":"IF(CN64=1,\"* La Suma de Institucional, Compra al Sistema y Compra Extrasistema NO DEBE ser mayor al Total. \",\"\")","v":""},{"$f":"IF(CO64=1,\"* No olvide llenar los valores de modalidad Institucional, Compra al Sistema o Compra Extrasistema (Digite CERO si no tiene).\",\"\")","v":""},"","",null,null,null,null,null,null,null,null,null,{"$f":"IF(C64<SUM(M64:O64),1,0)","v":0},{"$f":"IF(AND(C64<>0,OR(M64=\"\",N64=\"\",O64=\"\")),1,0)","v":0},0,0]
["SECCIÓN C: PROCEDIMIENTOS APOYO CLÍNICO Y TERAPÉUTICO"]
["ESPECIALIDAD","PROCEDIMIENTOS","MEDICO ESPECIALISTA","TECNÓLOGO MÉDICO, FONOAUDIOLOGO O TERAPEUTA OCUPACIONAL"]
[]
["OFTALMOLOGÍA","CUANTIFICACIÓN DE LAGRIMACIÓN (TEST DE SCHIMER), UNO O AMBOS OJOS"]
[null,"CURVA DE TENSIÓN APLANÁTICA (POR CADA DÍA), C/OJO"]
[null,"DISPLOSCOPIA CUANTITATIVA, AMBOS OJOS"]
[null,"EXPLORACIÓN SENSORIOMOTORA: ESTRABISMO, ESTUDIO COMPLETO, AMBOS OJOS"]
[null,"RETINOGRAFÍA AMBOS OJOS PACIENTES SIN  DIABETES MELLITUS"]
[null,"TONOMETRÍA APLANÁTICA C/OJO"]
[null,"TRATAMIENTO ORTÓPTICO Y/O PLEÓPTICO (POR SESIÓN), AMBOS OJOS"]
[null,"EXPLORACIÓN VITREORRETINAL PACIENTES SIN DIABETES MELLITUS"]
[null,"CUERPO EXTRAÑO CONJUNTIVAL Y/O CORNEAL"]
[null,"CAMPIMETRÍA COMPUTARIZADA, C/OJO (EN UAPO)"]
[null,"TOMOGRAFIA COHERENTE ÓPTICA, C/OJO"]
[null,"AGUDEZA VISUAL AISLADA CADA OJO"]
[null,"PAQUIMETRÍA"]
[null,"AUTOREFRACTOMIA"]
[null,"LENSOMETRIA"]
[null,"EXTRACCIÓN CUERPO EXTRAÑO OJO (CONJUNTIVAL Y/O CORNEAL)"]
[null,"HEMOGLUCOTEST PREVIO A CONSULTA VICIO DE REFRACCIÓN EN PACIENTE DIABÉTICO"]
[null,"AUTORREFRACCIÓN BAJO CICLOPLEJIA"]
[null,"IRRIGACIÓN DE LA VÍA LAGRIMAL"]
[null,"PRUEBA DE PROVOCACIÓN OSCURIDAD MÁS PRONACIÓN"]
["OTORRINOLARINGOLOGÍA ","AUDIMETRÍAS (REALIZADAS)"]
[null,"IMPEDANCIOMETRÍA"]
[null,"EMISIONES OTOACUSTICAS"]
[null,"EXAMEN FUNCIONAL VIII PAR"]
[null,"OTROS PROCEDIMIENTOS (Lavado de Oidos u otros)"]
[null,"CALIBRACION CONTROL PRUEBA DE AUDÍFONOS"]
[null,"PROCEDIMIENTO V-HIT"]
[null,"PEATC"]
[null,"MANIOBRAS DE REPOSICIÓN DE PARTÍCULAS"]
[null,"NASOFIBROSCOPIA ADULTO / NIÑO"]
[null,"PRUEBA DE FUNCIÓN TUBARIA"]
[null,"VEMP (POTENCIALES EVOCADOS MIOGÉNICOS  VESTIBULARES)"]
[null,"TOMA DE IMPRESIÓN DE MOLDE AUDITIVO"]
[null,"RINOMANOMETRIA"]
["SECCIÓN D: ENTREGA DE AYUDAS TÉCNICAS"]
["CONCEPTO","Total","< 65 Años"]
[]
[null,null,"Hombres","Mujeres"]
["LENTES (Entregados)",{"$f":"SUM(C106:D106)","v":0}]
["AUDÍFONOS (Entregados)",{"$f":"SUM(C107:D107)","v":0}]
["SECCIÓN E: INTERVENCIONES QUIRÚRGICAS MENORES QUE SE REALIZAN EN UAPO"]
["TOTAL INTERVENCIÓNES QUIRÚRGICAS","TOTAL"]
["INTUBACIÓN LAGRIMAL"]
["PLASTÍA DE PUNTOS LAGRIMALES"]
["ABSCESO, VACIAMIENTO Y/O DRENAJE DE"]
["ABSCESO, TRAT. QUIR. PÁRPADO O CEJA"]
["BIOPSIA DE PÁRPADO Y/O ANEXOS (PROC. AUT.)"]
["BLEFARORRAFIA CON BLEFAROTOMÍA POSTERIOR"]
["CANTOPLASTÍA"]
["CHALAZIÓN Y OTROS TUMORES BENIGNOS  "]
["XANTELASMA, TRAT. QUIR."]
["HERIDA O DEHISCENCIA DE SUTURA DE PÁRPADO, REPARACIÓN"]
["SUTURA DE HERIDA O DEHISCENCIA DE LA CONJUNTIVA"]
["PTERIGIÓN Y/O PSEUDOPTERIGIÓN O SU RECIDIVA, EXTIRPACIÓN"]
["EXTIRPACIÓN DE TUMOR BENIGNO DE LA CONJUNTIVA"]
["CRIOTERAPIA Y RECESIÓN CONJUNTIVAL"]
["EXTRACCIÓN QUIR. DE CUERPO EXTRAÑO EN CORNEA Y/O ESCLERA"]
["IRIDOTOMÍA"]
["TRABECULOPLASTÍA O IRIDOPLASTÍA"]
["TOTAL",{"$f":"SUM(B110:B126)","v":0}]
["SECCION F: FONDOS DE OJO CONTROL DIABETES MELLITUS"]
[" PROCEDIMIENTOS","TIPO DE ACTIVIDAD","TOTAL","INFORME POR MEDICO LICITADO","INFORMADA POR MEDICO HD"]
["EXPLORACIÓN VITREORRETINAL, AMBOS OJOS (FONDO DE OJO)","SIN ALTERACION"]
[null,"ALTERADOS"]
["RETINOGRAFÍA, AMBOS OJOS (FONDO DE OJO) ","IMÁGENES CAPTURADAS"]
["SUBIDAS A PLATAFORMA DE TAMIZAJE IA HOSPITAL DIGITAL","INFORMES RECIBIDOS SIN ALTERACION"]
[null,"INFORMES RECIBIDOS CON SOSPECHA DE ALTERACION"]
["SUBIDAS A PLATAFORMA DE TELEINFORME LOCAL (NO CENTRALIZADA)","INFORMES RECIBIDOS SIN ALTERACION"]
[null,"INFORMES RECIBIDOS CON SOSPECHA DE ALTERACION"]
["ENTREGA RESULTADOS FONDO DE OJO AL USUARIO","PRESENCIAL"]
[null,"REMOTO"]
["SECCION G: ACTIVIDADES DE REHABILITACION EN UAPORRINO"]
["ACTIVIDADES","TOTAL ACTIVIDADES","NUMERO SESIONES TOTALES REALIZADAS","NUMERO DE BENEFICIARIOS"]
["SESIONES REHABILITACION AUDITIVA INDIVIDUAL"]
["SESIONES REHABILITACION AUDITIVA GRUPAL"]
["EVALUACION ADHERENCIA"]
["SEGUIMIENTO ADHERENCIA"]
["SESIONES REHABILITACION VESTIBULAR "]
["SESIONES REHABILITACION DEGLUCION "]
["SECCION H: CANASTA INTEGRAL DERMATOLOGIA"]
["CANASTA INTEGRAL","TOTAL","<15 años",null,"15 - 19 años",null,"20 - 64 años",null,"65 y más años",null,"Medico interconsultor (vía de resolusión)"]
[null,null,"Hombres","Mujeres","Hombres","Mujeres","Hombres","Mujeres","Hombres","Mujeres","Institucional","Hospital Digital","Otra"]
["TELEINTERCONSULTAS SOLICITADAS"]
["TELEINTERCONSULTAS RESPONDIDAS",{"$f":"SUM(C151:J151)","v":0}]
["INFORMACION ENTREGADA A USUARIO",{"$f":"SUM(C152:J152)","v":0}]
["SECCIÓN I : ATENCION INTEGRAL EN CLIMATERIO"]
["CANASTA INTEGRAL","TOTAL","Grupo de Edad",null,"MODALIDAD"]
[null,null,null,null,"PRESENCIAL","REMOTA","COMPRA SERVICIOS"]
[null,null,"20 - 64 años","65 y más años",null,null,"PRESENCIAL","REMOTA"]
["CONSULTA MEDICA GINECOLOGICA EN CLIMATERIO",{"$f":"SUM(C157:D157)","v":0}]
["HORMONA FOLICULOESTIMULANTE EN SANGRE",{"$f":"SUM(C158:D158)","v":0}]
["ECOGRAFIA TRANSVAGINAL O TRANSRECTAL",{"$f":"SUM(C159:D159)","v":0}]
[]
[]
[]
[]
[]
[]
[]
[]
[]
[]
[]
[]
[]
[]
[]
[]
[]
[]
[]
[]
[]
[]
[]
[]
[]
[]
[]
[]
[]
[]
[]
[]
[]
[]
[]
[]
[]
[]
[]
[]
[]
[]
[]
[]
[]
[]
[]
[]
[]
[]
[]
[]
[]
[]
[]
[]
[]
[]
[]
[]
[]
[]
[]
[]
[]
[{"$f":"SUM(B12:B13,B17:B20,B24:B25,B27,C32:C64,C68:D101,B106:B107,B127,C130:C138,B141:B146,B151:B152,B157:B159)","v":0},{"$f":"SUM(CN11:CQ64)","v":0}]

{"sheet":"A30","index":22,"n_rows":180,"n_cols":37,"rows_kept":180,"cut":false,"hidden":false,"merged":[[105,1,105,2],[105,3,105,4],[105,15,105,16],[14,24,14,25],[14,31,14,32],[13,31,13,36],[14,13,14,14],[13,13,13,18],[13,1,13,6],[14,5,14,6],[79,5,79,6],[86,5,86,6],[79,1,79,2],[78,1,78,6],[14,33,14,34],[14,35,14,36],[13,28,13,30],[14,28,15,28],[86,10,86,11],[14,29,14,30],[14,26,14,27],[14,22,14,23],[14,17,14,18],[14,19,15,19],[79,3,79,4],[79,8,79,9],[79,12,79,13],[79,14,79,15],[79,10,79,11],[78,10,78,15],[13,0,15,0],[14,1,14,2],[14,3,14,4],[14,9,14,10],[14,11,14,12],[14,15,14,16],[14,20,14,21],[13,19,13,21],[14,7,14,8],[13,7,13,12],[13,22,13,27],[85,0,88,0],[85,1,85,9],[86,1,86,2],[86,3,86,4],[86,7,86,9],[86,12,86,13],[86,14,86,15],[86,16,86,18],[87,1,88,1],[87,2,88,2],[87,3,88,3],[87,4,88,4],[87,7,88,7],[87,8,87,9],[87,12,88,12],[85,10,85,18],[87,5,88,5],[78,0,80,0],[78,7,78,9],[122,14,122,15],[120,0,123,0],[120,1,120,9],[121,7,121,9],[122,1,123,1],[122,2,123,2],[122,3,123,3],[122,4,123,4],[122,8,122,9],[121,5,121,6],[121,1,121,2],[121,3,121,4],[105,24,105,25],[105,26,105,27],[105,22,105,23],[104,22,104,27],[87,6,88,6],[87,10,88,10],[87,11,88,11],[87,20,88,20],[85,19,86,20],[87,13,88,13],[87,14,88,14],[87,15,88,15],[87,19,88,19],[87,16,88,16],[87,17,87,18],[105,5,105,6],[105,7,105,8],[104,0,106,0],[104,19,104,21],[130,0,131,0],[130,1,132,1],[132,0,133,0],[131,10,131,11],[131,12,131,13],[104,1,104,6],[104,7,104,12],[104,13,104,18],[122,10,122,11],[120,10,121,15],[130,2,131,4],[130,5,131,7],[131,8,131,9],[130,8,130,13],[122,5,123,5],[122,6,123,6],[105,13,105,14],[105,9,105,10],[105,11,105,12],[105,17,105,18],[105,20,105,21],[122,12,122,13]]}
["SERVICIO DE SALUD"]
[{"$f":"CONCATENATE(\"COMUNA: \",NOMBRE!B2,\" - \",\"( \",NOMBRE!C2,NOMBRE!D2,NOMBRE!E2,NOMBRE!F2,NOMBRE!G2,\" )\")","v":"COMUNA:  - (  )"}]
[{"$f":"CONCATENATE(\"ESTABLECIMIENTO/ESTRATEGIA: \",NOMBRE!B3,\" - \",\"( \",NOMBRE!C3,NOMBRE!D3,NOMBRE!E3,NOMBRE!F3,NOMBRE!G3,NOMBRE!H3,\" )\")","v":"ESTABLECIMIENTO/ESTRATEGIA:  - (  )"}]
[{"$f":"CONCATENATE(\"MES: \",NOMBRE!B6,\" - \",\"( \",NOMBRE!C6,NOMBRE!D6,\" )\")","v":"MES:  - (  )"}]
[{"$f":"CONCATENATE(\"AÑO: \",NOMBRE!B7)","v":"AÑO: 2023"}]
[null,null,null,null,"REM-30: ATENCIONES POR TELEMEDICINA EN LA RED ASISTENCIAL",null,"REM-30: ATENCIONES POR TELEMEDICINA EN LA RED ASISTENCIAL"]
[]
[]
[]
["SECCIÓN A: TELEINTERCONSULTA DE ESPECIALIDAD (ATENCION REALIZADA DE MEDICO A MEDICO)"]
[]
[]
[]
["ESPECIALIDADES  ","TELEINTERCONSULTA  MEDICA DE ESPECIALIDAD AMBULATORIA  NUEVA",null,null,null,null,null,"TELEINTERCONSULTA MEDICA  DE ESPECIALIDAD AMBULATORIA  CONTROL ",null,null,null,null,null,"TOTAL TELEINTERCONSULTAS  MEDICAS AMBULATORIAS DE ESPECIALIDAD ",null,null,null,null,null,"MODALIDAD",null,null,"TELEINTERCONSULTA MEDICINA MEDICA DE ESPECIALIDAD REALIZADAS   A PACIENTES HOSPITALIZADOS ",null,null,null,null,null,"MODALIDAD",null,null,"TELEINTERCONSULTAS SOLICITADAS DESDE APS O NIVEL SECUNDARIO PARA SER RESUELTAS POR OTRO ESTABLECIMIENTO "]
[null,"0 a 14 años",null,"15 a 19 años",null,"20 y mas años",null,"0 a 14 años",null,"15 a 19 años",null,"20 y mas años",null,"0 a 14 años",null,"15 a 19 años",null,"20 y mas años",null,"Institucional","Compra de Servicio",null,"0 a 14 años",null,"15 a 19 años",null,"20 y mas años",null,"Institucional","Compra de Servicio",null,"0 a 14 años",null,"15 a 19 años",null,"20 y mas años"]
[null,"Hombres","Mujeres","Hombres","Mujeres","Hombres","Mujeres","Hombres","Mujeres","Hombres","Mujeres","Hombres","Mujeres","Hombres","Mujeres","Hombres","Mujeres","Hombres","Mujeres",null,"Sistema","Extrasistema","Hombres","Mujeres","Hombres","Mujeres","Hombres","Mujeres",null,"Sistema","Extrasistema","Hombres","Mujeres","Hombres","Mujeres","Hombres","Mujeres"]
["TOTAL",{"$f":"SUM(B18:B77)","v":0},0,0,0,{"$f":"SUM(F18:F77)","v":0},{"$f":"SUM(G18:G77)","v":0},{"$f":"SUM(H18:H77)","v":0},{"$f":"SUM(I18:I77)","v":0},0,0,0,0,{"$f":"SUM(N18:N77)","v":0},{"$f":"SUM(O18:O77)","v":0},{"$f":"SUM(P18:P77)","v":0},0,0,0,0,0,0,{"$f":"SUM(W18:W77)","v":0},{"$f":"SUM(X18:X77)","v":0},0,0,0,0,0,0,0,{"$f":"SUM(AF18:AF77)","v":0},{"$f":"SUM(AG18:AG77)","v":0},0,0,0,0]
["ANESTESIOLOGÍA",null,null,null,null,null,null,null,null,null,null,null,null,{"$f":"SUM(B18+H18)","v":0},0,0,0,0,0]
["CARDIOLOGÍA ADULTO",null,null,null,null,null,null,null,null,null,null,null,null,{"$f":"SUM(B19+H19)","v":0},{"$f":"SUM(C19+I19)","v":0},{"$f":"SUM(D19+J19)","v":0},{"$f":"SUM(E19+K19)","v":0},{"$f":"SUM(F19+L19)","v":0},{"$f":"SUM(G19+M19)","v":0}]
["CARDIOLOGÍA PEDIÁTRICA",null,null,null,null,null,null,null,null,null,null,null,null,0,0,0,0,0,0]
["CIRUGÍA CARDIOVASCULAR",null,null,null,null,null,null,null,null,null,null,null,null,0,0,0,0,0,0]
["CIRUGÍA DE CABEZA, CUELLO Y MAXILOFACIAL",null,null,null,null,null,null,null,null,null,null,null,null,0,0,0,0,0,0]
["CIRUGÍA DIGESTIVA ",null,null,null,null,null,null,null,null,null,null,null,null,0,0,0,0,0,0]
["CIRUGÍA GENERAL ADULTO",null,null,null,null,null,null,null,null,null,null,null,null,0,0,0,0,0,0]
["CIRUGÍA PEDIÁTRICA",null,null,null,null,null,null,null,null,null,null,null,null,0,0,0,0,0,0]
["CIRUGÍA PLÁSTICA Y REPARADORA ADULTO",null,null,null,null,null,null,null,null,null,null,null,null,0,0,0,0,0,0]
["CIRUGÍA PLÁSTICA Y REPARADORA PEDIÁTRICA",null,null,null,null,null,null,null,null,null,null,null,null,0,0,0,0,0,0]
["CIRUGÍA TÓRAX",null,null,null,null,null,null,null,null,null,null,null,null,0,0,0,0,0,0]
["CIRUGÍA VASCULAR PERIFÉRICA",null,null,null,null,null,null,null,null,null,null,null,null,0,0,0,0,0,0]
["COLOPROCTOLOGÍA ",null,null,null,null,null,null,null,null,null,null,null,null,0,0,0,0,0,0]
["DERMATOLOGÍA",null,null,null,null,null,null,null,null,null,null,null,null,0,0,0,0,0,0]
["DIABETOLOGÍA",null,null,null,null,null,null,null,null,null,null,null,null,0,0,0,0,0,0]
["ENDOCRINOLOGÍA ADULTO",null,null,null,null,null,null,null,null,null,null,null,null,0,0,0,0,0,0]
["ENDOCRINOLOGÍA PEDIÁTRICA",null,null,null,null,null,null,null,null,null,null,null,null,0,0,0,0,0,{"$f":"SUM(G34+M34)","v":0}]
["ENFERMEDAD RESPIRATORIA DE ADULTO (BRONCOPULMONAR)",null,null,null,null,null,null,null,null,null,null,null,null,0,0,0,0,0,0]
["ENFERMEDAD RESPIRATORIA PEDIÁTRICA (BRONCOPULMONAR INFANTIL)",null,null,null,null,null,null,null,null,null,null,null,null,0,0,0,0,0,0]
["GASTROENTEROLOGÍA ADULTO",null,null,null,null,null,null,null,null,null,null,null,null,0,0,0,0,0,0]
["GASTROENTEROLOGÍA PEDIÁTRICA",null,null,null,null,null,null,null,null,null,null,null,null,0,0,0,0,0,0]
["GENÉTICA CLÍNICA",null,null,null,null,null,null,null,null,null,null,null,null,0,0,0,0,0,0]
["GERIATRÍA",null,null,null,null,null,null,null,null,null,null,null,null,0,0,0,0,0,0]
["GINECOLOGÍA ADULTO",null,null,null,null,null,null,null,null,null,null,null,null,0,0,0,0,0,0]
["GINECOLOGÍA PEDIÁTRICA Y DE LA ADOLESCENCIA",null,null,null,null,null,null,null,null,null,null,null,null,0,0,0,0,0,0]
["HEMATOLOGÍA ADULTO",null,null,null,null,null,null,null,null,null,null,null,null,0,0,0,0,0,0]
["HEMATO-ONCOLOGÍA INFANTIL",null,null,null,null,null,null,null,null,null,null,null,null,0,0,0,0,0,0]
["IMAGENOLOGÍA",null,null,null,null,null,null,null,null,null,null,null,null,0,0,0,0,0,0]
["INFECTOLOGÍA ADULTO",null,null,null,null,null,null,null,null,null,null,null,null,0,0,0,0,0,0]
["INFECTOLOGÍA PEDIÁTRICA",null,null,null,null,null,null,null,null,null,null,null,null,0,0,0,0,0,0]
["INMUNOLOGÍA",null,null,null,null,null,null,null,null,null,null,null,null,0,0,0,0,0,0]
["MEDICINA FAMILIAR",null,null,null,null,null,null,null,null,null,null,null,null,0,0,0,0,0,0]
["MEDICINA FAMILIAR ADULTO",null,null,null,null,null,null,null,null,null,null,null,null,0,0,0,0,0,0]
["MEDICINA FAMILIAR DEL NIÑO, NIÑA Y ADOLESCENTE",null,null,null,null,null,null,null,null,null,null,null,null,0,0,0,0,0,0]
["MEDICINA FÍSICA Y REHABILITACIÓN ADULTO (FISIATRÍA ADULTO)",null,null,null,null,null,null,null,null,null,null,null,null,0,0,0,0,0,0]
["MEDICINA FÍSICA Y REHABILITACIÓN PEDIÁTRICA (FISIATRÍA PEDIÁTRICA)",null,null,null,null,null,null,null,null,null,null,null,null,0,0,0,0,0,0]
["MEDICINA INTERNA",null,null,null,null,null,null,null,null,null,null,null,null,0,0,0,0,0,0]
["MEDICINA NUCLEAR (EXCLUYE INFORMES)",null,null,null,null,null,null,null,null,null,null,null,null,0,0,0,0,0,0]
["NEFROLOGÍA ADULTO",null,null,null,null,null,null,null,null,null,null,null,null,0,0,0,0,0,0]
["NEFROLOGÍA PEDIÁTRICA",null,null,null,null,null,null,null,null,null,null,null,null,0,0,0,0,0,0]
["NEONATOLOGÍA",null,null,null,null,null,null,null,null,null,null,null,null,0,0,0,0,0,0]
["NEUROCIRUGÍA",null,null,null,null,null,null,null,null,null,null,null,null,0,0,0,0,0,0]
["NEUROLOGÍA ADULTO",null,null,null,null,null,null,null,null,null,null,null,null,0,0,0,0,0,0]
["NEUROLOGÍA PEDIÁTRICA",null,null,null,null,null,null,null,null,null,null,null,null,0,0,0,0,0,0]
["NUTRIÓLOGO ADULTO",null,null,null,null,null,null,null,null,null,null,null,null,0,0,0,0,0,0]
["NUTRIÓLOGO PEDIÁTRICO",null,null,null,null,null,null,null,null,null,null,null,null,0,0,0,0,0,0]
["OBSTETRICIA",null,null,null,null,null,null,null,null,null,null,null,null,0,0,0,0,0,0]
["OFTALMOLOGÍA",null,null,null,null,null,null,null,null,null,null,null,null,0,0,0,0,0,0]
["ONCOLOGÍA MÉDICA",null,null,null,null,null,null,null,null,null,null,null,null,0,0,0,0,0,0]
["OTORRINOLARINGOLOGÍA",null,null,null,null,null,null,null,null,null,null,null,null,0,0,0,0,0,0]
["PEDIATRÍA",null,null,null,null,null,null,null,null,null,null,null,null,0,0,0,0,0,0]
["PSIQUIATRÍA ADULTO",null,null,null,null,null,null,null,null,null,null,null,null,0,0,0,0,0,0]
["PSIQUIATRÍA PEDIÁTRICA Y DE LA ADOLESCENCIA",null,null,null,null,null,null,null,null,null,null,null,null,0,0,0,0,0,0]
["RADIOTERAPIA ONCOLÓGICA",null,null,null,null,null,null,null,null,null,null,null,null,0,0,0,0,0,0]
["REUMATOLOGÍA ADULTO",null,null,null,null,null,null,null,null,null,null,null,null,0,0,0,0,0,0]
["REUMATOLOGÍA PEDIÁTRICA",null,null,null,null,null,null,null,null,null,null,null,null,0,0,0,0,0,0]
["TRAUMATOLOGÍA Y ORTOPEDIA ADULTO",null,null,null,null,null,null,null,null,null,null,null,null,0,0,0,0,0,0]
["TRAUMATOLOGÍA Y ORTOPEDIA PEDIÁTRICA",null,null,null,null,null,null,null,null,null,null,null,null,0,0,0,0,0,0]
["UROLOGÍA ADULTO",null,null,null,null,null,null,null,null,null,null,null,null,0,0,0,0,0,0]
["UROLOGÍA PEDIÁTRICA",null,null,null,null,null,null,null,null,null,null,null,null,0,0,0,0,0,0]
["SECCIÓN B : TELEINTERCONSULTA  MÉDICA EN ESTABLECIMIENTOS DE ATENCIÓN SECUNDARIA DE URGENCIA (ATENCIÓN MEDICO A MÉDICO)"]
["TIPO DE TELEINTERCONSULTA DE URGENCIA"," TELEINTERCONSULTA  MEDICA DE URGENCIA EN HOSPITALES DE ALTA Y MEDIANA COMPLEJIDAD ",null,null,null,null,null,"MODALIDAD",null,null,"TELEINTERCONSULTAS SOLICITADAS DESDE APS O NIVEL SECUNDARIO PATRA SER RESUELTAS POR OTRO ESTABLECIMIENTO "]
[null,"0 a 14 años",null,"15 a 19 años",null,"20 y mas años",null,"Institucional ","Compra de Servicio",null,"0 a 14 años",null,"15 a 19 años",null,"20 y mas años"]
[null,"Hombres ","Mujeres","Hombres","Mujeres","Hombres","Mujeres","Establecimiento de la Red","Sistema","Extrasistema","Hombres","Mujeres","Hombres","Mujeres","Hombres","Mujeres"]
["CONSULTA URGENCIA OTROS"]
["ACCIDENTE CEREBRO VASCULAR (ACV)"]
["QUEMADOS"]
["SECCIÓN C : TELEINFORMES  EN ESTABLECIMIENTOS DE ATENCIÓN PRIMARIA, SECUNDARIA Y TERCIARIA"]
["TELEINFORMES  REALIZADOS  ","ESTABLECIMIENTOS DE NIVEL PRIMARIO DE SALUD",null,null,null,null,null,null,null,null,"ESTABLECIMIENTOS DE NIVEL SECUNDARIO Y TERCIARIO",null,null,null,null,null,null,null,null,"TOTAL TELEINFORMES REALIZADOS"]
[null,"0 a 14 años",null,"15 a 19 años",null,"20 y mas años",null,"MODALIDAD",null,null,"0 a 14 años",null,"15 a 19 años",null,"20 y mas años",null,"MODALIDAD"]
[null,"Hombres","Mujeres","Hombres","Mujeres","Hombres","Mujeres","Institucional","Compra de Servicio",null,"Hombres","Mujeres","Hombres","Mujeres","Hombres","Mujeres","Institucional","Compra de Servicio",null,"Teleinformes realizados por Inteligencia Artificial","Teleinformes realizados por Médico Especialista "]
[null,null,null,null,null,null,null,null,"Sistema","Extrasistema",null,null,null,null,null,null,null,"Sistema","Extrasistema"]
["TOTAL EMISIONES DE INFORMES",{"$f":"SUM(B91:B103)","v":0},{"$f":"SUM(C91:C103)","v":0},0,0,{"$f":"SUM(F91:F103)","v":0},{"$f":"SUM(G91:G103)","v":0},0,0,0,{"$f":"SUM(K91:K103)","v":0},{"$f":"SUM(L91:L103)","v":0},0,0,0,0,0,0,0,{"$f":"SUM(T91:T103)","v":0},{"$f":"SUM(U91:U103)","v":0}]
["N° DE INFORMES ECOGRAFÍAS OBSTETRICA"]
["N° DE INFORMES ELECTROCARDIOGRAMA"]
["N° DE INFORMES ELECTROENCEFALOGRAMA"]
["N° DE INFORMES ESPIROMETRÍAS"]
["N° DE INFORMES FONDO DE OJO (EXCLUYE RESOLUTIVIDAD)"]
["N° DE INFORMES HOLTER DE PRESIÓN ARTERIAL"]
["N° DE INFORMES TEST DE ESFUERZO"]
["N° DE INFORMES RADIOGRAFÍAS SIMPLES"]
["N° DE INFORMES RADIOGRAFÍAS DENTALES"]
["N° DE INFORMES DE TOMOGRAFÍA AXIAL COMPUTARIZADA"]
["N° DE INFORMES DE RESONANCIA MAGNÉTICA NUCLEAR"]
["N° DE INFORMES ECOGRAFÍAS ABDOMINAL"]
["N° DE MAMOGRAFÍAS"]
["SECCIÓN D: TELEINTERCONSULTA ODONTOLÓGICA "]
["ESPECIALIDADES ODONTOLÓGICAS","TELEINTERCONSULTA DE ESPECIALIDAD ODONTOLÓGICA AMBULATORIA  NUEVA",null,null,null,null,null,"TELEINTERCONSULTA DE ESPECIALIDAD ODONTOLÓGICA AMBULATORIA  CONTROL ",null,null,null,null,null,"TOTAL TELEINTERCONSULTAS AMBULATORIAS DE ESPECIALIDAD ODONTOLÓGICA ",null,null,null,null,null,"MODALIDAD",null,null,"SOLICITUD DE TELEINTERCONSULTA DE ESPECIALIDAD ODONTOLÓGICA "]
[null,"0 a 14 años",null,"15 a 19 años",null,"20 y mas años",null,"0 a 14 años",null,"15 a 19 años",null,"20 y mas años",null,"0 a 14 años",null,"15 a 19 años",null,"20 y mas años",null,"Institucional","Compra de Servicio",null,"0 a 14 años",null,"15 a 19 años",null,"20 y mas años"]
[null,"Hombres","Mujeres","Hombres","Mujeres","Hombres","Mujeres","Hombres","Mujeres","Hombres","Mujeres","Hombres","Mujeres","Hombres","Mujeres","Hombres","Mujeres","Hombres","Mujeres","Establecimiento de la Red","Sistema","Extrasistema","Hombres","Mujeres","Hombres","Mujeres","Hombres","Mujeres"]
["TOTAL",{"$f":"SUM(B109:B119)","v":0},{"$f":"SUM(C109:C119)","v":0},0,0,0,0,0,0,0,0,0,0,0,0,0,0,0,0,{"$f":"SUM(T109:T119)","v":0},{"$f":"SUM(U109:U119)","v":0},0,0,0,0,0,{"$f":"SUM(AA109:AA119)","v":0},0]
["CIRUGÍA BUCAL",null,null,null,null,null,null,null,null,null,null,null,null,{"$f":"+B109+H109","v":0},0,0,0,0,0]
["CIRUGÍA Y TRAUMATOLOGÍA MAXILOFACIAL",null,null,null,null,null,null,null,null,null,null,null,null,{"$f":"+B110+H110","v":0},0,{"$f":"+D110+J110","v":0},0,0,0]
["ENDODONCIA",null,null,null,null,null,null,null,null,null,null,null,null,0,0,0,0,0,0]
["ODONTOPEDIATRÍA",null,null,null,null,null,null,null,null,null,null,null,null,{"$f":"+B112+H112","v":0},0,0,0,0,0]
["ORTODONCIA Y ORTOPEDIA DENTO MAXILOFACIAL",null,null,null,null,null,null,null,null,null,null,null,null,0,0,{"$f":"+D113+J113","v":0},{"$f":"+E113+K113","v":0},{"$f":"+F113+L113","v":0},0]
["PERIODONCIA",null,null,null,null,null,null,null,null,null,null,null,null,0,0,0,0,0,0]
["REHABILITACIÓN: PRÓTESIS FIJA",null,null,null,null,null,null,null,null,null,null,null,null,0,0,0,0,0,0]
["REHABILITACIÓN: PRÓTESIS REMOVIBLE",null,null,null,null,null,null,null,null,null,null,null,null,0,0,0,0,0,0]
["IMPLANTOLOGÍA BUCO MAXILOFACIAL",null,null,null,null,null,null,null,null,null,null,null,null,0,0,0,0,0,0]
["PATOLOGÍA ORAL",null,null,null,null,null,null,null,null,null,null,null,null,0,0,{"$f":"+D118+J118","v":0},{"$f":"+E118+K118","v":0},0,0]
["TRASTORNOS TEMPOROMANDIBULARES Y DOLOR OROFACIAL",null,null,null,null,null,null,null,null,null,null,null,null,0,0,0,0,0,0]
["SECCIÓN E: TELEPROCEDIMIENTOS EN ATENCIÓN SECUNDARIA Y TERCIARIA"]
["TELEPROCEDIMIENTOS","ESTABLECIMIENTOS DE NIVEL SECUNDARIO Y TERCIARIO",null,null,null,null,null,null,null,null,"TELEPROCEDIMIENTOS SOLICITADOS DESDE  NIVEL SECUNDARIO Y TERCIARIO Y RESUELTOS POR OTRO ESTABLECIMIENTO "]
[null,"0 a 14 años",null,"15 a 19 años",null,"20 y mas años",null,"MODALIDAD"]
[null,"Hombres","Mujeres","Hombres","Mujeres","Hombres","Mujeres","Institucional","Compra de Servicio",null,"0 a 14 años",null,"15 a 19 años",null,"20 y mas años"]
[null,null,null,null,null,null,null,"Establecimiento de la Red","Sistema","Extrasistema","Hombres","Mujeres","Hombres","Mujeres","Hombres","Mujeres"]
["TOTAL",{"$f":"SUM(B126:B129)","v":0},{"$f":"SUM(C126:C129)","v":0},0,0,{"$f":"SUM(F126:F129)","v":0},{"$f":"SUM(G126:G129)","v":0},{"$f":"SUM(H126:H129)","v":0},0,0,{"$f":"SUM(K126:K129)","v":0},{"$f":"SUM(L126:L129)","v":0},{"$f":"SUM(M126:M129)","v":0},0,0,0]
["ECOCARDIOGRAMA"]
["TROMBOLISIS DE URGENCIA INFARTO CEREBRAL (ACV)"]
["TROMBOLISIS INTRACORONARIA (IAM)"]
["ECOGRAFÍA GINECO-OBSTÉTRICA"]
["SECCIÓN F: TELECOMITE DE ESPECIALIDAD "]
["ACTIVIDAD","TOTAL TELECOMITÉ REALIZADOS","TELECOMITÉS REALIZADOS",null,null,"TOTAL Nº DE CASOS REVISADOS",null,null,"TELECOMITÉ SOLICITADOS DESDE  NIVEL SECUNDARIO Y TERCIARIO Y RESUELTOS POR OTRO ESTABLECIMIENTO "]
[null,null,null,null,null,null,null,null,"0 a 14 años",null,"15 a 19 años",null,"20 y mas años"]
["TELECOMITÉS DE ESPECIALIDAD ",null,"0 a 14 años","15 a 19 años","20 y mas años","Ambos Sexos","Hombres","Mujeres","Hombres","Mujeres","Hombres","Mujeres","Hombres","Mujeres"]
[null,{"$f":"SUM(B135:B140)","v":0},{"$f":"SUM(C135:C140)","v":0},0,0,0,0,0,0,0,0,0,0,{"$f":"SUM(N135:N140)","v":0}]
["Oncologico"]
["Cuidados paliativos Oncologico"]
["Cuidados paliativos no Oncologico UNIVERSALES"]
["VIH"]
["Unidad de paciente crítico"]
["Otros"]
[]
[]
[]
[]
[]
[]
[]
[]
[]
[]
[]
[]
[]
[]
[]
[]
[]
[]
[]
[]
[]
[]
[]
[]
[]
[]
[]
[]
[]
[]
[]
[]
[]
[]
[]
[]
[]
[]
[]
[{"$f":"SUM(B17:AK17,B82:P84,B90:U90,B125:P125,B134:N134,B108:AB108)","v":0},0]

{"sheet":"A31","index":23,"n_rows":176,"n_cols":87,"rows_kept":176,"cut":false,"hidden":false,"merged":[[88,0,89,0],[88,1,89,1],[88,2,88,18],[81,0,81,1],[82,0,82,1],[83,0,83,1],[84,0,84,1],[85,0,85,1],[72,0,72,1],[73,0,73,1],[75,0,75,1],[76,0,76,1],[74,0,74,1],[77,0,77,1],[78,0,78,1],[79,0,79,1],[69,20,71,20],[67,0,67,1],[69,0,71,1],[69,2,71,2],[69,3,70,5],[69,6,69,13],[69,14,71,14],[70,6,70,7],[70,8,70,9],[70,10,70,11],[70,12,70,13],[69,15,71,15],[69,16,71,16],[69,17,71,17],[69,18,71,18],[69,19,71,19],[65,0,65,1],[31,4,32,4],[31,5,31,31],[49,0,50,1],[49,2,50,2],[49,3,50,3],[49,4,50,4],[49,5,50,5],[49,6,49,32],[31,3,32,3],[51,0,51,1],[52,0,52,1],[53,0,53,1],[10,44,12,44],[54,0,54,1],[60,0,60,1],[16,0,28,0],[29,0,29,1],[31,0,32,0],[31,1,32,1],[11,35,11,36],[31,2,32,2],[13,0,15,0],[10,40,12,40],[10,47,12,47],[10,48,12,48],[11,5,11,6],[11,7,11,8],[11,9,11,10],[11,11,11,12],[11,13,11,14],[11,15,11,16],[11,17,11,18],[11,19,11,20],[10,41,12,41],[10,42,12,42],[10,43,12,43],[11,37,11,38],[10,45,12,45],[10,46,12,46],[6,0,6,19],[10,0,12,1],[10,2,11,4],[10,5,10,38],[10,39,12,39],[11,21,11,22],[11,23,11,24],[11,25,11,26],[11,27,11,28],[11,29,11,30],[11,31,11,32],[11,33,11,34]]}
["SERVICIO DE SALUD"]
[{"$f":"CONCATENATE(\"COMUNA: \",NOMBRE!B2,\" - \",\"( \",NOMBRE!C2,NOMBRE!D2,NOMBRE!E2,NOMBRE!F2,NOMBRE!G2,\" )\")","v":"COMUNA:  - (  )"}]
[{"$f":"CONCATENATE(\"ESTABLECIMIENTO/ESTRATEGIA: \",NOMBRE!B3,\" - \",\"( \",NOMBRE!C3,NOMBRE!D3,NOMBRE!E3,NOMBRE!F3,NOMBRE!G3,NOMBRE!H3,\" )\")","v":"ESTABLECIMIENTO/ESTRATEGIA:  - (  )"}]
[{"$f":"CONCATENATE(\"MES: \",NOMBRE!B6,\" - \",\"( \",NOMBRE!C6,NOMBRE!D6,\" )\")","v":"MES:  - (  )"}]
[{"$f":"CONCATENATE(\"AÑO: \",NOMBRE!B7)","v":"AÑO: 2023"}]
[]
["REM-31.  MEDICINA COMPLEMENTARIA Y PRÁCTICAS DE BIENESTAR DE LA SALUD"]
[]
[]
["SECCIÓN A: TIPOS DE MEDICINA COMPLEMENTARIA Y PRÁCTICAS DE BIENESTAR DE LA SALUD ENTREGADAS EN ATENCIÓN INDIVIDUAL"]
["TIPO DE MEDICINA COMPLEMENTARIA O PRÁCTICA DE BIENESTAR DE LA SALUD",null,"Total",null,null,"POR EDAD ",null,null,null,null,null,null,null,null,null,null,null,null,null,null,null,null,null,null,null,null,null,null,null,null,null,null,null,null,null,null,null,null,null,"Atenciones realizadas durante otras consultas","Beneficiarios","Pueblos Originarios","Migrantes","Niños, Niñas, Adolescentes y Jóvenes población SENAME","Ingresos a Medicina Complementaria","Controles","Pacientes","Familiares / Cuidadores de los pacientes","Funcionarios"]
[null,null,null,null,null," 0  -  4 años",null," 5  -  9 años",null," 10 - 14  años",null,"15 a 19 años",null,"20 - 24 años",null,"25 - 29 años",null,"30 - 34 años",null,"35 - 39 años",null,"40 - 44 años",null,"45 - 49 años",null,"50 - 54 años",null,"55 - 59 años",null,"60 - 64 años",null,"65 - 69 años",null,"70 - 74 años",null,"75 - 79 años",null,"80 y mas años"]
[null,null,"Ambos Sexos","Hombres","Mujeres","Hombres","Mujeres","Hombres","Mujeres","Hombres","Mujeres","Hombres","Mujeres","Hombres","Mujeres","Hombres","Mujeres","Hombres","Mujeres","Hombres","Mujeres","Hombres","Mujeres","Hombres","Mujeres","Hombres","Mujeres","Hombres","Mujeres","Hombres","Mujeres","Hombres","Mujeres","Hombres","Mujeres","Hombres","Mujeres","Hombres","Mujeres"]
["Reguladas","Acupuntura",{"$f":"+D14+E14","v":0},{"$f":"+F14+H14+J14+L14+N14+P14+R14+T14+V14+X14+Z14+AB14+AD14+AF14+AH14+AJ14+AL14","v":0},{"$f":"+G14+I14+K14+M14+O14+Q14+S14+U14+W14+Y14+AA14+AC14+AE14+AG14+AI14+AK14+AM14","v":0},null,null,null,null,null,null,null,null,null,null,null,null,null,null,null,null,null,null,null,null,null,null,null,null,null,null,null,null,null,null,null,null,null,null,null,null,null,null,null,null,null,null,null,null,{"$f":"CA14&CB14&CC14","v":""},null,null,null,null,null,null,null,null,null,null,null,null,null,null,null,null,null,null,null,null,null,null,null,null,null,null,null,null,{"$f":"IF(CG14=1,\"* No olvide digitar la columna Beneficiarios y/o Pueblos Originario y/o Migrantes y/o Población SENAME (Digite Cero si no tiene). \",\"\")","v":""},{"$f":"IF(CH14=1,\"* El número de Beneficiarios y/o Pueblos Originarios y/o Migrantes y/o Población SENAME NO DEBE ser mayor que el Total.\",\"\")","v":""},{"$f":"IF(CI14=1,\"* La suma de Pacientes, Familiares/Cuidadores de los pacientes y Funcionarios debe ser mayor o igual al Total. \",\"\")","v":""},null,null,null,{"$f":"IF(AND(C14<>0,OR(AO14=\"\",AP14=\"\",AQ14=\"\",AR14=\"\")),1,0)","v":0},{"$f":"IF(OR(C14<AO14,C14<AP14,C14<AQ14,C14<AR14),1,0)","v":0},{"$f":"IF(C14>(AU14+AV14+AW14),1,0)","v":0}]
[null,"Homeopatía",{"$f":"+D15+E15","v":0},{"$f":"+F15+H15+J15+L15+N15+P15+R15+T15+V15+X15+Z15+AB15+AD15+AF15+AH15+AJ15+AL15","v":0},0,null,null,null,null,null,null,null,null,null,null,null,null,null,null,null,null,null,null,null,null,null,null,null,null,null,null,null,null,null,null,null,null,null,null,null,null,null,null,null,null,null,null,null,null,{"$f":"CA15&CB15&CC15","v":""},null,null,null,null,null,null,null,null,null,null,null,null,null,null,null,null,null,null,null,null,null,null,null,null,null,null,null,null,{"$f":"IF(CG15=1,\"* No olvide digitar la columna Beneficiarios y/o Pueblos Originario y/o Migrantes y/o Población SENAME (Digite Cero si no tiene). \",\"\")","v":""},{"$f":"IF(CH15=1,\"* El número de Beneficiarios y/o Pueblos Originarios y/o Migrantes y/o Población SENAME NO DEBE ser mayor que el Total.\",\"\")","v":""},{"$f":"IF(CI15=1,\"* La suma de Pacientes, Familiares/Cuidadores de los pacientes y Funcionarios debe ser mayor o igual al Total. \",\"\")","v":""},null,null,null,{"$f":"IF(AND(C15<>0,OR(AO15=\"\",AP15=\"\",AQ15=\"\",AR15=\"\")),1,0)","v":0},{"$f":"IF(OR(C15<AO15,C15<AP15,C15<AQ15,C15<AR15),1,0)","v":0},{"$f":"IF(C15>(AU15+AV15+AW15),1,0)","v":0}]
[null,"Naturopatía",0,0,0,null,null,null,null,null,null,null,null,null,null,null,null,null,null,null,null,null,null,null,null,null,null,null,null,null,null,null,null,null,null,null,null,null,null,null,null,null,null,null,null,null,null,null,null,"",null,null,null,null,null,null,null,null,null,null,null,null,null,null,null,null,null,null,null,null,null,null,null,null,null,null,null,null,"","","",null,null,null,0,0,0]
["No reguladas","Apiterapia",0,0,0,null,null,null,null,null,null,null,null,null,null,null,null,null,null,null,null,null,null,null,null,null,null,null,null,null,null,null,null,null,null,null,null,null,null,null,null,null,null,null,null,null,null,null,null,"",null,null,null,null,null,null,null,null,null,null,null,null,null,null,null,null,null,null,null,null,null,null,null,null,null,null,null,null,"","","",null,null,null,0,0,0]
[null,"Aurículoterapia",0,0,0,null,null,null,null,null,null,null,null,null,null,null,null,null,null,null,null,null,null,null,null,null,null,null,null,null,null,null,null,null,null,null,null,null,null,null,null,null,null,null,null,null,null,null,null,"",null,null,null,null,null,null,null,null,null,null,null,null,null,null,null,null,null,null,null,null,null,null,null,null,null,null,null,null,"","","",null,null,null,0,0,0]
[null,"Biomagnetismo",0,{"$f":"+F19+H19+J19+L19+N19+P19+R19+T19+V19+X19+Z19+AB19+AD19+AF19+AH19+AJ19+AL19","v":0},0,null,null,null,null,null,null,null,null,null,null,null,null,null,null,null,null,null,null,null,null,null,null,null,null,null,null,null,null,null,null,null,null,null,null,null,null,null,null,null,null,null,null,null,null,"",null,null,null,null,null,null,null,null,null,null,null,null,null,null,null,null,null,null,null,null,null,null,null,null,null,null,null,null,"","","",null,null,null,0,0,0]
[null,"Fitoterapia ",0,0,0,null,null,null,null,null,null,null,null,null,null,null,null,null,null,null,null,null,null,null,null,null,null,null,null,null,null,null,null,null,null,null,null,null,null,null,null,null,null,null,null,null,null,null,null,"",null,null,null,null,null,null,null,null,null,null,null,null,null,null,null,null,null,null,null,null,null,null,null,null,null,null,null,null,"","","",null,null,null,0,0,0]
[null,"Masoterapia",0,0,0,null,null,null,null,null,null,null,null,null,null,null,null,null,null,null,null,null,null,null,null,null,null,null,null,null,null,null,null,null,null,null,null,null,null,null,null,null,null,null,null,null,null,null,null,"",null,null,null,null,null,null,null,null,null,null,null,null,null,null,null,null,null,null,null,null,null,null,null,null,null,null,null,null,"","","",null,null,null,0,0,0]
[null,"Medicina Antroposófica",0,0,0,null,null,null,null,null,null,null,null,null,null,null,null,null,null,null,null,null,null,null,null,null,null,null,null,null,null,null,null,null,null,null,null,null,null,null,null,null,null,null,null,null,null,null,null,"",null,null,null,null,null,null,null,null,null,null,null,null,null,null,null,null,null,null,null,null,null,null,null,null,null,null,null,null,"","","",null,null,null,0,0,0]
[null,"Quiropraxia",0,0,0,null,null,null,null,null,null,null,null,null,null,null,null,null,null,null,null,null,null,null,null,null,null,null,null,null,null,null,null,null,null,null,null,null,null,null,null,null,null,null,null,null,null,null,null,"",null,null,null,null,null,null,null,null,null,null,null,null,null,null,null,null,null,null,null,null,null,null,null,null,null,null,null,null,"","","",null,null,null,0,0,0]
[null,"Reiki",0,0,0,null,null,null,null,null,null,null,null,null,null,null,null,null,null,null,null,null,null,null,null,null,null,null,null,null,null,null,null,null,null,null,null,null,null,null,null,null,null,null,null,null,null,null,null,"",null,null,null,null,null,null,null,null,null,null,null,null,null,null,null,null,null,null,null,null,null,null,null,null,null,null,null,null,"","","",null,null,null,0,0,0]
[null,"Sanación Pránica ",0,0,0,null,null,null,null,null,null,null,null,null,null,null,null,null,null,null,null,null,null,null,null,null,null,null,null,null,null,null,null,null,null,null,null,null,null,null,null,null,null,null,null,null,null,null,null,"",null,null,null,null,null,null,null,null,null,null,null,null,null,null,null,null,null,null,null,null,null,null,null,null,null,null,null,null,"","","",null,null,null,0,0,0]
[null,"Sintergética",0,0,0,null,null,null,null,null,null,null,null,null,null,null,null,null,null,null,null,null,null,null,null,null,null,null,null,null,null,null,null,null,null,null,null,null,null,null,null,null,null,null,null,null,null,null,null,"",null,null,null,null,null,null,null,null,null,null,null,null,null,null,null,null,null,null,null,null,null,null,null,null,null,null,null,null,"","","",null,null,null,0,0,0]
[null,"Terapia Floral",0,0,0,null,null,null,null,null,null,null,null,null,null,null,null,null,null,null,null,null,null,null,null,null,null,null,null,null,null,null,null,null,null,null,null,null,null,null,null,null,null,null,null,null,null,null,null,"",null,null,null,null,null,null,null,null,null,null,null,null,null,null,null,null,null,null,null,null,null,null,null,null,null,null,null,null,"","","",null,null,null,0,0,0]
[null,"Terapia Neural",0,0,0,null,null,null,null,null,null,null,null,null,null,null,null,null,null,null,null,null,null,null,null,null,null,null,null,null,null,null,null,null,null,null,null,null,null,null,null,null,null,null,null,null,null,null,null,"",null,null,null,null,null,null,null,null,null,null,null,null,null,null,null,null,null,null,null,null,null,null,null,null,null,null,null,null,"","","",null,null,null,0,0,0]
[null,"Otras",0,0,0,null,null,null,null,null,null,null,null,null,null,null,null,null,null,null,null,null,null,null,null,null,null,null,null,null,null,null,null,null,null,null,null,null,null,null,null,null,null,null,null,null,null,null,null,"",null,null,null,null,null,null,null,null,null,null,null,null,null,null,null,null,null,null,null,null,null,null,null,null,null,null,null,null,{"$f":"IF(CG29=1,\"* No olvide digitar la columna Beneficiarios y/o Pueblos Originario y/o Migrantes y/o Población SENAME (Digite Cero si no tiene). \",\"\")","v":""},{"$f":"IF(CH29=1,\"* El número de Beneficiarios y/o Pueblos Originarios y/o Migrantes y/o Población SENAME NO DEBE ser mayor que el Total.\",\"\")","v":""},"",null,null,null,{"$f":"IF(AND(C29<>0,OR(AO29=\"\",AP29=\"\",AQ29=\"\",AR29=\"\")),1,0)","v":0},{"$f":"IF(OR(C29<AO29,C29<AP29,C29<AQ29,C29<AR29),1,0)","v":0},0]
["Total",null,0,{"$f":"+F30+H30+J30+L30+N30+P30+R30+T30+V30+X30+Z30+AB30+AD30+AF30+AH30+AJ30+AL30","v":0},{"$f":"+G30+I30+K30+M30+O30+Q30+S30+U30+W30+Y30+AA30+AC30+AE30+AG30+AI30+AK30+AM30","v":0},{"$f":"SUM(F14:F29)","v":0},{"$f":"SUM(G14:G29)","v":0},{"$f":"SUM(H14:H29)","v":0},0,0,0,0,0,0,0,0,0,0,0,0,0,0,0,0,0,0,0,0,0,0,0,0,0,0,0,0,0,{"$f":"SUM(AL14:AL29)","v":0},0,0,0,0,0,0,0,0,0,{"$f":"SUM(AV14:AV29)","v":0},0]
["SECCIÓN B: MEDICINA COMPLEMENTARIA Y PRÁCTICAS DE BIENESTAR DE LA SALUD EN ATENCIONES INDIVIDUALES O GRUPALES, SEGÚN PROFESIONAL "]
["PERFIL PROFESIONAL ","Total","Acupuntura","Homeopatía","Naturopatía","No reguladas"]
[null,null,null,null,null,"Apiterapia","Arte terapia","Aurículoterapia","Biodanza","Biomagnetismo","Qi Gong","Fitoterapia","Huertos Medicinales o Alimenticio/ Medicinales","Masoterapia","Medicina Antroposófica","Meditación ","Quiropraxia","Reiki","Sanación Pránica","Sintergética","Sonoterapia","Tai Chi ","Terapia Floral","Terapia Neural","Yoga","Constelaciones Familiares","Circulos de escucha","Musicoterapia","Danzaterapia","Dramaterapia","Otras Individuales","Otras Grupales"]
["Médico",{"$f":"SUM(C34:AF34)","v":0}]
["Odontólogo",{"$f":"SUM(C35:AF35)","v":0}]
["Enfermera (o)",{"$f":"SUM(C36:AF36)","v":0}]
["Matrona (on)",0]
["Psicólogo",0]
["Fonoaudiólogo",0]
["Kinesiólogo",0]
["Farmacéutico",0]
["Paramédico",0]
["Nutricionista",0]
["Tecnólogo Médico",0]
["Asistente Social",0]
["Terapeuta Ocupacional",0]
["Terapeuta Complementario",0]
["Total",{"$f":"SUM(B34:B47)","v":0},{"$f":"SUM(C34:C47)","v":0},{"$f":"SUM(D34:D47)","v":0},0,0,0,0,{"$f":"SUM(I34:I47)","v":0},0,0,0,0,0,0,0,0,0,0,0,0,0,0,0,0,0,0,0,0,0,0,{"$f":"SUM(AF34:AF47)","v":0}]
["SECCIÓN C: ORIGEN DE LA ATENCIÓN CON MEDICINA COMPLEMENTARIA Y PRÁCTICAS DE BIENESTAR DE LA SALUD"]
["ORIGEN DE LA ATENCIÓN",null,"Total","Acupuntura","Homeopatía","Naturopatía","No reguladas"]
[null,null,null,null,null,null,"Apiterapia","Arte terapia","Aurículoterapia","Biodanza","Biomagnetismo","Qi Gong","Fitoterapia","Huertos Medicinales o Alimenticio/Medicinales","Masoterapia","Medicina Antroposófica","Meditación ","Quiropraxia","Reiki","Sanación Pránica","Sintergética","Sonoterapia","Tai Chi ","Terapia Floral","Terapia Neural","Yoga","Constelaciones Familiares","Circulos de escucha","Musicoterapia","Danzaterapia","Dramaterapia","Otras Individuales","Otras Grupales"]
["Consulta Espontánea",null,{"$f":"SUM(D52:AG52)","v":0}]
["Derivado desde Morbilidad",null,{"$f":"SUM(D53:AG53)","v":0}]
["Derivado desde Especialidad",null,0]
["Paciente Hospitalizado",null,0]
["Programa Crónicos Cardiovascular",null,0]
["Otros programas de crónicos",null,0]
["Programa de Salud Mental",null,0]
["Programa de Salud Oral",null,0]
["Programa de Salud sexual y reproductiva ",null,0]
["Chile Crece Contigo/Programa Infantil",null,0]
["Programa de Cáncer (QT/RT)",null,0]
["Programa de Dependencia  severa",null,0]
["Programa de Hospitalización Domiciliaria",null,0]
["Programa de Rehabilitación física",null,0]
["Programa de Cuidados Paliativos y Manejo del Dolor",null,0]
["Otros programas",null,0]
["Total",null,{"$f":"SUM(C52:C67)","v":0},{"$f":"SUM(D52:D67)","v":0},{"$f":"SUM(E52:E67)","v":0},{"$f":"SUM(F52:F67)","v":0},0,0,0,0,0,0,0,0,0,0,0,0,0,0,0,0,0,0,0,0,0,0,0,{"$f":"SUM(AD52:AD67)","v":0},0,0,{"$f":"SUM(AG52:AG67)","v":0}]
["SECCIÓN D: TIPOS DE MEDICINA COMPLEMENTARIA Y PRÁCTICAS DE BIENESTAR DE LA SALUD ENTREGADAS EN ATENCION GRUPAL Y COMUNITARIA"]
["TIPO DE  MEDICINA COMPLEMENTARIA O PRÁCTICA DE BIENESTAR DE LA SALUD",null,"Total de sesiones grupales","Nº de participantes",null,null,"PARTICIPANTES POR EDAD ",null,null,null,null,null,null,null,"Pacientes","Familiares / Cuidadores de los pacientes","Funcionarios","Beneficiarios","Pueblos Originarios","Migrantes","Niños, Niñas, Adolescentes y Jóvenes población SENAME"]
[null,null,null,null,null,null,"Menor de 10 años",null,"10-19 años",null,"20-64 años",null,"Mayor de 64 años"]
[null,null,null,"Ambos Sexos","Hombres","Mujeres","Hombres","Mujeres","Hombres","Mujeres","Hombres","Mujeres","Hombres","Mujeres"]
["Arte terapia",null,null,{"$f":"SUM(E73:F73)","v":0},{"$f":"SUM(G73+I73+K73+M73)","v":0},{"$f":"SUM(H73+J73+L73+N73)","v":0},null,null,null,null,null,null,null,null,null,null,null,null,null,null,null,{"$f":"CA73&CC73&CB73","v":""},null,null,null,null,null,null,null,null,null,null,null,null,null,null,null,null,null,null,null,null,null,null,null,null,null,null,null,null,null,null,null,null,null,null,null,null,null,null,null,null,null,null,null,null,null,null,null,null,null,null,null,null,null,null,null,null,{"$f":"IF(CG73=1,\"* No olvide digitar la columna Pacientes y/o Familiares y/o Funcionarios y/o Beneficiarios y/o Pueblos Originario y/o Migrantes y/o Población SENAME (Digite Cero si no tiene). \",\"\")","v":""},{"$f":"IF(CH73=1,\"* El número de Beneficiarios y/o Pueblos Originarios y/o Migrantes y/o Población SENAME NO DEBE ser mayor que el Total. \",\"\")","v":""},{"$f":"IF(CI73=1,\"* La suma de Pacientes, Familiares/Cuidadores de los pacientes y Funcionarios debe ser mayor o igual al Total de Participantes.\",\"\")","v":""},null,null,null,{"$f":"IF(AND(D73<>0,OR(R73=\"\",O73=\"\",P73=\"\",Q73=\"\",R73=\"\",S73=\"\",T73=\"\")),1,0)","v":0},{"$f":"IF(OR(D73<R73,D73<S73,D73<T73),1,0)","v":0},{"$f":"IF(D73>(O73+P73+Q73),1,0)","v":0}]
["Biodanza",null,null,{"$f":"SUM(E74:F74)","v":0},{"$f":"SUM(G74+I74+K74+M74)","v":0},{"$f":"SUM(H74+J74+L74+N74)","v":0},null,null,null,null,null,null,null,null,null,null,null,null,null,null,null,{"$f":"CA74&CC74&CB74","v":""},null,null,null,null,null,null,null,null,null,null,null,null,null,null,null,null,null,null,null,null,null,null,null,null,null,null,null,null,null,null,null,null,null,null,null,null,null,null,null,null,null,null,null,null,null,null,null,null,null,null,null,null,null,null,null,null,{"$f":"IF(CG74=1,\"* No olvide digitar la columna Pacientes y/o Familiares y/o Funcionarios y/o Beneficiarios y/o Pueblos Originario y/o Migrantes y/o Población SENAME (Digite Cero si no tiene). \",\"\")","v":""},{"$f":"IF(CH74=1,\"* El número de Beneficiarios y/o Pueblos Originarios y/o Migrantes y/o Población SENAME NO DEBE ser mayor que el Total. \",\"\")","v":""},{"$f":"IF(CI74=1,\"* La suma de Pacientes, Familiares/Cuidadores de los pacientes y Funcionarios debe ser mayor o igual al Total de Participantes.\",\"\")","v":""},null,null,null,{"$f":"IF(AND(D74<>0,OR(R74=\"\",O74=\"\",P74=\"\",Q74=\"\",R74=\"\",S74=\"\",T74=\"\")),1,0)","v":0},{"$f":"IF(OR(D74<R74,D74<S74,D74<T74),1,0)","v":0},{"$f":"IF(D74>(O74+P74+Q74),1,0)","v":0}]
["Huertos Medicinales o Alimenticio/Medicinales",null,null,0,0,0,null,null,null,null,null,null,null,null,null,null,null,null,null,null,null,"",null,null,null,null,null,null,null,null,null,null,null,null,null,null,null,null,null,null,null,null,null,null,null,null,null,null,null,null,null,null,null,null,null,null,null,null,null,null,null,null,null,null,null,null,null,null,null,null,null,null,null,null,null,null,null,null,{"$f":"IF(CG75=1,\"* No olvide digitar la columna Pacientes y/o Familiares y/o Funcionarios y/o Beneficiarios y/o Pueblos Originario y/o Migrantes y/o Población SENAME (Digite Cero si no tiene). \",\"\")","v":""},{"$f":"IF(CH75=1,\"* El número de Beneficiarios y/o Pueblos Originarios y/o Migrantes y/o Población SENAME NO DEBE ser mayor que el Total. \",\"\")","v":""},"",null,null,null,0,0,0]
["Meditación",null,null,0,0,0,null,null,null,null,null,null,null,null,null,null,null,null,null,null,null,"",null,null,null,null,null,null,null,null,null,null,null,null,null,null,null,null,null,null,null,null,null,null,null,null,null,null,null,null,null,null,null,null,null,null,null,null,null,null,null,null,null,null,null,null,null,null,null,null,null,null,null,null,null,null,null,null,"","","",null,null,null,0,0,0]
["Sonoterapia",null,null,{"$f":"SUM(E77:F77)","v":0},0,0,null,null,null,null,null,null,null,null,null,null,null,null,null,null,null,"",null,null,null,null,null,null,null,null,null,null,null,null,null,null,null,null,null,null,null,null,null,null,null,null,null,null,null,null,null,null,null,null,null,null,null,null,null,null,null,null,null,null,null,null,null,null,null,null,null,null,null,null,null,null,null,null,"","","",null,null,null,0,0,0]
["Tai Chi",null,null,{"$f":"SUM(E78:F78)","v":0},0,0,null,null,null,null,null,null,null,null,null,null,null,null,null,null,null,"",null,null,null,null,null,null,null,null,null,null,null,null,null,null,null,null,null,null,null,null,null,null,null,null,null,null,null,null,null,null,null,null,null,null,null,null,null,null,null,null,null,null,null,null,null,null,null,null,null,null,null,null,null,null,null,null,"","","",null,null,null,0,0,0]
["Yoga",null,null,0,0,0,null,null,null,null,null,null,null,null,null,null,null,null,null,null,null,"",null,null,null,null,null,null,null,null,null,null,null,null,null,null,null,null,null,null,null,null,null,null,null,null,null,null,null,null,null,null,null,null,null,null,null,null,null,null,null,null,null,null,null,null,null,null,null,null,null,null,null,null,null,null,null,null,"","","",null,null,null,0,0,0]
["Constelaciones familiares",null,null,0,0,0,null,null,null,null,null,null,null,null,null,null,null,null,null,null,null,"",null,null,null,null,null,null,null,null,null,null,null,null,null,null,null,null,null,null,null,null,null,null,null,null,null,null,null,null,null,null,null,null,null,null,null,null,null,null,null,null,null,null,null,null,null,null,null,null,null,null,null,null,null,null,null,null,"","","",null,null,null,0,0,0]
["Cìrculos de Escucha",null,null,{"$f":"SUM(E81:F81)","v":0},0,0,null,null,null,null,null,null,null,null,null,null,null,null,null,null,null,"",null,null,null,null,null,null,null,null,null,null,null,null,null,null,null,null,null,null,null,null,null,null,null,null,null,null,null,null,null,null,null,null,null,null,null,null,null,null,null,null,null,null,null,null,null,null,null,null,null,null,null,null,null,null,null,null,"","","",null,null,null,0,0,0]
["Qi Gong",null,null,{"$f":"SUM(E82:F82)","v":0},0,0,null,null,null,null,null,null,null,null,null,null,null,null,null,null,null,"",null,null,null,null,null,null,null,null,null,null,null,null,null,null,null,null,null,null,null,null,null,null,null,null,null,null,null,null,null,null,null,null,null,null,null,null,null,null,null,null,null,null,null,null,null,null,null,null,null,null,null,null,null,null,null,null,"","","",null,null,null,0,0,0]
["Danzaterapia",null,null,0,0,0,null,null,null,null,null,null,null,null,null,null,null,null,null,null,null,"",null,null,null,null,null,null,null,null,null,null,null,null,null,null,null,null,null,null,null,null,null,null,null,null,null,null,null,null,null,null,null,null,null,null,null,null,null,null,null,null,null,null,null,null,null,null,null,null,null,null,null,null,null,null,null,null,"","","",null,null,null,0,0,0]
["Musicoterapia",null,null,0,0,0,null,null,null,null,null,null,null,null,null,null,null,null,null,null,null,"",null,null,null,null,null,null,null,null,null,null,null,null,null,null,null,null,null,null,null,null,null,null,null,null,null,null,null,null,null,null,null,null,null,null,null,null,null,null,null,null,null,null,null,null,null,null,null,null,null,null,null,null,null,null,null,null,"","","",null,null,null,0,0,0]
["Dramaterapia",null,null,0,0,0,null,null,null,null,null,null,null,null,null,null,null,null,null,null,null,"",null,null,null,null,null,null,null,null,null,null,null,null,null,null,null,null,null,null,null,null,null,null,null,null,null,null,null,null,null,null,null,null,null,null,null,null,null,null,null,null,null,null,null,null,null,null,null,null,null,null,null,null,null,null,null,null,"","","",null,null,null,0,0,0]
["Otras",null,null,0,0,0,null,null,null,null,null,null,null,null,null,null,null,null,null,null,null,"",null,null,null,null,null,null,null,null,null,null,null,null,null,null,null,null,null,null,null,null,null,null,null,null,null,null,null,null,null,null,null,null,null,null,null,null,null,null,null,null,null,null,null,null,null,null,null,null,null,null,null,null,null,null,null,null,"","","",null,null,null,0,0,0]
["Total",null,{"$f":"SUM(C73:C86)","v":0},{"$f":"SUM(E87:F87)","v":0},{"$f":"SUM(E73:E86)","v":0},0,{"$f":"SUM(G73:G86)","v":0},0,0,0,0,0,0,0,0,0,0,0,0,0,{"$f":"SUM(U73:U86)","v":0}]
["SECCION K: ACCIONES REMOTAS DE MEDICINAS COMPLEMENTARIAS Y PRACTICAS DE BIENESTAR EN SALUD "]
["GRUPO OBJETIVO","TOTAL ","NÚMERO DE ACCIONES TELEFÓNICAS Y DE SEGUIMIENTO POR RANGOS DE EDAD"]
[null,null,"0 - 4 años","5 - 9 años","10 - 14 años","15 - 19 años","20 - 24 años","25 - 29 años","30 - 34 años","35 - 39 años","40 - 44 años","45 - 49 años","50 - 54 años","55 - 59 años","60 - 64 años","65 - 69 años","70 - 74 años","75 - 79 años","80 y mas años"]
["Pacientes",{"$f":"SUM(C91:S91)","v":0}]
["Familiares/Cuidadores de los pacientes ",{"$f":"SUM(C92:S92)","v":0}]
["Funcionarios",{"$f":"SUM(C93:S93)","v":0}]
[]
[]
[]
[]
[]
[]
[]
[]
[]
[]
[]
[]
[]
[]
[]
[]
[]
[]
[]
[]
[]
[]
[]
[]
[]
[]
[]
[]
[]
[]
[]
[]
[]
[]
[]
[]
[]
[]
[]
[]
[]
[]
[]
[]
[]
[]
[]
[]
[]
[]
[]
[]
[]
[]
[]
[]
[]
[]
[]
[]
[]
[]
[]
[]
[]
[]
[]
[]
[]
[]
[]
[]
[]
[]
[]
[]
[]
[]
[]
[]
[]
[]
[{"$f":"SUM(C30:AQ30,B34:B48, C52:C68,D73:D87,C87,B91:B93)","v":0},{"$f":"SUM(CG13:CH69)","v":0}]

{"sheet":"A32","index":24,"n_rows":256,"n_cols":96,"rows_kept":256,"cut":false,"hidden":false,"merged":[[120,94,121,94],[113,83,114,83],[113,93,114,93],[34,92,35,92],[34,93,35,93],[113,87,114,87],[113,81,114,81],[113,80,114,80],[120,92,121,92],[33,90,34,91],[28,79,29,79],[28,80,29,80],[28,88,29,88],[28,89,29,89],[33,78,35,78],[33,79,34,80],[33,81,34,82],[33,87,35,87],[33,88,34,89],[34,83,35,83],[34,84,35,84],[28,87,29,87],[11,89,12,89],[11,90,12,90],[11,91,12,91],[11,80,12,80],[11,81,12,81],[11,82,12,82],[21,78,22,78],[21,79,22,79],[21,80,22,80],[21,81,22,81],[21,87,22,87],[21,88,22,88],[21,89,22,89],[21,90,22,90],[11,79,12,79],[11,87,12,87],[11,88,12,88],[11,22,12,22],[113,19,114,19],[120,17,121,17],[127,21,128,21],[110,0,110,1],[127,0,128,0],[120,1,120,3],[120,4,120,11],[120,0,121,0],[120,12,121,12],[120,13,121,13],[33,21,34,22],[33,1,35,1],[33,0,35,0],[33,2,33,20],[34,2,34,18],[34,19,34,20],[134,7,134,8],[133,43,135,43],[127,26,128,26],[127,23,128,23],[127,24,128,24],[127,25,128,25],[127,2,127,18],[127,1,128,1],[120,18,121,18],[120,19,121,19],[127,19,127,20],[133,40,135,40],[133,41,135,41],[133,42,135,42],[133,39,135,39],[162,0,165,0],[166,0,169,0],[120,14,121,14],[120,15,121,15],[120,16,121,16],[11,24,12,24],[113,22,114,22],[102,0,104,0],[105,0,105,1],[106,0,106,1],[107,0,107,1],[108,0,108,1],[109,0,109,1],[101,0,101,1],[99,15,99,16],[98,0,100,1],[98,2,99,4],[136,0,146,0],[147,0,157,0],[159,0,161,0],[159,1,161,1],[159,2,160,4],[159,5,159,32],[160,5,160,6],[6,1,6,9],[7,1,7,9],[134,5,134,6],[134,13,134,14],[134,15,134,16],[134,17,134,18],[133,0,135,0],[133,1,135,1],[133,2,134,4],[133,5,133,38],[134,19,134,20],[134,21,134,22],[134,23,134,24],[134,25,134,26],[134,27,134,28],[134,29,134,30],[134,31,134,32],[134,9,134,10],[134,11,134,12],[134,33,134,34],[134,35,134,36],[134,37,134,38],[28,21,29,21],[28,22,29,22],[205,20,206,20],[211,0,212,0],[211,1,212,1],[211,2,211,3],[211,4,211,9],[211,10,212,10],[211,11,212,11],[205,0,206,0],[205,1,206,1],[205,2,206,2],[205,3,205,4],[205,5,205,18],[205,19,206,19],[198,0,199,1],[198,2,199,2],[198,3,198,9],[198,10,198,13],[200,0,203,0],[191,0,193,0],[191,1,193,1],[191,2,192,4],[191,5,193,5],[191,6,191,11],[192,6,192,11],[171,34,173,34],[172,87,173,87],[172,88,173,88],[179,0,180,0],[179,1,180,1],[179,2,179,3],[179,4,180,4],[179,5,179,19],[186,0,187,0],[186,1,186,3],[186,4,186,6],[171,0,173,0],[171,1,172,3],[171,4,171,31],[171,32,173,32],[171,33,173,33],[172,4,172,5],[172,6,172,7],[172,8,172,9],[172,22,172,23],[172,24,172,25],[172,26,172,27],[172,28,172,29],[172,30,172,31],[172,10,172,11],[172,12,172,13],[172,14,172,15],[172,16,172,17],[172,18,172,19],[172,20,172,21],[160,7,160,8],[160,9,160,10],[160,11,160,12],[160,13,160,14],[160,90,161,90],[159,33,161,33],[160,78,161,78],[160,27,160,28],[160,29,160,30],[160,31,160,32],[160,21,160,22],[160,23,160,24],[160,25,160,26],[160,15,160,16],[160,17,160,18],[160,19,160,20],[159,34,161,34],[127,92,128,92],[113,21,114,21],[127,79,128,79],[127,81,128,81],[127,82,128,82],[127,83,128,83],[127,88,128,88],[127,90,128,90],[127,91,128,91],[120,83,121,83],[113,82,114,82],[113,85,114,85],[113,84,114,84],[113,88,114,88],[127,22,128,22],[127,87,128,87],[127,78,128,78],[127,89,128,89],[127,80,128,80],[113,79,114,79],[113,78,114,78],[120,87,121,87],[120,78,121,78],[120,86,121,86],[120,95,121,95],[113,0,114,0],[113,1,113,3],[113,4,113,15],[113,16,114,16],[113,17,114,17],[113,18,114,18],[113,20,114,20],[120,84,121,84],[120,85,121,85],[120,88,121,88],[120,89,121,89],[120,90,121,90],[120,91,121,91],[113,89,114,89],[113,90,114,90],[113,91,114,91],[113,94,114,94],[113,92,114,92],[120,79,121,79],[120,80,121,80],[120,81,121,81],[120,82,121,82],[120,93,121,93],[98,43,100,43],[98,44,100,44],[98,5,98,38],[98,39,100,39],[98,40,100,40],[98,41,100,41],[98,42,100,42],[99,29,99,30],[99,31,99,32],[99,33,99,34],[99,35,99,36],[99,37,99,38],[99,5,99,6],[99,7,99,8],[99,9,99,10],[99,11,99,12],[99,13,99,14],[99,27,99,28],[99,21,99,22],[99,23,99,24],[99,25,99,26],[99,17,99,18],[99,19,99,20],[33,23,34,24],[33,25,33,34],[33,37,35,37],[33,38,35,38],[33,39,35,39],[33,40,35,40],[33,41,35,41],[33,35,35,35],[33,36,35,36],[34,30,34,34],[34,25,34,29],[9,0,9,8],[11,0,12,0],[11,1,12,1],[11,2,11,18],[28,0,29,0],[28,1,29,1],[28,2,28,18],[28,19,28,20],[28,78,29,78],[11,19,11,20],[11,21,12,21],[11,78,12,78],[11,25,12,25],[11,23,12,23],[20,11,22,11],[19,0,19,11],[20,4,20,7],[20,8,22,8],[20,9,22,9],[20,10,22,10],[20,0,22,0],[20,1,21,3],[21,4,21,5],[21,6,21,7],[227,0,229,0],[227,1,227,3],[228,2,228,3],[216,0,218,0],[216,1,217,3],[216,4,216,31],[217,4,217,5],[217,6,217,7],[217,8,217,9],[217,10,217,11],[217,12,217,13],[217,14,217,15],[217,16,217,17],[217,18,217,19],[217,20,217,21],[217,22,217,23],[217,24,217,25],[217,26,217,27],[217,28,217,29],[217,30,217,31],[223,0,224,0],[223,1,224,1],[223,2,223,6],[172,79,173,79],[134,87,135,87],[134,88,135,88],[134,89,135,89],[134,90,135,90],[134,78,135,78],[134,79,135,79],[134,80,135,80],[134,81,135,81],[160,87,161,87],[160,88,161,88],[160,79,161,79],[172,78,173,78],[172,90,173,90]]}
["SERVICIO DE SALUD"]
[{"$f":"CONCATENATE(\"COMUNA: \",NOMBRE!B2,\" - \",\"( \",NOMBRE!C2,NOMBRE!D2,NOMBRE!E2,NOMBRE!F2,NOMBRE!G2,\" )\")","v":"COMUNA:  - (  )"}]
[{"$f":"CONCATENATE(\"ESTABLECIMIENTO/ESTRATEGIA: \",NOMBRE!B3,\" - \",\"( \",NOMBRE!C3,NOMBRE!D3,NOMBRE!E3,NOMBRE!F3,NOMBRE!G3,NOMBRE!H3,\" )\")","v":"ESTABLECIMIENTO/ESTRATEGIA:  - (  )"}]
[{"$f":"CONCATENATE(\"MES: \",NOMBRE!B6,\" - \",\"( \",NOMBRE!C6,NOMBRE!D6,\" )\")","v":"MES:  - (  )"}]
[{"$f":"CONCATENATE(\"AÑO: \",NOMBRE!B7)","v":"AÑO: 2023"}]
[]
[null,"REM-32. ACTIVIDADES DE ATENCIÓN DE SALUD REMOTA "]
[null,"  "]
[]
[]
["SECCIÓN A: SEGUIMIENTO EN ATENCIÓN PRIMARIA DE SALUD POR LLAMADA TELEFÓNICA O VIDEOLLAMADAS"]
["PROFESIONAL","TOTAL","GRUPO DE EDAD (en años)",null,null,null,null,null,null,null,null,null,null,null,null,null,null,null,null," SEXO",null,"Niños, Niñas, Adolescentes y Jovenes SENAME","Niños, Niñas, Adolescentes y Jovenes Mejor Niñez","Pueblos Originarios","Migrantes","Espacios amigables",null,null,null,null,null,null,null,null,null,null,null,null,null,null,null,null,null,null,null,null,null,null,null,null,null,null,null,null,null,null,null,null,null,null,null,null,null,null,null,null,null,null,null,null,null,null,null,null,null,null,null,null,"Hombres y Mujeres Mayor a Total","NNA Sename Mayor a Total","NNA Mejor Niñez Mayor a Total","Pueblos Originarios Mayor a Total","Migrantes Mayor a Total",null,null,null,null,"Hombres y Mujeres Mayor a Total","NNA Sename Mayor a Total","NNA Mejor Niñez Mayor a Total","Pueblos Originarios Mayor a Total","Migrantes Mayor a Total"]
[null,null,"0 - 4","5 - 9"," 10 - 14","15 a 19","20 - 24","25 - 29","30 - 34","35 - 39","40 - 44","45 - 49","50 - 54","55 - 59","60 - 64","65 - 69","70 - 74","75 - 79","80 y mas","Hombres","Mujeres"]
["Médico/a",{"$f":"SUM(C14:S14)","v":0},null,null,null,null,null,null,null,null,null,null,null,null,null,null,null,null,null,null,null,null,null,null,null,null,{"$f":"CA14&CB14&CC14&CD14&CE14","v":""},null,null,null,null,null,null,null,null,null,null,null,null,null,null,null,null,null,null,null,null,null,null,null,null,null,null,null,null,null,null,null,null,null,null,null,null,null,null,null,null,null,null,null,null,null,null,null,null,null,null,null,{"$f":"IF(CJ14=1,\" *Los controles según sexo deben ser iguales  al total de Controles. \",\"\")","v":""},{"$f":"IF(CK14=1,\" *Las Atenciones de NNA SENAME no pueden superar el total de Atenciones entre los 0 Y 24 años.\",\"\")","v":""},{"$f":"IF(CL14=1,\" *Las Atenciones de NNA Mejor Niñez no pueden superar el total de Atenciones entre los 0 Y 24 años.\",\"\")","v":""},{"$f":"IF(CM14=1,\" *Las Atenciones de Pueblos Originarios no pueden superar el total de Atenciones .\",\"\")","v":""},{"$f":"IF(CN14=1,\" *Las Atenciones de Migrantes no pueden superar el total de Atenciones .\",\"\")","v":""},null,null,null,null,{"$f":"IF(T14+U14<>B14,1,0)","v":0},{"$f":"IF(SUM($C14:$G14)<V14,1,0)","v":0},0,{"$f":"IF($B14<X14,1,0)","v":0},0]
["Enfermera/ro",0,null,null,null,null,null,null,null,null,null,null,null,null,null,null,null,null,null,null,null,null,null,null,null,null,{"$f":"CA15&CB15&CC15&CD15&CE15","v":""},null,null,null,null,null,null,null,null,null,null,null,null,null,null,null,null,null,null,null,null,null,null,null,null,null,null,null,null,null,null,null,null,null,null,null,null,null,null,null,null,null,null,null,null,null,null,null,null,null,null,null,{"$f":"IF(CJ15=1,\" *Los controles según sexo deben ser iguales  al total de Controles. \",\"\")","v":""},{"$f":"IF(CK15=1,\" *Las Atenciones de NNA SENAME no pueden superar el total de Atenciones entre los 0 Y 24 años.\",\"\")","v":""},{"$f":"IF(CL15=1,\" *Las Atenciones de NNA Mejor Niñez no pueden superar el total de Atenciones entre los 0 Y 24 años.\",\"\")","v":""},{"$f":"IF(CM15=1,\" *Las Atenciones de Pueblos Originarios no pueden superar el total de Atenciones .\",\"\")","v":""},{"$f":"IF(CN15=1,\" *Las Atenciones de Migrantes no pueden superar el total de Atenciones .\",\"\")","v":""},null,null,null,null,{"$f":"IF(T15+U15<>B15,1,0)","v":0},0,0,0,0]
["Matrona/on",0,null,null,null,null,null,null,null,null,null,null,null,null,null,null,null,null,null,null,null,null,null,null,null,null,{"$f":"CA16&CB16&CC16&CD16&CE16","v":""},null,null,null,null,null,null,null,null,null,null,null,null,null,null,null,null,null,null,null,null,null,null,null,null,null,null,null,null,null,null,null,null,null,null,null,null,null,null,null,null,null,null,null,null,null,null,null,null,null,null,null,{"$f":"IF(CJ16=1,\" *Los controles según sexo deben ser iguales  al total de Controles. \",\"\")","v":""},{"$f":"IF(CK16=1,\" *Las Atenciones de NNA SENAME no pueden superar el total de Atenciones entre los 0 Y 24 años.\",\"\")","v":""},{"$f":"IF(CL16=1,\" *Las Atenciones de NNA Mejor Niñez no pueden superar el total de Atenciones entre los 0 Y 24 años.\",\"\")","v":""},{"$f":"IF(CM16=1,\" *Las Atenciones de Pueblos Originarios no pueden superar el total de Atenciones .\",\"\")","v":""},{"$f":"IF(CN16=1,\" *Las Atenciones de Migrantes no pueden superar el total de Atenciones .\",\"\")","v":""},null,null,null,null,{"$f":"IF(T16+U16<>B16,1,0)","v":0},0,0,0,0]
["Nutricionista",0,null,null,null,null,null,null,null,null,null,null,null,null,null,null,null,null,null,null,null,null,null,null,null,null,{"$f":"CA17&CB17&CC17&CD17&CE17","v":""},null,null,null,null,null,null,null,null,null,null,null,null,null,null,null,null,null,null,null,null,null,null,null,null,null,null,null,null,null,null,null,null,null,null,null,null,null,null,null,null,null,null,null,null,null,null,null,null,null,null,null,{"$f":"IF(CJ17=1,\" *Los controles según sexo deben ser iguales  al total de Controles. \",\"\")","v":""},{"$f":"IF(CK17=1,\" *Las Atenciones de NNA SENAME no pueden superar el total de Atenciones entre los 0 Y 24 años.\",\"\")","v":""},{"$f":"IF(CL17=1,\" *Las Atenciones de NNA Mejor Niñez no pueden superar el total de Atenciones entre los 0 Y 24 años.\",\"\")","v":""},{"$f":"IF(CM17=1,\" *Las Atenciones de Pueblos Originarios no pueden superar el total de Atenciones .\",\"\")","v":""},{"$f":"IF(CN17=1,\" *Las Atenciones de Migrantes no pueden superar el total de Atenciones .\",\"\")","v":""},null,null,null,null,{"$f":"IF(T17+U17<>B17,1,0)","v":0},0,0,0,0]
["Otros Profesionales",0,null,null,null,null,null,null,null,null,null,null,null,null,null,null,null,null,null,null,null,null,null,null,null,null,{"$f":"CA18&CB18&CC18&CD18&CE18","v":""},null,null,null,null,null,null,null,null,null,null,null,null,null,null,null,null,null,null,null,null,null,null,null,null,null,null,null,null,null,null,null,null,null,null,null,null,null,null,null,null,null,null,null,null,null,null,null,null,null,null,null,{"$f":"IF(CJ18=1,\" *Los controles según sexo deben ser iguales  al total de Controles. \",\"\")","v":""},{"$f":"IF(CK18=1,\" *Las Atenciones de NNA SENAME no pueden superar el total de Atenciones entre los 0 Y 24 años.\",\"\")","v":""},{"$f":"IF(CL18=1,\" *Las Atenciones de NNA Mejor Niñez no pueden superar el total de Atenciones entre los 0 Y 24 años.\",\"\")","v":""},{"$f":"IF(CM18=1,\" *Las Atenciones de Pueblos Originarios no pueden superar el total de Atenciones .\",\"\")","v":""},{"$f":"IF(CN18=1,\" *Las Atenciones de Migrantes no pueden superar el total de Atenciones .\",\"\")","v":""},null,null,null,null,{"$f":"IF(T18+U18<>B18,1,0)","v":0},0,0,0,0]
["TOTAL ",0,{"$f":"SUM(C14:C18)","v":0},0,0,0,0,0,0,0,0,0,0,0,0,0,0,0,0,{"$f":"SUM(T14:T18)","v":0},{"$f":"SUM(U14:U18)","v":0},0,0,0,0,0]
["SECCIÓN B: CONSULTA  ABREVIADA MEDIANTE TELESALUD"]
["TIPO DE ACTIVIDAD","TOTAL",null,null,"NÚMERO DE ACCIONES POR RANGOS DE EDAD",null,null,null,"Médico/a","Otros profesionales","Pueblos Originarios","Migrantes"]
[null,null,null,null,"menores de 15 años",null,"15 años y más",null,null,null,null,null,null,null,null,null,null,null,null,null,null,null,null,null,null,null,null,null,null,null,null,null,null,null,null,null,null,null,null,null,null,null,null,null,null,null,null,null,null,null,null,null,null,null,null,null,null,null,null,null,null,null,null,null,null,null,null,null,null,null,null,null,null,null,null,null,null,null,"Medico Mayor a Total","Otros Profesionales Mayor a Total","Pueblos Originarios Mayor a Total","Migrantes Mayor a Total",null,null,null,null,null,"Medico Mayor a Total","Otros Profesionales Mayor a Total","Pueblos Originarios Mayor a Total","Migrantes Mayor a Total"]
[null,"Ambos Sexos","Hombres","Mujeres","Hombres","Mujeres","Hombres","Mujeres"]
["Entrega de resultados de exámenes",{"$f":"SUM(C24:D24)","v":0},{"$f":"+E24+G24","v":0},0,null,null,null,null,null,null,null,null,{"$f":"CA24&CB24&CC24&CD24&CE24","v":""},null,null,null,null,null,null,null,null,null,null,null,null,null,null,null,null,null,null,null,null,null,null,null,null,null,null,null,null,null,null,null,null,null,null,null,null,null,null,null,null,null,null,null,null,null,null,null,null,null,null,null,null,null,null,null,null,null,null,null,null,null,null,null,null,null,{"$f":"IF(CJ24=1,\" *Las Consultas de Medicos no pueden superar el total de Consultas. \",\"\")","v":""},{"$f":"IF(CK24=1,\" *Las Consultas de Otros Profesionales no pueden superar el total de Consultas.\",\"\")","v":""},{"$f":"IF(CL24=1,\" *Las Consultas de Pueblos Originarios no pueden superar el total de Consultas.\",\"\")","v":""},{"$f":"IF(CM24=1,\" *Las Consultas de Migrantes no pueden superar el total de Consultas.\",\"\")","v":""},null,null,null,null,null,{"$f":"IF($B24<I24,1,0)","v":0},0,0,0]
["Confección de recetas",{"$f":"SUM(C25:D25)","v":0},0,0,null,null,null,null,null,null,null,null,{"$f":"CA25&CB25&CC25&CD25&CE25","v":""},null,null,null,null,null,null,null,null,null,null,null,null,null,null,null,null,null,null,null,null,null,null,null,null,null,null,null,null,null,null,null,null,null,null,null,null,null,null,null,null,null,null,null,null,null,null,null,null,null,null,null,null,null,null,null,null,null,null,null,null,null,null,null,null,null,{"$f":"IF(CJ25=1,\" *Las Consultas de Medicos no pueden superar el total de Consultas. \",\"\")","v":""},{"$f":"IF(CK25=1,\" *Las Consultas de Otros Profesionales no pueden superar el total de Consultas.\",\"\")","v":""},{"$f":"IF(CL25=1,\" *Las Consultas de Pueblos Originarios no pueden superar el total de Consultas.\",\"\")","v":""},{"$f":"IF(CM25=1,\" *Las Consultas de Migrantes no pueden superar el total de Consultas.\",\"\")","v":""},null,null,null,null,null,0,0,0,0]
["Renovación de licencias médicas",{"$f":"SUM(C26:D26)","v":0},0,0,null,null,null,null,null,null,null,null,{"$f":"CA26&CB26&CC26&CD26&CE26","v":""},null,null,null,null,null,null,null,null,null,null,null,null,null,null,null,null,null,null,null,null,null,null,null,null,null,null,null,null,null,null,null,null,null,null,null,null,null,null,null,null,null,null,null,null,null,null,null,null,null,null,null,null,null,null,null,null,null,null,null,null,null,null,null,null,null,{"$f":"IF(CJ26=1,\" *Las Consultas de Medicos no pueden superar el total de Consultas. \",\"\")","v":""},{"$f":"IF(CK26=1,\" *Las Consultas de Otros Profesionales no pueden superar el total de Consultas.\",\"\")","v":""},{"$f":"IF(CL26=1,\" *Las Consultas de Pueblos Originarios no pueden superar el total de Consultas.\",\"\")","v":""},{"$f":"IF(CM26=1,\" *Las Consultas de Migrantes no pueden superar el total de Consultas.\",\"\")","v":""},null,null,null,null,null,0,0,0,0]
["TOTAL",{"$f":"SUM(B24:B26)","v":0},{"$f":"SUM(C24:C26)","v":0},{"$f":"SUM(D24:D26)","v":0},{"$f":"SUM(E24:E26)","v":0},{"$f":"SUM(F24:F26)","v":0},0,0,0,0,0,0]
["SECCIÓN C: CONSULTA MÉDICA EN ATENCIÓN PRIMARIA DE SALUD POR LLAMADA TELEFÓNICA O VIDEOLLAMADAS"]
[null,"TOTAL","GRUPO DE EDAD (en años)",null,null,null,null,null,null,null,null,null,null,null,null,null,null,null,null,"SEXO",null,"Pueblos Originarios","Migrantes",null,null,null,null,null,null,null,null,null,null,null,null,null,null,null,null,null,null,null,null,null,null,null,null,null,null,null,null,null,null,null,null,null,null,null,null,null,null,null,null,null,null,null,null,null,null,null,null,null,null,null,null,null,null,null,"Hombres y Mujeres Mayor a Total","Pueblos Originarios Mayor a Total","Migrantes Mayor a Total",null,null,null,null,null,null,"Hombres y Mujeres Mayor a Total","Pueblos Originarios Mayor a Total","Migrantes Mayor a Total"]
[null,null,"0 - 4","5 - 9","10 - 14","15 - 19","20 - 24","25 - 29","30 - 34","35 - 39","40 - 44","45 - 49","50 - 54","55 - 59","60 - 64","65 - 69","70 - 74","75 - 79","80 y mas","Hombres","Mujeres"]
["Medicina General",{"$f":"SUM(C31:S31)","v":0},null,null,null,null,null,null,null,null,null,null,null,null,null,null,null,null,null,null,null,null,null,{"$f":"CA31&CB31&CC31&CD31&CE31","v":""},null,null,null,null,null,null,null,null,null,null,null,null,null,null,null,null,null,null,null,null,null,null,null,null,null,null,null,null,null,null,null,null,null,null,null,null,null,null,null,null,null,null,null,null,null,null,null,null,null,null,null,null,null,null,{"$f":"IF(CJ31=1,\" *Las consultas según sexo deben ser iguales  al total de Consultas. \",\"\")","v":""},{"$f":"IF(CK31=1,\" *Las Consultas de Pueblos Originarios no pueden superar el total de Consultas.\",\"\")","v":""},{"$f":"IF(CL31=1,\" *Las Consultas de Migrantes no pueden superar el total de Consultas.\",\"\")","v":""},null,null,null,null,null,null,{"$f":"IF(U31+T31<>B31,1,0)","v":0},{"$f":"IF($B31<V31,1,0)","v":0},{"$f":"IF($B31<W31,1,0)","v":0}]
["SECCIÓN D: ATENCIONES TELEFONICAS EN CONSULTAS Y CONTROLES"]
["SECCIÓN D1: ATENCIONES REMOTAS MEDICAS EN ESPECIALIDAD"]
["ACTIVIDADES","Total","ATENCIONES REMOTAS DE CONSULTAS TOTALES DE ESPECIALIDAD",null,null,null,null,null,null,null,null,null,null,null,null,null,null,null,null,null,null,"NO CONTESTA",null,"ALTA DE CONSULTA DE ESPECIALIDAD AMBULATORIA REMOTA",null,"TELECONSULTAS NUEVAS DE ESPECIALIDAD SEGÚN ORIGEN",null,null,null,null,null,null,null,null,null,"Teleconsulta Nueva","Teleconsulta Control","Teleconsulta Abreviada  (Videollamada)/ Consulta Abreviada Telefónica Atención Remota: entrega de los resultados de exámenes o procedimiento (Confección de recetas o lectura de exámenes)","Teleconsultorías","Pueblos Originarios","Migrantes","Médicos Generales",null,null,null,null,null,null,null,null,null,null,null,null,null,null,null,null,null,null,null,null,null,null,null,null,null,null,null,null,null,null,null,null,null,null,null,null,"Hombres y Mujeres Mayor a Total","ATENCIONES TELEFÓNICAS DE CONSULTAS NUEVAS DE ESPECIALIDAD SEGÚN ORIGEN",null,"NUMERO DE ALTAS",null,null,null,null,null,"Hombres y Mujeres Mayor a Total","ATENCIONES TELEFÓNICAS DE CONSULTAS NUEVAS DE ESPECIALIDAD SEGÚN ORIGEN",null,"NUMERO DE ALTAS"]
[null,null,"GRUPO DE EDAD (en años)",null,null,null,null,null,null,null,null,null,null,null,null,null,null,null,null,"SEXO",null,null,null,null,null,"Menos 15 años",null,null,null,null,"De 15 y más años",null,null,null,null,null,null,null,null,null,null,null,null,null,null,null,null,null,null,null,null,null,null,null,null,null,null,null,null,null,null,null,null,null,null,null,null,null,null,null,null,null,null,null,null,null,null,null,null,null,null,null,null,"Pueblos Originarios Mayor a Total","Migrantes Mayor a Total",null,null,null,null,null,null,null,"Pueblos Originarios Mayor a Total","Migrantes Mayor a Total"]
[null,null,"0 - 4","5 - 9","10 - 14","15 - 19","20 - 24","25 - 29","30 - 34","35 - 39","40 - 44","45 - 49","50 - 54","55 - 59","60 - 64","65 - 69","70 - 74","75 - 79","80 y mas","Hombres","Mujeres","NUEVAS","CONTROLES","Menos \n15 años","15 y más \naños","TOTAL","APS","CAE/CDT/CRS","Urgencia","Hospitalización","Total","APS","CAE/CDT/CRS","Urgencia","Hospitalización",null,null,null,null,null,null,null,null,null,null,null,null,null,null,null,null,null,null,null,null,null,null,null,null,null,null,null,null,null,null,null,null,null,null,null,null,null,null,null,null,null,null,null,null,"Menos 15 años","De 15 y más años","Menos 15 años","De 15 y más años",null,null,null,null,null,"Menos 15 años","De 15 y más años","Menos 15 años","De 15 y más años"]
["ANESTESIOLOGÍA",{"$f":"SUM(C37:S37)","v":0},null,null,null,null,null,null,null,null,null,null,null,null,null,null,null,null,null,null,null,null,null,null,null,{"$f":"SUM(AA37+AB37+AC37+AD37)","v":0},null,null,null,null,{"$f":"SUM(AF37+AG37+AH37+AI37)","v":0},null,null,null,null,null,null,null,null,null,null,null,{"$f":"CA37&CB37&CC37&CD37&CE37&CF37&CG37","v":""},null,null,null,null,null,null,null,null,null,null,null,null,null,null,null,null,null,null,null,null,null,null,null,null,null,null,null,null,null,null,null,null,null,null,null,{"$f":"IF(CJ37=1,\" *Atenciones según sexo deben ser iguales  al total de Atenciones. \",\"\")","v":""},{"$f":"IF(CK37=1,\"* El total de atenciones remotas de consultas nuevas según origen de menores de 15 años NO DEBE superar el total de atenciones del grupo indicado. \",\"\")","v":""},{"$f":"IF(CL37=1,\"* El total de atenciones remotas de consultas nuevas según origen de pacientes de 15 y más años NO DEBE superar el total de atenciones del grupo indicado. \",\"\")","v":""},{"$f":"IF(CM37=1,\"* El total de altas de consultas nuevas según origen de menores de 15 años NO DEBE superar el total de atenciones del grupo indicado. \",\"\")","v":""},{"$f":"IF(CN37=1,\"* El total de altas de consultas nuevas según origen de pacientes de 15 y más años NO DEBE superar el total de atenciones del grupo indicado. \",\"\")","v":""},{"$f":"IF(CO37=1,\" *Las Atenciones de Pueblos Originarios no pueden superar el total de Atenciones.\",\"\")","v":""},{"$f":"IF(CP37=1,\" *Las Atenciones de Migrantes no pueden superar el total de Atenciones.\",\"\")","v":""},null,null,{"$f":"IF(T37+U37<>B37,1,0)","v":0},{"$f":"IF(Z37>SUM($C37:$E37),1,0)","v":0},{"$f":"IF(AE37>SUM($F37:$S37),1,0)","v":0},{"$f":"IF(X37>SUM($C37:$E37),1,0)","v":0},{"$f":"IF(Y37>SUM($F37:$S37),1,0)","v":0},{"$f":"IF($B37<AN37,1,0)","v":0},{"$f":"IF($B37<AO37,1,0)","v":0}]
["CARDIOLOGÍA ADULTO",{"$f":"SUM(C38:S38)","v":0},null,null,null,null,null,null,null,null,null,null,null,null,null,null,null,null,null,null,null,null,null,null,null,{"$f":"SUM(AA38+AB38+AC38+AD38)","v":0},null,null,null,null,{"$f":"SUM(AF38+AG38+AH38+AI38)","v":0},null,null,null,null,null,null,null,null,null,null,null,{"$f":"CA38&CB38&CC38&CD38&CE38&CF38&CG38","v":""},null,null,null,null,null,null,null,null,null,null,null,null,null,null,null,null,null,null,null,null,null,null,null,null,null,null,null,null,null,null,null,null,null,null,null,"","","","","","","",null,null,0,0,0,0,0,0,0]
["CARDIOLOGÍA PEDIÁTRICA",0,null,null,null,null,null,null,null,null,null,null,null,null,null,null,null,null,null,null,null,null,null,null,null,0,null,null,null,null,0,null,null,null,null,null,null,null,null,null,null,null,"",null,null,null,null,null,null,null,null,null,null,null,null,null,null,null,null,null,null,null,null,null,null,null,null,null,null,null,null,null,null,null,null,null,null,null,"","","","","","","",null,null,0,0,0,0,0,0,0]
["CIRUGÍA CARDIOVASCULAR",0,null,null,null,null,null,null,null,null,null,null,null,null,null,null,null,null,null,null,null,null,null,null,null,0,null,null,null,null,0,null,null,null,null,null,null,null,null,null,null,null,"",null,null,null,null,null,null,null,null,null,null,null,null,null,null,null,null,null,null,null,null,null,null,null,null,null,null,null,null,null,null,null,null,null,null,null,"","","","","","","",null,null,0,0,0,0,0,0,0]
["CIRUGÍA DE CABEZA, CUELLO Y MAXILOFACIAL",0,null,null,null,null,null,null,null,null,null,null,null,null,null,null,null,null,null,null,null,null,null,null,null,0,null,null,null,null,0,null,null,null,null,null,null,null,null,null,null,null,"",null,null,null,null,null,null,null,null,null,null,null,null,null,null,null,null,null,null,null,null,null,null,null,null,null,null,null,null,null,null,null,null,null,null,null,"","","","","","","",null,null,0,0,0,0,0,0,0]
["CIRUGÍA DIGESTIVA ",0,null,null,null,null,null,null,null,null,null,null,null,null,null,null,null,null,null,null,null,null,null,null,null,0,null,null,null,null,0,null,null,null,null,null,null,null,null,null,null,null,"",null,null,null,null,null,null,null,null,null,null,null,null,null,null,null,null,null,null,null,null,null,null,null,null,null,null,null,null,null,null,null,null,null,null,null,"","","","","","","",null,null,0,0,0,0,0,0,0]
["CIRUGÍA GENERAL ADULTO",0,null,null,null,null,null,null,null,null,null,null,null,null,null,null,null,null,null,null,null,null,null,null,null,0,null,null,null,null,0,null,null,null,null,null,null,null,null,null,null,null,"",null,null,null,null,null,null,null,null,null,null,null,null,null,null,null,null,null,null,null,null,null,null,null,null,null,null,null,null,null,null,null,null,null,null,null,"","","","","","","",null,null,0,0,0,0,0,0,0]
["CIRUGÍA PEDIÁTRICA",0,null,null,null,null,null,null,null,null,null,null,null,null,null,null,null,null,null,null,null,null,null,null,null,0,null,null,null,null,0,null,null,null,null,null,null,null,null,null,null,null,"",null,null,null,null,null,null,null,null,null,null,null,null,null,null,null,null,null,null,null,null,null,null,null,null,null,null,null,null,null,null,null,null,null,null,null,"","","","","","","",null,null,0,0,0,0,0,0,0]
["CIRUGÍA PLÁSTICA Y REPARADORA ADULTO",0,null,null,null,null,null,null,null,null,null,null,null,null,null,null,null,null,null,null,null,null,null,null,null,0,null,null,null,null,0,null,null,null,null,null,null,null,null,null,null,null,"",null,null,null,null,null,null,null,null,null,null,null,null,null,null,null,null,null,null,null,null,null,null,null,null,null,null,null,null,null,null,null,null,null,null,null,"","","","","","","",null,null,0,0,0,0,0,0,0]
["CIRUGÍA PLÁSTICA Y REPARADORA PEDIÁTRICA",0,null,null,null,null,null,null,null,null,null,null,null,null,null,null,null,null,null,null,null,null,null,null,null,0,null,null,null,null,0,null,null,null,null,null,null,null,null,null,null,null,"",null,null,null,null,null,null,null,null,null,null,null,null,null,null,null,null,null,null,null,null,null,null,null,null,null,null,null,null,null,null,null,null,null,null,null,"","","","","","","",null,null,0,0,0,0,0,0,0]
["CIRUGÍA TÓRAX",0,null,null,null,null,null,null,null,null,null,null,null,null,null,null,null,null,null,null,null,null,null,null,null,0,null,null,null,null,0,null,null,null,null,null,null,null,null,null,null,null,"",null,null,null,null,null,null,null,null,null,null,null,null,null,null,null,null,null,null,null,null,null,null,null,null,null,null,null,null,null,null,null,null,null,null,null,"","","","","","","",null,null,0,0,0,0,0,0,0]
["CIRUGÍA VASCULAR PERIFÉRICA",0,null,null,null,null,null,null,null,null,null,null,null,null,null,null,null,null,null,null,null,null,null,null,null,0,null,null,null,null,0,null,null,null,null,null,null,null,null,null,null,null,"",null,null,null,null,null,null,null,null,null,null,null,null,null,null,null,null,null,null,null,null,null,null,null,null,null,null,null,null,null,null,null,null,null,null,null,"","","","","","","",null,null,0,0,0,0,0,0,0]
["COLOPROCTOLOGÍA ",0,null,null,null,null,null,null,null,null,null,null,null,null,null,null,null,null,null,null,null,null,null,null,null,0,null,null,null,null,0,null,null,null,null,null,null,null,null,null,null,null,"",null,null,null,null,null,null,null,null,null,null,null,null,null,null,null,null,null,null,null,null,null,null,null,null,null,null,null,null,null,null,null,null,null,null,null,"","","","","","","",null,null,0,0,0,0,0,0,0]
["DERMATOLOGÍA",0,null,null,null,null,null,null,null,null,null,null,null,null,null,null,null,null,null,null,null,null,null,null,null,0,null,null,null,null,0,null,null,null,null,null,null,null,null,null,null,null,"",null,null,null,null,null,null,null,null,null,null,null,null,null,null,null,null,null,null,null,null,null,null,null,null,null,null,null,null,null,null,null,null,null,null,null,"","","","","","","",null,null,0,0,0,0,0,0,0]
["DIABETOLOGÍA",0,null,null,null,null,null,null,null,null,null,null,null,null,null,null,null,null,null,null,null,null,null,null,null,0,null,null,null,null,0,null,null,null,null,null,null,null,null,null,null,null,"",null,null,null,null,null,null,null,null,null,null,null,null,null,null,null,null,null,null,null,null,null,null,null,null,null,null,null,null,null,null,null,null,null,null,null,"","","","","","","",null,null,0,0,0,0,0,0,0]
["ENDOCRINOLOGÍA ADULTO",0,null,null,null,null,null,null,null,null,null,null,null,null,null,null,null,null,null,null,null,null,null,null,null,0,null,null,null,null,0,null,null,null,null,null,null,null,null,null,null,null,"",null,null,null,null,null,null,null,null,null,null,null,null,null,null,null,null,null,null,null,null,null,null,null,null,null,null,null,null,null,null,null,null,null,null,null,"","","","","","","",null,null,0,0,0,0,0,0,0]
["ENDOCRINOLOGÍA PEDIÁTRICA",0,null,null,null,null,null,null,null,null,null,null,null,null,null,null,null,null,null,null,null,null,null,null,null,0,null,null,null,null,0,null,null,null,null,null,null,null,null,null,null,null,"",null,null,null,null,null,null,null,null,null,null,null,null,null,null,null,null,null,null,null,null,null,null,null,null,null,null,null,null,null,null,null,null,null,null,null,"","","","","","","",null,null,0,0,0,0,0,0,0]
["ENFERMEDAD RESPIRATORIA DE ADULTO (BRONCOPULMONAR)",0,null,null,null,null,null,null,null,null,null,null,null,null,null,null,null,null,null,null,null,null,null,null,null,0,null,null,null,null,0,null,null,null,null,null,null,null,null,null,null,null,"",null,null,null,null,null,null,null,null,null,null,null,null,null,null,null,null,null,null,null,null,null,null,null,null,null,null,null,null,null,null,null,null,null,null,null,"","","","","","","",null,null,0,0,0,0,0,0,0]
["ENFERMEDAD RESPIRATORIA PEDIÁTRICA (BRONCOPULMONAR INFANTIL)",0,null,null,null,null,null,null,null,null,null,null,null,null,null,null,null,null,null,null,null,null,null,null,null,0,null,null,null,null,0,null,null,null,null,null,null,null,null,null,null,null,"",null,null,null,null,null,null,null,null,null,null,null,null,null,null,null,null,null,null,null,null,null,null,null,null,null,null,null,null,null,null,null,null,null,null,null,"","","","","","","",null,null,0,0,0,0,0,0,0]
["GASTROENTEROLOGÍA ADULTO",0,null,null,null,null,null,null,null,null,null,null,null,null,null,null,null,null,null,null,null,null,null,null,null,0,null,null,null,null,0,null,null,null,null,null,null,null,null,null,null,null,"",null,null,null,null,null,null,null,null,null,null,null,null,null,null,null,null,null,null,null,null,null,null,null,null,null,null,null,null,null,null,null,null,null,null,null,"","","","","","","",null,null,0,0,0,0,0,0,0]
["GASTROENTEROLOGÍA PEDIÁTRICA",0,null,null,null,null,null,null,null,null,null,null,null,null,null,null,null,null,null,null,null,null,null,null,null,0,null,null,null,null,0,null,null,null,null,null,null,null,null,null,null,null,"",null,null,null,null,null,null,null,null,null,null,null,null,null,null,null,null,null,null,null,null,null,null,null,null,null,null,null,null,null,null,null,null,null,null,null,"","","","","","","",null,null,0,0,0,0,0,0,0]
["GENÉTICA CLÍNICA",0,null,null,null,null,null,null,null,null,null,null,null,null,null,null,null,null,null,null,null,null,null,null,null,0,null,null,null,null,0,null,null,null,null,null,null,null,null,null,null,null,"",null,null,null,null,null,null,null,null,null,null,null,null,null,null,null,null,null,null,null,null,null,null,null,null,null,null,null,null,null,null,null,null,null,null,null,"","","","","","","",null,null,0,0,0,0,0,0,0]
["GERIATRÍA",0,null,null,null,null,null,null,null,null,null,null,null,null,null,null,null,null,null,null,null,null,null,null,null,0,null,null,null,null,0,null,null,null,null,null,null,null,null,null,null,null,"",null,null,null,null,null,null,null,null,null,null,null,null,null,null,null,null,null,null,null,null,null,null,null,null,null,null,null,null,null,null,null,null,null,null,null,"","","","","","","",null,null,0,0,0,0,0,0,0]
["GINECOLOGÍA ADULTO",0,null,null,null,null,null,null,null,null,null,null,null,null,null,null,null,null,null,null,null,null,null,null,null,0,null,null,null,null,0,null,null,null,null,null,null,null,null,null,null,null,"",null,null,null,null,null,null,null,null,null,null,null,null,null,null,null,null,null,null,null,null,null,null,null,null,null,null,null,null,null,null,null,null,null,null,null,"","","","","","","",null,null,0,0,0,0,0,0,0]
["GINECOLOGÍA PEDIÁTRICA Y DE LA ADOLESCENCIA",0,null,null,null,null,null,null,null,null,null,null,null,null,null,null,null,null,null,null,null,null,null,null,null,0,null,null,null,null,0,null,null,null,null,null,null,null,null,null,null,null,"",null,null,null,null,null,null,null,null,null,null,null,null,null,null,null,null,null,null,null,null,null,null,null,null,null,null,null,null,null,null,null,null,null,null,null,"","","","","","","",null,null,0,0,0,0,0,0,0]
["HEMATOLOGÍA ADULTO",0,null,null,null,null,null,null,null,null,null,null,null,null,null,null,null,null,null,null,null,null,null,null,null,0,null,null,null,null,0,null,null,null,null,null,null,null,null,null,null,null,"",null,null,null,null,null,null,null,null,null,null,null,null,null,null,null,null,null,null,null,null,null,null,null,null,null,null,null,null,null,null,null,null,null,null,null,"","","","","","","",null,null,0,0,0,0,0,0,0]
["HEMATO-ONCOLOGÍA INFANTIL",0,null,null,null,null,null,null,null,null,null,null,null,null,null,null,null,null,null,null,null,null,null,null,null,0,null,null,null,null,0,null,null,null,null,null,null,null,null,null,null,null,"",null,null,null,null,null,null,null,null,null,null,null,null,null,null,null,null,null,null,null,null,null,null,null,null,null,null,null,null,null,null,null,null,null,null,null,"","","","","","","",null,null,0,0,0,0,0,0,0]
["IMAGENOLOGÍA",0,null,null,null,null,null,null,null,null,null,null,null,null,null,null,null,null,null,null,null,null,null,null,null,0,null,null,null,null,0,null,null,null,null,null,null,null,null,null,null,null,"",null,null,null,null,null,null,null,null,null,null,null,null,null,null,null,null,null,null,null,null,null,null,null,null,null,null,null,null,null,null,null,null,null,null,null,"","","","","","","",null,null,0,0,0,0,0,0,0]
["INFECTOLOGÍA ADULTO",0,null,null,null,null,null,null,null,null,null,null,null,null,null,null,null,null,null,null,null,null,null,null,null,0,null,null,null,null,0,null,null,null,null,null,null,null,null,null,null,null,"",null,null,null,null,null,null,null,null,null,null,null,null,null,null,null,null,null,null,null,null,null,null,null,null,null,null,null,null,null,null,null,null,null,null,null,"","","","","","","",null,null,0,0,0,0,0,0,0]
["INFECTOLOGÍA PEDIÁTRICA",0,null,null,null,null,null,null,null,null,null,null,null,null,null,null,null,null,null,null,null,null,null,null,null,0,null,null,null,null,0,null,null,null,null,null,null,null,null,null,null,null,"",null,null,null,null,null,null,null,null,null,null,null,null,null,null,null,null,null,null,null,null,null,null,null,null,null,null,null,null,null,null,null,null,null,null,null,"","","","","","","",null,null,0,0,0,0,0,0,0]
["INMUNOLOGÍA",0,null,null,null,null,null,null,null,null,null,null,null,null,null,null,null,null,null,null,null,null,null,null,null,0,null,null,null,null,0,null,null,null,null,null,null,null,null,null,null,null,"",null,null,null,null,null,null,null,null,null,null,null,null,null,null,null,null,null,null,null,null,null,null,null,null,null,null,null,null,null,null,null,null,null,null,null,"","","","","","","",null,null,0,0,0,0,0,0,0]
["MEDICINA FAMILIAR",0,null,null,null,null,null,null,null,null,null,null,null,null,null,null,null,null,null,null,null,null,null,null,null,0,null,null,null,null,0,null,null,null,null,null,null,null,null,null,null,null,"",null,null,null,null,null,null,null,null,null,null,null,null,null,null,null,null,null,null,null,null,null,null,null,null,null,null,null,null,null,null,null,null,null,null,null,"","","","","","","",null,null,0,0,0,0,0,0,0]
["MEDICINA FAMILIAR ADULTO",0,null,null,null,null,null,null,null,null,null,null,null,null,null,null,null,null,null,null,null,null,null,null,null,0,null,null,null,null,0,null,null,null,null,null,null,null,null,null,null,null,"",null,null,null,null,null,null,null,null,null,null,null,null,null,null,null,null,null,null,null,null,null,null,null,null,null,null,null,null,null,null,null,null,null,null,null,{"$f":"IF(CJ69=1,\" *Atenciones según sexo deben ser iguales  al total de Atenciones. \",\"\")","v":""},{"$f":"IF(CK69=1,\"* El total de atenciones remotas de consultas nuevas según origen de menores de 15 años NO DEBE superar el total de atenciones del grupo indicado. \",\"\")","v":""},{"$f":"IF(CL69=1,\"* El total de atenciones remotas de consultas nuevas según origen de pacientes de 15 y más años NO DEBE superar el total de atenciones del grupo indicado. \",\"\")","v":""},{"$f":"IF(CM69=1,\"* El total de altas de consultas nuevas según origen de menores de 15 años NO DEBE superar el total de atenciones del grupo indicado. \",\"\")","v":""},{"$f":"IF(CN69=1,\"* El total de altas de consultas nuevas según origen de pacientes de 15 y más años NO DEBE superar el total de atenciones del grupo indicado. \",\"\")","v":""},{"$f":"IF(CO69=1,\" *Las Atenciones de Pueblos Originarios no pueden superar el total de Atenciones.\",\"\")","v":""},{"$f":"IF(CP69=1,\" *Las Atenciones de Migrantes no pueden superar el total de Atenciones.\",\"\")","v":""},null,null,{"$f":"IF(T69+U69<>B69,1,0)","v":0},{"$f":"IF(Z69>SUM($C69:$E69),1,0)","v":0},{"$f":"IF(AE69>SUM($F69:$S69),1,0)","v":0},{"$f":"IF(X69>SUM($C69:$E69),1,0)","v":0},{"$f":"IF(Y69>SUM($F69:$S69),1,0)","v":0},{"$f":"IF($B69<AN69,1,0)","v":0},{"$f":"IF($B69<AO69,1,0)","v":0}]
["MEDICINA FAMILIAR DEL NIÑO, NIÑA Y ADOLESCENTE",0,null,null,null,null,null,null,null,null,null,null,null,null,null,null,null,null,null,null,null,null,null,null,null,0,null,null,null,null,0,null,null,null,null,null,null,null,null,null,null,null,"",null,null,null,null,null,null,null,null,null,null,null,null,null,null,null,null,null,null,null,null,null,null,null,null,null,null,null,null,null,null,null,null,null,null,null,"","","","","","","",null,null,0,0,0,0,0,0,0]
["MEDICINA FÍSICA Y REHABILITACIÓN ADULTO (FISIATRÍA ADULTO)",0,null,null,null,null,null,null,null,null,null,null,null,null,null,null,null,null,null,null,null,null,null,null,null,0,null,null,null,null,0,null,null,null,null,null,null,null,null,null,null,null,"",null,null,null,null,null,null,null,null,null,null,null,null,null,null,null,null,null,null,null,null,null,null,null,null,null,null,null,null,null,null,null,null,null,null,null,"","","","","","","",null,null,0,0,0,0,0,0,0]
["MEDICINA FÍSICA Y REHABILITACIÓN PEDIÁTRICA (FISIATRÍA PEDIÁTRICA)",0,null,null,null,null,null,null,null,null,null,null,null,null,null,null,null,null,null,null,null,null,null,null,null,0,null,null,null,null,0,null,null,null,null,null,null,null,null,null,null,null,"",null,null,null,null,null,null,null,null,null,null,null,null,null,null,null,null,null,null,null,null,null,null,null,null,null,null,null,null,null,null,null,null,null,null,null,"","","","","","","",null,null,0,0,0,0,0,0,0]
["MEDICINA INTERNA",0,null,null,null,null,null,null,null,null,null,null,null,null,null,null,null,null,null,null,null,null,null,null,null,0,null,null,null,null,0,null,null,null,null,null,null,null,null,null,null,null,"",null,null,null,null,null,null,null,null,null,null,null,null,null,null,null,null,null,null,null,null,null,null,null,null,null,null,null,null,null,null,null,null,null,null,null,"","","","","","","",null,null,0,0,0,0,0,0,0]
["MEDICINA NUCLEAR (EXCLUYE INFORMES)",0,null,null,null,null,null,null,null,null,null,null,null,null,null,null,null,null,null,null,null,null,null,null,null,0,null,null,null,null,0,null,null,null,null,null,null,null,null,null,null,null,"",null,null,null,null,null,null,null,null,null,null,null,null,null,null,null,null,null,null,null,null,null,null,null,null,null,null,null,null,null,null,null,null,null,null,null,"","","","","","","",null,null,0,0,0,0,0,0,0]
["NEFROLOGÍA ADULTO",0,null,null,null,null,null,null,null,null,null,null,null,null,null,null,null,null,null,null,null,null,null,null,null,0,null,null,null,null,0,null,null,null,null,null,null,null,null,null,null,null,"",null,null,null,null,null,null,null,null,null,null,null,null,null,null,null,null,null,null,null,null,null,null,null,null,null,null,null,null,null,null,null,null,null,null,null,"","","","","","","",null,null,0,0,0,0,0,0,0]
["NEFROLOGÍA PEDIÁTRICA",0,null,null,null,null,null,null,null,null,null,null,null,null,null,null,null,null,null,null,null,null,null,null,null,0,null,null,null,null,0,null,null,null,null,null,null,null,null,null,null,null,"",null,null,null,null,null,null,null,null,null,null,null,null,null,null,null,null,null,null,null,null,null,null,null,null,null,null,null,null,null,null,null,null,null,null,null,"","","","","","","",null,null,0,0,0,0,0,0,0]
["NEONATOLOGÍA",0,null,null,null,null,null,null,null,null,null,null,null,null,null,null,null,null,null,null,null,null,null,null,null,0,null,null,null,null,0,null,null,null,null,null,null,null,null,null,null,null,"",null,null,null,null,null,null,null,null,null,null,null,null,null,null,null,null,null,null,null,null,null,null,null,null,null,null,null,null,null,null,null,null,null,null,null,"","","","","","","",null,null,0,0,0,0,0,0,0]
["NEUROCIRUGÍA",0,null,null,null,null,null,null,null,null,null,null,null,null,null,null,null,null,null,null,null,null,null,null,null,0,null,null,null,null,0,null,null,null,null,null,null,null,null,null,null,null,"",null,null,null,null,null,null,null,null,null,null,null,null,null,null,null,null,null,null,null,null,null,null,null,null,null,null,null,null,null,null,null,null,null,null,null,"","","","","","","",null,null,0,0,0,0,0,0,0]
["NEUROLOGÍA ADULTO",0,null,null,null,null,null,null,null,null,null,null,null,null,null,null,null,null,null,null,null,null,null,null,null,0,null,null,null,null,0,null,null,null,null,null,null,null,null,null,null,null,"",null,null,null,null,null,null,null,null,null,null,null,null,null,null,null,null,null,null,null,null,null,null,null,null,null,null,null,null,null,null,null,null,null,null,null,"","","","","","","",null,null,0,0,0,0,0,0,0]
["NEUROLOGÍA PEDIÁTRICA",0,null,null,null,null,null,null,null,null,null,null,null,null,null,null,null,null,null,null,null,null,null,null,null,0,null,null,null,null,0,null,null,null,null,null,null,null,null,null,null,null,"",null,null,null,null,null,null,null,null,null,null,null,null,null,null,null,null,null,null,null,null,null,null,null,null,null,null,null,null,null,null,null,null,null,null,null,"","","","","","","",null,null,0,0,0,0,0,0,0]
["NUTRIÓLOGO ADULTO",0,null,null,null,null,null,null,null,null,null,null,null,null,null,null,null,null,null,null,null,null,null,null,null,0,null,null,null,null,0,null,null,null,null,null,null,null,null,null,null,null,"",null,null,null,null,null,null,null,null,null,null,null,null,null,null,null,null,null,null,null,null,null,null,null,null,null,null,null,null,null,null,null,null,null,null,null,"","","","","","","",null,null,0,0,0,0,0,0,0]
["NUTRIÓLOGO PEDIÁTRICO",0,null,null,null,null,null,null,null,null,null,null,null,null,null,null,null,null,null,null,null,null,null,null,null,0,null,null,null,null,0,null,null,null,null,null,null,null,null,null,null,null,"",null,null,null,null,null,null,null,null,null,null,null,null,null,null,null,null,null,null,null,null,null,null,null,null,null,null,null,null,null,null,null,null,null,null,null,"","","","","","","",null,null,0,0,0,0,0,0,0]
["OBSTETRICIA",0,null,null,null,null,null,null,null,null,null,null,null,null,null,null,null,null,null,null,null,null,null,null,null,0,null,null,null,null,0,null,null,null,null,null,null,null,null,null,null,null,"",null,null,null,null,null,null,null,null,null,null,null,null,null,null,null,null,null,null,null,null,null,null,null,null,null,null,null,null,null,null,null,null,null,null,null,"","","","","","","",null,null,0,0,0,0,0,0,0]
["OFTALMOLOGÍA",0,null,null,null,null,null,null,null,null,null,null,null,null,null,null,null,null,null,null,null,null,null,null,null,0,null,null,null,null,0,null,null,null,null,null,null,null,null,null,null,null,"",null,null,null,null,null,null,null,null,null,null,null,null,null,null,null,null,null,null,null,null,null,null,null,null,null,null,null,null,null,null,null,null,null,null,null,"","","","","","","",null,null,0,0,0,0,0,0,0]
["ONCOLOGÍA MÉDICA",0,null,null,null,null,null,null,null,null,null,null,null,null,null,null,null,null,null,null,null,null,null,null,null,0,null,null,null,null,0,null,null,null,null,null,null,null,null,null,null,null,"",null,null,null,null,null,null,null,null,null,null,null,null,null,null,null,null,null,null,null,null,null,null,null,null,null,null,null,null,null,null,null,null,null,null,null,"","","","","","","",null,null,0,0,0,0,0,0,0]
["OTORRINOLARINGOLOGÍA",0,null,null,null,null,null,null,null,null,null,null,null,null,null,null,null,null,null,null,null,null,null,null,null,0,null,null,null,null,0,null,null,null,null,null,null,null,null,null,null,null,"",null,null,null,null,null,null,null,null,null,null,null,null,null,null,null,null,null,null,null,null,null,null,null,null,null,null,null,null,null,null,null,null,null,null,null,"","","","","","","",null,null,0,0,0,0,0,0,0]
["PEDIATRÍA",0,null,null,null,null,null,null,null,null,null,null,null,null,null,null,null,null,null,null,null,null,null,null,null,0,null,null,null,null,0,null,null,null,null,null,null,null,null,null,null,null,"",null,null,null,null,null,null,null,null,null,null,null,null,null,null,null,null,null,null,null,null,null,null,null,null,null,null,null,null,null,null,null,null,null,null,null,"","","","","","","",null,null,0,0,0,0,0,0,0]
["PSIQUIATRÍA ADULTO",0,null,null,null,null,null,null,null,null,null,null,null,null,null,null,null,null,null,null,null,null,null,null,null,0,null,null,null,null,0,null,null,null,null,null,null,null,null,null,null,null,"",null,null,null,null,null,null,null,null,null,null,null,null,null,null,null,null,null,null,null,null,null,null,null,null,null,null,null,null,null,null,null,null,null,null,null,"","","","","","","",null,null,0,0,0,0,0,0,0]
["PSIQUIATRÍA PEDIÁTRICA Y DE LA ADOLESCENCIA",0,null,null,null,null,null,null,null,null,null,null,null,null,null,null,null,null,null,null,null,null,null,null,null,0,null,null,null,null,0,null,null,null,null,null,null,null,null,null,null,null,"",null,null,null,null,null,null,null,null,null,null,null,null,null,null,null,null,null,null,null,null,null,null,null,null,null,null,null,null,null,null,null,null,null,null,null,"","","","","","","",null,null,0,0,0,0,0,0,0]
["RADIOTERAPIA ONCOLÓGICA",0,null,null,null,null,null,null,null,null,null,null,null,null,null,null,null,null,null,null,null,null,null,null,null,0,null,null,null,null,0,null,null,null,null,null,null,null,null,null,null,null,"",null,null,null,null,null,null,null,null,null,null,null,null,null,null,null,null,null,null,null,null,null,null,null,null,null,null,null,null,null,null,null,null,null,null,null,"","","","","","","",null,null,0,0,0,0,0,0,0]
["REUMATOLOGÍA ADULTO",0,null,null,null,null,null,null,null,null,null,null,null,null,null,null,null,null,null,null,null,null,null,null,null,0,null,null,null,null,0,null,null,null,null,null,null,null,null,null,null,null,"",null,null,null,null,null,null,null,null,null,null,null,null,null,null,null,null,null,null,null,null,null,null,null,null,null,null,null,null,null,null,null,null,null,null,null,"","","","","","","",null,null,0,0,0,0,0,0,0]
["REUMATOLOGÍA PEDIÁTRICA",0,null,null,null,null,null,null,null,null,null,null,null,null,null,null,null,null,null,null,null,null,null,null,null,0,null,null,null,null,0,null,null,null,null,null,null,null,null,null,null,null,"",null,null,null,null,null,null,null,null,null,null,null,null,null,null,null,null,null,null,null,null,null,null,null,null,null,null,null,null,null,null,null,null,null,null,null,"","","","","","","",null,null,0,0,0,0,0,0,0]
["TRAUMATOLOGÍA Y ORTOPEDIA ADULTO",0,null,null,null,null,null,null,null,null,null,null,null,null,null,null,null,null,null,null,null,null,null,null,null,0,null,null,null,null,0,null,null,null,null,null,null,null,null,null,null,null,"",null,null,null,null,null,null,null,null,null,null,null,null,null,null,null,null,null,null,null,null,null,null,null,null,null,null,null,null,null,null,null,null,null,null,null,"","","","","","","",null,null,0,0,0,0,0,0,0]
["TRAUMATOLOGÍA Y ORTOPEDIA PEDIÁTRICA",0,null,null,null,null,null,null,null,null,null,null,null,null,null,null,null,null,null,null,null,null,null,null,null,0,null,null,null,null,0,null,null,null,null,null,null,null,null,null,null,null,"",null,null,null,null,null,null,null,null,null,null,null,null,null,null,null,null,null,null,null,null,null,null,null,null,null,null,null,null,null,null,null,null,null,null,null,"","","","","","","",null,null,0,0,0,0,0,0,0]
["UROLOGÍA ADULTO",0,null,null,null,null,null,null,null,null,null,null,null,null,null,null,null,null,null,null,null,null,null,null,null,0,null,null,null,null,0,null,null,null,null,null,null,null,null,null,null,null,"",null,null,null,null,null,null,null,null,null,null,null,null,null,null,null,null,null,null,null,null,null,null,null,null,null,null,null,null,null,null,null,null,null,null,null,"","","","","","","",null,null,0,0,0,0,0,0,0]
["UROLOGÍA PEDIÁTRICA",0,null,null,null,null,null,null,null,null,null,null,null,null,null,null,null,null,null,null,null,null,null,null,null,0,null,null,null,null,0,null,null,null,null,null,null,null,null,null,null,null,"",null,null,null,null,null,null,null,null,null,null,null,null,null,null,null,null,null,null,null,null,null,null,null,null,null,null,null,null,null,null,null,null,null,null,null,"","","","","","","",null,null,0,0,0,0,0,0,0]
["TOTAL",{"$f":"SUM(C97:S97)","v":0},{"$f":"SUM(C37:C96)","v":0},{"$f":"SUM(D37:D96)","v":0},{"$f":"SUM(E37:E96)","v":0},0,0,0,0,0,0,0,0,0,0,0,0,0,0,0,0,0,0,0,0,0,0,0,0,0,0,0,0,0,0,{"$f":"SUM(AJ37:AJ96)","v":0},{"$f":"SUM(AK37:AK96)","v":0},0,0,0,0,{"$f":"SUM(AP37:AP96)","v":0}]
["SECCIÓN D.2: ATENCIONES REMOTAS CONSULTAS Y CONTROLES POR OTROS PROFESIONALES EN ESPECIALIDAD (NIVEL SECUNDARIO)"]
["PROFESIONAL",null,"TOTAL ",null,null,"POR EDAD (en años)",null,null,null,null,null,null,null,null,null,null,null,null,null,null,null,null,null,null,null,null,null,null,null,null,null,null,null,null,null,null,null,null,null,"Beneficiarios","Total Controles (incluidos en grupo de edad)","Pueblos Originarios","Migrantes","Atención Remota consulta abreviada PNM : entrega de los resultados de exámenes o procedimiento (Confección de recetas o lectura de exámenes)","Consultorías resueltas vía remota"]
[null,null,null,null,null,"0 - 4",null,"5 - 9",null,"10 - 14",null,"15 - 19",null,"20 - 24",null,"25 - 29",null,"30 - 34",null,"35 - 39",null,"40 - 44",null,"45 - 49",null,"50 - 54",null,"55 - 59",null,"60 - 64",null,"65 - 69",null,"70 - 74",null,"75 - 79",null,"80 y mas"]
[null,null,"Ambos Sexos","Hombres","Mujeres","Hombres","Mujeres","Hombres","Mujeres","Hombres","Mujeres","Hombres","Mujeres","Hombres","Mujeres","Hombres","Mujeres","Hombres","Mujeres","Hombres","Mujeres","Hombres","Mujeres","Hombres","Mujeres","Hombres","Mujeres","Hombres","Mujeres","Hombres","Mujeres","Hombres","Mujeres","Hombres","Mujeres","Hombres","Mujeres","Hombres","Mujeres",null,null,null,null,null,null,null,null,null,null,null,null,null,null,null,null,null,null,null,null,null,null,null,null,null,null,null,null,null,null,null,null,null,null,null,null,null,null,null,"Beneficiarios","Control","Pueblos originarios","Migrantes",null,null,null,null,null,"Beneficiarios","Control","Pueblos originarios","Migrantes"]
["ENFERMERA/O",null,{"$f":"SUM(D102+E102)","v":0},{"$f":"SUM(F102+H102+J102+L102+N102+P102+R102+T102+V102+X102+Z102+AB102+AD102+AF102+AH102+AJ102+AL102)","v":0},{"$f":"SUM(G102+I102+K102+M102+O102+Q102+S102+U102+W102+Y102+AA102+AC102+AE102+AG102+AI102+AK102+AM102)","v":0},null,null,null,null,null,null,null,null,null,null,null,null,null,null,null,null,null,null,null,null,null,null,null,null,null,null,null,null,null,null,null,null,null,null,null,null,null,null,null,null,{"$f":"$CA102&$CB102&$CC102&$CD102","v":""},null,null,null,null,null,null,null,null,null,null,null,null,null,null,null,null,null,null,null,null,null,null,null,null,null,null,null,null,null,null,null,null,{"$f":"IF(CJ102=1,\" * Los Beneficiarios no pueden ser mayor que el Total, (si no hay beneficiario digite un cero). \",\"\")","v":""},{"$f":"IF(CK102=1,\" * El total de controles no pueden ser mayor que el Total, (si no hay controles digite un cero). \",\"\")","v":""},{"$f":"IF(CL102=1,\" * La cantidad de Atenciones de pacientes pertenecientes a Pueblos Originarios no pueden ser mayor que el Total, (si no hay atenciones digite un cero). \",\"\")","v":""},{"$f":"IF(CM102=1,\" * La cantidad de Atenciones de pacientes Migrantes no pueden ser mayor que el Total, (si no hay atenciones digite un cero). \",\"\")","v":""},null,null,null,null,null,{"$f":"IF(OR(AN102>$C102,AND($C102<>0,AN102=\"\")),1,0)","v":0},{"$f":"IF(OR(AO102>$C102,AND($C102<>0,AO102=\"\")),1,0)","v":0},{"$f":"IF(OR(AP102>$C102,AND($C102<>0,AP102=\"\")),1,0)","v":0},{"$f":"IF(OR(AQ102>$C102,AND($C102<>0,AQ102=\"\")),1,0)","v":0}]
["MATRONA/ON","ARO",{"$f":"SUM(D103:E103)","v":0},null,{"$f":"SUM(K103+M103+O103+Q103+S103+U103+W103+Y103+AA103+AC103+AE103+AG103+AI103+AK103+AM103)","v":0},null,null,null,null,null,null,null,null,null,null,null,null,null,null,null,null,null,null,null,null,null,null,null,null,null,null,null,null,null,null,null,null,null,null,null,null,null,null,null,null,"",null,null,null,null,null,null,null,null,null,null,null,null,null,null,null,null,null,null,null,null,null,null,null,null,null,null,null,null,null,null,null,null,"","","","",null,null,null,null,null,0,0,0,0]
[null,"GINECOLOGÍA Y OTROS",{"$f":"SUM(D104+E104)","v":0},{"$f":"SUM(F104+H104+J104+L104+N104+P104+R104+T104+V104+X104+Z104+AB104+AD104+AF104+AH104+AJ104+AL104)","v":0},{"$f":"SUM(G104+I104+K104+M104+O104+Q104+S104+U104+W104+Y104+AA104+AC104+AE104+AG104+AI104+AK104+AM104)","v":0},null,null,null,null,null,null,null,null,null,null,null,null,null,null,null,null,null,null,null,null,null,null,null,null,null,null,null,null,null,null,null,null,null,null,null,null,null,null,null,null,"",null,null,null,null,null,null,null,null,null,null,null,null,null,null,null,null,null,null,null,null,null,null,null,null,null,null,null,null,null,null,null,null,"","","","",null,null,null,null,null,0,0,0,0]
[null,"INFERTILIDAD",0,{"$f":"SUM(N105+P105+R105+T105+V105+X105+Z105+AB105)","v":0},{"$f":"SUM(O105+Q105+S105+U105+W105+Y105+AA105+AC105)","v":0},null,null,null,null,null,null,null,null,null,null,null,null,null,null,null,null,null,null,null,null,null,null,null,null,null,null,null,null,null,null,null,null,null,null,null,null,null,null,null,null,"",null,null,null,null,null,null,null,null,null,null,null,null,null,null,null,null,null,null,null,null,null,null,null,null,null,null,null,null,null,null,null,null,"","","","",null,null,null,null,null,0,0,0,0]
["NUTRICIONISTA",null,0,{"$f":"SUM(F106+H106+J106+L106+N106+P106+R106+T106+V106+X106+Z106+AB106+AD106+AF106+AH106+AJ106+AL106)","v":0},0,null,null,null,null,null,null,null,null,null,null,null,null,null,null,null,null,null,null,null,null,null,null,null,null,null,null,null,null,null,null,null,null,null,null,null,null,null,null,null,null,"",null,null,null,null,null,null,null,null,null,null,null,null,null,null,null,null,null,null,null,null,null,null,null,null,null,null,null,null,null,null,null,null,"","","","",null,null,null,null,null,0,0,0,0]
["PSICÓLOGO/A (EXCLUYE SM)",null,0,0,0,null,null,null,null,null,null,null,null,null,null,null,null,null,null,null,null,null,null,null,null,null,null,null,null,null,null,null,null,null,null,null,null,null,null,null,null,null,null,null,null,"",null,null,null,null,null,null,null,null,null,null,null,null,null,null,null,null,null,null,null,null,null,null,null,null,null,null,null,null,null,null,null,null,"","","","",null,null,null,null,null,0,0,0,0]
["FONOAUDIÓLOGO/A",null,0,0,0,null,null,null,null,null,null,null,null,null,null,null,null,null,null,null,null,null,null,null,null,null,null,null,null,null,null,null,null,null,null,null,null,null,null,null,null,null,null,null,null,"",null,null,null,null,null,null,null,null,null,null,null,null,null,null,null,null,null,null,null,null,null,null,null,null,null,null,null,null,null,null,null,null,"","","","",null,null,null,null,null,0,0,0,0]
["TECNÓLOGO/A MÉDICO/A",null,0,0,0,null,null,null,null,null,null,null,null,null,null,null,null,null,null,null,null,null,null,null,null,null,null,null,null,null,null,null,null,null,null,null,null,null,null,null,null,null,null,null,null,"",null,null,null,null,null,null,null,null,null,null,null,null,null,null,null,null,null,null,null,null,null,null,null,null,null,null,null,null,null,null,null,null,"","","","",null,null,null,null,null,0,0,0,0]
["TRABAJADOR/A SOCIAL",null,0,0,0,null,null,null,null,null,null,null,null,null,null,null,null,null,null,null,null,null,null,null,null,null,null,null,null,null,null,null,null,null,null,null,null,null,null,null,null,null,null,null,null,"",null,null,null,null,null,null,null,null,null,null,null,null,null,null,null,null,null,null,null,null,null,null,null,null,null,null,null,null,null,null,null,null,"","","","",null,null,null,null,null,0,0,0,0]
["TOTAL",null,{"$f":"SUM(C102:C110)","v":0},0,0,0,0,0,0,0,0,0,0,0,0,0,0,0,0,0,0,0,0,0,0,0,0,0,0,0,0,0,0,0,0,0,0,0,0,0,0,0,0,0,0]
["SECCIÓN E: ATENCIÓN ODONTOLÓGICA "]
["SECCIÓN E1: ATENCIÓN ODONTOLÓGICA NIVEL PRIMARIO"]
["ACTIVIDADES ","TOTAL",null,null,"SEGÚN GRUPOS DE EDAD O DE RIESGO",null,null,null,null,null,null,null,null,null,null,null,"Embarazadas","60 años (incluido en grupos de 20-64 años)","Usuarios en situación de discapacidad","Niños, Niñas, Adolescentes y Jóvenes SENAME","Niños, Niñas, Adolescentes y Jóvenes Mejor Niñez","Pueblos Originarios","Migrantes",null,null,null,null,null,null,null,null,null,null,null,null,null,null,null,null,null,null,null,null,null,null,null,null,null,null,null,null,null,null,null,null,null,null,null,null,null,null,null,null,null,null,null,null,null,null,null,null,null,null,null,null,null,null,null,"Hombres y Mujeres Mayor a Total","Embarazadas Mayor a Total","60 Años Mayor al Grupo 20-64","Discapacitados Mayor al Total","NNA Sename Mayor a Total","NNA Mejor Niñez Mayor a Total","Pueblos Originarios Mayor a Total","Migrantes Mayor a Total",null,"Hombres y Mujeres Mayor a Total","Embarazadas Mayor a Total","60 Años Mayor al Grupo 20-64","Discapacitados Mayor al Total","NNA Sename Mayor a Total","NNA Mejor Niñez Mayor a Total","Pueblos Originarios Mayor a Total","Migrantes Mayor a Total"]
[null,"Ambos Sexos","Hombres","Mujeres","menos de 1\naño","1 \naño","2 \naños","3 \naños","4 \naños","5 \naños","6 \naños","12 \naños","Resto \n<15 años","15-19 \naños","20-64 \naños","65 y \nmás años"]
["Seguimiento Clínico Remoto de Pacientes",{"$f":"SUM(E116:P116)","v":0},null,null,null,null,null,null,null,null,null,null,null,null,null,null,null,null,null,null,null,null,null,{"$f":"$CA116&$CB116&$CC116&$CD116&CE116&CF116&CG116&CH116","v":""},null,null,null,null,null,null,null,null,null,null,null,null,null,null,null,null,null,null,null,null,null,null,null,null,null,null,null,null,null,null,null,null,null,null,null,null,null,null,null,null,null,null,null,null,null,null,null,null,null,null,null,null,null,null,{"$f":"IF(CJ116=1,\" *Los controles según sexo deben ser iguales  al total de Controles. \",\"\")","v":""},{"$f":"IF(CK116=1,\" *Las Atenciones de Embarazadas no pueden superar el total de Atenciones de Mujeres. \",\"\")","v":""},{"$f":"IF(CL116=1,\" *Las Atenciones de Personas de 60 Años no pueden superar el total de Atenciones del grupo de edad 20-64 Años. \",\"\")","v":""},{"$f":"IF(CM116=1,\" *Las Atenciones de Discapacitados no pueden superar el total de Atenciones.\",\"\")","v":""},{"$f":"IF(CN116=1,\" *Las Atenciones de NNA SENAME no pueden superar el total de Atenciones, ni considerar el grupo etario 65 y mas años.\",\"\")","v":""},{"$f":"IF(CO116=1,\" *Las Atenciones de NNA Mejor Niñez no pueden superar el total de Atenciones, ni considerar el grupo etario 65 y mas años.\",\"\")","v":""},{"$f":"IF(CP116=1,\" *Las Atenciones de Pueblos Originarios no pueden superar el total de Atenciones.\",\"\")","v":""},{"$f":"IF(CQ116=1,\" *Las Atenciones de Migrantes no pueden superar el total de Atenciones.\",\"\")","v":""},null,{"$f":"IF(C116+D116<>B116,1,0)","v":0},{"$f":"IF(Q116>D116,1,0)","v":0},{"$f":"IF(R116>O116,1,0)","v":0},{"$f":"IF(S116>B116,1,0)","v":0},{"$f":"IF(T116>SUM($E116:$O116),1,0)","v":0},{"$f":"IF(U116>SUM($E116:$O116),1,0)","v":0},{"$f":"IF(V116>A116,1,0)","v":0},0]
["Educación, Promoción Remota en Salud Bucal",{"$f":"SUM(E117:P117)","v":0},null,null,null,null,null,null,null,null,null,null,null,null,null,null,null,null,null,null,null,null,null,{"$f":"$CA117&$CB117&$CC117&$CD117&CE117&CF117&CG117&CH117","v":""},null,null,null,null,null,null,null,null,null,null,null,null,null,null,null,null,null,null,null,null,null,null,null,null,null,null,null,null,null,null,null,null,null,null,null,null,null,null,null,null,null,null,null,null,null,null,null,null,null,null,null,null,null,null,{"$f":"IF(CJ117=1,\" *Los controles según sexo deben ser iguales  al total de Controles. \",\"\")","v":""},{"$f":"IF(CK117=1,\" *Las Atenciones de Embarazadas no pueden superar el total de Atenciones de Mujeres. \",\"\")","v":""},{"$f":"IF(CL117=1,\" *Las Atenciones de Personas de 60 Años no pueden superar el total de Atenciones del grupo de edad 20-64 Años. \",\"\")","v":""},{"$f":"IF(CM117=1,\" *Las Atenciones de Discapacitados no pueden superar el total de Atenciones.\",\"\")","v":""},{"$f":"IF(CN117=1,\" *Las Atenciones de NNA SENAME no pueden superar el total de Atenciones, ni considerar el grupo etario 65 y mas años.\",\"\")","v":""},{"$f":"IF(CO117=1,\" *Las Atenciones de NNA Mejor Niñez no pueden superar el total de Atenciones, ni considerar el grupo etario 65 y mas años.\",\"\")","v":""},{"$f":"IF(CP117=1,\" *Las Atenciones de Pueblos Originarios no pueden superar el total de Atenciones.\",\"\")","v":""},{"$f":"IF(CQ117=1,\" *Las Atenciones de Migrantes no pueden superar el total de Atenciones.\",\"\")","v":""},null,{"$f":"IF(C117+D117<>B117,1,0)","v":0},{"$f":"IF(Q117>D117,1,0)","v":0},{"$f":"IF(R117>O117,1,0)","v":0},{"$f":"IF(S117>B117,1,0)","v":0},{"$f":"IF(T117>SUM($E117:$O117),1,0)","v":0},0,0,0]
["Pauta CERO Remota",{"$f":"SUM(E118:P118)","v":0},null,null,null,null,null,null,null,null,null,null,null,null,null,null,null,null,null,null,null,null,null,{"$f":"$CA118&$CB118&$CC118&$CD118&CE118&CF118&CG118&CH118","v":""},null,null,null,null,null,null,null,null,null,null,null,null,null,null,null,null,null,null,null,null,null,null,null,null,null,null,null,null,null,null,null,null,null,null,null,null,null,null,null,null,null,null,null,null,null,null,null,null,null,null,null,null,null,null,{"$f":"IF(CJ118=1,\" *Los controles según sexo deben ser iguales  al total de Controles. \",\"\")","v":""},{"$f":"IF(CK118=1,\" *Las Atenciones de Embarazadas no pueden superar el total de Atenciones de Mujeres. \",\"\")","v":""},{"$f":"IF(CL118=1,\" *Las Atenciones de Personas de 60 Años no pueden superar el total de Atenciones del grupo de edad 20-64 Años. \",\"\")","v":""},{"$f":"IF(CM118=1,\" *Las Atenciones de Discapacitados no pueden superar el total de Atenciones.\",\"\")","v":""},{"$f":"IF(CN118=1,\" *Las Atenciones de NNA SENAME no pueden superar el total de Atenciones, ni considerar el grupo etario 65 y mas años.\",\"\")","v":""},{"$f":"IF(CO118=1,\" *Las Atenciones de NNA Mejor Niñez no pueden superar el total de Atenciones, ni considerar el grupo etario 65 y mas años.\",\"\")","v":""},{"$f":"IF(CP118=1,\" *Las Atenciones de Pueblos Originarios no pueden superar el total de Atenciones.\",\"\")","v":""},{"$f":"IF(CQ118=1,\" *Las Atenciones de Migrantes no pueden superar el total de Atenciones.\",\"\")","v":""},null,{"$f":"IF(C118+D118<>B118,1,0)","v":0},{"$f":"IF(Q118>D118,1,0)","v":0},{"$f":"IF(R118>O118,1,0)","v":0},{"$f":"IF(S118>B118,1,0)","v":0},0,0,0,0]
["TOTAL",{"$f":"SUM(B116:B118)","v":0},0,0,0,0,0,0,0,0,0,0,0,0,0,0,0,0,0,{"$f":"SUM(T116:T118)","v":0},0,0,0,null,null,null,null,null,null,null,null,null,null,null,null,null,null,null,null,null,null,null,null,null,null,null,null,null,null,null,null,null,null,null,null,null,null,null,null,null,null,null,null,null,null,null,null,null,null,null,null,null,null,null,null,null,null,null,{"$f":"IF(CJ119=1,\" *Los controles según sexo deben ser iguales  al total de Controles. \",\"\")","v":""},{"$f":"IF(CK119=1,\" *Las Atenciones de Embarazadas no pueden superar el total de Atenciones de Mujeres. \",\"\")","v":""},{"$f":"IF(CL119=1,\" *Las Atenciones de Personas de 60 Años no pueden superar el total de Atenciones del grupo de edad 20-64 Años. \",\"\")","v":""},{"$f":"IF(CM119=1,\" *Las Atenciones de Discapacitados no pueden superar el total de Atenciones.\",\"\")","v":""},{"$f":"IF(CN119=1,\" *Las Atenciones de NNA SENAME no pueden superar el total de Atenciones, ni considerar el grupo etario 65 y mas años.\",\"\")","v":""},{"$f":"IF(CO119=1,\" *Las Atenciones de NNA Mejor Niñez no pueden superar el total de Atenciones, ni considerar el grupo etario 65 y mas años.\",\"\")","v":""},{"$f":"IF(CP119=1,\" *Las Atenciones de Pueblos Originarios no pueden superar el total de Atenciones.\",\"\")","v":""},{"$f":"IF(CQ119=1,\" *Las Atenciones de Migrantes no pueden superar el total de Atenciones.\",\"\")","v":""},null,{"$f":"IF(C119+D119<>B119,1,0)","v":0},{"$f":"IF(Q119>D119,1,0)","v":0},{"$f":"IF(R119>O119,1,0)","v":0},{"$f":"IF(S119>B119,1,0)","v":0},0,0,0,0]
["SECCIÓN E2: ATENCIÓN ODONTOLÓGICA ESTABLECIMIENTOS HOSPITALARIOS DE BAJA, MEDIANA Y ALTA COMPLEJIDAD"]
["ACTIVIDADES ","TOTAL",null,null,"SEGÚN GRUPOS DE EDAD O DE RIESGO",null,null,null,null,null,null,null,"No Contesta","Embarazadas","Beneficiarios","Usuarios con Discapacidad ","Niños, niñas, adolescentes y jovenes SENAME","Niños, niñas, adolescentes y jovenes Mejor Niñez","Pueblos Originarios","Migrantes",null,null,null,null,null,null,null,null,null,null,null,null,null,null,null,null,null,null,null,null,null,null,null,null,null,null,null,null,null,null,null,null,null,null,null,null,null,null,null,null,null,null,null,null,null,null,null,null,null,null,null,null,null,null,null,null,null,null,"Hombres y Mujeres Mayor a Total","Embarazadas Mayor a Total","Beneficiarios Mayor a Total","60 Años Mayor al Grupo 20-64","Discapacitados Mayor al Total","NNA Sename Mayor a Total","NNA Mejor Niñez Mayor a Total","Pueblos Originarios Mayor a Total","Migrantes Mayor a Total","Hombres y Mujeres Mayor a Total","Embarazadas Mayor a Total","Beneficiarios Mayor a Total","60 Años Mayor al Grupo 20-64","Discapacitados Mayor al Total","NNA Sename Mayor a Total","NNA Mejor Niñez Mayor a Total","Pueblos Originarios Mayor a Total","Migrantes Mayor a Total"]
[null,"Ambos Sexos","Hombres","Mujeres","0-5 \naños","6 \naños","12 años","Resto < 15 años","15-19 \naños","20-64 \n años (excluye 60 años)","60 años","65 y \nmás años"]
["Consulta nueva de especialidad odontológica (Teleconsulta)",{"$f":"SUM(E123:L123)","v":0},null,null,null,null,null,null,null,null,null,null,null,null,null,null,null,null,null,null,{"$f":"$CA123&$CB123&$CC123&$CD123&CE123&CF123&CG123&CH123&CI123","v":""},null,null,null,null,null,null,null,null,null,null,null,null,null,null,null,null,null,null,null,null,null,null,null,null,null,null,null,null,null,null,null,null,null,null,null,null,null,null,null,null,null,null,null,null,null,null,null,null,null,null,null,null,null,null,null,null,null,{"$f":"IF(CJ123=1,\" *Los controles según sexo deben ser iguales  al total de Controles. \",\"\")","v":""},{"$f":"IF(CK123=1,\" *Las Atenciones de Embarazadas no pueden superar el total de Atenciones de Mujeres. \",\"\")","v":""},{"$f":"IF(CL123=1,\" *Las Atenciones de Beneficiarios no pueden superar el total de Atenciones \",\"\")","v":""},{"$f":"IF(CM123=1,\" *Las Atenciones de Personas de 60 Años no pueden superar el total de Atenciones del grupo de edad 20-64 Años. \",\"\")","v":""},{"$f":"IF(CN123=1,\" *Las Atenciones de Discapacitados no pueden superar el total de Atenciones.\",\"\")","v":""},{"$f":"IF(CO123=1,\" *Las Atenciones de NNA SENAME no pueden superar el total de Atenciones, ni considerar el grupo etario 65 y mas años.\",\"\")","v":""},{"$f":"IF(CP123=1,\" *Las Atenciones de NNA Mejor Niñez no pueden superar el total de Atenciones, ni considerar el grupo etario 65 y mas años.\",\"\")","v":""},{"$f":"IF(CQ123=1,\" *Las Atenciones de Pueblos Originarios no pueden superar el total de Atenciones.\",\"\")","v":""},{"$f":"IF(CR123=1,\" *Las Atenciones de Migrantes no pueden superar el total de Atenciones.\",\"\")","v":""},{"$f":"IF(C123+D123<>B123,1,0)","v":0},{"$f":"IF(M123>D123,1,0)","v":0},{"$f":"IF(N123>B123,1,0)","v":0},{"$f":"IF(O123>K123,1,0)","v":0},{"$f":"IF(P123>B123,1,0)","v":0},{"$f":"IF(Q123>SUM($E123:$K123),1,0)","v":0},0,{"$f":"IF(S123>$B123,1,0)","v":0},0]
["Control de especialidad odontológica (Teleconsulta)",{"$f":"SUM(E124:L124)","v":0},null,null,null,null,null,null,null,null,null,null,null,null,null,null,null,null,null,null,{"$f":"$CA124&$CB124&$CC124&$CD124&CE124&CF124&CG124&CH124&CI124","v":""},null,null,{"$f":"$CA124&$CB124&$CC124&$CD124&CE124&CF124&CG124&CH124&CI124","v":""},null,null,null,null,null,null,null,null,null,null,null,null,null,null,null,null,null,null,null,null,null,null,null,null,null,null,null,null,null,null,null,null,null,null,null,null,null,null,null,null,null,null,null,null,null,null,null,null,null,null,null,null,null,null,{"$f":"IF(CJ124=1,\" *Los controles según sexo deben ser iguales  al total de Controles. \",\"\")","v":""},{"$f":"IF(CK124=1,\" *Las Atenciones de Embarazadas no pueden superar el total de Atenciones de Mujeres. \",\"\")","v":""},{"$f":"IF(CL124=1,\" *Las Atenciones de Beneficiarios no pueden superar el total de Atenciones \",\"\")","v":""},{"$f":"IF(CM124=1,\" *Las Atenciones de Personas de 60 Años no pueden superar el total de Atenciones del grupo de edad 20-64 Años. \",\"\")","v":""},{"$f":"IF(CN124=1,\" *Las Atenciones de Discapacitados no pueden superar el total de Atenciones.\",\"\")","v":""},{"$f":"IF(CO124=1,\" *Las Atenciones de NNA SENAME no pueden superar el total de Atenciones, ni considerar el grupo etario 65 y mas años.\",\"\")","v":""},{"$f":"IF(CP124=1,\" *Las Atenciones de NNA Mejor Niñez no pueden superar el total de Atenciones, ni considerar el grupo etario 65 y mas años.\",\"\")","v":""},{"$f":"IF(CQ124=1,\" *Las Atenciones de Pueblos Originarios no pueden superar el total de Atenciones.\",\"\")","v":""},{"$f":"IF(CR124=1,\" *Las Atenciones de Migrantes no pueden superar el total de Atenciones.\",\"\")","v":""},{"$f":"IF(C124+D124<>B124,1,0)","v":0},{"$f":"IF(M124>D124,1,0)","v":0},{"$f":"IF(N124>B124,1,0)","v":0},{"$f":"IF(O124>K124,1,0)","v":0},{"$f":"IF(P124>B124,1,0)","v":0},0,0,0,0]
["TOTAL",{"$f":"SUM(B123:B124)","v":0},0,0,0,0,0,0,0,0,0,0,{"$f":"SUM(M123:M124)","v":0},0,0,0,0,{"$f":"SUM(R123:R124)","v":0},0,0,null,null,null,null,null,null,null,null,null,null,null,null,null,null,null,null,null,null,null,null,null,null,null,null,null,null,null,null,null,null,null,null,null,null,null,null,null,null,null,null,null,null,null,null,null,null,null,null,null,null,null,null,null,null,null,null,null,null,{"$f":"IF(CJ125=1,\" *Los controles según sexo deben ser iguales  al total de Controles. \",\"\")","v":""},{"$f":"IF(CK125=1,\" *Las Atenciones de Embarazadas no pueden superar el total de Atenciones de Mujeres. \",\"\")","v":""},{"$f":"IF(CL125=1,\" *Las Atenciones de Beneficiarios no pueden superar el total de Atenciones \",\"\")","v":""},{"$f":"IF(CM125=1,\" *Las Atenciones de Personas de 60 Años no pueden superar el total de Atenciones del grupo de edad 20-64 Años. \",\"\")","v":""},{"$f":"IF(CN125=1,\" *Las Atenciones de Discapacitados no pueden superar el total de Atenciones.\",\"\")","v":""},{"$f":"IF(CO125=1,\" *Las Atenciones de NNA SENAME no pueden superar el total de Atenciones, ni considerar el grupo etario 65 y mas años.\",\"\")","v":""},{"$f":"IF(CP125=1,\" *Las Atenciones de NNA Mejor Niñez no pueden superar el total de Atenciones, ni considerar el grupo etario 65 y mas años.\",\"\")","v":""},{"$f":"IF(CQ125=1,\" *Las Atenciones de Pueblos Originarios no pueden superar el total de Atenciones.\",\"\")","v":""},{"$f":"IF(CR125=1,\" *Las Atenciones de Migrantes no pueden superar el total de Atenciones.\",\"\")","v":""},{"$f":"IF(C125+D125<>B125,1,0)","v":0},{"$f":"IF(M125>D125,1,0)","v":0},{"$f":"IF(N125>B125,1,0)","v":0},{"$f":"IF(O125>K125,1,0)","v":0},{"$f":"IF(P125>B125,1,0)","v":0},0,0,0,0]
["SECCION F: ACCIONES DE SALUD MENTAL REMOTAS "]
["SECCIÓN F1: ACCIONES REMOTAS DE SALUD MENTAL (APS Y ESPECIALIDAD)"]
["Video llamadas","TOTAL ACCIONES","NÚMERO DE ACCIONES TELEFÓNICAS Y DE SEGUIMIENTO POR RANGOS DE EDAD",null,null,null,null,null,null,null,null,null,null,null,null,null,null,null,null,"SEXO",null,"Niños, Niñas, Adolescentes y Jóvenes Población SENAME","Niños, Niñas, Adolescentes y Jóvenes Población Mejor Niñez","Pueblos Originarios","Migrantes","Demencia","Espacios Amigables",null,null,null,null,null,null,null,null,null,null,null,null,null,null,null,null,null,null,null,null,null,null,null,null,null,null,null,null,null,null,null,null,null,null,null,null,null,null,null,null,null,null,null,null,null,null,null,null,null,null,null,"Hombres y Mujeres Mayor a Total","NNA Sename Mayor a Total","NNA Mejor Niñez Mayor a Total","Pueblos Originarios","Migrantes","Demencia",null,null,null,"Hombres y Mujeres Mayor a Total","NNA Sename Mayor a Total","NNA Mejor Niñez Mayor a Total","Pueblos Originarios","Migrantes","Demencia"]
[null,null,"0 - 4","5 - 9","10 - 14","15 - 19","20 - 24","25 - 29","30 - 34","35 - 39","40 - 44","45 - 49","50 - 54","55 - 59","60 - 64","65 - 69","70 - 74","75 - 79","80 y mas","Hombres","Mujeres"]
["Llamadas Telefónicas",{"$f":"SUM(C130:S130)","v":0},null,null,null,null,null,null,null,null,null,null,null,null,null,null,null,null,null,null,null,null,null,null,null,null,null,{"$f":"$CA130&$CB130&$CC130&$CD130&CE130&CF130&CG130&CH130","v":""},null,null,null,null,null,null,null,null,null,null,null,null,null,null,null,null,null,null,null,null,null,null,null,null,null,null,null,null,null,null,null,null,null,null,null,null,null,null,null,null,null,null,null,null,null,null,null,null,null,null,{"$f":"IF(CJ130=1,\" *Los controles según sexo deben ser iguales  al total de Controles. \",\"\")","v":""},{"$f":"IF(CK130=1,\" *Las Atenciones de NNA SENAME no pueden superar el total de Atenciones entre los 0 Y 24 años\",\"\")","v":""},{"$f":"IF(CL130=1,\" *Las Atenciones de NNA Mejor Niñez no pueden superar el total de Atenciones entre los 0 Y 24 años\",\"\")","v":""},{"$f":"IF(CM130=1,\" *Las Acciones de Pueblos Originarios no pueden superar el total de Acciones \",\"\")","v":""},{"$f":"IF(CN130=1,\" *Las Acciones de Migrantes no pueden superar el total de Acciones \",\"\")","v":""},{"$f":"IF(CO130=1,\" *Las Acciones de Personas con Demencia no pueden superar el total de Acciones \",\"\")","v":""},null,null,null,{"$f":"IF(T130+U130<>B130,1,0)","v":0},{"$f":"IF(V130>SUM(C130:G130),1,0)","v":0},{"$f":"IF(W130>SUM(C130:G130),1,0)","v":0},{"$f":"IF(X130>$B130,1,0)","v":0},0,0]
["Video llamadas",{"$f":"SUM(C131:S131)","v":0},null,null,null,null,null,null,null,null,null,null,null,null,null,null,null,null,null,null,null,null,null,null,null,null,null,"",null,null,null,null,null,null,null,null,null,null,null,null,null,null,null,null,null,null,null,null,null,null,null,null,null,null,null,null,null,null,null,null,null,null,null,null,null,null,null,null,null,null,null,null,null,null,null,null,null,null,{"$f":"IF(CJ131=1,\" *Los controles según sexo deben ser iguales  al total de Controles. \",\"\")","v":""},{"$f":"IF(CK131=1,\" *Las Atenciones de NNA SENAME no pueden superar el total de Atenciones entre los 0 Y 24 años\",\"\")","v":""},{"$f":"IF(CL131=1,\" *Las Atenciones de NNA Mejor Niñez no pueden superar el total de Atenciones entre los 0 Y 24 años\",\"\")","v":""},{"$f":"IF(CM131=1,\" *Las Acciones de Pueblos Originarios no pueden superar el total de Acciones \",\"\")","v":""},{"$f":"IF(CN131=1,\" *Las Acciones de Migrantes no pueden superar el total de Acciones \",\"\")","v":""},{"$f":"IF(CO131=1,\" *Las Acciones de Personas con Demencia no pueden superar el total de Acciones \",\"\")","v":""},null,null,null,{"$f":"IF(T131+U131<>B131,1,0)","v":0},{"$f":"IF(V131>SUM(C131:G131),1,0)","v":0},{"$f":"IF(W131>SUM(C131:G131),1,0)","v":0},0,0,0]
["Mensajería de Texto",{"$f":"SUM(C132:S132)","v":0},null,null,null,null,null,null,null,null,null,null,null,null,null,null,null,null,null,null,null,null,null,null,null,null,null,{"$f":"$CA132&$CB132&$CC132&$CD132&CE132&CF132&CG132&CH132","v":""},null,null,null,null,null,null,null,null,null,null,null,null,null,null,null,null,null,null,null,null,null,null,null,null,null,null,null,null,null,null,null,null,null,null,null,null,null,null,null,null,null,null,null,null,null,null,null,null,null,null,{"$f":"IF(CJ132=1,\" *Los controles según sexo deben ser iguales  al total de Controles. \",\"\")","v":""},{"$f":"IF(CK132=1,\" *Las Atenciones de NNA SENAME no pueden superar el total de Atenciones entre los 0 Y 24 años\",\"\")","v":""},"",{"$f":"IF(CM132=1,\" *Las Acciones de Pueblos Originarios no pueden superar el total de Acciones \",\"\")","v":""},{"$f":"IF(CN132=1,\" *Las Acciones de Migrantes no pueden superar el total de Acciones \",\"\")","v":""},{"$f":"IF(CO132=1,\" *Las Acciones de Personas con Demencia no pueden superar el total de Acciones \",\"\")","v":""},null,null,null,{"$f":"IF(T132+U132<>B132,1,0)","v":0},0,0,0,0,0]
["SECCIÓN F2: CONTROLES DE SALUD MENTAL REMOTOS (APS Y ESPECIALIDAD)"]
["ACTIVIDADES","PROFESIONAL","TOTAL",null,null,"NÚMERO DE CONTROLES DE SALUD MENTAL REMOTOS POR RANGOS DE EDAD",null,null,null,null,null,null,null,null,null,null,null,null,null,null,null,null,null,null,null,null,null,null,null,null,null,null,null,null,null,null,null,null,null,"Niños, Niñas, Adolescentes y Jóvenes Mejor Niñez","Pueblos Originarios","Migrantes","Demencia","Espacios Amigables"]
[null,null,null,null,null,"0 - 4",null,"5 - 9",null,"10 - 14",null,"15 - 19",null,"20 - 24",null,"25 - 29",null,"30 - 34",null,"35 - 39",null,"40 - 44",null,"45 - 49",null,"50 - 54",null,"55 - 59",null,"60 - 64",null,"65 - 69",null,"70 - 74",null,"75 - 79",null,"80 y mas",null,null,null,null,null,null,null,null,null,null,null,null,null,null,null,null,null,null,null,null,null,null,null,null,null,null,null,null,null,null,null,null,null,null,null,null,null,null,null,null,"NNA Mejor Niñez Mayor a Total","Pueblos Originarios","Migrantes","Demencia",null,null,null,null,null,"NNA Mejor Niñez Mayor a Total","Pueblos Originarios","Migrantes","Demencia"]
[null,null,"Ambos Sexos","Hombres","Mujeres","Hombres","Mujeres","Hombres","Mujeres","Hombres","Mujeres","Hombres","Mujeres","Hombres","Mujeres","Hombres","Mujeres","Hombres","Mujeres","Hombres","Mujeres","Hombres","Mujeres","Hombres","Mujeres","Hombres","Mujeres","Hombres","Mujeres","Hombres","Mujeres","Hombres","Mujeres","Hombres","Mujeres","Hombres","Mujeres","Hombres","Mujeres"]
["CONTROLES DE SALUD MENTAL POR LLAMADAS TELEFONICAS ","Médico/a",{"$f":"SUM(D137:E137)","v":0},{"$f":"SUM(F137+H137+J137+L137+N137+P137+R137+T137+V137+X137+Z137+AB137+AD137+AF137+AH137+AJ137+AL137)","v":0},{"$f":"SUM(G137+I137+K137+M137+O137+Q137+S137+U137+W137+Y137+AA137+AC137+AE137+AG137+AI137+AK137+AM137)","v":0},null,null,null,null,null,null,null,null,null,null,null,null,null,null,null,null,null,null,null,null,null,null,null,null,null,null,null,null,null,null,null,null,null,null,null,null,null,null,null,{"$f":"$CA137&$CB137&$CC137&$CD137&CE137&CF137&CG137&CH137","v":""},null,null,null,null,null,null,null,null,null,null,null,null,null,null,null,null,null,null,null,null,null,null,null,null,null,null,null,null,null,null,null,null,null,{"$f":"IF(CJ137=1,\" *Las Acciones de NNA Mejor Niñez deben estar en el grupo etareo (hasta los 24 años)\",\"\")","v":""},{"$f":"IF(CK137=1,\" *.Las Acciones de Pueblos Originarios no pueden superar el total de Acciones \",\"\")","v":""},{"$f":"IF(CL137=1,\" *.Las Acciones de Migrantes no pueden superar el total de Acciones \",\"\")","v":""},{"$f":"IF(CM137=1,\" *.Las Acciones de Demencia no pueden superar el total de Acciones \",\"\")","v":""},null,null,null,null,null,{"$f":"IF(SUM(F137:O137)<AN137,1,0)","v":0},{"$f":"IF(AO137>$C137,1,0)","v":0},{"$f":"IF(AP137>$C137,1,0)","v":0},{"$f":"IF(AQ137>$C137,1,0)","v":0}]
[null,"Psicólogo/a",0,0,0,null,null,null,null,null,null,null,null,null,null,null,null,null,null,null,null,null,null,null,null,null,null,null,null,null,null,null,null,null,null,null,null,null,null,null,null,null,null,null,"",null,null,null,null,null,null,null,null,null,null,null,null,null,null,null,null,null,null,null,null,null,null,null,null,null,null,null,null,null,null,null,null,null,{"$f":"IF(CJ138=1,\" *Las Acciones de NNA Mejor Niñez deben estar en el grupo etareo (hasta los 24 años)\",\"\")","v":""},"","","",null,null,null,null,null,{"$f":"IF(SUM(F138:O138)<AN138,1,0)","v":0},{"$f":"IF(AO138>$C138,1,0)","v":0},{"$f":"IF(AP138>$C138,1,0)","v":0},{"$f":"IF(AQ138>$C138,1,0)","v":0}]
[null,"Enfermera/o",0,0,0,null,null,null,null,null,null,null,null,null,null,null,null,null,null,null,null,null,null,null,null,null,null,null,null,null,null,null,null,null,null,null,null,null,null,null,null,null,null,null,"",null,null,null,null,null,null,null,null,null,null,null,null,null,null,null,null,null,null,null,null,null,null,null,null,null,null,null,null,null,null,null,null,null,"","","","",null,null,null,null,null,0,0,0,0]
[null,"Matrona/on",0,0,0,null,null,null,null,null,null,null,null,null,null,null,null,null,null,null,null,null,null,null,null,null,null,null,null,null,null,null,null,null,null,null,null,null,null,null,null,null,null,null,"",null,null,null,null,null,null,null,null,null,null,null,null,null,null,null,null,null,null,null,null,null,null,null,null,null,null,null,null,null,null,null,null,null,"","","","",null,null,null,null,null,0,0,0,0]
[null,"Trabajador/a Social",0,0,0,null,null,null,null,null,null,null,null,null,null,null,null,null,null,null,null,null,null,null,null,null,null,null,null,null,null,null,null,null,null,null,null,null,null,null,null,null,null,null,"",null,null,null,null,null,null,null,null,null,null,null,null,null,null,null,null,null,null,null,null,null,null,null,null,null,null,null,null,null,null,null,null,null,"","","","",null,null,null,null,null,0,0,0,0]
[null,"Otros Profesionales",0,0,0,null,null,null,null,null,null,null,null,null,null,null,null,null,null,null,null,null,null,null,null,null,null,null,null,null,null,null,null,null,null,null,null,null,null,null,null,null,null,null,"",null,null,null,null,null,null,null,null,null,null,null,null,null,null,null,null,null,null,null,null,null,null,null,null,null,null,null,null,null,null,null,null,null,"","","","",null,null,null,null,null,0,0,0,0]
[null,"Terapeuta Ocupacional",0,0,0,null,null,null,null,null,null,null,null,null,null,null,null,null,null,null,null,null,null,null,null,null,null,null,null,null,null,null,null,null,null,null,null,null,null,null,null,null,null,null,"",null,null,null,null,null,null,null,null,null,null,null,null,null,null,null,null,null,null,null,null,null,null,null,null,null,null,null,null,null,null,null,null,null,"","","","",null,null,null,null,null,0,0,0,0]
[null,"Técnico en Enfermería y en Salud Mental",0,0,0,null,null,null,null,null,null,null,null,null,null,null,null,null,null,null,null,null,null,null,null,null,null,null,null,null,null,null,null,null,null,null,null,null,null,null,null,null,null,null,"",null,null,null,null,null,null,null,null,null,null,null,null,null,null,null,null,null,null,null,null,null,null,null,null,null,null,null,null,null,null,null,null,null,"","","","",null,null,null,null,null,0,0,0,0]
[null,"Gestor Comunitario",0,0,0,null,null,null,null,null,null,null,null,null,null,null,null,null,null,null,null,null,null,null,null,null,null,null,null,null,null,null,null,null,null,null,null,null,null,null,null,null,null,null,"",null,null,null,null,null,null,null,null,null,null,null,null,null,null,null,null,null,null,null,null,null,null,null,null,null,null,null,null,null,null,null,null,null,"","","","",null,null,null,null,null,0,0,0,0]
[null,"Técnico Rehabilitación Alcohol y Drogas",0,0,0,null,null,null,null,null,null,null,null,null,null,null,null,null,null,null,null,null,null,null,null,null,null,null,null,null,null,null,null,null,null,null,null,null,null,null,null,null,null,null,"",null,null,null,null,null,null,null,null,null,null,null,null,null,null,null,null,null,null,null,null,null,null,null,null,null,null,null,null,null,null,null,null,null,"","","","",null,null,null,null,null,0,0,0,0]
[null,"TOTAL",0,{"$f":"SUM(D137:D146)","v":0},0,0,0,0,0,0,0,0,0,0,0,0,0,0,0,0,0,0,0,0,0,0,0,0,0,0,0,0,0,0,0,0,0,0,0,0,0,0,0,{"$f":"SUM(AR137:AR146)","v":0}]
["CONTROLES DE SALUD MENTAL POR VIDEO LLAMADAS  ","Médico/a",0,{"$f":"SUM(F148+H148+J148+L148+N148+P148+R148+T148+V148+X148+Z148+AB148+AD148+AF148+AH148+AJ148+AL148)","v":0},{"$f":"SUM(G148+I148+K148+M148+O148+Q148+S148+U148+W148+Y148+AA148+AC148+AE148+AG148+AI148+AK148+AM148)","v":0},null,null,null,null,null,null,null,null,null,null,null,null,null,null,null,null,null,null,null,null,null,null,null,null,null,null,null,null,null,null,null,null,null,null,null,null,null,null,null,"",null,null,null,null,null,null,null,null,null,null,null,null,null,null,null,null,null,null,null,null,null,null,null,null,null,null,null,null,null,null,null,null,null,"","","","",null,null,null,null,null,0,0,0,0]
[null,"Psicólogo/a",0,0,0,null,null,null,null,null,null,null,null,null,null,null,null,null,null,null,null,null,null,null,null,null,null,null,null,null,null,null,null,null,null,null,null,null,null,null,null,null,null,null,"",null,null,null,null,null,null,null,null,null,null,null,null,null,null,null,null,null,null,null,null,null,null,null,null,null,null,null,null,null,null,null,null,null,"","","","",null,null,null,null,null,0,0,0,0]
[null,"Enfermera/o",0,0,0,null,null,null,null,null,null,null,null,null,null,null,null,null,null,null,null,null,null,null,null,null,null,null,null,null,null,null,null,null,null,null,null,null,null,null,null,null,null,null,"",null,null,null,null,null,null,null,null,null,null,null,null,null,null,null,null,null,null,null,null,null,null,null,null,null,null,null,null,null,null,null,null,null,"","","","",null,null,null,null,null,0,0,0,0]
[null,"Matrona/on",0,0,0,null,null,null,null,null,null,null,null,null,null,null,null,null,null,null,null,null,null,null,null,null,null,null,null,null,null,null,null,null,null,null,null,null,null,null,null,null,null,null,"",null,null,null,null,null,null,null,null,null,null,null,null,null,null,null,null,null,null,null,null,null,null,null,null,null,null,null,null,null,null,null,null,null,"","","","",null,null,null,null,null,0,0,0,0]
[null,"Trabajador/a Social",0,0,0,null,null,null,null,null,null,null,null,null,null,null,null,null,null,null,null,null,null,null,null,null,null,null,null,null,null,null,null,null,null,null,null,null,null,null,null,null,null,null,"",null,null,null,null,null,null,null,null,null,null,null,null,null,null,null,null,null,null,null,null,null,null,null,null,null,null,null,null,null,null,null,null,null,"","","","",null,null,null,null,null,0,0,0,0]
[null,"Otros Profesionales",0,0,0,null,null,null,null,null,null,null,null,null,null,null,null,null,null,null,null,null,null,null,null,null,null,null,null,null,null,null,null,null,null,null,null,null,null,null,null,null,null,null,"",null,null,null,null,null,null,null,null,null,null,null,null,null,null,null,null,null,null,null,null,null,null,null,null,null,null,null,null,null,null,null,null,null,"","","","",null,null,null,null,null,0,0,0,0]
[null,"Terapeuta Ocupacional",0,0,0,null,null,null,null,null,null,null,null,null,null,null,null,null,null,null,null,null,null,null,null,null,null,null,null,null,null,null,null,null,null,null,null,null,null,null,null,null,null,null,"",null,null,null,null,null,null,null,null,null,null,null,null,null,null,null,null,null,null,null,null,null,null,null,null,null,null,null,null,null,null,null,null,null,"","","","",null,null,null,null,null,0,0,0,0]
[null,"Técnico en Enfermería y en Salud Mental",0,0,0,null,null,null,null,null,null,null,null,null,null,null,null,null,null,null,null,null,null,null,null,null,null,null,null,null,null,null,null,null,null,null,null,null,null,null,null,null,null,null,"",null,null,null,null,null,null,null,null,null,null,null,null,null,null,null,null,null,null,null,null,null,null,null,null,null,null,null,null,null,null,null,null,null,"","","","",null,null,null,null,null,0,0,0,0]
[null,"Gestor Comunitario",0,0,0,null,null,null,null,null,null,null,null,null,null,null,null,null,null,null,null,null,null,null,null,null,null,null,null,null,null,null,null,null,null,null,null,null,null,null,null,null,null,null,"",null,null,null,null,null,null,null,null,null,null,null,null,null,null,null,null,null,null,null,null,null,null,null,null,null,null,null,null,null,null,null,null,null,"","","","",null,null,null,null,null,0,0,0,0]
[null,"Técnico Rehabilitación Alcohol y Drogas",0,0,0,null,null,null,null,null,null,null,null,null,null,null,null,null,null,null,null,null,null,null,null,null,null,null,null,null,null,null,null,null,null,null,null,null,null,null,null,null,null,null,"",null,null,null,null,null,null,null,null,null,null,null,null,null,null,null,null,null,null,null,null,null,null,null,null,null,null,null,null,null,null,null,null,null,"","","","",null,null,null,null,null,0,0,0,0]
[null,"TOTAL",0,{"$f":"SUM(D148:D157)","v":0},0,0,0,0,0,0,0,0,0,0,0,0,0,0,0,0,0,0,0,0,0,0,0,0,0,0,0,0,0,0,0,0,0,0,0,0,0,0,0,{"$f":"SUM(AR148:AR157)","v":0}]
["SECCION G: ACCIONES DE SEGUIMIENTO REMOTO EN EL PROGRAMA DE SALUD CARDIOVASCULAR EN APS "]
["TIPO DE CONTROL","PROFESIONAL","TOTAL",null,null,"NÚMERO DE ACCIONES POR RANGOS DE EDAD",null,null,null,null,null,null,null,null,null,null,null,null,null,null,null,null,null,null,null,null,null,null,null,null,null,null,null,"Pueblos Originarios","Migrantes",null,null,null,null,null,null,null,null,{"$f":"+BB147&BC147&BD147&BE147","v":""}]
[null,null,null,null,null,"15 a 19",null,"20 - 24",null,"25 - 29",null,"30 - 34",null,"35 - 39",null,"40 - 44",null,"45 - 49",null,"50 - 54",null,"55 - 59",null,"60 - 64",null,"65 - 69",null,"70 - 74",null,"75 - 79",null,"80 y mas",null,null,null,null,null,null,null,null,null,null,null,null,null,null,null,null,null,null,null,null,null,null,null,null,null,null,null,null,null,null,null,null,null,null,null,null,null,null,null,null,null,null,null,null,null,null,"Pueblos Originarios","Migrantes",null,null,null,null,null,null,null,"Pueblos Originarios","Migrantes"]
[null,null,"Ambos Sexos","Hombres","Mujeres","Hombres","Mujeres","Hombres","Mujeres","Hombres","Mujeres","Hombres","Mujeres","Hombres","Mujeres","Hombres","Mujeres","Hombres","Mujeres","Hombres","Mujeres","Hombres","Mujeres","Hombres","Mujeres","Hombres","Mujeres","Hombres","Mujeres","Hombres","Mujeres","Hombres","Mujeres"]
["Llamadas telefónicas o Video llamadas","Médico/a",{"$f":"SUM(D163:E163)","v":0},{"$f":"SUM(F163+H163+J163+L163+N163+P163+R163+T163+V163+X163+Z163+AB163+AD163+AF163)","v":0},0,null,null,null,null,null,null,null,null,null,null,null,null,null,null,null,null,null,null,null,null,null,null,null,null,null,null,null,null,null,null,{"$f":"$CA163&$CB163&$CC163&$CD163&CE163&CF163&CG163&CH163","v":""},null,null,null,null,null,null,null,null,null,null,null,null,null,null,null,null,null,null,null,null,null,null,null,null,null,null,null,null,null,null,null,null,null,null,null,null,null,null,null,null,null,null,{"$f":"IF(CJ163=1,\" *.Las Acciones de Pueblos Originarios no pueden superar el total de Acciones \",\"\")","v":""},{"$f":"IF(CK163=1,\" *.Las Acciones de Migrantes no pueden superar el total de Acciones \",\"\")","v":""},null,null,null,null,null,null,null,{"$f":"IF(AH163>$C163,1,0)","v":0},{"$f":"IF(AI163>$C163,1,0)","v":0}]
[null,"Enfermera/o",0,0,0,null,null,null,null,null,null,null,null,null,null,null,null,null,null,null,null,null,null,null,null,null,null,null,null,null,null,null,null,null,null,{"$f":"$CA164&$CB164&$CC164&$CD164&CE164&CF164&CG164&CH164","v":""},null,null,null,null,null,null,null,null,null,null,null,null,null,null,null,null,null,null,null,null,null,null,null,null,null,null,null,null,null,null,null,null,null,null,null,null,null,null,null,null,null,null,{"$f":"IF(CJ164=1,\" *.Las Acciones de Pueblos Originarios no pueden superar el total de Acciones \",\"\")","v":""},{"$f":"IF(CK164=1,\" *.Las Acciones de Migrantes no pueden superar el total de Acciones \",\"\")","v":""},null,null,null,null,null,null,null,{"$f":"IF(AH164>$C164,1,0)","v":0},{"$f":"IF(AI164>$C164,1,0)","v":0}]
[null,"Nutricionista",0,0,0,null,null,null,null,null,null,null,null,null,null,null,null,null,null,null,null,null,null,null,null,null,null,null,null,null,null,null,null,null,null,"",null,null,null,null,null,null,null,null,null,null,null,null,null,null,null,null,null,null,null,null,null,null,null,null,null,null,null,null,null,null,null,null,null,null,null,null,null,null,null,null,null,null,"","",null,null,null,null,null,null,null,0,0]
[null,"Técnico en Enfermería ",0,0,0,null,null,null,null,null,null,null,null,null,null,null,null,null,null,null,null,null,null,null,null,null,null,null,null,null,null,null,null,null,null,"",null,null,null,null,null,null,null,null,null,null,null,null,null,null,null,null,null,null,null,null,null,null,null,null,null,null,null,null,null,null,null,null,null,null,null,null,null,null,null,null,null,null,"","",null,null,null,null,null,null,null,0,0]
["Mensajes de texto","Médico/a",0,0,0,null,null,null,null,null,null,null,null,null,null,null,null,null,null,null,null,null,null,null,null,null,null,null,null,null,null,null,null,null,null,"",null,null,null,null,null,null,null,null,null,null,null,null,null,null,null,null,null,null,null,null,null,null,null,null,null,null,null,null,null,null,null,null,null,null,null,null,null,null,null,null,null,null,"","",null,null,null,null,null,null,null,0,0]
[null,"Enfermera/o",0,0,0,null,null,null,null,null,null,null,null,null,null,null,null,null,null,null,null,null,null,null,null,null,null,null,null,null,null,null,null,null,null,"",null,null,null,null,null,null,null,null,null,null,null,null,null,null,null,null,null,null,null,null,null,null,null,null,null,null,null,null,null,null,null,null,null,null,null,null,null,null,null,null,null,null,"","",null,null,null,null,null,null,null,0,0]
[null,"Nutricionista",0,0,0,null,null,null,null,null,null,null,null,null,null,null,null,null,null,null,null,null,null,null,null,null,null,null,null,null,null,null,null,null,null,"",null,null,null,null,null,null,null,null,null,null,null,null,null,null,null,null,null,null,null,null,null,null,null,null,null,null,null,null,null,null,null,null,null,null,null,null,null,null,null,null,null,null,"","",null,null,null,null,null,null,null,0,0]
[null,"Técnico en Enfermería ",0,0,0,null,null,null,null,null,null,null,null,null,null,null,null,null,null,null,null,null,null,null,null,null,null,null,null,null,null,null,null,null,null,"",null,null,null,null,null,null,null,null,null,null,null,null,null,null,null,null,null,null,null,null,null,null,null,null,null,null,null,null,null,null,null,null,null,null,null,null,null,null,null,null,null,null,"","",null,null,null,null,null,null,null,0,0]
["SECCIÓN H: ACTIVIDADES DE ACOMPAÑAMIENTO REMOTO A PERSONAS MAYORES Y SUS FAMILIAS POR PARTE DEL PROGRAMA MÁS ADULTOS MAYORES AUTOVALENTES"]
["TIPO DE ACTIVIDAD","TOTAL",null,null,"NÚMERO DE ACCIONES POR RANGOS DE EDAD",null,null,null,null,null,null,null,null,null,null,null,null,null,null,null,null,null,null,null,null,null,null,null,null,null,null,null,"GRUPAL","Pueblos Originarios","Migrantes"]
[null,null,null,null,"15 - 19",null,"20 - 24",null,"25 - 29",null,"30 - 34",null,"35 - 39",null,"40 - 44",null,"45 - 49",null,"50 - 54",null,"55 - 59",null,"60 - 64",null,"65 - 69",null,"70 - 74",null,"75 - 79",null,"80 y mas",null,null,null,null,null,null,null,null,null,null,null,null,null,null,null,null,null,null,null,null,null,null,null,null,null,null,null,null,null,null,null,null,null,null,null,null,null,null,null,null,null,null,null,null,null,null,null,"Pueblos Originarios","Migrantes",null,null,null,null,null,null,null,"Pueblos Originarios","Migrantes"]
[null,"Ambos Sexos","Hombres","Mujeres","Hombres","Mujeres","Hombres","Mujeres","Hombres","Mujeres","Hombres","Mujeres","Hombres","Mujeres","Hombres","Mujeres","Hombres","Mujeres","Hombres","Mujeres","Hombres","Mujeres","Hombres","Mujeres","Hombres","Mujeres","Hombres","Mujeres","Hombres","Mujeres","Hombres","Mujeres"]
["Llamadas Telefónicas",{"$f":"SUM(C175:D175)","v":0},{"$f":"+E175+G175+I175+K175+M175+O175+Q175+S175+U175+W175+Y175+AA175+AC175+AE175","v":0},0,null,null,null,null,null,null,null,null,null,null,null,null,null,null,null,null,null,null,null,null,null,null,null,null,null,null,null,null,null,null,null,{"$f":"$CA175&$CB175&$CC175&$CD175&CE175&CF175&CG175&CH175","v":""},null,null,null,null,null,null,null,null,null,null,null,null,null,null,null,null,null,null,null,null,null,null,null,null,null,null,null,null,null,null,null,null,null,null,null,null,null,null,null,null,null,null,{"$f":"IF(CJ175=1,\" *.Las Acciones de Pueblos Originarios no pueden superar el total de Acciones \",\"\")","v":""},{"$f":"IF(CK175=1,\" *.Las Acciones de Migrantes no pueden superar el total de Acciones \",\"\")","v":""},null,null,null,null,null,null,null,{"$f":"IF(AH175>$C175,1,0)","v":0},{"$f":"IF(AI175>$C175,1,0)","v":0}]
[" Video llamadas",{"$f":"SUM(C176:D176)","v":0},0,0,null,null,null,null,null,null,null,null,null,null,null,null,null,null,null,null,null,null,null,null,null,null,null,null,null,null,null,null,null,null,null,"",null,null,null,null,null,null,null,null,null,null,null,null,null,null,null,null,null,null,null,null,null,null,null,null,null,null,null,null,null,null,null,null,null,null,null,null,null,null,null,null,null,null,"","",null,null,null,null,null,null,null,{"$f":"IF(AH176>$C176,1,0)","v":0},{"$f":"IF(AI176>$C176,1,0)","v":0}]
["Contacto individual  por mensaje electronico",{"$f":"SUM(C177:D177)","v":0},0,{"$f":"+F177+H177+J177+L177+N177+P177+R177+T177+V177+X177+Z177+AB177+AD177+AF177","v":0},null,null,null,null,null,null,null,null,null,null,null,null,null,null,null,null,null,null,null,null,null,null,null,null,null,null,null,null,null,null,null,"",null,null,null,null,null,null,null,null,null,null,null,null,null,null,null,null,null,null,null,null,null,null,null,null,null,null,null,null,null,null,null,null,null,null,null,null,null,null,null,null,null,null,"","",null,null,null,null,null,null,null,0,0]
["Contacto grupal por mensaje electronico"]
["SECCIÓN I: SEGUIMIENTO DE SALUD INFANTIL REMOTO"]
["PROFESIONALES","TOTAL ACCIONES","ACCIONES",null,"TOTAL USUARIOS","GRUPOS DE EDAD (en meses - años) "]
[null,null,"Llamadas Telefónicas","Video Llamadas",null,"1 mes","2 meses","3 meses","4 meses","5 meses","6 meses","7 a 11 meses","12 a 17 meses","18 a 23 meses","24 a 35 meses","36 a 41 meses","42 a 47 meses","48 a 59 meses","60 a 71 meses","6 a 9 años 11 meses"]
["Enfermera/o",{"$f":"SUM(C182:D182)","v":0},null,null,{"$f":"+F182+G182+H182+I182+K182+L182+M182+N182+O182+P182+Q182+R182+S182+T182","v":0}]
["Médico/a",{"$f":"SUM(C183:D183)","v":0},null,null,{"$f":"+F183+G183+H183+I183+K183+L183+M183+N183+O183+P183+Q183+R183+S183+T183","v":0}]
["Nutricionista",{"$f":"SUM(C184:D184)","v":0},null,null,{"$f":"SUM(F184:T184)","v":0}]
["Otro/a",{"$f":"SUM(C185:D185)","v":0},null,null,{"$f":"+F185+G185+H185+I185+K185+L185+M185+N185+O185+P185+Q185+R185+S185+T185","v":0}]
["SECCIÓN J: ATENCIÓN REMOTA ADOLESCENTE"]
[" CONTROL DE SALUD INTEGRAL","10 A 14 AÑOS",null,null,"15 A 19 AÑOS"]
[null,"Ambos Sexos","Hombres","Mujeres","Ambos Sexos","Hombres","Mujeres"]
["Epuipo de espacio Amigable",{"$f":"SUM(C189:D189)","v":0},null,null,{"$f":"SUM(F189:G189)","v":0}]
["Otro Equipo de Salud",{"$f":"SUM(C190:D190)","v":0},null,null,{"$f":"SUM(F190:G190)","v":0}]
["SECCION K: ATENCIONES REMOTAS EN MODALIDADES DE APOYO AL DESARROLLO INFANTIL (MADIS) EN APS"]
["ACTIVIDAD","Total Acciones","TIPO DE ACCION PARA GENERAR ATENCIONES",null,null,"TOTAL USUARIOS","GRUPOS DE EDAD (en meses - años)"]
[null,null,null,null,null,null,"NÚMERO DE ACCIONES DE ATENCIONES POR RANGOS DE EDAD"]
[null,null,"Telefónico","Video Llamadas","Mensajería",null,"Menor de 7 meses","7-11 MESES","12- 17 MESES","18-23 MESES","24-47 MESES","48-59 MESES"]
["Intervenciones de seguimiento efectivas",{"$f":"SUM(C195:D195)","v":0},null,null,null,{"$f":"SUM(G195:L195)","v":0}]
["Intervenciones de otro tipo",{"$f":"SUM(C196:E196)","v":0},null,null,null,{"$f":"SUM(G196:L196)","v":0}]
["Última sesión Término de Tratramiento",{"$f":"SUM(C197:D197)","v":0},null,null,null,{"$f":"SUM(G197:L197)","v":0}]
["SECCIÓN L:  EDUCACIÓN GRUPAL REMOTA SEGÚN ÁREAS TEMÁTICAS Y EDAD"]
["ÁREAS TEMÁTICAS DE PROMOCIÓN Y PREVENCIÓN",null,"Total Acciones","TIPO DE ACCION PARA GENERAR ATENCIONES",null,null,null,null,null,null,"MADRE, PADRE O CUIDADOR DE:"]
[null,null,null,"Telefónico","Video llamada grupal","Seminario-Radio","Plataforma Digital","Total Usuarios","Gestantes","Acompañante de gestante","Menores de 12 meses","Niños de 12 a 23 meses","Niños de 2 a 5 años","Niños de 5 a 9 años"]
["HABILIDADES PARENTALES","Nadie es Perfecto Remoto A",{"$f":"SUM(E201+G201)","v":0},null,null,null,null,{"$f":"+K201+L201+M201","v":0}]
[null,"Nadie es Perfecto Remoto B",{"$f":"SUM(D202+E202+G202)","v":0},null,null,null,null,{"$f":"SUM(I202:M202)","v":0}]
[null,"Nadie es Perfecto Seminario",{"$f":"+F203+G203","v":0},null,null,null,null,{"$f":"SUM(I203:M203)","v":0}]
[null,"Nadie es perfecto PASMI",{"$f":"SUM(D204:G204)","v":0},null,null,null,null,{"$f":"+N204","v":0}]
["SECCIÓN M: ACTIVIDADES PROGRAMA ELIGE VIDA SANA POR LLAMADA TELEFÓNICA "]
["ACTIVIDAD","Nº de Mensajes","Nº de Participantes","Madre, Padre o Cuidador de",null,"N° de Participantes de Edad",null,null,null,null,null,null,null,null,null,null,null,null,null,"Gestantes","Post Parto"]
[null,null,null,"Menores de 1 año","Niños 12 a 23 meses","menor de 2 años","2 a 4 años","5 a 9 años","10 a 14 años","15 a 19 años","20-24 años","25 - 29 años","30 - 34 años","35 - 39 años","40 - 44 años","45 - 49 años","50 - 54 años","55 - 59 años","60 - 64 años"]
["Información de actividades físicas enviadas por teléfono",null,{"$f":"SUM(D208:S208)","v":0}]
["Información de Nutrición enviada por teléfono",null,{"$f":"SUM(D209:S209)","v":0}]
["Información por Psicologos enviada por teléfono",null,{"$f":"SUM(D210:S210)","v":0}]
["SECCIÓN N: ACTIVIDADES PROGRAMA ELIGE VIDA SANA POR REDES SOCIALES"]
["TALLER","N° de Archivos Multimedia","Madres, Padre o Cuidador de ",null,"N° de Archivos Multimedia por Edad",null,null,null,null,null,"Gestantes","Post Parto"]
[null,null,"Menores de 1 año","Niños 12 a 23 meses","menor de 2 años","2 a 4 años","5 a 9 años","10 a 14 años","15 a 19 años","20-64 años"]
["Videos de Actividad Física subido a las Redes Sociales",{"$f":"SUM(C214:J214)","v":0}]
["Videos de Vida Sana subido a las Redes Sociales",{"$f":"SUM(C215:J215)","v":0}]
["SECCIÓN O: SEGUIMIENTO DE PERSONAS CON CONDICIONES CRÓNICAS"]
["TIPO DE CONTROL","TOTAL",null,null,"POR EDAD "]
[null,null,null,null,"15 - 19",null,"20 - 24",null,"25 - 29",null,"30 - 34",null,"35 - 39",null,"40 - 44",null,"45 - 49",null,"50 - 54",null,"55 - 59",null,"60 - 64",null,"65 - 69",null,"70 - 74",null,"75 - 79",null,"80 y mas"]
[null,"Ambos Sexos","Hombres","Mujeres","Hombres","Mujeres","Hombres","Mujeres","Hombres","Mujeres","Hombres","Mujeres","Hombres","Mujeres","Hombres","Mujeres","Hombres","Mujeres","Hombres","Mujeres","Hombres","Mujeres","Hombres","Mujeres","Hombres","Mujeres","Hombres","Mujeres","Hombres","Mujeres","Hombres","Mujeres"]
["SEGUIMIENTO A DISTANCIA CON RIESGO LEVE (G1)",{"$f":"SUM(C220:D220)","v":0},{"$f":"SUM(E220+G220+I220+K220+M220+O220+Q220+S220+U220+W220+Y220+AA220+AC220+AE220)","v":0},0]
["SEGUIMIENTO A DISTANCIA CON RIESGO MODEADO (G2)",{"$f":"SUM(C221:D221)","v":0},0,0]
["SEGUIMIENTO A DISTANCIA CON RIESGO ALTO (G3)",{"$f":"SUM(C222:D222)","v":0},0,0]
["SECCIÓN P: APOYO TELEFÓNICO DEL PROGRAMA DE ACOMPAÑAMIENTO PSICOSOCIAL EN APS"]
["GRUPOS","TOTAL ACCIONES","NÚMERO DE ACCIONES DE ACOMPAÑAMIENTO TELEFÓNICO"]
[null,null,"0 - 4","5 - 9","10 - 14","15 - 19","20 - 24"]
["ACCIONES TELEFÓNICAS REALIZADAS (LLAMADAS O MENSAJERÍA)",{"$f":"SUM(C226:G226)","v":0}]
["SECCIÓN Q: TELEINTERCONSULTA MEDICINA ABREVIADA "]
["TIPO DE CONSULTA ","MODALIDAD"]
[null,"Institucional","Compra de Servicio"]
[null,"Establecimiento de la Red","Sistema","Extrasistema"]
["TRATAMIENTO ANTICOAGULANTE ORAL "]
[]
[]
[]
[]
[]
[]
[]
[]
[]
[]
[]
[]
[]
[]
[]
[]
[]
[]
[]
[]
[]
[]
[]
[]
[{"$f":"SUM(B19,B27,B97,C111,B119,B125,B130:B132,C147,C158,C163:C170,B175:B178,B182:B185,E182:E185,B189:B190,E189:E190,B195:B197,F195:F197,C201:C204,H201:H204,B208:C210,B214:B215,B220:B222,B226,B231:D231)","v":0},{"$f":"SUM(CJ11:CR177)","v":0}]

{"sheet":"A33","index":25,"n_rows":140,"n_cols":89,"rows_kept":140,"cut":false,"hidden":false,"merged":[[42,0,44,0],[59,0,61,1],[14,0,36,0],[37,0,40,0],[12,21,12,22],[11,0,13,1],[59,2,60,4],[42,1,43,3],[43,18,43,19],[60,5,60,6],[60,7,60,8],[60,9,60,10],[60,11,60,12],[60,13,60,14],[117,1,117,2],[117,3,117,5],[62,0,84,0],[85,0,88,0],[91,1,92,3],[117,0,118,0],[112,1,112,4],[112,5,112,8],[107,1,107,4],[107,5,107,8],[91,4,91,37],[92,4,92,5],[92,18,92,19],[92,20,92,21],[92,22,92,23],[92,24,92,25],[6,3,6,11],[12,5,12,6],[12,7,12,8],[12,9,12,10],[12,11,12,12],[11,2,12,4],[11,5,11,38],[12,13,12,14],[12,15,12,16],[12,17,12,18],[12,19,12,20],[12,23,12,24],[12,25,12,26],[12,27,12,28],[11,39,13,39],[11,40,13,40],[42,4,42,37],[43,4,43,5],[43,6,43,7],[43,8,43,9],[12,29,12,30],[12,31,12,32],[12,33,12,34],[12,35,12,36],[12,37,12,38],[43,10,43,11],[43,12,43,13],[43,30,43,31],[43,14,43,15],[43,16,43,17],[43,22,43,23],[43,24,43,25],[43,20,43,21],[43,32,43,33],[43,34,43,35],[43,36,43,37],[60,15,60,16],[60,17,60,18],[92,6,92,7],[92,8,92,9],[92,10,92,11],[92,12,92,13],[92,14,92,15],[43,26,43,27],[43,28,43,29],[42,38,43,48],[91,0,93,0],[107,0,108,0],[92,26,92,27],[92,28,92,29],[92,30,92,31],[92,32,92,33],[92,34,92,35],[92,36,92,37],[59,39,61,39],[59,40,61,40],[60,23,60,24],[60,25,60,26],[60,27,60,28],[60,29,60,30],[59,5,59,38],[92,16,92,17],[60,31,60,32],[60,33,60,34],[60,35,60,36],[60,37,60,38],[60,19,60,20],[60,21,60,22],[91,38,92,48],[91,78,93,78],[91,87,93,87],[59,78,61,78],[59,79,61,79],[59,87,61,87],[59,88,61,88],[11,87,13,87],[11,88,13,88],[11,78,13,78],[11,79,13,79],[42,87,44,87],[42,78,44,78]]}
["SERVICIO DE SALUD"]
[{"$f":"CONCATENATE(\"COMUNA: \",NOMBRE!B2,\" - \",\"( \",NOMBRE!C2,NOMBRE!D2,NOMBRE!E2,NOMBRE!F2,NOMBRE!G2,\" )\")","v":"COMUNA:  - (  )"}]
[{"$f":"CONCATENATE(\"ESTABLECIMIENTO/ESTRATEGIA: \",NOMBRE!B3,\" - \",\"( \",NOMBRE!C3,NOMBRE!D3,NOMBRE!E3,NOMBRE!F3,NOMBRE!G3,NOMBRE!H3,\" )\")","v":"ESTABLECIMIENTO/ESTRATEGIA:  - (  )"}]
[{"$f":"CONCATENATE(\"MES: \",NOMBRE!B6,\" - \",\"( \",NOMBRE!C6,NOMBRE!D6,\" )\")","v":"MES:  - (  )"}]
[{"$f":"CONCATENATE(\"AÑO: \",NOMBRE!B7)","v":"AÑO: 2023"}]
[]
[null,null,null,"REM - A33. CUIDADOS PALIATIVOS NIVEL APS Y HOSPITALARIO"]
[]
[]
["SECCIÓN A:  NIVEL PRIMARIO "]
["SECCIÓN A1:  INGRESOS POR DIAGNÓSTICO Y EGRESO POR CAUSALES"]
["INGRESO Y EGRESO SEGÚN DIAGNÓSTICO ",null,"TOTAL",null,null,"POR EDAD (en años)",null,null,null,null,null,null,null,null,null,null,null,null,null,null,null,null,null,null,null,null,null,null,null,null,null,null,null,null,null,null,null,null,null,"Pueblos originarios","Migrantes",null,null,null,null,null,null,null,null,null,null,null,null,null,null,null,null,null,null,null,null,null,null,null,null,null,null,null,null,null,null,null,null,null,null,null,null,null,"Pueblos originarios","Migrantes",null,null,null,null,null,null,null,"Pueblos originarios","Migrantes"]
[null,null,null,null,null,"0 a 4 años",null,"5 a 9 años",null,"10 - 14",null,"15 - 19 ",null,"20 - 24 ",null,"25-29",null,"30-34",null,"35 - 39",null,"40 - 44",null,"45- 49",null,"50 - 54",null,"55 - 59",null,"60 - 64",null,"65 - 69",null,"70 - 74",null,"75 - 79",null,"80 y mas"]
[null,null,"Ambos Sexos","Hombres","Mujeres","Hombres","Mujeres","Hombres","Mujeres","Hombres","Mujeres","Hombres","Mujeres","Hombres","Mujeres","Hombres","Mujeres","Hombres","Mujeres","Hombres","Mujeres","Hombres","Mujeres","Hombres","Mujeres","Hombres","Mujeres","Hombres","Mujeres","Hombres","Mujeres","Hombres","Mujeres","Hombres","Mujeres","Hombres","Mujeres","Hombres","Mujeres",null,"Mujeres",null,null,null,null,null,null,null,null,null,null,null,null,null,null,null,null,null,null,null,null,null,null,null,null,null,null,null,null,null,null,null,null,null,null,null,null,null,null,"Mujeres",null,null,null,null,null,null,null,null,"Mujeres"]
["INGRESOS POR DIAGNÓSTICO CON PLAN DE TRATAMIENTO","Tumores malignos",{"$f":"SUM(D15:E15)","v":0},{"$f":"+F15+H15+J15+L15+N15+P15+R15+T15+V15++X15+Z15+AB15+AD15+AF15+AH15+AJ15+AL15","v":0},{"$f":"+G15+I15+K15+M15+O15+Q15+S15+U15+W15++Y15+AA15+AC15+AE15+AG15+AI15+AK15+AM15","v":0},null,null,null,null,null,null,null,null,null,null,null,null,null,null,null,null,null,null,null,null,null,null,null,null,null,null,null,null,null,null,null,null,null,null,null,null,{"$f":"CA15&CB15","v":""},null,null,null,null,null,null,null,null,null,null,null,null,null,null,null,null,null,null,null,null,null,null,null,null,null,null,null,null,null,null,null,null,null,null,null,null,{"$f":"IF(CJ15=1,\" * El total de registros en Pueblos Originarios no debe ser mayor al Total.\",\"\")","v":""},{"$f":"IF(CK15=1,\" * El total de registros en Migrantes no debe ser mayor al Total.\",\"\")","v":""},null,null,null,null,null,null,null,{"$f":"IF(AN15>C15,1,0)","v":0},{"$f":"IF(AO15>C15,1,0)","v":0}]
[null,"Otros cáncer (incluye hematológicos)",{"$f":"SUM(D16:E16)","v":0},{"$f":"+F16+H16+J16+L16+N16+P16+R16+T16+V16++X16+Z16+AB16+AD16+AF16+AH16+AJ16+AL16","v":0},{"$f":"+G16+I16+K16+M16+O16+Q16+S16+U16+W16++Y16+AA16+AC16+AE16+AG16+AI16+AK16+AM16","v":0},null,null,null,null,null,null,null,null,null,null,null,null,null,null,null,null,null,null,null,null,null,null,null,null,null,null,null,null,null,null,null,null,null,null,null,null,{"$f":"CA16&CB16","v":""},null,null,null,null,null,null,null,null,null,null,null,null,null,null,null,null,null,null,null,null,null,null,null,null,null,null,null,null,null,null,null,null,null,null,null,null,{"$f":"IF(CJ16=1,\" * El total de registros en Pueblos Originarios no debe ser mayor al Total.\",\"\")","v":""},{"$f":"IF(CK16=1,\" * El total de registros en Migrantes no debe ser mayor al Total.\",\"\")","v":""},null,null,null,null,null,null,null,{"$f":"IF(AN16>C16,1,0)","v":0},{"$f":"IF(AO16>C16,1,0)","v":0}]
[null,"Infección causada por VIH",0,0,0,null,null,null,null,null,null,null,null,null,null,null,null,null,null,null,null,null,null,null,null,null,null,null,null,null,null,null,null,null,null,null,null,null,null,null,null,"",null,null,null,null,null,null,null,null,null,null,null,null,null,null,null,null,null,null,null,null,null,null,null,null,null,null,null,null,null,null,null,null,null,null,null,null,"","",null,null,null,null,null,null,null,0,0]
[null,"Otras enfermedades infecciosas",0,0,0,null,null,null,null,null,null,null,null,null,null,null,null,null,null,null,null,null,null,null,null,null,null,null,null,null,null,null,null,null,null,null,null,null,null,null,null,"",null,null,null,null,null,null,null,null,null,null,null,null,null,null,null,null,null,null,null,null,null,null,null,null,null,null,null,null,null,null,null,null,null,null,null,null,"","",null,null,null,null,null,null,null,0,0]
[null,"Trastornos mentales orgánicos",0,0,0,null,null,null,null,null,null,null,null,null,null,null,null,null,null,null,null,null,null,null,null,null,null,null,null,null,null,null,null,null,null,null,null,null,null,null,null,"",null,null,null,null,null,null,null,null,null,null,null,null,null,null,null,null,null,null,null,null,null,null,null,null,null,null,null,null,null,null,null,null,null,null,null,null,"","",null,null,null,null,null,null,null,0,0]
[null,"Enfermedades extrapiramidales y/o del movimiento",0,0,0,null,null,null,null,null,null,null,null,null,null,null,null,null,null,null,null,null,null,null,null,null,null,null,null,null,null,null,null,null,null,null,null,null,null,null,null,"",null,null,null,null,null,null,null,null,null,null,null,null,null,null,null,null,null,null,null,null,null,null,null,null,null,null,null,null,null,null,null,null,null,null,null,null,"","",null,null,null,null,null,null,null,0,0]
[null,"Desmielinizantes del SNC",0,0,0,null,null,null,null,null,null,null,null,null,null,null,null,null,null,null,null,null,null,null,null,null,null,null,null,null,null,null,null,null,null,null,null,null,null,null,null,"",null,null,null,null,null,null,null,null,null,null,null,null,null,null,null,null,null,null,null,null,null,null,null,null,null,null,null,null,null,null,null,null,null,null,null,null,"","",null,null,null,null,null,null,null,0,0]
[null,"Neurodegenerativas",0,0,0,null,null,null,null,null,null,null,null,null,null,null,null,null,null,null,null,null,null,null,null,null,null,null,null,null,null,null,null,null,null,null,null,null,null,null,null,"",null,null,null,null,null,null,null,null,null,null,null,null,null,null,null,null,null,null,null,null,null,null,null,null,null,null,null,null,null,null,null,null,null,null,null,null,"","",null,null,null,null,null,null,null,0,0]
[null,"Parálisis cerebral severa",0,0,0,null,null,null,null,null,null,null,null,null,null,null,null,null,null,null,null,null,null,null,null,null,null,null,null,null,null,null,null,null,null,null,null,null,null,null,null,"",null,null,null,null,null,null,null,null,null,null,null,null,null,null,null,null,null,null,null,null,null,null,null,null,null,null,null,null,null,null,null,null,null,null,null,null,"","",null,null,null,null,null,null,null,0,0]
[null,"Cardiopatías congénitas o adquiridas",0,0,0,null,null,null,null,null,null,null,null,null,null,null,null,null,null,null,null,null,null,null,null,null,null,null,null,null,null,null,null,null,null,null,null,null,null,null,null,"",null,null,null,null,null,null,null,null,null,null,null,null,null,null,null,null,null,null,null,null,null,null,null,null,null,null,null,null,null,null,null,null,null,null,null,null,"","",null,null,null,null,null,null,null,0,0]
[null,"Insuficiencia cardíaca",0,0,0,null,null,null,null,null,null,null,null,null,null,null,null,null,null,null,null,null,null,null,null,null,null,null,null,null,null,null,null,null,null,null,null,null,null,null,null,"",null,null,null,null,null,null,null,null,null,null,null,null,null,null,null,null,null,null,null,null,null,null,null,null,null,null,null,null,null,null,null,null,null,null,null,null,"","",null,null,null,null,null,null,null,0,0]
[null,"Enfermedades sistema nervioso vascular o traumático (ACV-TEC)",0,0,0,null,null,null,null,null,null,null,null,null,null,null,null,null,null,null,null,null,null,null,null,null,null,null,null,null,null,null,null,null,null,null,null,null,null,null,null,"",null,null,null,null,null,null,null,null,null,null,null,null,null,null,null,null,null,null,null,null,null,null,null,null,null,null,null,null,null,null,null,null,null,null,null,null,"","",null,null,null,null,null,null,null,0,0]
[null,"EPOC",0,0,0,null,null,null,null,null,null,null,null,null,null,null,null,null,null,null,null,null,null,null,null,null,null,null,null,null,null,null,null,null,null,null,null,null,null,null,null,"",null,null,null,null,null,null,null,null,null,null,null,null,null,null,null,null,null,null,null,null,null,null,null,null,null,null,null,null,null,null,null,null,null,null,null,null,"","",null,null,null,null,null,null,null,0,0]
[null,"Otras pulmonares (restrictivas, vasculares)",0,0,0,null,null,null,null,null,null,null,null,null,null,null,null,null,null,null,null,null,null,null,null,null,null,null,null,null,null,null,null,null,null,null,null,null,null,null,null,"",null,null,null,null,null,null,null,null,null,null,null,null,null,null,null,null,null,null,null,null,null,null,null,null,null,null,null,null,null,null,null,null,null,null,null,null,"","",null,null,null,null,null,null,null,0,0]
[null,"Insuficiencia hepática",0,0,0,null,null,null,null,null,null,null,null,null,null,null,null,null,null,null,null,null,null,null,null,null,null,null,null,null,null,null,null,null,null,null,null,null,null,null,null,"",null,null,null,null,null,null,null,null,null,null,null,null,null,null,null,null,null,null,null,null,null,null,null,null,null,null,null,null,null,null,null,null,null,null,null,null,"","",null,null,null,null,null,null,null,0,0]
[null,"Enfermedad renal crónica",0,0,0,null,null,null,null,null,null,null,null,null,null,null,null,null,null,null,null,null,null,null,null,null,null,null,null,null,null,null,null,null,null,null,null,null,null,null,null,"",null,null,null,null,null,null,null,null,null,null,null,null,null,null,null,null,null,null,null,null,null,null,null,null,null,null,null,null,null,null,null,null,null,null,null,null,"","",null,null,null,null,null,null,null,0,0]
[null,"Malformaciones congénitas, deformidades y anomalías cromosómicas",0,0,0,null,null,null,null,null,null,null,null,null,null,null,null,null,null,null,null,null,null,null,null,null,null,null,null,null,null,null,null,null,null,null,null,null,null,null,null,"",null,null,null,null,null,null,null,null,null,null,null,null,null,null,null,null,null,null,null,null,null,null,null,null,null,null,null,null,null,null,null,null,null,null,null,null,"","",null,null,null,null,null,null,null,0,0]
[null,"Enfermedades autoinmunes e inmunodeficiencias severas",0,0,0,null,null,null,null,null,null,null,null,null,null,null,null,null,null,null,null,null,null,null,null,null,null,null,null,null,null,null,null,null,null,null,null,null,null,null,null,"",null,null,null,null,null,null,null,null,null,null,null,null,null,null,null,null,null,null,null,null,null,null,null,null,null,null,null,null,null,null,null,null,null,null,null,null,"","",null,null,null,null,null,null,null,0,0]
[null,"Enfermedades gastrointestinales",0,0,0,null,null,null,null,null,null,null,null,null,null,null,null,null,null,null,null,null,null,null,null,null,null,null,null,null,null,null,null,null,null,null,null,null,null,null,null,"",null,null,null,null,null,null,null,null,null,null,null,null,null,null,null,null,null,null,null,null,null,null,null,null,null,null,null,null,null,null,null,null,null,null,null,null,"","",null,null,null,null,null,null,null,0,0]
[null,"Prematurez",0,0,0,null,null,null,null,null,null,null,null,null,null,null,null,null,null,null,null,null,null,null,null,null,null,null,null,null,null,null,null,null,null,null,null,null,null,null,null,"",null,null,null,null,null,null,null,null,null,null,null,null,null,null,null,null,null,null,null,null,null,null,null,null,null,null,null,null,null,null,null,null,null,null,null,null,"","",null,null,null,null,null,null,null,0,0]
[null,"Enfermedades endocrinas, nutricionales y metabólicas",0,0,0,null,null,null,null,null,null,null,null,null,null,null,null,null,null,null,null,null,null,null,null,null,null,null,null,null,null,null,null,null,null,null,null,null,null,null,null,"",null,null,null,null,null,null,null,null,null,null,null,null,null,null,null,null,null,null,null,null,null,null,null,null,null,null,null,null,null,null,null,null,null,null,null,null,"","",null,null,null,null,null,null,null,0,0]
[null,"Alteraciones del tejido conjuntivo o musculoesquelético severos",0,0,0,null,null,null,null,null,null,null,null,null,null,null,null,null,null,null,null,null,null,null,null,null,null,null,null,null,null,null,null,null,null,null,null,null,null,null,null,"",null,null,null,null,null,null,null,null,null,null,null,null,null,null,null,null,null,null,null,null,null,null,null,null,null,null,null,null,null,null,null,null,null,null,null,null,"","",null,null,null,null,null,null,null,0,0]
[null,"Otras",0,0,0,null,null,null,null,null,null,null,null,null,null,null,null,null,null,null,null,null,null,null,null,null,null,null,null,null,null,null,null,null,null,null,null,null,null,null,null,"",null,null,null,null,null,null,null,null,null,null,null,null,null,null,null,null,null,null,null,null,null,null,null,null,null,null,null,null,null,null,null,null,null,null,null,null,"","",null,null,null,null,null,null,null,0,0]
["EGRESOS","Fallecimiento menor a 6 meses desde ingreso",0,0,0,null,null,null,null,null,null,null,null,null,null,null,null,null,null,null,null,null,null,null,null,null,null,null,null,null,null,null,null,null,null,null,null,null,null,null,null,"",null,null,null,null,null,null,null,null,null,null,null,null,null,null,null,null,null,null,null,null,null,null,null,null,null,null,null,null,null,null,null,null,null,null,null,null,"","",null,null,null,null,null,null,null,0,0]
[null,"Fallecimiento más de 6 meses y menos de un año del ingreso",0,0,0,null,null,null,null,null,null,null,null,null,null,null,null,null,null,null,null,null,null,null,null,null,null,null,null,null,null,null,null,null,null,null,null,null,null,null,null,"",null,null,null,null,null,null,null,null,null,null,null,null,null,null,null,null,null,null,null,null,null,null,null,null,null,null,null,null,null,null,null,null,null,null,null,null,"","",null,null,null,null,null,null,null,0,0]
[null,"Fallecimiento posterior a 12 meses del ingreso",0,0,0,null,null,null,null,null,null,null,null,null,null,null,null,null,null,null,null,null,null,null,null,null,null,null,null,null,null,null,null,null,null,null,null,null,null,null,null,"",null,null,null,null,null,null,null,null,null,null,null,null,null,null,null,null,null,null,null,null,null,null,null,null,null,null,null,null,null,null,null,null,null,null,null,null,"","",null,null,null,null,null,null,null,0,0]
[null,"Otra causal",0,0,0,null,null,null,null,null,null,null,null,null,null,null,null,null,null,null,null,null,null,null,null,null,null,null,null,null,null,null,null,null,null,null,null,null,null,null,null,{"$f":"CA41&CB41","v":""},null,null,null,null,null,null,null,null,null,null,null,null,null,null,null,null,null,null,null,null,null,null,null,null,null,null,null,null,null,null,null,null,null,null,null,null,"","",null,null,null,null,null,null,null,0,0]
["SECCIÓN A.2:  ACTIVIDADES NIVEL PRIMARIO "]
["ACTIVIDADES","TOTAL",null,null,"POR EDAD (en años)",null,null,null,null,null,null,null,null,null,null,null,null,null,null,null,null,null,null,null,null,null,null,null,null,null,null,null,null,null,null,null,null,null,"ATENCIONES POR PROFESIONAL O TECNICO",null,null,null,null,null,null,null,null,null,null,null,null,null,null,null,null,null,null,null,null,null,null,null,null,null,null,null,null,null,null,null,null,null,null,null,null,null,null,null,"Atenciones por profesional o Técnico Igual a Total",null,null,null,null,null,null,null,null,"Atenciones por profesional o Técnico Igual a Total"]
[null,null,null,null,"0 a 4 años",null,"5 a 9 años",null,"10 - 14",null,"15 - 19 ",null,"20 - 24 ",null,"25-29",null,"30-34",null,"35 - 39",null,"40 - 44",null,"45- 49",null,"50 - 54",null,"55 - 59",null,"60 - 64",null,"65 - 69",null,"70 - 74",null,"75 - 79",null,"80 y mas"]
[null,"Ambos Sexos","Hombres","Mujeres","Hombres","Mujeres","Hombres","Mujeres","Hombres","Mujeres","Hombres","Mujeres","Hombres","Mujeres","Hombres","Mujeres","Hombres","Mujeres","Hombres","Mujeres","Hombres","Mujeres","Hombres","Mujeres","Hombres","Mujeres","Hombres","Mujeres","Hombres","Mujeres","Hombres","Mujeres","Hombres","Mujeres","Hombres","Mujeres","Hombres","Mujeres","Médico/a","Enfermera/o","Kinesiólogo/a","Técnico en Enfermería","Psicólogo/a","Quimico Farmacéutico","Nutricionista","Fonoaudiólogo/a","Terapeúta Ocupacional","Trabajador/a Social","Otro"]
["VISITA DOMICILIARIA INTEGRAL (ELABORACIÓN O EVALUACIÓN PLAN)",{"$f":"SUM(C46:D46)","v":0},{"$f":"+E46+G46+I46+K46+M46+O46+Q46+S46+U46+W46+Y46+AA46+AC46+AE46+AG46+AI46+AK46","v":0},{"$f":"+F46+H46+J46+L46+N46+P46+R46+T46+V46+X46+Z46+AB46+AD46+AF46+AH46+AJ46+AL46","v":0},null,null,null,null,null,null,null,null,null,null,null,null,null,null,null,null,null,null,null,null,null,null,null,null,null,null,null,null,null,null,null,null,null,null,null,null,null,null,null,null,null,null,null,null,null,{"$f":"CA46&CB46","v":""},null,null,null,null,null,null,null,null,null,null,null,null,null,null,null,null,null,null,null,null,null,null,null,null,null,null,null,null,{"$f":"IF(CJ46=1,\" * La suma de Atenciones por profesional no debe ser mayor al Total.\",\"\")","v":""},null,null,null,null,null,null,null,null,{"$f":"IF(SUM(AM46:AW46)>B46,1,0)","v":0}]
["VISITA DOMICILIARIA TRATAMIENTO/REHABILITACIÓN/SEGUIMIENTO",{"$f":"SUM(C47:D47)","v":0},{"$f":"+E47+G47+I47+K47+M47+O47+Q47+S47+U47+W47+Y47+AA47+AC47+AE47+AG47+AI47+AK47","v":0},0,null,null,null,null,null,null,null,null,null,null,null,null,null,null,null,null,null,null,null,null,null,null,null,null,null,null,null,null,null,null,null,null,null,null,null,null,null,null,null,null,null,null,null,null,null,"",null,null,null,null,null,null,null,null,null,null,null,null,null,null,null,null,null,null,null,null,null,null,null,null,null,null,null,null,{"$f":"IF(CJ47=1,\" * La suma de Atenciones por profesional no debe ser mayor al Total.\",\"\")","v":""},null,null,null,null,null,null,null,null,{"$f":"IF(SUM(AM47:AW47)>B47,1,0)","v":0}]
["PROCEDIMIENTOS DE ENFERMERÍA",0,0,0,null,null,null,null,null,null,null,null,null,null,null,null,null,null,null,null,null,null,null,null,null,null,null,null,null,null,null,null,null,null,null,null,null,null,null,null,null,null,null,null,null,null,null,null,null,"",null,null,null,null,null,null,null,null,null,null,null,null,null,null,null,null,null,null,null,null,null,null,null,null,null,null,null,null,"",null,null,null,null,null,null,null,null,0]
["CONTROL AMBULATORIO",0,0,0,null,null,null,null,null,null,null,null,null,null,null,null,null,null,null,null,null,null,null,null,null,null,null,null,null,null,null,null,null,null,null,null,null,null,null,null,null,null,null,null,null,null,null,null,null,"",null,null,null,null,null,null,null,null,null,null,null,null,null,null,null,null,null,null,null,null,null,null,null,null,null,null,null,null,"",null,null,null,null,null,null,null,null,0]
["CONSULTA TELEFÓNICA",0,0,0,null,null,null,null,null,null,null,null,null,null,null,null,null,null,null,null,null,null,null,null,null,null,null,null,null,null,null,null,null,null,null,null,null,null,null,null,null,null,null,null,null,null,null,null,null,"",null,null,null,null,null,null,null,null,null,null,null,null,null,null,null,null,null,null,null,null,null,null,null,null,null,null,null,null,"",null,null,null,null,null,null,null,null,0]
["ATENCION AMBULATORIA A FAMILIARES",0,0,0,null,null,null,null,null,null,null,null,null,null,null,null,null,null,null,null,null,null,null,null,null,null,null,null,null,null,null,null,null,null,null,null,null,null,null,null,null,null,null,null,null,null,null,null,null,"",null,null,null,null,null,null,null,null,null,null,null,null,null,null,null,null,null,null,null,null,null,null,null,null,null,null,null,null,"",null,null,null,null,null,null,null,null,0]
["SERVICIOS FARMACÉUTICOS",0,0,0,null,null,null,null,null,null,null,null,null,null,null,null,null,null,null,null,null,null,null,null,null,null,null,null,null,null,null,null,null,null,null,null,null,null,null,null,null,null,null,null,null,null,null,null,null,"",null,null,null,null,null,null,null,null,null,null,null,null,null,null,null,null,null,null,null,null,null,null,null,null,null,null,null,null,"",null,null,null,null,null,null,null,null,0]
["APOYO PSICOLÓGICO AL USUARIO",0,0,0,null,null,null,null,null,null,null,null,null,null,null,null,null,null,null,null,null,null,null,null,null,null,null,null,null,null,null,null,null,null,null,null,null,null,null,null,null,null,null,null,null,null,null,null,null,"",null,null,null,null,null,null,null,null,null,null,null,null,null,null,null,null,null,null,null,null,null,null,null,null,null,null,null,null,"",null,null,null,null,null,null,null,null,0]
["APOYO SOCIAL AL USUARIO",0,0,0,null,null,null,null,null,null,null,null,null,null,null,null,null,null,null,null,null,null,null,null,null,null,null,null,null,null,null,null,null,null,null,null,null,null,null,null,null,null,null,null,null,null,null,null,null,"",null,null,null,null,null,null,null,null,null,null,null,null,null,null,null,null,null,null,null,null,null,null,null,null,null,null,null,null,"",null,null,null,null,null,null,null,null,0]
["APOYO PSICOLÓGICO A FAMILIA O CUIDADORES",0,0,0,null,null,null,null,null,null,null,null,null,null,null,null,null,null,null,null,null,null,null,null,null,null,null,null,null,null,null,null,null,null,null,null,null,null,null,null,null,null,null,null,null,null,null,null,null,"",null,null,null,null,null,null,null,null,null,null,null,null,null,null,null,null,null,null,null,null,null,null,null,null,null,null,null,null,"",null,null,null,null,null,null,null,null,0]
["EDUCACIÓN",0,0,0,null,null,null,null,null,null,null,null,null,null,null,null,null,null,null,null,null,null,null,null,null,null,null,null,null,null,null,null,null,null,null,null,null,null,null,null,null,null,null,null,null,null,null,null,null,"",null,null,null,null,null,null,null,null,null,null,null,null,null,null,null,null,null,null,null,null,null,null,null,null,null,null,null,null,"",null,null,null,null,null,null,null,null,0]
["APOYO EN LA GESTIÓN DE MANIFESTACIÓN DE VOLUNTADES ANTICIPADAS",0,0,0,null,null,null,null,null,null,null,null,null,null,null,null,null,null,null,null,null,null,null,null,null,null,null,null,null,null,null,null,null,null,null,null,null,null,null,null,null,null,null,null,null,null,null,null,null,"",null,null,null,null,null,null,null,null,null,null,null,null,null,null,null,null,null,null,null,null,null,null,null,null,null,null,null,null,"",null,null,null,null,null,null,null,null,0]
["SECCIÓN B:  NIVEL ESPECIALIDAD  "]
["SECCIÓN B1:  INGRESOS POR DIAGNÓSTICO Y EGRESO POR CAUSALES"]
["INGRESO Y EGRESO SEGÚN DIAGNÓSTICO ",null,"TOTAL",null,null,"POR EDAD (en años)",null,null,null,null,null,null,null,null,null,null,null,null,null,null,null,null,null,null,null,null,null,null,null,null,null,null,null,null,null,null,null,null,null,"Pueblos originarios","Migrantes",null,null,null,null,null,null,null,null,null,null,null,null,null,null,null,null,null,null,null,null,null,null,null,null,null,null,null,null,null,null,null,null,null,null,null,null,null,"Pueblos originarios","Migrantes",null,null,null,null,null,null,null,"Pueblos originarios","Migrantes"]
[null,null,null,null,null,"0 a 4 años",null,"5 a 9 años",null,"10 - 14",null,"15 - 19 ",null,"20 - 24 ",null,"25-29",null,"30-34",null,"35 - 39",null,"40 - 44",null,"45- 49",null,"50 - 54",null,"55 - 59",null,"60 - 64",null,"65 - 69",null,"70 - 74",null,"75 - 79",null,"80 y mas"]
[null,null,"Ambos Sexos","Hombres","Mujeres","Hombres","Mujeres","Hombres","Mujeres","Hombres","Mujeres","Hombres","Mujeres","Hombres","Mujeres","Hombres","Mujeres","Hombres","Mujeres","Hombres","Mujeres","Hombres","Mujeres","Hombres","Mujeres","Hombres","Mujeres","Hombres","Mujeres","Hombres","Mujeres","Hombres","Mujeres","Hombres","Mujeres","Hombres","Mujeres","Hombres","Mujeres",null,"Mujeres",null,null,null,null,null,null,null,null,null,null,null,null,null,null,null,null,null,null,null,null,null,null,null,null,null,null,null,null,null,null,null,null,null,null,null,null,null,null,"Mujeres",null,null,null,null,null,null,null,null,"Mujeres"]
["INGRESOS POR DIAGNÓSTICO CON PLAN DE TRATAMIENTO","Tumores malignos",{"$f":"SUM(D63:E63)","v":0},{"$f":"+F63+H63+J63+L63+N63+P63+R63+T63+V63+X63+Z63+AB63+AD63+AF63+AH63+AJ63+AL63","v":0},{"$f":"+G63+I63+K63+M63+O63+Q63+S63+U63+W63+Y63+AA63+AC63+AE63+AG63+AI63+AK63+AM63","v":0},null,null,null,null,null,null,null,null,null,null,null,null,null,null,null,null,null,null,null,null,null,null,null,null,null,null,null,null,null,null,null,null,null,null,null,null,{"$f":"CA63&CB63","v":""},null,null,null,null,null,null,null,null,null,null,null,null,null,null,null,null,null,null,null,null,null,null,null,null,null,null,null,null,null,null,null,null,null,null,null,null,{"$f":"IF(CJ63=1,\" * El total de registros en Pueblos Originarios no debe ser mayor al Total.\",\"\")","v":""},{"$f":"IF(CK63=1,\" * El total de registros en Migrantes no debe ser mayor al Total.\",\"\")","v":""},null,null,null,null,null,null,null,{"$f":"IF(AN63>C63,1,0)","v":0},{"$f":"IF(AO63>C63,1,0)","v":0}]
[null,"Otros cáncer (incluye hematológicos)",{"$f":"SUM(D64:E64)","v":0},{"$f":"+F64+H64+J64+L64+N64+P64+R64+T64+V64+X64+Z64+AB64+AD64+AF64+AH64+AJ64+AL64","v":0},0,null,null,null,null,null,null,null,null,null,null,null,null,null,null,null,null,null,null,null,null,null,null,null,null,null,null,null,null,null,null,null,null,null,null,null,null,"",null,null,null,null,null,null,null,null,null,null,null,null,null,null,null,null,null,null,null,null,null,null,null,null,null,null,null,null,null,null,null,null,null,null,null,null,{"$f":"IF(CJ64=1,\" * El total de registros en Pueblos Originarios no debe ser mayor al Total.\",\"\")","v":""},{"$f":"IF(CK64=1,\" * El total de registros en Migrantes no debe ser mayor al Total.\",\"\")","v":""},null,null,null,null,null,null,null,{"$f":"IF(AN64>C64,1,0)","v":0},{"$f":"IF(AO64>C64,1,0)","v":0}]
[null,"Infección causada por VIH",0,0,0,null,null,null,null,null,null,null,null,null,null,null,null,null,null,null,null,null,null,null,null,null,null,null,null,null,null,null,null,null,null,null,null,null,null,null,null,"",null,null,null,null,null,null,null,null,null,null,null,null,null,null,null,null,null,null,null,null,null,null,null,null,null,null,null,null,null,null,null,null,null,null,null,null,"","",null,null,null,null,null,null,null,0,0]
[null,"Otras enfermedades infecciosas",0,0,0,null,null,null,null,null,null,null,null,null,null,null,null,null,null,null,null,null,null,null,null,null,null,null,null,null,null,null,null,null,null,null,null,null,null,null,null,"",null,null,null,null,null,null,null,null,null,null,null,null,null,null,null,null,null,null,null,null,null,null,null,null,null,null,null,null,null,null,null,null,null,null,null,null,"","",null,null,null,null,null,null,null,0,0]
[null,"Trastornos mentales orgánicos",0,0,0,null,null,null,null,null,null,null,null,null,null,null,null,null,null,null,null,null,null,null,null,null,null,null,null,null,null,null,null,null,null,null,null,null,null,null,null,"",null,null,null,null,null,null,null,null,null,null,null,null,null,null,null,null,null,null,null,null,null,null,null,null,null,null,null,null,null,null,null,null,null,null,null,null,"","",null,null,null,null,null,null,null,0,0]
[null,"Enfermedades extrapiramidales y/o del movimiento",0,0,0,null,null,null,null,null,null,null,null,null,null,null,null,null,null,null,null,null,null,null,null,null,null,null,null,null,null,null,null,null,null,null,null,null,null,null,null,"",null,null,null,null,null,null,null,null,null,null,null,null,null,null,null,null,null,null,null,null,null,null,null,null,null,null,null,null,null,null,null,null,null,null,null,null,"","",null,null,null,null,null,null,null,0,0]
[null,"Desmielinizantes del SNC",0,0,0,null,null,null,null,null,null,null,null,null,null,null,null,null,null,null,null,null,null,null,null,null,null,null,null,null,null,null,null,null,null,null,null,null,null,null,null,"",null,null,null,null,null,null,null,null,null,null,null,null,null,null,null,null,null,null,null,null,null,null,null,null,null,null,null,null,null,null,null,null,null,null,null,null,"","",null,null,null,null,null,null,null,0,0]
[null,"Neurodegenerativas",0,0,0,null,null,null,null,null,null,null,null,null,null,null,null,null,null,null,null,null,null,null,null,null,null,null,null,null,null,null,null,null,null,null,null,null,null,null,null,"",null,null,null,null,null,null,null,null,null,null,null,null,null,null,null,null,null,null,null,null,null,null,null,null,null,null,null,null,null,null,null,null,null,null,null,null,"","",null,null,null,null,null,null,null,0,0]
[null,"Parálisis cerebral severa",0,0,0,null,null,null,null,null,null,null,null,null,null,null,null,null,null,null,null,null,null,null,null,null,null,null,null,null,null,null,null,null,null,null,null,null,null,null,null,"",null,null,null,null,null,null,null,null,null,null,null,null,null,null,null,null,null,null,null,null,null,null,null,null,null,null,null,null,null,null,null,null,null,null,null,null,"","",null,null,null,null,null,null,null,0,0]
[null,"Cardiopatías congénitas o adquiridas",0,0,0,null,null,null,null,null,null,null,null,null,null,null,null,null,null,null,null,null,null,null,null,null,null,null,null,null,null,null,null,null,null,null,null,null,null,null,null,"",null,null,null,null,null,null,null,null,null,null,null,null,null,null,null,null,null,null,null,null,null,null,null,null,null,null,null,null,null,null,null,null,null,null,null,null,"","",null,null,null,null,null,null,null,0,0]
[null,"Insuficiencia cardíaca",0,0,0,null,null,null,null,null,null,null,null,null,null,null,null,null,null,null,null,null,null,null,null,null,null,null,null,null,null,null,null,null,null,null,null,null,null,null,null,"",null,null,null,null,null,null,null,null,null,null,null,null,null,null,null,null,null,null,null,null,null,null,null,null,null,null,null,null,null,null,null,null,null,null,null,null,"","",null,null,null,null,null,null,null,0,0]
[null,"Enfermedades sistema nervioso vascular o traumático (ACV-TEC)",0,0,0,null,null,null,null,null,null,null,null,null,null,null,null,null,null,null,null,null,null,null,null,null,null,null,null,null,null,null,null,null,null,null,null,null,null,null,null,"",null,null,null,null,null,null,null,null,null,null,null,null,null,null,null,null,null,null,null,null,null,null,null,null,null,null,null,null,null,null,null,null,null,null,null,null,"","",null,null,null,null,null,null,null,0,0]
[null,"EPOC",0,0,0,null,null,null,null,null,null,null,null,null,null,null,null,null,null,null,null,null,null,null,null,null,null,null,null,null,null,null,null,null,null,null,null,null,null,null,null,"",null,null,null,null,null,null,null,null,null,null,null,null,null,null,null,null,null,null,null,null,null,null,null,null,null,null,null,null,null,null,null,null,null,null,null,null,"","",null,null,null,null,null,null,null,0,0]
[null,"Otras pulmonares (restrictivas, vasculares)",0,0,0,null,null,null,null,null,null,null,null,null,null,null,null,null,null,null,null,null,null,null,null,null,null,null,null,null,null,null,null,null,null,null,null,null,null,null,null,"",null,null,null,null,null,null,null,null,null,null,null,null,null,null,null,null,null,null,null,null,null,null,null,null,null,null,null,null,null,null,null,null,null,null,null,null,"","",null,null,null,null,null,null,null,0,0]
[null,"Insuficiencia hepática",0,0,0,null,null,null,null,null,null,null,null,null,null,null,null,null,null,null,null,null,null,null,null,null,null,null,null,null,null,null,null,null,null,null,null,null,null,null,null,"",null,null,null,null,null,null,null,null,null,null,null,null,null,null,null,null,null,null,null,null,null,null,null,null,null,null,null,null,null,null,null,null,null,null,null,null,"","",null,null,null,null,null,null,null,0,0]
[null,"Enfermedad renal crónica",0,0,0,null,null,null,null,null,null,null,null,null,null,null,null,null,null,null,null,null,null,null,null,null,null,null,null,null,null,null,null,null,null,null,null,null,null,null,null,"",null,null,null,null,null,null,null,null,null,null,null,null,null,null,null,null,null,null,null,null,null,null,null,null,null,null,null,null,null,null,null,null,null,null,null,null,"","",null,null,null,null,null,null,null,0,0]
[null,"Malformaciones congénitas, deformidades y anomalías cromosómicas",0,0,0,null,null,null,null,null,null,null,null,null,null,null,null,null,null,null,null,null,null,null,null,null,null,null,null,null,null,null,null,null,null,null,null,null,null,null,null,"",null,null,null,null,null,null,null,null,null,null,null,null,null,null,null,null,null,null,null,null,null,null,null,null,null,null,null,null,null,null,null,null,null,null,null,null,"","",null,null,null,null,null,null,null,0,0]
[null,"Enfermedades autoinmunes e inmunodeficiencias severas",0,0,0,null,null,null,null,null,null,null,null,null,null,null,null,null,null,null,null,null,null,null,null,null,null,null,null,null,null,null,null,null,null,null,null,null,null,null,null,"",null,null,null,null,null,null,null,null,null,null,null,null,null,null,null,null,null,null,null,null,null,null,null,null,null,null,null,null,null,null,null,null,null,null,null,null,"","",null,null,null,null,null,null,null,0,0]
[null,"Enfermedades gastrointestinales",0,0,0,null,null,null,null,null,null,null,null,null,null,null,null,null,null,null,null,null,null,null,null,null,null,null,null,null,null,null,null,null,null,null,null,null,null,null,null,"",null,null,null,null,null,null,null,null,null,null,null,null,null,null,null,null,null,null,null,null,null,null,null,null,null,null,null,null,null,null,null,null,null,null,null,null,"","",null,null,null,null,null,null,null,0,0]
[null,"Prematurez",0,0,0,null,null,null,null,null,null,null,null,null,null,null,null,null,null,null,null,null,null,null,null,null,null,null,null,null,null,null,null,null,null,null,null,null,null,null,null,"",null,null,null,null,null,null,null,null,null,null,null,null,null,null,null,null,null,null,null,null,null,null,null,null,null,null,null,null,null,null,null,null,null,null,null,null,"","",null,null,null,null,null,null,null,0,0]
[null,"Enfermedades endocrinas, nutricionales y metabólicas",0,0,0,null,null,null,null,null,null,null,null,null,null,null,null,null,null,null,null,null,null,null,null,null,null,null,null,null,null,null,null,null,null,null,null,null,null,null,null,"",null,null,null,null,null,null,null,null,null,null,null,null,null,null,null,null,null,null,null,null,null,null,null,null,null,null,null,null,null,null,null,null,null,null,null,null,"","",null,null,null,null,null,null,null,0,0]
[null,"Alteraciones del tejido conjuntivo o musculoesquelético severos",0,0,0,null,null,null,null,null,null,null,null,null,null,null,null,null,null,null,null,null,null,null,null,null,null,null,null,null,null,null,null,null,null,null,null,null,null,null,null,"",null,null,null,null,null,null,null,null,null,null,null,null,null,null,null,null,null,null,null,null,null,null,null,null,null,null,null,null,null,null,null,null,null,null,null,null,"","",null,null,null,null,null,null,null,0,0]
[null,"Otras",0,0,0,null,null,null,null,null,null,null,null,null,null,null,null,null,null,null,null,null,null,null,null,null,null,null,null,null,null,null,null,null,null,null,null,null,null,null,null,"",null,null,null,null,null,null,null,null,null,null,null,null,null,null,null,null,null,null,null,null,null,null,null,null,null,null,null,null,null,null,null,null,null,null,null,null,"","",null,null,null,null,null,null,null,0,0]
["EGRESOS","Fallecimiento menor a 6 meses desde ingreso",0,0,0,null,null,null,null,null,null,null,null,null,null,null,null,null,null,null,null,null,null,null,null,null,null,null,null,null,null,null,null,null,null,null,null,null,null,null,null,"",null,null,null,null,null,null,null,null,null,null,null,null,null,null,null,null,null,null,null,null,null,null,null,null,null,null,null,null,null,null,null,null,null,null,null,null,"","",null,null,null,null,null,null,null,0,0]
[null,"Fallecimiento más de 6 meses y menos de un año del ingreso",0,0,0,null,null,null,null,null,null,null,null,null,null,null,null,null,null,null,null,null,null,null,null,null,null,null,null,null,null,null,null,null,null,null,null,null,null,null,null,"",null,null,null,null,null,null,null,null,null,null,null,null,null,null,null,null,null,null,null,null,null,null,null,null,null,null,null,null,null,null,null,null,null,null,null,null,"","",null,null,null,null,null,null,null,0,0]
[null,"Fallecimiento posterior a 12 meses del ingreso",0,0,0,null,null,null,null,null,null,null,null,null,null,null,null,null,null,null,null,null,null,null,null,null,null,null,null,null,null,null,null,null,null,null,null,null,null,null,null,"",null,null,null,null,null,null,null,null,null,null,null,null,null,null,null,null,null,null,null,null,null,null,null,null,null,null,null,null,null,null,null,null,null,null,null,null,"","",null,null,null,null,null,null,null,0,0]
[null,"Otras causal",0,0,0,null,null,null,null,null,null,null,null,null,null,null,null,null,null,null,null,null,null,null,null,null,null,null,null,null,null,null,null,null,null,null,null,null,null,null,null,"",null,null,null,null,null,null,null,null,null,null,null,null,null,null,null,null,null,null,null,null,null,null,null,null,null,null,null,null,null,null,null,null,null,null,null,null,"","",null,null,null,null,null,null,null,0,0]
[]
["SECCIÓN B.2:  ACTIVIDADES NIVEL ESPECIALIDAD  "]
["ACTIVIDADES","TOTAL",null,null,"POR EDAD (en años)",null,null,null,null,null,null,null,null,null,null,null,null,null,null,null,null,null,null,null,null,null,null,null,null,null,null,null,null,null,null,null,null,null,"ATENCIONES POR PROFESIONAL O TECNICO",null,null,null,null,null,null,null,null,null,null,null,null,null,null,null,null,null,null,null,null,null,null,null,null,null,null,null,null,null,null,null,null,null,null,null,null,null,null,null,"Atenciones por profesional o Técnico Igual a Total",null,null,null,null,null,null,null,null,"Atenciones por profesional o Técnico Igual a Total"]
[null,null,null,null,"0 a 4 años",null,"5 a 9 años",null,"10 - 14",null,"15 - 19 ",null,"20 - 24 ",null,"25-29",null,"30-34",null,"35 - 39",null,"40 - 44",null,"45- 49",null,"50 - 54",null,"55 - 59",null,"60 - 64",null,"65 - 69",null,"70 - 74",null,"75 - 79",null,"80 y mas"]
[null,"Ambos Sexos","Hombres","Mujeres","Hombres","Mujeres","Hombres","Mujeres","Hombres","Mujeres","Hombres","Mujeres","Hombres","Mujeres","Hombres","Mujeres","Hombres","Mujeres","Hombres","Mujeres","Hombres","Mujeres","Hombres","Mujeres","Hombres","Mujeres","Hombres","Mujeres","Hombres","Mujeres","Hombres","Mujeres","Hombres","Mujeres","Hombres","Mujeres","Hombres","Mujeres","Médico/a del Programa ","Enfermera/a  ","Técnico en Enfermería ","Kinesiólogo/a","Psicologo/a","QF","Nutricionista","Fonoaudiólogo ","Terapauta Ocupacional ","Trabajador/a Social","Otros"]
["Consulta Nueva",{"$f":"SUM(C95:D95)","v":0},{"$f":"SUM(E95,G95,I95,K95,M95,O95,Q95,S95,U95,W95,Y95,AA95,AC95,AE95,AG95,AI95,AK95)","v":0},{"$f":"SUM(F95,H95,J95,L95,N95,P95,R95,T95,V95,X95,Z95,AB95,AD95,AF95,AH95,AJ95,AL95)","v":0},null,null,null,null,null,null,null,null,null,null,null,null,null,null,null,null,null,null,null,null,null,null,null,null,null,null,null,null,null,null,null,null,null,null,null,null,null,null,null,null,null,null,null,null,null,{"$f":"CA95&CB95","v":""},null,null,null,null,null,null,null,null,null,null,null,null,null,null,null,null,null,null,null,null,null,null,null,null,null,null,null,null,{"$f":"IF(CJ95=1,\" * La suma de Atenciones por profesional no debe ser mayor al Total.\",\"\")","v":""},null,null,null,null,null,null,null,null,{"$f":"IF(SUM(AM95:AW95)>B95,1,0)","v":0}]
["Consulta Control",{"$f":"SUM(C96:D96)","v":0},0,{"$f":"SUM(F96,H96,J96,L96,N96,P96,R96,T96,V96,X96,Z96,AB96,AD96,AF96,AH96,AJ96,AL96)","v":0},null,null,null,null,null,null,null,null,null,null,null,null,null,null,null,null,null,null,null,null,null,null,null,null,null,null,null,null,null,null,null,null,null,null,null,null,null,null,null,null,null,null,null,null,null,"",null,null,null,null,null,null,null,null,null,null,null,null,null,null,null,null,null,null,null,null,null,null,null,null,null,null,null,null,{"$f":"IF(CJ96=1,\" * La suma de Atenciones por profesional no debe ser mayor al Total.\",\"\")","v":""},null,null,null,null,null,null,null,null,{"$f":"IF(SUM(AM96:AW96)>B96,1,0)","v":0}]
["Visita Domiciliaria",0,0,0,null,null,null,null,null,null,null,null,null,null,null,null,null,null,null,null,null,null,null,null,null,null,null,null,null,null,null,null,null,null,null,null,null,null,null,null,null,null,null,null,null,null,null,null,null,"",null,null,null,null,null,null,null,null,null,null,null,null,null,null,null,null,null,null,null,null,null,null,null,null,null,null,null,null,"",null,null,null,null,null,null,null,null,0]
["Inerconsulta en Sala",0,0,0,null,null,null,null,null,null,null,null,null,null,null,null,null,null,null,null,null,null,null,null,null,null,null,null,null,null,null,null,null,null,null,null,null,null,null,null,null,null,null,null,null,null,null,null,null,"",null,null,null,null,null,null,null,null,null,null,null,null,null,null,null,null,null,null,null,null,null,null,null,null,null,null,null,null,"",null,null,null,null,null,null,null,null,0]
["Atención Farmacéutica",0,0,0,null,null,null,null,null,null,null,null,null,null,null,null,null,null,null,null,null,null,null,null,null,null,null,null,null,null,null,null,null,null,null,null,null,null,null,null,null,null,null,null,null,null,null,null,null,"",null,null,null,null,null,null,null,null,null,null,null,null,null,null,null,null,null,null,null,null,null,null,null,null,null,null,null,null,"",null,null,null,null,null,null,null,null,0]
["Procedimientos",0,0,0,null,null,null,null,null,null,null,null,null,null,null,null,null,null,null,null,null,null,null,null,null,null,null,null,null,null,null,null,null,null,null,null,null,null,null,null,null,null,null,null,null,null,null,null,null,"",null,null,null,null,null,null,null,null,null,null,null,null,null,null,null,null,null,null,null,null,null,null,null,null,null,null,null,null,"",null,null,null,null,null,null,null,null,0]
["Educación ",0,0,0,null,null,null,null,null,null,null,null,null,null,null,null,null,null,null,null,null,null,null,null,null,null,null,null,null,null,null,null,null,null,null,null,null,null,null,null,null,null,null,null,null,null,null,null,null,"",null,null,null,null,null,null,null,null,null,null,null,null,null,null,null,null,null,null,null,null,null,null,null,null,null,null,null,null,"",null,null,null,null,null,null,null,null,0]
["Contcto telefónico",0,0,0,null,null,null,null,null,null,null,null,null,null,null,null,null,null,null,null,null,null,null,null,null,null,null,null,null,null,null,null,null,null,null,null,null,null,null,null,null,null,null,null,null,null,null,null,null,"",null,null,null,null,null,null,null,null,null,null,null,null,null,null,null,null,null,null,null,null,null,null,null,null,null,null,null,null,"",null,null,null,null,null,null,null,null,0]
["Consulta  Salud Mental Usuario ",0,0,0,null,null,null,null,null,null,null,null,null,null,null,null,null,null,null,null,null,null,null,null,null,null,null,null,null,null,null,null,null,null,null,null,null,null,null,null,null,null,null,null,null,null,null,null,null,"",null,null,null,null,null,null,null,null,null,null,null,null,null,null,null,null,null,null,null,null,null,null,null,null,null,null,null,null,"",null,null,null,null,null,null,null,null,0]
["Consulta Salud mental al Cuidador o Familiar ",0,0,0,null,null,null,null,null,null,null,null,null,null,null,null,null,null,null,null,null,null,null,null,null,null,null,null,null,null,null,null,null,null,null,null,null,null,null,null,null,null,null,null,null,null,null,null,null,"",null,null,null,null,null,null,null,null,null,null,null,null,null,null,null,null,null,null,null,null,null,null,null,null,null,null,null,null,"",null,null,null,null,null,null,null,null,0]
["Apoyo social al Usuario ",0,0,0,null,null,null,null,null,null,null,null,null,null,null,null,null,null,null,null,null,null,null,null,null,null,null,null,null,null,null,null,null,null,null,null,null,null,null,null,null,null,null,null,null,null,null,null,null,"",null,null,null,null,null,null,null,null,null,null,null,null,null,null,null,null,null,null,null,null,null,null,null,null,null,null,null,null,"",null,null,null,null,null,null,null,null,0]
["Apoyo en la Gestión de manifestación de voluntades anticipadas ",0,0,0,null,null,null,null,null,null,null,null,null,null,null,null,null,null,null,null,null,null,null,null,null,null,null,null,null,null,null,null,null,null,null,null,null,null,null,null,null,null,null,null,null,null,null,null,null,"",null,null,null,null,null,null,null,null,null,null,null,null,null,null,null,null,null,null,null,null,null,null,null,null,null,null,null,null,"",null,null,null,null,null,null,null,null,0]
["SECCION C: CAPACITACIONES DE EQUIPOS (Intra y entre Equipos)"]
["ACTIVIDADES","Atención Primaria de Salud",null,null,null,"Destino Hospitalario"]
[null,"Nº Sesiones ","Nº Participantes ","Modalidad Remota","Modalidad Presencial","Nº Sesiones ","Nº Participantes","Modalidad Remota","Modalidad Presencial"]
["Desde Especialidad"]
["Desde APS (atención primaria de salud)"]
["SECCION D: TELECOMITES"]
[null,"Atención Primaria de Salud",null,null,null,"Destino Hospitalario"]
[null,"Nº Sesiones ","Nº Participantes ","Modalidad Remota","Modalidad Presencial","Nº Sesiones ","Nº Participantes","Modalidad Remota","Modalidad Presencial"]
["Entre Especialistas"]
["Con la RED"]
["SECCIÓN E:  REQUERIMIENTO DERIVACION Y/O ATENCION DE URGENCIA"]
["DERIVACIONES","Atención Primaria de Salud",null,"Nivel Hospitalario",null,null,"Urgencia Hospitalaria"]
[null,"Domicilio","SAPU-SAR","Ambulatorio","Hospitalización Domiciliaria","Atención Cerrada","SUH"]
["Derivación desde Especialidad "]
["Derivación desde APS (atención primaria de salud) "]
["Derivación desde Hospialización "]
["Derivación desde Urgencia "]
[]
[]
[]
[]
[]
[]
[]
[]
[]
[]
[]
[]
[]
[]
[]
[]
[{"$f":"SUM(C15:C41,B46:B57,C63:C89,B95:B106,B110:I111,B115:I116,B120:G123)","v":0},{"$f":"SUM(CJ15:CK106)","v":0}]

{"sheet":"Contro","index":26,"n_rows":34,"n_cols":24,"rows_kept":34,"cut":false,"hidden":false,"merged":[]}
[null,null,"NUMERO DE ERRORES  SEGÚN:"]
[null,null,"A.- DIFERENCIAS ENTRE TOTAL Y BENEFICIARIO "]
[null,null,"B.- ENTRE TOTAL Y DESGLOSE SEGÚN SEXO"]
[null,null,"C.- ENTRE EVALUACIONES Y RESULTADOS, INGRESOS A PROGRAMAS Y APLICACIÓN DE INSTRUMENTOS, ETC."]
[null,null,{"$f":"CONCATENATE(\"ESTABLECIMIENTO/ESTRATEGIA: \",NOMBRE!$B$3,\" - \",\"( \",NOMBRE!$C$3,NOMBRE!$D$3,NOMBRE!$E$3,NOMBRE!$F$3,NOMBRE!$G$3,NOMBRE!$H$3,NOMBRE!$I$3,\" )\")","v":"ESTABLECIMIENTO/ESTRATEGIA:  - ( Falta Cód. Est. )"}]
[null,null,"REM","Nº ERRORES","JUSTIFICAR ERRORES (indicar)","REM\nSIN DATOS","CAUSAL","OTRA CAUSAL (indicar)"]
[null,null,"HOJA NOMBRE",{"$f":"NOMBRE!AG7","v":5},null,null,null,null,null,null,null,null,null,null,null,null,null,null,null,null,null,null,null,"Licencia médica"]
[null,null,"REMA01",{"$f":"'A01'!B189","v":0},null,{"$f":"IF('A01'!A$189>0,\"\",\"SIN DATOS\")","v":"SIN DATOS"},null,null,null,null,null,null,null,null,null,null,null,null,null,null,null,null,null,"Feriado Legal"]
[null,null,"REMA02",{"$f":"+'A02'!B195","v":0},null,{"$f":"IF('A02'!A$195>0,\"\",\"SIN DATOS\")","v":"SIN DATOS"},null,null,null,null,null,null,null,null,null,null,null,null,null,null,null,null,null,"No hubo profesional"]
[null,null,"REMA03",{"$f":"+'A03'!B346","v":0},null,{"$f":"IF('A03'!A346>0,\"\",\"SIN DATOS\")","v":"SIN DATOS"},null,null,null,null,null,null,null,null,null,null,null,null,null,null,null,null,null,"No corresponde REM"]
[null,null,"REMA04",{"$f":"+'A04'!B185","v":0},null,{"$f":"IF('A04'!A185>0,\"\",\"SIN DATOS\")","v":"SIN DATOS"},null,null,null,null,null,null,null,null,null,null,null,null,null,null,null,null,null,"Otra causa justificada"]
[null,null,"REMA05",{"$f":"+'A05'!B422","v":0},null,{"$f":"IF('A05'!A422>0,\"\",\"SIN DATOS\")","v":"SIN DATOS"}]
[null,null,"REMA06",{"$f":"+'A06'!B154","v":0},null,{"$f":"IF('A06'!A154>0,\"\",\"SIN DATOS\")","v":"SIN DATOS"}]
[null,null,"REMA07",{"$f":"+'A07'!B262","v":0},null,{"$f":"IF('A07'!A262>0,\"\",\"SIN DATOS\")","v":"SIN DATOS"}]
[null,null,"REMA08",{"$f":"'A08'!B202","v":0},null,{"$f":"IF('A08'!A202>0,\"\",\"SIN DATOS\")","v":"SIN DATOS"}]
[null,null,"REMA09",{"$f":"'A09'!B365","v":0},null,{"$f":"IF('A09'!A365>0,\"\",\"SIN DATOS\")","v":"SIN DATOS"}]
[null,null,"REMA11",{"$f":"'A11'!B308","v":0},null,{"$f":"IF('A11'!A308>0,\"\",\"SIN DATOS\")","v":"SIN DATOS"}]
[null,null,"REMA11-a",{"$f":"A11a!B101","v":0},null,{"$f":"IF(A11a!A101>0,\"\",\"SIN DATOS\")","v":"SIN DATOS"}]
[null,null,"REMA19-a",{"$f":"A19a!B200","v":0},null,{"$f":"IF(A19a!A200>0,\"\",\"SIN DATOS\")","v":"SIN DATOS"}]
[null,null,"REMA19-b",{"$f":"A19b!B195","v":0},null,{"$f":"IF(A19b!A195>0,\"\",\"SIN DATOS\")","v":"SIN DATOS"}]
[null,null,"REMA21",{"$f":"'A21'!B207","v":0},null,{"$f":"IF('A21'!A207>0,\"\",\"SIN DATOS\")","v":"SIN DATOS"}]
[null,null,"REMA23",{"$f":"'A23'!B199","v":0},null,{"$f":"IF('A23'!A199>0,\"\",\"SIN DATOS\")","v":"SIN DATOS"}]
[null,null,"REMA24",{"$f":"+'A24'!B269","v":0},null,{"$f":"IF('A24'!A269>0,\"\",\"SIN DATOS\")","v":"SIN DATOS"}]
[null,null,"REMA25",{"$f":"+'A25'!B335","v":0},null,{"$f":"IF('A25'!A335>0,\"\",\"SIN DATOS\")","v":"SIN DATOS"}]
[null,null,"REMA26",{"$f":"+'A26'!B198","v":0},null,{"$f":"IF('A26'!A198>0,\"\",\"SIN DATOS\")","v":"SIN DATOS"}]
[null,null,"REMA27",{"$f":"+'A27'!B222","v":0},null,{"$f":"IF('A27'!A$222>0,\"\",\"SIN DATOS\")","v":"SIN DATOS"}]
[null,null,"REMA28",{"$f":"+'A28'!B346","v":0},null,{"$f":"IF('A28'!A346>0,\"\",\"SIN DATOS\")","v":"SIN DATOS"}]
[null,null,"REMA29",{"$f":"+'A29'!B225","v":0},null,{"$f":"IF('A29'!A$225>0,\"\",\"SIN DATOS\")","v":"SIN DATOS"}]
[null,null,"REMA30",{"$f":"'A30'!B180","v":0},null,{"$f":"IF('A30'!A180>0,\"\",\"SIN DATOS\")","v":"SIN DATOS"}]
[null,null,"REMA31",{"$f":"+'A31'!B176","v":0},null,{"$f":"IF('A31'!A$176>0,\"\",\"SIN DATOS\")","v":"SIN DATOS"}]
[null,null,"REMA32",{"$f":"+'A32'!B256","v":0},null,{"$f":"IF('A32'!A256>0,\"\",\"SIN DATOS\")","v":"SIN DATOS"}]
[null,null,"REMA33",{"$f":"'A33'!B140","v":0},null,{"$f":"IF('A33'!A140>0,\"\",\"SIN DATOS\")","v":"SIN DATOS"}]
[]
[null,null,"TOTAL",{"$f":"SUM(D7:D32)","v":5}]

{"sheet":"MACROS","index":27,"n_rows":10,"n_cols":2,"rows_kept":10,"cut":false,"hidden":false,"merged":[[0,0,0,13],[6,1,7,7]]}
["Hoja de Macros y Utilidades"]
[]
[{"$f":"CONCATENATE(\"ESTABLECIMIENTO/ESTRATEGIA: \",NOMBRE!B3,\" - \",\"( \",NOMBRE!C3,NOMBRE!D3,NOMBRE!E3,NOMBRE!F3,NOMBRE!G3,NOMBRE!H3,\" )\")","v":"ESTABLECIMIENTO/ESTRATEGIA:  - (  )"}]
[]
[null,"CREA UNA COPIA  DEL ARCHIVO  (TRANFORMA HOJAS A VALORES)"]
[]
[null,{"$f":"IF(Contro!D34>0,\"ANTES DE EJECUTAR SUS MACROS REVISE LA HOJA CONTROL, EXISTEN ERRORES\",\"\")","v":"ANTES DE EJECUTAR SUS MACROS REVISE LA HOJA CONTROL, EXISTEN ERRORES"}]
[]
[]
[null,"Contraseña para copia del archivo :DEIS"]