{"text_format":"1","workbook":"xlsx","n_sheets":5,"sheets":["NOMBRE","B","B17","Control","MACROS"],"not_rendered":{"charts":0,"images":1,"macros":1,"external_links":1,"defined_names":10,"comments":1,"pivot_tables":0},"unopened":[],"bounds":{"document_bytes":16777216,"sheet_cells":100000,"rows_first":2000,"rows_last":500,"rows_between":2000,"halvings":0,"cell_chars":16384,"cell_head_chars":4096},"cells_cut":0,"cells_raw":0,"read":"whole","date_system":"1900"}

{"sheet":"NOMBRE","index":0,"n_rows":37,"n_cols":32,"rows_kept":37,"cut":false,"hidden":false,"merged":[[1,8,1,13],[2,8,2,13],[13,0,13,1],[16,1,18,1],[0,0,0,1],[0,2,0,6],[8,0,8,1]]}
["DATOS DEL ESTABLECIMIENTO",null,"CÓDIGOS"]
["NOMBRE DE COMUNA",null,null,null,null,null,null,null,{"$f":"IF(OR(NOMBRE!C2=\"\",NOMBRE!D2=\"\",NOMBRE!E2=\"\",NOMBRE!F2=\"\",NOMBRE!G2=\"\"),\"Falta Cód. Com.\",\"\")","v":"Falta Cód. Com."},null,null,null,null,null,null,null,null,null,null,null,null,null,null,null,null,null,null,null,null,null,null,{"$f":"IF(I2>\"\",1,0)","v":1}]
["NOMBRE ESTABLECIMIENTO/ESTRATEGIA",null,null,null,null,null,null,null,{"$f":"IF(OR(NOMBRE!C3=\"\",NOMBRE!D3=\"\",NOMBRE!E3=\"\",NOMBRE!F3=\"\",NOMBRE!G3=\"\",NOMBRE!H3=\"\"),\"Falta Cód. Est.\",\"\")","v":"Falta Cód. Est."},null,null,null,null,null,null,null,null,null,null,null,null,null,null,null,null,null,null,null,null,null,null,{"$f":"IF(I3>\"\",1,0)","v":1}]
["TIPO DE ESTABLECIMIENTO/ESTRATEGIA",null,null,null,null,null,null,null,{"$f":"IF(OR(NOMBRE!B4=\"\"),\"Falta Tipo. Est.\",\"\")","v":"Falta Tipo. Est."},null,null,null,null,null,null,null,null,null,null,null,null,null,null,null,null,null,null,null,null,null,null,{"$f":"IF(I4>\"\",1,0)","v":1}]
["DEPENDENCIA",null,null,null,null,null,null,null,{"$f":"IF(OR(NOMBRE!B5=\"\"),\"Falta Dependencia. Est.\",\"\")","v":"Falta Dependencia. Est."},null,null,null,null,null,null,null,null,null,null,null,null,null,null,null,null,null,null,null,null,null,null,{"$f":"IF(I5>\"\",1,0)","v":1}]
["MES:",null,null,null,null,null,null,null,{"$f":"IF(OR(NOMBRE!C6=\"\",NOMBRE!D6=\"\"),\"Falta Cód. Mes.\",\"\")","v":"Falta Cód. Mes."},null,null,null,null,null,null,null,null,null,null,null,null,null,null,null,null,null,null,null,null,null,null,{"$f":"IF(I6>\"\",1,0)","v":1}]
["AÑO:",2023,null,null,null,null,null,null,null,null,null,null,null,null,null,null,null,null,null,null,null,null,null,null,null,null,null,null,null,null,null,{"$f":"SUM(AF2:AF6)","v":5}]
[]
["Versión 1.0: enero 2023"]
[]
["Director Servicio de Salud o Director Establecimiento",null,null,null,null,null,null,null,null,null,null,null,null,null,null,null,null,null,null,null,null,null,null,null,null,"ENERO","Establecimiento de Mayor Complejidad (EMAYC)","SERVICIO DE SALUD"]
["Jefe de Estadisticas",null,null,null,null,null,null,null,null,null,null,null,null,null,null,null,null,null,null,null,null,null,null,null,null,"FEBRERO","Establecimiento de Mediana Complejidad (EMEDC)","MUNICIPAL"]
[null,null,null,null,null,null,null,null,null,null,null,null,null,null,null,null,null,null,null,null,null,null,null,null,null,"MARZO","Establecimiento de Menor Complejidad (EMENC)","OTRA INSTITUCIÓN (Delegado)"]
["MINSAL - DEIS",null,null,null,null,null,null,null,null,null,null,null,null,null,null,null,null,null,null,null,null,null,null,null,null,"ABRIL","Centros de Diagnóstico Terapéutico (CDT)"]
[null,null,null,null,null,null,null,null,null,null,null,null,null,null,null,null,null,null,null,null,null,null,null,null,null,"MAYO","Centro de Referencia de Salud (CRS)"]
[null,null,null,null,null,null,null,null,null,null,null,null,null,null,null,null,null,null,null,null,null,null,null,null,null,"JUNIO","Consultorio General Urbano (CGU)"]
[null,"SERIE BS",null,null,null,null,null,null,null,null,null,null,null,null,null,null,null,null,null,null,null,null,null,null,null,"JULIO","Consultorio General Urbano (CGU) - CESFAM"]
[null,null,null,null,null,null,null,null,null,null,null,null,null,null,null,null,null,null,null,null,null,null,null,null,null,"AGOSTO","Consultorio General Urbano(CGU) con SAPU/SUR/SAR"]
[null,null,null,null,null,null,null,null,null,null,null,null,null,null,null,null,null,null,null,null,null,null,null,null,null,"SEPTIEMBRE","Consultorio General Urbano (CGU) - CESFAM con SAPU/SAR"]
[null,null,null,null,null,null,null,null,null,null,null,null,null,null,null,null,null,null,null,null,null,null,null,null,null,"OCTUBRE","Consultorio General Rural (CGR)"]
[null,null,null,null,null,null,null,null,null,null,null,null,null,null,null,null,null,null,null,null,null,null,null,null,null,"NOVIEMBRE","Consultorio General Rural (CGR) - CESFAM"]
[null,null,null,null,null,null,null,null,null,null,null,null,null,null,null,null,null,null,null,null,null,null,null,null,null,"DICIEMBRE","Consultorio General Rural (CGR) con SAPU/SUR/SAR"]
[null,null,null,null,null,null,null,null,null,null,null,null,null,null,null,null,null,null,null,null,null,null,null,null,null,null,"Consultorio General Rural (CGR) - CESFAM con SAPU/SUR/SAR"]
[null,null,null,null,null,null,null,null,null,null,null,null,null,null,null,null,null,null,null,null,null,null,null,null,null,null,"Posta de Salud Rural (PSR)"]
[null,null,null,null,null,null,null,null,null,null,null,null,null,null,null,null,null,null,null,null,null,null,null,null,null,null,"Centro Comunitario de Salud Familiar (CECOF)"]
[null,null,null,null,null,null,null,null,null,null,null,null,null,null,null,null,null,null,null,null,null,null,null,null,null,null,"Consultorio de Salud Mental (COSAM)"]
[null,null,null,null,null,null,null,null,null,null,null,null,null,null,null,null,null,null,null,null,null,null,null,null,null,null,"Programa de Reparación y Atención Integral de Salud (PRAIS)"]
[null,null,null,null,null,null,null,null,null,null,null,null,null,null,null,null,null,null,null,null,null,null,null,null,null,null,"Centro de Atención Funcionarios (CAF)"]
[null,null,null,null,null,null,null,null,null,null,null,null,null,null,null,null,null,null,null,null,null,null,null,null,null,null,"Clínica Dental Móvil (CDM)"]
[null,null,null,null,null,null,null,null,null,null,null,null,null,null,null,null,null,null,null,null,null,null,null,null,null,null,"Dirección Servicio de Salud (DSS)"]
[null,null,null,null,null,null,null,null,null,null,null,null,null,null,null,null,null,null,null,null,null,null,null,null,null,null,"Servicio de Atención Primaria de Urgencia (SAPU)"]
[null,null,null,null,null,null,null,null,null,null,null,null,null,null,null,null,null,null,null,null,null,null,null,null,null,null,"Servicio de Atención Primaria de Urgencia Alta Resolución (SAR)"]
[null,null,null,null,null,null,null,null,null,null,null,null,null,null,null,null,null,null,null,null,null,null,null,null,null,null,"Laboratorio Clínico o Dental"]
[null,null,null,null,null,null,null,null,null,null,null,null,null,null,null,null,null,null,null,null,null,null,null,null,null,null,"Servicio de Atención Primaria de Urgencia Dental (SAPUDENT)"]
[null,null,null,null,null,null,null,null,null,null,null,null,null,null,null,null,null,null,null,null,null,null,null,null,null,null,"Centro de Rehabilitación (CR)"]
[null,null,null,null,null,null,null,null,null,null,null,null,null,null,null,null,null,null,null,null,null,null,null,null,null,null,"Hospital de Campaña"]
[null,null,null,null,null,null,null,null,null,null,null,null,null,null,null,null,null,null,null,null,null,null,null,null,null,null,"Centro Oncologico"]

{"sheet":"B","index":1,"n_rows":3223,"n_cols":40,"rows_kept":2250,"cut":true,"hidden":false,"merged":[[3202,8,3202,26],[1048,8,1048,26],[881,8,881,26],[1272,3,1272,38],[1273,3,1273,38],[1274,3,1274,38],[384,8,384,26],[385,3,385,26],[434,8,434,26],[435,3,435,38],[449,8,449,26],[385,30,385,38],[450,30,450,38],[450,3,450,26],[534,8,534,26],[1174,8,1174,26],[1220,8,1220,26],[1237,8,1237,26],[1100,3,1100,38],[1113,8,1113,26],[1173,8,1173,26],[799,3,799,38],[859,3,859,26],[859,30,859,38],[190,3,190,38],[3222,8,3222,26],[56,8,56,26],[64,8,64,26],[67,8,67,26],[68,8,68,26],[108,8,108,26],[76,8,76,26],[78,8,78,26],[79,8,79,26],[80,8,80,26],[89,8,89,26],[86,8,86,26],[90,8,90,26],[95,8,95,26],[189,8,189,26],[202,8,202,26],[221,8,221,26],[224,8,224,26],[225,8,225,26],[227,3,227,26],[222,3,222,36],[303,8,303,26],[304,3,304,26],[2178,4,2178,7],[2181,4,2181,7],[1099,8,1099,26],[1074,4,1074,38],[1078,3,1078,38],[1086,3,1086,38],[1092,3,1092,38],[1093,3,1093,38],[1070,3,1070,26],[1070,30,1070,38],[2078,4,2078,7],[2079,4,2079,7],[3081,3,3081,38],[3120,3,3120,38],[3011,8,3011,26],[2994,3,2994,38],[3012,3,3012,26],[3118,4,3118,7],[3030,8,3030,26],[3048,8,3048,26],[3080,8,3080,26],[203,3,203,38],[226,3,226,38],[0,15,1,17],[0,3,2,3],[304,30,304,38],[0,24,1,26],[3,3,3,37],[69,3,69,38],[91,3,91,38],[164,3,164,37],[0,27,1,29],[1,12,1,14],[156,8,156,26],[109,3,109,38],[157,3,157,36],[160,3,160,36],[163,8,163,26],[159,8,159,26],[57,3,57,38],[4,3,4,38],[99,8,99,26],[100,8,100,26],[101,3,101,38],[107,8,107,26],[1,0,2,0],[0,30,1,32],[0,36,2,36],[0,38,2,38],[0,18,1,20],[0,21,1,23],[0,4,0,7],[1,4,2,4],[0,37,2,37],[1,7,2,7],[1,9,1,11],[1,1,2,1],[0,34,1,35],[0,33,2,33],[1,5,1,6],[0,8,0,14],[1,8,2,8],[1,2,2,2],[1023,0,1023,1],[1024,0,1024,1],[1025,3,1025,26],[1025,30,1025,38],[1024,3,1024,38],[1032,3,1032,26],[1032,30,1032,38],[1040,3,1040,26],[1040,30,1040,38],[1031,8,1031,26],[1039,8,1039,26],[1023,3,1023,38],[1059,3,1059,38],[1066,3,1066,26],[2974,8,2974,26],[2451,0,2451,1],[2451,3,2451,38],[1548,3,1548,38],[1608,3,1608,38],[1735,3,1735,38],[1738,3,1738,38],[1800,3,1800,38],[1873,3,1873,38],[1890,3,1890,38],[1991,0,1991,1],[1991,3,1991,38],[1799,3,1799,38],[1994,8,1994,26],[1973,8,1973,26],[1989,8,1989,26],[1990,8,1990,26],[2294,8,2294,26],[1727,8,1727,26],[1734,8,1734,26],[2068,4,2068,7],[1066,30,1066,38],[2671,0,2671,1],[2671,3,2671,38],[2984,8,2984,26],[2573,4,2573,7],[2604,4,2604,7],[2493,8,2493,26],[2590,8,2590,26],[2596,8,2596,26],[2597,8,2597,26],[2913,4,2913,7],[2920,3,2920,38],[2975,3,2975,38],[2985,3,2985,38],[2480,3,2480,38],[2481,3,2481,38],[2494,3,2494,38],[2574,3,2574,38],[2598,3,2598,38],[2605,3,2605,38],[2653,3,2653,38],[2180,4,2180,7],[2907,4,2907,7],[3216,3,3216,38],[2694,3,2694,38],[3049,3,3049,38],[2995,3,2995,38],[1916,3,1916,38],[1995,3,1995,38],[2080,3,2080,38],[2224,3,2224,38],[2295,3,2295,38],[2411,3,2411,38],[2404,4,2404,7],[2409,4,2409,7],[2410,4,2410,7],[2450,4,2450,7],[3204,3,3204,38],[3203,3,3203,38],[3169,8,3169,26],[2479,8,2479,26],[2993,8,2993,26],[3207,8,3207,26],[3031,3,3031,38],[3208,3,3208,38],[1175,3,1175,38],[1251,3,1251,38],[1238,3,1238,38],[1275,3,1275,38],[1331,3,1331,38],[1413,3,1413,38],[1889,8,1889,26],[1915,4,1915,7],[1250,8,1250,26],[1330,8,1330,26],[1461,8,1461,26],[1271,8,1271,26],[1607,8,1607,26],[1737,8,1737,26],[1798,4,1798,7],[1872,4,1872,7],[1462,3,1462,38],[424,8,424,26],[431,8,431,26],[496,8,496,26],[518,8,518,26],[547,8,547,26],[556,8,556,26],[570,8,570,26],[576,8,576,26],[589,8,589,26],[535,3,535,38],[536,3,536,38],[605,8,605,26],[628,8,628,26],[882,3,882,38],[911,8,911,26],[936,8,936,26],[937,3,937,38],[978,8,978,26],[1022,8,1022,26],[912,3,912,38],[979,3,979,38],[800,3,800,26],[800,30,800,38],[858,8,858,26],[690,8,690,26],[701,8,701,26],[703,3,703,38],[755,8,755,26],[756,3,756,38],[798,8,798,26],[606,3,606,38],[630,3,630,38],[680,8,680,26],[3215,8,3215,26],[622,8,622,26],[623,3,623,38],[632,8,632,26],[712,8,712,26],[713,3,713,38],[714,3,714,38],[681,3,681,26],[681,30,681,38],[691,3,691,38],[1073,8,1073,26],[1077,8,1077,26],[1085,8,1085,26],[1088,8,1088,26],[1089,3,1089,38],[1091,8,1091,26],[1058,8,1058,26],[1065,8,1065,26],[1069,8,1069,26],[1049,3,1049,26],[1049,30,1049,38],[2652,4,2652,7],[2914,4,2914,7],[2919,4,2919,7]],"bounds":{"rows_first":1000,"rows_last":250,"rows_between":1000,"halvings":1}}
[null,null,null,"TOTAL","ACTIVIDADES",null,null,null,"INTERVENCIONES QUIRÚRGICAS",null,null,null,null,null,null,"INTERVENCIONES QUIRÚRGICAS MAYORES NO AMBULATORIAS ELECTIVAS",null,null,"INTERVENCIONES QUIRÚRGICAS MAYORES AMBULATORIAS ELECTIVA",null,null,"INTERVENCIONES QUIRÚRGICAS MAYORES AMBULATORIAS URGENCIA",null,null,"INTERVENCIONES QUIRÚRGICAS MAYORES NO AMBULATORIAS URGENCIA",null,null,"PROCEDENCIA",null,null,"PRODUCCION INTRA HOSPITAL",null,null,"OPERATIVO","COMPRAS REALIZADAS",null,"VENTAS DE SERVICIOS","TRANSFERENCIA\n2022","PXQ"," "]
["CODIGO","GLOSA","TIPO PRESTACION",null,"TOTAL BENEFI-CIARIOS","BENEFICIARIOS",null,"NO BENEFI-CIARIOS","TOTAL BENEFI-    CIARIOS","PRINCIPAL",null,null,"SECUNDARIA",null,null,null,null,null,"< 15 AÑOS",null,null,"< 15 AÑOS",null,null,"< 15 AÑOS"]
[null,null,null,null,null,"MAI","MLE",null,null,"MAI","MLE","NO BENEFI-CIARIO","MAI","MLE","NO BENEFI-CIARIO","TOTAL","< 15 AÑOS","15 AÑOS Y MÁS","TOTAL","< 15 AÑOS","15 AÑOS Y MÁS","TOTAL","< 15 AÑOS","15 AÑOS Y MÁS","TOTAL","< 15 AÑOS","15 AÑOS Y MÁS","ATENCION CERRADA","ATENCION ABIERTA","EMERGENCIA","POR \nHONO-\nRARIOS","POR CONVENIOS","POR\nCONSULTO-\nRES DE \nLLAMADA",null,"AL SISTEMA ","EXTRA-SISTEMA"]
[null,"CONSULTAS Y ATENCION MEDICA "]
[null,"CONSULTAS DE ESPECIALIDADES MEDICAS"]
["0101001","Consulta Medicina General",null,{"$f":"SUM(E6+H6)","v":0},{"$f":"SUM(F6:G6)","v":0},null,null,null,null,null,null,null,null,null,null,null,null,null,null,null,null,null,null,null,null,null,null,null,null,null,null,null,null,null,null,null,null,6360,{"$f":"AL6*F6","v":0}]
["0101007","Atención médica del recién nacido en sala de parto o pabellón quirúrgico c/s reanimación cardio-respiratoria",null,{"$f":"SUM(E7+H7)","v":0},{"$f":"SUM(F7:G7)","v":0},null,null,null,null,null,null,null,null,null,null,null,null,null,null,null,null,null,null,null,null,null,null,null,null,null,null,null,null,null,null,null,null,16790,0]
["0101103","Consulta en Unidades de Urgencia Hospitalaria",null,0,0,null,null,null,null,null,null,null,null,null,null,null,null,null,null,null,null,null,null,null,null,null,null,null,null,null,null,null,null,null,null,null,null,9050,0]
["0101201","Consulta Médica de Especialidad en Dermatología",null,0,0,null,null,null,null,null,null,null,null,null,null,null,null,null,null,null,null,null,null,null,null,null,null,null,null,null,null,null,null,null,null,null,null,9050,0]
["0101202","Consulta Médica de Especialidad en Geriatría",null,0,0,null,null,null,null,null,null,null,null,null,null,null,null,null,null,null,null,null,null,null,null,null,null,null,null,null,null,null,null,null,null,null,null,9050,0]
["0101203","Consulta Médica de Especialidad en Neurocirugía",null,0,0,null,null,null,null,null,null,null,null,null,null,null,null,null,null,null,null,null,null,null,null,null,null,null,null,null,null,null,null,null,null,null,null,9050,0]
["0101204","Consulta Médica de Especialidad en Oftalmología",null,0,0,null,null,null,null,null,null,null,null,null,null,null,null,null,null,null,null,null,null,null,null,null,null,null,null,null,null,null,null,null,null,null,null,9050,0]
["0101205","Consulta Médica de Especialidad en Otorrinolaringología",null,0,0,null,null,null,null,null,null,null,null,null,null,null,null,null,null,null,null,null,null,null,null,null,null,null,null,null,null,null,null,null,null,null,null,9050,0]
["0101206","Consulta Médica de Especialidad en Reumatología",null,0,0,null,null,null,null,null,null,null,null,null,null,null,null,null,null,null,null,null,null,null,null,null,null,null,null,null,null,null,null,null,null,null,null,9050,0]
["0101207","Consulta Médica de Especialidad en Endocrinología Adulto",null,0,0,null,null,null,null,null,null,null,null,null,null,null,null,null,null,null,null,null,null,null,null,null,null,null,null,null,null,null,null,null,null,null,null,9050,0]
["0101208","Consulta Médica de Especialidad en Endocrinología Pediátrica",null,0,0,null,null,null,null,null,null,null,null,null,null,null,null,null,null,null,null,null,null,null,null,null,null,null,null,null,null,null,null,null,null,null,null,9050,0]
["0101209","Consulta Médica de Especialidad en Neurología Adultos",null,0,0,null,null,null,null,null,null,null,null,null,null,null,null,null,null,null,null,null,null,null,null,null,null,null,null,null,null,null,null,null,null,null,null,9050,0]
["0101210","Consulta Médica de Especialidad en Neurología Pediátrica",null,0,0,null,null,null,null,null,null,null,null,null,null,null,null,null,null,null,null,null,null,null,null,null,null,null,null,null,null,null,null,null,null,null,null,9050,0]
["0101211","Consulta Médica de Especialidad en Oncología Médica",null,0,0,null,null,null,null,null,null,null,null,null,null,null,null,null,null,null,null,null,null,null,null,null,null,null,null,null,null,null,null,null,null,null,null,9050,0]
["0101212","Consulta Médica de Especialidad en Psiquiatría adultos",null,0,0,null,null,null,null,null,null,null,null,null,null,null,null,null,null,null,null,null,null,null,null,null,null,null,null,null,null,null,null,null,null,null,null,9050,0]
["0101213","Consulta Médica de Especialidad en Psiquiatría pediátrica y de la adolescencia",null,0,0,null,null,null,null,null,null,null,null,null,null,null,null,null,null,null,null,null,null,null,null,null,null,null,null,null,null,null,null,null,null,null,null,9050,0]
["0101300","Consulta Médica otras Especialidades",null,0,0,null,null,null,null,null,null,null,null,null,null,null,null,null,null,null,null,null,null,null,null,null,null,null,null,null,null,null,null,null,null,null,null,9050,0]
["0101301","Consulta Médica de Especialidad en Cardiología",null,0,0,null,null,null,null,null,null,null,null,null,null,null,null,null,null,null,null,null,null,null,null,null,null,null,null,null,null,null,null,null,null,null,null,9050,0]
["0101302","Consulta Médica de Especialidad en Hematología",null,0,0,null,null,null,null,null,null,null,null,null,null,null,null,null,null,null,null,null,null,null,null,null,null,null,null,null,null,null,null,null,null,null,null,9050,0]
["0101303","Consulta Médica de Especialidad en Infectología",null,0,0,null,null,null,null,null,null,null,null,null,null,null,null,null,null,null,null,null,null,null,null,null,null,null,null,null,null,null,null,null,null,null,null,9050,0]
["0101304","Consulta Médica de Especialidad en Inmunología",null,0,0,null,null,null,null,null,null,null,null,null,null,null,null,null,null,null,null,null,null,null,null,null,null,null,null,null,null,null,null,null,null,null,null,9050,0]
["0101305","Consulta Médica de Especialidad en Medicina Familiar",null,0,0,null,null,null,null,null,null,null,null,null,null,null,null,null,null,null,null,null,null,null,null,null,null,null,null,null,null,null,null,null,null,null,null,9050,0]
["0101306","Consulta Médica de Especialidad en Medicina Física y Rehabilitación",null,0,0,null,null,null,null,null,null,null,null,null,null,null,null,null,null,null,null,null,null,null,null,null,null,null,null,null,null,null,null,null,null,null,null,9050,0]
["0101307","Consulta Médica de Especialidad en Medicina Interna",null,0,0,null,null,null,null,null,null,null,null,null,null,null,null,null,null,null,null,null,null,null,null,null,null,null,null,null,null,null,null,null,null,null,null,9050,0]
["0101308","Consulta Médica de Especialidad en Obstetricia y Ginecología",null,0,0,null,null,null,null,null,null,null,null,null,null,null,null,null,null,null,null,null,null,null,null,null,null,null,null,null,null,null,null,null,null,null,null,9050,0]
["0101309","Consulta Médica de Especialidad en Pediatría",null,0,0,null,null,null,null,null,null,null,null,null,null,null,null,null,null,null,null,null,null,null,null,null,null,null,null,null,null,null,null,null,null,null,null,9050,0]
["0101310","Consulta Médica de Especialidad en Traumatología y Ortopedia",null,0,0,null,null,null,null,null,null,null,null,null,null,null,null,null,null,null,null,null,null,null,null,null,null,null,null,null,null,null,null,null,null,null,null,9050,0]
["0101311","Consulta Médica de Especialidad en Urología",null,0,0,null,null,null,null,null,null,null,null,null,null,null,null,null,null,null,null,null,null,null,null,null,null,null,null,null,null,null,null,null,null,null,null,9050,0]
["0101312","Consulta Médica de Especialidad en Cirugía General",null,0,0,null,null,null,null,null,null,null,null,null,null,null,null,null,null,null,null,null,null,null,null,null,null,null,null,null,null,null,null,null,null,null,null,9050,0]
["0101313","Consulta Médica de Especialidad en Cirugía de Cabeza, Cuello y Maxilofacial",null,0,0,null,null,null,null,null,null,null,null,null,null,null,null,null,null,null,null,null,null,null,null,null,null,null,null,null,null,null,null,null,null,null,null,9050,0]
["0101314","Consulta Médica de Especialidad en Cirugía Cardiovascular",null,0,0,null,null,null,null,null,null,null,null,null,null,null,null,null,null,null,null,null,null,null,null,null,null,null,null,null,null,null,null,null,null,null,null,9050,0]
["0101315","Consulta Médica de Especialidad en Cirugía de Tórax",null,0,0,null,null,null,null,null,null,null,null,null,null,null,null,null,null,null,null,null,null,null,null,null,null,null,null,null,null,null,null,null,null,null,null,9050,0]
["0101316","Consulta Médica de Especialidad en Cirugía Plástica y Reparadora",null,0,0,null,null,null,null,null,null,null,null,null,null,null,null,null,null,null,null,null,null,null,null,null,null,null,null,null,null,null,null,null,null,null,null,9050,{"$f":"AL38*F38","v":0}]
["0101317","Consulta Médica de Especialidad en Cirugía Pediátrica",null,0,0,null,null,null,null,null,null,null,null,null,null,null,null,null,null,null,null,null,null,null,null,null,null,null,null,null,null,null,null,null,null,null,null,9050,0]
["0101318","Consulta Médica de Especialidad en Cirugía Vascular Periférica",null,0,0,null,null,null,null,null,null,null,null,null,null,null,null,null,null,null,null,null,null,null,null,null,null,null,null,null,null,null,null,null,null,null,null,9050,0]
["0101319","Consulta Médica de Especialidad en Coloproctología",null,0,0,null,null,null,null,null,null,null,null,null,null,null,null,null,null,null,null,null,null,null,null,null,null,null,null,null,null,null,null,null,null,null,null,9050,0]
["0101320","Consulta Médica de Especialidad en Diabetología",null,0,0,null,null,null,null,null,null,null,null,null,null,null,null,null,null,null,null,null,null,null,null,null,null,null,null,null,null,null,null,null,null,null,null,9050,0]
["0101321","Consulta Médica de Especialidad en Enfermedades Respiratorias Adulto",null,0,0,null,null,null,null,null,null,null,null,null,null,null,null,null,null,null,null,null,null,null,null,null,null,null,null,null,null,null,null,null,null,null,null,9050,0]
["0101322","Consulta Médica de Especialidad en Enfermedades Respiratorias Pediátricas",null,0,0,null,null,null,null,null,null,null,null,null,null,null,null,null,null,null,null,null,null,null,null,null,null,null,null,null,null,null,null,null,null,null,null,9050,0]
["0101323","Consulta Médica de Especialidad en Gastroenterología Adulto",null,0,0,null,null,null,null,null,null,null,null,null,null,null,null,null,null,null,null,null,null,null,null,null,null,null,null,null,null,null,null,null,null,null,null,9050,0]
["0101324","Consulta Médica de Especialidad en Gastroenterología Pediátrico",null,0,0,null,null,null,null,null,null,null,null,null,null,null,null,null,null,null,null,null,null,null,null,null,null,null,null,null,null,null,null,null,null,null,null,9050,0]
["0101325","Consulta Médica de Especialidad en Genética Clínica",null,0,0,null,null,null,null,null,null,null,null,null,null,null,null,null,null,null,null,null,null,null,null,null,null,null,null,null,null,null,null,null,null,null,null,9050,0]
["0101326","Consulta Médica de Especialidad en Nefrología Adulto",null,0,0,null,null,null,null,null,null,null,null,null,null,null,null,null,null,null,null,null,null,null,null,null,null,null,null,null,null,null,null,null,null,null,null,9050,0]
["0101327","Consulta Médica de Especialidad en Nefrología Pediátrico",null,0,0,null,null,null,null,null,null,null,null,null,null,null,null,null,null,null,null,null,null,null,null,null,null,null,null,null,null,null,null,null,null,null,null,9050,0]
["0101328","Consulta Médica de Especialidad en Neonatología",null,0,0,null,null,null,null,null,null,null,null,null,null,null,null,null,null,null,null,null,null,null,null,null,null,null,null,null,null,null,null,null,null,null,null,9050,0]
["0101329","Consulta Médica de Especialidad en Anestesiología",null,0,0,null,null,null,null,null,null,null,null,null,null,null,null,null,null,null,null,null,null,null,null,null,null,null,null,null,null,null,null,null,null,null,null,9050,0]
["0101330","Consulta Médica de Especialidad en Medicina de Urgencia",null,0,0,null,null,null,null,null,null,null,null,null,null,null,null,null,null,null,null,null,null,null,null,null,null,null,null,null,null,null,null,null,null,null,null,9050,0]
["0101331","Consulta Médica de Especialidad en Radioterapia Oncológica",null,0,0,null,null,null,null,null,null,null,null,null,null,null,null,null,null,null,null,null,null,null,null,null,null,null,null,null,null,null,null,null,null,null,null,9050,0]
["0101332","Consulta Médica de Especialidad en Ginecología Pediátrica y de la Adolescencia",null,0,0,null,null,null,null,null,null,null,null,null,null,null,null,null,null,null,null,null,null,null,null,null,null,null,null,null,null,null,null,null,null,null,null,9050,0]
["0101333","Consulta Médica de Especialidad en Medicina Materno Fetal",null,0,0,null,null,null,null,null,null,null,null,null,null,null,null,null,null,null,null,null,null,null,null,null,null,null,null,null,null,null,null,null,null,null,null,9050,0]
["0101334","Consulta Médica de Especialidad en Medicina Nuclear",null,0,0,null,null,null,null,null,null,null,null,null,null,null,null,null,null,null,null,null,null,null,null,null,null,null,null,null,null,null,null,null,null,null,null,9050,0]
[null,"TOTAL ARANCEL MAI",null,{"$f":"SUM(D6:D56)","v":0},{"$f":"SUM(E6:E56)","v":0},{"$f":"SUM(F6:F56)","v":0},{"$f":"SUM(G6:G56)","v":0},{"$f":"SUM(H6:H56)","v":0},null,null,null,null,null,null,null,null,null,null,null,null,null,null,null,null,null,null,null,{"$f":"SUM(AB6:AB56)","v":0},0,0,0,0,0,0,0,0,0,null,0]
[null,"CONSULTAS POR OTROS PROFESIONALES DE LA SALUD                                   "]
["0102002","Control de salud niño con EDP por enfermera",null,{"$f":"SUM(E59+H59)","v":0},{"$f":"SUM(F59:G59)","v":0},null,null,null,null,null,null,null,null,null,null,null,null,null,null,null,null,null,null,null,null,null,null,null,null,null,null,null,null,null,null,null,null,2410,{"$f":"AL59*F59","v":0}]
["0102003","Consulta o control por auxiliar de enfermería",null,0,0,null,null,null,null,null,null,null,null,null,null,null,null,null,null,null,null,null,null,null,null,null,null,null,null,null,null,null,null,null,null,null,null,780,0]
["0102005","Consulta por fonoaudiólogo",null,0,0,null,null,null,null,null,null,null,null,null,null,null,null,null,null,null,null,null,null,null,null,null,null,null,null,null,null,null,null,null,null,null,null,1920,0]
["0102008","Consulta o control por enfermera",null,0,0,null,null,null,null,null,null,null,null,null,null,null,null,null,null,null,null,null,null,null,null,null,null,null,null,null,null,null,null,null,null,null,null,1410,0]
["0102009","Consulta o control por matrona",null,0,0,null,null,null,null,null,null,null,null,null,null,null,null,null,null,null,null,null,null,null,null,null,null,null,null,null,null,null,null,null,null,null,null,1410,0]
["0102010","Consulta o control por nutricionista",null,0,0,null,null,null,null,null,null,null,null,null,null,null,null,null,null,null,null,null,null,null,null,null,null,null,null,null,null,null,null,null,null,null,null,1410,0]
[null,"TOTAL ARANCEL MAI",null,{"$f":"SUM(D59:D64)","v":0},{"$f":"SUM(E59:E64)","v":0},{"$f":"SUM(F59:F64)","v":0},{"$f":"SUM(G59:G64)","v":0},{"$f":"SUM(H59:H64)","v":0},null,null,null,null,null,null,null,null,null,null,null,null,null,null,null,null,null,null,null,{"$f":"SUM(AB59:AB64)","v":0},0,0,0,0,0,0,0,0,0,null,{"$f":"SUM(AM59:AM64)","v":0}]
["01010025","Consulta por otros profesionales ",null,0,0]
["01012817","Consulta por Trabajador(a) Social",null,0,0]
[null,"TOTAL ARANCEL MLE Y NO ARANCELADO",null,{"$f":"SUM(D66:D67)","v":0},{"$f":"SUM(E66:E67)","v":0},{"$f":"SUM(F66:F67)","v":0},{"$f":"SUM(G66:G67)","v":0},{"$f":"SUM(H66:H67)","v":0},null,null,null,null,null,null,null,null,null,null,null,null,null,null,null,null,null,null,null,{"$f":"SUM(AB66:AB67)","v":0},0,0,0,0,0,0,0,0,{"$f":"SUM(AK66:AK67)","v":0}]
[null,"TOTAL PRODUCCION",null,{"$f":"SUM(D65+D68)","v":0},{"$f":"SUM(E65+E68)","v":0},{"$f":"SUM(F65+F68)","v":0},{"$f":"SUM(G65+G68)","v":0},{"$f":"SUM(H65+H68)","v":0},null,null,null,null,null,null,null,null,null,null,null,null,null,null,null,null,null,null,null,{"$f":"SUM(AB65+AB68)","v":0},0,0,0,0,0,0,0,0,0,null,{"$f":"SUM(AM65+AM68)","v":0}]
[null,"EDUCACION DE GRUPO                                                                                         "]
["0103001","Educación de grupo por médico",null,{"$f":"SUM(E71+H71)","v":0},{"$f":"SUM(F71:G71)","v":0},null,null,null,null,null,null,null,null,null,null,null,null,null,null,null,null,null,null,null,null,null,null,null,null,null,null,null,null,null,null,null,null,4640,{"$f":"AL71*F71","v":0}]
["0103003","Educación de grupo por Trabajador/a Social",null,0,0,null,null,null,null,null,null,null,null,null,null,null,null,null,null,null,null,null,null,null,null,null,null,null,null,null,null,null,null,null,null,null,null,2550,0]
["0103004","Educación de grupo por auxiliar de enfermería",null,0,0,null,null,null,null,null,null,null,null,null,null,null,null,null,null,null,null,null,null,null,null,null,null,null,null,null,null,null,null,null,null,null,null,780,0]
["0103005","Educación de grupo por enfermera",null,0,0,null,null,null,null,null,null,null,null,null,null,null,null,null,null,null,null,null,null,null,null,null,null,null,null,null,null,null,null,null,null,null,null,2550,0]
["0103006","Educación de grupo por matrona ",null,0,0,null,null,null,null,null,null,null,null,null,null,null,null,null,null,null,null,null,null,null,null,null,null,null,null,null,null,null,null,null,null,null,null,2550,0]
["0103007","Educación de grupo por nutricionista",null,0,0,null,null,null,null,null,null,null,null,null,null,null,null,null,null,null,null,null,null,null,null,null,null,null,null,null,null,null,null,null,null,null,null,2550,0]
[null,"TOTAL ARANCEL MAI",null,{"$f":"SUM(D71:D76)","v":0},{"$f":"SUM(E71:E76)","v":0},{"$f":"SUM(F71:F76)","v":0},{"$f":"SUM(G71:G76)","v":0},{"$f":"SUM(H71:H76)","v":0},null,null,null,null,null,null,null,null,null,null,null,null,null,null,null,null,null,null,null,{"$f":"SUM(AB71:AB76)","v":0},{"$f":"SUM(AC71:AC76)","v":0},0,0,0,0,0,0,0,0,null,{"$f":"SUM(AM71:AM76)","v":0}]
["01010033","Educación de grupo por otro integrante del equipo de salud",null,{"$f":"SUM(E78+H78)","v":0},{"$f":"SUM(F78:G78)","v":0}]
[null,"TOTAL ARANCEL MLE Y NO ARANCELADO",null,{"$f":"D78","v":0},{"$f":"E78","v":0},{"$f":"F78","v":0},{"$f":"G78","v":0},{"$f":"H78","v":0},null,null,null,null,null,null,null,null,null,null,null,null,null,null,null,null,null,null,null,{"$f":"AB78","v":0},0,0,0,0,0,0,0,0,0]
[null,"TOTAL PRODUCCION",null,{"$f":"SUM(D77+D79)","v":0},{"$f":"SUM(E77+E79)","v":0},{"$f":"SUM(F77+F79)","v":0},{"$f":"SUM(G77+G79)","v":0},{"$f":"SUM(H77+H79)","v":0},null,null,null,null,null,null,null,null,null,null,null,null,null,null,null,null,null,null,null,{"$f":"SUM(AB77+AB79)","v":0},0,0,0,0,0,0,0,0,0,0,0]
[null,"VISITAS DOMICILIARIAS                                                                                       "]
["0104002","Visita a domicilio por asistente social",null,{"$f":"SUM(E82+H82)","v":0},{"$f":"SUM(F82:G82)","v":0},null,null,null,null,null,null,null,null,null,null,null,null,null,null,null,null,null,null,null,null,null,null,null,null,null,null,null,null,null,null,null,null,2210,{"$f":"AL82*F82","v":0}]
["0104003","Visita a domicilio por auxiliar de enfermería",null,{"$f":"SUM(E83+H83)","v":0},{"$f":"SUM(F83:G83)","v":0},null,null,null,null,null,null,null,null,null,null,null,null,null,null,null,null,null,null,null,null,null,null,null,null,null,null,null,null,null,null,null,null,1270,{"$f":"AL83*F83","v":0}]
["0104004","Visita a domicilio por enfermera",null,{"$f":"SUM(E84+H84)","v":0},{"$f":"SUM(F84:G84)","v":0},null,null,null,null,null,null,null,null,null,null,null,null,null,null,null,null,null,null,null,null,null,null,null,null,null,null,null,null,null,null,null,null,2210,{"$f":"AL84*F84","v":0}]
["0104005","Visita a domicilio por matrona",null,{"$f":"SUM(E85+H85)","v":0},{"$f":"SUM(F85:G85)","v":0},null,null,null,null,null,null,null,null,null,null,null,null,null,null,null,null,null,null,null,null,null,null,null,null,null,null,null,null,null,null,null,null,2210,{"$f":"AL85*F85","v":0}]
["0104006","Visita a domicilio por nutricionista",null,{"$f":"SUM(E86+H86)","v":0},{"$f":"SUM(F86:G86)","v":0},null,null,null,null,null,null,null,null,null,null,null,null,null,null,null,null,null,null,null,null,null,null,null,null,null,null,null,null,null,null,null,null,2210,{"$f":"AL86*F86","v":0}]
[null,"TOTAL ARANCEL MAI",null,{"$f":"SUM(D82:D86)","v":0},{"$f":"SUM(E82:E86)","v":0},{"$f":"SUM(F82:F86)","v":0},{"$f":"SUM(G82:G86)","v":0},{"$f":"SUM(H82:H86)","v":0},null,null,null,null,null,null,null,null,null,null,null,null,null,null,null,null,null,null,null,{"$f":"SUM(AB82:AB86)","v":0},{"$f":"SUM(AC82:AC86)","v":0},0,0,0,0,0,0,0,0,null,0]
["01010037","Visita a domicilio por otro integrante del equipo de salud",null,{"$f":"SUM(E88+H88)","v":0},{"$f":"SUM(F88:G88)","v":0}]
["01010038","Visita domiciaria por otro profesional y técnicos paramédico",null,{"$f":"SUM(E89+H89)","v":0},{"$f":"SUM(F89:G89)","v":0}]
[null,"TOTAL ARANCEL MLE Y NO ARANCELADO",null,{"$f":"SUM(D88:D89)","v":0},{"$f":"SUM(E88:E89)","v":0},{"$f":"SUM(F88:F89)","v":0},{"$f":"SUM(G88:G89)","v":0},{"$f":"SUM(H88:H89)","v":0},null,null,null,null,null,null,null,null,null,null,null,null,null,null,null,null,null,null,null,{"$f":"SUM(AB88:AB89)","v":0},0,0,0,0,0,0,0,0,0]
[null,"TOTAL",null,{"$f":"SUM(D87+D90)","v":0},{"$f":"SUM(E87+E90)","v":0},{"$f":"SUM(F87+F90)","v":0},{"$f":"SUM(G87+G90)","v":0},{"$f":"SUM(H87+H90)","v":0},null,null,null,null,null,null,null,null,null,null,null,null,null,null,null,null,null,null,null,{"$f":"SUM(AB87+AB90)","v":0},{"$f":"SUM(AC87+AC90)","v":0},0,{"$f":"SUM(AE87+AE90)","v":0},0,0,0,0,0,0,null,0]
[null,"MISCELANEOS                                                                                            "]
["0106002","Curación simple ambulatoria",null,{"$f":"SUM(E93+H93)","v":0},{"$f":"SUM(F93:G93)","v":0},null,null,null,null,null,null,null,null,null,null,null,null,null,null,null,null,null,null,null,null,null,null,null,null,null,null,null,null,null,null,null,null,850,{"$f":"AL93*F93","v":0}]
["0106007","Oxigenoterapia Hiperbárica (1 sesión)",null,{"$f":"SUM(E94+H94)","v":0},{"$f":"SUM(F94:G94)","v":0},null,null,null,null,null,null,null,null,null,null,null,null,null,null,null,null,null,null,null,null,null,null,null,null,null,null,null,null,null,null,null,null,26200,{"$f":"AL94*F94","v":0}]
["0106101","Atención Integral de Acupuntura ",null,{"$f":"SUM(E95+H95)","v":0},{"$f":"SUM(F95:G95)","v":0},null,null,null,null,null,null,null,null,null,null,null,null,null,null,null,null,null,null,null,null,null,null,null,null,null,null,null,null,null,null,null,null,6110,{"$f":"AL95*F95","v":0}]
[null,"TOTAL ARANCEL MAI",null,{"$f":"SUM(D93:D95)","v":0},{"$f":"SUM(E93:E95)","v":0},{"$f":"SUM(F93:F95)","v":0},{"$f":"SUM(G93:G95)","v":0},0,null,null,null,null,null,null,null,null,null,null,null,null,null,null,null,null,null,null,null,{"$f":"SUM(AB93:AB95)","v":0},{"$f":"SUM(AC93:AC95)","v":0},{"$f":"SUM(AD93:AD95)","v":0},{"$f":"SUM(AE93:AE95)","v":0},{"$f":"SUM(AF93:AF95)","v":0},{"$f":"SUM(AG93:AG95)","v":0},{"$f":"SUM(AH93:AH95)","v":0},{"$f":"SUM(AI93:AI95)","v":0},{"$f":"SUM(AJ93:AJ95)","v":0},{"$f":"SUM(AK93:AK95)","v":0},null,{"$f":"SUM(AM93:AM95)","v":0}]
["01010043","Autocontrol pacientes Diabetico insulino dependiente (D.I.D. mensual)",null,{"$f":"SUM(E97+H97)","v":0},{"$f":"SUM(F97:G97)","v":0}]
["01010044","Oxigenoterapia domiciliaria (pacientes oxígeno dependientes)",null,0,0]
["01010047","Procedimientos de podología",null,{"$f":"SUM(E99+H99)","v":0},{"$f":"SUM(F99:G99)","v":0}]
[null,"TOTAL ARANCEL MLE Y NO ARANCELADO",null,{"$f":"SUM(D97:D99)","v":0},{"$f":"SUM(E97:E99)","v":0},0,0,0,null,null,null,null,null,null,null,null,null,null,null,null,null,null,null,null,null,null,null,{"$f":"SUM(AB97:AB99)","v":0},{"$f":"SUM(AC97:AC99)","v":0},{"$f":"SUM(AD97:AD99)","v":0},{"$f":"SUM(AE97:AE99)","v":0},{"$f":"SUM(AF97:AF99)","v":0},{"$f":"SUM(AG97:AG99)","v":0},{"$f":"SUM(AH97:AH99)","v":0},{"$f":"SUM(AI97:AI99)","v":0},{"$f":"SUM(AJ97:AJ99)","v":0},{"$f":"SUM(AK97:AK99)","v":0}]
[null,"TOTAL PRODUCCION",null,{"$f":"SUM(D96+D100)","v":0},{"$f":"SUM(E96+E100)","v":0},{"$f":"SUM(F96+F100)","v":0},{"$f":"SUM(G96+G100)","v":0},{"$f":"SUM(H96+H100)","v":0},null,null,null,null,null,null,null,null,null,null,null,null,null,null,null,null,null,null,null,{"$f":"SUM(AB96+AB100)","v":0},0,0,0,0,0,0,0,0,{"$f":"SUM(AK96+AK100)","v":0},null,0]
[null,"ACTIVIDAD COMPIN"]
["0107001","Consulta médica pericial por licencia médica",null,{"$f":"SUM(E103+H103)","v":0},{"$f":"SUM(F103:G103)","v":0},null,null,null,null,null,null,null,null,null,null,null,null,null,null,null,null,null,null,null,null,null,null,null,null,null,null,null,null,null,null,null,null,6980,{"$f":"AL103*F103","v":0}]
["0107002","Evaluación médica por invalidez",null,0,0,null,null,null,null,null,null,null,null,null,null,null,null,null,null,null,null,null,null,null,null,null,null,null,null,null,null,null,null,null,null,null,null,6980,{"$f":"AL104*F104","v":0}]
["0107003","Visita domiciliaria inspectiva por comisión",null,0,0,null,null,null,null,null,null,null,null,null,null,null,null,null,null,null,null,null,null,null,null,null,null,null,null,null,null,null,null,null,null,null,null,10980,{"$f":"AL105*F105","v":0}]
["0107004","Evaluación médico-legal por comisión",null,0,0,null,null,null,null,null,null,null,null,null,null,null,null,null,null,null,null,null,null,null,null,null,null,null,null,null,null,null,null,null,null,null,null,7750,{"$f":"AL106*F106","v":0}]
["0107005","Arbitrajes por apelación contra ISAPRE",null,0,0,null,null,null,null,null,null,null,null,null,null,null,null,null,null,null,null,null,null,null,null,null,null,null,null,null,null,null,null,null,null,null,null,7750,{"$f":"AL107*F107","v":0}]
[null,"TOTAL ARANCEL MAI",null,{"$f":"SUM(D103:D107)","v":0},{"$f":"SUM(E103:E107)","v":0},{"$f":"SUM(F103:F107)","v":0},{"$f":"SUM(G103:G107)","v":0},{"$f":"SUM(H103:H107)","v":0},null,null,null,null,null,null,null,null,null,null,null,null,null,null,null,null,null,null,null,{"$f":"SUM(AB103:AB107)","v":0},0,0,0,0,0,0,0,0,0,null,0]
[null,"TELEMEDICINA POR PROFESIONALES MÉDICOS"]
[null,"TELECONSULTAS"]
["0108001","Teleconsulta Medicina General",null,{"$f":"SUM(E111+H111)","v":0},{"$f":"SUM(F111:G111)","v":0},null,null,null,null,null,null,null,null,null,null,null,null,null,null,null,null,null,null,null,null,null,null,null,null,null,null,null,null,null,null,null,null,5290,{"$f":"AL111*F111","v":0}]
["0108201","Teleconsulta Médica de Especialidad en Dermatología",null,0,0,null,null,null,null,null,null,null,null,null,null,null,null,null,null,null,null,null,null,null,null,null,null,null,null,null,null,null,null,null,null,null,null,7530,0]
["0108202","Teleconsulta Médica de Especialidad en Geriatría",null,0,0,null,null,null,null,null,null,null,null,null,null,null,null,null,null,null,null,null,null,null,null,null,null,null,null,null,null,null,null,null,null,null,null,7530,0]
["0108206","Teleconsulta Médica de Especialidad en Reumatología",null,0,0,null,null,null,null,null,null,null,null,null,null,null,null,null,null,null,null,null,null,null,null,null,null,null,null,null,null,null,null,null,null,null,null,7530,0]
["0108207","Teleconsulta Médica de Especialidad en Endocrinología Adulto",null,0,0,null,null,null,null,null,null,null,null,null,null,null,null,null,null,null,null,null,null,null,null,null,null,null,null,null,null,null,null,null,null,null,null,7530,0]
["0108208","Teleconsulta Médica de Especialidad en Endocrinología Pediátrica",null,0,0,null,null,null,null,null,null,null,null,null,null,null,null,null,null,null,null,null,null,null,null,null,null,null,null,null,null,null,null,null,null,null,null,7530,0]
["0108209","Teleconsulta Médica de Especialidad en Neurología Adultos",null,0,0,null,null,null,null,null,null,null,null,null,null,null,null,null,null,null,null,null,null,null,null,null,null,null,null,null,null,null,null,null,null,null,null,7530,0]
["0108210","Teleconsulta Médica de Especialidad en Neurología Pediátrica",null,0,0,null,null,null,null,null,null,null,null,null,null,null,null,null,null,null,null,null,null,null,null,null,null,null,null,null,null,null,null,null,null,null,null,7530,0]
["0108211","Teleconsulta Médica de Especialidad en Oncología Médica",null,0,0,null,null,null,null,null,null,null,null,null,null,null,null,null,null,null,null,null,null,null,null,null,null,null,null,null,null,null,null,null,null,null,null,7530,0]
["0108212","Teleconsulta Médica de Especialidad en Psiquiatría adultos",null,0,0,null,null,null,null,null,null,null,null,null,null,null,null,null,null,null,null,null,null,null,null,null,null,null,null,null,null,null,null,null,null,null,null,7530,0]
["0108213","Teleconsulta Médica de Especialidad en Psiquiatría pediátrica y de la adolescencia",null,0,0,null,null,null,null,null,null,null,null,null,null,null,null,null,null,null,null,null,null,null,null,null,null,null,null,null,null,null,null,null,null,null,null,7530,0]
["0108301","Teleconsulta Médica de Especialidad en Cardiología",null,0,0,null,null,null,null,null,null,null,null,null,null,null,null,null,null,null,null,null,null,null,null,null,null,null,null,null,null,null,null,null,null,null,null,7530,0]
["0108302","Teleconsulta Médica de Especialidad en Hematología",null,0,0,null,null,null,null,null,null,null,null,null,null,null,null,null,null,null,null,null,null,null,null,null,null,null,null,null,null,null,null,null,null,null,null,7530,0]
["0108303","Teleconsulta Médica de Especialidad en Infectología",null,0,0,null,null,null,null,null,null,null,null,null,null,null,null,null,null,null,null,null,null,null,null,null,null,null,null,null,null,null,null,null,null,null,null,7530,0]
["0108304","Teleconsulta Médica de Especialidad en Inmunología",null,0,0,null,null,null,null,null,null,null,null,null,null,null,null,null,null,null,null,null,null,null,null,null,null,null,null,null,null,null,null,null,null,null,null,7530,0]
["0108305","Teleconsulta Médica de Especialidad en Medicina Familiar",null,0,0,null,null,null,null,null,null,null,null,null,null,null,null,null,null,null,null,null,null,null,null,null,null,null,null,null,null,null,null,null,null,null,null,7530,0]
["0108306","Teleconsulta Médica de Especialidad en Medicina Física y Rehabilitación",null,0,0,null,null,null,null,null,null,null,null,null,null,null,null,null,null,null,null,null,null,null,null,null,null,null,null,null,null,null,null,null,null,null,null,7530,0]
["0108307","Teleconsulta Médica de Especialidad en Medicina Interna",null,0,0,null,null,null,null,null,null,null,null,null,null,null,null,null,null,null,null,null,null,null,null,null,null,null,null,null,null,null,null,null,null,null,null,7530,0]
["0108308","Teleconsulta Médica de Especialidad en Obstetricia y Ginecología",null,0,0,null,null,null,null,null,null,null,null,null,null,null,null,null,null,null,null,null,null,null,null,null,null,null,null,null,null,null,null,null,null,null,null,7530,0]
["0108309","Teleconsulta Médica de Especialidad en Pediatría",null,0,0,null,null,null,null,null,null,null,null,null,null,null,null,null,null,null,null,null,null,null,null,null,null,null,null,null,null,null,null,null,null,null,null,7530,0]
["0108310","Teleconsulta Médica de Especialidad en Traumatología y Ortopedia",null,0,0,null,null,null,null,null,null,null,null,null,null,null,null,null,null,null,null,null,null,null,null,null,null,null,null,null,null,null,null,null,null,null,null,7530,0]
["0108311","Teleconsulta Médica de Especialidad en Urología",null,0,0,null,null,null,null,null,null,null,null,null,null,null,null,null,null,null,null,null,null,null,null,null,null,null,null,null,null,null,null,null,null,null,null,7530,0]
["0108319","Teleconsulta Médica de Especialidad en Coloproctología",null,0,0,null,null,null,null,null,null,null,null,null,null,null,null,null,null,null,null,null,null,null,null,null,null,null,null,null,null,null,null,null,null,null,null,7530,0]
["0108320","Teleconsulta Médica de Especialidad en Diabetología",null,0,0,null,null,null,null,null,null,null,null,null,null,null,null,null,null,null,null,null,null,null,null,null,null,null,null,null,null,null,null,null,null,null,null,7530,0]
["0108321","Teleconsulta Médica de Especialidad en Enfermedades Respiratorias Adulto",null,0,0,null,null,null,null,null,null,null,null,null,null,null,null,null,null,null,null,null,null,null,null,null,null,null,null,null,null,null,null,null,null,null,null,7530,0]
["0108322","Teleconsulta Médica de Especialidad en Enfermedades Respiratorias Pediátricas",null,0,0,null,null,null,null,null,null,null,null,null,null,null,null,null,null,null,null,null,null,null,null,null,null,null,null,null,null,null,null,null,null,null,null,7530,0]
["0108323","Teleconsulta Médica de Especialidad en Gastroenterología Adulto",null,0,0,null,null,null,null,null,null,null,null,null,null,null,null,null,null,null,null,null,null,null,null,null,null,null,null,null,null,null,null,null,null,null,null,7530,0]
["0108324","Teleconsulta Médica de Especialidad en Gastroenterología Pediátrico",null,0,0,null,null,null,null,null,null,null,null,null,null,null,null,null,null,null,null,null,null,null,null,null,null,null,null,null,null,null,null,null,null,null,null,7530,0]
["0108325","Teleconsulta Médica de Especialidad en Genética Clínica",null,0,0,null,null,null,null,null,null,null,null,null,null,null,null,null,null,null,null,null,null,null,null,null,null,null,null,null,null,null,null,null,null,null,null,7530,0]
["0108326","Teleconsulta Médica de Especialidad en Nefrología Adulto",null,0,0,null,null,null,null,null,null,null,null,null,null,null,null,null,null,null,null,null,null,null,null,null,null,null,null,null,null,null,null,null,null,null,null,7530,0]
["0108327","Teleconsulta Médica de Especialidad en Nefrología Pediátrico",null,0,0,null,null,null,null,null,null,null,null,null,null,null,null,null,null,null,null,null,null,null,null,null,null,null,null,null,null,null,null,null,null,null,null,7530,0]
["0108331","Teleconsulta Médica de Especialidad en Radioterapia Oncológica",null,0,0,null,null,null,null,null,null,null,null,null,null,null,null,null,null,null,null,null,null,null,null,null,null,null,null,null,null,null,null,null,null,null,null,7530,0]
["0108203","Teleconsulta Médica de Especialidad en Neurocirugía",null,0,0,null,null,null,null,null,null,null,null,null,null,null,null,null,null,null,null,null,null,null,null,null,null,null,null,null,null,null,null,null,null,null,null,7530,0]
["0108204","Teleconsulta Médica de Especialidad en Oftalmología",null,0,0,null,null,null,null,null,null,null,null,null,null,null,null,null,null,null,null,null,null,null,null,null,null,null,null,null,null,null,null,null,null,null,null,7530,0]
["0108205","Teleconsulta Médica de Especialidad en Otorrinolaringología",null,0,0,null,null,null,null,null,null,null,null,null,null,null,null,null,null,null,null,null,null,null,null,null,null,null,null,null,null,null,null,null,null,null,null,7530,0]
["0108312","Teleconsulta Médica de Especialidad en Cirugía General",null,0,0,null,null,null,null,null,null,null,null,null,null,null,null,null,null,null,null,null,null,null,null,null,null,null,null,null,null,null,null,null,null,null,null,7530,0]
["0108313","Teleconsulta Médica de Especialidad en Cirugía de Cabeza, Cuello y Maxilofacial",null,0,0,null,null,null,null,null,null,null,null,null,null,null,null,null,null,null,null,null,null,null,null,null,null,null,null,null,null,null,null,null,null,null,null,7530,0]
["0108314","Teleconsulta Médica de Especialidad en Cirugía Cardiovascular",null,0,0,null,null,null,null,null,null,null,null,null,null,null,null,null,null,null,null,null,null,null,null,null,null,null,null,null,null,null,null,null,null,null,null,7530,0]
["0108315","Teleconsulta Médica de Especialidad en Cirugía de Tórax",null,0,0,null,null,null,null,null,null,null,null,null,null,null,null,null,null,null,null,null,null,null,null,null,null,null,null,null,null,null,null,null,null,null,null,7530,0]
["0108316","Teleconsulta Médica de Especialidad en Cirugía Plástica y Reparadora",null,0,0,null,null,null,null,null,null,null,null,null,null,null,null,null,null,null,null,null,null,null,null,null,null,null,null,null,null,null,null,null,null,null,null,7530,0]
["0108317","Teleconsulta Médica de Especialidad en Cirugía Pediátrica",null,0,0,null,null,null,null,null,null,null,null,null,null,null,null,null,null,null,null,null,null,null,null,null,null,null,null,null,null,null,null,null,null,null,null,7530,0]
["0108318","Teleconsulta Médica de Especialidad en Cirugía Vascular Periférica",null,0,0,null,null,null,null,null,null,null,null,null,null,null,null,null,null,null,null,null,null,null,null,null,null,null,null,null,null,null,null,null,null,null,null,7530,0]
["0108329","Teleconsulta Médica de Especialidad en Anestesiología",null,0,0,null,null,null,null,null,null,null,null,null,null,null,null,null,null,null,null,null,null,null,null,null,null,null,null,null,null,null,null,null,null,null,null,7530,0]
["0108332","Teleconsulta Médica de Especialidad en Ginecología Pediátrica y de la Adolescencia",null,0,0,null,null,null,null,null,null,null,null,null,null,null,null,null,null,null,null,null,null,null,null,null,null,null,null,null,null,null,null,null,null,null,null,7530,0]
["0108333","Teleconsulta Médica de Especialidad en Medicina Materno Fetal",null,0,0,null,null,null,null,null,null,null,null,null,null,null,null,null,null,null,null,null,null,null,null,null,null,null,null,null,null,null,null,null,null,null,null,7530,0]
["0108334","Teleconsulta Médica de Especialidad en Medicina Nuclear",null,0,0,null,null,null,null,null,null,null,null,null,null,null,null,null,null,null,null,null,null,null,null,null,null,null,null,null,null,null,null,null,null,null,null,7530,0]
[null,"TOTAL",null,{"$f":"SUM(D111:D156)","v":0},{"$f":"SUM(E111:E156)","v":0},0,0,0,null,null,null,null,null,null,null,null,null,null,null,null,null,null,null,null,null,null,null,{"$f":"SUM(AB111:AB156)","v":0},{"$f":"SUM(AC111:AC156)","v":0},{"$f":"SUM(AD111:AD156)","v":0},{"$f":"SUM(AE111:AE156)","v":0},{"$f":"SUM(AF111:AF156)","v":0},{"$f":"SUM(AG111:AG156)","v":0},{"$f":"SUM(AH111:AH156)","v":0},{"$f":"SUM(AI111:AI156)","v":0},{"$f":"SUM(AJ111:AJ156)","v":0},{"$f":"SUM(AK111:AK156)","v":0},null,{"$f":"SUM(AM111:AM156)","v":0}]
[null,"TELEMEDICINA PROFESIONALES NO MÉDICOS"]
["0108400","Teleconsulta: Atención Integral de Nutricionista (incluye 3 sesiones)",null,{"$f":"SUM(E159+H159)","v":0},{"$f":"SUM(F159:G159)","v":0},null,null,null,null,null,null,null,null,null,null,null,null,null,null,null,null,null,null,null,null,null,null,null,null,null,null,null,null,null,null,null,null,21750,{"$f":"AL159*F159","v":0}]
[null,"TOTAL",null,{"$f":"SUM(D159)","v":0},{"$f":"SUM(E159)","v":0},0,0,0,null,null,null,null,null,null,null,null,null,null,null,null,null,null,null,null,null,null,null,{"$f":"SUM(AB159)","v":0},{"$f":"SUM(AC159)","v":0},0,0,0,0,0,0,0,0,null,0]
[null,"TELEINTERCONSULTA (TELEMEDICINA)"]
["0109001","Teleinterconsulta médica",null,{"$f":"SUM(E162+H162)","v":0},{"$f":"SUM(F162:G162)","v":0},null,null,null,null,null,null,null,null,null,null,null,null,null,null,null,null,null,null,null,null,null,null,null,null,null,null,null,null,null,null,null,null,7530,{"$f":"AL162*F162","v":0}]
["0109002","Teleinterconsulta no médica",null,0,0,null,null,null,null,null,null,null,null,null,null,null,null,null,null,null,null,null,null,null,null,null,null,null,null,null,null,null,null,null,null,null,null,6400,{"$f":"AL163*F163","v":0}]
[null,"TOTAL",null,{"$f":"SUM(D162:D163)","v":0},{"$f":"SUM(E162:E163)","v":0},{"$f":"SUM(F162:F163)","v":0},0,0,null,null,null,null,null,null,null,null,null,null,null,null,null,null,null,null,null,null,null,{"$f":"SUM(AB162:AB163)","v":0},{"$f":"SUM(AC162:AC163)","v":0},0,0,0,0,0,0,0,0,null,0]
[null,"OTRAS MISCELANEOS "]
[5099048,"Hemoglucotest instantáneo",null,{"$f":"SUM(E166+H166)","v":0},{"$f":"SUM(F166:G166)","v":0}]
[5099008,"Actividad Básica",null,0,0]
[5099009,"Actividad Terapeutica",null,0,0]
[5099010,"Evaluacion Actividad",null,0,0]
[5099011,"Evaluacion  prevocacional",null,0,0]
[5099063,"Evaluación cognitiva",null,0,0]
[5099064,"Estimulación cognitiva",null,0,0]
[5099111,"Curacion avanzada de herida",null,0,0]
["0102701","Evaluación Motriz Funcional",null,0,0]
["0102702","Evaluación cognitiva-perceptual",null,0,0]
["0102703","Evaluación independencia en actividades de la vida diaria",null,0,0]
["0102704","Evaluación barreras arquitectónicas",null,0,0]
["0102705","Evaluación puesto de trabajo",null,0,0]
["0102706","Evaluación del desarrollo Psicomotor",null,0,0]
["0102707","Reentrenamiento de las funciones cognitiva-perceptual",null,0,0]
["0102708","Reentrenamiento de las actividades de la vida diaria",null,0,0]
["0102709","Reentrenamiento laboral",null,0,0]
["01010065","Comité junta médica",null,0,0]
["01010066","Consultorías médicas de especialidades",null,0,0]
["01010067","Consultorías odontólogos",null,0,0]
["01010068","Consejerias Individual por profesional de salud",null,0,0]
["01010069","Consejerias Familiar por  profesionales de salud",null,0,0]
["01010070","Instalación de clips en lesiones sangrantes",null,0,0]
["01010071","Instalación vendaje compresivo (Coban)",null,0,0]
[null,"TOTAL",null,{"$f":"SUM(D166:D189)","v":0},{"$f":"SUM(E166:E189)","v":0},{"$f":"SUM(F166:F189)","v":0},{"$f":"SUM(G166:G189)","v":0},{"$f":"SUM(H166:H189)","v":0},null,null,null,null,null,null,null,null,null,null,null,null,null,null,null,null,null,null,null,{"$f":"SUM(AB166:AB189)","v":0},0,0,0,0,0,0,0,0,0]
[null,"TRASPLANTES"]
["01010072","Estudio receptor donante cadáver ",null,0,{"$f":"SUM(F192:G192)","v":0}]
["01010073","Estudio receptor donante vivo ",null,0,0]
["01010074","Estudio receptores corazón-pulmón ",null,0,0]
["01010075","Estudio pacientes trasplante medula ósea ",null,0,0]
["01010076","Trasplante de medula autólogo",null,0,0]
["01010077","Trasplante de medula alógeno",null,0,0]
["01010078","Trasplante medula de cordón",null,0,0]
["01010079","Trasplante medula aploidentico",null,0,0]
["01010080","Trasplante de córnea (incluye procuramiento y seguimiento por un año)",null,0,0]
["01010081","Soporte pretrasplante hepático extracorporeo por sesión ",null,0,0]
["01010082","Mantención donante cadáver (pulmón, corazón o hígado) (muerte cerebral) ",null,0,0]
[null,"TOTAL",null,{"$f":"SUM(D192:D202)","v":0},{"$f":"SUM(E192:E202)","v":0},{"$f":"SUM(F192:F202)","v":0},{"$f":"SUM(G192:G202)","v":0},{"$f":"SUM(H192:H202)","v":0},null,null,null,null,null,null,null,null,null,null,null,null,null,null,null,null,null,null,null,{"$f":"SUM(AB192:AB202)","v":0},{"$f":"SUM(AC192:AC202)","v":0},0,0,0,0,0,0,0,0]
[null,"ATENCION CERRADA "]
["0201010","Dia Cama de Hospitalización Integral Cuidados Básicos",null,0,{"$f":"SUM(F205:G205)","v":0},null,null,null,null,null,null,null,null,null,null,null,null,null,null,null,null,null,null,null,null,null,null,null,null,null,null,null,null,null,null,null,null,40370,{"$f":"AL205*F205","v":0}]
["0201110","Dia Cama de Hospitalización Integral Cuidados Medios",null,{"$f":"SUM(E206+H206)","v":0},{"$f":"SUM(F206:G206)","v":0},null,null,null,null,null,null,null,null,null,null,null,null,null,null,null,null,null,null,null,null,null,null,null,null,null,null,null,null,null,null,null,null,45450,0]
["0201301","Día Cama de Hospitalización Integral Adulto en Unidad de Tratamiento Intermedio (U.T.I)",null,0,0,null,null,null,null,null,null,null,null,null,null,null,null,null,null,null,null,null,null,null,null,null,null,null,null,null,null,null,null,null,null,null,null,84520,0]
["0201302","Día Cama de Hospitalización Integral Pediátrica en Unidad de Tratamiento Intermedio (U.T.I)",null,0,0,null,null,null,null,null,null,null,null,null,null,null,null,null,null,null,null,null,null,null,null,null,null,null,null,null,null,null,null,null,null,null,null,84520,0]
["0201303","Día Cama de Hospitalización Integral Neonatal en Unidad de Tratamiento Intermedio (U.T.I)",null,0,0,null,null,null,null,null,null,null,null,null,null,null,null,null,null,null,null,null,null,null,null,null,null,null,null,null,null,null,null,null,null,null,null,84520,0]
["0201201","Día Cama de Hospitalización Integral Adulto en Unidad de Cuidado Intensivo (U.C.I.) ",null,0,0,null,null,null,null,null,null,null,null,null,null,null,null,null,null,null,null,null,null,null,null,null,null,null,null,null,null,null,null,null,null,null,null,174970,0]
["0201202","Día Cama de Hospitalización Integral Pediátrica en Unidad de Cuidado Intensivo (U.C.I). ",null,0,0,null,null,null,null,null,null,null,null,null,null,null,null,null,null,null,null,null,null,null,null,null,null,null,null,null,null,null,null,null,null,null,null,174970,0]
["0201203","Día Cama de Hospitalización Integral Neonatal en Unidad de Cuidado Intensivo (U.C.I.)",null,0,0,null,null,null,null,null,null,null,null,null,null,null,null,null,null,null,null,null,null,null,null,null,null,null,null,null,null,null,null,null,null,null,null,174970,0]
["0201410","Día Cama de Hospitalización Integral Obstetricia ",null,0,0,null,null,null,null,null,null,null,null,null,null,null,null,null,null,null,null,null,null,null,null,null,null,null,null,null,null,null,null,null,null,null,null,40420,0]
["0201403","Día Cama de Hospitalización Integral Sala Cuna",null,0,0,null,null,null,null,null,null,null,null,null,null,null,null,null,null,null,null,null,null,null,null,null,null,null,null,null,null,null,null,null,null,null,null,8160,0]
["0201404","Día Cama de Hospitalización Integral Incubadora",null,0,0,null,null,null,null,null,null,null,null,null,null,null,null,null,null,null,null,null,null,null,null,null,null,null,null,null,null,null,null,null,null,null,null,75830,0]
["0201405","Día Cama de Hospitalización Integral Psiquiatría Cuidados Básicos",null,0,0,null,null,null,null,null,null,null,null,null,null,null,null,null,null,null,null,null,null,null,null,null,null,null,null,null,null,null,null,null,null,null,null,10360]
["0201406","Día Cama de Hospitalización Integral Psiquiatría Cuidados Medios",null,0,0,null,null,null,null,null,null,null,null,null,null,null,null,null,null,null,null,null,null,null,null,null,null,null,null,null,null,null,null,null,null,null,null,29990,{"$f":"AL217*F217","v":0}]
["0201407","Día Cama de Hospitalizacion Integral de Observación - Ambulatorio",null,0,0,null,null,null,null,null,null,null,null,null,null,null,null,null,null,null,null,null,null,null,null,null,null,null,null,null,null,null,null,null,null,null,null,8500,{"$f":"AL218*F218","v":0}]
["0201501","Dia Cama Hospitalizacion Domiciliaria Cuidados Básicos",null,0,0,null,null,null,null,null,null,null,null,null,null,null,null,null,null,null,null,null,null,null,null,null,null,null,null,null,null,null,null,null,null,null,null,39400,{"$f":"AL219*F219","v":0}]
["0201502","Dia Cama Hospitalizacion Domiciliaria Cuidados Medios ",null,0,0,null,null,null,null,null,null,null,null,null,null,null,null,null,null,null,null,null,null,null,null,null,null,null,null,null,null,null,null,null,null,null,null,60290,{"$f":"AL220*F220","v":0}]
["0201503","Dia Cama Hospitalizacion Domiciliaria Cuidados Alta Complejidad ",null,0,0,null,null,null,null,null,null,null,null,null,null,null,null,null,null,null,null,null,null,null,null,null,null,null,null,null,null,null,null,null,null,null,null,100420,{"$f":"AL221*F221","v":0}]
[null,"TOTAL",null,{"$f":"SUM(D205:D221)","v":0},{"$f":"SUM(E205:E221)","v":0},{"$f":"SUM(F205:F221)","v":0},{"$f":"SUM(G205:G221)","v":0},{"$f":"SUM(H205:H221)","v":0},null,null,null,null,null,null,null,null,null,null,null,null,null,null,null,null,null,null,null,{"$f":"SUM(AB205:AB221)","v":0},{"$f":"SUM(AC205:AC221)","v":0},0,0,0,0,0,0,0,0,null,{"$f":"SUM(AM205:AM221)","v":0}]
[null,"OTRAS  ATENCION CERRADA"]
["0203211","Día Cama Residencia Protegida",null,{"$f":"SUM(E224+H224)","v":0},{"$f":"SUM(F224:G224)","v":0}]
[null,"TOTAL ARANCEL MLE Y NO ARANCELADO",null,{"$f":"SUM(D224:D224)","v":0},{"$f":"SUM(E224:E224)","v":0},{"$f":"SUM(F224:F224)","v":0},{"$f":"SUM(G224:G224)","v":0},{"$f":"SUM(H224:H224)","v":0},null,null,null,null,null,null,null,null,null,null,null,null,null,null,null,null,null,null,null,{"$f":"SUM(AB224:AB224)","v":0},0,0,0,0,0,0,0,0,0]
[null,"TOTAL PRODUCCION",null,{"$f":"SUM(D222+D225)","v":0},{"$f":"SUM(E222+E225)","v":0},{"$f":"SUM(F222+F225)","v":0},{"$f":"SUM(G222+G225)","v":0},{"$f":"SUM(H222+H225)","v":0},null,null,null,null,null,null,null,null,null,null,null,null,null,null,null,null,null,null,null,{"$f":"SUM(AB222+AB225)","v":0},0,0,0,0,0,0,0,0,0,null,0]
["","EXAMENES DE LABORATORIO  "]
["","SANGRE, HEMATOLOGIA"]
["0301002","Acido fólico o folatos",null,0,{"$f":"SUM(F229:G229)","v":0},null,null,null,null,null,null,null,null,null,null,null,null,null,null,null,null,null,null,null,null,null,null,null,null,null,null,null,null,null,null,null,null,4470,{"$f":"AL229*F229","v":0}]
["0301003","Adenograma, mielograma, c/u",null,{"$f":"SUM(E230+H230)","v":0},{"$f":"SUM(F230:G230)","v":0},null,null,null,null,null,null,null,null,null,null,null,null,null,null,null,null,null,null,null,null,null,null,null,null,null,null,null,null,null,null,null,null,5550,0]
["0301006","Agregación plaquetaria con diferentes agonistas",null,0,0,null,null,null,null,null,null,null,null,null,null,null,null,null,null,null,null,null,null,null,null,null,null,null,null,null,null,null,null,null,null,null,null,3980,0]
["0301007","Anticoagulantes circulantes o anticoagulante lúpico",null,0,0,null,null,null,null,null,null,null,null,null,null,null,null,null,null,null,null,null,null,null,null,null,null,null,null,null,null,null,null,null,null,null,null,3980,0]
["0301008","Antitrombina III",null,0,0,null,null,null,null,null,null,null,null,null,null,null,null,null,null,null,null,null,null,null,null,null,null,null,null,null,null,null,null,null,null,null,null,3980,0]
["0301011","Coagulación, tiempo de",null,0,0,null,null,null,null,null,null,null,null,null,null,null,null,null,null,null,null,null,null,null,null,null,null,null,null,null,null,null,null,null,null,null,null,1380,0]
["0301013","Tiempo de lisis del coágulo",null,0,0,null,null,null,null,null,null,null,null,null,null,null,null,null,null,null,null,null,null,null,null,null,null,null,null,null,null,null,null,null,null,null,null,520,0]
["0301014","Prueba de antiglobulina directa",null,0,0,null,null,null,null,null,null,null,null,null,null,null,null,null,null,null,null,null,null,null,null,null,null,null,null,null,null,null,null,null,null,null,null,1090,0]
["0301017","Deshidrogenasa glucosa-6-fosfato en eritrocitos",null,0,0,null,null,null,null,null,null,null,null,null,null,null,null,null,null,null,null,null,null,null,null,null,null,null,null,null,null,null,null,null,null,null,null,4180,0]
["0301020","Tiempo de lisis de euglobulinas",null,0,0,null,null,null,null,null,null,null,null,null,null,null,null,null,null,null,null,null,null,null,null,null,null,null,null,null,null,null,null,null,null,null,null,1380,0]
["0301021","Fibrinógeno",null,0,0,null,null,null,null,null,null,null,null,null,null,null,null,null,null,null,null,null,null,null,null,null,null,null,null,null,null,null,null,null,null,null,null,1980,0]
["0301022","Test de neutralización plaquetaria",null,0,0,null,null,null,null,null,null,null,null,null,null,null,null,null,null,null,null,null,null,null,null,null,null,null,null,null,null,null,null,null,null,null,null,3980,0]
["0301024","Factor V",null,0,0,null,null,null,null,null,null,null,null,null,null,null,null,null,null,null,null,null,null,null,null,null,null,null,null,null,null,null,null,null,null,null,null,1980,0]
["0301025","Factores VII, VIII, IX, X, XI, XII, XIII, c/u",null,0,0,null,null,null,null,null,null,null,null,null,null,null,null,null,null,null,null,null,null,null,null,null,null,null,null,null,null,null,null,null,null,null,null,4180,0]
["0301026","Ferritina",null,0,0,null,null,null,null,null,null,null,null,null,null,null,null,null,null,null,null,null,null,null,null,null,null,null,null,null,null,null,null,null,null,null,null,5080,0]
["0301027","Fibrinógeno, productos de degradación del",null,0,0,null,null,null,null,null,null,null,null,null,null,null,null,null,null,null,null,null,null,null,null,null,null,null,null,null,null,null,null,null,null,null,null,4180,0]
["0301028","Fierro sérico",null,0,0,null,null,null,null,null,null,null,null,null,null,null,null,null,null,null,null,null,null,null,null,null,null,null,null,null,null,null,null,null,null,null,null,1980,0]
["0301029","Fierro, capacidad de fijación del (incluye fierro sérico)",null,0,0,null,null,null,null,null,null,null,null,null,null,null,null,null,null,null,null,null,null,null,null,null,null,null,null,null,null,null,null,null,null,null,null,4180,0]
["0301030","Fierro, cinética del (cada determinación)",null,0,0,null,null,null,null,null,null,null,null,null,null,null,null,null,null,null,null,null,null,null,null,null,null,null,null,null,null,null,null,null,null,null,null,5080,0]
["0301034","Clasificación sanguínea AB0 y RhD",null,0,0,null,null,null,null,null,null,null,null,null,null,null,null,null,null,null,null,null,null,null,null,null,null,null,null,null,null,null,null,null,null,null,null,2260,0]
["0301035","Haptoglobina cuantitativa",null,0,0,null,null,null,null,null,null,null,null,null,null,null,null,null,null,null,null,null,null,null,null,null,null,null,null,null,null,null,null,null,null,null,null,3760,0]
["0301036","Hematocrito (proc. aut.)",null,0,0,null,null,null,null,null,null,null,null,null,null,null,null,null,null,null,null,null,null,null,null,null,null,null,null,null,null,null,null,null,null,null,null,620,0]
["0301038","Hemoglobina en sangre total (proc. aut.)",null,0,0,null,null,null,null,null,null,null,null,null,null,null,null,null,null,null,null,null,null,null,null,null,null,null,null,null,null,null,null,null,null,null,null,620,0]
["0301040","Hemoglobina fetal cuantitativa en eritrocitos",null,0,0,null,null,null,null,null,null,null,null,null,null,null,null,null,null,null,null,null,null,null,null,null,null,null,null,null,null,null,null,null,null,null,null,4180,0]
["0301041","Hemoglobina glicada A1c",null,0,0,null,null,null,null,null,null,null,null,null,null,null,null,null,null,null,null,null,null,null,null,null,null,null,null,null,null,null,null,null,null,null,null,4340,0]
["0301042","Hemoglobina plasmática",null,0,0,null,null,null,null,null,null,null,null,null,null,null,null,null,null,null,null,null,null,null,null,null,null,null,null,null,null,null,null,null,null,null,null,850,0]
["0301044","Electroforesis de hemoglobina",null,0,0,null,null,null,null,null,null,null,null,null,null,null,null,null,null,null,null,null,null,null,null,null,null,null,null,null,null,null,null,null,null,null,null,4470,0]
["0301045","Hemograma (incluye recuentos de leucocitos y eritrocitos, hemoglobina, hematocrito, fórmula leucocitaria, características de los elementos figurados y velocidad de eritrosedimentación)",null,0,0,null,null,null,null,null,null,null,null,null,null,null,null,null,null,null,null,null,null,null,null,null,null,null,null,null,null,null,null,null,null,null,null,2860,0]
["0301048","Hemosiderina medular",null,0,0,null,null,null,null,null,null,null,null,null,null,null,null,null,null,null,null,null,null,null,null,null,null,null,null,null,null,null,null,null,null,null,null,850,0]
["0301049","Cuantificación de heparina",null,0,0,null,null,null,null,null,null,null,null,null,null,null,null,null,null,null,null,null,null,null,null,null,null,null,null,null,null,null,null,null,null,null,null,4180,0]
["0301051","Identificación de anticuerpos irregulares eritrocitarios",null,0,0,null,null,null,null,null,null,null,null,null,null,null,null,null,null,null,null,null,null,null,null,null,null,null,null,null,null,null,null,null,null,null,null,4180,0]
["0301054","Metahemoglobina",null,0,0,null,null,null,null,null,null,null,null,null,null,null,null,null,null,null,null,null,null,null,null,null,null,null,null,null,null,null,null,null,null,null,null,1090,0]
["0301059","Tiempo de protrombina (incluye INR, Razón Internacional Normalizada)",null,0,0,null,null,null,null,null,null,null,null,null,null,null,null,null,null,null,null,null,null,null,null,null,null,null,null,null,null,null,null,null,null,null,null,1380,{"$f":"AL261*F261","v":0}]
["0301062","Recuento de basófilos (absoluto)",null,0,0,null,null,null,null,null,null,null,null,null,null,null,null,null,null,null,null,null,null,null,null,null,null,null,null,null,null,null,null,null,null,null,null,850,0]
["0301063","Recuento de eosinófilos (absoluto)",null,0,0,null,null,null,null,null,null,null,null,null,null,null,null,null,null,null,null,null,null,null,null,null,null,null,null,null,null,null,null,null,null,null,null,850,0]
["0301064","Recuento de eritrocitos, absoluto (proc. aut.)",null,0,0,null,null,null,null,null,null,null,null,null,null,null,null,null,null,null,null,null,null,null,null,null,null,null,null,null,null,null,null,null,null,null,null,620,0]
["0301065","Recuento de leucocitos, absoluto (proc. aut.)",null,0,0,null,null,null,null,null,null,null,null,null,null,null,null,null,null,null,null,null,null,null,null,null,null,null,null,null,null,null,null,null,null,null,null,620,0]
["0301066","Recuento de linfocitos (absoluto)",null,0,0,null,null,null,null,null,null,null,null,null,null,null,null,null,null,null,null,null,null,null,null,null,null,null,null,null,null,null,null,null,null,null,null,1090,0]
["0301067","Recuento de plaquetas (absoluto)",null,0,0,null,null,null,null,null,null,null,null,null,null,null,null,null,null,null,null,null,null,null,null,null,null,null,null,null,null,null,null,null,null,null,null,1090,0]
["0301068","Recuento de reticulocitos (absoluto o porcentual)",null,0,0,null,null,null,null,null,null,null,null,null,null,null,null,null,null,null,null,null,null,null,null,null,null,null,null,null,null,null,null,null,null,null,null,850,0]
["0301069","Recuento diferencial o fórmula leucocitaria (proc. aut.)",null,0,0,null,null,null,null,null,null,null,null,null,null,null,null,null,null,null,null,null,null,null,null,null,null,null,null,null,null,null,null,null,null,null,null,1710,0]
["0301070","Resistencia globular osmótica",null,0,0,null,null,null,null,null,null,null,null,null,null,null,null,null,null,null,null,null,null,null,null,null,null,null,null,null,null,null,null,null,null,null,null,2800,0]
["0301072","Tiempo de sangría (no incluye dispositivo asociado)",null,0,0,null,null,null,null,null,null,null,null,null,null,null,null,null,null,null,null,null,null,null,null,null,null,null,null,null,null,null,null,null,null,null,null,1380,0]
["0301082","Transferrina",null,0,0,null,null,null,null,null,null,null,null,null,null,null,null,null,null,null,null,null,null,null,null,null,null,null,null,null,null,null,null,null,null,null,null,4940,0]
["0301083","Trombina, tiempo de",null,0,0,null,null,null,null,null,null,null,null,null,null,null,null,null,null,null,null,null,null,null,null,null,null,null,null,null,null,null,null,null,null,null,null,1710,0]
["0301085","Tromboplastina, tiempo parcial de (TTPA, TTPK o similares)",null,0,0,null,null,null,null,null,null,null,null,null,null,null,null,null,null,null,null,null,null,null,null,null,null,null,null,null,null,null,null,null,null,null,null,2180,0]
["0301086","Velocidad de eritrosedimentación (proc. aut.)",null,0,0,null,null,null,null,null,null,null,null,null,null,null,null,null,null,null,null,null,null,null,null,null,null,null,null,null,null,null,null,null,null,null,null,510,0]
["0301089","Factor Von Willebrand antigénico (FVW:Ag)",null,0,0,null,null,null,null,null,null,null,null,null,null,null,null,null,null,null,null,null,null,null,null,null,null,null,null,null,null,null,null,null,null,null,null,8010,0]
["0301090","Factor Von Willebrand antigénico Cofactor Ristocetina (FVW:CoRis)",null,0,0,null,null,null,null,null,null,null,null,null,null,null,null,null,null,null,null,null,null,null,null,null,null,null,null,null,null,null,null,null,null,null,null,8010,0]
["0301091","Proteína C funcional",null,0,0,null,null,null,null,null,null,null,null,null,null,null,null,null,null,null,null,null,null,null,null,null,null,null,null,null,null,null,null,null,null,null,null,27480,0]
["0301092","Proteína S",null,0,0,null,null,null,null,null,null,null,null,null,null,null,null,null,null,null,null,null,null,null,null,null,null,null,null,null,null,null,null,null,null,null,null,29930,0]
["0301093","Resistencia a la Proteína C activada ",null,0,0,null,null,null,null,null,null,null,null,null,null,null,null,null,null,null,null,null,null,null,null,null,null,null,null,null,null,null,null,null,null,null,null,19630,0]
["0301094","Estudio de la hemoglobinuria paroxística nocturna (HPN) por citometría de flujo",null,0,0,null,null,null,null,null,null,null,null,null,null,null,null,null,null,null,null,null,null,null,null,null,null,null,null,null,null,null,null,null,null,null,null,42380,0]
["0301095","Dímero-D",null,0,0,null,null,null,null,null,null,null,null,null,null,null,null,null,null,null,null,null,null,null,null,null,null,null,null,null,null,null,null,null,null,null,null,9310,0]
["0301096","Procalcitonina",null,0,0,null,null,null,null,null,null,null,null,null,null,null,null,null,null,null,null,null,null,null,null,null,null,null,null,null,null,null,null,null,null,null,null,21350,0]
["0301097","Inhibidor de factor de la coagulación",null,0,0,null,null,null,null,null,null,null,null,null,null,null,null,null,null,null,null,null,null,null,null,null,null,null,null,null,null,null,null,null,null,null,null,75970,0]
["0301098","Secreción plaquetaria con diferentes agonistas",null,0,0,null,null,null,null,null,null,null,null,null,null,null,null,null,null,null,null,null,null,null,null,null,null,null,null,null,null,null,null,null,null,null,null,74400,0]
["0301099","Tiempo de veneno de víbora de Russell diluído",null,0,0,null,null,null,null,null,null,null,null,null,null,null,null,null,null,null,null,null,null,null,null,null,null,null,null,null,null,null,null,null,null,null,null,45370,0]
["0301100","Antitrombina III antigénica",null,0,0,null,null,null,null,null,null,null,null,null,null,null,null,null,null,null,null,null,null,null,null,null,null,null,null,null,null,null,null,null,null,null,null,30350,0]
["0301101","Actividad anti-factor X activado",null,{"$f":"SUM(E288+H288)","v":0},{"$f":"SUM(F288:G288)","v":0},null,null,null,null,null,null,null,null,null,null,null,null,null,null,null,null,null,null,null,null,null,null,null,null,null,null,null,null,null,null,null,null,34120,0]
["0301102","Tiempo de tromboplastina parcial activado (TTPA) con mezcla de plasma normal",null,0,0,null,null,null,null,null,null,null,null,null,null,null,null,null,null,null,null,null,null,null,null,null,null,null,null,null,null,null,null,null,null,null,null,10100,0]
["0301103","Mioglobina",null,0,0,null,null,null,null,null,null,null,null,null,null,null,null,null,null,null,null,null,null,null,null,null,null,null,null,null,null,null,null,null,null,null,null,38220,0]
["0301104","Tromboelastografia",null,0,0,null,null,null,null,null,null,null,null,null,null,null,null,null,null,null,null,null,null,null,null,null,null,null,null,null,null,null,null,null,null,null,null,58530,0]
["0301105","Mutación JAK-2",null,0,0,null,null,null,null,null,null,null,null,null,null,null,null,null,null,null,null,null,null,null,null,null,null,null,null,null,null,null,null,null,null,null,null,102810,0]
["0301106","Hematocrito automatizado (en contador hematológico)",null,0,0,null,null,null,null,null,null,null,null,null,null,null,null,null,null,null,null,null,null,null,null,null,null,null,null,null,null,null,null,null,null,null,null,4560,{"$f":"AL293*F293","v":0}]
["0301107","Recuento de reticulocitos (absoluto o porcentual) automatizado",null,0,0,null,null,null,null,null,null,null,null,null,null,null,null,null,null,null,null,null,null,null,null,null,null,null,null,null,null,null,null,null,null,null,null,5300,0]
["0301108","Ensayo de unión a colágeno",null,0,0,null,null,null,null,null,null,null,null,null,null,null,null,null,null,null,null,null,null,null,null,null,null,null,null,null,null,null,null,null,null,null,null,40820,0]
["0301109","Multimeros del factor Von Willebrand",null,0,0,null,null,null,null,null,null,null,null,null,null,null,null,null,null,null,null,null,null,null,null,null,null,null,null,null,null,null,null,null,null,null,null,117760,0]
["0301110","Factor V Leiden",null,0,0,null,null,null,null,null,null,null,null,null,null,null,null,null,null,null,null,null,null,null,null,null,null,null,null,null,null,null,null,null,null,null,null,75440,0]
["0301111","Mutación G20210A del gen de la protrombina",null,0,0,null,null,null,null,null,null,null,null,null,null,null,null,null,null,null,null,null,null,null,null,null,null,null,null,null,null,null,null,null,null,null,null,66210,0]
["0301112","Anticuerpos antiplaquetarios",null,0,0,null,null,null,null,null,null,null,null,null,null,null,null,null,null,null,null,null,null,null,null,null,null,null,null,null,null,null,null,null,null,null,null,100750,0]
["0301113","Folato Eritrocitario",null,0,0,null,null,null,null,null,null,null,null,null,null,null,null,null,null,null,null,null,null,null,null,null,null,null,null,null,null,null,null,null,null,null,null,18830,0]
["0301114","Proteína C antigénica",null,0,0,null,null,null,null,null,null,null,null,null,null,null,null,null,null,null,null,null,null,null,null,null,null,null,null,null,null,null,null,null,null,null,null,78080,0]
["0301115","Tipificación antigénica de las plaquetas",null,{"$f":"SUM(E302+H302)","v":0},{"$f":"SUM(F302:G302)","v":0},null,null,null,null,null,null,null,null,null,null,null,null,null,null,null,null,null,null,null,null,null,null,null,null,null,null,null,null,null,null,null,null,81260,0]
["0301116","Hemoglobina Glicada, A1c, test rápido en el lugar de asistencia (incluye toma de muestra sangre capilar)",null,0,0,null,null,null,null,null,null,null,null,null,null,null,null,null,null,null,null,null,null,null,null,null,null,null,null,null,null,null,null,null,null,null,null,4340,0]
[null,"TOTAL",null,{"$f":"SUM(D229:D303)","v":0},{"$f":"SUM(E229:E303)","v":0},0,0,0,null,null,null,null,null,null,null,null,null,null,null,null,null,null,null,null,null,null,null,{"$f":"SUM(AB229:AB303)","v":0},{"$f":"SUM(AC229:AC303)","v":0},{"$f":"SUM(AD229:AD303)","v":0},{"$f":"SUM(AE229:AE303)","v":0},{"$f":"SUM(AF229:AF303)","v":0},{"$f":"SUM(AG229:AG303)","v":0},{"$f":"SUM(AH229:AH303)","v":0},{"$f":"SUM(AI229:AI303)","v":0},{"$f":"SUM(AJ229:AJ303)","v":0},{"$f":"SUM(AK229:AK303)","v":0},null,{"$f":"SUM(AM229:AM303)","v":0}]
[null,"SANGRE, EXAMENES BIOQUIMICOS  "]
["0302001","Cuerpos cetónicos en sangre",null,0,0,null,null,null,null,null,null,null,null,null,null,null,null,null,null,null,null,null,null,null,null,null,null,null,null,null,null,null,null,null,null,null,null,770,{"$f":"AL306*F306","v":0}]
["0302002","Acido cítrico",null,0,0,null,null,null,null,null,null,null,null,null,null,null,null,null,null,null,null,null,null,null,null,null,null,null,null,null,null,null,null,null,null,null,null,2170,0]
["0302004","Lactato en sangre",null,0,0,null,null,null,null,null,null,null,null,null,null,null,null,null,null,null,null,null,null,null,null,null,null,null,null,null,null,null,null,null,null,null,null,3540,0]
["0302005","Acido úrico, en sangre",null,0,0,null,null,null,null,null,null,null,null,null,null,null,null,null,null,null,null,null,null,null,null,null,null,null,null,null,null,null,null,null,null,null,null,1500,0]
["0302008","Amilasa, en sangre",null,0,0,null,null,null,null,null,null,null,null,null,null,null,null,null,null,null,null,null,null,null,null,null,null,null,null,null,null,null,null,null,null,null,null,2210,0]
["0302009","Aminoácidos, cualitativo en sangre",null,0,0,null,null,null,null,null,null,null,null,null,null,null,null,null,null,null,null,null,null,null,null,null,null,null,null,null,null,null,null,null,null,null,null,5240,0]
["0302010","Amonio",null,0,0,null,null,null,null,null,null,null,null,null,null,null,null,null,null,null,null,null,null,null,null,null,null,null,null,null,null,null,null,null,null,null,null,1980,0]
["0302070","Apolipoproteínas (A1, B u otras)",null,0,0,null,null,null,null,null,null,null,null,null,null,null,null,null,null,null,null,null,null,null,null,null,null,null,null,null,null,null,null,null,null,null,null,6120,0]
["0302011","Bicarbonato (proc. aut.)",null,0,0,null,null,null,null,null,null,null,null,null,null,null,null,null,null,null,null,null,null,null,null,null,null,null,null,null,null,null,null,null,null,null,null,620,0]
["0302012","Bilirrubina total (proc. aut.)",null,0,0,null,null,null,null,null,null,null,null,null,null,null,null,null,null,null,null,null,null,null,null,null,null,null,null,null,null,null,null,null,null,null,null,1240,0]
["0302013","Bilirrubina total y conjugada",null,0,0,null,null,null,null,null,null,null,null,null,null,null,null,null,null,null,null,null,null,null,null,null,null,null,null,null,null,null,null,null,null,null,null,1380,0]
["0302015","Calcio en sangre",null,0,0,null,null,null,null,null,null,null,null,null,null,null,null,null,null,null,null,null,null,null,null,null,null,null,null,null,null,null,null,null,null,null,null,1090,0]
["0302017","Caroteno",null,0,0,null,null,null,null,null,null,null,null,null,null,null,null,null,null,null,null,null,null,null,null,null,null,null,null,null,null,null,null,null,null,null,null,1980,0]
["0302018","Caroteno, prueba de sobrecarga de ",null,0,0,null,null,null,null,null,null,null,null,null,null,null,null,null,null,null,null,null,null,null,null,null,null,null,null,null,null,null,null,null,null,null,null,4470,0]
["0302019","Ceruloplasmina",null,0,0,null,null,null,null,null,null,null,null,null,null,null,null,null,null,null,null,null,null,null,null,null,null,null,null,null,null,null,null,null,null,null,null,3050,0]
["0302020","Cobre en sangre",null,0,0,null,null,null,null,null,null,null,null,null,null,null,null,null,null,null,null,null,null,null,null,null,null,null,null,null,null,null,null,null,null,null,null,1450,0]
["0302067","Colesterol total (proc. aut.)",null,0,0,null,null,null,null,null,null,null,null,null,null,null,null,null,null,null,null,null,null,null,null,null,null,null,null,null,null,null,null,null,null,null,null,1290,0]
["0302068","Colesterol HDL (proc. aut.)",null,0,0,null,null,null,null,null,null,null,null,null,null,null,null,null,null,null,null,null,null,null,null,null,null,null,null,null,null,null,null,null,null,null,null,1920,0]
["0302021","Colinesterasa en suero o plasma",null,0,0,null,null,null,null,null,null,null,null,null,null,null,null,null,null,null,null,null,null,null,null,null,null,null,null,null,null,null,null,null,null,null,null,2790,0]
["0302023","Creatinina en sangre",null,0,0,null,null,null,null,null,null,null,null,null,null,null,null,null,null,null,null,null,null,null,null,null,null,null,null,null,null,null,null,null,null,null,null,1260,0]
["0302024","Clearance de creatinina (proc.aut.)",null,0,0,null,null,null,null,null,null,null,null,null,null,null,null,null,null,null,null,null,null,null,null,null,null,null,null,null,null,null,null,null,null,null,null,2790,0]
["0302025","Creatinquinasa CK - MB  actividad",null,0,0,null,null,null,null,null,null,null,null,null,null,null,null,null,null,null,null,null,null,null,null,null,null,null,null,null,null,null,null,null,null,null,null,4470,0]
["0302026","Creatinquinasa CK - total",null,0,0,null,null,null,null,null,null,null,null,null,null,null,null,null,null,null,null,null,null,null,null,null,null,null,null,null,null,null,null,null,null,null,null,3410,0]
["0302027","Troponina",null,0,0,null,null,null,null,null,null,null,null,null,null,null,null,null,null,null,null,null,null,null,null,null,null,null,null,null,null,null,null,null,null,null,null,9310,0]
["0302030","Deshidrogenasa láctica total (LDH)",null,0,0,null,null,null,null,null,null,null,null,null,null,null,null,null,null,null,null,null,null,null,null,null,null,null,null,null,null,null,null,null,null,null,null,2040,0]
["0302031","Deshidrogenasa láctica total (LDH), con separación de isoenzimas",null,0,0,null,null,null,null,null,null,null,null,null,null,null,null,null,null,null,null,null,null,null,null,null,null,null,null,null,null,null,null,null,null,null,null,5550,0]
["0302032","Electrolitos plasmáticos (sodio, potasio, cloro) c/u",null,0,0,null,null,null,null,null,null,null,null,null,null,null,null,null,null,null,null,null,null,null,null,null,null,null,null,null,null,null,null,null,null,null,null,1170,0]
["0302033","Enzima convertidora de angiotensina I",null,0,0,null,null,null,null,null,null,null,null,null,null,null,null,null,null,null,null,null,null,null,null,null,null,null,null,null,null,null,null,null,null,null,null,5550,0]
["0302034","Perfil lipídico (incluye mediciones de colesterol total, HDL-colesterol y triglicéridos con estimaciones por fórmula de LDL-colesterol, VLDL-colesterol y colesterol no-HDL)",null,0,0,null,null,null,null,null,null,null,null,null,null,null,null,null,null,null,null,null,null,null,null,null,null,null,null,null,null,null,null,null,null,null,null,5910,0]
["0302035","Fármacos y/o drogas; niveles plasmáticos de (alcohol, anorexígenos, antiarrítmicos, antibióticos, antidepresivos, antiepilépticos, antihistamínicos, antiinflamatorios y analgésicos, estimulantes respiratorios, tranquilizantes mayores y menores, etc.) c/u",null,0,0,null,null,null,null,null,null,null,null,null,null,null,null,null,null,null,null,null,null,null,null,null,null,null,null,null,null,null,null,null,null,null,null,5310,0]
["0302036","Fenilalanina",null,0,0,null,null,null,null,null,null,null,null,null,null,null,null,null,null,null,null,null,null,null,null,null,null,null,null,null,null,null,null,null,null,null,null,1980,0]
["0302039","Fosfatasas alcalinas con separación de isoenzimas hepáticas, intestinales, óseas c/u",null,0,0,null,null,null,null,null,null,null,null,null,null,null,null,null,null,null,null,null,null,null,null,null,null,null,null,null,null,null,null,null,null,null,null,5400,0]
["0302040","Fosfatasas alcalinas totales",null,0,0,null,null,null,null,null,null,null,null,null,null,null,null,null,null,null,null,null,null,null,null,null,null,null,null,null,null,null,null,null,null,null,null,1270,{"$f":"AL338*F338","v":0}]
["0302042","Fósforo (fosfatos) en sangre",null,0,0,null,null,null,null,null,null,null,null,null,null,null,null,null,null,null,null,null,null,null,null,null,null,null,null,null,null,null,null,null,null,null,null,1640,0]
["0302043","Galactosa",null,0,0,null,null,null,null,null,null,null,null,null,null,null,null,null,null,null,null,null,null,null,null,null,null,null,null,null,null,null,null,null,null,null,null,620,0]
["0302045","Gamma glutamiltranspeptidasa (GGT)",null,0,0,null,null,null,null,null,null,null,null,null,null,null,null,null,null,null,null,null,null,null,null,null,null,null,null,null,null,null,null,null,null,null,null,2110,0]
["0302046","Gases y equilibrio ácido base en sangre (incluye: pH, O2, CO2, exceso de base y bicarbonato), todos o cada uno de los parámetros",null,0,0,null,null,null,null,null,null,null,null,null,null,null,null,null,null,null,null,null,null,null,null,null,null,null,null,null,null,null,null,null,null,null,null,3520,0]
["0302047","Glucosa en sangre",null,0,0,null,null,null,null,null,null,null,null,null,null,null,null,null,null,null,null,null,null,null,null,null,null,null,null,null,null,null,null,null,null,null,null,1260,0]
["0302048","Glucosa, Prueba de Tolerancia a la Glucosa Oral (PTGO), (dos determinaciones)",null,0,0,null,null,null,null,null,null,null,null,null,null,null,null,null,null,null,null,null,null,null,null,null,null,null,null,null,null,null,null,null,null,null,null,5670,0]
["0302050","Adenosindeaminasa en sangre u otro fluído biológico.",null,0,0,null,null,null,null,null,null,null,null,null,null,null,null,null,null,null,null,null,null,null,null,null,null,null,null,null,null,null,null,null,null,null,null,4180,0]
["0302052","Leucinaminopeptidasa (LAP)",null,0,0,null,null,null,null,null,null,null,null,null,null,null,null,null,null,null,null,null,null,null,null,null,null,null,null,null,null,null,null,null,null,null,null,1980,0]
["0302053","Lipasa en sangre",null,0,0,null,null,null,null,null,null,null,null,null,null,null,null,null,null,null,null,null,null,null,null,null,null,null,null,null,null,null,null,null,null,null,null,2170,0]
["0302055","Litio en sangre",null,0,0,null,null,null,null,null,null,null,null,null,null,null,null,null,null,null,null,null,null,null,null,null,null,null,null,null,null,null,null,null,null,null,null,2790,0]
["0302056","Magnesio en sangre",null,0,0,null,null,null,null,null,null,null,null,null,null,null,null,null,null,null,null,null,null,null,null,null,null,null,null,null,null,null,null,null,null,null,null,2790,0]
["0302057","Nitrógeno ureico y/o urea, en sangre",null,0,0,null,null,null,null,null,null,null,null,null,null,null,null,null,null,null,null,null,null,null,null,null,null,null,null,null,null,null,null,null,null,null,null,1260,0]
["0302058","Osmolalidad en sangre",null,0,0,null,null,null,null,null,null,null,null,null,null,null,null,null,null,null,null,null,null,null,null,null,null,null,null,null,null,null,null,null,null,null,null,1600,0]
["0302075","Perfil bioquímico (determinación automatizada de 12 parámetros)",null,0,0,null,null,null,null,null,null,null,null,null,null,null,null,null,null,null,null,null,null,null,null,null,null,null,null,null,null,null,null,null,null,null,null,8010,0]
["0302100","Proteínas totales en sangre",null,0,0,null,null,null,null,null,null,null,null,null,null,null,null,null,null,null,null,null,null,null,null,null,null,null,null,null,null,null,null,null,null,null,null,1370,0]
["0302101","Albúminas en sangre",null,0,0,null,null,null,null,null,null,null,null,null,null,null,null,null,null,null,null,null,null,null,null,null,null,null,null,null,null,null,null,null,null,null,null,1370,0]
["0302061","Proteínas, electroforesis (incluye cód. 03-02-060)",null,0,0,null,null,null,null,null,null,null,null,null,null,null,null,null,null,null,null,null,null,null,null,null,null,null,null,null,null,null,null,null,null,null,null,5800,0]
["0302076","Perfil Hepático (incluye tiempo de protrombina, bilirrubina total y conjugada, fosfatasas alcalinas totales, GGT, transaminasas GOT/AST y GPT/ALT)",null,0,0,null,null,null,null,null,null,null,null,null,null,null,null,null,null,null,null,null,null,null,null,null,null,null,null,null,null,null,null,null,null,null,null,10060,0]
["0302063","Transaminasas, oxalacética (GOT/AST), Pirúvica (GPT/ALT), c/u",null,0,0,null,null,null,null,null,null,null,null,null,null,null,null,null,null,null,null,null,null,null,null,null,null,null,null,null,null,null,null,null,null,null,null,1820,0]
["0302064","Triglicéridos en sangre (proc.aut.)",null,0,0,null,null,null,null,null,null,null,null,null,null,null,null,null,null,null,null,null,null,null,null,null,null,null,null,null,null,null,null,null,null,null,null,1650,0]
["0302066","Xilosa, prueba de absorción ",null,0,0,null,null,null,null,null,null,null,null,null,null,null,null,null,null,null,null,null,null,null,null,null,null,null,null,null,null,null,null,null,null,null,null,2950,0]
["0302077","Vitamina B12 por inmunoensayo",null,0,0,null,null,null,null,null,null,null,null,null,null,null,null,null,null,null,null,null,null,null,null,null,null,null,null,null,null,null,null,null,null,null,null,6750,0]
["0302078","25 OH Vitamina D Total por inmunoensayo (Quimioluminiscencia, Enzimoinmunoensayo, Radio inmunoensayo y otros)",null,0,0,null,null,null,null,null,null,null,null,null,null,null,null,null,null,null,null,null,null,null,null,null,null,null,null,null,null,null,null,null,null,null,null,13460,0]
["0302080","Vitamina B6 por HPLC",null,0,0,null,null,null,null,null,null,null,null,null,null,null,null,null,null,null,null,null,null,null,null,null,null,null,null,null,null,null,null,null,null,null,null,42560,0]
["0302081","Calcio iónico. Incluye medición de pH método ión selectivo. No incluye Point of Care Testing POCT",null,0,0,null,null,null,null,null,null,null,null,null,null,null,null,null,null,null,null,null,null,null,null,null,null,null,null,null,null,null,null,null,null,null,null,1930,0]
["0302082","Fenilalanina Cuantitativa en Gotas de Sangre Seca",null,0,0,null,null,null,null,null,null,null,null,null,null,null,null,null,null,null,null,null,null,null,null,null,null,null,null,null,null,null,null,null,null,null,null,7590,0]
["0302083","Carboxihemoglobina",null,0,0,null,null,null,null,null,null,null,null,null,null,null,null,null,null,null,null,null,null,null,null,null,null,null,null,null,null,null,null,null,null,null,null,18570,0]
["0302084","Plomo en sangre",null,{"$f":"SUM(E366+H366)","v":0},{"$f":"SUM(F366:G366)","v":0},null,null,null,null,null,null,null,null,null,null,null,null,null,null,null,null,null,null,null,null,null,null,null,null,null,null,null,null,null,null,null,null,60800,0]
["0302085","Prealbumina",null,0,0,null,null,null,null,null,null,null,null,null,null,null,null,null,null,null,null,null,null,null,null,null,null,null,null,null,null,null,null,null,null,null,null,29760,0]
["0302086","Homocisteína ",null,0,0,null,null,null,null,null,null,null,null,null,null,null,null,null,null,null,null,null,null,null,null,null,null,null,null,null,null,null,null,null,null,null,null,16710,0]
["0302087","Co-oximetría",null,0,0,null,null,null,null,null,null,null,null,null,null,null,null,null,null,null,null,null,null,null,null,null,null,null,null,null,null,null,null,null,null,null,null,6870,0]
["0302088","Nivel de Carnitina ",null,0,0,null,null,null,null,null,null,null,null,null,null,null,null,null,null,null,null,null,null,null,null,null,null,null,null,null,null,null,null,null,null,null,null,50990,{"$f":"AL370*F370","v":0}]
["0302089","Lipoproteina (A)",null,0,0,null,null,null,null,null,null,null,null,null,null,null,null,null,null,null,null,null,null,null,null,null,null,null,null,null,null,null,null,null,null,null,null,41870,0]
["0302090","Bilirrubina neonatal",null,0,0,null,null,null,null,null,null,null,null,null,null,null,null,null,null,null,null,null,null,null,null,null,null,null,null,null,null,null,null,null,null,null,null,2150,0]
["0302091","Colesterol LDL directo",null,0,0,null,null,null,null,null,null,null,null,null,null,null,null,null,null,null,null,null,null,null,null,null,null,null,null,null,null,null,null,null,null,null,null,47350,0]
["0302092","Creatinquinasa CK - MB masa",null,0,0,null,null,null,null,null,null,null,null,null,null,null,null,null,null,null,null,null,null,null,null,null,null,null,null,null,null,null,null,null,null,null,null,13370,0]
["0302093","Panel de glicemia (incluye glucosa basal, glucosa 2 horas post desayuno y glucosa 2 horas post almuerzo)",null,0,0,null,null,null,null,null,null,null,null,null,null,null,null,null,null,null,null,null,null,null,null,null,null,null,null,null,null,null,null,null,null,null,null,6660,0]
["0302094","CK isoenzimas",null,0,0,null,null,null,null,null,null,null,null,null,null,null,null,null,null,null,null,null,null,null,null,null,null,null,null,null,null,null,null,null,null,null,null,87460,0]
["0302095","Tiopurina metiltransferasa, actividad enzimatica",null,0,0,null,null,null,null,null,null,null,null,null,null,null,null,null,null,null,null,null,null,null,null,null,null,null,null,null,null,null,null,null,null,null,null,56780,0]
["0302096","Tirosina cuantitativa en GSS",null,0,0,null,null,null,null,null,null,null,null,null,null,null,null,null,null,null,null,null,null,null,null,null,null,null,null,null,null,null,null,null,null,null,null,24280,0]
["0302097","Hormona tiroestimulante, neonatal",null,0,0,null,null,null,null,null,null,null,null,null,null,null,null,null,null,null,null,null,null,null,null,null,null,null,null,null,null,null,null,null,null,null,null,11250,0]
["0302098","Perfil de aminoácidos y acilcarnitinas",null,0,0,null,null,null,null,null,null,null,null,null,null,null,null,null,null,null,null,null,null,null,null,null,null,null,null,null,null,null,null,null,null,null,null,81770,0]
["0302099","Pesquisa neonatal ampliada",null,0,0,null,null,null,null,null,null,null,null,null,null,null,null,null,null,null,null,null,null,null,null,null,null,null,null,null,null,null,null,null,null,null,null,96880,0]
["0302102","Leucina cualitativa en GSS",null,{"$f":"SUM(E382+H382)","v":0},{"$f":"SUM(F382:G382)","v":0},null,null,null,null,null,null,null,null,null,null,null,null,null,null,null,null,null,null,null,null,null,null,null,null,null,null,null,null,null,null,null,null,30280,0]
["0302103","Zinc en sangre",null,0,0,null,null,null,null,null,null,null,null,null,null,null,null,null,null,null,null,null,null,null,null,null,null,null,null,null,null,null,null,null,null,null,null,9920,0]
["0302104","Triptasa sérica",null,0,0,null,null,null,null,null,null,null,null,null,null,null,null,null,null,null,null,null,null,null,null,null,null,null,null,null,null,null,null,null,null,null,null,29130,0]
[null,"TOTAL",null,{"$f":"SUM(D306:D384)","v":0},{"$f":"SUM(E306:E384)","v":0},0,0,0,null,null,null,null,null,null,null,null,null,null,null,null,null,null,null,null,null,null,null,{"$f":"SUM(AB306:AB384)","v":0},{"$f":"SUM(AC306:AC384)","v":0},{"$f":"SUM(AD306:AD384)","v":0},{"$f":"SUM(AE306:AE384)","v":0},{"$f":"SUM(AF306:AF384)","v":0},{"$f":"SUM(AG306:AG384)","v":0},{"$f":"SUM(AH306:AH384)","v":0},{"$f":"SUM(AI306:AI384)","v":0},{"$f":"SUM(AJ306:AJ384)","v":0},{"$f":"SUM(AK306:AK384)","v":0},null,{"$f":"SUM(AM306:AM384)","v":0}]
[null,"HORMONAS  "]
["0303001","Adenocorticotrofina (ACTH)",null,0,0,null,null,null,null,null,null,null,null,null,null,null,null,null,null,null,null,null,null,null,null,null,null,null,null,null,null,null,null,null,null,null,null,7690,{"$f":"AL387*F387","v":0}]
["0303002","Aldosterona",null,0,0,null,null,null,null,null,null,null,null,null,null,null,null,null,null,null,null,null,null,null,null,null,null,null,null,null,null,null,null,null,null,null,null,6630,0]
["0303003","Androstenediona",null,0,0,null,null,null,null,null,null,null,null,null,null,null,null,null,null,null,null,null,null,null,null,null,null,null,null,null,null,null,null,null,null,null,null,4970,0]
["0303004","Angiotensina",null,{"$f":"SUM(E390+H390)","v":0},0,null,null,null,null,null,null,null,null,null,null,null,null,null,null,null,null,null,null,null,null,null,null,null,null,null,null,null,null,null,null,null,null,6030,0]
["0303006","Cortisol",null,0,0,null,null,null,null,null,null,null,null,null,null,null,null,null,null,null,null,null,null,null,null,null,null,null,null,null,null,null,null,null,null,null,null,4970,0]
["0303007","Crecimiento, hormona de (HGH) (somatotrofina)",null,0,0,null,null,null,null,null,null,null,null,null,null,null,null,null,null,null,null,null,null,null,null,null,null,null,null,null,null,null,null,null,null,null,null,6630,0]
["0303008","Dehidroepiandrosterona sulfato (DHEA-S)",null,0,0,null,null,null,null,null,null,null,null,null,null,null,null,null,null,null,null,null,null,null,null,null,null,null,null,null,null,null,null,null,null,null,null,6630,0]
["0303009","Eritropoyetina",null,0,0,null,null,null,null,null,null,null,null,null,null,null,null,null,null,null,null,null,null,null,null,null,null,null,null,null,null,null,null,null,null,null,null,4710,0]
["0303012","Gastrina",null,0,0,null,null,null,null,null,null,null,null,null,null,null,null,null,null,null,null,null,null,null,null,null,null,null,null,null,null,null,null,null,null,null,null,6630,0]
["0303014","Gonadotrofina coriónica, sub-unidad beta (cuantificación)",null,0,0,null,null,null,null,null,null,null,null,null,null,null,null,null,null,null,null,null,null,null,null,null,null,null,null,null,null,null,null,null,null,null,null,4930,0]
["0303015","Hormona folículo estimulante (FSH)",null,0,0,null,null,null,null,null,null,null,null,null,null,null,null,null,null,null,null,null,null,null,null,null,null,null,null,null,null,null,null,null,null,null,null,4930,0]
["0303016","Hormona luteinizante (LH)",null,0,0,null,null,null,null,null,null,null,null,null,null,null,null,null,null,null,null,null,null,null,null,null,null,null,null,null,null,null,null,null,null,null,null,4930,0]
["0303047","IGF1 o Somatomedina - C (Insuline Like Growth Factor)",null,0,0,null,null,null,null,null,null,null,null,null,null,null,null,null,null,null,null,null,null,null,null,null,null,null,null,null,null,null,null,null,null,null,null,11500,0]
["0303048","IGFBP3, IGFBP1 (Insulin Like Growth Factor Binding Proteins)  c/u",null,0,0,null,null,null,null,null,null,null,null,null,null,null,null,null,null,null,null,null,null,null,null,null,null,null,null,null,null,null,null,null,null,null,null,11500,0]
["0303017","Insulina",null,0,0,null,null,null,null,null,null,null,null,null,null,null,null,null,null,null,null,null,null,null,null,null,null,null,null,null,null,null,null,null,null,null,null,4930,0]
["0303031","Insulina, curva de (mínimo dos determinaciones)",null,0,0,null,null,null,null,null,null,null,null,null,null,null,null,null,null,null,null,null,null,null,null,null,null,null,null,null,null,null,null,null,null,null,null,13290,0]
["0303018","Parathormona, hormona Paratiroídea o PTH.",null,0,0,null,null,null,null,null,null,null,null,null,null,null,null,null,null,null,null,null,null,null,null,null,null,null,null,null,null,null,null,null,null,null,null,7540,0]
["0303019","Progesterona",null,0,0,null,null,null,null,null,null,null,null,null,null,null,null,null,null,null,null,null,null,null,null,null,null,null,null,null,null,null,null,null,null,null,null,4930,0]
["0303020","Prolactina (PRL)",null,0,0,null,null,null,null,null,null,null,null,null,null,null,null,null,null,null,null,null,null,null,null,null,null,null,null,null,null,null,null,null,null,null,null,4930,0]
["0303021","Renina",null,0,0,null,null,null,null,null,null,null,null,null,null,null,null,null,null,null,null,null,null,null,null,null,null,null,null,null,null,null,null,null,null,null,null,6630,0]
["0303046","SHBG (Sex-Hormone Binding Globulin)",null,0,0,null,null,null,null,null,null,null,null,null,null,null,null,null,null,null,null,null,null,null,null,null,null,null,null,null,null,null,null,null,null,null,null,11500,0]
["0303022","Testosterona en sangre",null,0,0,null,null,null,null,null,null,null,null,null,null,null,null,null,null,null,null,null,null,null,null,null,null,null,null,null,null,null,null,null,null,null,null,4970,0]
["0303023","Testosterona libre en sangre",null,0,0,null,null,null,null,null,null,null,null,null,null,null,null,null,null,null,null,null,null,null,null,null,null,null,null,null,null,null,null,null,null,null,null,6030,0]
["0303123","Índice androgénico (incluye Testosterona Total y SHBG)",null,0,0,null,null,null,null,null,null,null,null,null,null,null,null,null,null,null,null,null,null,null,null,null,null,null,null,null,null,null,null,null,null,null,null,12280,0]
["0303024","Tiroestimulante (TSH), hormona (adulto, niño o R.N.)",null,0,0,null,null,null,null,null,null,null,null,null,null,null,null,null,null,null,null,null,null,null,null,null,null,null,null,null,null,null,null,null,null,null,null,4310,0]
["0303025","Tiroglobulina",null,0,0,null,null,null,null,null,null,null,null,null,null,null,null,null,null,null,null,null,null,null,null,null,null,null,null,null,null,null,null,null,null,null,null,6630,0]
["0303026","Tiroxina libre (T4L)",null,0,0,null,null,null,null,null,null,null,null,null,null,null,null,null,null,null,null,null,null,null,null,null,null,null,null,null,null,null,null,null,null,null,null,4930,0]
["0303027","Tiroxina o tetrayodotironina (T4)",null,0,0,null,null,null,null,null,null,null,null,null,null,null,null,null,null,null,null,null,null,null,null,null,null,null,null,null,null,null,null,null,null,null,null,4310,0]
["0303028","Triyodotironina (T3)",null,0,0,null,null,null,null,null,null,null,null,null,null,null,null,null,null,null,null,null,null,null,null,null,null,null,null,null,null,null,null,null,null,null,null,4310,0]
["0303029","17 - Hidroxiprogesterona",null,0,0,null,null,null,null,null,null,null,null,null,null,null,null,null,null,null,null,null,null,null,null,null,null,null,null,null,null,null,null,null,null,null,null,6630,0]
["0303030","Estradiol (17-Beta)",null,0,0,null,null,null,null,null,null,null,null,null,null,null,null,null,null,null,null,null,null,null,null,null,null,null,null,null,null,null,null,null,null,null,null,4930,0]
["0303049","Catecolaminas en sangre (incluye medición de Adrenalina, Noradrenalina y Dopamina por separado por métodos cromatográficos)",null,0,0,null,null,null,null,null,null,null,null,null,null,null,null,null,null,null,null,null,null,null,null,null,null,null,null,null,null,null,null,null,null,null,null,29100,0]
["0303052","Peptido C",null,0,0,null,null,null,null,null,null,null,null,null,null,null,null,null,null,null,null,null,null,null,null,null,null,null,null,null,null,null,null,null,null,null,null,41610,0]
["0303053","Calcitonina",null,0,0,null,null,null,null,null,null,null,null,null,null,null,null,null,null,null,null,null,null,null,null,null,null,null,null,null,null,null,null,null,null,null,null,39230,0]
["0303054","Inhibina B",null,0,0,null,null,null,null,null,null,null,null,null,null,null,null,null,null,null,null,null,null,null,null,null,null,null,null,null,null,null,null,null,null,null,null,45230,0]
["0303055","NT-Pro BNP O BNP",null,0,0,null,null,null,null,null,null,null,null,null,null,null,null,null,null,null,null,null,null,null,null,null,null,null,null,null,null,null,null,null,null,null,null,46560,0]
["0303057","Triyodotironina Libre (T3 libre)",null,0,0,null,null,null,null,null,null,null,null,null,null,null,null,null,null,null,null,null,null,null,null,null,null,null,null,null,null,null,null,null,null,null,null,18080,0]
["0303058","Hormona antimulleriana",null,0,0,null,null,null,null,null,null,null,null,null,null,null,null,null,null,null,null,null,null,null,null,null,null,null,null,null,null,null,null,null,null,null,null,33830,0]
[null,"TOTAL",null,{"$f":"SUM(D387:D424)","v":0},{"$f":"SUM(E387:E424)","v":0},0,0,0,null,null,null,null,null,null,null,null,null,null,null,null,null,null,null,null,null,null,null,{"$f":"SUM(AB387:AB424)","v":0},{"$f":"SUM(AC387:AC424)","v":0},{"$f":"SUM(AD387:AD424)","v":0},{"$f":"SUM(AE387:AE424)","v":0},{"$f":"SUM(AF387:AF424)","v":0},{"$f":"SUM(AG387:AG424)","v":0},{"$f":"SUM(AH387:AH424)","v":0},{"$f":"SUM(AI387:AI424)","v":0},{"$f":"SUM(AJ387:AJ424)","v":0},{"$f":"SUM(AK387:AK424)","v":0},null,{"$f":"SUM(AM387:AM424)","v":0}]
[null,"B.- EN ORINA"]
["0303033","Angiotensina",null,0,0,null,null,null,null,null,null,null,null,null,null,null,null,null,null,null,null,null,null,null,null,null,null,null,null,null,null,null,null,null,null,null,null,6030,{"$f":"AL427*F427","v":0}]
["0303035","Cortisol libre urinario",null,0,0,null,null,null,null,null,null,null,null,null,null,null,null,null,null,null,null,null,null,null,null,null,null,null,null,null,null,null,null,null,null,null,null,5420,{"$f":"AL428*F428","v":0}]
["0303039","Gonadotrofina coriónica, sub-unidad Beta; titulación por (Elisa; RIA o IRMA; Quimioluminiscencia u otra técnica)",null,0,0,null,null,null,null,null,null,null,null,null,null,null,null,null,null,null,null,null,null,null,null,null,null,null,null,null,null,null,null,null,null,null,null,4970,{"$f":"AL429*F429","v":0}]
["0303050","Metanefrinas urinarias (incluye determinación de Metanefrina y Normetanefrina por separado por métodos cromatográficos)",null,0,0,null,null,null,null,null,null,null,null,null,null,null,null,null,null,null,null,null,null,null,null,null,null,null,null,null,null,null,null,null,null,null,null,32920,{"$f":"AL430*F430","v":0}]
["0303051","Catecolaminas urinarias (incluye medición de Adrenalina, Noradrenalina y Dopamina por separado por métodos cromatográficos)",null,0,0,null,null,null,null,null,null,null,null,null,null,null,null,null,null,null,null,null,null,null,null,null,null,null,null,null,null,null,null,null,null,null,null,29100,{"$f":"AL431*F431","v":0}]
[null,"TOTAL",null,{"$f":"SUM(D427:D431)","v":0},{"$f":"SUM(E427:E431)","v":0},0,0,0,null,null,null,null,null,null,null,null,null,null,null,null,null,null,null,null,null,null,null,{"$f":"SUM(AB427:AB431)","v":0},0,0,0,0,0,0,0,0,0,null,0]
[null,"C.- OTRAS MUESTRAS"]
["0303056","Cortisol salival",null,0,0,null,null,null,null,null,null,null,null,null,null,null,null,null,null,null,null,null,null,null,null,null,null,null,null,null,null,null,null,null,null,null,null,57470,{"$f":"AL434*F434","v":0}]
[null,"TOTAL",null,{"$f":"+D434","v":0},{"$f":"+E434","v":0},0,0,0,null,null,null,null,null,null,null,null,null,null,null,null,null,null,null,null,null,null,null,{"$f":"+AB434","v":0},{"$f":"+AC434","v":0},{"$f":"+AD434","v":0},{"$f":"+AE434","v":0},{"$f":"+AF434","v":0},{"$f":"+AG434","v":0},{"$f":"+AH434","v":0},{"$f":"+AI434","v":0},{"$f":"+AJ434","v":0},{"$f":"+AK434","v":0},null,{"$f":"+AM434","v":0}]
[null,"GENETICA  "]
["0304001","Cariotipo en sangre por cultivo de linfocitos (incluye mínimo 25 mitosis con bandeo G y eventualmente Q, R, C, NOR) (montaje de 3 metafases bandeadas)",null,0,0,null,null,null,null,null,null,null,null,null,null,null,null,null,null,null,null,null,null,null,null,null,null,null,null,null,null,null,null,null,null,null,null,43530,{"$f":"AL437*F437","v":0}]
["0304002","Cariotipo con técnicas especiales (incluye muestra de sangre o de médula ósea, tratamiento con FUDR, bromuro de etidio, medio deficiente en ácido fólico)",null,0,0,null,null,null,null,null,null,null,null,null,null,null,null,null,null,null,null,null,null,null,null,null,null,null,null,null,null,null,null,null,null,null,null,46550,0]
["0304003","Cariotipo en fibroblastos por cultivo de trofoblasto, líquido amniótico, piel u otros bandeos G y eventualmente Q, R, C, NOR",null,0,0,null,null,null,null,null,null,null,null,null,null,null,null,null,null,null,null,null,null,null,null,null,null,null,null,null,null,null,null,null,null,null,null,46550,0]
["0304006","FISH Cromosomas X e Y",null,0,0,null,null,null,null,null,null,null,null,null,null,null,null,null,null,null,null,null,null,null,null,null,null,null,null,null,null,null,null,null,null,null,null,61830,0]
["0304007","Diagnóstico Genético Molecular: Displasia Tanatofórica tipo I y II",null,0,0,null,null,null,null,null,null,null,null,null,null,null,null,null,null,null,null,null,null,null,null,null,null,null,null,null,null,null,null,null,null,null,null,35300,0]
["0304008","Amplificación por PCR más análisis de fragmentos fluorescentes por electroforesis capilar (hasta 5 fragmentos) ",null,0,0,null,null,null,null,null,null,null,null,null,null,null,null,null,null,null,null,null,null,null,null,null,null,null,null,null,null,null,null,null,null,null,null,195400,0]
["0304009","Estudio de deleciones y duplicaciones por amplificación múltiple de sondas dependiente de ligación (MLPA)  (1 o varios genes) ",null,0,0,null,null,null,null,null,null,null,null,null,null,null,null,null,null,null,null,null,null,null,null,null,null,null,null,null,null,null,null,null,null,null,null,99030,0]
["0304010","Estudio de deleciones y duplicaciones por amplificación múltiple de sondas dependiente de ligación (MLPA) más estudio de metilación o segundo set de sondas  (1 o varios genes)",null,0,0,null,null,null,null,null,null,null,null,null,null,null,null,null,null,null,null,null,null,null,null,null,null,null,null,null,null,null,null,null,null,null,null,116990,0]
["0304012","Amplificación por PCR en tiempo real cuantitativo con sonda",null,0,0,null,null,null,null,null,null,null,null,null,null,null,null,null,null,null,null,null,null,null,null,null,null,null,null,null,null,null,null,null,null,null,null,180850,0]
["0304013","Amplificación de ADN por PCR convencional de 1 fragmento",null,0,0,null,null,null,null,null,null,null,null,null,null,null,null,null,null,null,null,null,null,null,null,null,null,null,null,null,null,null,null,null,null,null,null,135040,0]
["0304014","Amplificación por PCR más análisis por restricción enzimática",null,0,0,null,null,null,null,null,null,null,null,null,null,null,null,null,null,null,null,null,null,null,null,null,null,null,null,null,null,null,null,null,null,null,null,122420,0]
["0304015","FISH en frotis frescos de médula ósea, sangre, concentrado de células plasmáticas seleccionadas, búsqueda de alteraciones adquiridas",null,{"$f":"SUM(E448+H448)","v":0},{"$f":"SUM(F448:G448)","v":0},null,null,null,null,null,null,null,null,null,null,null,null,null,null,null,null,null,null,null,null,null,null,null,null,null,null,null,null,null,null,null,null,183180,0]
["0304016","Cariotipo molecular (Hibridación Genómica Comparativa en Micromatrices) 60K",null,0,0,null,null,null,null,null,null,null,null,null,null,null,null,null,null,null,null,null,null,null,null,null,null,null,null,null,null,null,null,null,null,null,null,717230,0]
[null,"TOTAL",null,{"$f":"SUM(D437:D447)","v":0},{"$f":"SUM(E437:E447)","v":0},{"$f":"SUM(F437:F447)","v":0},{"$f":"SUM(G437:G447)","v":0},{"$f":"SUM(H437:H447)","v":0},null,null,null,null,null,null,null,null,null,null,null,null,null,null,null,null,null,null,null,{"$f":"SUM(AB437:AB447)","v":0},0,0,0,0,0,0,0,0,0,null,0]
[null,"INMUNOLOGIA                            "]
[null,"A.- INMUNOQUIMICA"]
["0305001","Alfa -1- antitripsina cuantitativa",null,0,0,null,null,null,null,null,null,null,null,null,null,null,null,null,null,null,null,null,null,null,null,null,null,null,null,null,null,null,null,null,null,null,null,4970,{"$f":"AL453*F453","v":0}]
["0305002","Alfa -2- macroglobulina",null,0,0,null,null,null,null,null,null,null,null,null,null,null,null,null,null,null,null,null,null,null,null,null,null,null,null,null,null,null,null,null,null,null,null,4820,0]
["0305003","Alfa fetoproteínas",null,0,0,null,null,null,null,null,null,null,null,null,null,null,null,null,null,null,null,null,null,null,null,null,null,null,null,null,null,null,null,null,null,null,null,4930,0]
["0305004","Tamizaje de Anticuerpos anti antígenos nucleares extractables (a- ENA: Sm, RNP, Ro, La, Scl- 70 y Jo- 1)",null,{"$f":"SUM(E456+H456)","v":0},{"$f":"SUM(F456:G456)","v":0},null,null,null,null,null,null,null,null,null,null,null,null,null,null,null,null,null,null,null,null,null,null,null,null,null,null,null,null,null,null,null,null,9870,0]
["0305005","Anticuerpos antinucleares (ANA), antimitocondriales, anti DNA (ADNA), anti músculo liso, anticentrómero, u otros, c/u.",null,0,0,null,null,null,null,null,null,null,null,null,null,null,null,null,null,null,null,null,null,null,null,null,null,null,null,null,null,null,null,null,null,null,null,6770,0]
["0305007","Anticuerpos específicos y otros autoanticuerpos (anticuerpos antitiroídeos: anticuerpos antimicrosomales y antitiroglobulinas y otros anticuerpos: prostático, espermios, etc.) c/u",null,0,0,null,null,null,null,null,null,null,null,null,null,null,null,null,null,null,null,null,null,null,null,null,null,null,null,null,null,null,null,null,null,null,null,5470,0]
["0305008","Antiestreptolisina O, por técnica de látex ",null,0,0,null,null,null,null,null,null,null,null,null,null,null,null,null,null,null,null,null,null,null,null,null,null,null,null,null,null,null,null,null,null,null,null,4340,0]
["0305009","Antígeno carcinoembrionario (CEA)",null,0,0,null,null,null,null,null,null,null,null,null,null,null,null,null,null,null,null,null,null,null,null,null,null,null,null,null,null,null,null,null,null,null,null,6640,0]
["0305070","Antígeno prostático específico",null,0,0,null,null,null,null,null,null,null,null,null,null,null,null,null,null,null,null,null,null,null,null,null,null,null,null,null,null,null,null,null,null,null,null,8790,0]
["0305170","Antígeno Ca 125, Ca 15-3 y Ca 19-9, c/u",null,0,0,null,null,null,null,null,null,null,null,null,null,null,null,null,null,null,null,null,null,null,null,null,null,null,null,null,null,null,null,null,null,null,null,8790,0]
["0305010","Beta-2-microglobulina",null,0,0,null,null,null,null,null,null,null,null,null,null,null,null,null,null,null,null,null,null,null,null,null,null,null,null,null,null,null,null,null,null,null,null,6640,0]
["0305012","Complemento C1Q, C2, C3, C4, etc., c/u",null,0,0,null,null,null,null,null,null,null,null,null,null,null,null,null,null,null,null,null,null,null,null,null,null,null,null,null,null,null,null,null,null,null,null,4340,0]
["0305013","Complemento hemolítico (CH 50)",null,0,0,null,null,null,null,null,null,null,null,null,null,null,null,null,null,null,null,null,null,null,null,null,null,null,null,null,null,null,null,null,null,null,null,5470,0]
["0305014","Crioglobulinas, precipitación en frío (cualitativa) o cuantitativa c/u",null,0,0,null,null,null,null,null,null,null,null,null,null,null,null,null,null,null,null,null,null,null,null,null,null,null,null,null,null,null,null,null,null,null,null,1040,0]
["0305019","Factor reumatoídeo por técnica de látex u otras similares",null,0,0,null,null,null,null,null,null,null,null,null,null,null,null,null,null,null,null,null,null,null,null,null,null,null,null,null,null,null,null,null,null,null,null,2520,0]
["0305020","Factor reumatoídeo por técnica de Scat, Waaler Rose, nefelométricas y/o turbidimétricas",null,0,0,null,null,null,null,null,null,null,null,null,null,null,null,null,null,null,null,null,null,null,null,null,null,null,null,null,null,null,null,null,null,null,null,4480,0]
["0305021","Inhibidor de C1Q, C2 y C3, c/u",null,0,0,null,null,null,null,null,null,null,null,null,null,null,null,null,null,null,null,null,null,null,null,null,null,null,null,null,null,null,null,null,null,null,null,4340,0]
["0305025","Inmunofijación de inmunoglobulina, c/u",null,0,0,null,null,null,null,null,null,null,null,null,null,null,null,null,null,null,null,null,null,null,null,null,null,null,null,null,null,null,null,null,null,null,null,7540,0]
["0305026","Inmunoglobulina IgA secretora",null,0,0,null,null,null,null,null,null,null,null,null,null,null,null,null,null,null,null,null,null,null,null,null,null,null,null,null,null,null,null,null,null,null,null,4250,0]
["0305027","Inmunoglobulinas IgA, IgG, IgM, c/u",null,0,0,null,null,null,null,null,null,null,null,null,null,null,null,null,null,null,null,null,null,null,null,null,null,null,null,null,null,null,null,null,null,null,null,4340,0]
["0305028","Inmunoglobulinas IgE, IgD total, c/u",null,0,0,null,null,null,null,null,null,null,null,null,null,null,null,null,null,null,null,null,null,null,null,null,null,null,null,null,null,null,null,null,null,null,null,4970,0]
["0305029","Inmunoglobulinas IgE, IgG específicas, c/u",null,0,0,null,null,null,null,null,null,null,null,null,null,null,null,null,null,null,null,null,null,null,null,null,null,null,null,null,null,null,null,null,null,null,null,4970,0]
["0305030","Proteína C reactiva por técnica de látex u otras similares",null,0,0,null,null,null,null,null,null,null,null,null,null,null,null,null,null,null,null,null,null,null,null,null,null,null,null,null,null,null,null,null,null,null,null,4200,0]
["0305031","Proteína C reactiva por técnicas automatizadas",null,0,0,null,null,null,null,null,null,null,null,null,null,null,null,null,null,null,null,null,null,null,null,null,null,null,null,null,null,null,null,null,null,null,null,5790,0]
["0305181","Anticuerpos antitransglutaminasa (TTG)",null,0,0,null,null,null,null,null,null,null,null,null,null,null,null,null,null,null,null,null,null,null,null,null,null,null,null,null,null,null,null,null,null,null,null,10760,0]
["0305081","Anticuerpo antiendomisio (EMA, antimembrana basal glomerular (GBM), antireticulina, por IFI c/u.",null,0,0,null,null,null,null,null,null,null,null,null,null,null,null,null,null,null,null,null,null,null,null,null,null,null,null,null,null,null,null,null,null,null,null,10040,0]
["0305082","Anticuerpos anticitoplasma de neutrófilos (ANCA), C-ANCA y P-ANCA, por IFI",null,0,0,null,null,null,null,null,null,null,null,null,null,null,null,null,null,null,null,null,null,null,null,null,null,null,null,null,null,null,null,null,null,null,null,14950,0]
["0305083","Determinación de isotipos de anticuerpos anticitoplasma de neutrófilos (G-M-A-C'3), por IFI, c/u.",null,0,0,null,null,null,null,null,null,null,null,null,null,null,null,null,null,null,null,null,null,null,null,null,null,null,null,null,null,null,null,null,null,null,null,6340,0]
["0305084","Anticuerpos anticardiolipinas (IgG, IgM), c/u",null,0,0,null,null,null,null,null,null,null,null,null,null,null,null,null,null,null,null,null,null,null,null,null,null,null,null,null,null,null,null,null,null,null,null,11410,0]
["0305085","Anticuerpos anti LKM-1",null,0,0,null,null,null,null,null,null,null,null,null,null,null,null,null,null,null,null,null,null,null,null,null,null,null,null,null,null,null,null,null,null,null,null,19000,0]
["0305086","Anticuerpos contra péptidos deaminados de gliadina IgG e IgA",null,0,0,null,null,null,null,null,null,null,null,null,null,null,null,null,null,null,null,null,null,null,null,null,null,null,null,null,null,null,null,null,null,null,null,10040,0]
["0305098","Cromogranina A",null,{"$f":"SUM(E484+H484)","v":0},{"$f":"SUM(F484:G484)","v":0},null,null,null,null,null,null,null,null,null,null,null,null,null,null,null,null,null,null,null,null,null,null,null,null,null,null,null,null,null,null,null,null,41890,0]
["0305099","Péptido Cíclico Citrulinado, anticuerpos IgG",null,0,0,null,null,null,null,null,null,null,null,null,null,null,null,null,null,null,null,null,null,null,null,null,null,null,null,null,null,null,null,null,null,null,null,29340,0]
["0305100","Proteina C ultrasensible",null,0,0,null,null,null,null,null,null,null,null,null,null,null,null,null,null,null,null,null,null,null,null,null,null,null,null,null,null,null,null,null,null,null,null,6580,0]
["0305101","Anticuerpos anti-saccharomyces cerevisiae (ASCA) IGA e IGG, c/u",null,0,0,null,null,null,null,null,null,null,null,null,null,null,null,null,null,null,null,null,null,null,null,null,null,null,null,null,null,null,null,null,null,null,null,8650,0]
["0305104","Antígeno prostático total y libre ",null,0,0,null,null,null,null,null,null,null,null,null,null,null,null,null,null,null,null,null,null,null,null,null,null,null,null,null,null,null,null,null,null,null,null,20590,0]
["0305105","Anticuerpos anti-Beta 2 glicoproteina 1 (IgG, IgM), c/u",null,0,0,null,null,null,null,null,null,null,null,null,null,null,null,null,null,null,null,null,null,null,null,null,null,null,null,null,null,null,null,null,null,null,null,36890,0]
["0305106","Estudio inmunológico de diabetes (determinación de anticuerpos anti células de islotes (ICA), auto anticuerpo insulina nativa (IAA), anti antígeno de insulinoma-2 (IA2) y anti glutamato descarboxilasa (GADA)",null,0,0,null,null,null,null,null,null,null,null,null,null,null,null,null,null,null,null,null,null,null,null,null,null,null,null,null,null,null,null,null,null,null,null,76380,0]
["0305107","Anticuerpos anti-MPO (mieloperoxidasa)",null,0,0,null,null,null,null,null,null,null,null,null,null,null,null,null,null,null,null,null,null,null,null,null,null,null,null,null,null,null,null,null,null,null,null,22570,0]
["0305108","Anticuerpos anti antígenos nucleares extractables (A-ENA): SM, RNP, SS-A/RO, SS-B/LA, SCL-70, JO-1). c/u",null,0,0,null,null,null,null,null,null,null,null,null,null,null,null,null,null,null,null,null,null,null,null,null,null,null,null,null,null,null,null,null,null,null,null,15660,0]
["0305109","Anticuerpos anti-PR3 (proteasa 3)",null,0,0,null,null,null,null,null,null,null,null,null,null,null,null,null,null,null,null,null,null,null,null,null,null,null,null,null,null,null,null,null,null,null,null,30520,0]
["0305124","Receptor de tirotropina (TRAb), anticuerpos anti",null,0,0,null,null,null,null,null,null,null,null,null,null,null,null,null,null,null,null,null,null,null,null,null,null,null,null,null,null,null,null,null,null,null,null,32260,0]
["0305125","CTX sérico",null,0,0,null,null,null,null,null,null,null,null,null,null,null,null,null,null,null,null,null,null,null,null,null,null,null,null,null,null,null,null,null,null,null,null,37150,0]
["0305126","Subclases de IgG (1,2,3,4)",null,0,0,null,null,null,null,null,null,null,null,null,null,null,null,null,null,null,null,null,null,null,null,null,null,null,null,null,null,null,null,null,null,null,null,81350,0]
[null,"TOTAL",null,{"$f":"SUM(D453:D496)","v":0},{"$f":"SUM(E453:E496)","v":0},0,0,0,null,null,null,null,null,null,null,null,null,null,null,null,null,null,null,null,null,null,null,{"$f":"SUM(AB453:AB496)","v":0},{"$f":"SUM(AC453:AC496)","v":0},{"$f":"SUM(AD453:AD496)","v":0},{"$f":"SUM(AE453:AE496)","v":0},{"$f":"SUM(AF453:AF496)","v":0},{"$f":"SUM(AG453:AG496)","v":0},{"$f":"SUM(AH453:AH496)","v":0},{"$f":"SUM(AI453:AI496)","v":0},{"$f":"SUM(AJ453:AJ496)","v":0},{"$f":"SUM(AK453:AK496)","v":0},null,{"$f":"SUM(AM453:AM496)","v":0}]
[null,"B.- INMUNOCELULARES"]
["0305035","Detección, identificación y titulación de crioaglutininas",null,0,0,null,null,null,null,null,null,null,null,null,null,null,null,null,null,null,null,null,null,null,null,null,null,null,null,null,null,null,null,null,null,null,null,2170,{"$f":"AL499*F499","v":0}]
["0305036","Criohemolisinas",null,0,0,null,null,null,null,null,null,null,null,null,null,null,null,null,null,null,null,null,null,null,null,null,null,null,null,null,null,null,null,null,null,null,null,2170,0]
["0305037","Digestión fagocítica nitroblue-tetrazolium cualitativo y cuantitativo",null,0,0,null,null,null,null,null,null,null,null,null,null,null,null,null,null,null,null,null,null,null,null,null,null,null,null,null,null,null,null,null,null,null,null,5550,0]
["0305038","Fagocitosis: ingestión y digestión (killing) de levaduras por polimorfonucleares",null,0,0,null,null,null,null,null,null,null,null,null,null,null,null,null,null,null,null,null,null,null,null,null,null,null,null,null,null,null,null,null,null,null,null,11400,0]
["0305039","Fagocitosis: ingestión y digestión (killing) de bacterias por polimorfonucleares",null,0,0,null,null,null,null,null,null,null,null,null,null,null,null,null,null,null,null,null,null,null,null,null,null,null,null,null,null,null,null,null,null,null,null,11400,0]
["0305040","Inmunoadherencia de leucocitos macrófagos",null,0,0,null,null,null,null,null,null,null,null,null,null,null,null,null,null,null,null,null,null,null,null,null,null,null,null,null,null,null,null,null,null,null,null,4470,0]
["0305041","Intradermorreacción (PPD, histoplasmina, aspergilina, u otros, incluye el valor del antígeno y reacción de control), c/u. ",null,0,0,null,null,null,null,null,null,null,null,null,null,null,null,null,null,null,null,null,null,null,null,null,null,null,null,null,null,null,null,null,null,null,null,4470,0]
["0305042","LIF o MIF",null,0,0,null,null,null,null,null,null,null,null,null,null,null,null,null,null,null,null,null,null,null,null,null,null,null,null,null,null,null,null,null,null,null,null,5550,0]
["0305044","Linfocitos B (rosetas EAC) y linfocitos T (rosetas E) c/u",null,0,0,null,null,null,null,null,null,null,null,null,null,null,null,null,null,null,null,null,null,null,null,null,null,null,null,null,null,null,null,null,null,null,null,5080,0]
["0305047","Linfotoxinas humanas, detección de",null,0,0,null,null,null,null,null,null,null,null,null,null,null,null,null,null,null,null,null,null,null,null,null,null,null,null,null,null,null,null,null,null,null,null,7660,0]
["0305049","Transformación linfoblástica a drogas, análisis de transformación espontánea con estímulo inespecífico y con diferentes concentraciones de la droga en 1000 células",null,0,0,null,null,null,null,null,null,null,null,null,null,null,null,null,null,null,null,null,null,null,null,null,null,null,null,null,null,null,null,null,null,null,null,22220,0]
["0305089","Linfocitos B totales (CD19). Técnica Citometría de Flujo",null,0,0,null,null,null,null,null,null,null,null,null,null,null,null,null,null,null,null,null,null,null,null,null,null,null,null,null,null,null,null,null,null,null,null,40460,0]
["0305091","Linfocitos T (CD3, CD4, CD8). Técnica Citometría de Flujo",null,0,0,null,null,null,null,null,null,null,null,null,null,null,null,null,null,null,null,null,null,null,null,null,null,null,null,null,null,null,null,null,null,null,null,23740,0]
["0305092","Natural Killers (CD16, CD 56). Técnica Citometría de Flujo",null,0,0,null,null,null,null,null,null,null,null,null,null,null,null,null,null,null,null,null,null,null,null,null,null,null,null,null,null,null,null,null,null,null,null,23740,0]
["0305080","Estudio para hipersensibilidad retardada",null,{"$f":"SUM(E513+H513)","v":0},{"$f":"SUM(F513:G513)","v":0},null,null,null,null,null,null,null,null,null,null,null,null,null,null,null,null,null,null,null,null,null,null,null,null,null,null,null,null,null,null,null,null,19000]
["0305093","Inmunofenotipo en Leucemias Agudas ",null,0,0,null,null,null,null,null,null,null,null,null,null,null,null,null,null,null,null,null,null,null,null,null,null,null,null,null,null,null,null,null,null,null,null,314450,{"$f":"AL514*F514","v":0}]
["0305094","Inmunofenotipo en Síndrome Linfoproliferativos",null,0,0,null,null,null,null,null,null,null,null,null,null,null,null,null,null,null,null,null,null,null,null,null,null,null,null,null,null,null,null,null,null,null,null,268020,{"$f":"AL515*F515","v":0}]
["0305095","Inmunofenotipo en Síndrome Mielodisplásicos",null,0,0,null,null,null,null,null,null,null,null,null,null,null,null,null,null,null,null,null,null,null,null,null,null,null,null,null,null,null,null,null,null,null,null,272900,{"$f":"AL516*F516","v":0}]
["0305096","Detección de Enfermedad Residual Mínima ",null,0,0,null,null,null,null,null,null,null,null,null,null,null,null,null,null,null,null,null,null,null,null,null,null,null,null,null,null,null,null,null,null,null,null,173290,{"$f":"AL517*F517","v":0}]
["0305097","Cuantificación de células progenitoras hematopoyéticas CD 34",null,0,0,null,null,null,null,null,null,null,null,null,null,null,null,null,null,null,null,null,null,null,null,null,null,null,null,null,null,null,null,null,null,null,null,74300,{"$f":"AL518*F518","v":0}]
[null,"TOTAL",null,{"$f":"SUM(D499:D518)","v":0},{"$f":"SUM(E499:E518)","v":0},0,{"$f":"SUM(G499:G518)","v":0},0,null,null,null,null,null,null,null,null,null,null,null,null,null,null,null,null,null,null,null,{"$f":"SUM(AB499:AB518)","v":0},{"$f":"SUM(AC499:AC518)","v":0},{"$f":"SUM(AD499:AD518)","v":0},0,0,0,0,0,0,0,null,0]
[null,"C.- HISTOCOMPATIBILIDAD"]
["0305110","Alocross Match Linfocitos T y Linfocitos B (Citometría De Flujo)",null,0,0,null,null,null,null,null,null,null,null,null,null,null,null,null,null,null,null,null,null,null,null,null,null,null,null,null,null,null,null,null,null,null,null,264750,{"$f":"AL521*F521","v":0}]
["0305111","Anticuerpo Anti HLA Clase I y II Screening (Luminex)",null,{"$f":"SUM(E522+H522)","v":0},{"$f":"SUM(F522:G522)","v":0},null,null,null,null,null,null,null,null,null,null,null,null,null,null,null,null,null,null,null,null,null,null,null,null,null,null,null,null,null,null,null,null,59130,0]
["0305112","Autocrossmatch Linfocitos T y B   (Citometría De Flujo )",null,0,0,null,null,null,null,null,null,null,null,null,null,null,null,null,null,null,null,null,null,null,null,null,null,null,null,null,null,null,null,null,null,null,null,264750,0]
["0305113","Especificidad De Anticuerpos HLA  Con Antígenos Individuales Clase I  (Luminex)",null,0,0,null,null,null,null,null,null,null,null,null,null,null,null,null,null,null,null,null,null,null,null,null,null,null,null,null,null,null,null,null,null,null,null,224740,0]
["0305114","Especificidad De Anticuerpos HLA  Con Antígenos Individuales Clase II (Luminex)",null,0,0,null,null,null,null,null,null,null,null,null,null,null,null,null,null,null,null,null,null,null,null,null,null,null,null,null,null,null,null,null,null,null,null,264750,0]
["0305115","Estudio Receptor Trasplantado Con Donante Cadáver",null,0,0,null,null,null,null,null,null,null,null,null,null,null,null,null,null,null,null,null,null,null,null,null,null,null,null,null,null,null,null,null,null,null,null,425890,0]
["0305116","HLA-AB Tipificación (Biología Molecular)",null,0,0,null,null,null,null,null,null,null,null,null,null,null,null,null,null,null,null,null,null,null,null,null,null,null,null,null,null,null,null,null,null,null,null,147960,0]
["0305117","HLA-ABDR Tipificación  (Biología Molecular)",null,0,0,null,null,null,null,null,null,null,null,null,null,null,null,null,null,null,null,null,null,null,null,null,null,null,null,null,null,null,null,null,null,null,null,264750,0]
["0305118","HLA-B27 Tipificación (Biología Molecular)",null,0,0,null,null,null,null,null,null,null,null,null,null,null,null,null,null,null,null,null,null,null,null,null,null,null,null,null,null,null,null,null,null,null,null,83590,0]
["0305119","HLA-C Tipificación  (Biología Molecular)",null,0,0,null,null,null,null,null,null,null,null,null,null,null,null,null,null,null,null,null,null,null,null,null,null,null,null,null,null,null,null,null,null,null,null,97190,0]
["0305120","HLA-DP Tipificación  (Biología  Molecular)",null,0,0,null,null,null,null,null,null,null,null,null,null,null,null,null,null,null,null,null,null,null,null,null,null,null,null,null,null,null,null,null,null,null,null,97190,0]
["0305121","HLA-DQ Tipificación (Biología Molecular)",null,0,0,null,null,null,null,null,null,null,null,null,null,null,null,null,null,null,null,null,null,null,null,null,null,null,null,null,null,null,null,null,null,null,null,147960,0]
["0305122","HLA-DR Tipificación  (Biología Molecular)",null,0,0,null,null,null,null,null,null,null,null,null,null,null,null,null,null,null,null,null,null,null,null,null,null,null,null,null,null,null,null,null,null,null,null,97190,0]
["0305123","Seroteca  Mensual y Mantención en Lista De Espera",null,0,0,null,null,null,null,null,null,null,null,null,null,null,null,null,null,null,null,null,null,null,null,null,null,null,null,null,null,null,null,null,null,null,null,22730,0]
[null,"TOTAL",null,{"$f":"SUM(D521:D534)","v":0},{"$f":"SUM(E521:E534)","v":0},0,0,0,null,null,null,null,null,null,null,null,null,null,null,null,null,null,null,null,null,null,null,{"$f":"SUM(AB521:AB534)","v":0},{"$f":"SUM(AC521:AC534)","v":0},{"$f":"SUM(AD521:AD534)","v":0},{"$f":"SUM(AE521:AE534)","v":0},{"$f":"SUM(AF521:AF534)","v":0},{"$f":"SUM(AG521:AG534)","v":0},{"$f":"SUM(AH521:AH534)","v":0},{"$f":"SUM(AI521:AI534)","v":0},{"$f":"SUM(AJ521:AJ534)","v":0},{"$f":"SUM(AK521:AK534)","v":0},null,{"$f":"SUM(AM521:AM534)","v":0}]
[null,"EXAMENES MICROBIOLOGICOS                                                             "]
[null,"A.-      BACTERIAS Y HONGOS"]
[null,"A.1      EXAMENES MICROSCOPICOS"]
["0306001","Baciloscopía por método de concentración",null,{"$f":"SUM(E539+H539)","v":0},{"$f":"SUM(F539:G539)","v":0},null,null,null,null,null,null,null,null,null,null,null,null,null,null,null,null,null,null,null,null,null,null,null,null,null,null,null,null,null,null,null,null,2350,{"$f":"AL539*F539","v":0}]
["0306002","Baciloscopía Ziehl-Neelsen, c/u",null,0,0,null,null,null,null,null,null,null,null,null,null,null,null,null,null,null,null,null,null,null,null,null,null,null,null,null,null,null,null,null,null,null,null,1590,0]
["0306004","Examen directo al fresco, c/s tinción (incluye trichomonas)",null,0,0,null,null,null,null,null,null,null,null,null,null,null,null,null,null,null,null,null,null,null,null,null,null,null,null,null,null,null,null,null,null,null,null,1380,0]
["0306005","Tinción de Gram",null,0,0,null,null,null,null,null,null,null,null,null,null,null,null,null,null,null,null,null,null,null,null,null,null,null,null,null,null,null,null,null,null,null,null,620,0]
["0306006","Ultramicroscopía",null,0,0,null,null,null,null,null,null,null,null,null,null,null,null,null,null,null,null,null,null,null,null,null,null,null,null,null,null,null,null,null,null,null,null,4140,0]
["0306102","Tinción de toluidina",null,0,0,null,null,null,null,null,null,null,null,null,null,null,null,null,null,null,null,null,null,null,null,null,null,null,null,null,null,null,null,null,null,null,null,43810,0]
["0306103","Tinción de calcofluor",null,0,0,null,null,null,null,null,null,null,null,null,null,null,null,null,null,null,null,null,null,null,null,null,null,null,null,null,null,null,null,null,null,null,null,5040,0]
["0306104","Tinción para campylobacter",null,0,0,null,null,null,null,null,null,null,null,null,null,null,null,null,null,null,null,null,null,null,null,null,null,null,null,null,null,null,null,null,null,null,null,4230,0]
["0306105","Tinción tinta china",null,0,0,null,null,null,null,null,null,null,null,null,null,null,null,null,null,null,null,null,null,null,null,null,null,null,null,null,null,null,null,null,null,null,null,3690,0]
[null,"TOTAL",null,{"$f":"SUM(D539:D547)","v":0},{"$f":"SUM(E539:E547)","v":0},0,0,0,null,null,null,null,null,null,null,null,null,null,null,null,null,null,null,null,null,null,null,{"$f":"SUM(AB539:AB547)","v":0},0,0,0,0,0,0,0,0,0,null,{"$f":"SUM(AM539:AM547)","v":0}]
[null,"A.2      CULTIVOS"]
["0306007","Coprocultivo, c/u",null,0,0,null,null,null,null,null,null,null,null,null,null,null,null,null,null,null,null,null,null,null,null,null,null,null,null,null,null,null,null,null,null,null,null,3930,{"$f":"AL550*F550","v":0}]
["0306008","Cultivo corriente (excepto coprocultivo, hemocultivo y urocultivo) c/u",null,0,0,null,null,null,null,null,null,null,null,null,null,null,null,null,null,null,null,null,null,null,null,null,null,null,null,null,null,null,null,null,null,null,null,3300,0]
["0306011","Urocultivo, recuento de colonias y antibiograma (cualquier técnica) ",null,0,0,null,null,null,null,null,null,null,null,null,null,null,null,null,null,null,null,null,null,null,null,null,null,null,null,null,null,null,null,null,null,null,null,3470,0]
["0306091","Hemocultivo automatizado. Incluye Antibiograma con CIM",null,0,0,null,null,null,null,null,null,null,null,null,null,null,null,null,null,null,null,null,null,null,null,null,null,null,null,null,null,null,null,null,null,null,null,15630,0]
["0306093","Hemocultivo automatizado para Micobacterias",null,0,0,null,null,null,null,null,null,null,null,null,null,null,null,null,null,null,null,null,null,null,null,null,null,null,null,null,null,null,null,null,null,null,null,14460,0]
["0306101","Cultivo de Líquido de Cavidades Estériles en frasco de Hemocultivo  automatizado. Incluye Antibiograma con CIM  ",null,0,0,null,null,null,null,null,null,null,null,null,null,null,null,null,null,null,null,null,null,null,null,null,null,null,null,null,null,null,null,null,null,null,null,16210,0]
["0306106","Hemocultivo automatizado para hongos",null,0,0,null,null,null,null,null,null,null,null,null,null,null,null,null,null,null,null,null,null,null,null,null,null,null,null,null,null,null,null,null,null,null,null,21660,0]
[null,"TOTAL",null,{"$f":"SUM(D550:D556)","v":0},{"$f":"SUM(E550:E556)","v":0},0,0,0,null,null,null,null,null,null,null,null,null,null,null,null,null,null,null,null,null,null,null,{"$f":"SUM(AB550:AB556)","v":0},0,0,0,0,0,0,0,0,0,null,0]
[null,"A.3      CULTIVOS ESPECIFICOS PARA"]
["0306012","Cultivo para Anaerobios (incluye Cód. 03-06-008)",null,0,0,null,null,null,null,null,null,null,null,null,null,null,null,null,null,null,null,null,null,null,null,null,null,null,null,null,null,null,null,null,null,null,null,6140,{"$f":"AL559*F559","v":0}]
["0306013","Cultivo para Bordetella",null,0,0,null,null,null,null,null,null,null,null,null,null,null,null,null,null,null,null,null,null,null,null,null,null,null,null,null,null,null,null,null,null,null,null,5800,0]
["0306014","Cultivo para Campylobacter, Yersinia, Vibrio, c/u",null,0,0,null,null,null,null,null,null,null,null,null,null,null,null,null,null,null,null,null,null,null,null,null,null,null,null,null,null,null,null,null,null,null,null,4140,0]
["0306016","Neisseria gonorrhoeae (gonococo)",null,0,0,null,null,null,null,null,null,null,null,null,null,null,null,null,null,null,null,null,null,null,null,null,null,null,null,null,null,null,null,null,null,null,null,2790,0]
["0306017","Cultivo para hongos (levaduras y filamentosos)",null,0,0,null,null,null,null,null,null,null,null,null,null,null,null,null,null,null,null,null,null,null,null,null,null,null,null,null,null,null,null,null,null,null,null,2540,0]
["0306117","Cultivo para dermatofitos",null,0,0,null,null,null,null,null,null,null,null,null,null,null,null,null,null,null,null,null,null,null,null,null,null,null,null,null,null,null,null,null,null,null,null,2870,0]
["0306018","Cultivo para micobacterias (incluye bacilo de Koch)",null,0,0,null,null,null,null,null,null,null,null,null,null,null,null,null,null,null,null,null,null,null,null,null,null,null,null,null,null,null,null,null,null,null,null,4100,0]
["0306019","Cultivo para Legionella",null,0,0,null,null,null,null,null,null,null,null,null,null,null,null,null,null,null,null,null,null,null,null,null,null,null,null,null,null,null,null,null,null,null,null,4140,0]
["0306022","Cultivo y Tipificación de micobacterias",null,0,0,null,null,null,null,null,null,null,null,null,null,null,null,null,null,null,null,null,null,null,null,null,null,null,null,null,null,null,null,null,null,null,null,4140,0]
["0306023","Cultivo mycoplasma y ureaplasma, c/u.",null,0,0,null,null,null,null,null,null,null,null,null,null,null,null,null,null,null,null,null,null,null,null,null,null,null,null,null,null,null,null,null,null,null,null,5790,0]
["0306099","Streptococcus Grupo B/ agalactiae en embarazada por cultivo con medio selectivo y/o enriquecido. ",null,0,0,null,null,null,null,null,null,null,null,null,null,null,null,null,null,null,null,null,null,null,null,null,null,null,null,null,null,null,null,null,null,null,null,13210,0]
["0306100","Cultivo acelerado para Micobacterias",null,0,0,null,null,null,null,null,null,null,null,null,null,null,null,null,null,null,null,null,null,null,null,null,null,null,null,null,null,null,null,null,null,null,null,22600,0]
[null,"TOTAL",null,{"$f":"SUM(D559:D570)","v":0},{"$f":"SUM(E559:E570)","v":0},0,0,0,null,null,null,null,null,null,null,null,null,null,null,null,null,null,null,null,null,null,null,{"$f":"SUM(AB559:AB570)","v":0},{"$f":"SUM(AC559:AC570)","v":0},{"$f":"SUM(AD559:AD570)","v":0},{"$f":"SUM(AE559:AE570)","v":0},{"$f":"SUM(AF559:AF570)","v":0},{"$f":"SUM(AG559:AG570)","v":0},{"$f":"SUM(AH559:AH570)","v":0},{"$f":"SUM(AI559:AI570)","v":0},{"$f":"SUM(AJ559:AJ570)","v":0},{"$f":"SUM(AK559:AK570)","v":0},null,{"$f":"SUM(AM559:AM570)","v":0}]
[null,"A.4      ANTIBIOGRAMA"]
["0306025","Antibiograma Bacilo de Koch (cada fármaco)",null,0,0,null,null,null,null,null,null,null,null,null,null,null,null,null,null,null,null,null,null,null,null,null,null,null,null,null,null,null,null,null,null,null,null,4140,{"$f":"AL573*F573","v":0}]
["0306026","Antibiograma Corriente (mínimo 10 fármacos) (en caso de urocultivo no corresponde su cobro; incluido en el valor 03-06-011)",null,0,0,null,null,null,null,null,null,null,null,null,null,null,null,null,null,null,null,null,null,null,null,null,null,null,null,null,null,null,null,null,null,null,null,2590,{"$f":"AL574*F574","v":0}]
["0306027","Antibiograma de estudio de sensibilidad por dilución (CIM) (mínimo 6 fármacos) (en caso de urocultivo, no corresponde su cobro; incluido en el valor código 03-06-011)",null,0,0,null,null,null,null,null,null,null,null,null,null,null,null,null,null,null,null,null,null,null,null,null,null,null,null,null,null,null,null,null,null,null,null,7260,{"$f":"AL575*F575","v":0}]
["0306028","Antifungigrama (mínimo 4 fármacos antihongos)",null,0,0,null,null,null,null,null,null,null,null,null,null,null,null,null,null,null,null,null,null,null,null,null,null,null,null,null,null,null,null,null,null,null,null,1980,{"$f":"AL576*F576","v":0}]
[null,"TOTAL",null,{"$f":"SUM(D573:D576)","v":0},{"$f":"SUM(E573:E576)","v":0},0,0,0,null,null,null,null,null,null,null,null,null,null,null,null,null,null,null,null,null,null,null,{"$f":"SUM(AB573:AB576)","v":0},{"$f":"SUM(AC573:AC576)","v":0},{"$f":"SUM(AD573:AD576)","v":0},{"$f":"SUM(AE573:AE576)","v":0},{"$f":"SUM(AF573:AF576)","v":0},{"$f":"SUM(AG573:AG576)","v":0},{"$f":"SUM(AH573:AH576)","v":0},{"$f":"SUM(AI573:AI576)","v":0},{"$f":"SUM(AJ573:AJ576)","v":0},{"$f":"SUM(AK573:AK576)","v":0},null,{"$f":"SUM(AM573:AM576)","v":0}]
[null,"A.5      OTROS"]
["0306097","Chlamydia Trachomatis y Neisseria Gonorrhoeae detección por técnica de biología molecular",null,0,0,null,null,null,null,null,null,null,null,null,null,null,null,null,null,null,null,null,null,null,null,null,null,null,null,null,null,null,null,null,null,null,null,39050,{"$f":"AL579*F579","v":0}]
["0306090","Test rápido de detección de streptococcus grupo A (Pyogenes)",null,0,0,null,null,null,null,null,null,null,null,null,null,null,null,null,null,null,null,null,null,null,null,null,null,null,null,null,null,null,null,null,null,null,null,5080,0]
["0306098","Toxina Clostridium Difficile en deposiciones test rápido",null,0,0,null,null,null,null,null,null,null,null,null,null,null,null,null,null,null,null,null,null,null,null,null,null,null,null,null,null,null,null,null,null,null,null,14910,0]
["0306107","Pneumocystis Jirovecci por técnica de biología molecular en tiempo real",null,0,0,null,null,null,null,null,null,null,null,null,null,null,null,null,null,null,null,null,null,null,null,null,null,null,null,null,null,null,null,null,null,null,null,164060,0]
["0306108","Helicobacter pylori, detección en deposiciones, test rápido",null,0,0,null,null,null,null,null,null,null,null,null,null,null,null,null,null,null,null,null,null,null,null,null,null,null,null,null,null,null,null,null,null,null,null,5230,0]
["0306118","Amplificación de DNA de Bordetella Pertussis por técnica de biología molecular en tiempo real",null,0,0,null,null,null,null,null,null,null,null,null,null,null,null,null,null,null,null,null,null,null,null,null,null,null,null,null,null,null,null,null,null,null,null,56430,0]
["0306133","Streptococcus agalactiae en embarazada por biología molecular ",null,0,0,null,null,null,null,null,null,null,null,null,null,null,null,null,null,null,null,null,null,null,null,null,null,null,null,null,null,null,null,null,null,null,null,30440,0]
["0306134","Panel ETS por biología molecular",null,0,0,null,null,null,null,null,null,null,null,null,null,null,null,null,null,null,null,null,null,null,null,null,null,null,null,null,null,null,null,null,null,null,null,44320,0]
["0306135","Beta-d- glucano",null,0,0,null,null,null,null,null,null,null,null,null,null,null,null,null,null,null,null,null,null,null,null,null,null,null,null,null,null,null,null,null,null,null,null,95550,0]
["0306136","Detección de antígeno capsular de cryptococcus",null,0,0,null,null,null,null,null,null,null,null,null,null,null,null,null,null,null,null,null,null,null,null,null,null,null,null,null,null,null,null,null,null,null,null,13710,0]
["0306138","Clostridium Difficile por técnica de biología molecular en tiempo real",null,{"$f":"SUM(E589+H589)","v":0},{"$f":"SUM(F589:G589)","v":0},null,null,null,null,null,null,null,null,null,null,null,null,null,null,null,null,null,null,null,null,null,null,null,null,null,null,null,null,null,null,null,null,21020,0]
[null,"TOTAL",null,{"$f":"SUM(D579:D589)","v":0},{"$f":"SUM(E579:E589)","v":0},0,0,0,null,null,null,null,null,null,null,null,null,null,null,null,null,null,null,null,null,null,null,{"$f":"SUM(AB579:AB589)","v":0},{"$f":"SUM(AC579:AC589)","v":0},{"$f":"SUM(AD579:AD589)","v":0},{"$f":"SUM(AE579:AE589)","v":0},{"$f":"SUM(AF579:AF589)","v":0},{"$f":"SUM(AG579:AG589)","v":0},{"$f":"SUM(AH579:AH589)","v":0},{"$f":"SUM(AI579:AI589)","v":0},{"$f":"SUM(AJ579:AJ589)","v":0},{"$f":"SUM(AK579:AK589)","v":0},null,{"$f":"SUM(AM579:AM589)","v":0}]
[null,"A.5      OTROS"]
["0306033","Brucella abortus, melitensis y suis, anticuerpos, por Aglutinación o Elisa",null,0,0,null,null,null,null,null,null,null,null,null,null,null,null,null,null,null,null,null,null,null,null,null,null,null,null,null,null,null,null,null,null,null,null,1440,{"$f":"AL592*F592","v":0}]
["0306034","Clamidias por inmunofluorescencia, peroxidasa, Elisa o similares",null,0,0,null,null,null,null,null,null,null,null,null,null,null,null,null,null,null,null,null,null,null,null,null,null,null,null,null,null,null,null,null,null,null,null,5080,0]
["0306036","Mononucleosis, reacción de Paul Bunnell, Anticuerpos Heterófilos o similares",null,0,0,null,null,null,null,null,null,null,null,null,null,null,null,null,null,null,null,null,null,null,null,null,null,null,null,null,null,null,null,null,null,null,null,2210,0]
["0306037","Mycoplasma IgG, IgM, c/u. ",null,0,0,null,null,null,null,null,null,null,null,null,null,null,null,null,null,null,null,null,null,null,null,null,null,null,null,null,null,null,null,null,null,null,null,4470,0]
["0306038","R.P.R.",null,0,0,null,null,null,null,null,null,null,null,null,null,null,null,null,null,null,null,null,null,null,null,null,null,null,null,null,null,null,null,null,null,null,null,2480,0]
["0306039","Tíficas, reacciones de aglutinación  (Eberth H y O, paratyphi A y B) (Widal)",null,0,0,null,null,null,null,null,null,null,null,null,null,null,null,null,null,null,null,null,null,null,null,null,null,null,null,null,null,null,null,null,null,null,null,3480,0]
["0306041","Treponema pallidum FTA - ABS, MHA-TP c/u",null,0,0,null,null,null,null,null,null,null,null,null,null,null,null,null,null,null,null,null,null,null,null,null,null,null,null,null,null,null,null,null,null,null,null,4600,0]
["0306042","V.D.R.L.",null,0,0,null,null,null,null,null,null,null,null,null,null,null,null,null,null,null,null,null,null,null,null,null,null,null,null,null,null,null,null,null,null,null,null,2940,0]
["0306094","Antígeno galactomanano",null,0,0,null,null,null,null,null,null,null,null,null,null,null,null,null,null,null,null,null,null,null,null,null,null,null,null,null,null,null,null,null,null,null,null,20260,0]
["0306114","Antigeno de neumococo",null,0,0,null,null,null,null,null,null,null,null,null,null,null,null,null,null,null,null,null,null,null,null,null,null,null,null,null,null,null,null,null,null,null,null,77790,0]
["0306115","Legionella antígeno urinario",null,0,0,null,null,null,null,null,null,null,null,null,null,null,null,null,null,null,null,null,null,null,null,null,null,null,null,null,null,null,null,null,null,null,null,62350,0]
["0306119","Interferón Gamma TBC ",null,0,0,null,null,null,null,null,null,null,null,null,null,null,null,null,null,null,null,null,null,null,null,null,null,null,null,null,null,null,null,null,null,null,null,86910,0]
["0306131","Bordetella pertussis IgG, IgM en sangre",null,0,0,null,null,null,null,null,null,null,null,null,null,null,null,null,null,null,null,null,null,null,null,null,null,null,null,null,null,null,null,null,null,null,null,13530,0]
["0306132","Bartonella henselae, anticuerpos IgG o IgM, c/u",null,0,0,null,null,null,null,null,null,null,null,null,null,null,null,null,null,null,null,null,null,null,null,null,null,null,null,null,null,null,null,null,null,null,null,40730,0]
[null,"TOTAL",null,{"$f":"SUM(D592:D605)","v":0},{"$f":"SUM(E592:E605)","v":0},0,0,0,null,null,null,null,null,null,null,null,null,null,null,null,null,null,null,null,null,null,null,{"$f":"SUM(AB592:AB605)","v":0},{"$f":"SUM(AC592:AC605)","v":0},{"$f":"SUM(AD592:AD605)","v":0},{"$f":"SUM(AE592:AE605)","v":0},{"$f":"SUM(AF592:AF605)","v":0},{"$f":"SUM(AG592:AG605)","v":0},{"$f":"SUM(AH592:AH605)","v":0},{"$f":"SUM(AI592:AI605)","v":0},{"$f":"SUM(AJ592:AJ605)","v":0},{"$f":"SUM(AK592:AK605)","v":0},null,{"$f":"SUM(AM592:AM605)","v":0}]
[null,"B.       PARASITOS"]
[null,"B.1      MACRO Y MICROSCOPICOS"]
["0306043","Artrópodos macroscópicos y microscópicos (imagos y/o pupas y/o larvas), diagnóstico de",null,0,0,null,null,null,null,null,null,null,null,null,null,null,null,null,null,null,null,null,null,null,null,null,null,null,null,null,null,null,null,null,null,null,null,2790,{"$f":"AL609*F609","v":0}]
["0306045","Coproparasitario seriado con técnica  para Cryptosporidium sp o para Diantamoeba fragilis (incluye los códigos 03-06-048 y/o 03-06-059 más aplicación de técnica de frotis con tinción tricrómica o tinción Ziehl-Neelsen en por lo menos 3 muestras, según corresponda)",null,0,0,null,null,null,null,null,null,null,null,null,null,null,null,null,null,null,null,null,null,null,null,null,null,null,null,null,null,null,null,null,null,null,null,8340,0]
["0306046","Coproparasitario seriado para fasciola hepática (incluye diagnóstico de gusanos macroscópicos y examen microscópico de 10 muestras por método de Telemann y simultáneamente por técnica de Sedimentación rápida (Copa Cónica)",null,0,0,null,null,null,null,null,null,null,null,null,null,null,null,null,null,null,null,null,null,null,null,null,null,null,null,null,null,null,null,null,null,null,null,16650,0]
["0306047","Coproparasitario seriado para Isospora y Sarcocystis (incluye diagnóstico de gusanos macroscópicos y examen  microscópico de 3 muestras separadas)",null,0,0,null,null,null,null,null,null,null,null,null,null,null,null,null,null,null,null,null,null,null,null,null,null,null,null,null,null,null,null,null,null,null,null,4470,0]
["0306048","Coproparasitológico seriado simple (incluye diagnóstico de gusanos macroscópicos y examen microscópico por concentración de tres muestras separadas método Telemann ) (proc. aut.)",null,0,0,null,null,null,null,null,null,null,null,null,null,null,null,null,null,null,null,null,null,null,null,null,null,null,null,null,null,null,null,null,null,null,null,2940,0]
["0306049","Diagnóstico de parásitos en jugo duodenal y/o bilis, examen macroscópico y microscópico (directo y/o concentración, c/s tinción)",null,0,0,null,null,null,null,null,null,null,null,null,null,null,null,null,null,null,null,null,null,null,null,null,null,null,null,null,null,null,null,null,null,null,null,2790,0]
["0306050","Diagnóstico parasitario en exudados, secreciones y otros líquidos orgánicos, examen macro y microscópico de (incluye concentración y/o tinción cuando proceda), c/u",null,0,0,null,null,null,null,null,null,null,null,null,null,null,null,null,null,null,null,null,null,null,null,null,null,null,null,null,null,null,null,null,null,null,null,2790,0]
["0306051","Graham, examen de (incluye diagnóstico de gusanos macroscópicos y examen microscópico de 5 muestras separadas)",null,0,0,null,null,null,null,null,null,null,null,null,null,null,null,null,null,null,null,null,null,null,null,null,null,null,null,null,null,null,null,null,null,null,null,1980,0]
["0306052","Estudio de gusanos macroscópicos",null,0,0,null,null,null,null,null,null,null,null,null,null,null,null,null,null,null,null,null,null,null,null,null,null,null,null,null,null,null,null,null,null,null,null,1590,0]
["0306053","Hemoparásitos, diagnóstico microscópico de (mínimo 10 frotis y/o gotas gruesas, c/s examen directo al fresco), cada sesión",null,0,0,null,null,null,null,null,null,null,null,null,null,null,null,null,null,null,null,null,null,null,null,null,null,null,null,null,null,null,null,null,null,null,null,8340,0]
["0306054","Hemoparásitos, diagnóstico por técnica de Microstrout o similar en hasta 10 tubos capilares, cada sesión (Chagas)",null,0,0,null,null,null,null,null,null,null,null,null,null,null,null,null,null,null,null,null,null,null,null,null,null,null,null,null,null,null,null,null,null,null,null,11040,0]
["0306056","Raspado de piel, examen microscópico de (\"Acarotest\"): de 6 a 10 preparaciones",null,0,0,null,null,null,null,null,null,null,null,null,null,null,null,null,null,null,null,null,null,null,null,null,null,null,null,null,null,null,null,null,null,null,null,3760,0]
["0306059","Coproparasitológico seriado simple (incluye diagnóstico de gusanos macroscópicos y examen microscópico por concentración de tres muestras separadas método PAFS) (proc. aut.)  ",null,{"$f":"SUM(E621+H621)","v":0},{"$f":"SUM(F621:G621)","v":0},null,null,null,null,null,null,null,null,null,null,null,null,null,null,null,null,null,null,null,null,null,null,null,null,null,null,null,null,null,null,null,null,3800,0]
["0306137","Raspado de piel, examen microscópico para búsqueda de demodex",null,0,0,null,null,null,null,null,null,null,null,null,null,null,null,null,null,null,null,null,null,null,null,null,null,null,null,null,null,null,null,null,null,null,null,8770,0]
[null,"TOTAL",null,{"$f":"SUM(D609:D622)","v":0},{"$f":"SUM(E609:E622)","v":0},{"$f":"SUM(F609:F622)","v":0},{"$f":"SUM(G609:G622)","v":0},{"$f":"SUM(H609:H622)","v":0},null,null,null,null,null,null,null,null,null,null,null,null,null,null,null,null,null,null,null,{"$f":"SUM(AB609:AB622)","v":0},{"$f":"SUM(AC609:AC622)","v":0},{"$f":"SUM(AD609:AD622)","v":0},{"$f":"SUM(AE609:AE622)","v":0},{"$f":"SUM(AF609:AF622)","v":0},{"$f":"SUM(AG609:AG622)","v":0},{"$f":"SUM(AH609:AH622)","v":0},{"$f":"SUM(AI609:AI622)","v":0},{"$f":"SUM(AJ609:AJ622)","v":0},{"$f":"SUM(AK609:AK622)","v":0},null,{"$f":"SUM(AM609:AM622)","v":0}]
[null,"B.2.     SEROLOGICOS"]
["0306061","Parásitos IgG/IgM (Chagas, Hidatidosis, Toxocariasis y otros por Elisa o Inmunofluorescencia), c/u",null,0,0,null,null,null,null,null,null,null,null,null,null,null,null,null,null,null,null,null,null,null,null,null,null,null,null,null,null,null,null,null,null,null,null,5080,{"$f":"AL625*F625","v":0}]
["0306066","Inmunofluorescencia indirecta (toxoplasmosis, Chagas, amebiasis y otras), c/u",null,0,0,null,null,null,null,null,null,null,null,null,null,null,null,null,null,null,null,null,null,null,null,null,null,null,null,null,null,null,null,null,null,null,null,5080,{"$f":"AL626*F626","v":0}]
["0306095","Parásitos: determinación por reacción de polimerasa en cadena (PCR)",null,0,0,null,null,null,null,null,null,null,null,null,null,null,null,null,null,null,null,null,null,null,null,null,null,null,null,null,null,null,null,null,null,null,null,36990,{"$f":"AL627*F627","v":0}]
["0306096","Parásitos: test rápido anticuerpos (Chagas y otros)",null,0,0,null,null,null,null,null,null,null,null,null,null,null,null,null,null,null,null,null,null,null,null,null,null,null,null,null,null,null,null,null,null,null,null,10120,{"$f":"AL628*F628","v":0}]
[null,"TOTAL",null,{"$f":"SUM(D625:D628)","v":0},{"$f":"SUM(E625:E628)","v":0},0,0,0,null,null,null,null,null,null,null,null,null,null,null,null,null,null,null,null,null,null,null,{"$f":"SUM(AB625:AB628)","v":0},{"$f":"SUM(AC625:AC628)","v":0},{"$f":"SUM(AD625:AD628)","v":0},{"$f":"SUM(AE625:AE628)","v":0},{"$f":"SUM(AF625:AF628)","v":0},{"$f":"SUM(AG625:AG628)","v":0},{"$f":"SUM(AH625:AH628)","v":0},{"$f":"SUM(AI625:AI628)","v":0},{"$f":"SUM(AJ625:AJ628)","v":0},{"$f":"SUM(AK625:AK628)","v":0},null,{"$f":"SUM(AM625:AM628)","v":0}]
[null,"C.       VIRUS"]
[null,"C.1      CULTIVOS"]
["0306068","Aislamiento de virus (Adenovirus, Citomegalovirus, Enterovirus, Herpes, Influenza, Polio,Sarampión y otros), c/u",null,{"$f":"SUM(E632+H632)","v":0},{"$f":"SUM(F632:G632)","v":0},null,null,null,null,null,null,null,null,null,null,null,null,null,null,null,null,null,null,null,null,null,null,null,null,null,null,null,null,null,null,null,null,6140,{"$f":"AL632*F632","v":0}]
[null,"TOTAL",null,{"$f":"+D632","v":0},{"$f":"+E632","v":0},0,0,0,null,null,null,null,null,null,null,null,null,null,null,null,null,null,null,null,null,null,null,{"$f":"+AB632","v":0},{"$f":"+AC632","v":0},{"$f":"+AD632","v":0},{"$f":"+AE632","v":0},{"$f":"+AF632","v":0},{"$f":"+AG632","v":0},{"$f":"+AH632","v":0},{"$f":"+AI632","v":0},{"$f":"+AJ632","v":0},{"$f":"+AK632","v":0},null,{"$f":"+AM632","v":0}]
[null,"C.2      SEROLOGIA"]
[null,"(Determinación de antígenos o anticuerpos)"]
["0306069","Anticuerpos virales, determ. de (SARS  CoV-2  IgM, IgG), (adenovirus, citomegalovirus, herpes simple, rubéola, influenza  A y B; virus varicela-zoster; virus sincicial respiratorio; parainfluenza 1, 2 y 3; Epstein Barr , otros) c/u",null,{"$f":"SUM(E636+H636)","v":0},{"$f":"SUM(F636:G636)","v":0},null,null,null,null,null,null,null,null,null,null,null,null,null,null,null,null,null,null,null,null,null,null,null,null,null,null,null,null,null,null,null,null,5270,{"$f":"AL636*F636","v":0}]
["0306169","Anticuerpos virales, determ. de H.I.V.",null,{"$f":"SUM(E637+H637)","v":0},{"$f":"SUM(F637:G637)","v":0},null,null,null,null,null,null,null,null,null,null,null,null,null,null,null,null,null,null,null,null,null,null,null,null,null,null,null,null,null,null,null,null,5230,0]
["0306070","Antígenos virales determ. de (adenovirus, citomegalovirus, herpes simple, rubéola, influenza y otros), (por cualquier técnica ej: inmunofluorescencia), c/u",null,{"$f":"SUM(E638+H638)","v":0},{"$f":"SUM(F638:G638)","v":0},null,null,null,null,null,null,null,null,null,null,null,null,null,null,null,null,null,null,null,null,null,null,null,null,null,null,null,null,null,null,null,null,4910,0]
["0306170","Antígenos virales determ. de rotavirus, por cualquier técnica ",null,{"$f":"SUM(E639+H639)","v":0},{"$f":"SUM(F639:G639)","v":0},null,null,null,null,null,null,null,null,null,null,null,null,null,null,null,null,null,null,null,null,null,null,null,null,null,null,null,null,null,null,null,null,4910,0]
["0306270","Antígenos virales determ. de virus sincicial, por cualquier técnica ",null,0,0,null,null,null,null,null,null,null,null,null,null,null,null,null,null,null,null,null,null,null,null,null,null,null,null,null,null,null,null,null,null,null,null,5400,0]
["0306074","Virus Hepatitis A, anticuerpos IgG, IgM o totales c/u",null,0,0,null,null,null,null,null,null,null,null,null,null,null,null,null,null,null,null,null,null,null,null,null,null,null,null,null,null,null,null,null,null,null,null,7280,0]
["0306075","Virus hepatitis B, anticuerpo del antígeno E del",null,0,0,null,null,null,null,null,null,null,null,null,null,null,null,null,null,null,null,null,null,null,null,null,null,null,null,null,null,null,null,null,null,null,null,6140,0]
["0306076","Virus hepatitis B, anticore total del (anti HBc total)",null,0,0,null,null,null,null,null,null,null,null,null,null,null,null,null,null,null,null,null,null,null,null,null,null,null,null,null,null,null,null,null,null,null,null,6720,0]
["0306077","Virus hepatitis B, anticuerpos contra antígeno superficie",null,0,0,null,null,null,null,null,null,null,null,null,null,null,null,null,null,null,null,null,null,null,null,null,null,null,null,null,null,null,null,null,null,null,null,5020,0]
["0306078","Virus hepatitis B, antígeno E del (HBEAg)",null,0,0,null,null,null,null,null,null,null,null,null,null,null,null,null,null,null,null,null,null,null,null,null,null,null,null,null,null,null,null,null,null,null,null,6140,0]
["0306079","Virus hepatitis B, antígeno de superficie (HBsAg)",null,0,0,null,null,null,null,null,null,null,null,null,null,null,null,null,null,null,null,null,null,null,null,null,null,null,null,null,null,null,null,null,null,null,null,5080,0]
["0306080","Virus hepatitis B, anticore IgM del (anti HBc IgM)",null,0,0,null,null,null,null,null,null,null,null,null,null,null,null,null,null,null,null,null,null,null,null,null,null,null,null,null,null,null,null,null,null,null,null,6940,0]
["0306081","Virus hepatitis C, anticuerpos de (anti HCV)",null,0,0,null,null,null,null,null,null,null,null,null,null,null,null,null,null,null,null,null,null,null,null,null,null,null,null,null,null,null,null,null,null,null,null,7690,0]
["0306082","Reacción de Polimerasa en cadena (P.C.R.) en tiempo real, SARS CoV-2, (incluye toma muestra hisopado nasofaríngeo).",null,0,0,null,null,null,null,null,null,null,null,null,null,null,null,null,null,null,null,null,null,null,null,null,null,null,null,null,null,null,null,null,null,null,null,22000,0]
["0306182","Reacción de Polimerasa en cadena (P.C.R.) en tiempo real, virus Influenza, virus Herpes, citomegalovirus, hepatitis C, mycobacteria TBC, c/u (incluye toma muestra hisopado nasofaríngeo).",null,0,0,null,null,null,null,null,null,null,null,null,null,null,null,null,null,null,null,null,null,null,null,null,null,null,null,null,null,null,null,null,null,null,null,26680,0]
["0306083","Citomegalovirus (CMV) shell vial aislamiento rápido",null,0,0,null,null,null,null,null,null,null,null,null,null,null,null,null,null,null,null,null,null,null,null,null,null,null,null,null,null,null,null,null,null,null,null,35810,0]
["0306084","Hepatitis B, carga viral ",null,0,0,null,null,null,null,null,null,null,null,null,null,null,null,null,null,null,null,null,null,null,null,null,null,null,null,null,null,null,null,null,null,null,null,97670,0]
["0306085","Hepatitis C, carga viral ",null,0,0,null,null,null,null,null,null,null,null,null,null,null,null,null,null,null,null,null,null,null,null,null,null,null,null,null,null,null,null,null,null,null,null,119220,0]
["0306086","VIH, carga viral ",null,0,0,null,null,null,null,null,null,null,null,null,null,null,null,null,null,null,null,null,null,null,null,null,null,null,null,null,null,null,null,null,null,null,null,53670,0]
["0306087","Virus Epstein Barr (VEB) carga viral ",null,0,0,null,null,null,null,null,null,null,null,null,null,null,null,null,null,null,null,null,null,null,null,null,null,null,null,null,null,null,null,null,null,null,null,148670,0]
["0306088","Polioma (BK) virus carga viral ",null,0,0,null,null,null,null,null,null,null,null,null,null,null,null,null,null,null,null,null,null,null,null,null,null,null,null,null,null,null,null,null,null,null,null,91630,0]
["0306109","VIH, Genotipificación antivirales",null,0,0,null,null,null,null,null,null,null,null,null,null,null,null,null,null,null,null,null,null,null,null,null,null,null,null,null,null,null,null,null,null,null,null,342100,0]
["0306110","PCR metapneumovirus",null,0,0,null,null,null,null,null,null,null,null,null,null,null,null,null,null,null,null,null,null,null,null,null,null,null,null,null,null,null,null,null,null,null,null,43960,0]
["0306111","HTLV I y II determinación de anticuerpos virales",null,0,0,null,null,null,null,null,null,null,null,null,null,null,null,null,null,null,null,null,null,null,null,null,null,null,null,null,null,null,null,null,null,null,null,57320,0]
["0306112","VIH, anticuerpos y antígenos virales, determ. de H.I.V. ",null,0,0,null,null,null,null,null,null,null,null,null,null,null,null,null,null,null,null,null,null,null,null,null,null,null,null,null,null,null,null,null,null,null,null,28530,0]
["0306113","VIH, reacción de polimerasa en cadena (P.C.R.) en líquido cefaloraquídeo",null,0,0,null,null,null,null,null,null,null,null,null,null,null,null,null,null,null,null,null,null,null,null,null,null,null,null,null,null,null,null,null,null,null,null,58000,0]
["0306120","Panel viral diarrea por PCR (determinación de rotavirus, norovirus g1, norovirus g2, astrovirus, adenovirus)",null,0,0,null,null,null,null,null,null,null,null,null,null,null,null,null,null,null,null,null,null,null,null,null,null,null,null,null,null,null,null,null,null,null,null,106770,0]
["0306121","Hanta virus, anticuerpos IgM test rápido",null,0,0,null,null,null,null,null,null,null,null,null,null,null,null,null,null,null,null,null,null,null,null,null,null,null,null,null,null,null,null,null,null,null,null,58150,0]
["0306122","Panel virus respiratorio molecular (15 a 17 virus) (adenovirus, VRS A, VRS B, parainfluenza 1,2,3,4, influenza a y b, influenza a H1N1, bocavirus, coronavirus (2 tipos), rinovirus, enterovirus. ",null,0,0,null,null,null,null,null,null,null,null,null,null,null,null,null,null,null,null,null,null,null,null,null,null,null,null,null,null,null,null,null,null,null,null,78960,0]
["0306123","Virus Papiloma Humano por PCR con genotipificación de papiloma de alto riesgo de Cáncer Cérvico Uterino tipos 16 y 18",null,0,0,null,null,null,null,null,null,null,null,null,null,null,null,null,null,null,null,null,null,null,null,null,null,null,null,null,null,null,null,null,null,null,null,37550,0]
["0306124","Virus ARN por PCR (hanta, dengue, chikungunya, sarampión, enterovirus, parechovirus, zika) c/u",null,0,0,null,null,null,null,null,null,null,null,null,null,null,null,null,null,null,null,null,null,null,null,null,null,null,null,null,null,null,null,null,null,null,null,73480,0]
["0306125","Virus hepatitis C, genotipificación ",null,0,0,null,null,null,null,null,null,null,null,null,null,null,null,null,null,null,null,null,null,null,null,null,null,null,null,null,null,null,null,null,null,null,null,118550,0]
["0306126","Hanta virus serologia IgG/IgM c/u",null,0,0,null,null,null,null,null,null,null,null,null,null,null,null,null,null,null,null,null,null,null,null,null,null,null,null,null,null,null,null,null,null,null,null,55550,0]
["0306127","Panel de meningitis encefalitis por biología molecular ",null,0,0,null,null,null,null,null,null,null,null,null,null,null,null,null,null,null,null,null,null,null,null,null,null,null,null,null,null,null,null,null,null,null,null,95300,0]
["0306128","Rotavirus y adenovirus detección simultanea de por inmunocromatografia",null,0,0,null,null,null,null,null,null,null,null,null,null,null,null,null,null,null,null,null,null,null,null,null,null,null,null,null,null,null,null,null,null,null,null,6160,0]
["0306129","Norovirus detección por inmunocromatografia",null,0,0,null,null,null,null,null,null,null,null,null,null,null,null,null,null,null,null,null,null,null,null,null,null,null,null,null,null,null,null,null,null,null,null,10050,0]
["0306130","Virus hepatitis B, anticuerpos anti antígeno de superficie (títulos)",null,0,0,null,null,null,null,null,null,null,null,null,null,null,null,null,null,null,null,null,null,null,null,null,null,null,null,null,null,null,null,null,null,null,null,15620,0]
["0306271","Test rápido de detección de antígenos SARS-CoV-2 (incluye toma de muestra)",null,0,0,null,null,null,null,null,null,null,null,null,null,null,null,null,null,null,null,null,null,null,null,null,null,null,null,null,null,null,null,null,null,null,null,8350,0]
["0306139","Virus Hepatitis E, Anticuerpos IgM",null,{"$f":"SUM(E674+H674)","v":0},{"$f":"SUM(F674:G674)","v":0},null,null,null,null,null,null,null,null,null,null,null,null,null,null,null,null,null,null,null,null,null,null,null,null,null,null,null,null,null,null,null,null,75390,0]
["0306140","Virus Hepatitis E, Anticuerpos IgG",null,0,0,null,null,null,null,null,null,null,null,null,null,null,null,null,null,null,null,null,null,null,null,null,null,null,null,null,null,null,null,null,null,null,null,38010,0]
["0306141","Parvovirus B19, anticuerpos IgG o IgM, c/u",null,0,0,null,null,null,null,null,null,null,null,null,null,null,null,null,null,null,null,null,null,null,null,null,null,null,null,null,null,null,null,null,null,null,null,22020,0]
["0306142","PCR para parvovirus B19",null,0,0,null,null,null,null,null,null,null,null,null,null,null,null,null,null,null,null,null,null,null,null,null,null,null,null,null,null,null,null,null,null,null,null,59880,0]
["0306143","PCR para virus varicela zoster ",null,0,0,null,null,null,null,null,null,null,null,null,null,null,null,null,null,null,null,null,null,null,null,null,null,null,null,null,null,null,null,null,null,null,null,49170,0]
["0306144","HTLV virus por PCR",null,0,0,null,null,null,null,null,null,null,null,null,null,null,null,null,null,null,null,null,null,null,null,null,null,null,null,null,null,null,null,null,null,null,null,77330,0]
["0306145","CMV, carga viral",null,0,0,null,null,null,null,null,null,null,null,null,null,null,null,null,null,null,null,null,null,null,null,null,null,null,null,null,null,null,null,null,null,null,null,69180,0]
[null,"TOTAL",null,{"$f":"SUM(D636:D680)","v":0},{"$f":"SUM(E636:E680)","v":0},0,0,0,null,null,null,null,null,null,null,null,null,null,null,null,null,null,null,null,null,null,null,{"$f":"SUM(AB636:AB680)","v":0},{"$f":"SUM(AC636:AC680)","v":0},0,0,0,0,0,0,0,0,null,0]
[null,"VII.- PROCEDIMIENTOS O DETERMINACIONES DIRECTAMENTE CON EL PACIENTE"]
["0307001","Dietilendiamina tetraacetato de sodio cromo (EDTA Cr 51)",null,0,0,null,null,null,null,null,null,null,null,null,null,null,null,null,null,null,null,null,null,null,null,null,null,null,null,null,null,null,null,null,null,null,null,5550,{"$f":"AL683*F683","v":0}]
["0307002","Prueba de la sed (volumen, densidad, osmolalidad seriada en sangre y orina)",null,0,0,null,null,null,null,null,null,null,null,null,null,null,null,null,null,null,null,null,null,null,null,null,null,null,null,null,null,null,null,null,null,null,null,4940,0]
["0307005","Reacción cutánea de parche c/u",null,0,0,null,null,null,null,null,null,null,null,null,null,null,null,null,null,null,null,null,null,null,null,null,null,null,null,null,null,null,null,null,null,null,null,620,0]
["0307006","Sobrecarga hídrica",null,0,0,null,null,null,null,null,null,null,null,null,null,null,null,null,null,null,null,null,null,null,null,null,null,null,null,null,null,null,null,null,null,null,null,1380,0]
["0307007","Test del sudor (procedimiento completo)",null,0,0,null,null,null,null,null,null,null,null,null,null,null,null,null,null,null,null,null,null,null,null,null,null,null,null,null,null,null,null,null,null,null,null,13070,0]
["0307008","Vasopresina test o similares (incluye además mediciones de diuresis)",null,0,0,null,null,null,null,null,null,null,null,null,null,null,null,null,null,null,null,null,null,null,null,null,null,null,null,null,null,null,null,null,null,null,null,4180,0]
["0307023","Aspirados nasofaríngeo para adulto y niño.",null,0,0,null,null,null,null,null,null,null,null,null,null,null,null,null,null,null,null,null,null,null,null,null,null,null,null,null,null,null,null,null,null,null,null,2180,0]
["0307024","Reacción cutánea a alergenos  (incluye el valor de los alergenos)",null,0,0,null,null,null,null,null,null,null,null,null,null,null,null,null,null,null,null,null,null,null,null,null,null,null,null,null,null,null,null,null,null,null,null,5550,0]
[null,"TOTAL",null,{"$f":"SUM(D683:D690)","v":0},{"$f":"SUM(E683:E690)","v":0},{"$f":"SUM(F683:F690)","v":0},{"$f":"SUM(G683:G690)","v":0},{"$f":"SUM(H683:H690)","v":0},null,null,null,null,null,null,null,null,null,null,null,null,null,null,null,null,null,null,null,{"$f":"SUM(AB683:AB690)","v":0},0,0,0,0,0,0,0,0,0,null,{"$f":"SUM(AM683:AM690)","v":0}]
[null,"TOMA DE MUESTRAS"]
["0307009","Toma de muestra arterial en adultos",null,0,0]
["0307010","Toma de muestra arterial en niños y lactantes",null,0,0]
["0307011","Toma de muestra venosa en adultos",null,0,0]
["0307012","Toma de muestra venosa en niños y lactantes",null,0,0]
["0307013","Toma de muestra con técnica aséptica para hemocultivo, c/u",null,0,0]
["0307014","Toma de muestra capilar ( adultos, niños y lactantes )",null,0,0]
["0307016","Toma de muestra por punción traqueal",null,0,0]
["0307017","Toma de muestra por punción vesical en recién nacidos",null,0,0]
["0307018","Toma de muestra por punción medular ósea",null,0,0]
[null,"TOTAL",null,{"$f":"SUM(D693:D701)","v":0},{"$f":"SUM(E693:E701)","v":0},{"$f":"SUM(F693:F701)","v":0},{"$f":"SUM(G693:G701)","v":0},{"$f":"SUM(H693:H701)","v":0},null,null,null,null,null,null,null,null,null,null,null,null,null,null,null,null,null,null,null,{"$f":"SUM(AB693:AB701)","v":0},0,0,0,0,0,0,0,0,0]
[null,"VIII.- EXAMENES DE DEPOSICIONES, EXUDADOS, SECRECIONES Y OTROS LIQUIDOS"]
[null,"A. DEPOSICIONES"]
["0308001","Azúcares reductores (Benedict-Fehling o similar)",null,{"$f":"SUM(E705+H705)","v":0},0,null,null,null,null,null,null,null,null,null,null,null,null,null,null,null,null,null,null,null,null,null,null,null,null,null,null,null,null,null,null,null,null,1090,{"$f":"AL705*F705","v":0}]
["0308003","Grasas neutras (Sudán III)",null,0,0,null,null,null,null,null,null,null,null,null,null,null,null,null,null,null,null,null,null,null,null,null,null,null,null,null,null,null,null,null,null,null,null,620,0]
["0308004","Hemorragias ocultas, (bencidina, guayaco o test de Weber y similares), cualquier método, c/muestra",null,0,0,null,null,null,null,null,null,null,null,null,null,null,null,null,null,null,null,null,null,null,null,null,null,null,null,null,null,null,null,null,null,null,null,1090,0]
["0308005","Leucocitos fecales",null,0,0,null,null,null,null,null,null,null,null,null,null,null,null,null,null,null,null,null,null,null,null,null,null,null,null,null,null,null,null,null,null,null,null,1090,0]
["0308006","pH en deposiciones",null,0,0,null,null,null,null,null,null,null,null,null,null,null,null,null,null,null,null,null,null,null,null,null,null,null,null,null,null,null,null,null,null,null,null,620,0]
["0308007","Elastasa fecal ",null,0,0,null,null,null,null,null,null,null,null,null,null,null,null,null,null,null,null,null,null,null,null,null,null,null,null,null,null,null,null,null,null,null,null,67540,0]
["0308047","Esteatocrito",null,0,0,null,null,null,null,null,null,null,null,null,null,null,null,null,null,null,null,null,null,null,null,null,null,null,null,null,null,null,null,null,null,null,null,14260,0]
["0308049","Calprotectina cuantitativa por Elisa",null,0,0,null,null,null,null,null,null,null,null,null,null,null,null,null,null,null,null,null,null,null,null,null,null,null,null,null,null,null,null,null,null,null,null,39210,0]
[null,"TOTAL",null,{"$f":"SUM(D705:D712)","v":0},{"$f":"SUM(E705:E712)","v":0},0,0,0,null,null,null,null,null,null,null,null,null,null,null,null,null,null,null,null,null,null,null,{"$f":"SUM(AB705:AB712)","v":0},{"$f":"SUM(AC705:AC712)","v":0},{"$f":"SUM(AD705:AD712)","v":0},{"$f":"SUM(AE705:AE712)","v":0},{"$f":"SUM(AF705:AF712)","v":0},{"$f":"SUM(AG705:AG712)","v":0},{"$f":"SUM(AH705:AH712)","v":0},{"$f":"SUM(AI705:AI712)","v":0},{"$f":"SUM(AJ705:AJ712)","v":0},{"$f":"SUM(AK705:AK712)","v":0},null,{"$f":"SUM(AM705:AM712)","v":0}]
[null,"B. EXUDADOS, SECRECIONES Y OTROS LIQUIDOS"]
[null,"(AMNIOTICO, ARTICULAR, ASCITICO, BRONQUIAL, DIGESTIVO, GINECOLOGICO, L.C.R., NASAL, PERICARDICO, PLEURAL, SEMINAL U OTROS )."]
["0308009","Células neoplásicas en fluidos biológicos",null,0,0,null,null,null,null,null,null,null,null,null,null,null,null,null,null,null,null,null,null,null,null,null,null,null,null,null,null,null,null,null,null,null,null,3880,{"$f":"AL716*F716","v":0}]
["0308010","Citológico c/s tinción (incluye examen al fresco, recuento celular y citológico porcentual)",null,0,0,null,null,null,null,null,null,null,null,null,null,null,null,null,null,null,null,null,null,null,null,null,null,null,null,null,null,null,null,null,null,null,null,2800,0]
["0308011","Directo al fresco c/s tinción, (incluye trichomonas)",null,0,0,null,null,null,null,null,null,null,null,null,null,null,null,null,null,null,null,null,null,null,null,null,null,null,null,null,null,null,null,null,null,null,null,1380,0]
["0308012","Electrolitos (sodio, potasio, cloro), en exudados, secreciones y otros líquidos, c/u ",null,0,0,null,null,null,null,null,null,null,null,null,null,null,null,null,null,null,null,null,null,null,null,null,null,null,null,null,null,null,null,null,null,null,null,1380,0]
["0308013","Eosinófilos en secreciones",null,0,0,null,null,null,null,null,null,null,null,null,null,null,null,null,null,null,null,null,null,null,null,null,null,null,null,null,null,null,null,null,null,null,null,770,0]
["0308014","Físico-químico (incluye aspecto, color, pH, glucosa, proteína, Pandy y filancia)",null,0,0,null,null,null,null,null,null,null,null,null,null,null,null,null,null,null,null,null,null,null,null,null,null,null,null,null,null,null,null,null,null,null,null,2180,0]
["0308015","Glucosa en exudados, secreciones y otros líquidos",null,0,0,null,null,null,null,null,null,null,null,null,null,null,null,null,null,null,null,null,null,null,null,null,null,null,null,null,null,null,null,null,null,null,null,620,0]
["0308016","Mucina, determinación de",null,0,0,null,null,null,null,null,null,null,null,null,null,null,null,null,null,null,null,null,null,null,null,null,null,null,null,null,null,null,null,null,null,null,null,1090,0]
["0308017","pH en exudados, secreciones y otros líquidos (proc. aut.)",null,0,0,null,null,null,null,null,null,null,null,null,null,null,null,null,null,null,null,null,null,null,null,null,null,null,null,null,null,null,null,null,null,null,null,620,0]
["0308050","Proteínas totales en exudados, secreciones y otros líquidos",null,0,0,null,null,null,null,null,null,null,null,null,null,null,null,null,null,null,null,null,null,null,null,null,null,null,null,null,null,null,null,null,null,null,null,1380,0]
["0308051","Albúminas en exudados, secreciones y otros líquidos",null,0,0,null,null,null,null,null,null,null,null,null,null,null,null,null,null,null,null,null,null,null,null,null,null,null,null,null,null,null,null,null,null,null,null,1380,0]
["0308019","Proteínas, electroforésis de (incluye proteínas totales) en otros líquidos biológicos",null,0,0,null,null,null,null,null,null,null,null,null,null,null,null,null,null,null,null,null,null,null,null,null,null,null,null,null,null,null,null,null,null,null,null,5820,0]
["0308020","Bandas oligoclonales (incluye electroforesis de L.C.R., suero e inmunofijación)",null,0,0,null,null,null,null,null,null,null,null,null,null,null,null,null,null,null,null,null,null,null,null,null,null,null,null,null,null,null,null,null,null,null,null,20010,0]
["0308021","Glutamina",null,{"$f":"SUM(E729+H729)","v":0},{"$f":"SUM(F729:G729)","v":0},null,null,null,null,null,null,null,null,null,null,null,null,null,null,null,null,null,null,null,null,null,null,null,null,null,null,null,null,null,null,null,null,1840,0]
["0308022","Índice IgG/albúmina (incluye determ. de IgG y albúmina en L.C.R. y suero)",null,0,0,null,null,null,null,null,null,null,null,null,null,null,null,null,null,null,null,null,null,null,null,null,null,null,null,null,null,null,null,null,null,null,null,11050,0]
["0308023","Estudio de cristales (con luz polarizada)",null,0,0,null,null,null,null,null,null,null,null,null,null,null,null,null,null,null,null,null,null,null,null,null,null,null,null,null,null,null,null,null,null,null,null,1380,0]
["0308025","Prueba de estimulación máxima con histamina, mínimo 5 muestras (no incluye la histamina ni el antihistamínico).",null,0,0,null,null,null,null,null,null,null,null,null,null,null,null,null,null,null,null,null,null,null,null,null,null,null,null,null,null,null,null,null,null,null,null,5550,0]
["0308029","Espermiograma (físico y microscópico, con o sin observación hasta 24 horas)",null,0,0,null,null,null,null,null,null,null,null,null,null,null,null,null,null,null,null,null,null,null,null,null,null,null,null,null,null,null,null,null,null,null,null,3820,0]
["0308030","Fosfatasa ácida prostática",null,0,0,null,null,null,null,null,null,null,null,null,null,null,null,null,null,null,null,null,null,null,null,null,null,null,null,null,null,null,null,null,null,null,null,2800,0]
["0308031","Fructosa seminal",null,0,0,null,null,null,null,null,null,null,null,null,null,null,null,null,null,null,null,null,null,null,null,null,null,null,null,null,null,null,null,null,null,null,null,1600,0]
["0308033","Células anaranjadas (proc. aut.)",null,0,0,null,null,null,null,null,null,null,null,null,null,null,null,null,null,null,null,null,null,null,null,null,null,null,null,null,null,null,null,null,null,null,null,620,0]
["0308034","Contaminantes (meconio y sangre) (proc. aut.)",null,0,0,null,null,null,null,null,null,null,null,null,null,null,null,null,null,null,null,null,null,null,null,null,null,null,null,null,null,null,null,null,null,null,null,1090,0]
["0308035","Creatinina en exudados, secreciones y otros líquidos (proc. aut.)",null,0,0,null,null,null,null,null,null,null,null,null,null,null,null,null,null,null,null,null,null,null,null,null,null,null,null,null,null,null,null,null,null,null,null,1090,0]
["0308036","Fosfatidil glicerol y/o fosfatidil inositol",null,0,0,null,null,null,null,null,null,null,null,null,null,null,null,null,null,null,null,null,null,null,null,null,null,null,null,null,null,null,null,null,null,null,null,6140,0]
["0308037","Índice de bilirrubina (prueba de Liley)",null,0,0,null,null,null,null,null,null,null,null,null,null,null,null,null,null,null,null,null,null,null,null,null,null,null,null,null,null,null,null,null,null,null,null,1380,0]
["0308038","Índice lecitina/esfingomielina",null,0,0,null,null,null,null,null,null,null,null,null,null,null,null,null,null,null,null,null,null,null,null,null,null,null,null,null,null,null,null,null,null,null,null,5550,0]
["0308039","Madurez fetal completa (físico; células anaranjadas, bilirrubina, test de Clements, creatinina, contaminantes)",null,0,0,null,null,null,null,null,null,null,null,null,null,null,null,null,null,null,null,null,null,null,null,null,null,null,null,null,null,null,null,null,null,null,null,5550,0]
["0308040","Test de Clements (proc. aut.)",null,0,0,null,null,null,null,null,null,null,null,null,null,null,null,null,null,null,null,null,null,null,null,null,null,null,null,null,null,null,null,null,null,null,null,1090,0]
["0308041","Colpocitograma",null,0,0,null,null,null,null,null,null,null,null,null,null,null,null,null,null,null,null,null,null,null,null,null,null,null,null,null,null,null,null,null,null,null,null,2180,0]
["0308043","Moco-semen, prueba de compatibilidad",null,0,0,null,null,null,null,null,null,null,null,null,null,null,null,null,null,null,null,null,null,null,null,null,null,null,null,null,null,null,null,null,null,null,null,2180,0]
["0308044","Flujo vaginal o secreción uretral, estudio de (incluye toma de muestra y códigos 03-06-004, 03-06-005, 03-06-008, 03-06-017 y 03-06-026)       ",null,0,0,null,null,null,null,null,null,null,null,null,null,null,null,null,null,null,null,null,null,null,null,null,null,null,null,null,null,null,null,null,null,null,null,7610,0]
["0308045","Amilasa en Líquidos Biológicos",null,0,0,null,null,null,null,null,null,null,null,null,null,null,null,null,null,null,null,null,null,null,null,null,null,null,null,null,null,null,null,null,null,null,null,3980,0]
["0308046","Lipasa en  Líquidos Biológicos",null,0,0,null,null,null,null,null,null,null,null,null,null,null,null,null,null,null,null,null,null,null,null,null,null,null,null,null,null,null,null,null,null,null,null,2620,0]
["0308048","Cuerpos lamelares (procedimiento automatizado) en líquido amniótico",null,0,0,null,null,null,null,null,null,null,null,null,null,null,null,null,null,null,null,null,null,null,null,null,null,null,null,null,null,null,null,null,null,null,null,8120,0]
["0308052","Colesterol total en exudados, secreciones y otros líquidos",null,0,0,null,null,null,null,null,null,null,null,null,null,null,null,null,null,null,null,null,null,null,null,null,null,null,null,null,null,null,null,null,null,null,null,3710,0]
["0308053","Hematocrito automatizado (en contador hematológico) en exudados, secreciones y otros líquidos",null,0,0,null,null,null,null,null,null,null,null,null,null,null,null,null,null,null,null,null,null,null,null,null,null,null,null,null,null,null,null,null,null,null,null,4560,0]
["0308054","LDH en exudados, secreciones y otros líquidos",null,0,0,null,null,null,null,null,null,null,null,null,null,null,null,null,null,null,null,null,null,null,null,null,null,null,null,null,null,null,null,null,null,null,null,4140,0]
["0308055","Trigliceridos en exudados, secreciones y otros líquidos",null,0,0,null,null,null,null,null,null,null,null,null,null,null,null,null,null,null,null,null,null,null,null,null,null,null,null,null,null,null,null,null,null,null,null,4770,0]
["0308056","Beta-2 transferrina",null,0,0,null,null,null,null,null,null,null,null,null,null,null,null,null,null,null,null,null,null,null,null,null,null,null,null,null,null,null,null,null,null,null,null,56610,0]
["0308057","Acido láctico, LCR",null,0,0,null,null,null,null,null,null,null,null,null,null,null,null,null,null,null,null,null,null,null,null,null,null,null,null,null,null,null,null,null,null,null,null,4540,0]
[null,"TOTAL",null,{"$f":"SUM(D716:D755)","v":0},{"$f":"SUM(E716:E755)","v":0},0,0,0,null,null,null,null,null,null,null,null,null,null,null,null,null,null,null,null,null,null,null,{"$f":"SUM(AB716:AB755)","v":0},0,0,0,0,0,0,0,0,0,null,0]
[null,"IX.- EXAMENES ORINA"]
["0309001","Acido ascórbico",null,0,0,null,null,null,null,null,null,null,null,null,null,null,null,null,null,null,null,null,null,null,null,null,null,null,null,null,null,null,null,null,null,null,null,2180,{"$f":"AL758*F758","v":0}]
["0309002","Acido delta aminolevulínico",null,0,0,null,null,null,null,null,null,null,null,null,null,null,null,null,null,null,null,null,null,null,null,null,null,null,null,null,null,null,null,null,null,null,null,4470,0]
["0309004","Ácido úrico en orina (cuantitativo)",null,0,0,null,null,null,null,null,null,null,null,null,null,null,null,null,null,null,null,null,null,null,null,null,null,null,null,null,null,null,null,null,null,null,null,1980,0]
["0309005","Acido 5 hidroxiindolacético cuantitativo",null,0,0,null,null,null,null,null,null,null,null,null,null,null,null,null,null,null,null,null,null,null,null,null,null,null,null,null,null,null,null,null,null,null,null,4650,0]
["0309006","Amilasa cuantitativa en orina",null,0,0,null,null,null,null,null,null,null,null,null,null,null,null,null,null,null,null,null,null,null,null,null,null,null,null,null,null,null,null,null,null,null,null,2460,0]
["0309007","Aminoácidos en orina (cualitativo)(excepto fenilalanina, PKU)",null,0,0,null,null,null,null,null,null,null,null,null,null,null,null,null,null,null,null,null,null,null,null,null,null,null,null,null,null,null,null,null,null,null,null,4470,0]
["0309008","Calcio cuantitativo en orina",null,0,0,null,null,null,null,null,null,null,null,null,null,null,null,null,null,null,null,null,null,null,null,null,null,null,null,null,null,null,null,null,null,null,null,1840,0]
["0309009","Cálculo urinario (examen físico y químico)",null,0,0,null,null,null,null,null,null,null,null,null,null,null,null,null,null,null,null,null,null,null,null,null,null,null,null,null,null,null,null,null,null,null,null,3840,0]
["0309010","Creatinina cuantitativa en orina",null,0,0,null,null,null,null,null,null,null,null,null,null,null,null,null,null,null,null,null,null,null,null,null,null,null,null,null,null,null,null,null,null,null,null,1380,0]
["0309011","Cuerpos cetónicos",null,0,0,null,null,null,null,null,null,null,null,null,null,null,null,null,null,null,null,null,null,null,null,null,null,null,null,null,null,null,null,null,null,null,null,1380,0]
["0309012","Electrólitos (sodio, potasio, cloro) c/u, en orina",null,0,0,null,null,null,null,null,null,null,null,null,null,null,null,null,null,null,null,null,null,null,null,null,null,null,null,null,null,null,null,null,null,null,null,1380,0]
["0309013","Microalbuminuria cuantitativa",null,0,0,null,null,null,null,null,null,null,null,null,null,null,null,null,null,null,null,null,null,null,null,null,null,null,null,null,null,null,null,null,null,null,null,2790,0]
["0309014","Gonadotrofina coriónica, sub-unidad beta en orina (test rápido)",null,0,0,null,null,null,null,null,null,null,null,null,null,null,null,null,null,null,null,null,null,null,null,null,null,null,null,null,null,null,null,null,null,null,null,2350,0]
["0309015","Fósforo cuantitativo en orina",null,0,0,null,null,null,null,null,null,null,null,null,null,null,null,null,null,null,null,null,null,null,null,null,null,null,null,null,null,null,null,null,null,null,null,1840,0]
["0309016","Glucosa (cuantitativo), en orina",null,0,0,null,null,null,null,null,null,null,null,null,null,null,null,null,null,null,null,null,null,null,null,null,null,null,null,null,null,null,null,null,null,null,null,1230,0]
["0309035","Hemosiderina",null,0,0,null,null,null,null,null,null,null,null,null,null,null,null,null,null,null,null,null,null,null,null,null,null,null,null,null,null,null,null,null,null,null,null,1030,0]
["0309017","Hidroxiprolina en orina",null,0,0,null,null,null,null,null,null,null,null,null,null,null,null,null,null,null,null,null,null,null,null,null,null,null,null,null,null,null,null,null,null,null,null,4180,0]
["0309019","Mucopolisacáridos",null,0,0,null,null,null,null,null,null,null,null,null,null,null,null,null,null,null,null,null,null,null,null,null,null,null,null,null,null,null,null,null,null,null,null,5550,0]
["0309020","Nitrógeno ureico o urea en orina (cuantitativo)",null,0,0,null,null,null,null,null,null,null,null,null,null,null,null,null,null,null,null,null,null,null,null,null,null,null,null,null,null,null,null,null,null,null,null,770,0]
["0309021","Nucleótidos cíclicos (CAMP, CGM, u otros) c/u",null,0,0,null,null,null,null,null,null,null,null,null,null,null,null,null,null,null,null,null,null,null,null,null,null,null,null,null,null,null,null,null,null,null,null,4470,0]
["0309022","Orina completa, (incluye cód. 03-09-023 y 03-09-024)",null,0,0,null,null,null,null,null,null,null,null,null,null,null,null,null,null,null,null,null,null,null,null,null,null,null,null,null,null,null,null,null,null,null,null,1770,0]
["0309023","Orina, físico-químico ( aspecto, color, densidad, pH; proteínas, glucosa, cuerpos cetónicos, urobilinogeno, bilirrubina, hemoglobina y nitritos, determinación cualitativa o semi cuantitativa) todos o cada uno de los parámetros (proc. aut.)",null,0,0,null,null,null,null,null,null,null,null,null,null,null,null,null,null,null,null,null,null,null,null,null,null,null,null,null,null,null,null,null,null,null,null,1090,0]
["0309024","Sedimento de orina (proc. aut.)",null,0,0,null,null,null,null,null,null,null,null,null,null,null,null,null,null,null,null,null,null,null,null,null,null,null,null,null,null,null,null,null,null,null,null,1000,0]
["0309025","Osmolalidad",null,0,0,null,null,null,null,null,null,null,null,null,null,null,null,null,null,null,null,null,null,null,null,null,null,null,null,null,null,null,null,null,null,null,null,1600,0]
["0309027","Porfirinas, c/u",null,0,0,null,null,null,null,null,null,null,null,null,null,null,null,null,null,null,null,null,null,null,null,null,null,null,null,null,null,null,null,null,null,null,null,1920,0]
["0309028","Proteína (cuantitativa), en orina",null,0,0,null,null,null,null,null,null,null,null,null,null,null,null,null,null,null,null,null,null,null,null,null,null,null,null,null,null,null,null,null,null,null,null,1600,0]
["0309029","Proteínas de Bence-Jones prueba térmica",null,0,0,null,null,null,null,null,null,null,null,null,null,null,null,null,null,null,null,null,null,null,null,null,null,null,null,null,null,null,null,null,null,null,null,1090,0]
["0309031","Screening de drogas",null,0,0,null,null,null,null,null,null,null,null,null,null,null,null,null,null,null,null,null,null,null,null,null,null,null,null,null,null,null,null,null,null,null,null,6180,0]
["0309034","Arsenico en orina (muestra aislada)",null,0,0,null,null,null,null,null,null,null,null,null,null,null,null,null,null,null,null,null,null,null,null,null,null,null,null,null,null,null,null,null,null,null,null,44590,0]
["0309036","Cobre en orina",null,0,0,null,null,null,null,null,null,null,null,null,null,null,null,null,null,null,null,null,null,null,null,null,null,null,null,null,null,null,null,null,null,null,null,30260,0]
["0309037","Oxalato en orina",null,0,0,null,null,null,null,null,null,null,null,null,null,null,null,null,null,null,null,null,null,null,null,null,null,null,null,null,null,null,null,null,null,null,null,19360,0]
["0309038","Citrato en orina (enzimático)",null,0,0,null,null,null,null,null,null,null,null,null,null,null,null,null,null,null,null,null,null,null,null,null,null,null,null,null,null,null,null,null,null,null,null,21880,0]
["0309039","Deoxipiridinolina (DPD)",null,0,0,null,null,null,null,null,null,null,null,null,null,null,null,null,null,null,null,null,null,null,null,null,null,null,null,null,null,null,null,null,null,null,null,16550,0]
["0309040","Magnesio en orina",null,0,0,null,null,null,null,null,null,null,null,null,null,null,null,null,null,null,null,null,null,null,null,null,null,null,null,null,null,null,null,null,null,null,null,15450,0]
["0309041","Sulfato en orina",null,0,0,null,null,null,null,null,null,null,null,null,null,null,null,null,null,null,null,null,null,null,null,null,null,null,null,null,null,null,null,null,null,null,null,22510,0]
["0309042","L-Cistina en orina",null,0,0,null,null,null,null,null,null,null,null,null,null,null,null,null,null,null,null,null,null,null,null,null,null,null,null,null,null,null,null,null,null,null,null,15560,0]
["0309043","Ph en orina con peachimetro",null,0,0,null,null,null,null,null,null,null,null,null,null,null,null,null,null,null,null,null,null,null,null,null,null,null,null,null,null,null,null,null,null,null,null,1060,0]
["0309044","Ácidos orgánicos, orina",null,0,0,null,null,null,null,null,null,null,null,null,null,null,null,null,null,null,null,null,null,null,null,null,null,null,null,null,null,null,null,null,null,null,null,133730,0]
["0309045","Ácido orótico, orina",null,0,0,null,null,null,null,null,null,null,null,null,null,null,null,null,null,null,null,null,null,null,null,null,null,null,null,null,null,null,null,null,null,null,null,112790,0]
["0309046","Screening de mucopolisacaridos",null,0,0,null,null,null,null,null,null,null,null,null,null,null,null,null,null,null,null,null,null,null,null,null,null,null,null,null,null,null,null,null,null,null,null,103970,0]
["0309047","Zinc en orina",null,{"$f":"SUM(E798+H798)","v":0},{"$f":"SUM(F798:G798)","v":0},null,null,null,null,null,null,null,null,null,null,null,null,null,null,null,null,null,null,null,null,null,null,null,null,null,null,null,null,null,null,null,null,17560,0]
[null,"TOTAL",null,{"$f":"SUM(D758:D797)","v":0},{"$f":"SUM(E758:E797)","v":0},0,0,0,null,null,null,null,null,null,null,null,null,null,null,null,null,null,null,null,null,null,null,{"$f":"SUM(AB758:AB797)","v":0},{"$f":"SUM(AC758:AC797)","v":0},0,0,0,0,0,0,0,0,null,{"$f":"SUM(AM758:AM797)","v":0}]
[null,"IMAGENOLOGIA                "]
[null,"EXAMENES RADIOLOGICOS SIMPLES      "]
["0401001","Radiografía de las glándulas salivales \"sialografía\"",null,0,0,null,null,null,null,null,null,null,null,null,null,null,null,null,null,null,null,null,null,null,null,null,null,null,null,null,null,null,null,null,null,null,null,21190,{"$f":"AL802*F802","v":0}]
["0401002","Radiografía de partes blandas, laringe lateral, cavum rinofaríngeo (rinofarinx). ",null,0,0,null,null,null,null,null,null,null,null,null,null,null,null,null,null,null,null,null,null,null,null,null,null,null,null,null,null,null,null,null,null,null,null,8880,0]
["0401004","Radiografía de tórax, proyección complementaria (oblicuas, selectivas u otras)",null,0,0,null,null,null,null,null,null,null,null,null,null,null,null,null,null,null,null,null,null,null,null,null,null,null,null,null,null,null,null,null,null,null,null,6390,0]
["0401008","Radiografía de tórax  frontal o lateral con equipo móvil fuera del departamento de rayos.",null,0,0,null,null,null,null,null,null,null,null,null,null,null,null,null,null,null,null,null,null,null,null,null,null,null,null,null,null,null,null,null,null,null,null,9500,0]
["0401009","Radiografía de tórax simple frontal o lateral ",null,0,0,null,null,null,null,null,null,null,null,null,null,null,null,null,null,null,null,null,null,null,null,null,null,null,null,null,null,null,null,null,null,null,null,9500,0]
["0401070","Radiografía de tórax frontal y lateral",null,0,0,null,null,null,null,null,null,null,null,null,null,null,null,null,null,null,null,null,null,null,null,null,null,null,null,null,null,null,null,null,null,null,null,17400,0]
["0401075","Radiografía de tórax frontal y lateral con equipo móvil fuera del departamento de rayos",null,0,0,null,null,null,null,null,null,null,null,null,null,null,null,null,null,null,null,null,null,null,null,null,null,null,null,null,null,null,null,null,null,null,null,7350,0]
["0401010","Mamografía bilateral",null,0,0,null,null,null,null,null,null,null,null,null,null,null,null,null,null,null,null,null,null,null,null,null,null,null,null,null,null,null,null,null,null,null,null,20150,0]
["0401110","Mamografía unilateral",null,0,0,null,null,null,null,null,null,null,null,null,null,null,null,null,null,null,null,null,null,null,null,null,null,null,null,null,null,null,null,null,null,null,null,12020,0]
["0401130","Mamografía proyección complementaria  (axilar u otras)",null,{"$f":"SUM(E811+H811)","v":0},{"$f":"SUM(F811:G811)","v":0},null,null,null,null,null,null,null,null,null,null,null,null,null,null,null,null,null,null,null,null,null,null,null,null,null,null,null,null,null,null,null,null,4600,0]
["0401011","Marcación preoperatoria de lesiones de la mama",null,0,0,null,null,null,null,null,null,null,null,null,null,null,null,null,null,null,null,null,null,null,null,null,null,null,null,null,null,null,null,null,null,null,null,21190,0]
["0401012","Radiografía de mama, pieza operatoria",null,0,0,null,null,null,null,null,null,null,null,null,null,null,null,null,null,null,null,null,null,null,null,null,null,null,null,null,null,null,null,null,null,null,null,6390,0]
["0401071","Mamografía bilateral digital 3D con tomosíntesis",null,null,null,null,null,null,null,null,null,null,null,null,null,null,null,null,null,null,null,null,null,null,null,null,null,null,null,null,null,null,null,null,null,null,null,32030]
["0401072","Mamografía unilateral digital 3D con tomosíntesis",null,null,null,null,null,null,null,null,null,null,null,null,null,null,null,null,null,null,null,null,null,null,null,null,null,null,null,null,null,null,null,null,null,null,null,25600]
["0401013","Radiografía de Abdomen Simple",null,0,0,null,null,null,null,null,null,null,null,null,null,null,null,null,null,null,null,null,null,null,null,null,null,null,null,null,null,null,null,null,null,null,null,8450,{"$f":"AL816*F816","v":0}]
["0401014","Radiografía de abdomen simple, proyección complementaria (lateral y/o oblicua)",null,0,0,null,null,null,null,null,null,null,null,null,null,null,null,null,null,null,null,null,null,null,null,null,null,null,null,null,null,null,null,null,null,null,null,6390,0]
["0401015","Colangiografía intra o postoperatoria (por sonda T, o similar)",null,0,0,null,null,null,null,null,null,null,null,null,null,null,null,null,null,null,null,null,null,null,null,null,null,null,null,null,null,null,null,null,null,null,null,17670,0]
["0401018","Enema baritado del colon (incluye llene y control post-vaciamiento)",null,0,0,null,null,null,null,null,null,null,null,null,null,null,null,null,null,null,null,null,null,null,null,null,null,null,null,null,null,null,null,null,null,null,null,35640,0]
["0401019","Enema baritado del colon o intestino delgado, doble contraste",null,0,0,null,null,null,null,null,null,null,null,null,null,null,null,null,null,null,null,null,null,null,null,null,null,null,null,null,null,null,null,null,null,null,null,40080,0]
["0401020","Esofagograma  (incluye pesquisa de cuerpo extraño) (proc.aut.)",null,0,0,null,null,null,null,null,null,null,null,null,null,null,null,null,null,null,null,null,null,null,null,null,null,null,null,null,null,null,null,null,null,null,null,15860,0]
["0401021","Radiografía de esófago, estómago y duodeno, relleno y/o doble contraste ",null,0,0,null,null,null,null,null,null,null,null,null,null,null,null,null,null,null,null,null,null,null,null,null,null,null,null,null,null,null,null,null,null,null,null,35310,0]
["0401022","Estudio radiológico de deglución faríngea",null,0,0,null,null,null,null,null,null,null,null,null,null,null,null,null,null,null,null,null,null,null,null,null,null,null,null,null,null,null,null,null,null,null,null,15860,0]
["0401023","Estudio radiológico del intestino delgado",null,0,0,null,null,null,null,null,null,null,null,null,null,null,null,null,null,null,null,null,null,null,null,null,null,null,null,null,null,null,null,null,null,null,null,28280,0]
["0401024","Radiografía de esófago, estómago y duodeno, simple en niños ",null,0,0,null,null,null,null,null,null,null,null,null,null,null,null,null,null,null,null,null,null,null,null,null,null,null,null,null,null,null,null,null,null,null,null,26140,0]
["0401073","Videofluoroscopia para estudio de deglución",null,null,null,null,null,null,null,null,null,null,null,null,null,null,null,null,null,null,null,null,null,null,null,null,null,null,null,null,null,null,null,null,null,null,null,35450]
["0401074","Tránsito colónico con marcadores",null,null,null,null,null,null,null,null,null,null,null,null,null,null,null,null,null,null,null,null,null,null,null,null,null,null,null,null,null,null,null,null,null,null,null,25400]
["0401027","Pielografía de eliminación o descendente: incluye renal y vesical simples previas, 3 placas post inyección de medio de contraste, controles de pie y cistografía pre y post miccional. ",null,0,0,null,null,null,null,null,null,null,null,null,null,null,null,null,null,null,null,null,null,null,null,null,null,null,null,null,null,null,null,null,null,null,null,38460,{"$f":"AL828*F828","v":0}]
["0401028","Radiografía renal simple (proc. aut.)",null,0,0,null,null,null,null,null,null,null,null,null,null,null,null,null,null,null,null,null,null,null,null,null,null,null,null,null,null,null,null,null,null,null,null,8130,0]
["0401029","Radiografía vesical simple o perivesical (proc. aut.)",null,0,0,null,null,null,null,null,null,null,null,null,null,null,null,null,null,null,null,null,null,null,null,null,null,null,null,null,null,null,null,null,null,null,null,7080,0]
["0401031","Radiografía de cavidades perinasales, órbitas, articulaciones temporomandibulares, huesos propios de la nariz, malar, maxilar, arco cigomático y cara",null,0,0,null,null,null,null,null,null,null,null,null,null,null,null,null,null,null,null,null,null,null,null,null,null,null,null,null,null,null,null,null,null,null,null,9500,0]
["0401032","Radiografía de cráneo frontal y lateral",null,0,0,null,null,null,null,null,null,null,null,null,null,null,null,null,null,null,null,null,null,null,null,null,null,null,null,null,null,null,null,null,null,null,null,10050,0]
["0401033","Radiografía de Cráneo  proyección especial de  base de cráneo (Towne)",null,0,0,null,null,null,null,null,null,null,null,null,null,null,null,null,null,null,null,null,null,null,null,null,null,null,null,null,null,null,null,null,null,null,null,7080,0]
["0401035","Radiografía de oído, unilateral o bilateral",null,0,0,null,null,null,null,null,null,null,null,null,null,null,null,null,null,null,null,null,null,null,null,null,null,null,null,null,null,null,null,null,null,null,null,13870,0]
["0401040","Radiografía de silla turca frontal y lateral",null,0,0,null,null,null,null,null,null,null,null,null,null,null,null,null,null,null,null,null,null,null,null,null,null,null,null,null,null,null,null,null,null,null,null,11630,0]
["0401042","Radiografía de columna cervical o atlas-axis (frontal y lateral)",null,0,0,null,null,null,null,null,null,null,null,null,null,null,null,null,null,null,null,null,null,null,null,null,null,null,null,null,null,null,null,null,null,null,null,9500,0]
["0401043","Radiografía de columna cervical (frontal, lateral y oblicuas)",null,0,0,null,null,null,null,null,null,null,null,null,null,null,null,null,null,null,null,null,null,null,null,null,null,null,null,null,null,null,null,null,null,null,null,16940,0]
["0401044","Radiografía de columna cervical  flexión y  extensión (Dinámicas)",null,0,0,null,null,null,null,null,null,null,null,null,null,null,null,null,null,null,null,null,null,null,null,null,null,null,null,null,null,null,null,null,null,null,null,9500,0]
["0401045","Radiografía de columna dorsal o dorsolumbar localizada, parrilla costal adultos (frontal y lateral)",null,0,0,null,null,null,null,null,null,null,null,null,null,null,null,null,null,null,null,null,null,null,null,null,null,null,null,null,null,null,null,null,null,null,null,11120,0]
["0401046","Radiografía columna lumbar o lumbosacra ( frontal, lateral y focalizada en el 5° espacio)   ",null,0,0,null,null,null,null,null,null,null,null,null,null,null,null,null,null,null,null,null,null,null,null,null,null,null,null,null,null,null,null,null,null,null,null,16390,0]
["0401047","Radiografía columna lumbar o lumbosacra  flexión y  extensión (Dinámicas)",null,0,0,null,null,null,null,null,null,null,null,null,null,null,null,null,null,null,null,null,null,null,null,null,null,null,null,null,null,null,null,null,null,null,null,14060,0]
["0401048","Radiografía columna lumbar o lumbosacra, oblicuas adicionales ",null,0,0,null,null,null,null,null,null,null,null,null,null,null,null,null,null,null,null,null,null,null,null,null,null,null,null,null,null,null,null,null,null,null,null,9500,0]
["0401049","Radiografía de columna total, panorámica con folio graduado  frontal o lateral",null,0,0,null,null,null,null,null,null,null,null,null,null,null,null,null,null,null,null,null,null,null,null,null,null,null,null,null,null,null,null,null,null,null,null,12730,0]
["0401051","Radiografía de pelvis, cadera o coxofemoral",null,0,0,null,null,null,null,null,null,null,null,null,null,null,null,null,null,null,null,null,null,null,null,null,null,null,null,null,null,null,null,null,null,null,null,7330,0]
["0401151","Radiografía de pelvis, cadera o coxofemoral de RN, lactante o niño menor de 6 años.",null,0,0,null,null,null,null,null,null,null,null,null,null,null,null,null,null,null,null,null,null,null,null,null,null,null,null,null,null,null,null,null,null,null,null,7330,0]
["0401052","Radiografía de pelvis, cadera o coxofemoral, proyecciones especiales; (rotación interna, abducción, lateral, Lawenstein u otras)",null,0,0,null,null,null,null,null,null,null,null,null,null,null,null,null,null,null,null,null,null,null,null,null,null,null,null,null,null,null,null,null,null,null,null,7080,0]
["0401053","Radiografía de Sacrocoxis o articulaciones sacroilíacas.",null,0,0,null,null,null,null,null,null,null,null,null,null,null,null,null,null,null,null,null,null,null,null,null,null,null,null,null,null,null,null,null,null,null,null,10570,0]
["0401054","Radiografía de brazo, antebrazo, codo, muñeca, mano, dedos, pie  (frontal y lateral)",null,0,0,null,null,null,null,null,null,null,null,null,null,null,null,null,null,null,null,null,null,null,null,null,null,null,null,null,null,null,null,null,null,null,null,8450,0]
["0401055","Radiografía de clavícula.",null,0,0,null,null,null,null,null,null,null,null,null,null,null,null,null,null,null,null,null,null,null,null,null,null,null,null,null,null,null,null,null,null,null,null,9770,0]
["0401056","Radiografía Edad Ósea: carpo y mano ",null,0,0,null,null,null,null,null,null,null,null,null,null,null,null,null,null,null,null,null,null,null,null,null,null,null,null,null,null,null,null,null,null,null,null,7080,0]
["0401057","Radiografía Edad ósea : rodilla frontal",null,0,0,null,null,null,null,null,null,null,null,null,null,null,null,null,null,null,null,null,null,null,null,null,null,null,null,null,null,null,null,null,null,null,null,7080,0]
["0401058","Estudio radiológico de escafoides",null,0,0,null,null,null,null,null,null,null,null,null,null,null,null,null,null,null,null,null,null,null,null,null,null,null,null,null,null,null,null,null,null,null,null,10570,0]
["0401059","Estudio radiológico de muñeca o tobillo frontal lateral y oblicuas",null,0,0,null,null,null,null,null,null,null,null,null,null,null,null,null,null,null,null,null,null,null,null,null,null,null,null,null,null,null,null,null,null,null,null,9870,0]
["0401060","Radiografía de hombro, fémur, rodilla, pierna, costilla o esternón Frontal y Lateral",null,0,0,null,null,null,null,null,null,null,null,null,null,null,null,null,null,null,null,null,null,null,null,null,null,null,null,null,null,null,null,null,null,null,null,9870,0]
["0401062","Radiografía de Proyecciones especiales oblicuas u otras en hombro, brazo, codo, rodilla, rótulas, sesamoideos, axial de ambas rótulas o similares",null,0,0,null,null,null,null,null,null,null,null,null,null,null,null,null,null,null,null,null,null,null,null,null,null,null,null,null,null,null,null,null,null,null,null,7080,0]
["0401063","Radiografía de túnel intercondíleo o radio-carpiano",null,0,0,null,null,null,null,null,null,null,null,null,null,null,null,null,null,null,null,null,null,null,null,null,null,null,null,null,null,null,null,null,null,null,null,7080,0]
["0401064","Apoyo fluoroscópico a procedimientos intraoperatorios y/o biopsia (no incluye el proc.)",null,0,0,null,null,null,null,null,null,null,null,null,null,null,null,null,null,null,null,null,null,null,null,null,null,null,null,null,null,null,null,null,null,null,null,7080,0]
[5099115,"Radiografía de pelvis, cadera o coxofemoral de 1er screening  (entre 3 -6 meses)",null,0,0]
[null,"TOTAL",null,{"$f":"SUM(D802:D857)","v":0},{"$f":"SUM(E802:E857)","v":0},{"$f":"SUM(F802:F857)","v":0},{"$f":"SUM(G802:G857)","v":0},{"$f":"SUM(H802:H857)","v":0},null,null,null,null,null,null,null,null,null,null,null,null,null,null,null,null,null,null,null,{"$f":"SUM(AB802:AB857)","v":0},0,0,0,0,0,0,0,0,0,null,0]
[null,"EXAMENES RADIOLOGICOS COMPLEJOS   "]
["0402001","Vía lagrimal unilateral",null,0,0,null,null,null,null,null,null,null,null,null,null,null,null,null,null,null,null,null,null,null,null,null,null,null,null,null,null,null,null,null,null,null,null,17650,{"$f":"AL861*F861","v":0}]
["0402005","Galactografía, unilateral",null,0,0,null,null,null,null,null,null,null,null,null,null,null,null,null,null,null,null,null,null,null,null,null,null,null,null,null,null,null,null,null,null,null,null,10140,0]
["0402008","Colangiopancreatografía endoscópica (5-7 exp)",null,0,0,null,null,null,null,null,null,null,null,null,null,null,null,null,null,null,null,null,null,null,null,null,null,null,null,null,null,null,null,null,null,null,null,77600,0]
["0402009","Fistulografía  (3 exp.)",null,0,0,null,null,null,null,null,null,null,null,null,null,null,null,null,null,null,null,null,null,null,null,null,null,null,null,null,null,null,null,null,null,null,null,13910,0]
["0402011","Histerosalpingografía (a.c. 20-01-013) (4 exp.; incluye prueba de Cotte tardía)",null,0,0,null,null,null,null,null,null,null,null,null,null,null,null,null,null,null,null,null,null,null,null,null,null,null,null,null,null,null,null,null,null,null,null,20670,0]
["0402012","Pielografía ascendente (3 exp.)",null,0,0,null,null,null,null,null,null,null,null,null,null,null,null,null,null,null,null,null,null,null,null,null,null,null,null,null,null,null,null,null,null,null,null,58060,0]
["0402014","Uretro y/o cistouretrografía miccional retrógrada  (5 exp.)",null,0,0,null,null,null,null,null,null,null,null,null,null,null,null,null,null,null,null,null,null,null,null,null,null,null,null,null,null,null,null,null,null,null,null,29690,0]
["0402015","Artrografía facetaria",null,0,0,null,null,null,null,null,null,null,null,null,null,null,null,null,null,null,null,null,null,null,null,null,null,null,null,null,null,null,null,null,null,null,null,33870,0]
["0402019","Angiografía selectiva de carótida externa o interna",null,0,0,null,null,null,null,null,null,null,null,null,null,null,null,null,null,null,null,null,null,null,null,null,null,null,null,null,null,null,null,null,null,null,null,58570,0]
["0402020","Angiografía selectiva medular",null,0,0,null,null,null,null,null,null,null,null,null,null,null,null,null,null,null,null,null,null,null,null,null,null,null,null,null,null,null,null,null,null,null,null,58570,0]
["0402024","Aortografía con AOT o cineangiografía",null,0,0,null,null,null,null,null,null,null,null,null,null,null,null,null,null,null,null,null,null,null,null,null,null,null,null,null,null,null,null,null,null,null,null,62330,0]
["0402025","Arteriografía de miembros superiores o inferiores unilateral (a.c.17-01-023)",null,0,0,null,null,null,null,null,null,null,null,null,null,null,null,null,null,null,null,null,null,null,null,null,null,null,null,null,null,null,null,null,null,null,null,46450,0]
["0402027","Arteriografía selectiva con AOT o cineangiografía (pulmonar, renal, tronco celíaco o similar) c/u",null,{"$f":"SUM(E873+H873)","v":0},{"$f":"SUM(F873:G873)","v":0},null,null,null,null,null,null,null,null,null,null,null,null,null,null,null,null,null,null,null,null,null,null,null,null,null,null,null,null,null,null,null,null,76270,0]
["0402029","Arteriografía de vasos del cuello (carótidas y vertebrales) (a.c. 11-01-013)",null,0,0,null,null,null,null,null,null,null,null,null,null,null,null,null,null,null,null,null,null,null,null,null,null,null,null,null,null,null,null,null,null,null,null,54990,0]
["0402031","Embolización o balonización (a.c. de la angiografía correspondiente) (incluye control radiológico inmediato)",null,0,0,null,null,null,null,null,null,null,null,null,null,null,null,null,null,null,null,null,null,null,null,null,null,null,null,null,null,null,null,null,null,null,null,22670,0]
["0402032","Instalación de catéter o sonda intracardíaca, control por radiólogo",null,0,0,null,null,null,null,null,null,null,null,null,null,null,null,null,null,null,null,null,null,null,null,null,null,null,null,null,null,null,null,null,null,null,null,55940,0]
["0402035","Cavografía",null,0,0,null,null,null,null,null,null,null,null,null,null,null,null,null,null,null,null,null,null,null,null,null,null,null,null,null,null,null,null,null,null,null,null,39690,0]
["0402038","Flebografía extremidad inferior o superior, unilateral (a.c. 17-01-026) cada extremidad.",null,0,0,null,null,null,null,null,null,null,null,null,null,null,null,null,null,null,null,null,null,null,null,null,null,null,null,null,null,null,null,null,null,null,null,29880,0]
["0402040","Flebografía orbitaria o yugular",null,0,0,null,null,null,null,null,null,null,null,null,null,null,null,null,null,null,null,null,null,null,null,null,null,null,null,null,null,null,null,null,null,null,null,42010,0]
["0402041","Flebografía selectiva de venas hepáticas, renales, gonadales, pélvicas. (a.c. 17-01-027)",null,0,0,null,null,null,null,null,null,null,null,null,null,null,null,null,null,null,null,null,null,null,null,null,null,null,null,null,null,null,null,null,null,null,null,39690,0]
["0402050","Mielografía por punción lumbar con contraste hidrosoluble",null,0,0,null,null,null,null,null,null,null,null,null,null,null,null,null,null,null,null,null,null,null,null,null,null,null,null,null,null,null,null,null,null,null,null,42010,0]
[null,"TOTAL",null,{"$f":"SUM(D861:D881)","v":0},{"$f":"SUM(E861:E881)","v":0},{"$f":"SUM(F861:F881)","v":0},{"$f":"SUM(G861:G881)","v":0},{"$f":"SUM(H861:H881)","v":0},null,null,null,null,null,null,null,null,null,null,null,null,null,null,null,null,null,null,null,{"$f":"SUM(AB861:AB881)","v":0},0,0,0,0,0,0,0,0,0,null,0]
[null,"TOMOGRAFIA AXIAL COMPUTARIZADA (TAC)   "]
["0403001","Tomografía Computarizada de cráneo encefálica",null,0,0,null,null,null,null,null,null,null,null,null,null,null,null,null,null,null,null,null,null,null,null,null,null,null,null,null,null,null,null,null,null,null,null,59840,{"$f":"AL884*F884","v":0}]
["0403002","Tomografía Computarizada de hipotálamo-hipófisis",null,0,0,null,null,null,null,null,null,null,null,null,null,null,null,null,null,null,null,null,null,null,null,null,null,null,null,null,null,null,null,null,null,null,null,66800,0]
["0403003","Tomografía Computarizada de fosa posterior",null,0,0,null,null,null,null,null,null,null,null,null,null,null,null,null,null,null,null,null,null,null,null,null,null,null,null,null,null,null,null,null,null,null,null,55060,0]
["0403006","Tomografía Computarizada de temporal-oído ",null,0,0,null,null,null,null,null,null,null,null,null,null,null,null,null,null,null,null,null,null,null,null,null,null,null,null,null,null,null,null,null,null,null,null,55060,0]
["0403007","Tomografía Computarizada de órbitas maxilofacial ",null,0,0,null,null,null,null,null,null,null,null,null,null,null,null,null,null,null,null,null,null,null,null,null,null,null,null,null,null,null,null,null,null,null,null,66800,0]
["0403008","Tomografía Computarizada de columna cervical ",null,0,0,null,null,null,null,null,null,null,null,null,null,null,null,null,null,null,null,null,null,null,null,null,null,null,null,null,null,null,null,null,null,null,null,73040,0]
["0403018","Tomografía Computarizada de Columna Dorsal. Incluye mínimo 6 espacios ",null,0,0,null,null,null,null,null,null,null,null,null,null,null,null,null,null,null,null,null,null,null,null,null,null,null,null,null,null,null,null,null,null,null,null,66680,0]
["0403019","Tomografía Computarizada de Columna Lumbar ",null,0,0,null,null,null,null,null,null,null,null,null,null,null,null,null,null,null,null,null,null,null,null,null,null,null,null,null,null,null,null,null,null,null,null,66680,0]
["0403012","Tomografía Computarizada de cuello, partes blandas ",null,0,0,null,null,null,null,null,null,null,null,null,null,null,null,null,null,null,null,null,null,null,null,null,null,null,null,null,null,null,null,null,null,null,null,55060,0]
["0403013","Tomografía Computarizada de Tórax. Incluye además: Esternón, Clavículas, Articulación Acromioclavicular, Escápula, Costillas, Articulación Esternoclavicular. Incluye todo el Tórax o cada segmento o articulación. Incluye bilateralidad",null,0,0,null,null,null,null,null,null,null,null,null,null,null,null,null,null,null,null,null,null,null,null,null,null,null,null,null,null,null,null,null,null,null,null,86230,0]
["0403014","Tomografía Computarizada de abdomen (hígado, vías y vesícula biliar, páncreas, bazo, suprarrenales y riñones)",null,0,0,null,null,null,null,null,null,null,null,null,null,null,null,null,null,null,null,null,null,null,null,null,null,null,null,null,null,null,null,null,null,null,null,51350,0]
["0403016","Tomografía Computarizada de Pelvis (Además incluye Sacro, Coxis, Caderas, Huesos Pélvicos, Articulaciones Sacro Ilíacas). Bilateral",null,0,0,null,null,null,null,null,null,null,null,null,null,null,null,null,null,null,null,null,null,null,null,null,null,null,null,null,null,null,null,null,null,null,null,51350,0]
["0403020","Tomografía Computarizada de Abdomen y Pelvis",null,0,0,null,null,null,null,null,null,null,null,null,null,null,null,null,null,null,null,null,null,null,null,null,null,null,null,null,null,null,null,null,null,null,null,87300,0]
["0403021","Tomografía Computarizada Pielografía",null,0,0,null,null,null,null,null,null,null,null,null,null,null,null,null,null,null,null,null,null,null,null,null,null,null,null,null,null,null,null,null,null,null,null,20280,0]
["0403022","Tomografía Computarizada Urografía",null,0,0,null,null,null,null,null,null,null,null,null,null,null,null,null,null,null,null,null,null,null,null,null,null,null,null,null,null,null,null,null,null,null,null,50710,0]
["0403023","Tomografía Computarizada de Colonoscopía Virtual. No incluye instalación de sonda",null,0,0,null,null,null,null,null,null,null,null,null,null,null,null,null,null,null,null,null,null,null,null,null,null,null,null,null,null,null,null,null,null,null,null,38680,0]
["0403024","Tomografía Computarizada Planificación Radioterapia",null,0,0,null,null,null,null,null,null,null,null,null,null,null,null,null,null,null,null,null,null,null,null,null,null,null,null,null,null,null,null,null,null,null,null,54920,0]
["0403025","Tomografía Computarizada de Calcio Coronario",null,0,0,null,null,null,null,null,null,null,null,null,null,null,null,null,null,null,null,null,null,null,null,null,null,null,null,null,null,null,null,null,null,null,null,23470,0]
["0403104","Tomografía Computarizada Angio de Cuello",null,0,0,null,null,null,null,null,null,null,null,null,null,null,null,null,null,null,null,null,null,null,null,null,null,null,null,null,null,null,null,null,null,null,null,49080,0]
["0403105","Tomografía Computarizada Angio de Pelvis",null,0,0,null,null,null,null,null,null,null,null,null,null,null,null,null,null,null,null,null,null,null,null,null,null,null,null,null,null,null,null,null,null,null,null,40060,0]
["0403106","Tomografía Computarizada de Angio Cardíaco. Mínimo 64 cortes",null,0,0,null,null,null,null,null,null,null,null,null,null,null,null,null,null,null,null,null,null,null,null,null,null,null,null,null,null,null,null,null,null,null,null,44060,0]
["0403017","Tomografía Computarizada Musculoesquelética por zona anatómica. Por cada segmento o articulación: muslo, pierna, rodillas, antebrazo, codo, muñeca, mano, hombro, pie, tobillo u otros. Bilateral sólo para rodillas",null,0,0,null,null,null,null,null,null,null,null,null,null,null,null,null,null,null,null,null,null,null,null,null,null,null,null,null,null,null,null,null,null,null,null,46590,0]
["0403101","Tomografía Computarizada angio  de encéfalo",null,0,0,null,null,null,null,null,null,null,null,null,null,null,null,null,null,null,null,null,null,null,null,null,null,null,null,null,null,null,null,null,null,null,null,72600,0]
["0403102","Tomografía Computarizada angio de tórax",null,0,0,null,null,null,null,null,null,null,null,null,null,null,null,null,null,null,null,null,null,null,null,null,null,null,null,null,null,null,null,null,null,null,null,103280,0]
["0403103","Tomografía Computarizada angio de abdomen",null,0,0,null,null,null,null,null,null,null,null,null,null,null,null,null,null,null,null,null,null,null,null,null,null,null,null,null,null,null,null,null,null,null,null,98300,0]
["0403107","Tomografía computarizada angio de extremidades inferiores (bilateral)",null,0,0,null,null,null,null,null,null,null,null,null,null,null,null,null,null,null,null,null,null,null,null,null,null,null,null,null,null,null,null,null,null,null,null,74010,0]
["0403108","Tomografía computarizada angio de extremidad superior (unilateral)",null,0,0,null,null,null,null,null,null,null,null,null,null,null,null,null,null,null,null,null,null,null,null,null,null,null,null,null,null,null,null,null,null,null,null,74630,0]
["0403026","Tomografía computarizada de enterografía ",null,0,0,null,null,null,null,null,null,null,null,null,null,null,null,null,null,null,null,null,null,null,null,null,null,null,null,null,null,null,null,null,null,null,null,65980,0]
[null,"TOTAL",null,{"$f":"SUM(D884:D911)","v":0},{"$f":"SUM(E884:E911)","v":0},{"$f":"SUM(F884:F911)","v":0},{"$f":"SUM(G884:G911)","v":0},{"$f":"SUM(H884:H911)","v":0},null,null,null,null,null,null,null,null,null,null,null,null,null,null,null,null,null,null,null,{"$f":"SUM(AB884:AB911)","v":0},{"$f":"SUM(AC884:AC911)","v":0},{"$f":"SUM(AD884:AD911)","v":0},{"$f":"SUM(AE884:AE911)","v":0},0,0,0,0,0,0,null,0]
[null,"ULTRASONOGRAFIA                "]
["0404002","Ecografía obstétrica",null,0,0,null,null,null,null,null,null,null,null,null,null,null,null,null,null,null,null,null,null,null,null,null,null,null,null,null,null,null,null,null,null,null,null,6480,{"$f":"AL914*F914","v":0}]
["0404003","Ecografía abdominal (incluye hígado, vía biliar, vesícula, páncreas, riñones, bazo, retroperitoneo y grandes vasos)",null,0,0,null,null,null,null,null,null,null,null,null,null,null,null,null,null,null,null,null,null,null,null,null,null,null,null,null,null,null,null,null,null,null,null,23740,0]
["0404004","Ecografía como apoyo a cirugía, o a procedimiento (de tórax, muscular, partes blandas, etc.)",null,0,0,null,null,null,null,null,null,null,null,null,null,null,null,null,null,null,null,null,null,null,null,null,null,null,null,null,null,null,null,null,null,null,null,14680,0]
["0404005","Ecografía transvaginal o transrectal",null,0,0,null,null,null,null,null,null,null,null,null,null,null,null,null,null,null,null,null,null,null,null,null,null,null,null,null,null,null,null,null,null,null,null,13210,0]
["0404006","Ecografía ginecológica, pelviana femenina u obstétrica con estudio fetal",null,0,0,null,null,null,null,null,null,null,null,null,null,null,null,null,null,null,null,null,null,null,null,null,null,null,null,null,null,null,null,null,null,null,null,12580,0]
["0404007","Ecografía transvaginal para seguimiento de ovulación, procedimiento completo (6-8 sesiones )",null,0,0,null,null,null,null,null,null,null,null,null,null,null,null,null,null,null,null,null,null,null,null,null,null,null,null,null,null,null,null,null,null,null,null,18350,0]
["0404008","Ecografía para seguimiento de ovulación, procedimiento completo (6 a 8 sesiones)",null,0,0,null,null,null,null,null,null,null,null,null,null,null,null,null,null,null,null,null,null,null,null,null,null,null,null,null,null,null,null,null,null,null,null,18350,0]
["0404009","Ecografía pélvica masculina (incluye vejiga y próstata)",null,0,0,null,null,null,null,null,null,null,null,null,null,null,null,null,null,null,null,null,null,null,null,null,null,null,null,null,null,null,null,null,null,null,null,13210,0]
["0404010","Ecografía renal (bilateral), o de bazo",null,0,0,null,null,null,null,null,null,null,null,null,null,null,null,null,null,null,null,null,null,null,null,null,null,null,null,null,null,null,null,null,null,null,null,16520,0]
["0404011","Ecografía encefálica (RN o lactante)",null,0,0,null,null,null,null,null,null,null,null,null,null,null,null,null,null,null,null,null,null,null,null,null,null,null,null,null,null,null,null,null,null,null,null,16520,0]
["0404012","Ecografía mamaria bilateral (incluye Doppler)",null,0,0,null,null,null,null,null,null,null,null,null,null,null,null,null,null,null,null,null,null,null,null,null,null,null,null,null,null,null,null,null,null,null,null,16520,0]
["0404013","Ecografía ocular, unilateral o bilateral.",null,0,0,null,null,null,null,null,null,null,null,null,null,null,null,null,null,null,null,null,null,null,null,null,null,null,null,null,null,null,null,null,null,null,null,16520,0]
["0404014","Ecografía testicular (unilateral o bilateral) (Incluye Doppler)",null,0,0,null,null,null,null,null,null,null,null,null,null,null,null,null,null,null,null,null,null,null,null,null,null,null,null,null,null,null,null,null,null,null,null,16520,0]
["0404015","Ecografía tiroidea (Incluye Doppler)",null,0,0,null,null,null,null,null,null,null,null,null,null,null,null,null,null,null,null,null,null,null,null,null,null,null,null,null,null,null,null,null,null,null,null,16520,0]
["0404016","Ecografía Partes Blandas o Musculoesquelética (cada zona anatómica)",null,0,0,null,null,null,null,null,null,null,null,null,null,null,null,null,null,null,null,null,null,null,null,null,null,null,null,null,null,null,null,null,null,null,null,16520,0]
["0404017","Ecografía axilar",null,0,0,null,null,null,null,null,null,null,null,null,null,null,null,null,null,null,null,null,null,null,null,null,null,null,null,null,null,null,null,null,null,null,null,16290,0]
["0404019","Ecografía espinal",null,0,0,null,null,null,null,null,null,null,null,null,null,null,null,null,null,null,null,null,null,null,null,null,null,null,null,null,null,null,null,null,null,null,null,20320,0]
["0404118","Ecografía vascular (arterial y venosa) periférica (bilateral)",null,0,0,null,null,null,null,null,null,null,null,null,null,null,null,null,null,null,null,null,null,null,null,null,null,null,null,null,null,null,null,null,null,null,null,56410,0]
["0404119","Ecografía doppler de vasos del cuello",null,0,0,null,null,null,null,null,null,null,null,null,null,null,null,null,null,null,null,null,null,null,null,null,null,null,null,null,null,null,null,null,null,null,null,56410,0]
["0404120","Ecografía transcraneana",null,0,0,null,null,null,null,null,null,null,null,null,null,null,null,null,null,null,null,null,null,null,null,null,null,null,null,null,null,null,null,null,null,null,null,56410,0]
["0404121","Ecografía abdominal o de vasos testiculares",null,0,0,null,null,null,null,null,null,null,null,null,null,null,null,null,null,null,null,null,null,null,null,null,null,null,null,null,null,null,null,null,null,null,null,56410,0]
["0404122","Ecografía doppler de vasos placentarios",null,0,0,null,null,null,null,null,null,null,null,null,null,null,null,null,null,null,null,null,null,null,null,null,null,null,null,null,null,null,null,null,null,null,null,56410,0]
["0404218","Elastografía hepática",null,{"$f":"SUM(E936+H936)","v":0},{"$f":"SUM(F936:G936)","v":0},null,null,null,null,null,null,null,null,null,null,null,null,null,null,null,null,null,null,null,null,null,null,null,null,null,null,null,null,null,null,null,null,23060,0]
[null,"TOTAL",null,{"$f":"SUM(D914:D935)","v":0},{"$f":"SUM(E914:E935)","v":0},{"$f":"SUM(F914:F935)","v":0},{"$f":"SUM(G914:G935)","v":0},{"$f":"SUM(H914:H935)","v":0},null,null,null,null,null,null,null,null,null,null,null,null,null,null,null,null,null,null,null,{"$f":"SUM(AB914:AB935)","v":0},0,0,0,0,0,0,0,0,0,null,0]
[null,"RESONANCIA MAGNÉTICA (incluye medio de contraste)     "]
["0405001","Resonancia Magnética Cráneo Encefálica u Oídos, bilateral",null,{"$f":"SUM(E939+H939)","v":0},{"$f":"SUM(F939:G939)","v":0},null,null,null,null,null,null,null,null,null,null,null,null,null,null,null,null,null,null,null,null,null,null,null,null,null,null,null,null,null,null,null,null,182610,{"$f":"AL939*F939","v":0}]
["0405002","Resonancia Magnética de hipotálamo - hipófisis",null,0,0,null,null,null,null,null,null,null,null,null,null,null,null,null,null,null,null,null,null,null,null,null,null,null,null,null,null,null,null,null,null,null,null,182610,0]
["0405003","Resonancia Magnética  de órbitas",null,0,0,null,null,null,null,null,null,null,null,null,null,null,null,null,null,null,null,null,null,null,null,null,null,null,null,null,null,null,null,null,null,null,null,173200,0]
["0405004","Resonancia Magnética de articulaciones temporomandibulares",null,0,0,null,null,null,null,null,null,null,null,null,null,null,null,null,null,null,null,null,null,null,null,null,null,null,null,null,null,null,null,null,null,null,null,173200,0]
["0405005","Resonancia Magnética  de columna cervical",null,0,0,null,null,null,null,null,null,null,null,null,null,null,null,null,null,null,null,null,null,null,null,null,null,null,null,null,null,null,null,null,null,null,null,182610,0]
["0405006","Resonancia Magnética de columna dorsal",null,0,0,null,null,null,null,null,null,null,null,null,null,null,null,null,null,null,null,null,null,null,null,null,null,null,null,null,null,null,null,null,null,null,null,182610,0]
["0405007","Resonancia Magnética de columna lumbar",null,0,0,null,null,null,null,null,null,null,null,null,null,null,null,null,null,null,null,null,null,null,null,null,null,null,null,null,null,null,null,null,null,null,null,182610,0]
["0405017","Resonancia Magnética Angiografía de Encéfalo ",null,0,0,null,null,null,null,null,null,null,null,null,null,null,null,null,null,null,null,null,null,null,null,null,null,null,null,null,null,null,null,null,null,null,null,182610,0]
["0405018","Resonancia Magnética Angiografía de Cuello",null,0,0,null,null,null,null,null,null,null,null,null,null,null,null,null,null,null,null,null,null,null,null,null,null,null,null,null,null,null,null,null,null,null,null,182610,0]
["0405019","Resonancia Magnética Angiografía de Tórax ",null,0,0,null,null,null,null,null,null,null,null,null,null,null,null,null,null,null,null,null,null,null,null,null,null,null,null,null,null,null,null,null,null,null,null,182610,0]
["0405020","Resonancia Magnética Angiografía de Abdomen ",null,0,0,null,null,null,null,null,null,null,null,null,null,null,null,null,null,null,null,null,null,null,null,null,null,null,null,null,null,null,null,null,null,null,null,182610,0]
["0405021","Resonancia Magnética Angiografía de Pelvis ",null,0,0,null,null,null,null,null,null,null,null,null,null,null,null,null,null,null,null,null,null,null,null,null,null,null,null,null,null,null,null,null,null,null,null,182610,0]
["0405022","Resonancia Magnética  Angiografía de Extremidad Superior Unilateral ",null,0,0,null,null,null,null,null,null,null,null,null,null,null,null,null,null,null,null,null,null,null,null,null,null,null,null,null,null,null,null,null,null,null,null,182610,0]
["0405023","Resonancia Magnética  Angiografía de Extremidad Inferior Bilateral ",null,0,0,null,null,null,null,null,null,null,null,null,null,null,null,null,null,null,null,null,null,null,null,null,null,null,null,null,null,null,null,null,null,null,null,182610,0]
["0405009","Resonancia Magnética de Tórax ( corazón, esternón, clavículas, articulación acromioclavicular, escápula, costillas o articulación esternoclavicular). Toda la pared torácica o cada segmento o articulación. Bilateral",null,0,0,null,null,null,null,null,null,null,null,null,null,null,null,null,null,null,null,null,null,null,null,null,null,null,null,null,null,null,null,null,null,null,null,182610,0]
["0405010","Resonancia Magnética de abdomen ",null,0,0,null,null,null,null,null,null,null,null,null,null,null,null,null,null,null,null,null,null,null,null,null,null,null,null,null,null,null,null,null,null,null,null,182610,0]
["0405011","Resonancia Magnética de Pelvis. Incluye: osteoarticular de sacroiliacas u osteoarticular de sacrocoxis u osteoarticular de huesos pélvicos u órganos pelvianos (incluye genitales internos y gastrointestinal)",null,0,0,null,null,null,null,null,null,null,null,null,null,null,null,null,null,null,null,null,null,null,null,null,null,null,null,null,null,null,null,null,null,null,null,182610,0]
["0405012","Resonancia Magnética de abdomen y pelvis",null,0,0,null,null,null,null,null,null,null,null,null,null,null,null,null,null,null,null,null,null,null,null,null,null,null,null,null,null,null,null,null,null,null,null,273890,0]
["0405098","Colangioresonancia",null,{"$f":"SUM(E957+H957)","v":0},{"$f":"SUM(F957:G957)","v":0},null,null,null,null,null,null,null,null,null,null,null,null,null,null,null,null,null,null,null,null,null,null,null,null,null,null,null,null,null,null,null,null,122330,0]
["0405013","Resonancia Magnética de rodilla",null,0,0,null,null,null,null,null,null,null,null,null,null,null,null,null,null,null,null,null,null,null,null,null,null,null,null,null,null,null,null,null,null,null,null,149730,0]
["0405024","Resonancia Magnética de Mano o Muñeca ",null,0,0,null,null,null,null,null,null,null,null,null,null,null,null,null,null,null,null,null,null,null,null,null,null,null,null,null,null,null,null,null,null,null,null,149730,0]
["0405025","Resonancia Magnética de Antebrazo o Brazo ",null,0,0,null,null,null,null,null,null,null,null,null,null,null,null,null,null,null,null,null,null,null,null,null,null,null,null,null,null,null,null,null,null,null,null,149730,0]
["0405026","Resonancia Magnética de Codo ",null,0,0,null,null,null,null,null,null,null,null,null,null,null,null,null,null,null,null,null,null,null,null,null,null,null,null,null,null,null,null,null,null,null,null,149730,0]
["0405027","Resonancia Magnética de Hombro ",null,0,0,null,null,null,null,null,null,null,null,null,null,null,null,null,null,null,null,null,null,null,null,null,null,null,null,null,null,null,null,null,null,null,null,149730,0]
["0405028","Resonancia Magnética de Pie, Antepie o Tobillo ",null,0,0,null,null,null,null,null,null,null,null,null,null,null,null,null,null,null,null,null,null,null,null,null,null,null,null,null,null,null,null,null,null,null,null,149730,0]
["0405029","Resonancia Magnética de Pierna",null,0,0,null,null,null,null,null,null,null,null,null,null,null,null,null,null,null,null,null,null,null,null,null,null,null,null,null,null,null,null,null,null,null,null,149730,0]
["0405030","Resonancia Magnética de Muslo o Cadera. Unilateral",null,0,0,null,null,null,null,null,null,null,null,null,null,null,null,null,null,null,null,null,null,null,null,null,null,null,null,null,null,null,null,null,null,null,null,149730,0]
["0405031","Resonancia Magnética de Mama (bilateral)",null,0,0,null,null,null,null,null,null,null,null,null,null,null,null,null,null,null,null,null,null,null,null,null,null,null,null,null,null,null,null,null,null,null,null,149730,0]
["0405032","Resonancia Magnética Fetal",null,0,0,null,null,null,null,null,null,null,null,null,null,null,null,null,null,null,null,null,null,null,null,null,null,null,null,null,null,null,null,null,null,null,null,182610,0]
["0405016","Resonancia Columna Total (cervical, dorsal, lumbar)",null,{"$f":"SUM(E968+H968)","v":0},{"$f":"SUM(F968:G968)","v":0},null,null,null,null,null,null,null,null,null,null,null,null,null,null,null,null,null,null,null,null,null,null,null,null,null,null,null,null,null,null,null,null,328660,0]
["0405033","Resonancia magnética para planificación de tratamiento con radioterapia",null,0,0,null,null,null,null,null,null,null,null,null,null,null,null,null,null,null,null,null,null,null,null,null,null,null,null,null,null,null,null,null,null,null,null,71360,0]
["0405034","Resonancia magnética estudio funcional de encéfalo",null,0,0,null,null,null,null,null,null,null,null,null,null,null,null,null,null,null,null,null,null,null,null,null,null,null,null,null,null,null,null,null,null,null,null,178590,0]
["0405035","Resonancia magnética tractografía",null,0,0,null,null,null,null,null,null,null,null,null,null,null,null,null,null,null,null,null,null,null,null,null,null,null,null,null,null,null,null,null,null,null,null,178590,0]
["0405036","Resonancia magnética espectroscopía encefálica",null,0,0,null,null,null,null,null,null,null,null,null,null,null,null,null,null,null,null,null,null,null,null,null,null,null,null,null,null,null,null,null,null,null,null,178590,0]
["0405037","Resonancia magnética de cara, macizo facial y/o cavidades paranasales",null,0,0,null,null,null,null,null,null,null,null,null,null,null,null,null,null,null,null,null,null,null,null,null,null,null,null,null,null,null,null,null,null,null,null,178590,0]
["0405038","Resonancia magnética perfusión cerebral",null,0,0,null,null,null,null,null,null,null,null,null,null,null,null,null,null,null,null,null,null,null,null,null,null,null,null,null,null,null,null,null,null,null,null,178590,0]
["0405039","Resonancia magnética estudio de líquido cerebroespinal",null,0,0,null,null,null,null,null,null,null,null,null,null,null,null,null,null,null,null,null,null,null,null,null,null,null,null,null,null,null,null,null,null,null,null,178590,0]
["0405040","Resonancia magnética estudio de piso pélvico por defecografía ",null,0,0,null,null,null,null,null,null,null,null,null,null,null,null,null,null,null,null,null,null,null,null,null,null,null,null,null,null,null,null,null,null,null,null,178590,0]
["0405041","Resonancia Magnética Screening óseo o muscular",null,0,0,null,null,null,null,null,null,null,null,null,null,null,null,null,null,null,null,null,null,null,null,null,null,null,null,null,null,null,null,null,null,null,null,178590,0]
["0405042","Resonancia Magnética de cuello",null,{"$f":"SUM(E978+H978)","v":0},{"$f":"SUM(F978:G978)","v":0},null,null,null,null,null,null,null,null,null,null,null,null,null,null,null,null,null,null,null,null,null,null,null,null,null,null,null,null,null,null,null,null,149730,0]
[null,"TOTAL",null,{"$f":"SUM(D939:D977)","v":0},{"$f":"SUM(E939:E977)","v":0},{"$f":"SUM(F939:F977)","v":0},{"$f":"SUM(G939:G977)","v":0},{"$f":"SUM(H939:H977)","v":0},null,null,null,null,null,null,null,null,null,null,null,null,null,null,null,null,null,null,null,{"$f":"SUM(AB939:AB977)","v":0},0,0,0,0,0,0,0,0,0,null,{"$f":"SUM(AM939:AM977)","v":0}]
[null,"OTROS EXAMENES DE IMÁGENES"]
["0403998","Cisternotac",null,0,0]
["01010753","Estudio de deglución faríngea por videofluroscopía",null,0,0]
["01010754","Biopsia mamaria guíado por ecotomografía",null,0,0]
["01010755","Ecotomografia portátil (traslado desde imagenología al servicio que lo requiere)",null,0,0]
["01010758","Marcación Ecográfica",null,0,0]
["01010759","Angiotomografia  computarizada de corazón  con estudios de vasos coronarios ",null,0,0]
["01010760","Angiotomografía corazón con estudio de vasos coronarios",null,0,0]
["01010765","Estudio de Flujo de Liquido Cefalo Raquideo",null,0,0]
["01010772","Tóracocentesis guíado por ecotomografía",null,0,0]
["01010773","Laparocentesis guíado por ecotomografía",null,0,0]
["01010774","Ablación por radiofrecuencia de tumores guíado por ecotomografía",null,0,0]
["01010775","Ablación por radiofrecuencia de tumores guíado por TAC",null,0,0]
["01010776","Contraste paramagnético para resonancia magnética",null,0,0]
["01010777","Contraste yodado hidrosoluble para tomografía computada",null,0,0]
["01010778","Extracción de cuerpos extraños guíado por ecotomografía",null,0,0]
["01010779","Marcación de microcalcificaciones preoperatorias guíada por mamografías ",null,0,0]
["01010780","Marcación de nódulo mamario preoperatorio guíada por ultrasonido ",null,0,0]
["01010781","Nefrostomía bajo TAC con Anestesia General",null,0,0]
["01010782","Nefrostomía percutánea guíada en TAC",null,0,0]
["01010783","Punción Citológica bajo Ecografía",null,0,0]
["01010784","Punción Citológica bajo TAC",null,0,0]
["01010785","Punción citológica de tiroides por ultrasonido",null,{"$f":"SUM(E1002+H1002)","v":0},{"$f":"SUM(F1002:G1002)","v":0}]
["01010788","Biopsia de lesiones de partes blandas guíado por ecotomografía",null,0,0]
["01010789","Biopsia de tiroides con aguja fina PAAF",null,0,0]
["01010792","Biopsia Percutanea bajo Ecografía con Anestesia General",null,0,0]
["01010793","Biopsia Percutanea bajo TAC con Anestesia General",null,0,0]
["01010796","Biopsia muscular",null,0,0]
["01010798","Biopsia rápida en quirófano",null,0,0]
["01010801","Aspiración tendinitis calcificante del hombre guíado por ecotomografía",null,0,0]
["01010802","Calculo de reserva Fraccional de Flujo",null,0,0]
["01010805","Drenaje Percutaneo bajo TAC con Anestesia General",null,0,0]
["01010806","Drenaje Percutaneo bajo TAC sin Anestesia General",null,0,0]
["PROCEDIMIENTOS DIAGNOSTICOS                             "]
[null,"ESTUDIOS ENDOCRINOLÓGICOS"]
["0501102","Cintigrafía  glándulas paratiroides (no incluye MIBI)",null,0,0,null,null,null,null,null,null,null,null,null,null,null,null,null,null,null,null,null,null,null,null,null,null,null,null,null,null,null,null,null,null,null,null,32960,{"$f":"AL1029*F1029","v":0}]
["0501140","Cintigrafía Spect glándulas paratiroides con sestamibi ",null,0,0,null,null,null,null,null,null,null,null,null,null,null,null,null,null,null,null,null,null,null,null,null,null,null,null,null,null,null,null,null,null,null,null,96750,{"$f":"AL1030*F1030","v":0}]
[null,"ESTUDIOS OSTEOARTICULARES"]
["0501136","Cintigrafía ósea completa planar",null,0,0,null,null,null,null,null,null,null,null,null,null,null,null,null,null,null,null,null,null,null,null,null,null,null,null,null,null,null,null,null,null,null,null,59360,{"$f":"AL1034*F1034","v":0}]
["0501142","Cintigrama óseo de cuerpo entero con Spect",null,0,0,null,null,null,null,null,null,null,null,null,null,null,null,null,null,null,null,null,null,null,null,null,null,null,null,null,null,null,null,null,null,null,null,144280,0]
["0501143","Cintigrama óseo de cuerpo entero con Spect-CT",null,0,0,null,null,null,null,null,null,null,null,null,null,null,null,null,null,null,null,null,null,null,null,null,null,null,null,null,null,null,null,null,null,null,null,163820,0]
[null,"ESTUDIOS CARDIOVASCULARES"]
["0501105","Spect de perfusión miocárdica estrés y reposo (no incluye honorarios médico cardiólogo) ",null,0,0,null,null,null,null,null,null,null,null,null,null,null,null,null,null,null,null,null,null,null,null,null,null,null,null,null,null,null,null,null,null,null,null,159810,{"$f":"AL1042*F1042","v":0}]
["0501108","Linfocintigrafía isotópica (no incluye procedimiento)",null,0,0,null,null,null,null,null,null,null,null,null,null,null,null,null,null,null,null,null,null,null,null,null,null,null,null,null,null,null,null,null,null,null,null,65950,0]
["0501109","Pool sanguíneo spect",null,0,0,null,null,null,null,null,null,null,null,null,null,null,null,null,null,null,null,null,null,null,null,null,null,null,null,null,null,null,null,null,null,null,null,65950,0]
[null,"TOTAL",null,{"$f":"SUM(D1042:D1048)","v":0},{"$f":"SUM(E1042:E1048)","v":0},0,0,0,null,null,null,null,null,null,null,null,null,null,null,null,null,null,null,null,null,null,null,{"$f":"SUM(AB1042:AB1048)","v":0},{"$f":"SUM(AC1042:AC1048)","v":0},0,0,0,0,0,0,0,0,null,0]
[null,"ESTUDIOS DIGESTIVOS"]
["0501111","Estudio motilidad esofágica y/o reflujo gastroesofágico",null,0,0,null,null,null,null,null,null,null,null,null,null,null,null,null,null,null,null,null,null,null,null,null,null,null,null,null,null,null,null,null,null,null,null,49450,0]
["0501112","Vaciamiento gástrico líquido o sólido",null,0,0,null,null,null,null,null,null,null,null,null,null,null,null,null,null,null,null,null,null,null,null,null,null,null,null,null,null,null,null,null,null,null,null,87950,0]
["0501115","Detección divertículo Meckel",null,0,0,null,null,null,null,null,null,null,null,null,null,null,null,null,null,null,null,null,null,null,null,null,null,null,null,null,null,null,null,null,null,null,null,32960,0]
["0501116","Spect hepatoesplénico, evaluación hemangioma o hiperplasia (incluye mediciones fase precoz y tardía)",null,0,0,null,null,null,null,null,null,null,null,null,null,null,null,null,null,null,null,null,null,null,null,null,null,null,null,null,null,null,null,null,null,null,null,98930,0]
["0501117","Cintigrafía renal con D.M.S.A.",null,{"$f":"SUM(E1061+H1061)","v":0},{"$f":"SUM(F1061:G1061)","v":0},null,null,null,null,null,null,null,null,null,null,null,null,null,null,null,null,null,null,null,null,null,null,null,null,null,null,null,null,null,null,null,null,32960,{"$f":"SUM(AL1061*F1061)","v":0}]
["0501118","Estudio dinámico renal con Tc 99 - DTPA",null,{"$f":"SUM(E1062+H1062)","v":0},{"$f":"SUM(F1062:G1062)","v":0},null,null,null,null,null,null,null,null,null,null,null,null,null,null,null,null,null,null,null,null,null,null,null,null,null,null,null,null,null,null,null,null,49450,{"$f":"SUM(AL1062*F1062)","v":0}]
["0501121","Cistografía isotópica directa (no incluye procedimiento)",null,{"$f":"SUM(E1065+H1065)","v":0},{"$f":"SUM(F1065:G1065)","v":0},null,null,null,null,null,null,null,null,null,null,null,null,null,null,null,null,null,null,null,null,null,null,null,null,null,null,null,null,null,null,null,null,32960,{"$f":"SUM(AL1065*F1065)","v":0}]
[null,"TOTAL",null,{"$f":"SUM(D1061:D1065)","v":0},{"$f":"SUM(E1061:E1065)","v":0},{"$f":"SUM(F1061:F1065)","v":0},{"$f":"SUM(G1061:G1065)","v":0},{"$f":"SUM(H1061:H1065)","v":0},null,null,null,null,null,null,null,null,null,null,null,null,null,null,null,null,null,null,null,{"$f":"SUM(AB1061:AB1065)","v":0},0,0,0,0,0,0,0,0,0,null,{"$f":"SUM(AM1061:AM1065)","v":0}]
["0501123","Cintigrafía y estudio aspiración pulmonar",null,0,0,null,null,null,null,null,null,null,null,null,null,null,null,null,null,null,null,null,null,null,null,null,null,null,null,null,null,null,null,null,null,null,null,32960,{"$f":"AL1069*F1069","v":0}]
[null,"TOTAL",null,{"$f":"SUM(D1068:D1069)","v":0},{"$f":"SUM(E1068:E1069)","v":0},{"$f":"SUM(F1068:F1069)","v":0},{"$f":"SUM(G1068:G1069)","v":0},{"$f":"SUM(H1068:H1069)","v":0},null,null,null,null,null,null,null,null,null,null,null,null,null,null,null,null,null,null,null,{"$f":"SUM(AB1068:AB1069)","v":0},0,0,0,0,0,0,0,0,0,null,0]
["0501125","Estudio dinámico sistema nervioso (radiocisternografia, fístula L.C.R, radioventriculografía, control válvula derivativa, sub-durografía isotópica), c/u (no incluye procedimiento).",null,0,0,null,null,null,null,null,null,null,null,null,null,null,null,null,null,null,null,null,null,null,null,null,null,null,null,null,null,null,null,null,null,null,null,65950,{"$f":"AL1073*F1073","v":0}]
[null,"TOTAL",null,{"$f":"SUM(D1072:D1073)","v":0},{"$f":"SUM(E1072:E1073)","v":0},{"$f":"SUM(F1072:F1073)","v":0},{"$f":"SUM(G1072:G1073)","v":0},{"$f":"SUM(H1072:H1073)","v":0},null,null,null,null,null,null,null,null,null,null,null,null,null,null,null,null,null,null,null,{"$f":"SUM(AB1072:AB1073)","v":0},0,0,0,0,0,0,0,0,0,null,0]
["0501126","Cintigrafía evaluación infecciones (leucocitos, infecton, granulocitos u otros) (no incluye radiofármaco ni procedimiento).",null,0,0,null,null,null,null,null,null,null,null,null,null,null,null,null,null,null,null,null,null,null,null,null,null,null,null,null,null,null,null,null,null,null,null,65950,{"$f":"AL1076*F1076","v":0}]
["0501127","Cintigrafía con galio-67 planar infección (no incluye radioisótopo) (a.c. 0501133, cuando corresponda)",null,{"$f":"SUM(E1077+H1077)","v":0},{"$f":"SUM(F1077:G1077)","v":0},null,null,null,null,null,null,null,null,null,null,null,null,null,null,null,null,null,null,null,null,null,null,null,null,null,null,null,null,null,null,null,null,65950,{"$f":"AL1077*F1077","v":0}]
["0501128","Detección y/o marcación de ganglio centinela, no incluye, punción ni detección con gammaprobe",null,0,0,null,null,null,null,null,null,null,null,null,null,null,null,null,null,null,null,null,null,null,null,null,null,null,null,null,null,null,null,null,null,null,null,65950,{"$f":"AL1080*F1080","v":0}]
["0501129","Cintigrafía con galio-67 planar y Spect, para estudio de tumores (no incluye radioisótopo)",null,0,0,null,null,null,null,null,null,null,null,null,null,null,null,null,null,null,null,null,null,null,null,null,null,null,null,null,null,null,null,null,null,null,null,164840,0]
["0501132","Estudio de tumores (anticuerpos monoclonales, octreoscan, DMSA pentavalente, prostacint u otros) (no incluye radioisótopo)",null,0,0,null,null,null,null,null,null,null,null,null,null,null,null,null,null,null,null,null,null,null,null,null,null,null,null,null,null,null,null,null,null,null,null,131880,0]
["0501133","Spect - Tomografía por emisión fotón único, cualquier órgano (no incluye radioisótopo)",null,0,0,null,null,null,null,null,null,null,null,null,null,null,null,null,null,null,null,null,null,null,null,null,null,null,null,null,null,null,null,null,null,null,null,49450,0]
["0501134","Densitometría ósea a fotón doble, columna y cadera (unilateral o bilateral) o cuerpo entero",null,0,0,null,null,null,null,null,null,null,null,null,null,null,null,null,null,null,null,null,null,null,null,null,null,null,null,null,null,null,null,null,null,null,null,33390,{"$f":"AL1088*F1088","v":0}]
[null,"TOTAL",null,{"$f":"D1088","v":0},{"$f":"E1088","v":0},{"$f":"F1088","v":0},{"$f":"G1088","v":0},{"$f":"H1088","v":0},null,null,null,null,null,null,null,null,null,null,null,null,null,null,null,null,null,null,null,{"$f":"AB1088","v":0},0,0,0,0,0,0,0,0,0,null,0]
[null,"TOTAL",null,{"$f":"SUM(D1091)","v":0},{"$f":"SUM(E1091)","v":0},{"$f":"SUM(F1091)","v":0},{"$f":"SUM(G1091)","v":0},{"$f":"SUM(H1091)","v":0},null,null,null,null,null,null,null,null,null,null,null,null,null,null,null,null,null,null,null,{"$f":"SUM(AB1091)","v":0},{"$f":"SUM(AC1091)","v":0},0,0,0,0,0,0,0,0,null,0]
[null,"PROCEDIMIENTOS TERAPEUTICOS.                      "]
["0502002","Dosis terapéuticas con I-131 entre 31 a 100 mCi.",null,0,0,null,null,null,null,null,null,null,null,null,null,null,null,null,null,null,null,null,null,null,null,null,null,null,null,null,null,null,null,null,null,null,null,148370,{"$f":"AL1096*F1096","v":0}]
["0502003","Dosis terapéuticas con I-131 entre 101 a 200 mCi.",null,0,0,null,null,null,null,null,null,null,null,null,null,null,null,null,null,null,null,null,null,null,null,null,null,null,null,null,null,null,null,null,null,null,null,263810,{"$f":"AL1097*F1097","v":0}]
[null,"TOTAL",null,{"$f":"SUM(D1095:D1099)","v":0},{"$f":"SUM(E1095:E1099)","v":0},{"$f":"SUM(F1095:F1099)","v":0},{"$f":"SUM(G1095:G1099)","v":0},{"$f":"SUM(H1095:H1099)","v":0},null,null,null,null,null,null,null,null,null,null,null,null,null,null,null,null,null,null,null,{"$f":"SUM(AB1095:AB1099)","v":0},{"$f":"SUM(AC1095:AC1099)","v":0},0,0,0,0,0,0,0,0,null,{"$f":"SUM(AM1095:AM1099)","v":0}]
[null,"KINESIOLOGIA Y FISIOTERAPIA "]
["0601105","Atención Kinesiológica Integral Ambulatoria",null,{"$f":"SUM(E1104+H1104)","v":0},{"$f":"SUM(F1104:G1104)","v":0},null,null,null,null,null,null,null,null,null,null,null,null,null,null,null,null,null,null,null,null,null,null,null,null,null,null,null,null,null,null,null,null,9780,0]
["0601106","Atención Kinesiológica Integral Domiciliaria",null,0,0,null,null,null,null,null,null,null,null,null,null,null,null,null,null,null,null,null,null,null,null,null,null,null,null,null,null,null,null,null,null,null,null,12270,0]
["0602003","Intervención terapia ocupacional en actividades de la vida diaria, básicas, instrumentales y avanzadas",null,0,0,null,null,null,null,null,null,null,null,null,null,null,null,null,null,null,null,null,null,null,null,null,null,null,null,null,null,null,null,null,null,null,null,4040,0]
["0608101","Telerehabilitación: Evaluación Kinesiológica Integral",null,0,0,null,null,null,null,null,null,null,null,null,null,null,null,null,null,null,null,null,null,null,null,null,null,null,null,null,null,null,null,null,null,null,null,2690,{"$f":"AL1109*F1109","v":0}]
["0608202","Telerehabilitación: Intervención de terapia ocupacional en ayudas técnicas y tecnología asistida",null,0,0,null,null,null,null,null,null,null,null,null,null,null,null,null,null,null,null,null,null,null,null,null,null,null,null,null,null,null,null,null,null,null,null,6750,0]
["0608203","Telerehabilitación: Intervención terapia ocupacional en actividades de la vida diaria, básicas, instrumentales y avanzadas",null,0,0,null,null,null,null,null,null,null,null,null,null,null,null,null,null,null,null,null,null,null,null,null,null,null,null,null,null,null,null,null,null,null,null,3430,0]
["0601001","Evaluación kinesiológica: muscular, articular, postural, neurológica y funcional (máximo 2 por tratamiento)",null,{"$f":"SUM(E1116+H1116)","v":0},{"$f":"SUM(F1116:G1116)","v":0}]
["0601003","Evaluación Biomecánica instrumental",null,0,0]
["0601006","Tanque de Hubbard con ejercicios (hiper o hipo-termal sobre 1.000 lts de capacidad) (proc.aut.)",null,0,0]
["0601007","Turbión, tanque con remolino (hiper o hipotermal,baño de contraste) (proc.aut.)",null,0,0]
["0601009","Onda corta (ultratermia), microondas, c/u (proc.aut.)",null,0,0]
["0601011","Terapia por ondas mecánicas (proc. aut.)",null,0,0]
["0601014"," Iontoforesis (proc.aut.)",null,0,0]
["0601015","Retroalimentación neuromuscular (miofeedback) (proc.aut.)",null,0,0]
["0601029","Atención kinesiológica integral"]
["0601017","Ejercicios respiratorios y procedimientos de kinesiterápia torácica (ventilación pulmonar localizada, estimulación de la tos, bloqueos torácicos, vibraciones, percusiones y tapoteos) (proc.aut.)",null,{"$f":"SUM(E1133+H1133)","v":0},{"$f":"SUM(F1133:G1133)","v":0}]
["0601019","Entrenamiento funcional con ayudas técnicas (órtesis, ayudas de desplazamiento, etc.) (proc.aut.)",null,0,0]
["0601020","Entrenamiento protésico extremidades (proc.aut.)",null,0,0]
["0601023","Orientación y entrenamiento de personas con baja visión o con ceguera (proc.aut.)",null,0,0]
["0601024","Reeducación motriz (ejercicios terapéuticos para recuperación muscular, capacidad de trabajo, coordinación, gimnasia ortopédica, reeducación funcional, de marcha) (individual y por sesión, mínimo 30 minutos) (proc.aut.)",null,0,0]
["0601030","Maniobras permeabilización de la vía aérea (proc.aut.)",null,0,0]
["0601031","Atención kinesiológica integral, al enfermo hosp. en UTI o Intermedio (máx. 1 diaria)",null,0,0]
["0601181","Entrenamiento ortostático en mesa basculante",null,0,0]
["0102503","Evaluación de la deglución",null,0,0]
["0102505","Evaluación de funciones cognitivas",null,0,0]
["0102506","Rehabilitación de funciones cognitivas",null,0,0]
["01010920","Rehabilitación  virtual en BRU",null,0,0]
["01010921","Vocastim",null,0,0]
["01010924","Asistencia bloqueo espasticidad",null,0,0]
["01010925","Punción seca",null,0,0]
["01010928","Evaluación  y rehabilitación en actividades de la vida diaria",null,0,0]
["01010930","Habilitación y rehabilitación laboral",null,{"$f":"SUM(E1164+H1164)","v":0},{"$f":"SUM(F1164:G1164)","v":0}]
["01010933","Evaluación de deglución",null,0,0]
["01010934","Manejo de trastorno de deglución",null,0,0]
["01010937","Estimulación magnética",null,0,0]
["01010938","Atención integral en demencia",null,0,0]
[null,"TOTAL PRODUCCION ",null,{"$f":"SUM(D1114+D1174)","v":0},{"$f":"SUM(E1114+E1174)","v":0},{"$f":"SUM(F1114+F1174)","v":0},{"$f":"SUM(G1114+G1174)","v":0},{"$f":"SUM(H1114+H1174)","v":0},null,null,null,null,null,null,null,null,null,null,null,null,null,null,null,null,null,null,null,{"$f":"SUM(AB1114+AB1174)","v":0},0,0,0,0,0,0,0,0,0,null,0]
[null,"MEDICINA TRANSFUSIONAL "]
["0702103","Producción de plasma o crioprecipitado",null,0,0,null,null,null,null,null,null,null,null,null,null,null,null,null,null,null,null,null,null,null,null,null,null,null,null,null,null,null,null,null,null,null,null,5030,0]
["0702104","Producción de concentrado de plaquetas por aféresis automática ",null,0,0,null,null,null,null,null,null,null,null,null,null,null,null,null,null,null,null,null,null,null,null,null,null,null,null,null,null,null,null,null,null,null,null,321920,0]
["0702107","Producción de concentrado de plasma por aféresis automática",null,0,0,null,null,null,null,null,null,null,null,null,null,null,null,null,null,null,null,null,null,null,null,null,null,null,null,null,null,null,null,null,null,null,null,321920,0]
["0702108","Producción de células progenitoras hematopoyética por aféresis automática a partir de sangre periférica",null,0,0,null,null,null,null,null,null,null,null,null,null,null,null,null,null,null,null,null,null,null,null,null,null,null,null,null,null,null,null,null,null,null,null,715330,0]
["0702201","Calificación microbiológica por donante estudiado, componente sanguíneo producido o producto de aféresis automática",null,0,0,null,null,null,null,null,null,null,null,null,null,null,null,null,null,null,null,null,null,null,null,null,null,null,null,null,null,null,null,null,null,null,null,28400,0]
["0702202","Calificación inmunohematológica por donante estudiado, componente sanguíneo producido o producto de aféresis automática",null,0,0,null,null,null,null,null,null,null,null,null,null,null,null,null,null,null,null,null,null,null,null,null,null,null,null,null,null,null,null,null,null,null,null,14330,0]
["0702205","Titulación de anticuerpos irregulares eritrocitarios",null,0,0,null,null,null,null,null,null,null,null,null,null,null,null,null,null,null,null,null,null,null,null,null,null,null,null,null,null,null,null,null,null,null,null,27760,0]
["0702206","Genotipificación D variante (incluye D parcial y débil)",null,0,0,null,null,null,null,null,null,null,null,null,null,null,null,null,null,null,null,null,null,null,null,null,null,null,null,null,null,null,null,null,null,null,null,89160,0]
["0702209","Subgrupo ABO ",null,0,0,null,null,null,null,null,null,null,null,null,null,null,null,null,null,null,null,null,null,null,null,null,null,null,null,null,null,null,null,null,null,null,null,3760,0]
["0702301","Transfusión en adulto por unidad o subunidad de glóbulos rojos o unidad / subunidad o pool de: plasma, plaquetas o crioprecipitados (atención ambulatoria, atención cerrada siempre que la administración sea controlada por profesional especialista, tecnólogo médico o médico responsable)  ",null,0,0,null,null,null,null,null,null,null,null,null,null,null,null,null,null,null,null,null,null,null,null,null,null,null,null,null,null,null,null,null,null,null,null,9800,0]
["0702304","Sangría (considera el cobro de una prestación por cada unidad de sangre extraída)",null,0,0,null,null,null,null,null,null,null,null,null,null,null,null,null,null,null,null,null,null,null,null,null,null,null,null,null,null,null,null,null,null,null,null,8620,0]
["0702305","Recambio plasmático por aféresis terapéutica",null,0,0,null,null,null,null,null,null,null,null,null,null,null,null,null,null,null,null,null,null,null,null,null,null,null,null,null,null,null,null,null,null,null,null,331230,0]
["0702308","Eritroféresis por aféresis terapéutica",null,0,0,null,null,null,null,null,null,null,null,null,null,null,null,null,null,null,null,null,null,null,null,null,null,null,null,null,null,null,null,null,null,null,null,331230,0]
["0702309","Fotoféresis terapéutica",null,0,0,null,null,null,null,null,null,null,null,null,null,null,null,null,null,null,null,null,null,null,null,null,null,null,null,null,null,null,null,null,null,null,null,1357690,0]
["0704003","Procuramiento de Piel de Donante Cadáver (DC)",null,0,0,null,null,null,null,null,null,null,null,null,null,null,null,null,null,null,null,null,null,null,null,null,null,null,null,null,null,null,null,null,null,null,null,1752310,0]
["0704004","Procesamiento de Piel de Donante Cadáver (DC)",null,0,0,null,null,null,null,null,null,null,null,null,null,null,null,null,null,null,null,null,null,null,null,null,null,null,null,null,null,null,null,null,null,null,null,677350,0]
["0704007","Procuramiento de Homoinjertos (Válvulas Cardíacas y Segmentos Vasculares)",null,0,0,null,null,null,null,null,null,null,null,null,null,null,null,null,null,null,null,null,null,null,null,null,null,null,null,null,null,null,null,null,null,null,null,1437000,0]
["0704008","Procesamiento de Homoinjertos (Válvulas Cardíacas y Segmentos Vasculares) ",null,0,0,null,null,null,null,null,null,null,null,null,null,null,null,null,null,null,null,null,null,null,null,null,null,null,null,null,null,null,null,null,null,null,null,407460,0]
["0704011","Procesamiento de Tejido óseo Granulado",null,0,0,null,null,null,null,null,null,null,null,null,null,null,null,null,null,null,null,null,null,null,null,null,null,null,null,null,null,null,null,null,null,null,null,359530,0]
["0704012","Procesamiento de Tejido óseo Congelado",null,0,0,null,null,null,null,null,null,null,null,null,null,null,null,null,null,null,null,null,null,null,null,null,null,null,null,null,null,null,null,null,null,null,null,389610,0]
["0704015","Procuramiento de Córneas de Donante Cadáver (DC) por Muerte Encefálica (ME)",null,0,0,null,null,null,null,null,null,null,null,null,null,null,null,null,null,null,null,null,null,null,null,null,null,null,null,null,null,null,null,null,null,null,null,1017990,0]
["0704016","Procesamiento de Córnea ",null,0,0,null,null,null,null,null,null,null,null,null,null,null,null,null,null,null,null,null,null,null,null,null,null,null,null,null,null,null,null,null,null,null,null,523220,0]
[]
[null,"ANATOMIA PATOLOGICA                                     "]
["0801003","** Estudio histopatológico con microscopia electrónica (por cada grilla)",null,0,0,null,null,null,null,null,null,null,null,null,null,null,null,null,null,null,null,null,null,null,null,null,null,null,null,null,null,null,null,null,null,null,null,28450,0]
["0801004","** Estudio histopatológico con técnicas de inmunohistoquímica o inmunofluorescencia (por cada anticuerpo investigado)",null,0,0,null,null,null,null,null,null,null,null,null,null,null,null,null,null,null,null,null,null,null,null,null,null,null,null,null,null,null,null,null,null,null,null,24660,0]
["0801007","Estudio histopatológico con tinción corriente de biopsia diferida con estudio seriado (mínimo 10 muestras) de un órgano o parte de él (no incluye estudio con técnica habitual de otros órganos incluidos en la muestra)",null,0,0,null,null,null,null,null,null,null,null,null,null,null,null,null,null,null,null,null,null,null,null,null,null,null,null,null,null,null,null,null,null,null,null,24660,0]
["0801008","Estudio histopatológico de biopsia diferida (por cada muestra y/o tejido) (incluye hasta 3 láminas)",null,0,0,null,null,null,null,null,null,null,null,null,null,null,null,null,null,null,null,null,null,null,null,null,null,null,null,null,null,null,null,null,null,null,null,12430,0]
["0801011","PCR tiempo real para marcadores tumorales en cortes histológicos (incluye microdisección y extracción de ADN)",null,0,0,null,null,null,null,null,null,null,null,null,null,null,null,null,null,null,null,null,null,null,null,null,null,null,null,null,null,null,null,null,null,null,null,417110,0]
["0801012","Técnica inmunohistoquimica para marcadores tumorales (ALK-PDL1-ROS1) c/u",null,0,0,null,null,null,null,null,null,null,null,null,null,null,null,null,null,null,null,null,null,null,null,null,null,null,null,null,null,null,null,null,null,null,null,152670,0]
[null,"TOTAL",null,{"$f":"SUM(D1224:D1235)","v":0},{"$f":"SUM(E1224:E1235)","v":0},0,0,0,null,null,null,null,null,null,null,null,null,null,null,null,null,null,null,null,null,null,null,{"$f":"SUM(AB1224:AB1235)","v":0},{"$f":"SUM(AC1224:AC1235)","v":0},0,0,0,0,0,0,0,0,null,{"$f":"SUM(AM1224:AM1237)","v":0}]
[null,"PSIQUIATRIA Y SALUD MENTAL     "]
["0903003","Consulta de salud mental por otros profesionales",null,0,0,null,null,null,null,null,null,null,null,null,null,null,null,null,null,null,null,null,null,null,null,null,null,null,null,null,null,null,null,null,null,null,null,3450,0]
["0903004","Intervención psicosocial grupal (4 a 8 pacientes, familiares o cuidadores)",null,0,0,null,null,null,null,null,null,null,null,null,null,null,null,null,null,null,null,null,null,null,null,null,null,null,null,null,null,null,null,null,null,null,null,13720,0]
["0903007","Programa de rehabilitación tipo 1 (mensual, grupo 6 a 10 pers.)",null,0,0,null,null,null,null,null,null,null,null,null,null,null,null,null,null,null,null,null,null,null,null,null,null,null,null,null,null,null,null,null,null,null,null,216330,0]
["0903008","Programa de rehabilitación tipo 2 (mensual, grupo 5 a 7 pers.)",null,0,0,null,null,null,null,null,null,null,null,null,null,null,null,null,null,null,null,null,null,null,null,null,null,null,null,null,null,null,null,null,null,null,null,372570,0]
["0908103","Telerehabilitación: Sesión de psicoterapia de pareja (con ambos miembros)",null,0,0,null,null,null,null,null,null,null,null,null,null,null,null,null,null,null,null,null,null,null,null,null,null,null,null,null,null,null,null,null,null,null,null,12870,0]
[null,"TOTAL MAI",null,{"$f":"SUM(D1240:D1250)","v":0},{"$f":"SUM(E1240:E1250)","v":0},0,0,0,null,null,null,null,null,null,null,null,null,null,null,null,null,null,null,null,null,null,null,{"$f":"SUM(AB1240:AB1250)","v":0},{"$f":"SUM(AC1240:AC1250)","v":0},0,0,0,0,0,0,0,0,null,{"$f":"SUM(AM1240:AM1250)","v":0}]
["0901002","Desintoxicación o deshabituación en pacientes hospitalizados (incluye tratamiento de la intoxicación, del síndrome de privación y de las complicaciones médicas); por día ( máximo 15 )",null,0,0]
["0901003","Sesión de terapia electroconvulsivante (hasta 6 sesiones por ciclo o sesiones de mantención) c/ sesión",null,0,0]
["0902001","Consulta Psicólogo clínico (sesiones 45')",null,0,0]
["0902002","Sesión de Psicoterapia individual",null,0,0]
["0902011","Test de relaciones objetales",null,0,0]
["0902012","Test de Apercepción Temática, T.A.T., C.A.T.-H o C.A.T.-A.",null,0,0]
["0902015","Test de Weschler, WAIS, WISC ó WPPSI",null,0,0]
["0902016","Test de Dominó o Test de Raven",null,0,0]
["0902019","Test de Goldstein",null,0,0]
["0902020","Test de Luria-Nebraska",null,0,0]
[null,"El Arancel de las intervenciones quirúrgicas incluye el valor de la actividad, el derecho de pabellón y la anestesia, cuando corresponda."]
[null,"NEUROLOGIA Y NEUROCIRUGIA"]
["1101006","Electroencefalograma (E.E.G.) standard y/o activado \"sin privación de sueño\" (incluye mono y bipolares, hiperventilación, c/s reactividad auditiva, visual, lumínica, por drogas u otras). Equipo de 8 canales",{"$f":"VLOOKUP(A1278,[1]MAI2022!$A:$D,4,FALSE)","v":"Proc"},0,0,null,null,null,null,null,null,null,null,null,null,null,null,null,null,null,null,null,null,null,null,null,null,null,null,null,null,null,null,null,null,null,null,14550,0]
["1101113","Angiografía cerebral digital por cateterización (incluye proc. radiológico,  medio de contraste e insumos)",{"$f":"VLOOKUP(A1279,[1]MAI2022!$A:$D,4,FALSE)","v":"Proc"},0,0,null,null,null,null,null,null,null,null,null,null,null,null,null,null,null,null,null,null,null,null,null,null,null,null,null,null,null,null,null,null,null,null,493220,0]
["1101142","Esclerosis Múltiple Remitente Recurrente,  Tratamiento Brote",{"$f":"VLOOKUP(A1282,[1]MAI2022!$A:$D,4,FALSE)","v":"Proc"},0,0,null,null,null,null,null,null,null,null,null,null,null,null,null,null,null,null,null,null,null,null,null,null,null,null,null,null,null,null,null,null,null,null,1295870,0]
["1101001","Rellenado de  bombas de administración de fármacos en LCR",{"$f":"VLOOKUP(A1283,[1]MAI2022!$A:$D,4,FALSE)","v":"Proc"},0,0,null,null,null,null,null,null,null,null,null,null,null,null,null,null,null,null,null,null,null,null,null,null,null,null,null,null,null,null,null,null,null,null,11590,0]
["1101047","Cateterismo selectivo de senos petrosos",{"$f":"VLOOKUP(A1286,[1]MAI2022!$A:$D,4,FALSE)","v":"Proc"},0,0,null,null,null,null,null,null,null,null,null,null,null,null,null,null,null,null,null,null,null,null,null,null,null,null,null,null,null,null,null,null,null,null,11590,0]
["1101048","Neuromonitoreo intraoperatorio",{"$f":"VLOOKUP(A1287,[1]MAI2022!$A:$D,4,FALSE)","v":"Proc"},0,0,null,null,null,null,null,null,null,null,null,null,null,null,null,null,null,null,null,null,null,null,null,null,null,null,null,null,null,null,null,null,null,null,21770,0]
["1101008","Monitoreo EEG invasivo con electrodos subdurales",{"$f":"VLOOKUP(A1290,[1]MAI2022!$A:$D,4,FALSE)","v":"Proc"},0,0,null,null,null,null,null,null,null,null,null,null,null,null,null,null,null,null,null,null,null,null,null,null,null,null,null,null,null,null,null,null,null,null,14620,0]
["1101040","E.E.G. en vigilia, sueño y post-privación de sueño. Equipo de 8 canales",{"$f":"VLOOKUP(A1291,[1]MAI2022!$A:$D,4,FALSE)","v":"Proc"},0,0,null,null,null,null,null,null,null,null,null,null,null,null,null,null,null,null,null,null,null,null,null,null,null,null,null,null,null,null,null,null,null,null,24640,0]
["1101042","EEG digital 20 canales (con activaciones HV y FE) estándar o post privación de sueño de 20 a 30 minutos duración",{"$f":"VLOOKUP(A1293,[1]MAI2022!$A:$D,4,FALSE)","v":"Proc"},0,0,null,null,null,null,null,null,null,null,null,null,null,null,null,null,null,null,null,null,null,null,null,null,null,null,null,null,null,null,null,null,null,null,22210,0]
["1101043","EEG digital 32 canales (con activaciones HV y FE) estándar o post privación de sueño de 20 a 30 minutos duración",{"$f":"VLOOKUP(A1294,[1]MAI2022!$A:$D,4,FALSE)","v":"Proc"},0,0,null,null,null,null,null,null,null,null,null,null,null,null,null,null,null,null,null,null,null,null,null,null,null,null,null,null,null,null,null,null,null,null,33290,0]
["1101045","Polisomnografía  (electroencefalograma, electrocardiograma, monitoreo de apneas y electronistagmografía, electromiografía)",{"$f":"VLOOKUP(A1297,[1]MAI2022!$A:$D,4,FALSE)","v":"Proc"},0,0,null,null,null,null,null,null,null,null,null,null,null,null,null,null,null,null,null,null,null,null,null,null,null,null,null,null,null,null,null,null,null,null,58230,0]
["1101009","Electromiografía de fibra única",{"$f":"VLOOKUP(A1298,[1]MAI2022!$A:$D,4,FALSE)","v":"Proc"},0,0,null,null,null,null,null,null,null,null,null,null,null,null,null,null,null,null,null,null,null,null,null,null,null,null,null,null,null,null,null,null,null,null,21850,0]
["1101012","Velocidad de conducción nerviosa (incluye reflejo H, onda F y otros)",{"$f":"VLOOKUP(A1301,[1]MAI2022!$A:$D,4,FALSE)","v":"Proc"},0,0,null,null,null,null,null,null,null,null,null,null,null,null,null,null,null,null,null,null,null,null,null,null,null,null,null,null,null,null,null,null,null,null,10950,0]
["1101013","Carótida-vertebral por cateterización de la subclavia, axilar, humeral o femoral. ",{"$f":"VLOOKUP(A1302,[1]MAI2022!$A:$D,4,FALSE)","v":"Proc"},0,0,null,null,null,null,null,null,null,null,null,null,null,null,null,null,null,null,null,null,null,null,null,null,null,null,null,null,null,null,null,null,null,null,28420,0]
["1101020","Neumoencefalografía p/punción suboccipital",{"$f":"VLOOKUP(A1305,[1]MAI2022!$A:$D,4,FALSE)","v":"Proc"},0,0,null,null,null,null,null,null,null,null,null,null,null,null,null,null,null,null,null,null,null,null,null,null,null,null,null,null,null,null,null,null,null,null,23560,0]
["1101026","Bloqueo nervio periférico en punto motor",{"$f":"VLOOKUP(A1306,[1]MAI2022!$A:$D,4,FALSE)","v":"Proc"},0,0,null,null,null,null,null,null,null,null,null,null,null,null,null,null,null,null,null,null,null,null,null,null,null,null,null,null,null,null,null,null,null,null,11580,0]
["1101029","Infiltración o bloqueo del ganglio estrellado",{"$f":"VLOOKUP(A1309,[1]MAI2022!$A:$D,4,FALSE)","v":"Proc"},0,0,null,null,null,null,null,null,null,null,null,null,null,null,null,null,null,null,null,null,null,null,null,null,null,null,null,null,null,null,null,null,null,null,8140,0]
["1101030","Infiltración o bloqueo epidural, cervical, lumbar o similares, cada sesión",{"$f":"VLOOKUP(A1310,[1]MAI2022!$A:$D,4,FALSE)","v":"Proc"},0,0,null,null,null,null,null,null,null,null,null,null,null,null,null,null,null,null,null,null,null,null,null,null,null,null,null,null,null,null,null,null,null,null,12260,0]
["1101033","Infiltración o bloqueo suboccipital u otros nervios cervicales",{"$f":"VLOOKUP(A1313,[1]MAI2022!$A:$D,4,FALSE)","v":"Proc"},0,0,null,null,null,null,null,null,null,null,null,null,null,null,null,null,null,null,null,null,null,null,null,null,null,null,null,null,null,null,null,null,null,null,8140,0]
["1101034","Alcoholización o fenolización de nervios periféricos: intramuscular",{"$f":"VLOOKUP(A1314,[1]MAI2022!$A:$D,4,FALSE)","v":"Proc"},0,0,null,null,null,null,null,null,null,null,null,null,null,null,null,null,null,null,null,null,null,null,null,null,null,null,null,null,null,null,null,null,null,null,11240,0]
[1103000,"Tratamiento endovascular de aneurismas",null,0,0]
[1103100,"Tratamiento endovascular de aneurisma no roto de alta complejidad ( 6 o mas coils, , dos o más anurismas, utilizacion de stent + coils (uno o mas), embolizacion con coils asistida con balon)",null,0,0]
[5099113,"Infiltración  perineural",null,0,0]
[5099112,"Infiltración intramuscular (Fenol y Toxina Botulínica)",null,0,0]
["01011045","Bloqueo neuromuscular con anestésico (manejo del dolor)",null,0,0]
["01011046","Instalación cateter medición de presión líquido cefalo raquídeo",null,0,0]
["01011050","Tratamiento endovascular infarto cerebral (ACV)",null,0,0]
["01011051","Stent carotideo estenosis  carotidea cervical",null,{"$f":"SUM(E1330+H1330)","v":0},0]
["1103001","Malformaciones vasculares del cuero cabelludo incluye aneurisma cirsoideo",{"$f":"VLOOKUP(A1333,[1]MAI2022!$A:$D,4,FALSE)","v":"CMay"},{"$f":"SUM(J1333:O1333)","v":0},null,null,null,null,{"$f":"SUM(J1333:K1333)","v":0},null,null,null,null,null,null,{"$f":"SUM(Q1333:R1333)","v":0},null,null,{"$f":"SUM(T1333:U1333)","v":0},null,null,{"$f":"SUM(W1333:X1333)","v":0},null,null,{"$f":"SUM(Z1333:AA1333)","v":0},null,null,null,null,null,null,null,null,null,null,null,null,183720,{"$f":"AL1333*F1333","v":0}]
["1103002","Sinus pericrani, trat. quir.",{"$f":"VLOOKUP(A1334,[1]MAI2022!$A:$D,4,FALSE)","v":"CMay"},{"$f":"SUM(J1334:O1334)","v":0},null,null,null,null,{"$f":"SUM(J1334:K1334)","v":0},null,null,null,null,null,null,{"$f":"SUM(Q1334:R1334)","v":0},null,null,{"$f":"SUM(T1334:U1334)","v":0},null,null,{"$f":"SUM(W1334:X1334)","v":0},null,null,{"$f":"SUM(Z1334:AA1334)","v":0},null,null,null,null,null,null,null,null,null,null,null,null,183720,{"$f":"AL1334*F1334","v":0}]
["1103005","Craneoplastía con prótesis (no incluye el valor de la prótesis)",{"$f":"VLOOKUP(A1337,[1]MAI2022!$A:$D,4,FALSE)","v":"CMay"},0,null,null,null,null,0,null,null,null,null,null,null,0,null,null,0,null,null,0,null,null,0,null,null,null,null,null,null,null,null,null,null,null,null,249940,{"$f":"AL1337*F1337","v":0}]
["1103006",null,{"$f":"VLOOKUP(A1338,[1]MAI2022!$A:$D,4,FALSE)","v":"CMay"},0,null,null,null,null,0,null,null,null,null,null,null,0,null,null,0,null,null,0,null,null,0,null,null,null,null,null,null,null,null,null,null,null,null,250280," "]
["1103009","Reparación de fractura crecedora",{"$f":"VLOOKUP(A1341,[1]MAI2022!$A:$D,4,FALSE)","v":"CMay"},0,null,null,null,null,0,null,null,null,null,null,null,0,null,null,0,null,null,0,null,null,0,null,null,null,null,null,null,null,null,null,null,null,null,386290,0]
["1103010","Craneotomías lineales",{"$f":"VLOOKUP(A1342,[1]MAI2022!$A:$D,4,FALSE)","v":"CMay"},0,null,null,null,null,0,null,null,null,null,null,null,0,null,null,0,null,null,0,null,null,0,null,null,null,null,null,null,null,null,null,null,null,null,458980,0]
["1103014","Hematoma o absceso extradural, vaciamiento de",{"$f":"VLOOKUP(A1345,[1]MAI2022!$A:$D,4,FALSE)","v":"CMay"},0,null,null,null,null,0,null,null,null,null,null,null,0,null,null,0,null,null,0,null,null,0,null,null,null,null,null,null,null,null,null,null,null,null,428690,0]
["1103015","Reparación de fístula de LCR",{"$f":"VLOOKUP(A1346,[1]MAI2022!$A:$D,4,FALSE)","v":"CMay"},0,null,null,null,null,0,null,null,null,null,null,null,0,null,null,0,null,null,0,null,null,0,null,null,null,null,null,null,null,null,null,null,null,null,478760,0]
["1103018","Ventriculostomía o instalación de derivativa ventricular externa o instalación de captor para medición de pic o punción biopsia o reservorio para administración de medicamentos",{"$f":"VLOOKUP(A1349,[1]MAI2022!$A:$D,4,FALSE)","v":"CMay"},0,null,null,null,null,0,null,null,null,null,null,null,0,null,null,0,null,null,0,null,null,0,null,null,null,null,null,null,null,null,null,null,null,null,229580,0]
["1103019","Absceso cerebral, trat. quir.",{"$f":"VLOOKUP(A1350,[1]MAI2022!$A:$D,4,FALSE)","v":"CMay"},0,null,null,null,null,0,null,null,null,null,null,null,0,null,null,0,null,null,0,null,null,0,null,null,null,null,null,null,null,null,null,null,null,null,598860,0]
["1103022","Lobectomías por contusión cerebral",{"$f":"VLOOKUP(A1353,[1]MAI2022!$A:$D,4,FALSE)","v":"CMay"},0,null,null,null,null,0,null,null,null,null,null,null,0,null,null,0,null,null,0,null,null,0,null,null,null,null,null,null,null,null,null,null,null,null,535090,0]
["1103023","Hematoma intracerebral, vaciamiento de",{"$f":"VLOOKUP(A1354,[1]MAI2022!$A:$D,4,FALSE)","v":"CMay"},0,null,null,null,null,0,null,null,null,null,null,null,0,null,null,0,null,null,0,null,null,0,null,null,null,null,null,null,null,null,null,null,null,null,505020,0]
["1103026","Encefálicos y de hipófisis, resección de tumores y/o quistes y/o cavernoma",{"$f":"VLOOKUP(A1357,[1]MAI2022!$A:$D,4,FALSE)","v":"CMay"},0,null,null,null,null,0,null,null,null,null,null,null,0,null,null,0,null,null,0,null,null,0,null,null,null,null,null,null,null,null,null,null,null,null,1035550,0]
["1103027","Aneurismas, malformaciones arteriovenosas encefálicas u orbitarias, fístulas durales",{"$f":"VLOOKUP(A1358,[1]MAI2022!$A:$D,4,FALSE)","v":"CMay"},0,null,null,null,null,0,null,null,null,null,null,null,0,null,null,0,null,null,0,null,null,0,null,null,null,null,null,null,null,null,null,null,null,null,1120360,0]
["1103030","Revascularización intracraneana indirecta (endodurosinangiosis, multitrepanación, emás, etc)",{"$f":"VLOOKUP(A1361,[1]MAI2022!$A:$D,4,FALSE)","v":"CMay"},0,null,null,null,null,0,null,null,null,null,null,null,0,null,null,0,null,null,0,null,null,0,null,null,null,null,null,null,null,null,null,null,null,null,428690,0]
["1103031","Anastomosis y revascularización cerebral extra-intracraneana (cirugía de carótida: ver Cirugía Vascular Periférica)",{"$f":"VLOOKUP(A1362,[1]MAI2022!$A:$D,4,FALSE)","v":"CMay"},0,null,null,null,null,0,null,null,null,null,null,null,0,null,null,0,null,null,0,null,null,0,null,null,null,null,null,null,null,null,null,null,null,null,803350,0]
["1103033","Revisión o exteriorización de derivativa",{"$f":"VLOOKUP(A1365,[1]MAI2022!$A:$D,4,FALSE)","v":"CMay"},0,null,null,null,null,0,null,null,null,null,null,null,0,null,null,0,null,null,0,null,null,0,null,null,null,null,null,null,null,null,null,null,null,null,184050,0]
["1103034","Ventriculocisternostomía",{"$f":"VLOOKUP(A1366,[1]MAI2022!$A:$D,4,FALSE)","v":"CMay"},0,null,null,null,null,0,null,null,null,null,null,null,0,null,null,0,null,null,0,null,null,0,null,null,null,null,null,null,null,null,null,null,null,null,332440,0]
["1103036","Cirugía descompresiva de fosa posterior u occipito-vertebral en Malformación de Chiari y/o siringomielia",{"$f":"VLOOKUP(A1368,[1]MAI2022!$A:$D,4,FALSE)","v":"CMay"},0,null,null,null,null,0,null,null,null,null,null,null,0,null,null,0,null,null,0,null,null,0,null,null,null,null,null,null,null,null,null,null,null,null,541180,0]
["1103037","Meningo y meningoencefalocele occipital, repar. de",{"$f":"VLOOKUP(A1369,[1]MAI2022!$A:$D,4,FALSE)","v":"CMay"},0,null,null,null,null,0,null,null,null,null,null,null,0,null,null,0,null,null,0,null,null,0,null,null,null,null,null,null,null,null,null,null,null,null,760180,0]
["1103040","Neurolisis o microcompresión percutánea",{"$f":"VLOOKUP(A1372,[1]MAI2022!$A:$D,4,FALSE)","v":"CMay"},0,null,null,null,null,0,null,null,null,null,null,null,0,null,null,0,null,null,0,null,null,0,null,null,null,null,null,null,null,null,null,null,null,null,266200,0]
["1103041","Cirugía de la epilepsia (cualquier técnica)",{"$f":"VLOOKUP(A1373,[1]MAI2022!$A:$D,4,FALSE)","v":"CMay"},0,null,null,null,null,0,null,null,null,null,null,null,0,null,null,0,null,null,0,null,null,0,null,null,null,null,null,null,null,null,null,null,null,null,541180,0]
["1103045","Implantación de estimuladores intracraneanos",{"$f":"VLOOKUP(A1376,[1]MAI2022!$A:$D,4,FALSE)","v":"CMay"},0,null,null,null,null,0,null,null,null,null,null,null,0,null,null,0,null,null,0,null,null,0,null,null,null,null,null,null,null,null,null,null,null,null,511040,0]
["1103076","Guía estereotáxica para realización de cirugía o procedimiento neuroquirúrgico intracranéano ",{"$f":"VLOOKUP(A1377,[1]MAI2022!$A:$D,4,FALSE)","v":"CMay"},0,null,null,null,null,0,null,null,null,null,null,null,0,null,null,0,null,null,0,null,null,0,null,null,null,null,null,null,null,null,null,null,null,null,354800,0]
["1103048","Infiltración facetaria columna y radicular",{"$f":"VLOOKUP(A1380,[1]MAI2022!$A:$D,4,FALSE)","v":"CMay"},0,null,null,null,null,0,null,null,null,null,null,null,0,null,null,0,null,null,0,null,null,0,null,null,null,null,null,null,null,null,null,null,null,null,218660,0]
["1103049","Hernia núcleo pulposo, estenorraquis, aracnoiditis, fibrosis perirradicular cervical, dorsal o lumbar, trat. quir.",{"$f":"VLOOKUP(A1381,[1]MAI2022!$A:$D,4,FALSE)","v":"CMay"},0,null,null,null,null,0,null,null,null,null,null,null,0,null,null,0,null,null,0,null,null,0,null,null,null,null,null,null,null,null,null,null,null,null,653390,0]
["1103051","Heridas raquimedulares, trat. quir.",{"$f":"VLOOKUP(A1384,[1]MAI2022!$A:$D,4,FALSE)","v":"CMay"},0,null,null,null,null,0,null,null,null,null,null,null,0,null,null,0,null,null,0,null,null,0,null,null,null,null,null,null,null,null,null,null,null,null,389930,0]
["1103052","Tratamiento quirúrgico de tumor espinal extradural",{"$f":"VLOOKUP(A1385,[1]MAI2022!$A:$D,4,FALSE)","v":"CMay"},0,null,null,null,null,0,null,null,null,null,null,null,0,null,null,0,null,null,0,null,null,0,null,null,null,null,null,null,null,null,null,null,null,null,428690,0]
["1103055","Cordotomía percutánea",{"$f":"VLOOKUP(A1388,[1]MAI2022!$A:$D,4,FALSE)","v":"CMay"},0,null,null,null,null,0,null,null,null,null,null,null,0,null,null,0,null,null,0,null,null,0,null,null,null,null,null,null,null,null,null,null,null,null,277030,0]
["1103056","Mielotomía, DREZtomía",{"$f":"VLOOKUP(A1389,[1]MAI2022!$A:$D,4,FALSE)","v":"CMay"},0,null,null,null,null,0,null,null,null,null,null,null,0,null,null,0,null,null,0,null,null,0,null,null,null,null,null,null,null,null,null,null,null,null,456090,0]
["1103073","Artroplastia de columna ",{"$f":"VLOOKUP(A1392,[1]MAI2022!$A:$D,4,FALSE)","v":"CMay"},0,null,null,null,null,0,null,null,null,null,null,null,0,null,null,0,null,null,0,null,null,0,null,null,null,null,null,null,null,null,null,null,null,null,758300,0]
["1103074","Aseo quirúrgico de columna vertebral",{"$f":"VLOOKUP(A1393,[1]MAI2022!$A:$D,4,FALSE)","v":"CMay"},0,null,null,null,null,0,null,null,null,null,null,null,0,null,null,0,null,null,0,null,null,0,null,null,null,null,null,null,null,null,null,null,null,null,467000,0]
["1103079","Cementación vertebral cervical, dorsal o lumbar mas de 3 niveles",{"$f":"VLOOKUP(A1396,[1]MAI2022!$A:$D,4,FALSE)","v":"CMay"},{"$f":"SUM(J1396:O1396)","v":0},null,null,null,null,{"$f":"SUM(J1396:K1396)","v":0},null,null,null,null,null,null,{"$f":"SUM(Q1396:R1396)","v":0},null,null,{"$f":"SUM(T1396:U1396)","v":0},null,null,{"$f":"SUM(W1396:X1396)","v":0},null,null,{"$f":"SUM(Z1396:AA1396)","v":0},null,null,null,null,null,null,null,null,null,null,null,null,648010,0]
["1103080","Fusión intersomatica cervical",{"$f":"VLOOKUP(A1397,[1]MAI2022!$A:$D,4,FALSE)","v":"CMay"},{"$f":"SUM(J1397:O1397)","v":0},null,null,null,null,{"$f":"SUM(J1397:K1397)","v":0},null,null,null,null,null,null,{"$f":"SUM(Q1397:R1397)","v":0},null,null,{"$f":"SUM(T1397:U1397)","v":0},null,null,{"$f":"SUM(W1397:X1397)","v":0},null,null,{"$f":"SUM(Z1397:AA1397)","v":0},null,null,null,null,null,null,null,null,null,null,null,null,707610,0]
["1103058","Tumor de nervio periférico, extirp. de",{"$f":"VLOOKUP(A1400,[1]MAI2022!$A:$D,4,FALSE)","v":"CMay"},{"$f":"SUM(J1400:O1400)","v":0},null,null,null,null,{"$f":"SUM(J1400:K1400)","v":0},null,null,null,null,null,null,{"$f":"SUM(Q1400:R1400)","v":0},null,null,{"$f":"SUM(T1400:U1400)","v":0},null,null,{"$f":"SUM(W1400:X1400)","v":0},null,null,{"$f":"SUM(Z1400:AA1400)","v":0},null,null,null,null,null,null,null,null,null,null,null,null,190440,0]
["1103059","Reparación de plexos c/s neurotización con técnica microquirúrgica o injertos interfasciculares",{"$f":"VLOOKUP(A1401,[1]MAI2022!$A:$D,4,FALSE)","v":"CMay"},0,null,null,null,null,0,null,null,null,null,null,null,0,null,null,0,null,null,0,null,null,0,null,null,null,null,null,null,null,null,null,null,null,null,524860,0]
["1103068","Neurectomía, cualquier localización, cada zona quirúrgica",{"$f":"VLOOKUP(A1404,[1]MAI2022!$A:$D,4,FALSE)","v":"CMay"},0,null,null,null,null,0,null,null,null,null,null,null,0,null,null,0,null,null,0,null,null,0,null,null,null,null,null,null,null,null,null,null,null,null,179060,0]
["1103062","Neurolisis con técnica microquirúrgica",{"$f":"VLOOKUP(A1405,[1]MAI2022!$A:$D,4,FALSE)","v":"CMay"},0,null,null,null,null,0,null,null,null,null,null,null,0,null,null,0,null,null,0,null,null,0,null,null,null,null,null,null,null,null,null,null,null,null,326400,0]
["1103065","Síndrome de costilla cervical, trat. quir.",{"$f":"VLOOKUP(A1408,[1]MAI2022!$A:$D,4,FALSE)","v":"CMay"},0,null,null,null,null,0,null,null,null,null,null,null,0,null,null,0,null,null,0,null,null,0,null,null,null,null,null,null,null,null,null,null,null,null,361440,0]
["1103066","Liberación quirúrgica de nervio periférico extracraneano (trat. quir. del Síndrome del Túnel Carpiano, tarso u otro)",{"$f":"VLOOKUP(A1409,[1]MAI2022!$A:$D,4,FALSE)","v":"CMay"},0,null,null,null,null,0,null,null,null,null,null,null,0,null,null,0,null,null,0,null,null,0,null,null,null,null,null,null,null,null,null,null,null,null,190440,0]
["1103077","Neurotomía periférica selectiva para tratamiento de espasticidad",{"$f":"VLOOKUP(A1412,[1]MAI2022!$A:$D,4,FALSE)","v":"CMay"},0,null,null,null,null,0,null,null,null,null,null,null,0,null,null,0,null,null,0,null,null,0,null,null,null,null,null,null,null,null,null,null,null,null,757660,0]
[null,"TOTAL",null,{"$f":"SUM(D1333:D1412)","v":0},0,0,0,0,0,0,0,0,0,0,0,0,0,0,0,0,0,0,0,0,0,0,0,0,0,0,0,0,0,0,0,0,0,null,0]
["1201001","Campimetría de proyección, unilateral (proc.aut.)",{"$f":"VLOOKUP(A1416,[1]MAI2022!$A:$D,4,FALSE)","v":"Proc"},{"$f":"SUM(E1416+H1416)","v":0},{"$f":"SUM(F1416:G1416)","v":0},null,null,null,null,null,null,null,null,null,null,null,null,null,null,null,null,null,null,null,null,null,null,null,null,null,null,null,null,null,null,null,null,5250,0]
["1201042","Campimetría computarizada, unilateral ",{"$f":"VLOOKUP(A1417,[1]MAI2022!$A:$D,4,FALSE)","v":"Proc"},0,0,null,null,null,null,null,null,null,null,null,null,null,null,null,null,null,null,null,null,null,null,null,null,null,null,null,null,null,null,null,null,null,null,14870,0]
["1201004","Curva de tensión aplanática (por cada día), unilateral",{"$f":"VLOOKUP(A1420,[1]MAI2022!$A:$D,4,FALSE)","v":"Proc"},0,0,null,null,null,null,null,null,null,null,null,null,null,null,null,null,null,null,null,null,null,null,null,null,null,null,null,null,null,null,null,null,null,null,4890,0]
["1201005","Diploscopia cuantitativa, bilateral",{"$f":"VLOOKUP(A1421,[1]MAI2022!$A:$D,4,FALSE)","v":"Proc"},0,0,null,null,null,null,null,null,null,null,null,null,null,null,null,null,null,null,null,null,null,null,null,null,null,null,null,null,null,null,null,null,null,null,2850,0]
["1201008","Electrooculografía, bilateral",{"$f":"VLOOKUP(A1424,[1]MAI2022!$A:$D,4,FALSE)","v":"Proc"},0,0,null,null,null,null,null,null,null,null,null,null,null,null,null,null,null,null,null,null,null,null,null,null,null,null,null,null,null,null,null,null,null,null,9690,0]
["1201009","Exploración sensoriomotora: estrabismo, estudio completo, bilateral",{"$f":"VLOOKUP(A1425,[1]MAI2022!$A:$D,4,FALSE)","v":"Proc"},0,0,null,null,null,null,null,null,null,null,null,null,null,null,null,null,null,null,null,null,null,null,null,null,null,null,null,null,null,null,null,null,null,null,11330,0]
["1201012","Retinografía, bilateral",{"$f":"VLOOKUP(A1428,[1]MAI2022!$A:$D,4,FALSE)","v":"Proc"},0,0,null,null,null,null,null,null,null,null,null,null,null,null,null,null,null,null,null,null,null,null,null,null,null,null,null,null,null,null,null,null,null,null,7280,0]
["1201014","Tonometría aplanática unilateral",{"$f":"VLOOKUP(A1429,[1]MAI2022!$A:$D,4,FALSE)","v":"Proc"},0,0,null,null,null,null,null,null,null,null,null,null,null,null,null,null,null,null,null,null,null,null,null,null,null,null,null,null,null,null,null,null,null,null,1650,0]
["1201016","Angiografía de retina o de iris, (con fluoresceína o sim.), unilateral",{"$f":"VLOOKUP(A1432,[1]MAI2022!$A:$D,4,FALSE)","v":"Proc"},0,0,null,null,null,null,null,null,null,null,null,null,null,null,null,null,null,null,null,null,null,null,null,null,null,null,null,null,null,null,null,null,null,null,12730,0]
["1201017","Angioscopia retinal y/o iris (con fluoresceína o similar), unilateral (proc.aut.)",{"$f":"VLOOKUP(A1433,[1]MAI2022!$A:$D,4,FALSE)","v":"Proc"},0,0,null,null,null,null,null,null,null,null,null,null,null,null,null,null,null,null,null,null,null,null,null,null,null,null,null,null,null,null,null,null,null,null,3210,0]
["1201020","Ecobiometría con cálculo de lente intraocular, bilateral",{"$f":"VLOOKUP(A1436,[1]MAI2022!$A:$D,4,FALSE)","v":"Proc"},0,0,null,null,null,null,null,null,null,null,null,null,null,null,null,null,null,null,null,null,null,null,null,null,null,null,null,null,null,null,null,null,null,null,20310,0]
["1201023","Potencial visual evocado en adultos, bilateral",{"$f":"VLOOKUP(A1437,[1]MAI2022!$A:$D,4,FALSE)","v":"Proc"},0,0,null,null,null,null,null,null,null,null,null,null,null,null,null,null,null,null,null,null,null,null,null,null,null,null,null,null,null,null,null,null,null,null,12940,0]
["1201043","Topografía corneal computarizada, unilateral",{"$f":"VLOOKUP(A1439,[1]MAI2022!$A:$D,4,FALSE)","v":"Proc"},0,0,null,null,null,null,null,null,null,null,null,null,null,null,null,null,null,null,null,null,null,null,null,null,null,null,null,null,null,null,null,null,null,null,24060,0]
["1201029","Cuerpo extraño conjuntival y/o corneal en adultos",{"$f":"VLOOKUP(A1440,[1]MAI2022!$A:$D,4,FALSE)","v":"Proc"},0,0,null,null,null,null,null,null,null,null,null,null,null,null,null,null,null,null,null,null,null,null,null,null,null,null,null,null,null,null,null,null,null,null,7690,0]
["1201032","Vía lagrimal, cateterismo o sondaje en lactantes",{"$f":"VLOOKUP(A1443,[1]MAI2022!$A:$D,4,FALSE)","v":"Proc"},0,0,null,null,null,null,null,null,null,null,null,null,null,null,null,null,null,null,null,null,null,null,null,null,null,null,null,null,null,null,null,null,null,null,19250,0]
["1201033","Vía lagrimal, cateterismo o sondaje en niños",{"$f":"VLOOKUP(A1444,[1]MAI2022!$A:$D,4,FALSE)","v":"Proc"},0,0,null,null,null,null,null,null,null,null,null,null,null,null,null,null,null,null,null,null,null,null,null,null,null,null,null,null,null,null,null,null,null,null,15340,0]
["1201036","Criocoagulación conjuntival, corneal o palpebral en niños",{"$f":"VLOOKUP(A1447,[1]MAI2022!$A:$D,4,FALSE)","v":"Proc"},0,0,null,null,null,null,null,null,null,null,null,null,null,null,null,null,null,null,null,null,null,null,null,null,null,null,null,null,null,null,null,null,null,null,12860,0]
["1201037","Glaucoma, ciclodiatermia y/o ciclocrioterapia",{"$f":"VLOOKUP(A1448,[1]MAI2022!$A:$D,4,FALSE)","v":"Proc"},0,0,null,null,null,null,null,null,null,null,null,null,null,null,null,null,null,null,null,null,null,null,null,null,null,null,null,null,null,null,null,null,null,null,42820,0]
["1201040","Puntos lagrimales; electrotermocoagulación",{"$f":"VLOOKUP(A1451,[1]MAI2022!$A:$D,4,FALSE)","v":"Proc"},0,0,null,null,null,null,null,null,null,null,null,null,null,null,null,null,null,null,null,null,null,null,null,null,null,null,null,null,null,null,null,null,null,null,11580,0]
["1201041","Sondaje vía lagrimal en niños (bajo anestesia general)",{"$f":"VLOOKUP(A1452,[1]MAI2022!$A:$D,4,FALSE)","v":"Proc"},{"$f":"SUM(E1452+H1452)","v":0},{"$f":"SUM(F1452:G1452)","v":0},null,null,null,null,null,null,null,null,null,null,null,null,null,null,null,null,null,null,null,null,null,null,null,null,null,null,null,null,null,null,null,null,86370,0]
[5099014,"Toma agudeza visual (ambos ojos)",null,0,0]
[5099015,"Autorefractometria",null,0,0]
[5099052,"Campo visual",null,0,0]
["01011175","Biomicroscopía ocular",null,0,0]
[null,"CIRUGIA OFTALMOLOGICA          "]
["1202001","Intubación vía lagrimal",{"$f":"VLOOKUP(A1464,[1]MAI2022!$A:$D,4,FALSE)","v":"CMen"},{"$f":"SUM(J1464:O1464)","v":0},null,null,null,null,{"$f":"SUM(J1464:K1464)","v":0},null,null,null,null,null,null,null,null,null,null,null,null,null,null,null,null,null,null,null,null,null,null,null,null,null,null,null,null,40530,{"$f":"+(J1464*AL1464)+(M1464*AL1464*0.5)","v":0}]
["1202004","Absceso, vaciamiento y/o drenaje de saco y/o glándula lagrimal",{"$f":"VLOOKUP(A1467,[1]MAI2022!$A:$D,4,FALSE)","v":"CMen"},0,null,null,null,null,0,null,null,null,null,null,null,null,null,null,null,null,null,null,null,null,null,null,null,null,null,null,null,null,null,null,null,null,null,19120,0]
["1202005","Dacriocistorrinostomía",{"$f":"VLOOKUP(A1468,[1]MAI2022!$A:$D,4,FALSE)","v":"CMen"},0,null,null,null,null,0,null,null,null,null,null,null,null,null,null,null,null,null,null,null,null,null,null,null,null,null,null,null,null,null,null,null,null,null,111540,0]
["1202008","Extirpación de saco y/o glándula lagrimal",{"$f":"VLOOKUP(A1471,[1]MAI2022!$A:$D,4,FALSE)","v":"CMay"},0,null,null,null,null,0,null,null,null,null,null,null,0,null,null,0,null,null,0,null,null,0,null,null,null,null,null,null,null,null,null,null,null,null,157390,0]
["1202009","Extirpación de saco y/o glándula lagrimal",{"$f":"VLOOKUP(A1472,[1]MAI2022!$A:$D,4,FALSE)","v":"CMay"},0,null,null,null,null,0,null,null,null,null,null,null,0,null,null,0,null,null,0,null,null,0,null,null,null,null,null,null,null,null,null,null,null,null,127120,0]
["1202012","Blefarochalasis, plastía de",{"$f":"VLOOKUP(A1475,[1]MAI2022!$A:$D,4,FALSE)","v":"CMen"},0,null,null,null,null,0,null,null,null,null,null,null,null,null,null,null,null,null,null,null,null,null,null,null,null,null,null,null,null,null,null,null,null,null,49290,0]
["1202013","Blefarofimosis, plastía de",{"$f":"VLOOKUP(A1476,[1]MAI2022!$A:$D,4,FALSE)","v":"CMay"},{"$f":"SUM(J1476:O1476)","v":0},null,null,null,null,{"$f":"SUM(J1476:K1476)","v":0},null,null,null,null,null,null,{"$f":"SUM(Q1476:R1476)","v":0},null,null,{"$f":"SUM(T1476:U1476)","v":0},null,null,{"$f":"SUM(W1476:X1476)","v":0},null,null,{"$f":"SUM(Z1476:AA1476)","v":0},null,null,null,null,null,null,null,null,null,null,null,null,101220,0]
["1202016","Chalazión y otros tumores benignos (uno o más, unilateral), trat. quir. completo",{"$f":"VLOOKUP(A1479,[1]MAI2022!$A:$D,4,FALSE)","v":"CMen"},0,null,null,null,null,0,null,null,null,null,null,null,null,null,null,null,null,null,null,null,null,null,null,null,null,null,null,null,null,null,null,null,null,null,32590,0]
["1202017","Coloboma, plastía de",{"$f":"VLOOKUP(A1480,[1]MAI2022!$A:$D,4,FALSE)","v":"CMay"},0,null,null,null,null,0,null,null,null,null,null,null,0,null,null,0,null,null,0,null,null,0,null,null,null,null,null,null,null,null,null,null,null,null,106310,0]
["1202020","Epicanto, plastía de",{"$f":"VLOOKUP(A1483,[1]MAI2022!$A:$D,4,FALSE)","v":"CMen"},0,null,null,null,null,0,null,null,null,null,null,null,null,null,null,null,null,null,null,null,null,null,null,null,null,null,null,null,null,null,null,null,null,null,64250,0]
["1202021","Ptosis, trat. quir.",{"$f":"VLOOKUP(A1484,[1]MAI2022!$A:$D,4,FALSE)","v":"CMay"},0,null,null,null,null,0,null,null,null,null,null,null,0,null,null,0,null,null,0,null,null,0,null,null,null,null,null,null,null,null,null,null,null,null,102390,0]
["1202024","Xantelasma, trat. quir.",{"$f":"VLOOKUP(A1487,[1]MAI2022!$A:$D,4,FALSE)","v":"CMen"},0,null,null,null,null,0,null,null,null,null,null,null,null,null,null,null,null,null,null,null,null,null,null,null,null,null,null,null,null,null,null,null,null,null,27270,0]
["1202071","Herida o dehiscencia de sutura de párpado, reparación",{"$f":"VLOOKUP(A1488,[1]MAI2022!$A:$D,4,FALSE)","v":"CMen"},0,null,null,null,null,0,null,null,null,null,null,null,null,null,null,null,null,null,null,null,null,null,null,null,null,null,null,null,null,null,null,null,null,null,38450,0]
["1202026","Pterigión y/o pseudopterigión o su recidiva, extirpación",{"$f":"VLOOKUP(A1491,[1]MAI2022!$A:$D,4,FALSE)","v":"CMen"},0,null,null,null,null,0,null,null,null,null,null,null,null,null,null,null,null,null,null,null,null,null,null,null,null,null,null,null,null,null,null,null,null,null,63510,0]
["1202027","Simbléfaron, resección de adherencias y plastía de",{"$f":"VLOOKUP(A1492,[1]MAI2022!$A:$D,4,FALSE)","v":"CMay"},0,null,null,null,null,0,null,null,null,null,null,null,0,null,null,0,null,null,0,null,null,0,null,null,null,null,null,null,null,null,null,null,null,null,62510,0]
["1202029","Absceso orbitario, trat. quir.",{"$f":"VLOOKUP(A1495,[1]MAI2022!$A:$D,4,FALSE)","v":"CMen"},0,null,null,null,null,0,null,null,null,null,null,null,null,null,null,null,null,null,null,null,null,null,null,null,null,null,null,null,null,null,null,null,null,null,36800,0]
["1202030","Corrección de cavidad anoftálmica trat. completo",{"$f":"VLOOKUP(A1496,[1]MAI2022!$A:$D,4,FALSE)","v":"CMay"},0,null,null,null,null,0,null,null,null,null,null,null,0,null,null,0,null,null,0,null,null,0,null,null,null,null,null,null,null,null,null,null,null,null,164120,0]
["1202033","Orbitotomía anterior",{"$f":"VLOOKUP(A1499,[1]MAI2022!$A:$D,4,FALSE)","v":"CMay"},0,null,null,null,null,0,null,null,null,null,null,null,0,null,null,0,null,null,0,null,null,0,null,null,null,null,null,null,null,null,null,null,null,null,79090,0]
["1202034","Orbitotomía lateral descompresiva",{"$f":"VLOOKUP(A1500,[1]MAI2022!$A:$D,4,FALSE)","v":"CMay"},0,null,null,null,null,0,null,null,null,null,null,null,0,null,null,0,null,null,0,null,null,0,null,null,null,null,null,null,null,null,null,null,null,null,116560,0]
["1202036","Enucleación o implante de prótesis ocular (proc. aut.)",{"$f":"VLOOKUP(A1503,[1]MAI2022!$A:$D,4,FALSE)","v":"CMay"},0,null,null,null,null,0,null,null,null,null,null,null,0,null,null,0,null,null,0,null,null,0,null,null,null,null,null,null,null,null,null,null,null,null,137410,0]
["1202037","Enucleación con implante",{"$f":"VLOOKUP(A1504,[1]MAI2022!$A:$D,4,FALSE)","v":"CMay"},0,null,null,null,null,0,null,null,null,null,null,null,0,null,null,0,null,null,0,null,null,0,null,null,null,null,null,null,null,null,null,null,null,null,186400,0]
["1202040","Sutura de lesión traumática de globo o musculos oculares (proc. aut.)",{"$f":"VLOOKUP(A1507,[1]MAI2022!$A:$D,4,FALSE)","v":"CMay"},0,null,null,null,null,0,null,null,null,null,null,null,0,null,null,0,null,null,0,null,null,0,null,null,null,null,null,null,null,null,null,null,null,null,70330,0]
["1202081","Evisceración del globo ocular",{"$f":"VLOOKUP(A1508,[1]MAI2022!$A:$D,4,FALSE)","v":"CMay"},0,null,null,null,null,0,null,null,null,null,null,null,0,null,null,0,null,null,0,null,null,0,null,null,null,null,null,null,null,null,null,null,null,null,338750,0]
["1202044","Extracción quir. de cuerpo extraño en cornea y/o esclera",{"$f":"VLOOKUP(A1511,[1]MAI2022!$A:$D,4,FALSE)","v":"CMen"},0,null,null,null,null,0,null,null,null,null,null,null,null,null,null,null,null,null,null,null,null,null,null,null,null,null,null,null,null,null,null,null,null,null,28600,0]
["1202045","Glaucoma, trat. quir. por cualquier técnica",{"$f":"VLOOKUP(A1512,[1]MAI2022!$A:$D,4,FALSE)","v":"CMay"},0,null,null,null,null,0,null,null,null,null,null,null,0,null,null,0,null,null,0,null,null,0,null,null,null,null,null,null,null,null,null,null,null,null,203590,0]
["1202047","Queratectomía laminar",{"$f":"VLOOKUP(A1514,[1]MAI2022!$A:$D,4,FALSE)","v":"CMay"},0,null,null,null,null,0,null,null,null,null,null,null,0,null,null,0,null,null,0,null,null,0,null,null,null,null,null,null,null,null,null,null,null,null,112550,0]
["1202048","Queratoplastía. Injerto lamelar o penetrante trat. quir. Completo",{"$f":"VLOOKUP(A1515,[1]MAI2022!$A:$D,4,FALSE)","v":"CMay"},0,null,null,null,null,0,null,null,null,null,null,null,0,null,null,0,null,null,0,null,null,0,null,null,null,null,null,null,null,null,null,null,null,null,236170,0]
["1202051","Rehabilitación superficie ocular (con injerto de mucosa)",{"$f":"VLOOKUP(A1518,[1]MAI2022!$A:$D,4,FALSE)","v":"CMay"},0,null,null,null,null,0,null,null,null,null,null,null,0,null,null,0,null,null,0,null,null,0,null,null,null,null,null,null,null,null,null,null,null,null,125350,0]
["1202070","Sinequiotomía (proc. aut.)",{"$f":"VLOOKUP(A1519,[1]MAI2022!$A:$D,4,FALSE)","v":"CMay"},0,null,null,null,null,0,null,null,null,null,null,null,0,null,null,0,null,null,0,null,null,0,null,null,null,null,null,null,null,null,null,null,null,null,71930,0]
["1202082","Obtención de tejido donante en el trasplante de córnea",{"$f":"VLOOKUP(A1522,[1]MAI2022!$A:$D,4,FALSE)","v":"CMay"},0,null,null,null,null,0,null,null,null,null,null,null,0,null,null,0,null,null,0,null,null,0,null,null,null,null,null,null,null,null,null,null,null,null,318250,0]
["1202083","Trasplante de Córnea",{"$f":"VLOOKUP(A1523,[1]MAI2022!$A:$D,4,FALSE)","v":"CMay"},0,null,null,null,null,0,null,null,null,null,null,null,0,null,null,0,null,null,0,null,null,0,null,null,null,null,null,null,null,null,null,null,null,null,1162100,0]
["1202074","Hernia de iris y/o fístulas, reparación de",{"$f":"VLOOKUP(A1526,[1]MAI2022!$A:$D,4,FALSE)","v":"CMay"},0,null,null,null,null,0,null,null,null,null,null,null,0,null,null,0,null,null,0,null,null,0,null,null,null,null,null,null,null,null,null,null,null,null,111770,0]
["1202055","Desgarro  con o sin desprendimiento, diatermo y/o crio y/o fotocoagulación (incluye endofotocoagulación intraquirúrgica )",{"$f":"VLOOKUP(A1527,[1]MAI2022!$A:$D,4,FALSE)","v":"CMen"},0,null,null,null,null,0,null,null,null,null,null,null,null,null,null,null,null,null,null,null,null,null,null,null,null,null,null,null,null,null,null,null,null,null,99720,0]
["1202059","Vasculopatía retinal (excepto retinopatía proliferativa) diatermo y/o crio y/o fotocoagulación ( incluye endofotocoagulación intraquirùrgica)",{"$f":"VLOOKUP(A1530,[1]MAI2022!$A:$D,4,FALSE)","v":"CMen"},0,null,null,null,null,0,null,null,null,null,null,null,null,null,null,null,null,null,null,null,null,null,null,null,null,null,null,null,null,null,null,null,null,null,123170,0]
["1202060","Vitrectomía c/retinotomía (c/s inyección de gas o silicona)",{"$f":"VLOOKUP(A1531,[1]MAI2022!$A:$D,4,FALSE)","v":"CMay"},0,null,null,null,null,0,null,null,null,null,null,null,0,null,null,0,null,null,0,null,null,0,null,null,null,null,null,null,null,null,null,null,null,null,371900,0]
["1202075","Retinopexia neumática",{"$f":"VLOOKUP(A1534,[1]MAI2022!$A:$D,4,FALSE)","v":"CMay"},0,null,null,null,null,0,null,null,null,null,null,null,0,null,null,0,null,null,0,null,null,0,null,null,null,null,null,null,null,null,null,null,null,null,180140,0]
["1202077","Desprendimiento coroídeo o hemorragia coroídea, trat. quir.",{"$f":"VLOOKUP(A1535,[1]MAI2022!$A:$D,4,FALSE)","v":"CMay"},0,null,null,null,null,0,null,null,null,null,null,null,0,null,null,0,null,null,0,null,null,0,null,null,null,null,null,null,null,null,null,null,null,null,94540,0]
["1202164","- Facoéresis extracapsular con implante de lente intraocular (incluye el valor de la prótesis)",{"$f":"VLOOKUP(A1538,[1]MAI2022!$A:$D,4,FALSE)","v":"CMay"},0,null,null,null,null,0,null,null,null,null,null,null,0,null,null,0,null,null,0,null,null,0,null,null,null,null,null,null,null,null,null,null,null,null,674480,0]
["1202065","Implante secundario de lente intraocular",{"$f":"VLOOKUP(A1539,[1]MAI2022!$A:$D,4,FALSE)","v":"CMay"},0,null,null,null,null,0,null,null,null,null,null,null,0,null,null,0,null,null,0,null,null,0,null,null,null,null,null,null,null,null,null,null,null,null,308820,0]
["1202079","Facoemulsificación",{"$f":"VLOOKUP(A1542,[1]MAI2022!$A:$D,4,FALSE)","v":"CMay"},0,null,null,null,null,0,null,null,null,null,null,null,0,null,null,0,null,null,0,null,null,0,null,null,null,null,null,null,null,null,null,null,null,null,559300,0]
["1202057","Retinopatía proliferativa, (diabética, hipertensiva, eales y otras) panfotocoagulación trat. completo   (incluye endofotocoagulación intraquirúrgica )",{"$f":"VLOOKUP(A1543,[1]MAI2022!$A:$D,4,FALSE)","v":"CMen"},0,null,null,null,null,0,null,null,null,null,null,null,0,null,null,0,null,null,0,null,null,0,null,null,null,null,null,null,null,null,null,null,null,null,174680,0]
["1202069","Trabeculoplastía o iridoplastía",{"$f":"VLOOKUP(A1546,[1]MAI2022!$A:$D,4,FALSE)","v":"CMen"},0,null,null,null,null,0,null,null,null,null,null,null,null,null,null,null,null,null,null,null,null,null,null,null,null,null,null,null,null,null,null,null,null,null,195490,0]
["1202078","Cirugía fotorrefractiva o fototerapéutica de córnea, cualquier técnica",{"$f":"VLOOKUP(A1547,[1]MAI2022!$A:$D,4,FALSE)","v":"CMay"},0,null,null,null,null,0,null,null,null,null,null,null,0,null,null,0,null,null,0,null,null,0,null,null,null,null,null,null,null,null,null,null,null,null,179130,0]
["1301001","Electrogustometría",{"$f":"VLOOKUP(A1550,[1]MAI2022!$A:$D,4,FALSE)","v":"Proc"},{"$f":"SUM(E1550+H1550)","v":0},{"$f":"SUM(F1550:G1550)","v":0},null,null,null,null,null,null,null,null,null,null,null,null,null,null,null,null,null,null,null,null,null,null,null,null,null,null,null,null,null,null,null,null,3660,{"$f":"AL1550*F1550","v":0}]
["1301047","Nasofibroscopía de la deglución",{"$f":"VLOOKUP(A1551,[1]MAI2022!$A:$D,4,FALSE)","v":"Proc"},{"$f":"SUM(E1551+H1551)","v":0},{"$f":"SUM(F1551:G1551)","v":0},null,null,null,null,null,null,null,null,null,null,null,null,null,null,null,null,null,null,null,null,null,null,null,null,null,null,null,null,null,null,null,null,38810,0]
["1301005","Sinusoscopia de cada seno maxilar por punción, c/s biopsia, c/s toma de muestras",{"$f":"VLOOKUP(A1554,[1]MAI2022!$A:$D,4,FALSE)","v":"Proc"},0,0,null,null,null,null,null,null,null,null,null,null,null,null,null,null,null,null,null,null,null,null,null,null,null,null,null,null,null,null,null,null,null,null,7690,0]
["1301006","Laringoscopia y/o traqueoscopia directa c/s toma de muestra, c/s biopsia. Con microscopio",{"$f":"VLOOKUP(A1555,[1]MAI2022!$A:$D,4,FALSE)","v":"Proc"},0,0,null,null,null,null,null,null,null,null,null,null,null,null,null,null,null,null,null,null,null,null,null,null,null,null,null,null,null,null,null,null,null,null,18200,0]
["1301008","Audiometría niños",{"$f":"VLOOKUP(A1558,[1]MAI2022!$A:$D,4,FALSE)","v":"Proc"},0,0,null,null,null,null,null,null,null,null,null,null,null,null,null,null,null,null,null,null,null,null,null,null,null,null,null,null,null,null,null,null,null,null,8520,0]
["1301009","Impedanciometría",{"$f":"VLOOKUP(A1559,[1]MAI2022!$A:$D,4,FALSE)","v":"Proc"},0,0,null,null,null,null,null,null,null,null,null,null,null,null,null,null,null,null,null,null,null,null,null,null,null,null,null,null,null,null,null,null,null,null,5430,0]
["1301012","Cócleovestibular con electronistagmografía",{"$f":"VLOOKUP(A1562,[1]MAI2022!$A:$D,4,FALSE)","v":"Proc"},0,0,null,null,null,null,null,null,null,null,null,null,null,null,null,null,null,null,null,null,null,null,null,null,null,null,null,null,null,null,null,null,null,null,14620,0]
["1301015","Electronistagmografía o Videoelectronistagmografía c/s nistag.de posición",{"$f":"VLOOKUP(A1563,[1]MAI2022!$A:$D,4,FALSE)","v":"Proc"},0,0,null,null,null,null,null,null,null,null,null,null,null,null,null,null,null,null,null,null,null,null,null,null,null,null,null,null,null,null,null,null,null,null,5250,0]
["1301019","Test de glicerol (con 3 audiometrías)",{"$f":"VLOOKUP(A1566,[1]MAI2022!$A:$D,4,FALSE)","v":"Proc"},0,0,null,null,null,null,null,null,null,null,null,null,null,null,null,null,null,null,null,null,null,null,null,null,null,null,null,null,null,null,null,null,null,null,14620,0]
["1301020","Examen funcional de VIII par",{"$f":"VLOOKUP(A1567,[1]MAI2022!$A:$D,4,FALSE)","v":"Proc"},0,0,null,null,null,null,null,null,null,null,null,null,null,null,null,null,null,null,null,null,null,null,null,null,null,null,null,null,null,null,null,null,null,null,16160,0]
["1301049","Pruebas rotatorias",{"$f":"VLOOKUP(A1570,[1]MAI2022!$A:$D,4,FALSE)","v":"Proc"},{"$f":"SUM(E1570+H1570)","v":0},{"$f":"SUM(F1570:G1570)","v":0},null,null,null,null,null,null,null,null,null,null,null,null,null,null,null,null,null,null,null,null,null,null,null,null,null,null,null,null,null,null,null,null,9470,0]
["1301050","Audiometría campo libre. Niños y adultos",{"$f":"VLOOKUP(A1571,[1]MAI2022!$A:$D,4,FALSE)","v":"Proc"},{"$f":"SUM(E1571+H1571)","v":0},{"$f":"SUM(F1571:G1571)","v":0},null,null,null,null,null,null,null,null,null,null,null,null,null,null,null,null,null,null,null,null,null,null,null,null,null,null,null,null,null,null,null,null,11470,0]
["1301026","Taponamiento nasal posterior",{"$f":"VLOOKUP(A1574,[1]MAI2022!$A:$D,4,FALSE)","v":"Proc"},0,0,null,null,null,null,null,null,null,null,null,null,null,null,null,null,null,null,null,null,null,null,null,null,null,null,null,null,null,null,null,null,null,null,11580,0]
["1301027","Vaciamiento cavid. perinasales (Proetz y sim.) (10 sesiones)",{"$f":"VLOOKUP(A1575,[1]MAI2022!$A:$D,4,FALSE)","v":"Proc"},0,0,null,null,null,null,null,null,null,null,null,null,null,null,null,null,null,null,null,null,null,null,null,null,null,null,null,null,null,null,null,null,null,null,22870,0]
["1301030","Cuerpo extraño en fosas nasales, extracción de: - En niños",{"$f":"VLOOKUP(A1578,[1]MAI2022!$A:$D,4,FALSE)","v":"Proc"},0,0,null,null,null,null,null,null,null,null,null,null,null,null,null,null,null,null,null,null,null,null,null,null,null,null,null,null,null,null,null,null,null,null,12260,0]
["1301035","Cuerpo extraño en laringe y/o tráquea, extracción de (incluye la endoscopia con tubo rígido) - En adultos",{"$f":"VLOOKUP(A1579,[1]MAI2022!$A:$D,4,FALSE)","v":"Proc"},0,0,null,null,null,null,null,null,null,null,null,null,null,null,null,null,null,null,null,null,null,null,null,null,null,null,null,null,null,null,null,null,null,null,22400,0]
["1301038","Cuerpo extraño extracción en hipofaringe y/o esófago (por tubo rígido) - En niños",{"$f":"VLOOKUP(A1582,[1]MAI2022!$A:$D,4,FALSE)","v":"Proc"},0,0,null,null,null,null,null,null,null,null,null,null,null,null,null,null,null,null,null,null,null,null,null,null,null,null,null,null,null,null,null,null,null,null,23140,0]
["1301039","Cuerpo extraño extracción en hipofaringe y/o esófago (por tubo rígido) - En adultos",{"$f":"VLOOKUP(A1583,[1]MAI2022!$A:$D,4,FALSE)","v":"Proc"},0,0,null,null,null,null,null,null,null,null,null,null,null,null,null,null,null,null,null,null,null,null,null,null,null,null,null,null,null,null,null,null,null,null,23140,0]
["1301041","Trompa de Eustaquio, insuflación instrumental (proc. aut.)",{"$f":"VLOOKUP(A1585,[1]MAI2022!$A:$D,4,FALSE)","v":"Proc"},0,0,null,null,null,null,null,null,null,null,null,null,null,null,null,null,null,null,null,null,null,null,null,null,null,null,null,null,null,null,null,null,null,null,3860,0]
["1301042","Cuerpo extraño en oído, extracción de (incluye tapón de cerumen) (proc. aut.) - En adultos",{"$f":"VLOOKUP(A1586,[1]MAI2022!$A:$D,4,FALSE)","v":"Proc"},0,0,null,null,null,null,null,null,null,null,null,null,null,null,null,null,null,null,null,null,null,null,null,null,null,null,null,null,null,null,null,null,null,null,3860,0]
["1301051","Retiro de tubos de ventilación timpánica, uni o bilateral",{"$f":"VLOOKUP(A1589,[1]MAI2022!$A:$D,4,FALSE)","v":"Proc"},{"$f":"SUM(E1589+H1589)","v":0},{"$f":"SUM(F1589:G1589)","v":0},null,null,null,null,null,null,null,null,null,null,null,null,null,null,null,null,null,null,null,null,null,null,null,null,null,null,null,null,null,null,null,null,53900,0]
["1301045","Emisiones Otoacústicas ",{"$f":"VLOOKUP(A1590,[1]MAI2022!$A:$D,4,FALSE)","v":"Proc"},0,0,null,null,null,null,null,null,null,null,null,null,null,null,null,null,null,null,null,null,null,null,null,null,null,null,null,null,null,null,null,null,null,null,8920,0]
[5099093,"Retiro de yeso",null,0,0]
[5099094,"Cambio de canula traqueostomia (enfermera Otorrino)",null,0,0]
["","Electrococleografía ",null,0,0]
["01011304","Maniobras de reposición de particulas",null,0,0]
["01011309","Rinometría acústica",null,0,0]
["","Maniobras de reposición vestibular ",null,0,0]
["01011314","Timpanometría de banda ancha",null,0,0]
["01011315","Estudio funcional de equilibrio en plataforma",null,0,0]
[null,"CIRUGIA OTORRINOLARINGOLOGICA       "]
["1302001","Absceso y/o hematomas oído externo, trat. quir.","CMen",{"$f":"SUM(J1610:O1610)","v":0},null,null,null,null,{"$f":"SUM(J1610:K1610)","v":0},null,null,null,null,null,null,null,null,null,null,null,null,null,null,null,null,null,null,null,null,null,null,null,null,null,null,null,null,16200,{"$f":"+(J1610*AL1610)+(M1610*AL1610*0.5)","v":0}]
["1302004","Extirpación de tumor de conducto auditivo externo","CMen",0,null,null,null,null,0,null,null,null,null,null,null,null,null,null,null,null,null,null,null,null,null,null,null,null,null,null,null,null,null,null,null,null,null,30750,0]
["1302005","Tumor maligno oído externo, trat. quir.","CMen",0,null,null,null,null,0,null,null,null,null,null,null,null,null,null,null,null,null,null,null,null,null,null,null,null,null,null,null,null,null,null,null,null,null,157350,0]
["1302007","Mastoidectomía c/s sección cuerda del tímpano","CMay",0,null,null,null,null,0,null,null,null,null,null,null,0,null,null,0,null,null,0,null,null,0,null,null,null,null,null,null,null,null,null,null,null,null,236120,0]
["1302008","Tratamiento quirúrgico de Mucositis timpánica, otitis media con efusión uni o bilateral","CMen",{"$f":"SUM(J1618:O1618)","v":0},null,null,null,null,{"$f":"SUM(J1618:K1618)","v":0},null,null,null,null,null,null,null,null,null,null,null,null,null,null,null,null,null,null,null,null,null,null,null,null,null,null,null,null,121920,0]
["1302012","Timpanoplastía funcional (cualquier tipo) c/s mastoidectomía","CMay",0,null,null,null,null,0,null,null,null,null,null,null,0,null,null,0,null,null,0,null,null,0,null,null,null,null,null,null,null,null,null,null,null,null,212070,0]
["1302076","Punción timpánica para inyección de medicamentos","CMen",{"$f":"SUM(J1622:O1622)","v":0},null,null,null,null,{"$f":"SUM(J1622:K1622)","v":0},null,null,null,null,null,null,null,null,null,null,null,null,null,null,null,null,null,null,null,null,null,null,null,null,null,null,null,null,199270,0]
["1302080","Plastía o dilatación por vía endoscópica trompa de Eustaquio","CMay",0,null,null,null,null,0,null,null,null,null,null,null,0,null,null,0,null,null,0,null,null,0,null,null,null,null,null,null,null,null,null,null,null,null,194880,0]
["1302081","Meatoplastía en oído radicalizado","CMay",0,null,null,null,null,0,null,null,null,null,null,null,0,null,null,0,null,null,0,null,null,0,null,null,null,null,null,null,null,null,null,null,null,null,282570,0]
["1302084","Resección total del hueso temporal (abordaje combinado orl y neurocirujano)","CMay",0,null,null,null,null,0,null,null,null,null,null,null,0,null,null,0,null,null,0,null,null,0,null,null,null,null,null,null,null,null,null,null,null,null,470260,0]
["1302085","Timpanectomía con o sin tubos de ventilación","CMay",0,null,null,null,null,0,null,null,null,null,null,null,0,null,null,0,null,null,0,null,null,0,null,null,null,null,null,null,null,null,null,null,null,null,298670,0]
["1302088","Tiroplastia 1-4","CMay",0,null,null,null,null,0,null,null,null,null,null,null,0,null,null,0,null,null,0,null,null,0,null,null,null,null,null,null,null,null,null,null,null,null,311880,0]
["1302089","Toma de injerto cartilago tragal","CMay",0,null,null,null,null,0,null,null,null,null,null,null,0,null,null,0,null,null,0,null,null,0,null,null,null,null,null,null,null,null,null,null,null,null,226190,0]
["1302013","Reconstitución plástica de conducto auditivo externo cartilaginoso","CMay",0,null,null,null,null,0,null,null,null,null,null,null,0,null,null,0,null,null,0,null,null,0,null,null,null,null,null,null,null,null,null,null,null,null,263830,0]
["1302014","Exostosis u osteoma oído medio o externo, resección por cualquier vía  ","CMay",0,null,null,null,null,0,null,null,null,null,null,null,0,null,null,0,null,null,0,null,null,0,null,null,null,null,null,null,null,null,null,null,null,null,200050,0]
["1302017","Tratamiento quirúrgico de tumor glómico timpánico","CMay",0,null,null,null,null,0,null,null,null,null,null,null,0,null,null,0,null,null,0,null,null,0,null,null,null,null,null,null,null,null,null,null,null,null,263830,0]
["1302018","Laberintectomía","CMay",0,null,null,null,null,0,null,null,null,null,null,null,0,null,null,0,null,null,0,null,null,0,null,null,null,null,null,null,null,null,null,null,null,null,212070,0]
["1302020","Descompresión intraósea nervio facial c/s plastía","CMay",0,null,null,null,null,0,null,null,null,null,null,null,0,null,null,0,null,null,0,null,null,0,null,null,null,null,null,null,null,null,null,null,null,null,197620,0]
["1302021","Lesiones a nivel del conducto auditivo interno, trat. quir.","CMay",0,null,null,null,null,0,null,null,null,null,null,null,0,null,null,0,null,null,0,null,null,0,null,null,null,null,null,null,null,null,null,null,null,null,314310,0]
["1302024","Drenaje de absceso o flegmón de piso de boca","CMen",0,null,null,null,null,0,null,null,null,null,null,null,null,null,null,null,null,null,null,null,null,null,null,null,null,null,null,null,null,null,null,null,null,null,22230,0]
["1302025","Drenaje de absceso o flegmón periamigdaliano","CMen",0,null,null,null,null,0,null,null,null,null,null,null,null,null,null,null,null,null,null,null,null,null,null,null,null,null,null,null,null,null,null,null,null,null,33110,0]
["1302028","Adenoidectomía (proc. aut.)","CMay",0,null,null,null,null,0,null,null,null,null,null,null,{"$f":"SUM(Q1653:R1653)","v":0},null,null,{"$f":"SUM(T1653:U1653)","v":0},null,null,{"$f":"SUM(W1653:X1653)","v":0},null,null,{"$f":"SUM(Z1653:AA1653)","v":0},null,null,null,null,null,null,null,null,null,null,null,null,137640,0]
["1302029","Amigdalectomía c/s adenoidectomía, uni o bilateral","CMay",0,null,null,null,null,0,null,null,null,null,null,null,0,null,null,0,null,null,0,null,null,0,null,null,null,null,null,null,null,null,null,null,null,null,154280,0]
["1302032","Tumor maligno de las amígdalas, trat. quir.","CMay",0,null,null,null,null,0,null,null,null,null,null,null,{"$f":"SUM(Q1657:R1657)","v":0},null,null,{"$f":"SUM(T1657:U1657)","v":0},null,null,{"$f":"SUM(W1657:X1657)","v":0},null,null,{"$f":"SUM(Z1657:AA1657)","v":0},null,null,null,null,null,null,null,null,null,null,null,null,190440,0]
[null,"Tumor de la base de la lengua, extirpación de:"]
["1302034","Extirpación tumor maligno de base de lengua","CMay",0,null,null,null,null,0,null,null,null,null,null,null,0,null,null,0,null,null,0,null,null,0,null,null,null,null,null,null,null,null,null,null,null,null,377880,0]
["1302035","Faringoplastía (cualq. técn.), c/s desplazamiento de colgajos","CMay",0,null,null,null,null,0,null,null,null,null,null,null,0,null,null,0,null,null,0,null,null,0,null,null,null,null,null,null,null,null,null,null,null,null,268850,0]
["1302038","Abscesos y hematoma del tabique nasal, trat. quir.","CMen",{"$f":"SUM(J1664:O1664)","v":0},null,null,null,null,{"$f":"SUM(J1664:K1664)","v":0},null,null,null,null,null,null,null,null,null,null,null,null,null,null,null,null,null,null,null,null,null,null,null,null,null,null,null,null,32100,0]
["1302039","Arteria esfenopalatina, cauterización por vía nasal","CMen",0,null,null,null,null,0,null,null,null,null,null,null,null,null,null,null,null,null,null,null,null,null,null,null,null,null,null,null,null,null,null,null,null,null,150910,0]
["1302042","Turbinectomía o cauterización de cornetes, cualquier técnica ","CMen",0,null,null,null,null,0,null,null,null,null,null,null,null,null,null,null,null,null,null,null,null,null,null,null,null,null,null,null,null,null,null,null,null,null,43670,0]
["1302043","Conducto y/o seno lagrimal, obstrucción del, trat. quir. por vía nasal","CMay",0,null,null,null,null,0,null,null,null,null,null,null,{"$f":"SUM(Q1669:R1669)","v":0},null,null,{"$f":"SUM(T1669:U1669)","v":0},null,null,{"$f":"SUM(W1669:X1669)","v":0},null,null,{"$f":"SUM(Z1669:AA1669)","v":0},null,null,null,null,null,null,null,null,null,null,null,null,165620,0]
["1302045","Tratamiento quirúrgico de las fistulas buco-sinusales o buco-nasales  y/o retiro cuerpos extraños del seno maxilar","CMay",0,null,null,null,null,0,null,null,null,null,null,null,0,null,null,0,null,null,0,null,null,0,null,null,null,null,null,null,null,null,null,null,null,null,159240,0]
["1302046","Fract. nasal reciente, cerrada o expuesta, reducción c/s inmovilización ","CMen",{"$f":"SUM(J1673:O1673)","v":0},null,null,null,null,{"$f":"SUM(J1673:K1673)","v":0},null,null,null,null,null,null,null,null,null,null,null,null,null,null,null,null,null,null,null,null,null,null,null,null,null,null,null,null,30310,0]
["1302049","Tratamiento quirúrgico pólipo nasal","CMen",0,null,null,null,null,0,null,null,null,null,null,null,null,null,null,null,null,null,null,null,null,null,null,null,null,null,null,null,null,null,null,null,null,null,37550,0]
["1302050","Rinitis atrófica, trat. por inclusión submucosa, con cualquier material, uni o bilateral","CMay",0,null,null,null,null,0,null,null,null,null,null,null,{"$f":"SUM(Q1677:R1677)","v":0},null,null,{"$f":"SUM(T1677:U1677)","v":0},null,null,{"$f":"SUM(W1677:X1677)","v":0},null,null,{"$f":"SUM(Z1677:AA1677)","v":0},null,null,null,null,null,null,null,null,null,null,null,null,137640,0]
["1302053","Seno esfenoidal, abertura por cualquier vía ","CMay",0,null,null,null,null,0,null,null,null,null,null,null,0,null,null,0,null,null,0,null,null,0,null,null,null,null,null,null,null,null,null,null,null,null,197620,0]
["1302054","Tratamiento quirúrgico de seno frontal, cualquier vía","CMay",0,null,null,null,null,0,null,null,null,null,null,null,0,null,null,0,null,null,0,null,null,0,null,null,null,null,null,null,null,null,null,null,null,null,165620,0]
["1302057","Tumor nasal, extirp. por rinotomía lateral","CMay",0,null,null,null,null,0,null,null,null,null,null,null,{"$f":"SUM(Q1684:R1684)","v":0},null,null,{"$f":"SUM(T1684:U1684)","v":0},null,null,{"$f":"SUM(W1684:X1684)","v":0},null,null,{"$f":"SUM(Z1684:AA1684)","v":0},null,null,null,null,null,null,null,null,null,null,null,null,165620,0]
["1302058","Vaciamiento etmoidal por vía nasal c/s polipectomía","CMay",0,null,null,null,null,0,null,null,null,null,null,null,0,null,null,0,null,null,0,null,null,0,null,null,null,null,null,null,null,null,null,null,null,null,137640,0]
["1302095","Resección lateral del hueso temporal (incluye mástoides y conducto auditivo externo en forma circular)","CMay",0,0,null,null,null,0,null,null,null,null,null,null,0,null,null,0,null,null,0,null,null,0,null,null,null,null,null,null,null,null,null,null,null,null,278260,0]
["1302096","Tumor benigno nasosinusal y/o rinofaríngeo, resección por vía endoscópica (excluye fibroangioma nasofaríngeo)","CMay",0,0,null,null,null,0,null,null,null,null,null,null,0,null,null,0,null,null,0,null,null,0,null,null,null,null,null,null,null,null,null,null,null,null,219340,0]
["1302099","Sinuplastía seno frontal con balón por endoscopía u otra técnica","CMay",0,null,null,null,null,0,null,null,null,null,null,null,0,null,null,0,null,null,0,null,null,0,null,null,null,null,null,null,null,null,null,null,null,null,161540,0]
["1302100","Sinuplastía seno maxilar con balón por endoscopía u otra técnica","CMay",0,null,null,null,null,0,null,null,null,null,null,null,0,null,null,0,null,null,0,null,null,0,null,null,null,null,null,null,null,null,null,null,null,null,193840,0]
["1302059","Aritenoidectomía vía endoscópica","CMen",{"$f":"SUM(J1696:O1696)","v":0},null,null,null,null,{"$f":"SUM(J1696:K1696)","v":0},null,null,null,null,null,null,null,null,null,null,null,null,null,null,null,null,null,null,null,null,null,null,null,null,null,null,null,null,129380,0]
["1302060","Aritenoidectomía vía externa","CMay",0,null,null,null,null,0,null,null,null,null,null,null,{"$f":"SUM(Q1697:R1697)","v":0},null,null,{"$f":"SUM(T1697:U1697)","v":0},null,null,{"$f":"SUM(W1697:X1697)","v":0},null,null,{"$f":"SUM(Z1697:AA1697)","v":0},null,null,null,null,null,null,null,null,null,null,null,null,175960,0]
["1302104","Cordectomía, sinequia y otras malformaciones, tratatamiento quirúrgico por endoscópica (incluye laser)","CMay",0,0,null,null,null,0,null,null,null,null,null,null,0,null,null,0,null,null,0,null,null,0,null,null,null,null,null,null,null,null,null,null,null,null,258130,0]
["1302105","Subluxación articulación cricotiroídea","CMay",{"$f":"SUM(J1701:O1701)","v":0},null,null,null,null,{"$f":"SUM(J1701:K1701)","v":0},null,null,null,null,null,null,{"$f":"SUM(Q1701:R1701)","v":0},null,null,{"$f":"SUM(T1701:U1701)","v":0},null,null,{"$f":"SUM(W1701:X1701)","v":0},null,null,{"$f":"SUM(Z1701:AA1701)","v":0},null,null,null,null,null,null,null,null,null,null,null,null,172080,0]
["1302064","Cordectomía, resección de sinequia y otras malformaciones, trat. quirúrgico por vía externa ","CMay",0,null,null,null,null,0,null,null,null,null,null,null,{"$f":"SUM(Q1704:R1704)","v":0},null,null,{"$f":"SUM(T1704:U1704)","v":0},null,null,{"$f":"SUM(W1704:X1704)","v":0},null,null,{"$f":"SUM(Z1704:AA1704)","v":0},null,null,null,null,null,null,null,null,null,null,null,null,165620,0]
["1302065","Estenosis laringotraqueales y/o faríngeas, trat. quir. por vía abierta (incluye reconstrucción laringotraqueal) ","CMay",0,null,null,null,null,0,null,null,null,null,null,null,0,null,null,0,null,null,0,null,null,0,null,null,null,null,null,null,null,null,null,null,null,null,318900,0]
["1302067","Laringectomía total más faringectomía parcial","CMay",{"$f":"SUM(J1708:O1708)","v":0},null,null,null,null,{"$f":"SUM(J1708:K1708)","v":0},null,null,null,null,null,null,{"$f":"SUM(Q1708:R1708)","v":0},null,null,{"$f":"SUM(T1708:U1708)","v":0},null,null,{"$f":"SUM(W1708:X1708)","v":0},null,null,{"$f":"SUM(Z1708:AA1708)","v":0},null,null,null,null,null,null,null,null,null,null,null,null,476820,0]
["1302068","Laringectomía total más faringectomía total y/o esofagectomía cervical","CMay",0,null,null,null,null,0,null,null,null,null,null,null,0,null,null,0,null,null,0,null,null,0,null,null,null,null,null,null,null,null,null,null,null,null,720250,0]
["1302070","Papilomas laríngeos, trat. quir. (por sesión)","CMen",{"$f":"SUM(J1712:O1712)","v":0},null,null,null,null,{"$f":"SUM(J1712:K1712)","v":0},null,null,null,null,null,null,null,null,null,null,null,null,null,null,null,null,null,null,null,null,null,null,null,null,null,null,null,null,50220,0]
["1302071","Parálisis de cuerdas vocales, trat. quir. cualquier técnica","CMay",0,null,null,null,null,0,null,null,null,null,null,null,{"$f":"SUM(Q1713:R1713)","v":0},null,null,{"$f":"SUM(T1713:U1713)","v":0},null,null,{"$f":"SUM(W1713:X1713)","v":0},null,null,{"$f":"SUM(Z1713:AA1713)","v":0},null,null,null,null,null,null,null,null,null,null,null,null,165620,0]
["1302075","Fractura laríngea, reducción abierta c/s microplacas","CMay",0,null,null,null,null,0,null,null,null,null,null,null,{"$f":"SUM(Q1716:R1716)","v":0},null,null,{"$f":"SUM(T1716:U1716)","v":0},null,null,{"$f":"SUM(W1716:X1716)","v":0},null,null,{"$f":"SUM(Z1716:AA1716)","v":0},null,null,null,null,null,null,null,null,null,null,null,null,228400,0]
["1302108","Inyección de cuerda vocal vía endoscópica","CMay",0,null,null,null,null,0,null,null,null,null,null,null,0,null,null,0,null,null,0,null,null,0,null,null,null,null,null,null,null,null,null,null,null,null,172080,0]
[null,"FONOAUDIOLOGÍA",null,null,0]
["1303001","Evaluación de voz","Proc",{"$f":"SUM(E1721+H1721)","v":0},{"$f":"SUM(F1721:G1721)","v":0},null,null,null,null,null,null,null,null,null,null,null,null,null,null,null,null,null,null,null,null,null,null,null,null,null,null,null,null,null,null,null,null,4090,{"$f":"AL1721*F1721","v":0}]
["1303004","Rehabilitación de la voz ","Proc",0,0,null,null,null,null,null,null,null,null,null,null,null,null,null,null,null,null,null,null,null,null,null,null,null,null,null,null,null,null,null,null,null,null,3860,0]
["1303005","Rehabilitación del habla y/o del lenguaje (máximo 30 sesiones anuales)(cada sesión mínimo 30')      ","Proc",0,0,null,null,null,null,null,null,null,null,null,null,null,null,null,null,null,null,null,null,null,null,null,null,null,null,null,null,null,null,null,null,null,null,3860,0]
[null,"TOTAL",null,{"$f":"SUM(D1721:D1727)","v":0},{"$f":"SUM(E1721:E1727)","v":0},0,0,0,null,null,null,null,null,null,null,null,null,null,null,null,null,null,null,null,null,null,null,{"$f":"SUM(AB1721:AB1727)","v":0},{"$f":"SUM(AC1721:AC1727)","v":0},{"$f":"SUM(AD1721:AD1727)","v":0},{"$f":"SUM(AE1721:AE1727)","v":0},{"$f":"SUM(AF1721:AF1727)","v":0},{"$f":"SUM(AG1721:AG1727)","v":0},{"$f":"SUM(AH1721:AH1727)","v":0},{"$f":"SUM(AI1721:AI1727)","v":0},{"$f":"SUM(AJ1721:AJ1727)","v":0},{"$f":"SUM(AK1721:AK1727)","v":0},null,{"$f":"SUM(AM1721:AM1727)","v":0}]
[null,"TELEREHABILITACIÓN: FONOAUDIOLOGÍA"]
["1308302","Telerehabilitación: Evaluación de habla","Proc",{"$f":"SUM(E1731+H1731)","v":0},{"$f":"SUM(F1731:G1731)","v":0},null,null,null,null,null,null,null,null,null,null,null,null,null,null,null,null,null,null,null,null,null,null,null,null,null,null,null,null,null,null,null,null,11400,{"$f":"AL1731*F1731","v":0}]
["1308303","Telerehabilitación: Evaluación del lenguaje (incluye voz, habla y aspecto semántico, sintáctico y fonológico, etc. e informe) (incluye 3 sesiones de mínimo 30')","Proc",{"$f":"SUM(E1732+H1732)","v":0},{"$f":"SUM(F1732:G1732)","v":0},null,null,null,null,null,null,null,null,null,null,null,null,null,null,null,null,null,null,null,null,null,null,null,null,null,null,null,null,null,null,null,null,16200,{"$f":"AL1732*F1732","v":0}]
[null,"TOTAL",null,{"$f":"SUM(D1730:D1734)","v":0},{"$f":"SUM(E1730:E1734)","v":0},{"$f":"SUM(F1730:F1734)","v":0},{"$f":"SUM(G1730:G1734)","v":0},{"$f":"SUM(H1730:H1734)","v":0},null,null,null,null,null,null,null,null,null,null,null,null,null,null,null,null,null,null,null,{"$f":"SUM(AB1730:AB1734)","v":0},{"$f":"SUM(AC1730:AC1734)","v":0},0,0,0,0,0,0,0,0,null,{"$f":"SUM(AM1730:AM1734)","v":0}]
[null,"PROCEDIMIENTO DE CABEZA Y CUELLO     "]
[null,"CIRUGIA DE CABEZA Y CUELLO"]
["1402001","Tiroidectomía bilateral total","CMay",{"$f":"SUM(J1740:O1740)","v":0},null,null,null,null,{"$f":"+J1740+K1740","v":0},null,null,null,null,null,null,{"$f":"SUM(Q1740:R1740)","v":0},null,null,{"$f":"SUM(T1740:U1740)","v":0},null,null,{"$f":"SUM(W1740:X1740)","v":0},null,null,{"$f":"SUM(Z1740:AA1740)","v":0},null,null,null,null,null,null,null,null,null,null,null,null,326360,{"$f":"+(J1740*AL1740)+(M1740*AL1740*0.5)","v":0}]
["1402004","Extirpación de Tiroides lingual","CMay",0,null,null,null,null,0,null,null,null,null,null,null,0,null,null,0,null,null,0,null,null,0,null,null,null,null,null,null,null,null,null,null,null,null,365840,0]
["1402005","Lobectomía con o sin istmectomía o resección parcial","CMay",0,null,null,null,null,0,null,null,null,null,null,null,0,null,null,0,null,null,0,null,null,0,null,null,null,null,null,null,null,null,null,null,null,null,227710,0]
["1402008","Paratiroidectomía o exploración paratiroides con exploración de mediastino, abordaje transtorácico.","CMay",0,null,null,null,null,0,null,null,null,null,null,null,0,null,null,0,null,null,0,null,null,0,null,null,null,null,null,null,null,null,null,null,null,null,365840,0]
["1402009","Paratiroidectomía o exploración de paratiroides (abordaje cervical, clásico o mínimamente invasivo)","CMay",0,null,null,null,null,0,null,null,null,null,null,null,0,null,null,0,null,null,0,null,null,0,null,null,null,null,null,null,null,null,null,null,null,null,249980,0]
["1402012","Parotidectomía total, con disección y preservación del nervio facial.","CMay",0,null,null,null,null,0,null,null,null,null,null,null,0,null,null,0,null,null,0,null,null,0,null,null,null,null,null,null,null,null,null,null,null,null,258350,0]
["1402013","Parotidectomía total ampliada (incluye músculos, ganglios, articulaciones y rama vertical de la mandíbula)","CMay",0,null,null,null,null,0,null,null,null,null,null,null,0,null,null,0,null,null,0,null,null,0,null,null,null,null,null,null,null,null,null,null,null,null,540320,0]
["1402016","Extirpación de glándula salival submandibular","CMay",0,null,null,null,null,0,null,null,null,null,null,null,0,null,null,0,null,null,0,null,null,0,null,null,null,null,null,null,null,null,null,null,null,null,175960,0]
["1402017","Extirpación glándula salival sublingual","CMay",0,null,null,null,null,0,null,null,null,null,null,null,0,null,null,0,null,null,0,null,null,0,null,null,null,null,null,null,null,null,null,null,null,null,137640,0]
["1402020","Conductos salivales de excreción, reimplantación oro-faríngea","CMay",0,null,null,null,null,0,null,null,null,null,null,null,0,null,null,0,null,null,0,null,null,0,null,null,null,null,null,null,null,null,null,null,null,null,159240,0]
["1402021","Cierre de fístula salival: reparación del conducto de excreción","CMen",0,null,null,null,null,0,null,null,null,null,null,null,null,null,null,null,null,null,null,null,null,null,null,null,null,null,null,null,null,null,null,null,null,null,143530,0]
["1402024","Quistes y/o fístulas del conducto tirogloso, y/o branquial, y/o higroma, y/o fístula preauricular complicada, y/u otros quistes y/o tumores benignos, trat. quir.","CMay",0,null,null,null,null,0,null,null,null,null,null,null,0,null,null,0,null,null,0,null,null,0,null,null,null,null,null,null,null,null,null,null,null,null,169620,0]
["1402025","Tumores del cuerpo carotídeo, trat. quir. (incl. proc. vascular)","CMay",0,null,null,null,null,0,null,null,null,null,null,null,0,null,null,0,null,null,0,null,null,0,null,null,null,null,null,null,null,null,null,null,null,null,230150,0]
["1402028","Resección cutánea ampliada (incluye musculatura, ganglios y huesos subyacentes; desplazamiento de colgajos)","CMay",0,null,null,null,null,0,null,null,null,null,null,null,0,null,null,0,null,null,0,null,null,0,null,null,null,null,null,null,null,null,null,null,null,null,175960,0]
["1402029","Resección cutánea simple (sutura primaria)","CMen",0,null,null,null,null,0,null,null,null,null,null,null,null,null,null,null,null,null,null,null,null,null,null,null,null,null,null,null,null,null,null,null,null,null,41610,0]
["1402032","Resección parcial y cirugía reparadora nariz","CMay",0,null,null,null,null,0,null,null,null,null,null,null,0,null,null,0,null,null,0,null,null,0,null,null,null,null,null,null,null,null,null,null,null,null,159240,0]
["1402033","Resección total y cirugía reparadora nariz","CMay",0,null,null,null,null,0,null,null,null,null,null,null,0,null,null,0,null,null,0,null,null,0,null,null,null,null,null,null,null,null,null,null,null,null,175960,0]
["1402036","Extirpación total ampliada del hueso temporal","CMay",0,null,null,null,null,0,null,null,null,null,null,null,0,null,null,0,null,null,0,null,null,0,null,null,null,null,null,null,null,null,null,null,null,null,610470,0]
["1402037","Maxilectomia parcial y reparación protésica","CMay",0,null,null,null,null,0,null,null,null,null,null,null,0,null,null,0,null,null,0,null,null,0,null,null,null,null,null,null,null,null,null,null,null,null,218120,0]
["1402040","Maxilectomía radical clásica (incluye exanteración orbitaria y reparación con colgajo)","CMay",0,null,null,null,null,0,null,null,null,null,null,null,0,null,null,0,null,null,0,null,null,0,null,null,null,null,null,null,null,null,null,null,null,null,585050,0]
["1402041","Maxilectomía radical clásica (incluye exanteración orbitaria y reparación protésica)","CMay",0,null,null,null,null,0,null,null,null,null,null,null,0,null,null,0,null,null,0,null,null,0,null,null,null,null,null,null,null,null,null,null,null,null,524860,0]
["1402044","Hemimandibulectomía","CMay",0,null,null,null,null,0,null,null,null,null,null,null,0,null,null,0,null,null,0,null,null,0,null,null,null,null,null,null,null,null,null,null,null,null,256560,0]
["1402045","Mandibulectomía total","CMay",0,null,null,null,null,0,null,null,null,null,null,null,0,null,null,0,null,null,0,null,null,0,null,null,null,null,null,null,null,null,null,null,null,null,430810,0]
["1402048","Extirpación de tumor intraoral amplia en tercio posterior cavidad oral (región faringea) ","CMay",0,null,null,null,null,0,null,null,null,null,null,null,0,null,null,0,null,null,0,null,null,0,null,null,null,null,null,null,null,null,null,null,null,null,598510,0]
["1402050","Faringectomía parcial","CMay",0,null,null,null,null,0,null,null,null,null,null,null,0,null,null,0,null,null,0,null,null,0,null,null,null,null,null,null,null,null,null,null,null,null,175960,0]
["1402053","Osteotomias totales del maxilar o mandibula (tipo Le Fort I o sagital de rama)","CMay",0,null,null,null,null,0,null,null,null,null,null,null,0,null,null,0,null,null,0,null,null,0,null,null,null,null,null,null,null,null,null,null,null,null,272200,0]
["1402054","Reducción cerrada de fracturas maxilofaciales","CMen",0,null,null,null,null,0,null,null,null,null,null,null,null,null,null,null,null,null,null,null,null,null,null,null,null,null,null,null,null,null,null,null,null,null,75520,0]
["1402057","Reconstrucciones complejas de la cara simultáneas con proc. neuroquirúrgico (craneotomías más abordajes y trat. facial), tiempo facial","CMay",0,null,null,null,null,0,null,null,null,null,null,null,0,null,null,0,null,null,0,null,null,0,null,null,null,null,null,null,null,null,null,null,null,null,524860,0]
["1402058","Reconstrucciones de partes duras y blandas de la cara, mediante abordajes múltiples y hemicoronal o coronal","CMay",0,null,null,null,null,0,null,null,null,null,null,null,0,null,null,0,null,null,0,null,null,0,null,null,null,null,null,null,null,null,null,null,null,null,329370,0]
[null,"TOTAL",null,{"$f":"SUM(D1740:D1798)","v":0},null,null,null,null,{"$f":"SUM(I1740:I1798)","v":0},0,0,0,0,0,0,0,0,0,0,0,0,0,0,0,0,0,0,0,0,0,0,0,0,0,0,0,0,null,{"$f":"SUM(AM1740:AM1798)","v":0}]
[null,"CIRUGIA PLASTICA Y REPARADORA     "]
["1502002","Heridas de la cara simples: 1 o varias de hasta 5 cms. que sólo comprometen piel","CMen",{"$f":"SUM(J1803:O1803)","v":0},null,null,null,null,0,null,null,null,null,null,null,null,null,null,null,null,null,null,null,null,null,null,null,null,null,null,null,null,null,null,null,null,null,35190,0]
["1502003","Implante de silicona facial (cualquier zona o zonas)","CMen",{"$f":"SUM(J1804:O1804)","v":0},null,null,null,null,0,null,null,null,null,null,null,null,null,null,null,null,null,null,null,null,null,null,null,null,null,null,null,null,null,null,null,null,null,97760,0]
["1502005","Resección plástica de 3 o más cicatrices (cualquier localización o tamaño) ","CMen",0,null,null,null,null,0,null,null,null,null,null,null,null,null,null,null,null,null,null,null,null,null,null,null,null,null,null,null,null,null,null,null,null,null,136850,0]
["1502006","Injertos  hasta 1% superficie corporal receptora","CMen",0,null,null,null,null,0,null,null,null,null,null,null,null,null,null,null,null,null,null,null,null,null,null,null,null,null,null,null,null,null,null,null,null,null,36190,0]
["1502009","Injertos por cada 10% (o su fracción) adicional hasta 50%","CMay",0,null,null,null,null,0,null,null,null,null,null,null,0,null,null,0,null,null,0,null,null,0,null,null,null,null,null,null,null,null,null,null,null,null,68290,0]
["1502010","Injertos 51% y más de superficie corporal receptora","CMay",0,null,null,null,null,0,null,null,null,null,null,null,0,null,null,0,null,null,0,null,null,0,null,null,null,null,null,null,null,null,null,null,null,null,398800,0]
["1502013","Toma de injertos-óseo (costal, ilíaco, tibial o similares) c/u.","CMay",0,null,null,null,null,0,null,null,null,null,null,null,0,null,null,0,null,null,0,null,null,0,null,null,null,null,null,null,null,null,null,null,null,null,159900,0]
["1502067","Toma de injerto de cuero cabelludo","CMen",0,null,null,null,null,0,null,null,null,null,null,null,null,null,null,null,null,null,null,null,null,null,null,null,null,null,null,null,null,null,null,null,null,null,134290,0]
["1502070","Expansor de piel (único) primer tiempo","CMay",0,null,null,null,null,0,null,null,null,null,null,null,0,null,null,0,null,null,0,null,null,0,null,null,null,null,null,null,null,null,null,null,null,null,242590,0]
["1502071","Expansor de piel (único) segundo tiempo o retiro","CMay",0,null,null,null,null,0,null,null,null,null,null,null,0,null,null,0,null,null,0,null,null,0,null,null,null,null,null,null,null,null,null,null,null,null,247110,0]
["1502016","- Colgajos complejos (Abbe, Mustarda, Converse, Juri, Bakamjian o similar)","CMay",0,null,null,null,null,0,null,null,null,null,null,null,0,null,null,0,null,null,0,null,null,0,null,null,null,null,null,null,null,null,null,null,null,null,212070,0]
["1502017","- Colgajos libres con microanastomosis (incluye toma del colgajo y las suturas neurovasculares)","CMay",0,null,null,null,null,0,null,null,null,null,null,null,0,null,null,0,null,null,0,null,null,0,null,null,null,null,null,null,null,null,null,null,null,null,564400,0]
["1502020","- Colgajos simples dos o más","CMay",0,null,null,null,null,0,null,null,null,null,null,null,0,null,null,0,null,null,0,null,null,0,null,null,null,null,null,null,null,null,null,null,null,null,175960,0]
["1502021","- Colgajo simple único","CMay",0,null,null,null,null,0,null,null,null,null,null,null,0,null,null,0,null,null,0,null,null,0,null,null,null,null,null,null,null,null,null,null,null,null,121080,0]
["1502024","Ridectomía frontal","CMay",0,null,null,null,null,0,null,null,null,null,null,null,0,null,null,0,null,null,0,null,null,0,null,null,null,null,null,null,null,null,null,null,null,null,165620,0]
["1502025","Orejas aladas o en asa, corrección plástica","CMen",0,null,null,null,null,0,null,null,null,null,null,null,null,null,null,null,null,null,null,null,null,null,null,null,null,null,null,null,null,null,null,null,null,null,151150,0]
["1502028","Corrección nasal parcial (alares, alargamiento columela o similar)","CMay",0,null,null,null,null,0,null,null,null,null,null,null,0,null,null,0,null,null,0,null,null,0,null,null,null,null,null,null,null,null,null,null,null,null,159240,0]
["1502029","Blefaroplastia párpados inferiores, uni o bilateral","CMay",0,null,null,null,null,0,null,null,null,null,null,null,0,null,null,0,null,null,0,null,null,0,null,null,null,null,null,null,null,null,null,null,null,null,165620,0]
["1502032","Queiloplastía primaria, un lado (proc. quir. completo por cualquier técnica)","CMay",0,null,null,null,null,0,null,null,null,null,null,null,0,null,null,0,null,null,0,null,null,0,null,null,null,null,null,null,null,null,null,null,null,null,165620,0]
["1502033","Cierre de paladar duro y/o cierre de comunicación oro-nasal","CMay",0,null,null,null,null,0,null,null,null,null,null,null,0,null,null,0,null,null,0,null,null,0,null,null,null,null,null,null,null,null,null,null,null,null,165620,0]
["1502036","** Cierre de macrostomía, unilateral","CMay",0,null,null,null,null,0,null,null,null,null,null,null,0,null,null,0,null,null,0,null,null,0,null,null,null,null,null,null,null,null,null,null,null,null,159240,0]
["1502037","Tratamiento quirúrgico de anomalías cráneo faciales","CMay",0,null,null,null,null,0,null,null,null,null,null,null,0,null,null,0,null,null,0,null,null,0,null,null,null,null,null,null,null,null,null,null,null,null,296330,0]
["1502040","Distoplasias orbitarias: movilización unilateral o vertical tiempo facial","CMay",0,null,null,null,null,0,null,null,null,null,null,null,0,null,null,0,null,null,0,null,null,0,null,null,null,null,null,null,null,null,null,null,null,null,550370,0]
["1502041","Expansión o reconstrucción de un micro-orbitismo","CMay",0,null,null,null,null,0,null,null,null,null,null,null,0,null,null,0,null,null,0,null,null,0,null,null,null,null,null,null,null,null,null,null,null,null,550370,0]
["1502044","Corrección telecanto","CMay",0,null,null,null,null,0,null,null,null,null,null,null,0,null,null,0,null,null,0,null,null,0,null,null,null,null,null,null,null,null,null,null,null,null,191530,0]
["1502045","Movilización orbitaria extracraneana","CMay",0,null,null,null,null,0,null,null,null,null,null,null,0,null,null,0,null,null,0,null,null,0,null,null,null,null,null,null,null,null,null,null,null,null,550370,0]
["1502048","Mamoplastía de aumento (unilateral)","CMay",0,null,null,null,null,0,null,null,null,null,null,null,0,null,null,0,null,null,0,null,null,0,null,null,null,null,null,null,null,null,null,null,null,null,169620,0]
["1502049","Mamoplastía de reducción","CMay",0,null,null,null,null,0,null,null,null,null,null,null,0,null,null,0,null,null,0,null,null,0,null,null,null,null,null,null,null,null,null,null,null,null,206240,0]
["1502052","Reconstrucción mamaria","CMay",0,null,null,null,null,0,null,null,null,null,null,null,0,null,null,0,null,null,0,null,null,0,null,null,null,null,null,null,null,null,null,null,null,null,242120,0]
["1502053","Abdominoplastia","CMay",0,null,null,null,null,0,null,null,null,null,null,null,0,null,null,0,null,null,0,null,null,0,null,null,null,null,null,null,null,null,null,null,null,null,235460,0]
["1502056","Sindactilia, trat. quir. cada espacio con injerto","CMay",0,null,null,null,null,0,null,null,null,null,null,null,0,null,null,0,null,null,0,null,null,0,null,null,null,null,null,null,null,null,null,null,null,null,133100,0]
["1502057","Sindactilia, trat. quir. cada espacio sin injerto","CMen",0,null,null,null,null,0,null,null,null,null,null,null,null,null,null,null,null,null,null,null,null,null,null,null,null,null,null,null,null,null,null,null,null,null,58660,0]
["1502060","Lipectomía trocantérea, unilateral","CMay",0,null,null,null,null,0,null,null,null,null,null,null,0,null,null,0,null,null,0,null,null,0,null,null,null,null,null,null,null,null,null,null,null,null,143470,0]
["1502061","Escarotomía hasta 10 % superficie corporal","CMen",0,null,null,null,null,0,null,null,null,null,null,null,null,null,null,null,null,null,null,null,null,null,null,null,null,null,null,null,null,null,null,null,null,null,35800,0]
["1502064","Escarectomía hasta 5 % superficie corporal","CMen",0,null,null,null,null,0,null,null,null,null,null,null,null,null,null,null,null,null,null,null,null,null,null,null,null,null,null,null,null,null,null,null,null,null,76710,0]
["1502065","Escarectomía  hasta 10% superficie corporal","CMay",0,null,null,null,null,{"$f":"+J1871+K1871","v":0},null,null,null,null,null,null,0,null,null,0,null,null,0,null,null,0,null,null,null,null,null,null,null,null,null,null,null,null,137640,{"$f":"+(J1871*AL1871)+(M1871*AL1871*0.5)","v":0}]
[null,"PROCEDIMIENTOS DERMATOLOGIA Y TEGUMENTOS"]
["1601110","Curetaje de lesiones virales y similares hasta 10 lesiones por sesión","Proc",{"$f":"SUM(E1875+H1875)","v":0},{"$f":"SUM(F1875:G1875)","v":0},null,null,null,null,null,null,null,null,null,null,null,null,null,null,null,null,null,null,null,null,null,null,null,null,null,null,null,null,null,null,null,null,23060,{"$f":"AL1875*F1875","v":0}]
["1601112","Fototerapia UVB, UVA localizada, por sesión","Proc",0,0,null,null,null,null,null,null,null,null,null,null,null,null,null,null,null,null,null,null,null,null,null,null,null,null,null,null,null,null,null,null,null,null,4600,0]
["1601113","Fototerapia UVB, Banda Angosta y UVA por sesión en cabina","Proc",0,0,null,null,null,null,null,null,null,null,null,null,null,null,null,null,null,null,null,null,null,null,null,null,null,null,null,null,null,null,null,null,null,null,7680,0]
["1601117","Crioterapia 6 a 10 lesiones por sesión","Proc",0,0,null,null,null,null,null,null,null,null,null,null,null,null,null,null,null,null,null,null,null,null,null,null,null,null,null,null,null,null,null,null,null,null,23060,0]
["1601118","Tumor maligno por criocirugía (por cada lesión) por sesión","Proc",0,0,null,null,null,null,null,null,null,null,null,null,null,null,null,null,null,null,null,null,null,null,null,null,null,null,null,null,null,null,null,null,null,null,43860,0]
["1601121","Tratamiento abrasivo cutáneo químico por sesión","Proc",0,0,null,null,null,null,null,null,null,null,null,null,null,null,null,null,null,null,null,null,null,null,null,null,null,null,null,null,null,null,null,null,null,null,23060,0]
["1601122","Tricograma","Proc",0,0,null,null,null,null,null,null,null,null,null,null,null,null,null,null,null,null,null,null,null,null,null,null,null,null,null,null,null,null,null,null,null,null,15350,0]
["1601126","Dermatoscopía digital con registro gráfico o digital hasta 5 lesiones","Proc",0,0,null,null,null,null,null,null,null,null,null,null,null,null,null,null,null,null,null,null,null,null,null,null,null,null,null,null,null,null,null,null,null,null,15800,0]
[null,"TOTAL",null,{"$f":"SUM(D1875:D1889)","v":0},{"$f":"SUM(E1875:E1889)","v":0},{"$f":"SUM(F1875:F1889)","v":0},{"$f":"SUM(G1875:G1889)","v":0},{"$f":"SUM(H1875:H1889)","v":0},null,null,null,null,null,null,null,null,null,null,null,null,null,null,null,null,null,null,null,{"$f":"SUM(AB1875:AB1889)","v":0},0,0,0,0,0,0,0,0,0,null,0]
["1602202","Extirpacion de, reparacion o biopsia total o parcial, de lesiones benignas cutáneas por excision cabeza, cuello, genitales, hasta 3 lesiones                                                                  ","CMen",{"$f":"SUM(J1893:O1893)","v":0},null,null,null,null,0,null,null,null,null,null,null,null,null,null,null,null,null,null,null,null,null,null,null,null,null,null,null,null,null,null,null,null,null,69660,0]
["1602203","Extirpacion de, reparacion o biopsia total o parcial, de lesiones benignas cutáneas por excision resto de cuerpo hasta 3 lesiones                                                                              ","CMen",{"$f":"SUM(J1894:O1894)","v":0},null,null,null,null,0,null,null,null,null,null,null,null,null,null,null,null,null,null,null,null,null,null,null,null,null,null,null,null,null,null,null,null,null,46450,0]
["1602206","Extirpacion de lesiones benignas por sec tangencial ,curetaje,y/o fulguracion hasta 15 lesiones   ","CMen",0,null,null,null,null,0,null,null,null,null,null,null,null,null,null,null,null,null,null,null,null,null,null,null,null,null,null,null,null,null,null,null,null,null,46450,0]
["1602207","Tratamiento por electro de hemangiomas o telangectasias hasta 15 lesiones","CMen",0,null,null,null,null,0,null,null,null,null,null,null,null,null,null,null,null,null,null,null,null,null,null,null,null,null,null,null,null,null,null,null,null,null,46450,0]
["1602213","Cabeza, cuello, genitales o melanoma cualquier ubicación: ampliación de márgenes quirúrgicos de tumor maligno extirpado previamente ","CMen",0,null,null,null,null,0,null,null,null,null,null,null,null,null,null,null,null,null,null,null,null,null,null,null,null,null,null,null,null,null,null,null,null,null,116120,0]
["1602214","Resto del cuerpo: ampliación de márgenes quirúrgicos de tumor maligno extirpado previamente","CMen",0,null,null,null,null,0,null,null,null,null,null,null,null,null,null,null,null,null,null,null,null,null,null,null,null,null,null,null,null,null,null,null,null,null,87100,0]
["1602221","Herida cortante o contusa complicada, reparación y sutura (más de 5 cm)","CMen",0,null,null,null,null,0,null,null,null,null,null,null,null,null,null,null,null,null,null,null,null,null,null,null,null,null,null,null,null,null,null,null,null,null,66300,0]
["1602222","Herida cortante o contusa no complicada, reparación y sutura (una o múltiple hasta 5 cms. de largo total que comprometa solo la piel)","CMen",0,null,null,null,null,0,null,null,null,null,null,null,null,null,null,null,null,null,null,null,null,null,null,null,null,null,null,null,null,null,null,null,null,null,17850,0]
["1602225","Vaciamiento y curetaje quirúrgico de lesiones quísticas o abscesos","CMen",0,null,null,null,null,0,null,null,null,null,null,null,null,null,null,null,null,null,null,null,null,null,null,null,null,null,null,null,null,null,null,null,null,null,46450,0]
["1602231","Onicectomía total o parcial simple","CMen",0,null,null,null,null,0,null,null,null,null,null,null,null,null,null,null,null,null,null,null,null,null,null,null,null,null,null,null,null,null,null,null,null,null,18560,0]
["1602240","Curación por Médico, Quemadura o Similar  menor al 5% superficie corporal en pabellón","CMen",0,null,null,null,null,0,null,null,null,null,null,null,null,null,null,null,null,null,null,null,null,null,null,null,null,null,null,null,null,null,null,null,null,null,12890,0]
["1602241","Curación por Médico, Quemadura o Similar  5 a 10% superficie corporal en pabellón","CMen",0,null,null,null,null,0,null,null,null,null,null,null,null,null,null,null,null,null,null,null,null,null,null,null,null,null,null,null,null,null,null,null,null,null,23220,0]
[null,"PROC. DIAGNOSTICO Y TERAPEUTICO CARDIOLOGÍA                        "]
["1701001","E.C.G. de reposo (incluye mínimo 12 derivaciones y 4 complejos por derivación)","Proc",{"$f":"SUM(E1918+H1918)","v":0},{"$f":"SUM(F1918:G1918)","v":0},null,null,null,null,null,null,null,null,null,null,null,null,null,null,null,null,null,null,null,null,null,null,null,null,null,null,null,null,null,null,null,null,6230,{"$f":"AL1918*F1918","v":0}]
["1701007","Ecocardiograma  Doppler, con registro (incluye cód. 17-01-008)","Proc",0,0,null,null,null,null,null,null,null,null,null,null,null,null,null,null,null,null,null,null,null,null,null,null,null,null,null,null,null,null,null,null,null,null,56820,0]
["1701045","Ecocardiograma bidimensional doppler color","Proc",0,0,null,null,null,null,null,null,null,null,null,null,null,null,null,null,null,null,null,null,null,null,null,null,null,null,null,null,null,null,null,null,null,null,63310,0]
["1701011","Sondeo cardíaco izquierdo y derecho, en adultos o niños","Proc",0,0,null,null,null,null,null,null,null,null,null,null,null,null,null,null,null,null,null,null,null,null,null,null,null,null,null,null,null,null,null,null,null,null,312450,0]
["1701012","Sondeo cardíaco izquierdo, en adultos o niños","Proc",0,0,null,null,null,null,null,null,null,null,null,null,null,null,null,null,null,null,null,null,null,null,null,null,null,null,null,null,null,null,null,null,null,null,254790,0]
["1701021","Ventriculografía izquierda, en adultos o niños (incl. proc. rad., y sondeo cardíaco izquierdo)","Proc",0,0,null,null,null,null,null,null,null,null,null,null,null,null,null,null,null,null,null,null,null,null,null,null,null,null,null,null,null,null,null,null,null,null,283200,0]
["1701022","Aortografía, en adultos o niños (Incluye proc. rad.)","Proc",0,0,null,null,null,null,null,null,null,null,null,null,null,null,null,null,null,null,null,null,null,null,null,null,null,null,null,null,null,null,null,null,null,null,302280,0]
["1701131","Angioplastía Intraluminal coronaria uno o múltiples vasos (incl. proc. rad; balón, rotablator, Stent o similar)","Proc",0,0,null,null,null,null,null,null,null,null,null,null,null,null,null,null,null,null,null,null,null,null,null,null,null,null,null,null,null,null,null,null,null,null,2345630,{"$f":"AL1933*F1933","v":0}]
["1701132","Angioplastía Intraluminal periférica (incluye proc. rad., balón, Stent o similar)","Proc",0,0,null,null,null,null,null,null,null,null,null,null,null,null,null,null,null,null,null,null,null,null,null,null,null,null,null,null,null,null,null,null,null,null,1465080,0]
["1701033","Biopsia endomiocárdica (proc. completo)","Proc",0,0,null,null,null,null,null,null,null,null,null,null,null,null,null,null,null,null,null,null,null,null,null,null,null,null,null,null,null,null,null,null,null,null,210220,0]
["1701038","Septostomía de Rashkind o con controlada con balón","Proc",0,0,null,null,null,null,null,null,null,null,null,null,null,null,null,null,null,null,null,null,null,null,null,null,null,null,null,null,null,null,null,null,null,null,479720,0]
["1701142","Valvuloplastía aórtica y/o pulmonar c/u (incl. proc. radiológico,  incluye balón)","Proc",0,0,null,null,null,null,null,null,null,null,null,null,null,null,null,null,null,null,null,null,null,null,null,null,null,null,null,null,null,null,null,null,null,null,1440950,0]
["1701004","Registro de haz de His, en adultos o niños","Proc",{"$f":"SUM(E1942+H1942)","v":0},{"$f":"SUM(F1942:G1942)","v":0},null,null,null,null,null,null,null,null,null,null,null,null,null,null,null,null,null,null,null,null,null,null,null,null,null,null,null,null,null,null,null,null,34460,0]
["1701057","Ecocardiograma de estrés (incluye medicamento)","Proc",0,0,null,null,null,null,null,null,null,null,null,null,null,null,null,null,null,null,null,null,null,null,null,null,null,null,null,null,null,null,null,null,null,null,53520,0]
["1701058","Test de esfuerzo con consumo de oxígeno (adultos y niños)","Proc",0,0,null,null,null,null,null,null,null,null,null,null,null,null,null,null,null,null,null,null,null,null,null,null,null,null,null,null,null,null,null,null,null,null,48420,0]
["1701013","Cateterismo en recién nacido por arteria umbilical","Proc",0,0,null,null,null,null,null,null,null,null,null,null,null,null,null,null,null,null,null,null,null,null,null,null,null,null,null,null,null,null,null,null,null,null,16230,0]
["1701014","Instalación de catéter Swan-Ganz o similar, en adultos o niños (proc. aut.)","Proc",0,0,null,null,null,null,null,null,null,null,null,null,null,null,null,null,null,null,null,null,null,null,null,null,null,null,null,null,null,null,null,null,null,null,40730,0]
["1701016","Doppler simple de vasos periféricos (por sesión)","Proc",0,0,null,null,null,null,null,null,null,null,null,null,null,null,null,null,null,null,null,null,null,null,null,null,null,null,null,null,null,null,null,null,null,null,4080,0]
["1701017","Pletismografía en reposo, esfuerzo c/u (por sesión)","Proc",0,0,null,null,null,null,null,null,null,null,null,null,null,null,null,null,null,null,null,null,null,null,null,null,null,null,null,null,null,null,null,null,null,null,12940,0]
["1701034","Cardioversión","Proc",0,0,null,null,null,null,null,null,null,null,null,null,null,null,null,null,null,null,null,null,null,null,null,null,null,null,null,null,null,null,null,null,null,null,20370,0]
["1701036","Desfibrilación","Proc",0,0,null,null,null,null,null,null,null,null,null,null,null,null,null,null,null,null,null,null,null,null,null,null,null,null,null,null,null,null,null,null,null,null,20370,0]
["1701040","Trombólisis intracoronaria","Proc",0,0,null,null,null,null,null,null,null,null,null,null,null,null,null,null,null,null,null,null,null,null,null,null,null,null,null,null,null,null,null,null,null,null,144820,0]
["1701046","Estudio electrofisiológico endocardíaco de las arritmias","Proc",0,0,null,null,null,null,null,null,null,null,null,null,null,null,null,null,null,null,null,null,null,null,null,null,null,null,null,null,null,null,null,null,null,null,58840,0]
["1701060","Revisión (re-implante) electrodo desfibrilador automático transvenoso","Proc",0,0,null,null,null,null,null,null,null,null,null,null,null,null,null,null,null,null,null,null,null,null,null,null,null,null,null,null,null,null,null,null,null,null,199690,0]
["1701061","Arteriografía selectiva o superselectiva pulmonar en adultos o niños (incl. proc. rad.)","Proc",{"$f":"SUM(E1965+H1965)","v":0},{"$f":"SUM(F1965:G1965)","v":0},null,null,null,null,null,null,null,null,null,null,null,null,null,null,null,null,null,null,null,null,null,null,null,null,null,null,null,null,null,null,null,null,320520,0]
["1701064","Arteriografía selectiva o superselectiva arteria glútea en adultos o niños (incl. proc. rad.)","Proc",0,0,null,null,null,null,null,null,null,null,null,null,null,null,null,null,null,null,null,null,null,null,null,null,null,null,null,null,null,null,null,null,null,null,320520,0]
["1701065","Arteriografía selectiva o superselectiva hipogástrica en adultos o niños (incl. proc. rad.)","Proc",0,0,null,null,null,null,null,null,null,null,null,null,null,null,null,null,null,null,null,null,null,null,null,null,null,null,null,null,null,null,null,null,null,null,320520,0]
["1701068","Arteriografía selectiva o superselectiva arteria lumbar en adultos o niños (incl. proc. rad.)","Proc",0,0,null,null,null,null,null,null,null,null,null,null,null,null,null,null,null,null,null,null,null,null,null,null,null,null,null,null,null,null,null,null,null,null,320520,0]
["1701069","Arteriografía selectiva o superselectiva arteria vesical en adultos o niños (incl. proc. rad.)","Proc",0,0,null,null,null,null,null,null,null,null,null,null,null,null,null,null,null,null,null,null,null,null,null,null,null,null,null,null,null,null,null,null,null,null,320520,0]
["01014202","Angioplastía y colocacion de Stent en Arteria Carotidea","Proc",0,0]
["01011632","Ablación septal con Alcohol en las Miocardiopatías Hipertróficas,","Proc",0,0]
["01011648","Ultrasonido intracardiaco: ICE","Proc",0,0]
["01011649","Ultrasonido intravascular: IVUS","Proc",0,0]
["01011652","Guía de presión intracoronaria: PW.","Proc",0,0]
["01011653","Implantación percutánea de válvula aórtica: TAVI","Proc",0,0]
["01011662","Micro embolizaciones mal formación arterio venosa","Proc",0,0]
["01011661","Tratamiento percutáneo de la coartación aortica","Proc",0,0]
["OTROS PROC. DIAGNOSTICO Y TERAPEUTICO"]
["VASCULAR PERIFERICO","Tratamiento endovascular enfermedad arterial oclusiva de extremidades",null,{"$f":"SUM(E1993+H1993)","v":0},{"$f":"SUM(F1993:G1993)","v":0}]
[null,"CIRUGIA CARDIOVASCULAR                                   "]
["1703001","Embolectomía y/o trombectomía, unilateral, miembro superior o inferior (proc. aut.)","CMay",{"$f":"SUM(J1997:O1997)","v":0},null,null,null,null,{"$f":"+J1997+K1997","v":0},null,null,null,null,null,null,{"$f":"SUM(Q1997:R1997)","v":0},null,null,{"$f":"SUM(T1997:U1997)","v":0},null,null,{"$f":"SUM(W1997:X1997)","v":0},null,null,{"$f":"SUM(Z1997:AA1997)","v":0},null,null,null,null,null,null,null,null,null,null,null,null,211150,{"$f":"+(J1997*AL1997)+(M1997*AL1997*0.5)","v":0}]
["1703005","Reparación quirúrgica de vasos arteriales y/o venosos intra-abdominales o intra-torácicos c/s injerto (biológicos o sintéticos)","CMay",0,null,null,null,null,0,null,null,null,null,null,null,0,null,null,0,null,null,0,null,null,0,null,null,null,null,null,null,null,null,null,null,null,null,428690,0]
["1703006","Reparación quirúrgica de vasos arteriales y/o venosos periféricos c/s injerto (biológicos o sintéticos)","CMay",0,null,null,null,null,0,null,null,null,null,null,null,0,null,null,0,null,null,0,null,null,0,null,null,null,null,null,null,null,null,null,null,null,null,280890,0]
["1703009","Reparación quirúrgica de vasos arteriales y/o venosos periféricos c/s injerto (biológicos o sintéticos) tóraco-abdominal","CMay",0,null,null,null,null,0,null,null,null,null,null,null,0,null,null,0,null,null,0,null,null,0,null,null,null,null,null,null,null,null,null,null,null,null,865130,0]
["1703071","Aneurisma torácico con compromiso de arco aórtico tratamiento endovascular","CMay",0,null,null,null,null,0,null,null,null,null,null,null,0,null,null,0,null,null,0,null,null,0,null,null,null,null,null,null,null,null,null,null,null,null,1263780,0]
["1703012","Puente aorto-visceral (renal, mesentérico o similar); c/u","CMay",0,null,null,null,null,0,null,null,null,null,null,null,0,null,null,0,null,null,0,null,null,0,null,null,null,null,null,null,null,null,null,null,null,null,565200,0]
["1703013","Puente aorto-ilíaco","CMay",0,null,null,null,null,0,null,null,null,null,null,null,0,null,null,0,null,null,0,null,null,0,null,null,null,null,null,null,null,null,null,null,null,null,565200,0]
["1703016","Endarterectomía renal, c/s injerto (proc. aut.)","CMay",0,null,null,null,null,0,null,null,null,null,null,null,0,null,null,0,null,null,0,null,null,0,null,null,null,null,null,null,null,null,null,null,null,null,411980,0]
["1703017","Puente fémoro-tibial o distales","CMay",0,null,null,null,null,0,null,null,null,null,null,null,0,null,null,0,null,null,0,null,null,0,null,null,null,null,null,null,null,null,null,null,null,null,476790,0]
["1703020","Otras derivaciones: fémoro–femoral, axilo-humeral, axilo-femoral, carótidosubclavio, axilo-axilar o similares; c/u","CMay",0,null,null,null,null,0,null,null,null,null,null,null,0,null,null,0,null,null,0,null,null,0,null,null,null,null,null,null,null,null,null,null,null,null,428680,0]
["1703064","Implante de prótesis para hemodiálisis","CMen",{"$f":"SUM(J2017:O2017)","v":0},null,null,null,null,{"$f":"+J2017+K2017","v":0},null,null,null,null,null,null,null,null,null,null,null,null,null,null,null,null,null,null,null,null,null,null,null,null,null,null,null,null,428810,{"$f":"+(J2017*AL2017)+(M2017*AL2017*0.5)","v":0}]
["1703022","Anastomosis venosas intraabdominales","CMay",0,null,null,null,null,0,null,null,null,null,null,null,0,null,null,0,null,null,0,null,null,0,null,null,null,null,null,null,null,null,null,null,null,null,535090,0]
["1703023","Denudación venosa (proc. aut.)","CMen",0,null,null,null,null,0,null,null,null,null,null,null,null,null,null,null,null,null,null,null,null,null,null,null,null,null,null,null,null,null,null,null,null,null,42110,0]
["1703025","Implante filtros venosos","CMay",0,null,null,null,null,0,null,null,null,null,null,null,0,null,null,0,null,null,0,null,null,0,null,null,null,null,null,null,null,null,null,null,null,null,341020,0]
["1703026","Ligadura cayado safena interna, unilateral","CMay",0,null,null,null,null,0,null,null,null,null,null,null,0,null,null,0,null,null,0,null,null,0,null,null,null,null,null,null,null,null,null,null,null,null,159240,0]
["1703029","Resección cutáneo-aponeurótica unilateral (incluye fasciotomía interna o posterior)","CMay",0,null,null,null,null,0,null,null,null,null,null,null,0,null,null,0,null,null,0,null,null,0,null,null,null,null,null,null,null,null,null,null,null,null,197620,0]
["1703030","Safenectomía interna y/o externa, unilateral, o endoablación por cualquier técnica (láser, radiofrecuencia o similar).","CMay",0,null,null,null,null,0,null,null,null,null,null,null,0,null,null,0,null,null,0,null,null,0,null,null,null,null,null,null,null,null,null,null,null,null,169620,0]
["1703032","Anastomosis linfovenosas","CMay",0,null,null,null,null,0,null,null,null,null,null,null,0,null,null,0,null,null,0,null,null,0,null,null,null,null,null,null,null,null,null,null,null,null,254200,0]
["1703033","Linfedema, trat. quir. una extremidad","CMay",0,null,null,null,null,0,null,null,null,null,null,null,0,null,null,0,null,null,0,null,null,0,null,null,null,null,null,null,null,null,null,null,null,null,326360,0]
["1703036","Disección y extirpación ganglionar regional: axilo-supraclavicular ","CMay",0,null,null,null,null,0,null,null,null,null,null,null,0,null,null,0,null,null,0,null,null,0,null,null,null,null,null,null,null,null,null,null,null,null,407960,0]
["1703037","Disección y extirpación ganglionar regional: cérvico-torácica","CMay",0,null,null,null,null,0,null,null,null,null,null,null,0,null,null,0,null,null,0,null,null,0,null,null,null,null,null,null,null,null,null,null,null,null,365840,0]
["1703040","Disección y extirpación ganglionar regional: lumbo-aórticos","CMay",0,null,null,null,null,0,null,null,null,null,null,null,0,null,null,0,null,null,0,null,null,0,null,null,null,null,null,null,null,null,null,null,null,null,506300,0]
["1703068","Resección ganglios mediastínicos por toracotomía","CMay",0,null,null,null,null,0,null,null,null,null,null,null,0,null,null,0,null,null,0,null,null,0,null,null,null,null,null,null,null,null,null,null,null,null,466300,0]
[1703041,"Disección y extirpación  ganglionar regional (proc. aut.): mediastínicos",null,0,null,null,null,null,0,null,null,null,null,null,null,0,null,null,0,null,null,0,null,null,0]
["1703042","Disección y extirpación ganglionar regional: poplíteos","CMay",0,null,null,null,null,0,null,null,null,null,null,null,0,null,null,0,null,null,0,null,null,0,null,null,null,null,null,null,null,null,null,null,null,null,228820,0]
["1703045","Simpatectomía cérvico-torácica","CMay",0,null,null,null,null,0,null,null,null,null,null,null,0,null,null,0,null,null,0,null,null,0,null,null,null,null,null,null,null,null,null,null,null,null,365840,0]
["1703046","Simpatectomía lumbar","CMay",0,null,null,null,null,0,null,null,null,null,null,null,0,null,null,0,null,null,0,null,null,0,null,null,null,null,null,null,null,null,null,null,null,null,317760,0]
["1703048","Cambio de generador de marcapaso, sin cambio de electrodo (no incluye el valor de la prótesis)","CMay",0,null,null,null,null,0,null,null,null,null,null,null,0,null,null,0,null,null,0,null,null,0,null,null,null,null,null,null,null,null,null,null,null,null,165620,0]
["1703148","Cambio de generador de marcapaso (incluye el valor de la prótesis)","CMay",0,null,null,null,null,0,null,null,null,null,null,null,0,null,null,0,null,null,0,null,null,0,null,null,null,null,null,null,null,null,null,null,null,null,1856590,0]
["1703051","Conducto arterioso persistente, trat. quir.","CMay",0,null,null,null,null,0,null,null,null,null,null,null,0,null,null,0,null,null,0,null,null,0,null,null,null,null,null,null,null,null,null,null,null,null,692370,0]
["1703052","Fístula coronaria, trat. quir.","CMay",0,null,null,null,null,0,null,null,null,null,null,null,0,null,null,0,null,null,0,null,null,0,null,null,null,null,null,null,null,null,null,null,null,null,550370,0]
["1703054","Operación sobre anillos valvulares o vasculares","CMay",0,null,null,null,null,0,null,null,null,null,null,null,0,null,null,0,null,null,0,null,null,0,null,null,null,null,null,null,null,null,null,null,null,null,454150,0]
["1703055","Operaciones sobre arteria pulmonar, constricción por cinta","CMay",0,null,null,null,null,0,null,null,null,null,null,null,0,null,null,0,null,null,0,null,null,0,null,null,null,null,null,null,null,null,null,null,null,null,428690,0]
["1703058","Pericardiotomía","CMay",0,null,null,null,null,0,null,null,null,null,null,null,0,null,null,0,null,null,0,null,null,0,null,null,null,null,null,null,null,null,null,null,null,null,338430,0]
["1703072","Implante de desfribilador con resincronizador VVI (incluye dispositivo)","CMay",0,null,null,null,null,0,null,null,null,null,null,null,0,null,null,0,null,null,0,null,null,0,null,null,null,null,null,null,null,null,null,null,null,null,6951030,0]
["1703062","- De complejidad mediana: incluye comunicación interventricular, reemplazo univalvular, uno o dos puentes aortocoronarios; aneurisma ventricular, corrección de Wolf-Parkinson White y otras arritmias","CMay",0,null,null,null,null,0,null,null,null,null,null,null,0,null,null,0,null,null,0,null,null,0,null,null,null,null,null,null,null,null,null,null,null,null,2560040,0]
["1703063","- De complejidad Menor: incluye comunicación interauricular simple, estenosis pulmonar valvular, estenosis mitral o similar","CMay",0,null,null,null,null,{"$f":"+J2068+K2068","v":0},null,null,null,null,null,null,0,null,null,0,null,null,0,null,null,0,null,null,null,null,null,null,null,null,null,null,null,null,1574290,{"$f":"+(J2068*AL2068)+(M2068*AL2068*0.5)","v":0}]
["01011755","Instalación de ECMO Pediátrico (cirugía)",null,{"$f":"SUM(J2071:O2071)","v":0},null,null,null,null,{"$f":"+J2071+K2071","v":0},null,null,null,null,null,null,{"$f":"SUM(Q2071:R2071)","v":0},null,null,0,null,null,0,null,null,0]
["01011756","Trasplante corazón",null,{"$f":"SUM(J2072:O2072)","v":0},null,null,null,null,{"$f":"+J2072+K2072","v":0},null,null,null,null,null,null,{"$f":"SUM(Q2072:R2072)","v":0},null,null,0,null,null,0,null,null,0]
["01011761","Implante marcapaso VVI con resincronisador cardiaco",null,0,null,null,null,null,0,null,null,null,null,null,null,0,null,null,0,null,null,0,null,null,0]
["01011762","Recambio Desfibrilador Cardiaco Bicameral",null,0,null,null,null,null,0,null,null,null,null,null,null,0,null,null,0,null,null,0,null,null,0]
[null," TOTAL ARANCEL MLE Y NO ARANCELADO ",null,{"$f":"SUM(D2070:D2078)","v":0},null,null,null,null,{"$f":"SUM(I2070:I2078)","v":0},{"$f":"SUM(J2070:J2078)","v":0},0,0,0,0,0,0,0,0,0,0,0,0,0,0,0,0,0,0,0,0,0,0,0,0,0,0,0]
[null," TOTAL PRODUCCION ",null,{"$f":"SUM(D2069+D2079)","v":0},null,null,null,null,{"$f":"SUM(I2069+I2079)","v":0},{"$f":"SUM(J2069+J2079)","v":0},0,0,0,0,0,0,0,0,0,0,0,0,0,0,0,0,0,0,0,0,0,0,0,0,0,0,0,null,0]
["1704079","Cirugía del opérculo torácico por vía videotoracoscopica","CMay",0,null,null,null,null,0,null,null,null,null,null,null,0,null,null,0,null,null,0,null,null,0,null,null,null,null,null,null,null,null,null,null,null,null,447660,0]
["1704002","Cirugía tórax abierto traumático y/o fijación tórax volante, osteosíntesis costales múltiples y de esternón (no incluye el valor de la prótesis)","CMay",0,null,null,null,null,0,null,null,null,null,null,null,0,null,null,0,null,null,0,null,null,0,null,null,null,null,null,null,null,null,null,null,null,null,439450,0]
["1704005","Resección de costillas y/o pared costal y/o cartílago y/o esternón s/plastía (proc. aut.)","CMay",0,null,null,null,null,0,null,null,null,null,null,null,0,null,null,0,null,null,0,null,null,0,null,null,null,null,null,null,null,null,null,null,null,null,220760,0]
["1704006","Resección de pared costal c/plastía (toracoplastía osteoplástica de York o similar)","CMay",0,null,null,null,null,0,null,null,null,null,null,null,0,null,null,0,null,null,0,null,null,0,null,null,null,null,null,null,null,null,null,null,null,null,268850,0]
["1704009","Toracotomía exploradora, c/s biopsia, c/s debridación, c/s drenaje","CMay",0,null,null,null,null,0,null,null,null,null,null,null,0,null,null,0,null,null,0,null,null,0,null,null,null,null,null,null,null,null,null,null,null,null,281670,0]
["1704080","Videotoracoscopía exploradora ","CMay",0,null,null,null,null,0,null,null,null,null,null,null,0,null,null,0,null,null,0,null,null,0,null,null,null,null,null,null,null,null,null,null,null,null,413200,0]
["1704012","Drenaje quir. de mediastino, vía cervical","CMay",0,null,null,null,null,0,null,null,null,null,null,null,0,null,null,0,null,null,0,null,null,0,null,null,null,null,null,null,null,null,null,null,null,null,184050,0]
["1704013","Drenaje quir. de mediastino, vía torácica","CMay",0,null,null,null,null,0,null,null,null,null,null,null,0,null,null,0,null,null,0,null,null,0,null,null,null,null,null,null,null,null,null,null,null,null,261620,0]
["1704015","Timectomía  vía torácica medioesternal","CMay",0,null,null,null,null,0,null,null,null,null,null,null,0,null,null,0,null,null,0,null,null,0,null,null,null,null,null,null,null,null,null,null,null,null,304980,0]
["1704016","Conducto torácico, ligadura quirúrgica","CMay",0,null,null,null,null,0,null,null,null,null,null,null,0,null,null,0,null,null,0,null,null,0,null,null,null,null,null,null,null,null,null,null,null,null,317750,0]
["1704065","Mediastinoscopía y/o videomediastinoscopía c/s biopsia","CMay",0,null,null,null,null,0,null,null,null,null,null,null,0,null,null,0,null,null,0,null,null,0,null,null,null,null,null,null,null,null,null,null,null,null,298170,0]
["1704066","Tumores o quistes de mediastino (anterior o posterior) tratamiento quirúrgico c/s disección ganglionar por videotoracoscopia","CMay",0,null,null,null,null,0,null,null,null,null,null,null,0,null,null,0,null,null,0,null,null,0,null,null,null,null,null,null,null,null,null,null,null,null,360390,0]
["1704082","Frenoparalisis tratatamiento quirúrgico laparoscópico","CMay",0,null,null,null,null,0,null,null,null,null,null,null,0,null,null,0,null,null,0,null,null,0,null,null,null,null,null,null,null,null,null,null,null,null,411340,0]
["1704083","Frenoparalisis tratamiento quirúrgico por vía videotoracoscopica","CMay",0,null,null,null,null,0,null,null,null,null,null,null,0,null,null,0,null,null,0,null,null,0,null,null,null,null,null,null,null,null,null,null,null,null,542970,0]
["1704084","Hernioplastía diafragmática por vía torácica c/s prótesis por vía videotoracoscopica ","CMay",0,null,null,null,null,0,null,null,null,null,null,null,0,null,null,0,null,null,0,null,null,0,null,null,null,null,null,null,null,null,null,null,null,null,463390,0]
["1704021","Hernioplastía diafragmática por vía torácica, sin prótesis","CMay",0,null,null,null,null,0,null,null,null,null,null,null,0,null,null,0,null,null,0,null,null,0,null,null,null,null,null,null,null,null,null,null,null,null,305720,0]
["1704068","Heridas traumáticas, trat. quir. por vía videotoracoscopia","CMay",{"$f":"SUM(J2114:O2114)","v":0},null,null,null,null,{"$f":"+J2114+K2114","v":0},null,null,null,null,null,null,{"$f":"SUM(Q2114:R2114)","v":0},null,null,{"$f":"SUM(T2114:U2114)","v":0},null,null,{"$f":"SUM(W2114:X2114)","v":0},null,null,{"$f":"SUM(Z2114:AA2114)","v":0},null,null,null,null,null,null,null,null,null,null,null,null,360720,{"$f":"+(J2114*AL2114)+(M2114*AL2114*0.5)","v":0}]
["1704069","Cirugía de tumores o malformaciones diafragmaticos por videotoracoscopia","CMay",{"$f":"SUM(J2115:O2115)","v":0},null,null,null,null,{"$f":"+J2115+K2115","v":0},null,null,null,null,null,null,{"$f":"SUM(Q2115:R2115)","v":0},null,null,{"$f":"SUM(T2115:U2115)","v":0},null,null,{"$f":"SUM(W2115:X2115)","v":0},null,null,{"$f":"SUM(Z2115:AA2115)","v":0},null,null,null,null,null,null,null,null,null,null,null,null,365460,{"$f":"+(J2115*AL2115)+(M2115*AL2115*0.5)","v":0}]
["1704025","Pleurodesis por pleurotomía","CMay",0,null,null,null,null,0,null,null,null,null,null,null,0,null,null,0,null,null,0,null,null,0,null,null,null,null,null,null,null,null,null,null,null,null,95300,0]
["1704026","Pleurodesis por toracotomía","CMay",0,null,null,null,null,0,null,null,null,null,null,null,0,null,null,0,null,null,0,null,null,0,null,null,null,null,null,null,null,null,null,null,null,null,302330,0]
["1704028","Tratamiento resectivo de tumores pleurales","CMay",0,null,null,null,null,0,null,null,null,null,null,null,0,null,null,0,null,null,0,null,null,0,null,null,null,null,null,null,null,null,null,null,null,null,308370,0]
["1704086","Tumores pleurales, por vía videotoracoscopica","CMay",0,null,null,null,null,0,null,null,null,null,null,null,0,null,null,0,null,null,0,null,null,0,null,null,null,null,null,null,null,null,null,null,null,null,422210,0]
["1704070","Biopsia pleural por videotoracoscopia","CMay",{"$f":"SUM(J2126:O2126)","v":0},null,null,null,null,{"$f":"+J2126+K2126","v":0},null,null,null,null,null,null,{"$f":"SUM(Q2126:R2126)","v":0},null,null,{"$f":"SUM(T2126:U2126)","v":0},null,null,{"$f":"SUM(W2126:X2126)","v":0},null,null,{"$f":"SUM(Z2126:AA2126)","v":0},null,null,null,null,null,null,null,null,null,null,null,null,263610,{"$f":"+(J2126*AL2126)+(M2126*AL2126*0.5)","v":0}]
["1704071","Cuerpo extraño pleural, por videotoracoscopia","CMay",{"$f":"SUM(J2127:O2127)","v":0},null,null,null,null,{"$f":"+J2127+K2127","v":0},null,null,null,null,null,null,{"$f":"SUM(Q2127:R2127)","v":0},null,null,{"$f":"SUM(T2127:U2127)","v":0},null,null,{"$f":"SUM(W2127:X2127)","v":0},null,null,{"$f":"SUM(Z2127:AA2127)","v":0},null,null,null,null,null,null,null,null,null,null,null,null,273720,{"$f":"+(J2127*AL2127)+(M2127*AL2127*0.5)","v":0}]
["1704030","Cirugía ruptura traqueobronquial o tratamiento quirúrgico fístula bronquial por esternotomía media","CMay",0,null,null,null,null,0,null,null,null,null,null,null,0,null,null,0,null,null,0,null,null,0,null,null,null,null,null,null,null,null,null,null,null,null,550370,0]
["1704031","Plastía de tráquea y/o bronquios c/s resección, c/s prótesis (no incluye el valor de la prótesis)","CMay",0,null,null,null,null,0,null,null,null,null,null,null,0,null,null,0,null,null,0,null,null,0,null,null,null,null,null,null,null,null,null,null,null,null,560970,0]
["1704034","Absceso pulmonar, drenaje por toracotomía","CMay",0,null,null,null,null,0,null,null,null,null,null,null,0,null,null,0,null,null,0,null,null,0,null,null,null,null,null,null,null,null,null,null,null,null,302330,0]
["1704035","Biopsia pulmonar por toracotomía","CMay",0,null,null,null,null,0,null,null,null,null,null,null,0,null,null,0,null,null,0,null,null,0,null,null,null,null,null,null,null,null,null,null,null,null,281670,0]
["1704038","Cuerpo extraño intrapulmonar, extirp. quir.","CMay",0,null,null,null,null,0,null,null,null,null,null,null,0,null,null,0,null,null,0,null,null,0,null,null,null,null,null,null,null,null,null,null,null,null,311690,0]
["1704039","Heridas de pulmón, trat. quir. (proc. aut.)","CMay",0,null,null,null,null,0,null,null,null,null,null,null,0,null,null,0,null,null,0,null,null,0,null,null,null,null,null,null,null,null,null,null,null,null,262850,0]
["1704091","Lobectomía o bilobectomía por vía videotoracoscopica","CMay",0,null,null,null,null,0,null,null,null,null,null,null,0,null,null,0,null,null,0,null,null,0,null,null,null,null,null,null,null,null,null,null,null,null,966390,0]
["1704041","Metástasis bilateral pulmón, trat. quir. por esternotomía","CMay",0,null,null,null,null,0,null,null,null,null,null,null,0,null,null,0,null,null,0,null,null,0,null,null,null,null,null,null,null,null,null,null,null,null,502230,0]
["1704092","Neumonectomía por vía videotoracoscopica","CMay",0,null,null,null,null,0,null,null,null,null,null,null,0,null,null,0,null,null,0,null,null,0,null,null,null,null,null,null,null,null,null,null,null,null,802940,0]
["1704045","Quistectomía simple de pulmón","CMay",0,null,null,null,null,0,null,null,null,null,null,null,0,null,null,0,null,null,0,null,null,0,null,null,null,null,null,null,null,null,null,null,null,null,356450,0]
["1704073","Absceso pulmonar, drenaje por videotoracoscopia","CMay",{"$f":"SUM(J2150:O2150)","v":0},null,null,null,null,{"$f":"+J2150+K2150","v":0},null,null,null,null,null,null,{"$f":"SUM(Q2150:R2150)","v":0},null,null,{"$f":"SUM(T2150:U2150)","v":0},null,null,{"$f":"SUM(W2150:X2150)","v":0},null,null,{"$f":"SUM(Z2150:AA2150)","v":0},null,null,null,null,null,null,null,null,null,null,null,null,754480,{"$f":"+(J2150*AL2150)+(M2150*AL2150*0.5)","v":0}]
["1704089","Resección segmentaria atipica por vía videotoracoscopica","CMay",{"$f":"SUM(J2151:O2151)","v":0},null,null,null,null,{"$f":"+J2151+K2151","v":0},null,null,null,null,null,null,{"$f":"SUM(Q2151:R2151)","v":0},null,null,{"$f":"SUM(T2151:U2151)","v":0},null,null,{"$f":"SUM(W2151:X2151)","v":0},null,null,{"$f":"SUM(Z2151:AA2151)","v":0},null,null,null,null,null,null,null,null,null,null,null,null,754480,{"$f":"+(J2151*AL2151)+(M2151*AL2151*0.5)","v":0}]
["1704047","Extracción cuerpo extraño esofágico por vía cervical","CMay",0,null,null,null,null,0,null,null,null,null,null,null,0,null,null,0,null,null,0,null,null,0,null,null,null,null,null,null,null,null,null,null,null,null,179520,0]
["1704048","Cuerpo extraño esofágico, extracción por esofagotomía, vía torácica","CMay",0,null,null,null,null,0,null,null,null,null,null,null,0,null,null,0,null,null,0,null,null,0,null,null,null,null,null,null,null,null,null,null,null,null,317750,0]
["1704050","Tumores benignos y/o quistes esofágicos,  trat. quir., vía cervical","CMay",0,null,null,null,null,0,null,null,null,null,null,null,0,null,null,0,null,null,0,null,null,0,null,null,null,null,null,null,null,null,null,null,null,null,235980,0]
["1704051","Tratamiento quirúrgico de tumores esofagicos benignos y/o quistes vía torácica","CMay",0,null,null,null,null,0,null,null,null,null,null,null,0,null,null,0,null,null,0,null,null,0,null,null,null,null,null,null,null,null,null,null,null,null,317750,0]
["1704053","Divertículos esofágicos, trat. quir., vía torácica","CMay",0,null,null,null,null,0,null,null,null,null,null,null,0,null,null,0,null,null,0,null,null,0,null,null,null,null,null,null,null,null,null,null,null,null,292960,0]
["1704096","Resección de diverticulos esofágicos por vía videotoracoscopica","CMay",0,null,null,null,null,0,null,null,null,null,null,null,0,null,null,0,null,null,0,null,null,0,null,null,null,null,null,null,null,null,null,null,null,null,573030,0]
["1704056","Esofagectomía con restitución del tránsito mediante estómago o intestino; parcial o total","CMay",0,null,null,null,null,0,null,null,null,null,null,null,0,null,null,0,null,null,0,null,null,0,null,null,null,null,null,null,null,null,null,null,null,null,655460,0]
["1704057","Esofagectomía total con esofagostomía, gastrostomía y yeyunostomía","CMay",0,null,null,null,null,0,null,null,null,null,null,null,0,null,null,0,null,null,0,null,null,0,null,null,null,null,null,null,null,null,null,null,null,null,547160,0]
["1704059","Prótesis o tubo endoesofágico, colocación de (proc. aut.)","CMay",0,null,null,null,null,0,null,null,null,null,null,null,0,null,null,0,null,null,0,null,null,0,null,null,null,null,null,null,null,null,null,null,null,null,259840,0]
["1704060","Reconstitución de tránsito en segundo tiempo (estómago o intestino) de operación cód. 17-04-057","CMay",0,null,null,null,null,0,null,null,null,null,null,null,0,null,null,0,null,null,0,null,null,0,null,null,null,null,null,null,null,null,null,null,null,null,442080,0]
["1704097","Sutura herida o perforación esófago torácico por vía videotoracoscopica","CMay",0,null,null,null,null,0,null,null,null,null,null,null,0,null,null,0,null,null,0,null,null,0,null,null,null,null,null,null,null,null,null,null,null,null,687640,0]
["1704063","Várices esofágicos, ligadura directa","CMay",0,null,null,null,null,0,null,null,null,null,null,null,0,null,null,0,null,null,0,null,null,0,null,null,null,null,null,null,null,null,null,null,null,null,324210,0]
["1704078","Atresia esofágica sin fístula traqueoesofágica. Anastomosis","CMay",0,null,null,null,null,{"$f":"+J2177+K2177","v":0},null,null,null,null,null,null,{"$f":"SUM(Q2177:R2177)","v":0},null,null,0,null,null,0,null,null,0,null,null,null,null,null,null,null,null,null,null,null,null,541180,{"$f":"+(J2177*AL2177)+(M2177*AL2177*0.5)","v":0}]
[1703060,"Operaciones cardíacas sin circulación extracorpórea",null,{"$f":"SUM(J2178:O2178)","v":0},null,null,null,null,{"$f":"+J2178+K2178","v":0},null,null,null,null,null,null,{"$f":"SUM(Q2178:R2178)","v":0},null,null,{"$f":"SUM(T2178:U2178)","v":0},null,null,{"$f":"SUM(W2178:X2178)","v":0},null,null,{"$f":"SUM(Z2178:AA2178)","v":0}]
[null," TOTAL ARANCEL MLE Y NO ARANCELADO ",null,{"$f":"SUM(D2180:D2180)","v":0},null,null,null,null,{"$f":"SUM(I2180:I2180)","v":0},0,0,0,0,0,0,0,0,0,0,0,0,0,0,0,0,0,0,0,0,0,0,0,0,{"$f":"SUM(AH2180:AH2180)","v":0},{"$f":"SUM(AI2180:AI2180)","v":0},{"$f":"SUM(AJ2180:AJ2180)","v":0},{"$f":"SUM(AK2180:AK2180)","v":0}]
[null," TOTAL PRODUCCION ",null,{"$f":"SUM(D2179+D2181)","v":0},null,null,null,null,{"$f":"SUM(I2179+I2181)","v":0},0,0,0,0,0,0,0,0,0,0,0,0,0,0,0,0,0,0,0,0,0,0,0,0,0,0,0,0,null,0]
["1707002","Espirometría Basal y con broncodilatador","Proc",{"$f":"SUM(E2185+H2185)","v":0},{"$f":"SUM(F2185:G2185)","v":0},null,null,null,null,null,null,null,null,null,null,null,null,null,null,null,null,null,null,null,null,null,null,null,null,null,null,null,null,null,null,null,null,10120,0]
["1707003","Prueba de provocación con alergeno (incluye alergeno)","Proc",0,0,null,null,null,null,null,null,null,null,null,null,null,null,null,null,null,null,null,null,null,null,null,null,null,null,null,null,null,null,null,null,null,null,15350,0]
["1707051","Curva dosis respuesta a broncodilatadores.","Proc",0,0,null,null,null,null,null,null,null,null,null,null,null,null,null,null,null,null,null,null,null,null,null,null,null,null,null,null,null,null,null,null,null,null,12900,0]
["1707057","Determinación de umbral tusígeno","Proc",0,0,null,null,null,null,null,null,null,null,null,null,null,null,null,null,null,null,null,null,null,null,null,null,null,null,null,null,null,null,null,null,null,null,24680,0]
["1707009","Capacidad física del trabajo","Proc",0,0,null,null,null,null,null,null,null,null,null,null,null,null,null,null,null,null,null,null,null,null,null,null,null,null,null,null,null,null,null,null,null,null,14620,0]
["1707010","Curva de lavado de nitrógeno (N)","Proc",0,0,null,null,null,null,null,null,null,null,null,null,null,null,null,null,null,null,null,null,null,null,null,null,null,null,null,null,null,null,null,null,null,null,15020,0]
["1707013","Medición de presión de oclusión","Proc",0,0,null,null,null,null,null,null,null,null,null,null,null,null,null,null,null,null,null,null,null,null,null,null,null,null,null,null,null,null,null,null,null,null,10120,0]
["1707014","Medición de presión inspiratoria máxima (proc. aut.)","Proc",0,0,null,null,null,null,null,null,null,null,null,null,null,null,null,null,null,null,null,null,null,null,null,null,null,null,null,null,null,null,null,null,null,null,4200,0]
["1707017","Respuesta respiratoria al CO2","Proc",0,0,null,null,null,null,null,null,null,null,null,null,null,null,null,null,null,null,null,null,null,null,null,null,null,null,null,null,null,null,null,null,null,null,21450,0]
["1707018","Tiempo de tolerancia a la fatiga respiratoria","Proc",0,0,null,null,null,null,null,null,null,null,null,null,null,null,null,null,null,null,null,null,null,null,null,null,null,null,null,null,null,null,null,null,null,null,5720,0]
["1707058","Volúmenes pulmonares por pletismografía corporal. Estudio basal","Proc",0,0,null,null,null,null,null,null,null,null,null,null,null,null,null,null,null,null,null,null,null,null,null,null,null,null,null,null,null,null,null,null,null,null,38660,0]
["1707059","Volúmenes pulmonares por pletismografía corporal. Estudio basal y post broncodilatador","Proc",0,0,null,null,null,null,null,null,null,null,null,null,null,null,null,null,null,null,null,null,null,null,null,null,null,null,null,null,null,null,null,null,null,null,41570,0]
["1707024","Pleuroscopia (toracoscopia) c/s biopsia","Proc",0,0,null,null,null,null,null,null,null,null,null,null,null,null,null,null,null,null,null,null,null,null,null,null,null,null,null,null,null,null,null,null,null,null,21450,0]
["1707027","Broncoaspiración, c/s lavado y/o colocación de medicamentos por sonda traqueobronquial (proc. aut.)","Proc",0,0,null,null,null,null,null,null,null,null,null,null,null,null,null,null,null,null,null,null,null,null,null,null,null,null,null,null,null,null,null,null,null,null,11850,0]
["1707061","Fibrobroncoscopía con biopsia transbronquial","Proc",0,0,null,null,null,null,null,null,null,null,null,null,null,null,null,null,null,null,null,null,null,null,null,null,null,null,null,null,null,null,null,null,null,null,153020,0]
["1707062","Selle endoscópico de fístula bronco-pleural","Proc",0,0,null,null,null,null,null,null,null,null,null,null,null,null,null,null,null,null,null,null,null,null,null,null,null,null,null,null,null,null,null,null,null,null,1634240,0]
["1707054","Saturación de O2 en reposo y/o ejercicio (con oxímetro) ","Proc",0,0,null,null,null,null,null,null,null,null,null,null,null,null,null,null,null,null,null,null,null,null,null,null,null,null,null,null,null,null,null,null,null,null,3230,0]
["1707055","Saturación de O2 en reposo y ejercicio y O2 100% (con oxímetro) ","Proc",0,0,null,null,null,null,null,null,null,null,null,null,null,null,null,null,null,null,null,null,null,null,null,null,null,null,null,null,null,null,null,null,null,null,3230,0]
[null,"TOTAL ARANCEL MAI",null,{"$f":"SUM(D2184:D2220)","v":0},{"$f":"SUM(E2184:E2220)","v":0},0,0,0,null,null,null,null,null,null,null,null,null,null,null,null,null,null,null,null,null,null,null,0,0,0,0,0,0,0,0,0,0,null,0]
["01011629","Instalación drenaje Pleural",null,{"$f":"SUM(E2222+H2222)","v":0},{"$f":"SUM(F2222:G2222)","v":0}]
[null,"PROC. DIAGNOSTICO Y TERAPEUTICO GASTROENTEROLOGIA                          "]
["1801001","Gastroduodenoscopía (incluye esofagoscopía)","Proc",{"$f":"SUM(E2226+H2226)","v":0},{"$f":"SUM(F2226:G2226)","v":0},null,null,null,null,null,null,null,null,null,null,null,null,null,null,null,null,null,null,null,null,null,null,null,null,null,null,null,null,null,null,null,null,42980,{"$f":"AL2226*F2226","v":0}]
["1801037","Ureasa, test de (para Helicobacter pylori) o similar","Proc",{"$f":"SUM(E2229+H2229)","v":0},{"$f":"SUM(F2229:G2229)","v":0},null,null,null,null,null,null,null,null,null,null,null,null,null,null,null,null,null,null,null,null,null,null,null,null,null,null,null,null,null,null,null,null,5510,0]
["1801002","Esofagoscopia","Proc",0,0,null,null,null,null,null,null,null,null,null,null,null,null,null,null,null,null,null,null,null,null,null,null,null,null,null,null,null,null,null,null,null,null,13240,0]
["1801007","Sigmoidoscopía y colonoscopía izquierda con tubo flexible (incluye ano-recto-sigmoidoscopía)","Proc",0,0,null,null,null,null,null,null,null,null,null,null,null,null,null,null,null,null,null,null,null,null,null,null,null,null,null,null,null,null,null,null,null,null,38480,0]
["1801008","- Coledocoscopia intraoperatoria c/s extracción de cálculos","Proc",0,0,null,null,null,null,null,null,null,null,null,null,null,null,null,null,null,null,null,null,null,null,null,null,null,null,null,null,null,null,null,null,null,null,6740,0]
["1801011","Manometría esofágica convencional","Proc",0,0,null,null,null,null,null,null,null,null,null,null,null,null,null,null,null,null,null,null,null,null,null,null,null,null,null,null,null,null,null,null,null,null,19250,0]
["1801012","- Reflujo ácido, test de (Grossman o similar) o Reflujo alcalino, test de","Proc",0,0,null,null,null,null,null,null,null,null,null,null,null,null,null,null,null,null,null,null,null,null,null,null,null,null,null,null,null,null,null,null,null,null,13270,0]
["1801018","Colangiopancreatografía retrógrada c/s papilotomía","Proc",0,0,null,null,null,null,null,null,null,null,null,null,null,null,null,null,null,null,null,null,null,null,null,null,null,null,null,null,null,null,null,null,null,null,56320,0]
["1801019","Drenaje de la vía biliar transhepática y/o percutáneo ","Proc",0,0,null,null,null,null,null,null,null,null,null,null,null,null,null,null,null,null,null,null,null,null,null,null,null,null,null,null,null,null,null,null,null,null,24940,0]
["1801021","Neumoperitoneo por punción transparietal","Proc",0,0,null,null,null,null,null,null,null,null,null,null,null,null,null,null,null,null,null,null,null,null,null,null,null,null,null,null,null,null,null,null,null,null,8140,{"$f":"AL2244*F2244","v":0}]
["1801022","Intubación sonda de Sengstaken","Proc",0,0,null,null,null,null,null,null,null,null,null,null,null,null,null,null,null,null,null,null,null,null,null,null,null,null,null,null,null,null,null,null,null,null,8320,0]
["1801025","Dilatación de estenosis benignas o malignas del tracto digestivo por balón","Proc",0,0,null,null,null,null,null,null,null,null,null,null,null,null,null,null,null,null,null,null,null,null,null,null,null,null,null,null,null,null,null,null,null,null,15820,0]
["1801026","Dilatación de estenosis benignas o malignas del tracto digestivo por bujía","Proc",0,0,null,null,null,null,null,null,null,null,null,null,null,null,null,null,null,null,null,null,null,null,null,null,null,null,null,null,null,null,null,null,null,null,6570,0]
["1801029","Devolvulación de colon por colonoscopía","Proc",0,0,null,null,null,null,null,null,null,null,null,null,null,null,null,null,null,null,null,null,null,null,null,null,null,null,null,null,null,null,null,null,null,null,22640,0]
["1801030","Dilatación ano-rectal, por sesión","Proc",0,0,null,null,null,null,null,null,null,null,null,null,null,null,null,null,null,null,null,null,null,null,null,null,null,null,null,null,null,null,null,null,null,null,3380,0]
["1801032","Escleroterapia de hemorroides, cualquier número ","Proc",0,0,null,null,null,null,null,null,null,null,null,null,null,null,null,null,null,null,null,null,null,null,null,null,null,null,null,null,null,null,null,null,null,null,19750,0]
["1801033","Inyectoterapia hemostática, Hemostasia mecánica, Hemostasia térmica, Ligadura elástica","Proc",0,0,null,null,null,null,null,null,null,null,null,null,null,null,null,null,null,null,null,null,null,null,null,null,null,null,null,null,null,null,null,null,null,null,59420,0]
["1801036","Extracción endoscópica de cálculos biliares o pancreáticos","Proc",0,0,null,null,null,null,null,null,null,null,null,null,null,null,null,null,null,null,null,null,null,null,null,null,null,null,null,null,null,null,null,null,null,null,26440,0]
["1801038","Punción evacuadora de absceso intraabdominales (hepático u otros), c/s toma de muestra, c/s inyección de medicamentos","Proc",0,0,null,null,null,null,null,null,null,null,null,null,null,null,null,null,null,null,null,null,null,null,null,null,null,null,null,null,null,null,null,null,null,null,20650,0]
["1801043","Manometría anorectal convencional","Proc",0,0,null,null,null,null,null,null,null,null,null,null,null,null,null,null,null,null,null,null,null,null,null,null,null,null,null,null,null,null,null,null,null,null,18830,0]
["1801046","Hemorroidopexia grapada","Proc",0,0,null,null,null,null,null,null,null,null,null,null,null,null,null,null,null,null,null,null,null,null,null,null,null,null,null,null,null,null,null,null,null,null,174420,0]
["1801049","Manometría anorrectal alta resolución","Proc",0,0,null,null,null,null,null,null,null,null,null,null,null,null,null,null,null,null,null,null,null,null,null,null,null,null,null,null,null,null,null,null,null,null,40860,0]
["1801050","Endosonografía digestiva alta","Proc",0,0,null,null,null,null,null,null,null,null,null,null,null,null,null,null,null,null,null,null,null,null,null,null,null,null,null,null,null,null,null,null,null,null,77010,0]
["1801053","Drenaje guiado con endosonografía digestiva","Proc",0,0,null,null,null,null,null,null,null,null,null,null,null,null,null,null,null,null,null,null,null,null,null,null,null,null,null,null,null,null,null,null,null,null,144120,0]
["1801054","Endosonografía ano-rectal","Proc",0,0,null,null,null,null,null,null,null,null,null,null,null,null,null,null,null,null,null,null,null,null,null,null,null,null,null,null,null,null,null,null,null,null,89050,0]
["1801057","Instalación de prótesis autoexpandibles en tracto digestivo","Proc",0,0,null,null,null,null,null,null,null,null,null,null,null,null,null,null,null,null,null,null,null,null,null,null,null,null,null,null,null,null,null,null,null,null,61110,0]
["1801058","Instalación de prótesis en vía biliar","Proc",0,0,null,null,null,null,null,null,null,null,null,null,null,null,null,null,null,null,null,null,null,null,null,null,null,null,null,null,null,null,null,null,null,null,48270,0]
[5099020,"Medición de pH gástrico",null,0,0]
[5099101,"Endosonografia compleja",null,0,0]
[5099104,"Endosonografia con sonda radial",null,0,0]
[5099105,"Instalacion de sonda nasogastrica",null,0,0]
["01011880","Escleroterapia várices con cionocrilato",null,0,0]
["01011881","Hemostasia con endoclips",null,0,0]
["01011886","Dilatación de Estenosis Colonica",null,0,0]
["01011887","Dilatación Pilórica y/o Estenosis Duodenal",null,0,0]
[null,"CIRUGIA ABDOMINAL                                           "]
["1802001","Hernia diafragmática por vía abdominal o cualquiera otra hernia con uso de prótesis (no incluye el valor de la prótesis)",{"$f":"VLOOKUP(A2297,[1]MAI2022!$A:$D,4,FALSE)","v":"CMay"},{"$f":"SUM(J2297:O2297)","v":0},null,null,null,null,{"$f":"+J2297+K2297","v":0},null,null,null,null,null,null,{"$f":"SUM(Q2297:R2297)","v":0},null,null,{"$f":"SUM(T2297:U2297)","v":0},null,null,{"$f":"SUM(W2297:X2297)","v":0},null,null,{"$f":"SUM(Z2297:AA2297)","v":0},null,null,null,null,null,null,null,null,null,null,null,null,304980,{"$f":"+(J2297*AL2297)+(M2297*AL2297*0.5)","v":0}]
["1802003","Hernia inguinal, crural, umbilical, de la línea blanca o similares, recidivada o no, simple o estrangulada s/resección intest.c/u","CMay",0,null,null,null,null,0,null,null,null,null,null,null,0,null,null,0,null,null,0,null,null,0,null,null,null,null,null,null,null,null,null,null,null,null,197620,0]
["1802004","Laparotomía exploradora, c/s liberación de adherencias, c/s drenaje, c/s biopsias como proc. aut. o como resultado de una herida penetrante abdominal no complicada o de un hemoperitoneo postoperatorio o como tratamiento de una peritonitis (laparostomía contenida -máximo cuatro-, resuturas, etc.)","CMay",0,null,null,null,null,0,null,null,null,null,null,null,0,null,null,0,null,null,0,null,null,0,null,null,null,null,null,null,null,null,null,null,null,null,184050,0]
["1802013","Gastrosquisis","CMay",0,null,null,null,null,0,null,null,null,null,null,null,0,null,null,0,null,null,0,null,null,0,null,null,null,null,null,null,null,null,null,null,null,null,350820,0]
["1802007","Peritonitis difusa aguda, trat. quir. (proc. aut.) ","CMay",0,null,null,null,null,0,null,null,null,null,null,null,0,null,null,0,null,null,0,null,null,0,null,null,null,null,null,null,null,null,null,null,null,null,259840,0]
["1802010","Antrectomía y vagotomía troncular o selectiva (proc. aut.)","CMay",0,null,null,null,null,0,null,null,null,null,null,null,0,null,null,0,null,null,0,null,null,0,null,null,null,null,null,null,null,null,null,null,null,null,395960,0]
["1802011","Desgastrectomía y neoanastomosis, c/s vaguectomía","CMay",0,null,null,null,null,0,null,null,null,null,null,null,0,null,null,0,null,null,0,null,null,0,null,null,null,null,null,null,null,null,null,null,null,null,446680,0]
["1802150","By pass gástrico por laparoscopía","CMay",0,null,null,null,null,0,null,null,null,null,null,null,0,null,null,0,null,null,0,null,null,0,null,null,null,null,null,null,null,null,null,null,null,null,2898460,0]
["1802014","Gastrotomía y/o gastrostomía (proc. aut.)","CMay",0,null,null,null,null,0,null,null,null,null,null,null,0,null,null,0,null,null,0,null,null,0,null,null,null,null,null,null,null,null,null,null,null,null,175960,0]
["1802016","Piloroplastía (proc. aut.)","CMay",0,null,null,null,null,0,null,null,null,null,null,null,0,null,null,0,null,null,0,null,null,0,null,null,null,null,null,null,null,null,null,null,null,null,212070,0]
["1802017","Gastrectomía subtotal con disección ganglionar","CMay",0,null,null,null,null,0,null,null,null,null,null,null,0,null,null,0,null,null,0,null,null,0,null,null,null,null,null,null,null,null,null,null,null,null,432030,0]
["1802021","Gastrectomía sub-total proximal con esófago-gastro-anastomosis u otra derivación","CMay",0,null,null,null,null,0,null,null,null,null,null,null,0,null,null,0,null,null,0,null,null,0,null,null,null,null,null,null,null,null,null,null,null,null,550370,0]
["1802022","Gastrectomía total","CMay",0,null,null,null,null,0,null,null,null,null,null,null,0,null,null,0,null,null,0,null,null,0,null,null,null,null,null,null,null,null,null,null,null,null,550370,0]
["1802025","Vagotomía selectiva y superselectiva c/s dren. gástrico, c/s piloroplastía (proc. aut.)","CMay",0,null,null,null,null,0,null,null,null,null,null,null,0,null,null,0,null,null,0,null,null,0,null,null,null,null,null,null,null,null,null,null,null,null,310970,0]
["1802079","Gastrectomía total con ostomías proximal y distal","CMay",0,null,null,null,null,0,null,null,null,null,null,null,0,null,null,0,null,null,0,null,null,0,null,null,null,null,null,null,null,null,null,null,null,null,442110,0]
["1802084","Cirugía de la estenosis hipertrófica del píloro. Laparoscopia","CMay",{"$f":"SUM(J2327:O2327)","v":0},null,null,null,null,{"$f":"+J2327+K2327","v":0},null,null,null,null,null,null,{"$f":"SUM(Q2327:R2327)","v":0},null,null,{"$f":"SUM(T2327:U2327)","v":0},null,null,{"$f":"SUM(W2327:X2327)","v":0},null,null,{"$f":"SUM(Z2327:AA2327)","v":0},null,null,null,null,null,null,null,null,null,null,null,null,275690,{"$f":"+(J2327*AL2327)+(M2327*AL2327*0.5)","v":0}]
["1802085","Laparotomía exploradora, instalación de VAC (por procedimiento)","CMay",{"$f":"SUM(J2328:O2328)","v":0},null,null,null,null,{"$f":"+J2328+K2328","v":0},null,null,null,null,null,null,{"$f":"SUM(Q2328:R2328)","v":0},null,null,{"$f":"SUM(T2328:U2328)","v":0},null,null,{"$f":"SUM(W2328:X2328)","v":0},null,null,{"$f":"SUM(Z2328:AA2328)","v":0},null,null,null,null,null,null,null,null,null,null,null,null,296130,{"$f":"+(J2328*AL2328)+(M2328*AL2328*0.5)","v":0}]
["1802026","Drenaje de colecciones líquidas hepáticas","CMay",0,null,null,null,null,0,null,null,null,null,null,null,0,null,null,0,null,null,0,null,null,0,null,null,null,null,null,null,null,null,null,null,null,null,292960,0]
["1802027","Colangioenteroanastomosis intrahepática","CMay",0,null,null,null,null,0,null,null,null,null,null,null,0,null,null,0,null,null,0,null,null,0,null,null,null,null,null,null,null,null,null,null,null,null,585070,0]
["1802029","Colecistectomía y coledocostomía (sonda T y colangiografía postoperatoria) c/s colangiografía operatoria","CMay",0,null,null,null,null,0,null,null,null,null,null,null,0,null,null,0,null,null,0,null,null,0,null,null,null,null,null,null,null,null,null,null,null,null,347030,0]
["1802030","Colecistogastroanastomosis o colecistoenteroanastomosis","CMay",0,null,null,null,null,0,null,null,null,null,null,null,0,null,null,0,null,null,0,null,null,0,null,null,null,null,null,null,null,null,null,null,null,null,401200,0]
["1802033","Coledocostomía supraduodenal o hepaticostomía (proc. aut.)","CMay",0,null,null,null,null,0,null,null,null,null,null,null,0,null,null,0,null,null,0,null,null,0,null,null,null,null,null,null,null,null,null,null,null,null,295900,0]
["1802151","Cirugía del quiste de colédoco","CMay",0,null,null,null,null,0,null,null,null,null,null,null,0,null,null,0,null,null,0,null,null,0,null,null,null,null,null,null,null,null,null,null,null,null,551040,0]
["1802035","Desconexión ácigoportal con transección esofágica","CMay",0,null,null,null,null,0,null,null,null,null,null,null,0,null,null,0,null,null,0,null,null,0,null,null,null,null,null,null,null,null,null,null,null,null,619350,0]
["1802036","Desconexión ácigoportal sin transección esofágica","CMay",0,null,null,null,null,0,null,null,null,null,null,null,0,null,null,0,null,null,0,null,null,0,null,null,null,null,null,null,null,null,null,null,null,null,535090,0]
["1802039","Hepatectomía segmentaria (proc. aut.)","CMay",0,null,null,null,null,0,null,null,null,null,null,null,0,null,null,0,null,null,0,null,null,0,null,null,null,null,null,null,null,null,null,null,null,null,476790,0]
["1802040","Herida traumática de hígado y/o vía biliar, trat. quir.","CMay",0,null,null,null,null,0,null,null,null,null,null,null,0,null,null,0,null,null,0,null,null,0,null,null,null,null,null,null,null,null,null,null,null,null,341020,0]
["1802100","Trasplante hepático","CMay",0,null,null,null,null,0,null,null,null,null,null,null,0,null,null,0,null,null,0,null,null,0,null,null,null,null,null,null,null,null,null,null,null,null,1029590,0]
["1802088","Cirugía de la atresia de vía biliar","CMay",{"$f":"SUM(J2352:O2352)","v":0},null,null,null,null,{"$f":"+J2352+K2352","v":0},null,null,null,null,null,null,{"$f":"SUM(Q2352:R2352)","v":0},null,null,{"$f":"SUM(T2352:U2352)","v":0},null,null,{"$f":"SUM(W2352:X2352)","v":0},null,null,{"$f":"SUM(Z2352:AA2352)","v":0},null,null,null,null,null,null,null,null,null,null,null,null,585070,{"$f":"+(J2352*AL2352)+(M2352*AL2352*0.5)","v":0}]
["1802044","Heridas, traumatismos de páncreas, trat.quir.","CMay",0,null,null,null,null,0,null,null,null,null,null,null,0,null,null,0,null,null,0,null,null,0,null,null,null,null,null,null,null,null,null,null,null,null,270630,0]
["1802045","Pancreatectomía parcial","CMay",0,null,null,null,null,0,null,null,null,null,null,null,0,null,null,0,null,null,0,null,null,0,null,null,null,null,null,null,null,null,null,null,null,null,476790,0]
["1802048","Secuestrectomía en pancreatitis aguda","CMay",0,null,null,null,null,0,null,null,null,null,null,null,0,null,null,0,null,null,0,null,null,0,null,null,null,null,null,null,null,null,null,null,null,null,397340,0]
["1802148","Yeyunopancreatostomía","CMay",0,null,null,null,null,0,null,null,null,null,null,null,0,null,null,0,null,null,0,null,null,0,null,null,null,null,null,null,null,null,null,null,null,null,504210,0]
["1802092","Esplenectomía por vía laparoscopia","CMay",{"$f":"SUM(J2363:O2363)","v":0},null,null,null,null,{"$f":"+J2363+K2363","v":0},null,null,null,null,null,null,{"$f":"SUM(Q2363:R2363)","v":0},null,null,{"$f":"SUM(T2363:U2363)","v":0},null,null,{"$f":"SUM(W2363:X2363)","v":0},null,null,{"$f":"SUM(Z2363:AA2363)","v":0},null,null,null,null,null,null,null,null,null,null,null,null,380850,{"$f":"+(J2363*AL2363)+(M2363*AL2363*0.5)","v":0}]
["1802049","Autoimplante de bazo (incluye esplenectomía)","CMay",0,null,null,null,null,0,null,null,null,null,null,null,0,null,null,0,null,null,0,null,null,0,null,null,null,null,null,null,null,null,null,null,null,null,349070,0]
["1802052","Sutura esplénica (proc. aut.)","CMay",0,null,null,null,null,0,null,null,null,null,null,null,0,null,null,0,null,null,0,null,null,0,null,null,null,null,null,null,null,null,null,null,null,null,270630,0]
["1802053","Apendicectomía y/o dren. absceso apendicular (proc. aut.)","CMay",0,null,null,null,null,0,null,null,null,null,null,null,0,null,null,0,null,null,0,null,null,0,null,null,null,null,null,null,null,null,null,null,null,null,221060,0]
["1802056","Colostomía, complicaciones tardías, trat. quir.","CMay",0,null,null,null,null,0,null,null,null,null,null,null,0,null,null,0,null,null,0,null,null,0,null,null,null,null,null,null,null,null,null,null,null,null,250810,0]
["1802057","Divertículo de Meckel, trat. quir.","CMay",0,null,null,null,null,0,null,null,null,null,null,null,0,null,null,0,null,null,0,null,null,0,null,null,null,null,null,null,null,null,null,null,null,null,190440,0]
["1802060","Ileostomía terminal o en asa (proc. aut.)","CMay",0,null,null,null,null,0,null,null,null,null,null,null,0,null,null,0,null,null,0,null,null,0,null,null,null,null,null,null,null,null,null,null,null,null,232810,0]
["1802061","Invaginación intestinal, trat. quir.","CMay",{"$f":"SUM(J2376:O2376)","v":0},null,null,null,null,0,null,null,null,null,null,null,{"$f":"SUM(Q2376:R2376)","v":0},null,null,{"$f":"SUM(T2376:U2376)","v":0},null,null,{"$f":"SUM(W2376:X2376)","v":0},null,null,{"$f":"SUM(Z2376:AA2376)","v":0},null,null,null,null,null,null,null,null,null,null,null,null,190440,0]
["1802065","Oclusión intestinal con resección","CMay",0,null,null,null,null,0,null,null,null,null,null,null,0,null,null,0,null,null,0,null,null,0,null,null,null,null,null,null,null,null,null,null,null,null,292900,0]
["1802066","Oclusión intestinal sin resección","CMay",0,null,null,null,null,0,null,null,null,null,null,null,0,null,null,0,null,null,0,null,null,0,null,null,null,null,null,null,null,null,null,null,null,null,239120,0]
["1802069","Descenso de colon c/conservación del esfínter, incluye resección de colon","CMay",0,null,null,null,null,0,null,null,null,null,null,null,0,null,null,0,null,null,0,null,null,0,null,null,null,null,null,null,null,null,null,null,null,null,549010,0]
["1802070","Hartmann, operación de (o similar)","CMay",0,null,null,null,null,0,null,null,null,null,null,null,0,null,null,0,null,null,0,null,null,0,null,null,null,null,null,null,null,null,null,null,null,null,456090,0]
["1802073","Reconstitución  tránsito post operación de Hartmann o sim.","CMay",0,null,null,null,null,0,null,null,null,null,null,null,0,null,null,0,null,null,0,null,null,0,null,null,null,null,null,null,null,null,null,null,null,null,456090,0]
["1802074","Resección de intestino y enteroanastomosis (proc. aut.)","CMay",0,null,null,null,null,0,null,null,null,null,null,null,0,null,null,0,null,null,0,null,null,0,null,null,null,null,null,null,null,null,null,null,null,null,293060,0]
["1802075","Resección intestinal masiva por trombosis mesentérica u otra etiología","CMay",0,null,null,null,null,0,null,null,null,null,null,null,0,null,null,0,null,null,0,null,null,0,null,null,null,null,null,null,null,null,null,null,null,null,520060,0]
["1802076","Duplicación intestinal, trat. quir.","CMay",0,null,null,null,null,0,null,null,null,null,null,null,0,null,null,0,null,null,0,null,null,0,null,null,null,null,null,null,null,null,null,null,null,null,292960,0]
["1802094","Cirugía de la enterocolitis neonatal con resección intestinal laparoscopia","CMay",0,null,null,null,null,0,null,null,null,null,null,null,0,null,null,0,null,null,0,null,null,0,null,null,null,null,null,null,null,null,null,null,null,null,405340,0]
["1802095","Cirugía de la enterocolitis neonatal con resección múltiple","CMay",0,null,null,null,null,0,null,null,null,null,null,null,0,null,null,0,null,null,0,null,null,0,null,null,null,null,null,null,null,null,null,null,null,null,389760,0]
["1802098","Cirugía de la enterocolitis neonatal sin resección intestinal laparoscopia","CMay",0,null,null,null,null,0,null,null,null,null,null,null,0,null,null,0,null,null,0,null,null,0,null,null,null,null,null,null,null,null,null,null,null,null,337790,0]
["1802099","Reconstitución de transito post enterocolitis neonatal con una entero-entero anastomosis","CMay",0,null,null,null,null,0,null,null,null,null,null,null,0,null,null,0,null,null,0,null,null,0,null,null,null,null,null,null,null,null,null,null,null,null,456090,0]
["1802103","Atresia o estenosis yeyuno-ileal, reparación primaria laparoscopia","CMay",0,null,null,null,null,0,null,null,null,null,null,null,0,null,null,0,null,null,0,null,null,0,null,null,null,null,null,null,null,null,null,null,null,null,384600,0]
["1802104","Atresia o estenosis yeyuno-ileal, resección y ostomías abierta","CMay",0,null,null,null,null,0,null,null,null,null,null,null,0,null,null,0,null,null,0,null,null,0,null,null,null,null,null,null,null,null,null,null,null,null,295850,0]
[5099005,"Gastrectomía en Manga o Gastrectomía Vertical Tipo Sleeve",null,0,null,null,null,null,{"$f":"+J2406+K2406","v":0},null,null,null,null,null,null,0,null,null,0,null,null,0,null,null,0]
[5099006,"Cirugía bariátrica con banda gástrica ajustable (Banding)",null,0,null,null,null,null,{"$f":"+J2407+K2407","v":0},null,null,null,null,null,null,0,null,null,0,null,null,0,null,null,0]
[null,"TOTAL ARANCEL MLE Y NO ARANCELADO",null,{"$f":"SUM(D2406:D2409)","v":0},null,null,null,null,{"$f":"SUM(I2406:I2409)","v":0},{"$f":"SUM(J2406:J2409)","v":0},0,0,0,0,0,0,0,0,0,0,0,0,0,0,0,0,0,0,0,0,0,0,0,0,0,0,0]
[null,"TOTAL PRODUCCION",null,{"$f":"SUM(D2405+D2410)","v":0},null,null,null,null,{"$f":"SUM(I2405+I2410)","v":0},{"$f":"SUM(J2405+J2410)","v":0},0,0,0,0,0,0,0,0,0,0,0,0,0,0,0,0,0,0,0,0,0,0,0,0,0,0,0,null,0]
["1803002","Absceso anorrectal simple, trat. quir.","CMen",{"$f":"SUM(J2414:O2414)","v":0},null,null,null,null,0,null,null,null,null,null,null,null,null,null,null,null,null,null,null,null,null,null,null,null,null,null,null,null,null,null,null,null,null,67060,0]
["1803003","Absceso sacrocoxígeo, drenaje","CMen",{"$f":"SUM(J2415:O2415)","v":0},null,null,null,null,0,null,null,null,null,null,null,null,null,null,null,null,null,null,null,null,null,null,null,null,null,null,null,null,null,null,null,null,null,40630,0]
["1803007","Cuerpo extraño rectal, extracción por vía anal","CMen",0,null,null,null,null,0,null,null,null,null,null,null,null,null,null,null,null,null,null,null,null,null,null,null,null,null,null,null,null,null,null,null,null,null,58660,0]
["1803008","Desgarros y heridas anorrectales con compromiso del esfínter","CMay",0,null,null,null,null,0,null,null,null,null,null,null,0,null,null,0,null,null,0,null,null,0,null,null,null,null,null,null,null,null,null,null,null,null,190040,0]
["1803011","Estenosis anal, plastía","CMay",0,null,null,null,null,0,null,null,null,null,null,null,0,null,null,0,null,null,0,null,null,0,null,null,null,null,null,null,null,null,null,null,null,null,143470,0]
["1803012","Estenosis rectal, plastía","CMay",0,null,null,null,null,0,null,null,null,null,null,null,0,null,null,0,null,null,0,null,null,0,null,null,null,null,null,null,null,null,null,null,null,null,157940,0]
["1803015","Fístula rectovaginal, rectouretral o uretrovaginal, trat.quir.","CMay",0,null,null,null,null,0,null,null,null,null,null,null,0,null,null,0,null,null,0,null,null,0,null,null,null,null,null,null,null,null,null,null,null,null,256830,0]
["1803016","Fístula anorrectal, trat.quir.de cualquier tipo","CMay",0,null,null,null,null,0,null,null,null,null,null,null,0,null,null,0,null,null,0,null,null,0,null,null,null,null,null,null,null,null,null,null,null,null,169620,0]
["1803019","Hemorroides, trombectomía (proc. aut.)","CMen",0,null,null,null,null,0,null,null,null,null,null,null,null,null,null,null,null,null,null,null,null,null,null,null,null,null,null,null,null,null,null,null,null,null,27180,0]
["1803020","Imperforación anal, reconstitución tránsito por vía abdómino-perineal","CMay",0,null,null,null,null,0,null,null,null,null,null,null,0,null,null,0,null,null,0,null,null,0,null,null,null,null,null,null,null,null,null,null,null,null,317750,0]
["1803024","Incontinencia anal, trat.quir. con plastía muscular","CMay",0,null,null,null,null,0,null,null,null,null,null,null,0,null,null,0,null,null,0,null,null,0,null,null,null,null,null,null,null,null,null,null,null,null,236120,0]
["1803025","Pólipo rectal, trat.quir. por vía abdominal","CMay",0,null,null,null,null,0,null,null,null,null,null,null,0,null,null,0,null,null,0,null,null,0,null,null,null,null,null,null,null,null,null,null,null,null,256830,0]
["1803028","Prolapso rectal, trat.quir. por vía anal","CMay",0,null,null,null,null,0,null,null,null,null,null,null,0,null,null,0,null,null,0,null,null,0,null,null,null,null,null,null,null,null,null,null,null,null,175960,0]
["1803029","Panproctocolectomía (2 equipos)","CMay",0,null,null,null,null,0,null,null,null,null,null,null,0,null,null,0,null,null,0,null,null,0,null,null,null,null,null,null,null,null,null,null,null,null,703570,0]
["1803032","Resección abdómino-perineal de ano y recto (2 equipos)","CMay",0,null,null,null,null,0,null,null,null,null,null,null,0,null,null,0,null,null,0,null,null,0,null,null,null,null,null,null,null,null,null,null,null,null,502230,0]
["1803033","Resección abdómino-perineal de ano y recto ampliada (2 equipos) (incluye genitales femeninos)","CMay",0,null,null,null,null,0,null,null,null,null,null,null,0,null,null,0,null,null,0,null,null,0,null,null,null,null,null,null,null,null,null,null,null,null,583240,0]
["1803038","Condilomas anales, trat. quir. ","CMay",0,null,null,null,null,0,null,null,null,null,null,null,0,null,null,0,null,null,0,null,null,0,null,null,null,null,null,null,null,null,null,null,null,null,132000,0]
["1803039","Cirugía de la cloaca, primer tiempo de derivación","CMay",0,null,null,null,null,0,null,null,null,null,null,null,0,null,null,0,null,null,0,null,null,0,null,null,null,null,null,null,null,null,null,null,null,null,136810,0]
["1803042","Cirugía reparadora en Enfermedad de Hirschsprung vía endoanal","CMay",0,null,null,null,null,0,null,null,null,null,null,null,0,null,null,0,null,null,0,null,null,0,null,null,null,null,null,null,null,null,null,null,null,null,384310,0]
[null,"TOTAL",null,{"$f":"SUM(D2413:D2450)","v":0},null,null,null,null,{"$f":"SUM(I2413:I2450)","v":0},0,0,0,0,0,0,0,0,0,0,0,0,0,0,0,0,0,0,0,0,0,0,0,0,0,0,0,0,null,0]
["1901002","Cistoscopía con o sin sondeo de uno o ambos uréteres, con o sin biopsia ",{"$f":"VLOOKUP(A2454,[1]MAI2022!$A:$D,4,FALSE)","v":"CMay"},0,0,null,null,null,null,null,null,null,null,null,null,null,null,null,null,null,null,null,null,null,null,null,null,null,null,null,null,null,null,null,null,null,null,36460,0]
["1901003","Cistoscopia y/o uretrocistoscopia y/o uretroscopia (proc.aut.)",{"$f":"VLOOKUP(A2455,[1]MAI2022!$A:$D,4,FALSE)","v":"CMen"},0,0,null,null,null,null,null,null,null,null,null,null,null,null,null,null,null,null,null,null,null,null,null,null,null,null,null,null,null,null,null,null,null,null,33240,0]
["1901006","Biopsia renal transparietal",{"$f":"VLOOKUP(A2458,[1]MAI2022!$A:$D,4,FALSE)","v":"CMen"},0,0,null,null,null,null,null,null,null,null,null,null,null,null,null,null,null,null,null,null,null,null,null,null,null,null,null,null,null,null,null,null,null,null,12910,0]
["1901035","Biopsia estereotáxica digital de próstata",{"$f":"VLOOKUP(A2459,[1]MAI2022!$A:$D,4,FALSE)","v":"Proc"},{"$f":"SUM(E2459+H2459)","v":0},{"$f":"SUM(F2459:G2459)","v":0},null,null,null,null,null,null,null,null,null,null,null,null,null,null,null,null,null,null,null,null,null,null,null,null,null,null,null,null,null,null,null,null,438800,0]
["1901009","Electromiografía perineal y del esfínter uretral en niños (proc.aut.)",{"$f":"VLOOKUP(A2461,[1]MAI2022!$A:$D,4,FALSE)","v":"Proc"},0,0,null,null,null,null,null,null,null,null,null,null,null,null,null,null,null,null,null,null,null,null,null,null,null,null,null,null,null,null,null,null,null,null,12940,0]
["1901010","Perfil uretral (proc.aut.)",{"$f":"VLOOKUP(A2462,[1]MAI2022!$A:$D,4,FALSE)","v":"Proc"},0,0,null,null,null,null,null,null,null,null,null,null,null,null,null,null,null,null,null,null,null,null,null,null,null,null,null,null,null,null,null,null,null,null,17020,0]
["1901012","Cistografía por sonda (de relleno) o por punción  hipogástrica",{"$f":"VLOOKUP(A2465,[1]MAI2022!$A:$D,4,FALSE)","v":"Proc"},0,0,null,null,null,null,null,null,null,null,null,null,null,null,null,null,null,null,null,null,null,null,null,null,null,null,null,null,null,null,null,null,null,null,11360,0]
["1901013","Inyección de medio de contraste en cuerpo cavernoso",{"$f":"VLOOKUP(A2466,[1]MAI2022!$A:$D,4,FALSE)","v":"Proc"},0,0,null,null,null,null,null,null,null,null,null,null,null,null,null,null,null,null,null,null,null,null,null,null,null,null,null,null,null,null,null,null,null,null,10730,0]
["1901018","Dilatación uretra c/s masaje, c/s instilación o inyección de medicamentos: anterior y/o posterior",{"$f":"VLOOKUP(A2469,[1]MAI2022!$A:$D,4,FALSE)","v":"Proc"},0,0,null,null,null,null,null,null,null,null,null,null,null,null,null,null,null,null,null,null,null,null,null,null,null,null,null,null,null,null,null,null,null,null,8940,0]
["1901019","Instilación vesical (incluye colocación de sonda) proc. aut.",{"$f":"VLOOKUP(A2470,[1]MAI2022!$A:$D,4,FALSE)","v":"Proc"},0,0,null,null,null,null,null,null,null,null,null,null,null,null,null,null,null,null,null,null,null,null,null,null,null,null,null,null,null,null,null,null,null,null,7280,0]
["1901021","Vaciamiento vesical p/punción hipogástrica o cistostomía p/punción",{"$f":"VLOOKUP(A2473,[1]MAI2022!$A:$D,4,FALSE)","v":"CMen"},0,0,null,null,null,null,null,null,null,null,null,null,null,null,null,null,null,null,null,null,null,null,null,null,null,null,null,null,null,null,null,null,null,null,14200,{"$f":"AL2473*F2473","v":0}]
["1901022","Vaciamiento vesical por sonda uretral, (proc. aut.)",{"$f":"VLOOKUP(A2474,[1]MAI2022!$A:$D,4,FALSE)","v":"Proc"},0,0,null,null,null,null,null,null,null,null,null,null,null,null,null,null,null,null,null,null,null,null,null,null,null,null,null,null,null,null,null,null,null,null,7700,{"$f":"AL2474*F2474","v":0}]
[" 5099109 ","Instalacion de sonda vesical ",null,0,0]
["01012045","Extracción percutánea de calculos renales ",null,0,0]
[null,"UROLOGIA Y NEFROLOGIA   "]
[null,"DIALISIS                                                    "]
["1901025","Peritoneodiálisis por sesión (incluye insumos)","Proc",0,0,null,null,null,null,null,null,null,null,null,null,null,null,null,null,null,null,null,null,null,null,null,null,null,null,null,null,null,null,null,null,null,null,34310,0]
["1901026","Peritoneodiálisis continua en paciente crónico (adulto o niños) (tratamiento mensual)","Proc",0,0,null,null,null,null,null,null,null,null,null,null,null,null,null,null,null,null,null,null,null,null,null,null,null,null,null,null,null,null,null,null,null,null,1029930,0]
["1901028","Hemodiálisis con bicarbonato con insumos (por sesión)","Proc",0,0,null,null,null,null,null,null,null,null,null,null,null,null,null,null,null,null,null,null,null,null,null,null,null,null,null,null,null,null,null,null,null,null,64500,0]
["1901029","Hemodiálisis con bicarbonato con insumos (tratamiento mensual)","Proc",0,0,null,null,null,null,null,null,null,null,null,null,null,null,null,null,null,null,null,null,null,null,null,null,null,null,null,null,null,null,null,null,null,null,838450,0]
["1901033","Revisión de catéter de peritoneodiálisis laparoscopia","CMen",{"$f":"SUM(E2493+H2493)","v":0},{"$f":"SUM(F2493:G2493)","v":0},null,null,null,null,null,null,null,null,null,null,null,null,null,null,null,null,null,null,null,null,null,null,null,null,null,null,null,null,null,null,null,null,318010,0]
[null,"TOTAL",null,{"$f":"SUM(D2483:D2493)","v":0},{"$f":"SUM(E2483:E2493)","v":0},{"$f":"SUM(F2483:F2493)","v":0},{"$f":"SUM(G2483:G2493)","v":0},{"$f":"SUM(H2483:H2493)","v":0},null,null,null,null,null,null,null,null,null,null,null,null,null,null,null,null,null,null,null,{"$f":"SUM(AB2483:AB2493)","v":0},{"$f":"SUM(AC2483:AC2493)","v":0},0,0,0,0,0,0,0,0,null,{"$f":"SUM(AM2483:AM2493)","v":0}]
["1902003","Auto o heterotrasplante riñón","CMay",{"$f":"SUM(J2497:O2497)","v":0},null,null,null,null,0,null,null,null,null,null,null,{"$f":"SUM(Q2497:R2497)","v":0},null,null,{"$f":"SUM(T2497:U2497)","v":0},null,null,{"$f":"SUM(W2497:X2497)","v":0},null,null,{"$f":"SUM(Z2497:AA2497)","v":0},null,null,null,null,null,null,null,null,null,null,null,null,805870,0]
["1902004","Cirugía de banco, (proc. completo) (micro-extracorpórea), autotrasplante","CMay",0,null,null,null,null,0,null,null,null,null,null,null,{"$f":"SUM(Q2498:R2498)","v":0},null,null,{"$f":"SUM(T2498:U2498)","v":0},null,null,{"$f":"SUM(W2498:X2498)","v":0},null,null,{"$f":"SUM(Z2498:AA2498)","v":0},null,null,null,null,null,null,null,null,null,null,null,null,784040,0]
["1902006","Litiasis renal o ureteral  por cirugía abierta o laparoscópica, por pielotomía o nefrotomía mínima o anatrófica.","CMay",0,null,null,null,null,0,null,null,null,null,null,null,0,null,null,0,null,null,0,null,null,0,null,null,null,null,null,null,null,null,null,null,null,null,371140,0]
["1902008","Lumbotomía exploradora c/s dren., c/s biopsia (proc. aut.)","CMay",0,null,null,null,null,0,null,null,null,null,null,null,0,null,null,0,null,null,0,null,null,0,null,null,null,null,null,null,null,null,null,null,null,null,239120,0]
["1902011","Nefrectomía por patología benigna o malformación o trasplante.","CMay",0,null,null,null,null,0,null,null,null,null,null,null,0,null,null,0,null,null,0,null,null,0,null,null,null,null,null,null,null,null,null,null,null,null,304980,0]
["1902012","Drenaje percutáneo o endoscópico de hidronefrosis.  (proc.autónomo)","CMay",0,null,null,null,null,0,null,null,null,null,null,null,0,null,null,0,null,null,0,null,null,0,null,null,null,null,null,null,null,null,null,null,null,null,274840,0]
["1902016","Anastomosis de los uréteres","CMay",0,null,null,null,null,0,null,null,null,null,null,null,0,null,null,0,null,null,0,null,null,0,null,null,null,null,null,null,null,null,null,null,null,null,407960,0]
["1902017","Fístula urétero-vaginal, trat. quir.","CMay",0,null,null,null,null,0,null,null,null,null,null,null,0,null,null,0,null,null,0,null,null,0,null,null,null,null,null,null,null,null,null,null,null,null,341020,0]
["1902020","Urétero-litotomía abierta","CMay",0,null,null,null,null,0,null,null,null,null,null,null,0,null,null,0,null,null,0,null,null,0,null,null,null,null,null,null,null,null,null,null,null,null,266200,0]
["1902021","Urétero o nefro-litotomía endoscópica c/ureteroscopia rígida o flexible, con o sin fragmentación","CMay",0,null,null,null,null,0,null,null,null,null,null,null,0,null,null,0,null,null,0,null,null,0,null,null,null,null,null,null,null,null,null,null,null,null,538190,0]
["1902024","Ureterostomía bilateral: vesical, cutánea o intestinal","CMay",0,null,null,null,null,0,null,null,null,null,null,null,0,null,null,0,null,null,0,null,null,0,null,null,null,null,null,null,null,null,null,null,null,null,510240,0]
["1902025","Ureterostomía unilateral: vesical, cutánea o intestinal","CMay",0,null,null,null,null,0,null,null,null,null,null,null,0,null,null,0,null,null,0,null,null,0,null,null,null,null,null,null,null,null,null,null,null,null,383090,0]
["1902029","Cistoplastía, proc. completo","CMay",0,null,null,null,null,0,null,null,null,null,null,null,0,null,null,0,null,null,0,null,null,0,null,null,null,null,null,null,null,null,null,null,null,null,510240,0]
["1902030","Reparación vesical por trauma o daño de cualquier tipo.","CMay",0,null,null,null,null,0,null,null,null,null,null,null,0,null,null,0,null,null,0,null,null,0,null,null,null,null,null,null,null,null,null,null,null,null,190440,0]
["1902032","Extrofia vesical, proc. completo","CMay",0,null,null,null,null,0,null,null,null,null,null,null,0,null,null,0,null,null,0,null,null,0,null,null,null,null,null,null,null,null,null,null,null,null,371110,0]
["1902033","Fístula vésico-cutánea, y/o vaginal, y/o intest., trat. quir.","CMay",0,null,null,null,null,0,null,null,null,null,null,null,0,null,null,0,null,null,0,null,null,0,null,null,null,null,null,null,null,null,null,null,null,null,286890,0]
["1902036","Operación de Bricker","CMay",0,null,null,null,null,0,null,null,null,null,null,null,0,null,null,0,null,null,0,null,null,0,null,null,null,null,null,null,null,null,null,null,null,null,559810,0]
["1902037","Resección endoscópica de cáncer vesical","CMay",0,null,null,null,null,0,null,null,null,null,null,null,0,null,null,0,null,null,0,null,null,0,null,null,null,null,null,null,null,null,null,null,null,null,305720,0]
["1902040","Extirpación divertículo o quiste para-uretral, cualquier vía","CMay",0,null,null,null,null,0,null,null,null,null,null,null,0,null,null,0,null,null,0,null,null,0,null,null,null,null,null,null,null,null,null,null,null,null,292960,0]
["1902041","Flegmón urinoso, drenaje y cistostomía","CMay",0,null,null,null,null,0,null,null,null,null,null,null,0,null,null,0,null,null,0,null,null,0,null,null,null,null,null,null,null,null,null,null,null,null,212070,0]
["1902044","Uretroplastía de substitución, cada tiempo","CMay",0,null,null,null,null,0,null,null,null,null,null,null,0,null,null,0,null,null,0,null,null,0,null,null,null,null,null,null,null,null,null,null,null,null,286890,0]
["1902045","Incontinencia urinaria de esfuerzo o d.i.e. (disfunción intrínseca del esfínter), cualquier vía única o combinada, con o sin instalación de mallas, elementos protésicos o esfínter artificial.","CMay",0,null,null,null,null,0,null,null,null,null,null,null,0,null,null,0,null,null,0,null,null,0,null,null,null,null,null,null,null,null,null,null,null,null,272670,0]
["1902050","Fistulectomía uretral","CMay",0,null,null,null,null,0,null,null,null,null,null,null,0,null,null,0,null,null,0,null,null,0,null,null,null,null,null,null,null,null,null,null,null,null,165620,0]
["1902051","Uretrostomía","CMay",0,null,null,null,null,0,null,null,null,null,null,null,0,null,null,0,null,null,0,null,null,0,null,null,null,null,null,null,null,null,null,null,null,null,143920,0]
["1902054","Tratamiento quirúrgico de absceso prostático y/o vesículas seminales, cualquier vía o técnica","CMay",0,null,null,null,null,0,null,null,null,null,null,null,0,null,null,0,null,null,0,null,null,0,null,null,null,null,null,null,null,null,null,null,null,null,159240,0]
["1902055","Adenoma o cáncer prostático, resección endoscópica desobstructiva, cualquier técnica (uni, bipolar, láser u otros)","CMay",0,null,null,null,null,0,null,null,null,null,null,null,0,null,null,0,null,null,0,null,null,0,null,null,null,null,null,null,null,null,null,null,null,null,298900,0]
["1902059","Biopsia quirúrgica de testículo y/o aspiración epididimaria.","CMay",0,null,null,null,null,0,null,null,null,null,null,null,0,null,null,0,null,null,0,null,null,0,null,null,null,null,null,null,null,null,null,null,null,null,159240,0]
["1902060","Descenso testicular con o sin hernia, cualquier tiempo, cualquier técnica","CMay",0,null,null,null,null,0,null,null,null,null,null,null,0,null,null,0,null,null,0,null,null,0,null,null,null,null,null,null,null,null,null,null,null,null,219210,0]
["1902063","Hidatidectomía unilat. c/s eversión de la vaginal (proc. aut.)","CMay",0,null,null,null,null,0,null,null,null,null,null,null,0,null,null,0,null,null,0,null,null,0,null,null,null,null,null,null,null,null,null,null,null,null,159240,0]
["1902064","Hidrocele y/o hematocele, incluye quistes cordón y/o epidídimo y/o hidatidectomías y/o cirugía intravaginal del mismo lado ","CMay",0,null,null,null,null,0,null,null,null,null,null,null,0,null,null,0,null,null,0,null,null,0,null,null,null,null,null,null,null,null,null,null,null,null,159240,0]
["1902067","Prótesis testicular, (proc. aut.)","CMay",0,null,null,null,null,0,null,null,null,null,null,null,0,null,null,0,null,null,0,null,null,0,null,null,null,null,null,null,null,null,null,null,null,null,159240,0]
["1902068","Orquidectomía ampliada por cáncer testicular","CMay",0,null,null,null,null,0,null,null,null,null,null,null,0,null,null,0,null,null,0,null,null,0,null,null,null,null,null,null,null,null,null,null,null,null,197620,0]
["1902071","Cirugía del epidídimo y cordón (proc.aut), incluye cirugía intravaginal y/o varicocele mismo lado","CMay",0,null,null,null,null,0,null,null,null,null,null,null,{"$f":"SUM(Q2560:R2560)","v":0},null,null,{"$f":"SUM(T2560:U2560)","v":0},null,null,{"$f":"SUM(W2560:X2560)","v":0},null,null,{"$f":"SUM(Z2560:AA2560)","v":0},null,null,null,null,null,null,null,null,null,null,null,null,175220,0]
["1902072","Plastía epidídimo-deferente (operación de Martín o sim.)","CMay",0,null,null,null,null,0,null,null,null,null,null,null,0,null,null,0,null,null,0,null,null,0,null,null,null,null,null,null,null,null,null,null,null,null,254200,0]
["1902075","Varicocele unilateral y/o denervación cordón espermático (incluye quistes, hidátides e hidrocele mismo lado)","CMay",0,null,null,null,null,0,null,null,null,null,null,null,0,null,null,0,null,null,0,null,null,0,null,null,null,null,null,null,null,null,null,null,null,null,159240,0]
["1902076","Vasectomía bilateral, (proc. aut.) (la vasectomía como tiempo previo a una resección de próstata esta incluida en la prostatectomía)","CMay",0,null,null,null,null,0,null,null,null,null,null,null,0,null,null,0,null,null,0,null,null,0,null,null,null,null,null,null,null,null,null,null,null,null,159240,0]
["1902080","Biopsia de pene (proc. aut.)","CMen",0,null,null,null,null,0,null,null,null,null,null,null,null,null,null,null,null,null,null,null,null,null,null,null,null,null,null,null,null,null,null,null,null,null,43670,0]
["1902081","Cirugía del priapismo cualquier vía o técnica","CMay",0,null,null,null,null,0,null,null,null,null,null,null,0,null,null,0,null,null,0,null,null,0,null,null,null,null,null,null,null,null,null,null,null,null,197620,0]
["1902084","Meatotomía hombre y/o sección frenillo y/o incisión dorsal, (proc. aut.)","CMen",0,null,null,null,null,0,null,null,null,null,null,null,null,null,null,null,null,null,null,null,null,null,null,null,null,null,null,null,null,null,null,null,null,null,32760,0]
["1902085","Implantación prótesis peneana cualquier tipo o vía (no incluye prótesis)","CMay",0,null,null,null,null,0,null,null,null,null,null,null,0,null,null,0,null,null,0,null,null,0,null,null,null,null,null,null,null,null,null,null,null,null,326360,0]
["2001002","Colposcopía",{"$f":"VLOOKUP(A2576,[1]MAI2022!$A:$D,4,FALSE)","v":"Proc"},{"$f":"SUM(E2576+H2576)","v":0},{"$f":"SUM(F2576:G2576)","v":0},null,null,null,null,null,null,null,null,null,null,null,null,null,null,null,null,null,null,null,null,null,null,null,null,null,null,null,null,null,null,null,null,8020,{"$f":"AL2576*F2576","v":0}]
["2001006","Amniocentesis",{"$f":"VLOOKUP(A2577,[1]MAI2022!$A:$D,4,FALSE)","v":"Proc"},0,0,null,null,null,null,null,null,null,null,null,null,null,null,null,null,null,null,null,null,null,null,null,null,null,null,null,null,null,null,null,null,null,null,11010,0]
["2001010","Monitoreo fetal estresante, con control permanente del especialista y tratamiento de las posibles complicaciones",{"$f":"VLOOKUP(A2580,[1]MAI2022!$A:$D,4,FALSE)","v":"Proc"},0,0,null,null,null,null,null,null,null,null,null,null,null,null,null,null,null,null,null,null,null,null,null,null,null,null,null,null,null,null,null,null,null,null,14300,0]
["2001021","Cordocentesis",{"$f":"VLOOKUP(A2581,[1]MAI2022!$A:$D,4,FALSE)","v":"Proc"},0,0,null,null,null,null,null,null,null,null,null,null,null,null,null,null,null,null,null,null,null,null,null,null,null,null,null,null,null,null,null,null,null,null,25730,0]
["2001015","Colocación o extracción de dispositivo intrauterino (no incluye el valor del dispositivo)",{"$f":"VLOOKUP(A2584,[1]MAI2022!$A:$D,4,FALSE)","v":"Proc"},0,0,null,null,null,null,null,null,null,null,null,null,null,null,null,null,null,null,null,null,null,null,null,null,null,null,null,null,null,null,null,null,null,null,9460,0]
["2001020","Test postcoital",{"$f":"VLOOKUP(A2585,[1]MAI2022!$A:$D,4,FALSE)","v":"Proc"},0,0,null,null,null,null,null,null,null,null,null,null,null,null,null,null,null,null,null,null,null,null,null,null,null,null,null,null,null,null,null,null,null,null,11630,0]
["2001024","Biopsia corial",{"$f":"VLOOKUP(A2588,[1]MAI2022!$A:$D,4,FALSE)","v":"Proc"},0,0,null,null,null,null,null,null,null,null,null,null,null,null,null,null,null,null,null,null,null,null,null,null,null,null,null,null,null,null,null,null,null,null,19670,0]
["2001025","Toma de biopsia con aguja bajo visión ecográfica de la Mama (Biopsia Core)",{"$f":"VLOOKUP(A2589,[1]MAI2022!$A:$D,4,FALSE)","v":"Proc"},0,0,null,null,null,null,null,null,null,null,null,null,null,null,null,null,null,null,null,null,null,null,null,null,null,null,null,null,null,null,null,null,null,null,69810,0]
[5099004,"Biopsia core (BC) guiada por ultrasonido (US)",null,0,0]
[5099045,"Insercion Implante Anticonceptivo",null,0,0]
["01012160","Electrofulguración condiloma",null,{"$f":"SUM(E2596+H2596)","v":0},{"$f":"SUM(F2596:G2596)","v":0}]
[null,"TOTAL ARANCEL MLE Y NO ARANCELADO",null,{"$f":"SUM(D2592:D2596)","v":0},{"$f":"SUM(E2592:E2596)","v":0},{"$f":"SUM(F2592:F2596)","v":0},{"$f":"SUM(G2592:G2596)","v":0},{"$f":"SUM(H2592:H2596)","v":0},null,null,null,null,null,null,null,null,null,null,null,null,null,null,null,null,null,null,null,{"$f":"SUM(AB2592:AB2596)","v":0},0,0,0,0,0,0,0,0,0]
["2002001","Absceso y/o hematoma de mama, trat.quir.",{"$f":"VLOOKUP(A2600,[1]MAI2022!$A:$D,4,FALSE)","v":"CMen"},{"$f":"SUM(J2600:O2600)","v":0},null,null,null,null,{"$f":"+J2600+K2600","v":0},null,null,null,null,null,null,null,null,null,null,null,null,null,null,null,null,null,null,null,null,null,null,null,null,null,null,null,null,39190,{"$f":"+(J2600*AL2600)+(M2600*AL2600*0.5)","v":0}]
["2002002","Mastectomía parcial (cuadrantectomía o similar) o total s/vaciamiento ganglionar",{"$f":"VLOOKUP(A2601,[1]MAI2022!$A:$D,4,FALSE)","v":"CMay"},{"$f":"SUM(J2601:O2601)","v":0},null,null,null,null,{"$f":"+J2601+K2601","v":0},null,null,null,null,null,null,{"$f":"SUM(Q2601:R2601)","v":0},null,null,{"$f":"SUM(T2601:U2601)","v":0},null,null,{"$f":"SUM(W2601:X2601)","v":0},null,null,{"$f":"SUM(Z2601:AA2601)","v":0},null,null,null,null,null,null,null,null,null,null,null,null,227170,{"$f":"+(J2601*AL2601)+(M2601*AL2601*0.5)","v":0}]
["2002006","Biopsia linfonodo centinela",{"$f":"VLOOKUP(A2604,[1]MAI2022!$A:$D,4,FALSE)","v":"CMay"},{"$f":"SUM(J2604:O2604)","v":0},null,null,null,null,{"$f":"+J2604+K2604","v":0},null,null,null,null,null,null,{"$f":"SUM(Q2604:R2604)","v":0},null,null,{"$f":"SUM(T2604:U2604)","v":0},null,null,{"$f":"SUM(W2604:X2604)","v":0},null,null,{"$f":"SUM(Z2604:AA2604)","v":0},null,null,null,null,null,null,null,null,null,null,null,null,330760,{"$f":"+(J2604*AL2604)+(M2604*AL2604*0.5)","v":0}]
[null,"TOTAL",null,{"$f":"SUM(D2600:D2604)","v":0},null,null,null,null,{"$f":"SUM(I2600:I2604)","v":0},{"$f":"SUM(J2600:J2604)","v":0},{"$f":"SUM(K2600:K2604)","v":0},0,0,0,0,{"$f":"SUM(P2600:P2604)","v":0},0,0,0,0,0,0,0,0,0,0,0,0,0,0,0,0,0,0,0,0,0,null,0]
["2001005","Histeroscopía diagnóstica (proc. aut.)","CMen",{"$f":"SUM(J2607:O2607)","v":0},null,null,null,null,{"$f":"+J2607+K2607","v":0},null,null,null,null,null,null,null,null,null,null,null,null,null,null,null,null,null,null,null,null,null,null,null,null,null,null,null,null,34160,{"$f":"AL2607*F2607","v":0}]
["2001014","Biopsia endometrio, vulva, vagina, cuello, c/u (proc. aut.)","CMen",{"$f":"SUM(J2608:O2608)","v":0},null,null,null,null,{"$f":"+J2608+K2608","v":0},null,null,null,null,null,null,null,null,null,null,null,null,null,null,null,null,null,null,null,null,null,null,null,null,null,null,null,null,22780,{"$f":"AL2608*F2608","v":0}]
["2003042","Linfadenectomía pélvica bilateral laparoscopia ","CMay",0,null,null,null,null,{"$f":"+J2611+K2611","v":0},null,null,null,null,null,null,0,null,null,0,null,null,0,null,null,0,null,null,null,null,null,null,null,null,null,null,null,null,674370,{"$f":"+(J2611*AL2611)+(M2611*AL2611*0.5)","v":0}]
["2003044","Linfadenectomía pelvica bilateral abierta","CMay",0,null,null,null,null,{"$f":"+J2612+K2612","v":0},null,null,null,null,null,null,0,null,null,0,null,null,0,null,null,0,null,null,null,null,null,null,null,null,null,null,null,null,648070,{"$f":"+(J2612*AL2612)+(M2612*AL2612*0.5)","v":0}]
["2003046","Traquelectomía simple por vía vaginal","CMay",{"$f":"SUM(J2615:O2615)","v":0},null,null,null,null,{"$f":"+J2615+K2615","v":0},null,null,null,null,null,null,0,null,null,0,null,null,0,null,null,0,null,null,null,null,null,null,null,null,null,null,null,null,648070,{"$f":"+(J2615*AL2615)+(M2615*AL2615*0.5)","v":0}]
["2003001","Ooforectomía parcial o total, uni o bilateral (proc. aut.)","CMay",0,null,null,null,null,0,null,null,null,null,null,null,0,null,null,0,null,null,0,null,null,0,null,null,null,null,null,null,null,null,null,null,null,null,191770,0]
["2003004","Ligadura o sección uni o bilateral de las trompas (Madlener, Pomeroy, o similares) (proc. aut.)","CMay",0,null,null,null,null,0,null,null,null,null,null,null,0,null,null,{"$f":"SUM(T2619:U2619)","v":0},null,null,0,null,null,{"$f":"SUM(Z2619:AA2619)","v":0},null,null,null,null,null,null,null,null,null,null,null,null,184050,0]
["2003005","Salpingectomía uni o bilateral","CMay",0,null,null,null,null,0,null,null,null,null,null,null,0,null,null,0,null,null,{"$f":"SUM(W2620:X2620)","v":0},null,null,0,null,null,null,null,null,null,null,null,null,null,null,null,184050,0]
["2003008","Miomectomía","CMay",0,null,null,null,null,0,null,null,null,null,null,null,0,null,null,0,null,null,0,null,null,0,null,null,null,null,null,null,null,null,null,null,null,null,227910,0]
["2003041","Extracción de DIU incrustado, por vía abdominal","CMay",0,null,null,null,null,0,null,null,null,null,null,null,0,null,null,0,null,null,0,null,null,0,null,null,null,null,null,null,null,null,null,null,null,null,227910,0]
["2003011","Ligamento ancho: abscesos y/o hematomas y/o flegmones y/o quistomas y/o várices u otros, trat. quir. (proc. aut.)","CMay",0,null,null,null,null,0,null,null,null,null,null,null,0,null,null,0,null,null,0,null,null,0,null,null,null,null,null,null,null,null,null,null,null,null,262850,0]
["2003012","Conización y/o amputación del cuello uterino, diagnóstica y/o terapéutica  c/s biopsia","CMay",0,null,null,null,null,0,null,null,null,null,null,null,0,null,null,0,null,null,0,null,null,0,null,null,null,null,null,null,null,null,null,null,null,null,159240,0]
["2003015","Histerectomía radical con disección pelviana completa de territorios ganglionares, incluye ganglios lumboaórticos (operación de Wertheim o similares)","CMay",0,null,null,null,null,0,null,null,null,null,null,null,0,null,null,0,null,null,0,null,null,0,null,null,null,null,null,null,null,null,null,null,null,null,662660,0]
["2003016","Histerectomía total c/intervención incontinencia urinaria, cualquier técnica","CMay",0,null,null,null,null,0,null,null,null,null,null,null,0,null,null,0,null,null,0,null,null,0,null,null,null,null,null,null,null,null,null,null,null,null,521450,0]
["2003019","Polipectomía (uno o más) (proc. aut.)","CMen",{"$f":"SUM(J2635:O2635)","v":0},null,null,null,null,0,null,null,null,null,null,null,null,null,null,null,null,null,null,null,null,null,null,null,null,null,null,null,null,null,null,null,null,null,49630,0]
["2003020","Sinequia y/o estenosis cervical, trat. quir.","CMay",0,null,null,null,null,0,null,null,null,null,null,null,0,null,null,0,null,null,0,null,null,0,null,null,null,null,null,null,null,null,null,null,null,null,84930,0]
["2003021","Colpoceliotomía","CMay",{"$f":"SUM(J2639:O2639)","v":0},null,null,null,null,0,null,null,null,null,null,null,0,null,null,0,null,null,0,null,null,0,null,null,null,null,null,null,null,null,null,null,null,null,84930,0]
["2003022","Incontinencia urinaria de esfuerzo, trat. quir. por vía vaginal (proc. aut.)","CMay",0,null,null,null,null,0,null,null,null,null,null,null,0,null,null,0,null,null,0,null,null,0,null,null,null,null,null,null,null,null,null,null,null,null,197620,0]
["2003025","Quiste y/o desgarro y/o tabique vaginal, trat. quir.","CMay",0,null,null,null,null,0,null,null,null,null,null,null,0,null,null,0,null,null,0,null,null,0,null,null,null,null,null,null,null,null,null,null,null,null,84930,0]
["2003026","Bartolinitis, vaciamiento y drenaje (proc. aut.)","CMen",0,null,null,null,null,0,null,null,null,null,null,null,null,null,null,null,null,null,null,null,null,null,null,null,null,null,null,null,null,null,null,null,null,null,40630,0]
["2003029","Vulvectomía simple","CMay",0,null,null,null,null,0,null,null,null,null,null,null,0,null,null,0,null,null,0,null,null,0,null,null,null,null,null,null,null,null,null,null,null,null,275780,0]
["2003047","Prueba de neuromodulación sacra básica: Evaluación periférica de raíces sacras","CMay",0,null,null,null,null,0,null,null,null,null,null,null,null,null,null,null,null,null,null,null,null,null,null,null,null,null,null,null,null,null,null,null,null,null,467140,0]
["2003050","Implante de generador de pulso implantable de neuromodulación sacra ","CMay",0,null,null,null,null,0,null,null,null,null,null,null,null,null,null,null,null,null,null,null,null,null,null,null,null,null,null,null,null,null,null,null,null,null,650450,0]
["2003051","Explante de neuroelectrodo sacro cuadripolar espiculado o revisión de bolsillo glúteo","CMen",0,null,null,null,null,0,null,null,null,null,null,null,null,null,null,null,null,null,null,null,null,null,null,null,null,null,null,null,null,null,null,null,null,null,752020,0]
["2004001","- Aborto retenido, vaciamiento de (incluye la inducción en los casos que corresponda)","CMen",{"$f":"SUM(E2655+H2655)","v":0},{"$f":"SUM(F2655:G2655)","v":0},null,null,null,null,null,null,null,null,null,null,null,null,null,null,null,null,null,null,null,null,null,null,null,null,null,null,null,null,null,null,null,null,129380,{"$f":"AL2655*F2655","v":0}]
["2004002","- Raspado uterino diagnóstico o terapéutico por metrorragia o por restos de aborto","CMen",{"$f":"SUM(E2656+H2656)","v":0},{"$f":"SUM(F2656:G2656)","v":0},null,null,null,null,null,null,null,null,null,null,null,null,null,null,null,null,null,null,null,null,null,null,null,null,null,null,null,null,null,null,null,null,124230,{"$f":"AL2656*F2656","v":0}]
["2004010","Honorario Matrona por la atención en preparto (desde ingreso a centro asistencial por trabajo de parto, ya sea inicial o activo, hasta el periodo expulsivo)  ",null,{"$f":"SUM(E2659+H2659)","v":0},{"$f":"SUM(F2659:G2659)","v":0},null,null,null,null,null,null,null,null,null,null,null,null,null,null,null,null,null,null,null,null,null,null,null,null,null,null,null,null,null,null,null,null,18020]
["2004011","Honorario de Matrona por atención integral en control y manejo del trabajo de parto (periodo expulsivo, asistencia al pabellón quirúrgico en caso de cesárea)",null,0,0,null,null,null,null,null,null,null,null,null,null,null,null,null,null,null,null,null,null,null,null,null,null,null,null,null,null,null,null,null,null,null,null,47660]
["2004005","Cesárea con histerectomía","CMay",0,null,null,null,null,0,null,null,null,null,null,null,0,null,null,0,null,null,0,null,null,0,null,null,null,null,null,null,null,null,null,null,null,null,322980,0]
["2004013","Cirugía quiste o tumor benigno del ovario abierta, neonatal","CMay",0,null,null,null,null,0,null,null,null,null,null,null,0,null,null,0,null,null,0,null,null,0,null,null,null,null,null,null,null,null,null,null,null,null,295900,0]
["2004016","Tratamiento quirúrgico laparoscópico del quiste paraovárico o del ligamento ancho, laparoscópico, neonatal","CMay",0,null,null,null,null,0,null,null,null,null,null,null,0,null,null,0,null,null,0,null,null,0,null,null,null,null,null,null,null,null,null,null,null,null,384660,0]
["2004017","Tratamiento quirúrgico de himen imperforado, paciente pediátrico","CMay",0,null,null,null,null,0,null,null,null,null,null,null,0,null,null,0,null,null,0,null,null,0,null,null,null,null,null,null,null,null,null,null,null,null,87640,0]
[null,"TOTAL PRODUCCION",null,{"$f":"SUM(D2655:D2670)","v":0},{"$f":"SUM(E2655:E2670)","v":0},0,0,0,0,0,0,0,0,0,0,0,0,0,0,0,0,0,0,0,0,0,0,0,0,0,0,0,0,0,0,0,0,null,0]
["PROCEDIMIENTOS DE TRAUMATOLOGÍA  "]
[2101003,"Movilizacion articular bajo anestesia general.","Proc",0,0]
["2105001","Calzón corto de yeso","Proc",0,0,null,null,null,null,null,null,null,null,null,null,null,null,null,null,null,null,null,null,null,null,null,null,null,null,null,null,null,null,null,null,null,null,19010,{"$f":"AL2676*F2676","v":0}]
["2105004","Rodillera, bota larga o corta de yeso","Proc",0,0,null,null,null,null,null,null,null,null,null,null,null,null,null,null,null,null,null,null,null,null,null,null,null,null,null,null,null,null,null,null,null,null,15180,0]
["2105005","Velpeau","Proc",0,0,null,null,null,null,null,null,null,null,null,null,null,null,null,null,null,null,null,null,null,null,null,null,null,null,null,null,null,null,null,null,null,null,15180,0]
["2105007","Yeso braquicarpiano","Proc",0,0,null,null,null,null,null,null,null,null,null,null,null,null,null,null,null,null,null,null,null,null,null,null,null,null,null,null,null,null,null,null,null,null,15180,0]
["2105008","Yeso pelvipedio bilateral","Proc",0,0,null,null,null,null,null,null,null,null,null,null,null,null,null,null,null,null,null,null,null,null,null,null,null,null,null,null,null,null,null,null,null,null,35730,0]
["2105011","Corsets de Milwaukee o similares (incluye la toma de molde )","Proc",0,0,null,null,null,null,null,null,null,null,null,null,null,null,null,null,null,null,null,null,null,null,null,null,null,null,null,null,null,null,null,null,null,null,31270,0]
["2105012","Corsets de Risser o similares","Proc",0,0,null,null,null,null,null,null,null,null,null,null,null,null,null,null,null,null,null,null,null,null,null,null,null,null,null,null,null,null,null,null,null,null,38030,0]
["2107001","Luxaciones de articulaciones medianas (hombro, codo, rodilla, tobillo, muñeca, tarso y esternoclavicular)","Proc",{"$f":"SUM(E2690+H2690)","v":0},{"$f":"SUM(F2690:G2690)","v":0},null,null,null,null,null,null,null,null,null,null,null,null,null,null,null,null,null,null,null,null,null,null,null,null,null,null,null,null,null,null,null,null,77460,{"$f":"AL2690*F2690","v":0}]
["2107003","Luxaciones de articulaciones menores (el resto)","Proc",{"$f":"SUM(E2691+H2691)","v":0},{"$f":"SUM(F2691:G2691)","v":0},null,null,null,null,null,null,null,null,null,null,null,null,null,null,null,null,null,null,null,null,null,null,null,null,null,null,null,null,null,null,null,null,34140,0]
[null,"TOTAL",null,{"$f":"SUM(D2673:D2693)","v":0},{"$f":"SUM(E2673:E2693)","v":0},0,0,{"$f":"SUM(H2673:H2693)","v":0},null,null,null,null,null,null,null,null,null,null,null,null,null,null,null,null,null,null,null,{"$f":"SUM(AB2673:AB2693)","v":0},0,0,0,0,0,0,0,0,0,null,0]
[null,"CIRUGÍA TRAUMATOLÓGICA            "]
["2104003","Quistes sinoviales de vainas flexoras, bursas","CMen",{"$f":"SUM(J2698:O2698)","v":0},null,null,null,null,0,null,null,null,null,null,null,null,null,null,null,null,null,null,null,null,null,null,null,null,null,null,null,null,null,null,null,null,null,135770,0]
["2104004","Tracción halocraneana o estribo-craneana (proc. aut.)","CMen",0,null,null,null,null,0,null,null,null,null,null,null,null,null,null,null,null,null,null,null,null,null,null,null,null,null,null,null,null,null,null,null,null,null,43030,0]
["2104007","Artrodesis de codo o muñeca, c/u","CMen",0,null,null,null,null,0,null,null,null,null,null,null,null,null,null,null,null,null,null,null,null,null,null,null,null,null,null,null,null,null,null,null,null,null,175430,0]
["2104008","Artrodesis de hombro, cadera,rodilla, tobillo o sacroilíaca, c/u","CMay",0,null,null,null,null,0,null,null,null,null,null,null,{"$f":"SUM(Q2703:R2703)","v":0},null,null,{"$f":"SUM(T2703:U2703)","v":0},null,null,{"$f":"SUM(W2703:X2703)","v":0},null,null,{"$f":"SUM(Z2703:AA2703)","v":0},null,null,null,null,null,null,null,null,null,null,null,null,249240,0]
["2104011","Tratamiento completo de fracturas expuestas de mano o pie, c/u      ","CMay",0,null,null,null,null,0,null,null,null,null,null,null,0,null,null,0,null,null,0,null,null,0,null,null,null,null,null,null,null,null,null,null,null,null,186460,0]
["2104012","Osteítis, raspado, c/s secuestrectomía","CMay",0,null,null,null,null,0,null,null,null,null,null,null,0,null,null,0,null,null,0,null,null,0,null,null,null,null,null,null,null,null,null,null,null,null,186430,0]
["2104015","Artrotomía hombro o cadera c/u","CMay",0,null,null,null,null,0,null,null,null,null,null,null,0,null,null,0,null,null,0,null,null,0,null,null,null,null,null,null,null,null,null,null,null,null,200180,0]
["2104016","Artrotomía de codo, muñeca, tobillo o temporomandibular, c/u","CMay",0,null,null,null,null,0,null,null,null,null,null,null,0,null,null,0,null,null,0,null,null,0,null,null,null,null,null,null,null,null,null,null,null,null,186430,0]
["2104019","Injerto esponjoso metafisiario","CMen",0,null,null,null,null,0,null,null,null,null,null,null,null,null,null,null,null,null,null,null,null,null,null,null,null,null,null,null,null,null,null,null,null,null,175430,0]
["2104020","Injertos esponjosos o córtico-esponjosos de cresta ilíaca","CMen",0,null,null,null,null,0,null,null,null,null,null,null,null,null,null,null,null,null,null,null,null,null,null,null,null,null,null,null,null,null,null,null,null,null,175430,0]
["2104023","Lesiones quísticas intraosea: legrado óseo, c/s relleno de injertos","CMay",0,null,null,null,null,0,null,null,null,null,null,null,0,null,null,0,null,null,0,null,null,0,null,null,null,null,null,null,null,null,null,null,null,null,219270,0]
["2104024","Metástasis ósea c/s fractura patológica, legrado tumoral, relleno cemento quirúrgico y osteosíntesis","CMay",0,null,null,null,null,0,null,null,null,null,null,null,0,null,null,0,null,null,0,null,null,0,null,null,null,null,null,null,null,null,null,null,null,null,282130,0]
["2104027","Tumores óseos: resección en bloque, epifisiaria c/artrodesis o diafisiaria","CMay",0,null,null,null,null,0,null,null,null,null,null,null,0,null,null,0,null,null,0,null,null,0,null,null,null,null,null,null,null,null,null,null,null,null,306160,0]
["2104028","Tumores primarios o metastásicos vertebrales: corporectomía, reemplazo por cemento quir. o injerto óseo, c/s osteosíntesis","CMay",0,null,null,null,null,0,null,null,null,null,null,null,0,null,null,0,null,null,0,null,null,0,null,null,null,null,null,null,null,null,null,null,null,null,736210,0]
["2104031","Epineurorrafia microquirúrgica con magnificación cualquier tronco nervioso (con excepción nervios digitales)","CMay",0,null,null,null,null,0,null,null,null,null,null,null,0,null,null,0,null,null,0,null,null,0,null,null,null,null,null,null,null,null,null,null,null,null,345800,0]
["2104033","Biopsia ósea por punción","CMen",0,null,null,null,null,0,null,null,null,null,null,null,null,null,null,null,null,null,null,null,null,null,null,null,null,null,null,null,null,null,null,null,null,null,36880,0]
["2104036","Biopsia sinovial o muscular quirúrgica","CMen",0,null,null,null,null,0,null,null,null,null,null,null,null,null,null,null,null,null,null,null,null,null,null,null,null,null,null,null,null,null,null,null,null,null,52880,0]
["2104037","Biopsia vertebral por punción","CMen",0,null,null,null,null,0,null,null,null,null,null,null,null,null,null,null,null,null,null,null,null,null,null,null,null,null,null,null,null,null,null,null,null,null,71350,0]
["2104038","Regularización de Muñón de Amputación","CMen",0,null,null,null,null,0,null,null,null,null,null,null,null,null,null,null,null,null,null,null,null,null,null,null,null,null,null,null,null,null,null,null,null,null,175430,0]
["2104039","Osteocondrosis o epifisitis, trat. quir.","CMay",0,null,null,null,null,0,null,null,null,null,null,null,0,null,null,0,null,null,0,null,null,0,null,null,null,null,null,null,null,null,null,null,null,null,186430,0]
["2104042","Endoprótesis total de hombro,(cualquier técnica)","CMay",0,null,null,null,null,0,null,null,null,null,null,null,0,null,null,0,null,null,0,null,null,0,null,null,null,null,null,null,null,null,null,null,null,null,379740,0]
["2104044","Fractura cuello humeral, trat. quir.","CMay",0,null,null,null,null,0,null,null,null,null,null,null,0,null,null,0,null,null,0,null,null,0,null,null,null,null,null,null,null,null,null,null,null,null,282130,0]
["2104047","Luxación acromio-clavicular o esterno-clavicular, reducción o plastía cápsuloligamentosa y osteosíntesis","CMay",0,null,null,null,null,0,null,null,null,null,null,null,0,null,null,0,null,null,0,null,null,0,null,null,null,null,null,null,null,null,null,null,null,null,219270,0]
["2104048","Luxación recidivante de hombro, trat. quir.","CMay",0,null,null,null,null,0,null,null,null,null,null,null,0,null,null,0,null,null,0,null,null,0,null,null,null,null,null,null,null,null,null,null,null,null,262930,0]
["2104051","Ruptura manguito rotadores, trat. quir. c/s acromiectomía","CMay",0,null,null,null,null,0,null,null,null,null,null,null,0,null,null,0,null,null,0,null,null,0,null,null,null,null,null,null,null,null,null,null,null,null,282130,0]
["2104052","Transposiciones musculares","CMay",0,null,null,null,null,0,null,null,null,null,null,null,0,null,null,0,null,null,0,null,null,0,null,null,null,null,null,null,null,null,null,null,null,null,200170,0]
["2104055","Osteosíntesis diafisiaria de húmero (cualquier técnica) ","CMay",0,null,null,null,null,0,null,null,null,null,null,null,0,null,null,0,null,null,0,null,null,0,null,null,null,null,null,null,null,null,null,null,null,null,200170,0]
["2104056","Osteosíntesis supra o intercondílea (cualquier técnica)","CMay",0,null,null,null,null,0,null,null,null,null,null,null,0,null,null,0,null,null,0,null,null,0,null,null,null,null,null,null,null,null,null,null,null,null,207320,0]
["2104058","Pseudoartrosis c/s osteosíntesis c/s yeso húmero","CMay",0,null,null,null,null,0,null,null,null,null,null,null,0,null,null,0,null,null,0,null,null,0,null,null,null,null,null,null,null,null,null,null,null,null,200170,0]
["2104059","Artroplastía con fascia codo","CMay",0,null,null,null,null,0,null,null,null,null,null,null,0,null,null,0,null,null,0,null,null,0,null,null,null,null,null,null,null,null,null,null,null,null,226510,0]
["2104062","Endoprótesis total de codo, (cualquier técnica)","CMay",0,null,null,null,null,0,null,null,null,null,null,null,0,null,null,0,null,null,0,null,null,0,null,null,null,null,null,null,null,null,null,null,null,null,379740,0]
["2104063","Epicondilitis, trat. quir. (cualquier técnica)","CMay",0,null,null,null,null,0,null,null,null,null,null,null,0,null,null,0,null,null,0,null,null,0,null,null,null,null,null,null,null,null,null,null,null,null,207310,0]
["2104066","Osteosíntesis epitroclea-epicóndilo (cualquier técnica)","CMay",0,null,null,null,null,{"$f":"+J2761+K2761","v":0},null,null,null,null,null,null,0,null,null,0,null,null,0,null,null,0,null,null,null,null,null,null,null,null,null,null,null,null,200170,{"$f":"AL2761*J2761","v":0}]
["2104067","Osteosíntesis olécranon u osteosíntesis de cúpula radial (proc. aut.) (cualquier técnica)","CMay",0,null,null,null,null,0,null,null,null,null,null,null,0,null,null,0,null,null,0,null,null,0,null,null,null,null,null,null,null,null,null,null,null,null,200170,0]
["2104070","Amputación antebrazo","CMay",0,null,null,null,null,0,null,null,null,null,null,null,0,null,null,0,null,null,0,null,null,0,null,null,null,null,null,null,null,null,null,null,null,null,226520,0]
["2104071","Extirpación metáfisis distal del cúbito y artrodesis radiocubital inferior","CMay",0,null,null,null,null,0,null,null,null,null,null,null,0,null,null,0,null,null,0,null,null,0,null,null,null,null,null,null,null,null,null,null,null,null,200170,0]
["2104074","Osteotomía uno o ambos huesos, c/s osteosíntesis c/s yeso o trat. quir. Enf. de Kienbock","CMay",0,null,null,null,null,0,null,null,null,null,null,null,0,null,null,0,null,null,0,null,null,0,null,null,null,null,null,null,null,null,null,null,null,null,200170,0]
["2104075","Pseudoartrosis  cúbito y/o radio c/s osteosíntesis c/s yeso","CMay",0,null,null,null,null,0,null,null,null,null,null,null,0,null,null,{"$f":"SUM(T2770:U2770)","v":0},null,null,0,null,null,{"$f":"SUM(Z2770:AA2770)","v":0},null,null,null,null,null,null,null,null,null,null,null,null,200170,0]
["2104078","Contractura isquem. de Volkmann: descenso muscular, neurolisis","CMay",0,null,null,null,null,0,null,null,null,null,null,null,0,null,null,0,null,null,0,null,null,0,null,null,null,null,null,null,null,null,null,null,null,null,262930,0]
["2104079","Endoprótesis total de muñeca, (cualquier técnica)","CMay",0,null,null,null,null,0,null,null,null,null,null,null,0,null,null,0,null,null,0,null,null,0,null,null,null,null,null,null,null,null,null,null,null,null,379740,0]
["2104083","Luxación radiocarpiana, trat. quir.","CMay",0,null,null,null,null,0,null,null,null,null,null,null,0,null,null,0,null,null,0,null,null,0,null,null,null,null,null,null,null,null,null,null,null,null,186430,0]
["2104084","Luxación semilunar ,escafoidea, reducción y osteosíntesis semicruenta o cruenta","CMay",0,null,null,null,null,0,null,null,null,null,null,null,0,null,null,0,null,null,0,null,null,0,null,null,null,null,null,null,null,null,null,null,null,null,186460,0]
["2104087","Amputación dedos (tres o más)","CMay",0,null,null,null,null,0,null,null,null,null,null,null,0,null,null,0,null,null,0,null,null,0,null,null,null,null,null,null,null,null,null,null,null,null,201770,0]
["2104088","Amputación dedos (uno o dos)","CMen",0,null,null,null,null,0,null,null,null,null,null,null,null,null,null,null,null,null,null,null,null,null,null,null,null,null,null,null,null,null,null,null,null,null,147860,0]
["2104091","Contractura Dupuytren, trat. quir., cada tiempo","CMay",0,null,null,null,null,0,null,null,null,null,null,null,0,null,null,0,null,null,0,null,null,0,null,null,null,null,null,null,null,null,null,null,null,null,186430,0]
["2104092","Contusión-compresión grave mano, trat. quir. incluye incisiones liberadoras y/o fasciotomía y/o escarectomía y/o injertos piel inmediatos y síntesis percutánea","CMay",0,null,null,null,null,0,null,null,null,null,null,null,0,null,null,0,null,null,0,null,null,0,null,null,null,null,null,null,null,null,null,null,null,null,186460,0]
["2104095","Luxofractura metacarpofalángica o interfalángica, trat. quir.","CMen",0,null,null,null,null,0,null,null,null,null,null,null,null,null,null,null,null,null,null,null,null,null,null,null,null,null,null,null,null,null,null,null,null,null,175430,0]
["2104096","Mano reumática en ráfaga: traslocaciones tendinosas, plastías capsulares, tenotomías, inmovilización postoperatoria","CMay",0,null,null,null,null,0,null,null,null,null,null,null,0,null,null,0,null,null,0,null,null,0,null,null,null,null,null,null,null,null,null,null,null,null,211410,0]
["2104099","Osteosíntesis metacarpianas o de falanges, cualquier técnica","CMen",0,null,null,null,null,0,null,null,null,null,null,null,null,null,null,null,null,null,null,null,null,null,null,null,null,null,null,null,null,null,null,null,null,null,175430,0]
["2104100","Panadizo, trat. quir.","CMen",0,null,null,null,null,0,null,null,null,null,null,null,null,null,null,null,null,null,null,null,null,null,null,null,null,null,null,null,null,null,null,null,null,null,27100,0]
["2104103","Reparación flexores: primer tiempo espaciador silastic","CMay",0,null,null,null,null,0,null,null,null,null,null,null,0,null,null,0,null,null,0,null,null,0,null,null,null,null,null,null,null,null,null,null,null,null,200110,0]
["2104104","Reparación nervio digital con injerto interfascicular: cualquier número","CMay",0,null,null,null,null,0,null,null,null,null,null,null,0,null,null,0,null,null,0,null,null,0,null,null,null,null,null,null,null,null,null,null,null,null,319410,0]
["2104107","Tenorrafia extensores mano","CMay",0,null,null,null,null,0,null,null,null,null,null,null,0,null,null,0,null,null,0,null,null,0,null,null,null,null,null,null,null,null,null,null,null,null,186430,0]
["2104108","Tenorrafia o injertos flexores mano","CMay",0,null,null,null,null,0,null,null,null,null,null,null,0,null,null,0,null,null,0,null,null,0,null,null,null,null,null,null,null,null,null,null,null,null,186430,0]
["2104111","Transposiciones tendinosas flexoras o extensoras mano","CMay",0,null,null,null,null,0,null,null,null,null,null,null,0,null,null,0,null,null,0,null,null,0,null,null,null,null,null,null,null,null,null,null,null,null,186430,0]
["2104112","Diastematomielia, resección espolón c/s instrumentación","CMay",0,null,null,null,null,0,null,null,null,null,null,null,0,null,null,0,null,null,0,null,null,0,null,null,null,null,null,null,null,null,null,null,null,null,565100,0]
["2104116","Luxaciones, luxofracturas vertebrales (cervical, dorsal, lumbar), reducción cruenta, cualquier vía de abordaje, cualquier número","CMay",0,null,null,null,null,0,null,null,null,null,null,null,0,null,null,0,null,null,0,null,null,0,null,null,null,null,null,null,null,null,null,null,null,null,434680,0]
["2104117","Osteotomías vertebrales correctoras, c/s instrumentación, c/s injertos óseos, c/s artrodesis","CMay",0,null,null,null,null,0,null,null,null,null,null,null,0,null,null,0,null,null,0,null,null,0,null,null,null,null,null,null,null,null,null,null,null,null,658860,0]
["2104121","Resección del coxis","CMay",0,null,null,null,null,0,null,null,null,null,null,null,0,null,null,0,null,null,0,null,null,0,null,null,null,null,null,null,null,null,null,null,null,null,186430,0]
["2104234","Resección parcial de sacro distal y coxis","CMay",0,null,null,null,null,0,null,null,null,null,null,null,0,null,null,0,null,null,0,null,null,0,null,null,null,null,null,null,null,null,null,null,null,null,428790,0]
["2104237","Teratoma sacrococcigeo intra y extrapelviano","CMay",0,null,null,null,null,0,null,null,null,null,null,null,0,null,null,0,null,null,0,null,null,0,null,null,null,null,null,null,null,null,null,null,null,null,805390,0]
["2104122","Osteosíntesis en fractura de arco anterior de pelvis y disyunciones pubianas","CMay",0,null,null,null,null,0,null,null,null,null,null,null,0,null,null,0,null,null,0,null,null,0,null,null,null,null,null,null,null,null,null,null,null,null,295140,0]
["2104125","Triple osteotomía de pelvis","CMay",0,null,null,null,null,0,null,null,null,null,null,null,0,null,null,0,null,null,0,null,null,0,null,null,null,null,null,null,null,null,null,null,null,null,346930,0]
["2104126","Amputación inter-ilio abdominal","CMay",0,null,null,null,null,0,null,null,null,null,null,null,0,null,null,0,null,null,0,null,null,0,null,null,null,null,null,null,null,null,null,null,null,null,598160,0]
["2104228","Endoprótesis parcial de cadera c/s cementación (cualquier técnica) (incluye prótesis)","CMay",0,null,null,null,null,{"$f":"+J2825+K2825","v":0},null,null,null,null,null,null,0,null,null,0,null,null,0,null,null,0,null,null,null,null,null,null,null,null,null,null,null,null,810840,{"$f":"AL2825*J2825","v":0}]
["2104129","Endoprótesis total de cadera  (no incluye prótesis)","CMay",0,null,null,null,null,0,null,null,null,null,null,null,0,null,null,0,null,null,0,null,null,0,null,null,null,null,null,null,null,null,null,null,null,null,539160,0]
["2104130","Epifisiolisis lenta o aguda, trat. quir.","CMay",0,null,null,null,null,0,null,null,null,null,null,null,0,null,null,0,null,null,0,null,null,0,null,null,null,null,null,null,null,null,null,null,null,null,309120,0]
["2104131","Fractura de cuello de fémur, osteosíntesis, cualquier técnica ","CMay",0,null,null,null,null,0,null,null,null,null,null,null,0,null,null,0,null,null,0,null,null,0,null,null,null,null,null,null,null,null,null,null,null,null,365970,0]
["2104133","Luxación traumática de cadera, reducción cruenta","CMay",0,null,null,null,null,0,null,null,null,null,null,null,{"$f":"SUM(Q2832:R2832)","v":0},null,null,0,null,null,{"$f":"SUM(W2832:X2832)","v":0},null,null,0,null,null,null,null,null,null,null,null,null,null,null,null,282130,0]
["2104134","Luxofractura acetabular, trat. quir.","CMay",0,null,null,null,null,0,null,null,null,null,null,null,0,null,null,0,null,null,0,null,null,0,null,null,null,null,null,null,null,null,null,null,null,null,326360,0]
["2104137","Reducción cruenta en luxación congénita o traumática de cadera","CMay",0,null,null,null,null,0,null,null,null,null,null,null,0,null,null,0,null,null,0,null,null,0,null,null,null,null,null,null,null,null,null,null,null,null,282130,0]
["2104138","Reducción cruenta y acetabuloplastía femoral c/s osteotomía femoral","CMay",0,null,null,null,null,0,null,null,null,null,null,null,0,null,null,0,null,null,0,null,null,0,null,null,null,null,null,null,null,null,null,null,null,null,380200,0]
["2104141","Trocanteroplastías","CMay",0,null,null,null,null,0,null,null,null,null,null,null,0,null,null,0,null,null,0,null,null,0,null,null,null,null,null,null,null,null,null,null,null,null,309120,0]
["2104142","Amputación muslo","CMay",0,null,null,null,null,0,null,null,null,null,null,null,0,null,null,0,null,null,0,null,null,0,null,null,null,null,null,null,null,null,null,null,null,null,230660,0]
["2104145","Osteotomía correctora muslo","CMay",0,null,null,null,null,0,null,null,null,null,null,null,0,null,null,0,null,null,0,null,null,0,null,null,null,null,null,null,null,null,null,null,null,null,253550,0]
["2104146","Osteotomía de alargamiento o acortamiento con osteosíntesis inmediata o distracción instrumental progresiva muslo","CMay",0,null,null,null,null,0,null,null,null,null,null,null,0,null,null,0,null,null,0,null,null,0,null,null,null,null,null,null,null,null,null,null,null,null,338960,0]
["2104149","Ruptura y/o hernia muscular, trat. quir. muslo","CMay",0,null,null,null,null,0,null,null,null,null,null,null,0,null,null,0,null,null,0,null,null,0,null,null,null,null,null,null,null,null,null,null,null,null,186430,0]
["2104150","Artrotomía por cuerpos libres, osteocondritis rodilla (proc. aut)","CMay",0,null,null,null,null,0,null,null,null,null,null,null,0,null,null,0,null,null,0,null,null,0,null,null,null,null,null,null,null,null,null,null,null,null,200170,0]
["2104153","Endoprótesis total de rodilla, (cualquier técnica)","CMay",0,null,null,null,null,0,null,null,null,null,null,null,0,null,null,0,null,null,0,null,null,0,null,null,null,null,null,null,null,null,null,null,null,null,565100,0]
["2104154","Fractura rótula: osteosíntesis o patelectomía parc. o total","CMay",0,null,null,null,null,0,null,null,null,null,null,null,0,null,null,0,null,null,0,null,null,0,null,null,null,null,null,null,null,null,null,null,null,null,200170,0]
["2104157","Luxación o rotura ligamentos, trat. quir. cápsulo-ligamentoso","CMay",0,null,null,null,null,0,null,null,null,null,null,null,0,null,null,0,null,null,0,null,null,0,null,null,null,null,null,null,null,null,null,null,null,null,200180,0]
["2104158","Meniscectomía quirúrgica, interna y/o externa","CMay",0,null,null,null,null,0,null,null,null,null,null,null,0,null,null,0,null,null,0,null,null,0,null,null,null,null,null,null,null,null,null,null,null,null,200180,0]
["2104161","Reconstrucción aparato extensor de rodilla","CMay",0,null,null,null,null,0,null,null,null,null,null,null,0,null,null,0,null,null,0,null,null,0,null,null,null,null,null,null,null,null,null,null,null,null,200180,0]
["2104162","Reparación quirúrgica ligamentos colaterales y/o cruzados de rodilla","CMay",0,null,null,null,null,0,null,null,null,null,null,null,0,null,null,0,null,null,0,null,null,0,null,null,null,null,null,null,null,null,null,null,null,null,262930,0]
["2104165","Colgajo cruzado de pierna, trat. quir. completo","CMay",0,null,null,null,null,0,null,null,null,null,null,null,0,null,null,0,null,null,0,null,null,0,null,null,null,null,null,null,null,null,null,null,null,null,305740,0]
["2104166","Fasciotomía por síndrome compartamental","CMay",0,null,null,null,null,0,null,null,null,null,null,null,0,null,null,0,null,null,0,null,null,0,null,null,null,null,null,null,null,null,null,null,null,null,186430,0]
["2104169","Osteotomía de alargamiento o acortamiento con osteosíntesis inmediata o distracción instrumental progresiva pierna","CMay",0,null,null,null,null,0,null,null,null,null,null,null,0,null,null,0,null,null,0,null,null,0,null,null,null,null,null,null,null,null,null,null,null,null,338960,0]
["2104170","Osteotomía del peroné","CMay",0,null,null,null,null,0,null,null,null,null,null,null,0,null,null,0,null,null,0,null,null,0,null,null,null,null,null,null,null,null,null,null,null,null,186430,0]
["2104173","Desarticulación tobillo","CMay",0,null,null,null,null,0,null,null,null,null,null,null,0,null,null,0,null,null,0,null,null,0,null,null,null,null,null,null,null,null,null,null,null,null,286830,0]
["2104174","Endoprótesis total tobillo, (cualquier técnica)","CMay",0,null,null,null,null,0,null,null,null,null,null,null,0,null,null,0,null,null,0,null,null,0,null,null,null,null,null,null,null,null,null,null,null,null,400250,0]
["2104177","Huesos supernumerarios, extirpación, uno o más, unilateral","CMay",0,null,null,null,null,0,null,null,null,null,null,null,0,null,null,0,null,null,0,null,null,0,null,null,null,null,null,null,null,null,null,null,null,null,186430,0]
["2104178","Luxación tibio-astrág.-calcán., reducc. cruenta y osteosínt.","CMay",0,null,null,null,null,0,null,null,null,null,null,null,0,null,null,0,null,null,0,null,null,0,null,null,null,null,null,null,null,null,null,null,null,null,200180,0]
["2104181","Ruptura tendón de Aquiles o tibial posterior, tenorrafia primaria y/o transposiciones tendinosas","CMay",0,null,null,null,null,0,null,null,null,null,null,null,0,null,null,0,null,null,0,null,null,0,null,null,null,null,null,null,null,null,null,null,null,null,207320,0]
["2104182","Ruptura tibial anterior u otros, tenorrafia","CMay",0,null,null,null,null,0,null,null,null,null,null,null,0,null,null,0,null,null,0,null,null,0,null,null,null,null,null,null,null,null,null,null,null,null,200170,0]
["2104185","Amputación transmetatarsiana","CMay",0,null,null,null,null,0,null,null,null,null,null,null,0,null,null,0,null,null,0,null,null,0,null,null,null,null,null,null,null,null,null,null,null,null,226520,0]
["2104186","Astrágalo vertical, trat. quir.","CMay",0,null,null,null,null,0,null,null,null,null,null,null,0,null,null,0,null,null,0,null,null,0,null,null,null,null,null,null,null,null,null,null,null,null,207310,0]
["2104189","Fasciotomía plantar (proc. aut.)","CMay",0,null,null,null,null,0,null,null,null,null,null,null,0,null,null,0,null,null,0,null,null,0,null,null,null,null,null,null,null,null,null,null,null,null,186430,0]
["2104190","Hallux valgus o rígidus, trat.quir. completo (cualquier téc.)","CMay",0,null,null,null,null,{"$f":"+J2889+K2889","v":0},null,null,null,null,null,null,0,null,null,0,null,null,0,null,null,0,null,null,null,null,null,null,null,null,null,null,null,null,186460,{"$f":"AL2889*J2889","v":0}]
["2104193","Neuroma de Morton, trat. quir.","CMay",0,null,null,null,null,0,null,null,null,null,null,null,0,null,null,0,null,null,0,null,null,0,null,null,null,null,null,null,null,null,null,null,null,null,186430,0]
["2104194","Ortejos en garra, trat. quir., cualq. número (cualq. técnica)","CMay",0,null,null,null,null,0,null,null,null,null,null,null,0,null,null,0,null,null,0,null,null,0,null,null,null,null,null,null,null,null,null,null,null,null,186430,0]
["2104197","Pie cavo, trat.quir. (cualquier técnica)","CMay",0,null,null,null,null,0,null,null,null,null,null,null,{"$f":"SUM(Q2896:R2896)","v":0},null,null,0,null,null,{"$f":"SUM(W2896:X2896)","v":0},null,null,0,null,null,null,null,null,null,null,null,null,null,null,null,186460,0]
["2104198","Pie plano, trat. quir. (cualquier técnica)","CMay",0,null,null,null,null,0,null,null,null,null,null,null,0,null,null,0,null,null,0,null,null,0,null,null,null,null,null,null,null,null,null,null,null,null,186460,0]
["2104200","Sesamoídeos, extirpación de uno o más, unilateral","CMay",0,null,null,null,null,0,null,null,null,null,null,null,0,null,null,0,null,null,0,null,null,0,null,null,null,null,null,null,null,null,null,null,null,null,186460,0]
["2104201","Tenorrafia extensores pie","CMay",0,null,null,null,null,0,null,null,null,null,null,null,0,null,null,0,null,null,0,null,null,0,null,null,null,null,null,null,null,null,null,null,null,null,186430,0]
["2107004","Fracturas mayores (columna, pelvis, supracondílea, codo, epífisis femorales)","CMay",{"$f":"SUM(J2903:O2903)","v":0},null,null,null,null,0,null,null,null,null,null,null,{"$f":"SUM(Q2903:R2903)","v":0},null,null,{"$f":"SUM(T2903:U2903)","v":0},null,null,{"$f":"SUM(W2903:X2903)","v":0},null,null,{"$f":"SUM(Z2903:AA2903)","v":0},null,null,null,null,null,null,null,null,null,null,null,null,133420,0]
["2107005","Fracturas medianas (diáfisis humeral, radial, cubital, diáfisis femoral, tibial, peroneal, clavicular, platillos tibiales)","CMen",0,null,null,null,null,0,null,null,null,null,null,null,null,null,null,null,null,null,null,null,null,null,null,null,null,null,null,null,null,null,null,null,null,null,107230,0]
["2107008","Tratamiento funcional con técnica de Sarmiento y similares de extremidad superior","CMen",0,null,null,null,null,0,null,null,null,null,null,null,null,null,null,null,null,null,null,null,null,null,null,null,null,null,null,null,null,null,null,null,null,null,96540,0]
[null,"Total ARANCEL MAI",null,{"$f":"SUM(D2696:D2919)","v":0},null,null,null,null,{"$f":"SUM(I2696:I2919)","v":0},0,0,0,0,0,0,0,0,0,0,0,0,0,0,0,0,0,0,0,0,0,0,0,0,0,0,0,0,null,0]
["01012428","Amputaciones pie diabético",null,0,null,null,null,null,{"$f":"+J2911","v":0},null,null,null,null,null,null,0,null,null,0,null,null,0,null,null,0]
["01012429","Amputación de ortejo(s) por pie diabético ",null,0,null,null,null,null,{"$f":"+J2912","v":0},null,null,null,null,null,null,0,null,null,0,null,null,0,null,null,0]
[null,"TOTAL PRODUCCION",null,{"$f":"+D2908+D2914","v":0},null,null,null,null,{"$f":"+I2908+I2914","v":0},{"$f":"+J2908+J2914","v":0},{"$f":"+K2908+K2914","v":0},{"$f":"+L2908+L2914","v":0},{"$f":"+M2908+M2914","v":0},{"$f":"+N2908+N2914","v":0},{"$f":"+O2908+O2914","v":0},{"$f":"+P2908+P2914","v":0},{"$f":"+Q2908+Q2914","v":0},{"$f":"+R2908+R2914","v":0},{"$f":"+S2908+S2914","v":0},{"$f":"+T2908+T2914","v":0},{"$f":"+U2908+U2914","v":0},{"$f":"+V2908+V2914","v":0},{"$f":"+W2908+W2914","v":0},{"$f":"+X2908+X2914","v":0},{"$f":"+Y2908+Y2914","v":0},{"$f":"+Z2908+Z2914","v":0},{"$f":"+AA2908+AA2914","v":0},{"$f":"+AB2908+AB2914","v":0},{"$f":"+AC2908+AC2914","v":0},{"$f":"+AD2908+AD2914","v":0},{"$f":"+AE2908+AE2914","v":0},{"$f":"+AF2908+AF2914","v":0},{"$f":"+AG2908+AG2914","v":0},{"$f":"+AH2908+AH2914","v":0},{"$f":"+AI2908+AI2914","v":0},{"$f":"+AJ2908+AJ2914","v":0},{"$f":"+AK2908+AK2914","v":0},null,{"$f":"+AM2908+AM2914","v":0}]
[null,"RETIRO ELEMENTOS OSTEOSISTESIS"]
["2106003","Retiro de tornillos, clavos, agujas de osteosíntesis o similares",{"$f":"VLOOKUP(A2919,[1]MAI2022!$A:$D,4,FALSE)","v":"CMay"},{"$f":"SUM(J2919:O2919)","v":0},null,null,null,null,{"$f":"+J2919+K2919","v":0},null,null,null,null,null,null,{"$f":"SUM(Q2919:R2919)","v":0},null,null,{"$f":"SUM(T2919:U2919)","v":0},null,null,{"$f":"SUM(W2919:X2919)","v":0},null,null,{"$f":"SUM(Z2919:AA2919)","v":0},null,null,null,null,null,null,null,null,null,null,null,null,68740,{"$f":"AL2919*J2919","v":0}]
[null,"Total ARANCEL MAI",null,{"$f":"SUM(D2917:D2919)","v":0},null,null,null,null,{"$f":"SUM(I2917:I2919)","v":0},{"$f":"SUM(J2917:J2919)","v":0},0,0,0,0,0,0,0,0,0,0,0,0,0,0,0,0,0,0,0,0,0,0,0,0,0,0,0,null,{"$f":"SUM(AM2917:AM2919)","v":0}]
[2301008,"Braguero (Hernia Umbilical o Inguinal)",null,0,0]
[2301011,"Faja Ortopédica (Contensión de Abdomen o Columna Dorsolumbar)",null,0,0]
[2301022,"Bastón canadiense o trípode, c/u",null,0,0]
[2301024,"Rodillera",null,0,0]
[2301031,"Correa de Muley (Prótesis bajo rodilla)",null,0,0]
[2301032,"Ortesis de columna (Milwaukee, Taylor o similares)",null,0,0]
[2301035,"Ortesis radial de posición",null,0,0]
[2301036,"Ortesis corta de posición (digitales) c/u",null,0,0]
[2301040,"Muletas (par)",null,0,0]
[2301041,"Ortesis Larga bilateral con cinturón pélvico (Extremidades Inferiores)",null,0,0]
[2301044,"Ortesis para rodilla",null,0,0]
[2301045,"Ortesis tobillo-pie",null,0,0]
[5099075,"Ortesis tendones flexores",null,0,0]
[5099076,"Ortesis digital dinámica",null,0,0]
[5099067,"Correa dorsiflexion pie",null,0,0]
[5099068,"Férula abducción hombro",null,0,0]
[5099071,"Férula flexion muñeca",null,0,0]
[5099072,"Palmeta extensión muñeca y dedos",null,0,0]
[5099078,"Camiseta manga corta",null,0,0]
[5099079,"Manga larga ",null,0,0]
[5099082,"Pantalón corto ",null,0,0]
[5099083,"Media larga",null,0,0]
[5099086,"Guante tipo mitón",null,0,0]
[5099087,"Guante con dedos",null,0,0]
[5099090,"Cintillo",null,0,0]
[5099061,"Collar cervical semirígido",null,0,0]
[5099065,"Canaletas  bipedestación ",null,{"$f":"SUM(E2974+H2974)","v":0},{"$f":"SUM(F2974:G2974)","v":0}]
[null,"TOTAL",null,{"$f":"SUM(D2922:D2974)","v":0},{"$f":"SUM(E2922:E2974)","v":0},{"$f":"SUM(F2922:F2974)","v":0},{"$f":"SUM(G2922:G2974)","v":0},{"$f":"SUM(H2922:H2974)","v":0},null,null,null,null,null,null,null,null,null,null,null,null,null,null,null,null,null,null,null,{"$f":"SUM(AB2922:AB2974)","v":0},0,0,0,0,0,0,0,0,0]
[null,"OTROS PROCEDIMIENTOS ANESTÉSICOS"]
[2201001,"Anestesia general o regional otorgada por médico diferente al primer cirujano (en intervenciones o procedimientos diagnósticos o terapéuticos)","Proc",0,0]
[2201002,"Anestesia peridural continua, proc. aut.","Proc",0,0]
["2201102","Anestesia peridural o epidural  continua para partos","Proc",{"$f":"SUM(E2979+H2979)","v":0},{"$f":"SUM(F2979:G2979)","v":0},null,null,null,null,null,null,null,null,null,null,null,null,null,null,null,null,null,null,null,null,null,null,null,null,null,null,null,null,null,null,null,null,35650,{"$f":"AL2979*F2979","v":0}]
["01012500","Intubación nasotraqueal/orotraqueal","Proc",0,0]
["01012501","Anestesia general como apoyo a resonancia magnética","Proc",0,0]
["01012502","Anestesia general como apoyo a tomografía computada","Proc",0,0]
["01012503","Sedación como apoyo a examen y/o procedimiento","Proc",0,0]
["01012504","Anestesia regional o local infiltrativa administrada por cirujano","Proc",0,0]
[null,"TOTAL",null,{"$f":"SUM(D2977:D2984)","v":0},{"$f":"SUM(E2977:E2984)","v":0},{"$f":"SUM(F2977:F2984)","v":0},{"$f":"SUM(G2977:G2984)","v":0},{"$f":"SUM(H2977:H2984)","v":0},null,null,null,null,null,null,null,null,null,null,null,null,null,null,null,null,null,null,null,{"$f":"SUM(AB2977:AB2984)","v":0},0,0,0,0,0,0,0,0,0]
[null," RESCATES, TRASLADOS Y RONDAS RURALES  ",{"$f":"VLOOKUP(A2986,[1]MAI2022!$A:$D,4,FALSE)","v":{"$error":"#N/A"}}]
["2401061","Rescate simple y/o traslado en móvil 1",null,0,0,null,null,null,null,null,null,null,null,null,null,null,null,null,null,null,null,null,null,null,null,null,null,null,null,null,null,null,null,null,null,null,null,23490,{"$f":"AL2987*F2987","v":0}]
["2401062","Rescate profesionalizado y/o traslado paciente complejo móvil 2",null,0,0,null,null,null,null,null,null,null,null,null,null,null,null,null,null,null,null,null,null,null,null,null,null,null,null,null,null,null,null,null,null,null,null,73890,0]
["2401063","Rescate medicalizado y/o traslado paciente critico en móvil 3",null,0,0,null,null,null,null,null,null,null,null,null,null,null,null,null,null,null,null,null,null,null,null,null,null,null,null,null,null,null,null,null,null,null,null,91590,0]
["2401064","Traslado en ambulancia",null,0,0,null,null,null,null,null,null,null,null,null,null,null,null,null,null,null,null,null,null,null,null,null,null,null,null,null,null,null,null,null,null,null,null,3230,0]
["2401065","Ronda rural terrestre, c/ km recorrido",null,0,0,null,null,null,null,null,null,null,null,null,null,null,null,null,null,null,null,null,null,null,null,null,null,null,null,null,null,null,null,null,null,null,null,70,0]
["2401066","Ronda rural aérea, c/ hora de vuelo",null,0,0,null,null,null,null,null,null,null,null,null,null,null,null,null,null,null,null,null,null,null,null,null,null,null,null,null,null,null,null,null,null,null,null,194460,0]
["2401067","Ronda rural marítima, c/ hora de navegación",null,0,0,null,null,null,null,null,null,null,null,null,null,null,null,null,null,null,null,null,null,null,null,null,null,null,null,null,null,null,null,null,null,null,null,13220,0]
[null,"TOTAL",null,{"$f":"SUM(D2987:D2993)","v":0},{"$f":"SUM(E2987:E2993)","v":0},{"$f":"SUM(F2987:F2993)","v":0},{"$f":"SUM(G2987:G2993)","v":0},{"$f":"SUM(H2987:H2993)","v":0},null,null,null,null,null,null,null,null,null,null,null,null,null,null,null,null,null,null,null,{"$f":"SUM(AB2987:AB2993)","v":0},0,0,0,0,0,0,0,0,0,null,{"$f":"SUM(AM2987:AM2993)","v":0}]
[null,"ATENCION ODONTOLOGICA                             "]
[null,"CONSULTAS Y ATENCIÓN ODONTOLÓGICA",{"$f":"VLOOKUP(A2996,[1]MAI2022!$A:$D,4,FALSE)","v":{"$error":"#N/A"}}]
["2701101","Consulta especialidad Periodoncia",null,{"$f":"SUM(E2997+H2997)","v":0},{"$f":"SUM(F2997:G2997)","v":0},null,null,null,null,null,null,null,null,null,null,null,null,null,null,null,null,null,null,null,null,null,null,null,null,null,null,null,null,null,null,null,null,4180,{"$f":"AL2997*F2997","v":0}]
["2701102","Consulta especialidad Cirugía y Traumatología Buco Maxilofacial",null,0,0,null,null,null,null,null,null,null,null,null,null,null,null,null,null,null,null,null,null,null,null,null,null,null,null,null,null,null,null,null,null,null,null,4180,0]
["2701103","Consulta especialidad Endodoncia",null,0,0,null,null,null,null,null,null,null,null,null,null,null,null,null,null,null,null,null,null,null,null,null,null,null,null,null,null,null,null,null,null,null,null,4180,0]
["2701104","Consulta especialidad Imagenología Oral y Maxilofacial ",null,0,0,null,null,null,null,null,null,null,null,null,null,null,null,null,null,null,null,null,null,null,null,null,null,null,null,null,null,null,null,null,null,null,null,4180,0]
["2701105","Consulta especialidad Implantología Buco Maxilofacial",null,0,0,null,null,null,null,null,null,null,null,null,null,null,null,null,null,null,null,null,null,null,null,null,null,null,null,null,null,null,null,null,null,null,null,4180,0]
["2701106","Consulta especialidad Odontopediatría",null,0,0,null,null,null,null,null,null,null,null,null,null,null,null,null,null,null,null,null,null,null,null,null,null,null,null,null,null,null,null,null,null,null,null,4180,0]
["2701107","Consulta especialidad Ortodoncia y Ortopedia Dento Maxilofacial",null,0,0,null,null,null,null,null,null,null,null,null,null,null,null,null,null,null,null,null,null,null,null,null,null,null,null,null,null,null,null,null,null,null,null,4180,0]
["2701108","Consulta especialidad Patología Oral y Maxilofacial",null,0,0,null,null,null,null,null,null,null,null,null,null,null,null,null,null,null,null,null,null,null,null,null,null,null,null,null,null,null,null,null,null,null,null,4180,0]
["2701109","Consulta especialidad Rehabilitación Oral",null,0,0,null,null,null,null,null,null,null,null,null,null,null,null,null,null,null,null,null,null,null,null,null,null,null,null,null,null,null,null,null,null,null,null,4180,0]
["2701110","Consulta especialidad Trastornos Temporomandibulares y Dolor Orofacial",null,0,0,null,null,null,null,null,null,null,null,null,null,null,null,null,null,null,null,null,null,null,null,null,null,null,null,null,null,null,null,null,null,null,null,4180,0]
["2701111","Consulta especialidad Somato-Prótesis ",null,0,0,null,null,null,null,null,null,null,null,null,null,null,null,null,null,null,null,null,null,null,null,null,null,null,null,null,null,null,null,null,null,null,null,4180,0]
["2701112","Educación grupal",null,0,0,null,null,null,null,null,null,null,null,null,null,null,null,null,null,null,null,null,null,null,null,null,null,null,null,null,null,null,null,null,null,null,null,11710,0]
["2701113","Consulta o control por Odontólogo General",null,0,0,null,null,null,null,null,null,null,null,null,null,null,null,null,null,null,null,null,null,null,null,null,null,null,null,null,null,null,null,null,null,null,null,3840,0]
["2701114","Trabajo comunitario",null,0,0,null,null,null,null,null,null,null,null,null,null,null,null,null,null,null,null,null,null,null,null,null,null,null,null,null,null,null,null,null,null,null,null,6620,0]
["2701115","Consulta de urgencia odontológica ",null,0,0,null,null,null,null,null,null,null,null,null,null,null,null,null,null,null,null,null,null,null,null,null,null,null,null,null,null,null,null,null,null,null,null,5500,0]
[null,"TOTAL",null,{"$f":"SUM(D2997:D3011)","v":0},{"$f":"SUM(E2997:E3011)","v":0},{"$f":"SUM(F2997:F3011)","v":0},{"$f":"SUM(G2997:G3011)","v":0},{"$f":"SUM(H2997:H3011)","v":0},null,null,null,null,null,null,null,null,null,null,null,null,null,null,null,null,null,null,null,{"$f":"SUM(AB2997:AB3011)","v":0},{"$f":"SUM(AC2997:AC3011)","v":0},0,0,0,0,0,0,0,0,null,{"$f":"SUM(AM2997:AM3011)","v":0}]
[null,"EXÁMENES IMAGENOLÓGICOS ODONTOLÓGICA"]
["2702101","Radiografía Retroalveolar Unitaria Adulto (por placa)",null,{"$f":"SUM(E3014+H3014)","v":0},{"$f":"SUM(F3014:G3014)","v":0},null,null,null,null,null,null,null,null,null,null,null,null,null,null,null,null,null,null,null,null,null,null,null,null,null,null,null,null,null,null,null,null,3520,{"$f":"AL3014*F3014","v":0}]
["2702102","Radiografía Retroalveolar Unitaria Niño (por placa)",null,0,0,null,null,null,null,null,null,null,null,null,null,null,null,null,null,null,null,null,null,null,null,null,null,null,null,null,null,null,null,null,null,null,null,3520,0]
["2702103","Radiografía Bite Wing Adulto (por placa)",null,0,0,null,null,null,null,null,null,null,null,null,null,null,null,null,null,null,null,null,null,null,null,null,null,null,null,null,null,null,null,null,null,null,null,3520,0]
["2702104","Radiografía Bite-Wing Niño (por placa)",null,0,0,null,null,null,null,null,null,null,null,null,null,null,null,null,null,null,null,null,null,null,null,null,null,null,null,null,null,null,null,null,null,null,null,3520,0]
["2702105","Radiografía extraoral (por placa)",null,0,0,null,null,null,null,null,null,null,null,null,null,null,null,null,null,null,null,null,null,null,null,null,null,null,null,null,null,null,null,null,null,null,null,4980,0]
["2702106","Radiografía oclusal (por placa)",null,0,0,null,null,null,null,null,null,null,null,null,null,null,null,null,null,null,null,null,null,null,null,null,null,null,null,null,null,null,null,null,null,null,null,2850,0]
["2702107","Sialografía (cada lado) (incluye el proc.)",null,0,0,null,null,null,null,null,null,null,null,null,null,null,null,null,null,null,null,null,null,null,null,null,null,null,null,null,null,null,null,null,null,null,null,32770,0]
["2702108","Telerradiografía",null,0,0,null,null,null,null,null,null,null,null,null,null,null,null,null,null,null,null,null,null,null,null,null,null,null,null,null,null,null,null,null,null,null,null,8730,0]
["2702109","Radiografía panorámica u ortopantomografía",null,0,0,null,null,null,null,null,null,null,null,null,null,null,null,null,null,null,null,null,null,null,null,null,null,null,null,null,null,null,null,null,null,null,null,18510,0]
["2702110","Radiografía de ATM Bilateral en Boca Cerrada y Boca Abierta",null,0,0,null,null,null,null,null,null,null,null,null,null,null,null,null,null,null,null,null,null,null,null,null,null,null,null,null,null,null,null,null,null,null,null,18510,0]
["2702111","Tomografía Computacional Maxilo Facial Cone Beam Zona Dentaria",null,0,0,null,null,null,null,null,null,null,null,null,null,null,null,null,null,null,null,null,null,null,null,null,null,null,null,null,null,null,null,null,null,null,null,33510,0]
["2702112","Tomografía Computacional Maxilo Facial Cone Beam Unimaxilar",null,0,0,null,null,null,null,null,null,null,null,null,null,null,null,null,null,null,null,null,null,null,null,null,null,null,null,null,null,null,null,null,null,null,null,50270,0]
["2702113","Tomografía Computada Cone Beam Bimaxilar, Máxilo Facial, Cráneo Completo, Sialo Tc Cone Beam",null,0,0,null,null,null,null,null,null,null,null,null,null,null,null,null,null,null,null,null,null,null,null,null,null,null,null,null,null,null,null,null,null,null,null,60320,0]
["2702114","Tomografía Computada de Cuello Suprahioideo con contraste",null,0,0,null,null,null,null,null,null,null,null,null,null,null,null,null,null,null,null,null,null,null,null,null,null,null,null,null,null,null,null,null,null,null,null,53850,0]
["2702115","Sialo Tomografía Computada",null,0,0,null,null,null,null,null,null,null,null,null,null,null,null,null,null,null,null,null,null,null,null,null,null,null,null,null,null,null,null,null,null,null,null,53850,0]
["2702116","Resonancia Magnética de Cuello Suprahioideo",null,0,0,null,null,null,null,null,null,null,null,null,null,null,null,null,null,null,null,null,null,null,null,null,null,null,null,null,null,null,null,null,null,null,null,74660,0]
["2702117","Estudio de Localización Maxilofacial",null,0,0,null,null,null,null,null,null,null,null,null,null,null,null,null,null,null,null,null,null,null,null,null,null,null,null,null,null,null,null,null,null,null,null,11130,0]
[null,"TOTAL",null,{"$f":"SUM(D3014:D3030)","v":0},{"$f":"SUM(E3014:E3030)","v":0},0,0,0,null,null,null,null,null,null,null,null,null,null,null,null,null,null,null,null,null,null,null,{"$f":"SUM(AB3014:AB3030)","v":0},{"$f":"SUM(AC3014:AC3030)","v":0},{"$f":"SUM(AD3014:AD3030)","v":0},{"$f":"SUM(AE3014:AE3030)","v":0},{"$f":"SUM(AF3014:AF3030)","v":0},0,0,0,0,0,null,{"$f":"SUM(AM3014:AM3030)","v":0}]
[null,"ODONTOLOGÍA GENERAL: ACTIVIDADES PREVENTIVAS Y RECUPERATIVAS"]
["2703101","Aplicación de sellantes",null,{"$f":"SUM(E3033+H3033)","v":0},{"$f":"SUM(F3033:G3033)","v":0},null,null,null,null,null,null,null,null,null,null,null,null,null,null,null,null,null,null,null,null,null,null,null,null,null,null,null,null,null,null,null,null,5490,{"$f":"AL3033*F3033","v":0}]
["2703102","Desgastes selectivos",null,0,0,null,null,null,null,null,null,null,null,null,null,null,null,null,null,null,null,null,null,null,null,null,null,null,null,null,null,null,null,null,null,null,null,4500,0]
["2703103","Destartraje y pulido coronario",null,0,0,null,null,null,null,null,null,null,null,null,null,null,null,null,null,null,null,null,null,null,null,null,null,null,null,null,null,null,null,null,null,null,null,8560,0]
["2703104","Mantenedores de espacio",null,0,0,null,null,null,null,null,null,null,null,null,null,null,null,null,null,null,null,null,null,null,null,null,null,null,null,null,null,null,null,null,null,null,null,17870,0]
["2703105","Pulpotomía",null,0,0,null,null,null,null,null,null,null,null,null,null,null,null,null,null,null,null,null,null,null,null,null,null,null,null,null,null,null,null,null,null,null,null,3140,0]
["2703106","Aplicación tópica de fluoruros",null,0,0,null,null,null,null,null,null,null,null,null,null,null,null,null,null,null,null,null,null,null,null,null,null,null,null,null,null,null,null,null,null,null,null,11230,0]
["2703107","Exodoncia simple diente permanente",null,0,0,null,null,null,null,null,null,null,null,null,null,null,null,null,null,null,null,null,null,null,null,null,null,null,null,null,null,null,null,null,null,null,null,4990,0]
["2703108","Exodoncia diente primario",null,0,0,null,null,null,null,null,null,null,null,null,null,null,null,null,null,null,null,null,null,null,null,null,null,null,null,null,null,null,null,null,null,null,null,3140,0]
["2703109","Obturación amalgama",null,0,0,null,null,null,null,null,null,null,null,null,null,null,null,null,null,null,null,null,null,null,null,null,null,null,null,null,null,null,null,null,null,null,null,12130,0]
["2703110","Obturación composite",null,0,0,null,null,null,null,null,null,null,null,null,null,null,null,null,null,null,null,null,null,null,null,null,null,null,null,null,null,null,null,null,null,null,null,11550,0]
["2703111","Obturación Vidrio Ionómero",null,0,0,null,null,null,null,null,null,null,null,null,null,null,null,null,null,null,null,null,null,null,null,null,null,null,null,null,null,null,null,null,null,null,null,7140,0]
["2703112","Profilaxis Dental ",null,0,0,null,null,null,null,null,null,null,null,null,null,null,null,null,null,null,null,null,null,null,null,null,null,null,null,null,null,null,null,null,null,null,null,24010,0]
["2703113","Acceso Cavitario",null,0,0,null,null,null,null,null,null,null,null,null,null,null,null,null,null,null,null,null,null,null,null,null,null,null,null,null,null,null,null,null,null,null,null,4340,0]
["2703114","Ferulización por grupo",null,0,0,null,null,null,null,null,null,null,null,null,null,null,null,null,null,null,null,null,null,null,null,null,null,null,null,null,null,null,null,null,null,null,null,9180,0]
["2703115","Recubrimiento Directo",null,0,0,null,null,null,null,null,null,null,null,null,null,null,null,null,null,null,null,null,null,null,null,null,null,null,null,null,null,null,null,null,null,null,null,3130,0]
["2703116","Pulpectomía (por odontólogo general)",null,0,0,null,null,null,null,null,null,null,null,null,null,null,null,null,null,null,null,null,null,null,null,null,null,null,null,null,null,null,null,null,null,null,null,7310,0]
[null,"Total ARANCEL MAI",null,{"$f":"SUM(D3033:D3048)","v":0},{"$f":"SUM(E3033:E3048)","v":0},{"$f":"SUM(F3033:F3048)","v":0},{"$f":"SUM(G3033:G3048)","v":0},{"$f":"SUM(H3033:H3048)","v":0},null,null,null,null,null,null,null,null,null,null,null,null,null,null,null,null,null,null,null,{"$f":"SUM(AB3033:AB3048)","v":0},{"$f":"SUM(AC3033:AC3048)","v":0},0,0,0,0,0,0,0,0,null,{"$f":"SUM(AM3033:AM3048)","v":0}]
[null,"ESPECIALIDADES"]
["2704001","Obturación Inlay metal (incluye materiales no preciosos, no incluye oro)",null,{"$f":"SUM(E3051+H3051)","v":0},{"$f":"SUM(F3051:G3051)","v":0},null,null,null,null,null,null,null,null,null,null,null,null,null,null,null,null,null,null,null,null,null,null,null,null,null,null,null,null,null,null,null,null,11910,{"$f":"AL3051*F3051","v":0}]
["2704002","Dispositivo Interoclusal",null,0,0,null,null,null,null,null,null,null,null,null,null,null,null,null,null,null,null,null,null,null,null,null,null,null,null,null,null,null,null,null,null,null,null,22790,0]
["2704003","Prótesis de restitución (fase clínica)",null,0,0,null,null,null,null,null,null,null,null,null,null,null,null,null,null,null,null,null,null,null,null,null,null,null,null,null,null,null,null,null,null,null,null,49450,0]
["2704004","Prótesis metálica",null,0,0,null,null,null,null,null,null,null,null,null,null,null,null,null,null,null,null,null,null,null,null,null,null,null,null,null,null,null,null,null,null,null,null,74310,0]
["2704005","Prótesis de restitución (fase laboratorio)",null,0,0,null,null,null,null,null,null,null,null,null,null,null,null,null,null,null,null,null,null,null,null,null,null,null,null,null,null,null,null,null,null,null,null,24630,0]
["2704006","Reparación compuesta de prótesis",null,0,0,null,null,null,null,null,null,null,null,null,null,null,null,null,null,null,null,null,null,null,null,null,null,null,null,null,null,null,null,null,null,null,null,9890,0]
["2704007","Reparación corona",null,0,0,null,null,null,null,null,null,null,null,null,null,null,null,null,null,null,null,null,null,null,null,null,null,null,null,null,null,null,null,null,null,null,null,7600,0]
["2704008","Reparación o reajuste prótesis",null,0,0,null,null,null,null,null,null,null,null,null,null,null,null,null,null,null,null,null,null,null,null,null,null,null,null,null,null,null,null,null,null,null,null,5950,0]
["2704009","Restitución por corona (combinada)",null,0,0,null,null,null,null,null,null,null,null,null,null,null,null,null,null,null,null,null,null,null,null,null,null,null,null,null,null,null,null,null,null,null,null,44640,0]
["2704010","Restitución por corona provisoria",null,0,0,null,null,null,null,null,null,null,null,null,null,null,null,null,null,null,null,null,null,null,null,null,null,null,null,null,null,null,null,null,null,null,null,22790,0]
["2704011","Tratamiento ortodoncia con aparatología removible (incluye aparato)(año 1)",null,0,0,null,null,null,null,null,null,null,null,null,null,null,null,null,null,null,null,null,null,null,null,null,null,null,null,null,null,null,null,null,null,null,null,125250,0]
["2704012","Tratamiento ortodoncia con aparatología fija (incluye aparato) (año 1)",null,0,0,null,null,null,null,null,null,null,null,null,null,null,null,null,null,null,null,null,null,null,null,null,null,null,null,null,null,null,null,null,null,null,null,151850,0]
["2704013","Tratamiento ortodoncia con aparatología fija (incluye aparato) (año 2)",null,0,0,null,null,null,null,null,null,null,null,null,null,null,null,null,null,null,null,null,null,null,null,null,null,null,null,null,null,null,null,null,null,null,null,90680,0]
["2704014","Endodoncia Multirradicular",null,0,0,null,null,null,null,null,null,null,null,null,null,null,null,null,null,null,null,null,null,null,null,null,null,null,null,null,null,null,null,null,null,null,null,78440,0]
["2704015","Endodoncia birradicular",null,0,0,null,null,null,null,null,null,null,null,null,null,null,null,null,null,null,null,null,null,null,null,null,null,null,null,null,null,null,null,null,null,null,null,57340,0]
["2704016","Endodoncia unirradicular",null,0,0,null,null,null,null,null,null,null,null,null,null,null,null,null,null,null,null,null,null,null,null,null,null,null,null,null,null,null,null,null,null,null,null,51280,0]
["2704017","Destartraje Subgingival y Pulido Radicular",null,0,0,null,null,null,null,null,null,null,null,null,null,null,null,null,null,null,null,null,null,null,null,null,null,null,null,null,null,null,null,null,null,null,null,12840,0]
["2704018","Sedación inhalatoria con óxido nitroso",null,0,0,null,null,null,null,null,null,null,null,null,null,null,null,null,null,null,null,null,null,null,null,null,null,null,null,null,null,null,null,null,null,null,null,13420,0]
["2704019","Corona Metálica Preformada en diente temporal",null,0,0,null,null,null,null,null,null,null,null,null,null,null,null,null,null,null,null,null,null,null,null,null,null,null,null,null,null,null,null,null,null,null,null,17870,0]
["2704020","Sialometría",null,0,0,null,null,null,null,null,null,null,null,null,null,null,null,null,null,null,null,null,null,null,null,null,null,null,null,null,null,null,null,null,null,null,null,4180,0]
["2704021","Inyección Intralesional de Medicamentos en el territorio de la Mucosa Oral",null,0,0,null,null,null,null,null,null,null,null,null,null,null,null,null,null,null,null,null,null,null,null,null,null,null,null,null,null,null,null,null,null,null,null,6560,0]
["2704022","Tratamiento No Quirúrgico de Obstrucción Glándula Salival",null,0,0,null,null,null,null,null,null,null,null,null,null,null,null,null,null,null,null,null,null,null,null,null,null,null,null,null,null,null,null,null,null,null,null,4180,0]
["2704023","Cateterismo de Conducto Excretor Glándula Salival en Adultos (c/u)",null,0,0,null,null,null,null,null,null,null,null,null,null,null,null,null,null,null,null,null,null,null,null,null,null,null,null,null,null,null,null,null,null,null,null,11330,0]
["2704024","Cateterismo de Conducto Excretor Glándula Salival en Niños (c/u)",null,0,0,null,null,null,null,null,null,null,null,null,null,null,null,null,null,null,null,null,null,null,null,null,null,null,null,null,null,null,null,null,null,null,null,15000,0]
["2704025","Instilación de Glándula Salival (c/u) (Procedimiento)",null,0,0,null,null,null,null,null,null,null,null,null,null,null,null,null,null,null,null,null,null,null,null,null,null,null,null,null,null,null,null,null,null,null,null,8740,0]
["2704026","Infiltración de la Articulación Temporomandibular, por sesión",null,0,0,null,null,null,null,null,null,null,null,null,null,null,null,null,null,null,null,null,null,null,null,null,null,null,null,null,null,null,null,null,null,null,null,6560,0]
["2704027","Reducción de Luxación Discal de la Articulación Témporomandibular",null,0,0,null,null,null,null,null,null,null,null,null,null,null,null,null,null,null,null,null,null,null,null,null,null,null,null,null,null,null,null,null,null,null,null,4180,0]
["2704028","Tratamiento de Ronquido Primario y Saos (Dispositivos de Avance Mandibular)",null,0,0,null,null,null,null,null,null,null,null,null,null,null,null,null,null,null,null,null,null,null,null,null,null,null,null,null,null,null,null,null,null,null,null,45580,0]
["2704029","Reparación o reajuste de Dispositivo Interoclusal",null,0,0,null,null,null,null,null,null,null,null,null,null,null,null,null,null,null,null,null,null,null,null,null,null,null,null,null,null,null,null,null,null,null,null,5950,0]
["2704030","Artrocentesis temporomandibular unilateral",null,0,0,null,null,null,null,null,null,null,null,null,null,null,null,null,null,null,null,null,null,null,null,null,null,null,null,null,null,null,null,null,null,null,null,94130,0]
[null,"TOTAL ",null,{"$f":"SUM(D3051:D3080)","v":0},{"$f":"SUM(E3051:E3080)","v":0},0,0,0,null,null,null,null,null,null,null,null,null,null,null,null,null,null,null,null,null,null,null,{"$f":"SUM(AB3051:AB3080)","v":0},{"$f":"SUM(AC3051:AC3080)","v":0},0,0,0,0,0,0,0,0,null,{"$f":"SUM(AM3051:AM3080)","v":0}]
[null,"CIRUGÍAS ODONTOLÓGICAS"]
["2705001","Cirugía bucal","CMen",{"$f":"SUM(J3083:O3083)","v":0},null,null,null,null,{"$f":"+J3083+K3083","v":0},null,null,null,null,null,null,null,null,null,null,null,null,null,null,null,null,null,null,null,null,null,null,null,null,null,null,null,null,13950,{"$f":"AL3083*J3083","v":0}]
["2705002","Cirugía de enfermedad periodontal (por grupo)","CMen",{"$f":"SUM(J3084:O3084)","v":0},null,null,null,null,0,null,null,null,null,null,null,null,null,null,null,null,null,null,null,null,null,null,null,null,null,null,null,null,null,null,null,null,null,14910,0]
["2705003","Corticotomía","CMay",{"$f":"SUM(J3085:O3085)","v":0},null,null,null,null,0,null,null,null,null,null,null,{"$f":"SUM(Q3085:R3085)","v":0},null,null,{"$f":"SUM(T3085:U3085)","v":0},null,null,{"$f":"SUM(W3085:X3085)","v":0},null,null,{"$f":"SUM(Z3085:AA3085)","v":0},null,null,null,null,null,null,null,null,null,null,null,null,82660,0]
["2705004","Disyunción palatina quirúrgica","CMay",0,null,null,null,null,0,null,null,null,null,null,null,{"$f":"SUM(Q3086:R3086)","v":0},null,null,{"$f":"SUM(T3086:U3086)","v":0},null,null,{"$f":"SUM(W3086:X3086)","v":0},null,null,{"$f":"SUM(Z3086:AA3086)","v":0},null,null,null,null,null,null,null,null,null,null,null,null,154130,0]
["2705005","Extirpación de pseudoquistes, quistes y tumores","CMay",0,null,null,null,null,0,null,null,null,null,null,null,0,null,null,0,null,null,0,null,null,{"$f":"SUM(Z3087:AA3087)","v":0},null,null,null,null,null,null,null,null,null,null,null,null,115800,0]
["2705006","Glosectomías","CMay",0,null,null,null,null,0,null,null,null,null,null,null,{"$f":"SUM(Q3088:R3088)","v":0},null,null,{"$f":"SUM(T3088:U3088)","v":0},null,null,{"$f":"SUM(W3088:X3088)","v":0},null,null,{"$f":"SUM(Z3088:AA3088)","v":0},null,null,null,null,null,null,null,null,null,null,null,null,177240,0]
["2705007","Implante endodóntico intraóseo","CMen",0,null,null,null,null,0,null,null,null,null,null,null,null,null,null,null,null,null,null,null,null,null,null,null,null,null,null,null,null,null,null,null,null,null,47010,0]
["2705008","Implantes subperiósticos","CMay",0,null,null,null,null,0,null,null,null,null,null,null,{"$f":"SUM(Q3090:R3090)","v":0},null,null,{"$f":"SUM(T3090:U3090)","v":0},null,null,{"$f":"SUM(W3090:X3090)","v":0},null,null,{"$f":"SUM(Z3090:AA3090)","v":0},null,null,null,null,null,null,null,null,null,null,null,null,178210,0]
["2705009","Exodoncia de dientes retenidos","CMen",0,null,null,null,null,0,null,null,null,null,null,null,null,null,null,null,null,null,null,null,null,null,null,null,null,null,null,null,null,null,null,null,null,null,38160,0]
["2705010","Exodoncia de tercer molar con osteotomía ","CMen",0,null,null,null,null,0,null,null,null,null,null,null,null,null,null,null,null,null,null,null,null,null,null,null,null,null,null,null,null,null,null,null,null,null,38160,0]
["2705011","Injertos en boca","CMay",0,null,null,null,null,0,null,null,null,null,null,null,{"$f":"SUM(Q3093:R3093)","v":0},null,null,{"$f":"SUM(T3093:U3093)","v":0},null,null,{"$f":"SUM(W3093:X3093)","v":0},null,null,{"$f":"SUM(Z3093:AA3093)","v":0},null,null,null,null,null,null,null,null,null,null,null,null,154130,0]
["2705012","Elevación de piso del seno maxilar","CMay",0,null,null,null,null,0,null,null,null,null,null,null,{"$f":"SUM(Q3094:R3094)","v":0},null,null,{"$f":"SUM(T3094:U3094)","v":0},null,null,{"$f":"SUM(W3094:X3094)","v":0},null,null,{"$f":"SUM(Z3094:AA3094)","v":0},null,null,null,null,null,null,null,null,null,null,null,null,134210,0]
["2705013","Plastía de fístula salival","CMen",0,null,null,null,null,0,null,null,null,null,null,null,null,null,null,null,null,null,null,null,null,null,null,null,null,null,null,null,null,null,null,null,null,null,53210,0]
["2705014","Preparación quirúrgica de los maxilares con fines protésicos","CMen",0,null,null,null,null,0,null,null,null,null,null,null,null,null,null,null,null,null,null,null,null,null,null,null,null,null,null,null,null,null,null,null,null,null,35280,0]
["2705015","Profundización de vestíbulo o reconstrucción de rebordes, con o sin injerto","CMay",0,null,null,null,null,0,null,null,null,null,null,null,{"$f":"SUM(Q3097:R3097)","v":0},null,null,{"$f":"SUM(T3097:U3097)","v":0},null,null,{"$f":"SUM(W3097:X3097)","v":0},null,null,{"$f":"SUM(Z3097:AA3097)","v":0},null,null,null,null,null,null,null,null,null,null,null,null,169730,0]
["2705016","Reimplante y trasplante dentario","CMen",0,null,null,null,null,0,null,null,null,null,null,null,null,null,null,null,null,null,null,null,null,null,null,null,null,null,null,null,null,null,null,null,null,null,38160,0]
["2705017","Remoción de cuerpo extraño y secuestrectomía","CMen",0,null,null,null,null,0,null,null,null,null,null,null,null,null,null,null,null,null,null,null,null,null,null,null,null,null,null,null,null,null,null,null,null,null,38160,0]
["2705018","Sutura completa de herida mayor","CMen",0,null,null,null,null,0,null,null,null,null,null,null,null,null,null,null,null,null,null,null,null,null,null,null,null,null,null,null,null,null,null,null,null,null,72850,0]
["2705019","Sutura completa de herida menor","CMen",0,null,null,null,null,0,null,null,null,null,null,null,null,null,null,null,null,null,null,null,null,null,null,null,null,null,null,null,null,null,null,null,null,null,63330,0]
["2705020","Sutura simple de herida","CMen",0,null,null,null,null,0,null,null,null,null,null,null,null,null,null,null,null,null,null,null,null,null,null,null,null,null,null,null,null,null,null,null,null,null,38160,0]
["2705021","Tratamiento quirúrgico fracturas maxilar superior","CMay",0,null,null,null,null,0,null,null,null,null,null,null,{"$f":"SUM(Q3103:R3103)","v":0},null,null,{"$f":"SUM(T3103:U3103)","v":0},null,null,{"$f":"SUM(W3103:X3103)","v":0},null,null,{"$f":"SUM(Z3103:AA3103)","v":0},null,null,null,null,null,null,null,null,null,null,null,null,203020,0]
["2705022","Tratamiento quirúrgico de fracturas en maxilar inferior","CMay",0,null,null,null,null,0,null,null,null,null,null,null,0,null,null,0,null,null,0,null,null,0,null,null,null,null,null,null,null,null,null,null,null,null,203020,0]
["2705023","Tratamiento de traumatismo dento alveolar simple","CMen",{"$f":"SUM(F3105:H3105)","v":0},null,null,null,null,0,null,null,null,null,null,null,null,null,null,null,null,null,null,null,null,null,null,null,null,null,null,null,null,null,null,null,null,null,38160,{"$f":"AL3105*E3105","v":0}]
["2705024","Tratamiento de traumatismo dento alveolar complejo","CMen",{"$f":"SUM(F3106:H3106)","v":0},null,null,null,null,0,null,null,null,null,null,null,null,null,null,null,null,null,null,null,null,null,null,null,null,null,null,null,null,null,null,null,null,null,70170,{"$f":"AL3106*E3106","v":0}]
["2705025","Implante oseointegrado","CMay",{"$f":"SUM(J3107:O3107)","v":0},null,null,null,null,0,null,null,null,null,null,null,{"$f":"SUM(Q3107:R3107)","v":0},null,null,{"$f":"SUM(T3107:U3107)","v":0},null,null,{"$f":"SUM(W3107:X3107)","v":0},null,null,{"$f":"SUM(Z3107:AA3107)","v":0},null,null,null,null,null,null,null,null,null,null,null,null,79380,0]
["2705026","Pilar Protésico sobre Implantes","CMay",0,null,null,null,null,{"$f":"+J3108+K3108","v":0},null,null,null,null,null,null,0,null,null,0,null,null,0,null,null,0,null,null,null,null,null,null,null,null,null,null,null,null,36210,0]
[null,"TOTAL ARANCEL MAI",null,{"$f":"SUM(D3083:D3108)","v":0},{"$f":"SUM(E3083:E3108)","v":0},{"$f":"SUM(F3083:F3108)","v":0},0,0,0,0,0,0,0,0,0,0,0,0,0,0,0,0,0,0,0,0,0,0,0,0,0,0,0,0,0,0,0,null,0]
["01012553","Sutura intraoral ",null,{"$f":"SUM(J3110:O3110)","v":0},null,null,null,null,{"$f":"+J3110+K3110","v":0}]
["01012554","Tratamiento quirúrgico pseudoquiste y quiste odontológico ",null,{"$f":"SUM(J3111:O3111)","v":0},null,null,null,null,0]
["01012555","Tratamiento quirúrgico tumor odontológico ",null,0,null,null,null,null,0]
[5099022,"Frenectomia ",null,0,null,null,null,null,0]
[5099023,"Fenestracion",null,0,null,null,null,null,0]
[5099024,"Drenaje Abceso intra-extroral",null,0,null,null,null,null,0]
[5099025,"Cirugía preprotesica ",null,0,null,null,null,null,0]
[" 5099056 ","Desobturacion de conductos ",null,0,null,null,null,null,0]
["01012561","Cirugía ortognática",null,0,null,null,null,null,0]
[null,"TOTAL ARANCEL MLE Y NO ARANCELADO",null,{"$f":"SUM(D3110:D3118)","v":0},null,null,null,null,{"$f":"SUM(I3110:I3118)","v":0},{"$f":"SUM(J3110:J3118)","v":0},0,0,0,0,0,0,0,0,0,0,0,0,0,0,0,0,0,0,0,0,{"$f":"SUM(AE3110:AE3118)","v":0},0,0,0,0,0,0]
[null,"TOTAL PRODUCCION",null,{"$f":"SUM(D3109,D3119)","v":0},{"$f":"+E3109","v":0},{"$f":"SUM(F3109,F3119)","v":0},0,{"$f":"SUM(H3109,H3119)","v":0},0,{"$f":"SUM(J3109,J3119)","v":0},0,0,0,0,0,0,0,0,0,0,0,0,0,0,0,0,0,0,0,0,0,0,0,0,0,0,0,null,0]
[null,"OTRAS PRESTACIONES ODONTOLÓGICAS"]
[5099026,"Bloqueo Anestesico",null,{"$f":"SUM(E3122+H3122)","v":0},{"$f":"SUM(F3122:G3122)","v":0}]
[null,"Odontologia general",null,{"$f":"SUM(E3123+H3123)","v":0},{"$f":"SUM(F3123:G3123)","v":0},{"$f":"SUM(F3124:F3127)","v":0},{"$f":"SUM(G3124:G3127)","v":0},{"$f":"SUM(H3124:H3127)","v":0},null,null,null,null,null,null,null,null,null,null,null,null,null,null,null,null,null,null,null,{"$f":"SUM(AB3124:AB3127)","v":0},{"$f":"SUM(AC3124:AC3127)","v":0},0,0,0,0,0,0,0,{"$f":"SUM(AK3124:AK3127)","v":0}]
[5099028,"Actividad interseptiva de anomalias dentomaxilares OPI",null,{"$f":"SUM(E3124+H3124)","v":0},0]
[5099029,"Instalacion de aparato intercepcion de anomalias dentomaxilares",null,0,0]
[5099030,"Examen diagnostico OPI",null,0,0]
[5099031,"Alta mantencion ",null,0,0]
[null,"Odontopediatria",null,0,0,{"$f":"SUM(F3129:F3131)","v":0},{"$f":"SUM(G3129:G3131)","v":0},{"$f":"SUM(H3129:H3131)","v":0},null,null,null,null,null,null,null,null,null,null,null,null,null,null,null,null,null,null,null,{"$f":"SUM(AB3129:AB3131)","v":0},{"$f":"SUM(AC3129:AC3131)","v":0},0,0,0,0,0,0,0,0]
[5099032,"Corona metalica",null,0,{"$f":"SUM(F3129:G3129)","v":0}]
["01012592","Atención de niño discapacitado en sillón (acción de odontopediatría)",null,0,0]
["01012593","Atención de niño discapacitado en pabellón (acción de odontopediatría)",null,0,0]
[null,"Ortodoncia",null,{"$f":"SUM(E3132+H3132)","v":0},0,{"$f":"SUM(F3133:F3136)","v":0},{"$f":"SUM(G3133:G3136)","v":0},{"$f":"SUM(H3133:H3136)","v":0},null,null,null,null,null,null,null,null,null,null,null,null,null,null,null,null,null,null,null,{"$f":"SUM(AB3133:AB3136)","v":0},{"$f":"SUM(AC3133:AC3136)","v":0},0,0,0,0,0,0,0,0]
[5099033,"Instalacion aparato removible ",null,0,0]
[5099034,"Instalacion aparato ortopedia prequirurgica (fisura labiopalatina)",null,0,0]
[5099035,"Ortopedia prequirurgica actividad (fisura labiopalatina)",null,0,0]
["01012597","Instalación Aparato Fijo en Ortodoncia. (Brackets)",null,0,0]
[null,"Endodoncia",null,0,0,{"$f":"SUM(F3138:F3140)","v":0},{"$f":"SUM(G3138:G3140)","v":0},{"$f":"SUM(H3138:H3140)","v":0},null,null,null,null,null,null,null,null,null,null,null,null,null,null,null,null,null,null,null,{"$f":"SUM(AB3138:AB3140)","v":0},{"$f":"SUM(AC3138:AC3140)","v":0},0,0,0,0,0,0,0,0]
[5099036,"Tratamiento de induccion al cierre",null,0,0]
[5099037,"Desobturacion de conductos",null,0,0]
["01012600","Medicación intraconducto (acción de endodoncia)",null,0,0]
[null,"Periodoncia",null,0,0,{"$f":"SUM(F3142:F3143)","v":0},{"$f":"SUM(G3142:G3143)","v":0},{"$f":"SUM(H3142:H3143)","v":0},null,null,null,null,null,null,null,null,null,null,null,null,null,null,null,null,null,null,null,{"$f":"SUM(AB3142:AB3143)","v":0},{"$f":"SUM(AC3142:AC3143)","v":0},0,0,0,0,0,0,0,0]
[5099038,"Terapia articular especifica",null,0,0]
["01012602","Férula Periodoncia",null,0,0]
[null,"Radiologia",null,0,0,{"$f":"SUM(F3145:F3147)","v":0},{"$f":"SUM(G3145:G3147)","v":0},{"$f":"SUM(H3145:H3147)","v":0},null,null,null,null,null,null,null,null,null,null,null,null,null,null,null,null,null,null,null,{"$f":"SUM(AB3145:AB3147)","v":0},{"$f":"SUM(AC3145:AC3147)","v":0},0,0,0,0,0,0,0,0]
[5099041,"Telerradiografia perfil",null,0,0]
[5099042,"Telerradiografia frente",null,0,0]
[5099043,"Radiografia articulacion temporo mandibular",null,0,0]
[null,"Protesis",null,0,0,{"$f":"SUM(F3149:F3164)","v":0},{"$f":"SUM(G3149:G3164)","v":0},{"$f":"SUM(H3149:H3164)","v":0},null,null,null,null,null,null,null,null,null,null,null,null,null,null,null,null,null,null,null,{"$f":"SUM(AB3149:AB3164)","v":0},{"$f":"SUM(AC3149:AC3164)","v":0},0,0,0,0,0,0,0,0]
[5099057,"instalacion aparotologia fija",null,0,0]
[5099058,"instalacion protesis removible",null,0,0]
["01012608","Prótesis Removible Acrílica",null,0,0]
["01012609","Prótesis Removible Metálica",null,0,0]
["01012610","Instalación Aparato de Contención. ",null,0,0]
["01012611","Reparación de Prótesis. ",null,0,0]
["01012612","Prótesis Fija Provisoria (unitaria o Plural)",null,0,0]
["01012613","Tratamiento Traumatismo Dentoalveolar ",null,0,0]
["01012614","Instalación de Implante Endo-Oseo Oseointegrable. ",null,0,0]
["01012615","Tratamiento Temporo Mandibular ",null,0,0]
["01012616","Prevención odontológica niño discapacitado ",null,0,0]
["01012617","Tratamiento aparatología fija niños de 12 a 14 años año 1 ",null,0,0]
["01012618","Tratamiento aparatología fija niños de 12 a 14 años año 2 ",null,0,0]
["01012619","Obturaciones de vidrio Ionomero en diente temporal",null,0,0]
["01012620","Destartraje subgingival y Pulido radicular por Sextante",null,0,0]
["01012621","Desinfección Bucal Total",null,0,0]
[null,"Traumatologia Maxilofacial",null,0,0,{"$f":"SUM(F3166:F3167)","v":0},{"$f":"SUM(G3166:G3167)","v":0},{"$f":"SUM(H3166:H3167)","v":0},null,null,null,null,null,null,null,null,null,null,null,null,null,null,null,null,null,null,null,{"$f":"SUM(AB3166:AB3167)","v":0},{"$f":"SUM(AC3166:AC3167)","v":0},0,0,0,0,0,0,0,0]
[5099059,"Examen y diagnostico ttm eje I  ",null,0,0]
[5099060,"Examen y diagnostico ttm eje I y II montaje",null,0,0]
[null,"Trastornos Temporomandibular y dolor orofacial",null,0,0,{"$f":"SUM(F3169)","v":0},{"$f":"SUM(G3169)","v":0},{"$f":"SUM(H3169)","v":0},null,null,null,null,null,null,null,null,null,null,null,null,null,null,null,null,null,null,null,{"$f":"SUM(AB3169)","v":0},{"$f":"SUM(AC3169)","v":0},0,0,0,0,0,0,0,0]
[5099039,"Terapia cognitiva conductual y autocontrol TTM (trastornos temporomandibulares)",null,0,0]
[null,"TOTAL",null,{"$f":"SUM(D3122,D3124:D3127,D3129:D3131,D3133:D3136,   D3138:D3140, D3142:D3143, D3145:D3147, D3169,D3166:D3167,D3149:D3164)","v":0},{"$f":"SUM(E3122,E3124:E3127,E3129:E3131,E3133:E3136,   E3138:E3140, E3142:E3143, E3145:E3147, E3169,E3166:E3167,E3149:E3164)","v":0},{"$f":"SUM(F3122,F3124:F3127,F3129:F3131,F3133:F3136,   F3138:F3140, F3142:F3143, F3145:F3147, F3169,F3166:F3167,F3149:F3164)","v":0},{"$f":"SUM(G3122,G3124:G3127,G3129:G3131,G3133:G3136,   G3138:G3140, G3142:G3143, G3145:G3147, G3169,G3166:G3167,G3149:G3164)","v":0},{"$f":"SUM(H3122,H3124:H3127,H3129:H3131,H3133:H3136,   H3138:H3140, H3142:H3143, H3145:H3147, H3169,H3166:H3167,H3149:H3164)","v":0},null,null,null,null,null,null,null,null,null,null,null,null,null,null,null,null,null,null,null,{"$f":"SUM(AB3122,AB3124:AB3127,AB3129:AB3131,AB3133:AB3136,   AB3138:AB3140, AB3142:AB3143, AB3145:AB3147, AB3169,AB3166:AB3167,AB3149:AB3164)","v":0},{"$f":"SUM(AC3122,AC3124:AC3127,AC3129:AC3131,AC3133:AC3136,   AC3138:AC3140, AC3142:AC3143, AC3145:AC3147, AC3169,AC3166:AC3167,AC3149:AC3164)","v":0},0,0,0,0,0,{"$f":"SUM(AI3122,AI3124:AI3127,AI3129:AI3131,AI3133:AI3136,   AI3138:AI3140, AI3142:AI3143, AI3145:AI3147, AI3169,AI3166:AI3167,AI3149:AI3164)","v":0},{"$f":"SUM(AJ3122,AJ3124:AJ3127,AJ3129:AJ3131,AJ3133:AJ3136,   AJ3138:AJ3140, AJ3142:AJ3143, AJ3145:AJ3147, AJ3169,AJ3166:AJ3167,AJ3149:AJ3164)","v":0},{"$f":"SUM(AK3122,AK3124:AK3127,AK3129:AK3131,AK3133:AK3136,   AK3138:AK3140, AK3142:AK3143, AK3145:AK3147, AK3169,AK3166:AK3167,AK3149:AK3164)","v":0}]
[]
[null,"TRATAMIENTOS INTEGRALES DE BRAQUITERAPIA, RADIOTERAPIA Y QUIMIOTERAPIA"]
["2901001","Tratamiento integral de braquiterapia endocavitaria o intersticial (por sesión)",null,{"$f":"SUM(E3173+H3173)","v":0},{"$f":"SUM(F3173:G3173)","v":0},null,null,null,null,null,null,null,null,null,null,null,null,null,null,null,null,null,null,null,null,null,null,null,null,null,null,null,null,null,null,null,null,1099900,{"$f":"AL3173*F3173","v":0}]
["2901002","Tratamiento integral de braquiterapia de implante permanente, no incluye implante (por sesión)",null,0,0,null,null,null,null,null,null,null,null,null,null,null,null,null,null,null,null,null,null,null,null,null,null,null,null,null,null,null,null,null,null,null,null,1843720,0]
["2901003","Tratamiento Integral braquiterapia alta o mediana dosis, HDR (por sesión)",null,0,0,null,null,null,null,null,null,null,null,null,null,null,null,null,null,null,null,null,null,null,null,null,null,null,null,null,null,null,null,null,null,null,null,1023620,0]
["2902001","Tratamiento integral de radioterapia altamente compleja con Linac ",null,0,0,null,null,null,null,null,null,null,null,null,null,null,null,null,null,null,null,null,null,null,null,null,null,null,null,null,null,null,null,null,null,null,null,4223740,0]
["2902002","Tratamiento integral de radioterapia compleja con Linac ",null,0,0,null,null,null,null,null,null,null,null,null,null,null,null,null,null,null,null,null,null,null,null,null,null,null,null,null,null,null,null,null,null,null,null,3602330,0]
["2902003","Tratamiento integral de radioterapia estándar con Linac ",null,0,0,null,null,null,null,null,null,null,null,null,null,null,null,null,null,null,null,null,null,null,null,null,null,null,null,null,null,null,null,null,null,null,null,2973880,0]
["2902004","Tratamiento integral de radioterapia convencional con Linac ",null,0,0,null,null,null,null,null,null,null,null,null,null,null,null,null,null,null,null,null,null,null,null,null,null,null,null,null,null,null,null,null,null,null,null,2531980,0]
["2902009","Tratamiento integral de radioterapia altamente compleja con cobalto",null,0,0,null,null,null,null,null,null,null,null,null,null,null,null,null,null,null,null,null,null,null,null,null,null,null,null,null,null,null,null,null,null,null,null,2736930,0]
["2902010","Tratamiento integral de radioterapia compleja con cobalto",null,0,0,null,null,null,null,null,null,null,null,null,null,null,null,null,null,null,null,null,null,null,null,null,null,null,null,null,null,null,null,null,null,null,null,2339030,0]
["2902011","Tratamiento integral de radioterapia estándar con cobalto",null,0,0,null,null,null,null,null,null,null,null,null,null,null,null,null,null,null,null,null,null,null,null,null,null,null,null,null,null,null,null,null,null,null,null,1941120,0]
["2902012","Tratamiento integral de radioterapia convencional con cobalto ",null,0,0,null,null,null,null,null,null,null,null,null,null,null,null,null,null,null,null,null,null,null,null,null,null,null,null,null,null,null,null,null,null,null,null,1670560,0]
["2903001","Radiocirugía",null,0,0,null,null,null,null,null,null,null,null,null,null,null,null,null,null,null,null,null,null,null,null,null,null,null,null,null,null,null,null,null,null,null,null,4223740,0]
["2904001","Quimioterapia alto riesgo 1 (por ciclo)",null,0,0,null,null,null,null,null,null,null,null,null,null,null,null,null,null,null,null,null,null,null,null,null,null,null,null,null,null,null,null,null,null,null,null,1643860,0]
["2904002","Quimioterapia alto riesgo 2 (por ciclo)",null,0,0,null,null,null,null,null,null,null,null,null,null,null,null,null,null,null,null,null,null,null,null,null,null,null,null,null,null,null,null,null,null,null,null,428940,0]
["2904003","Quimioterapia bajo riesgo 1 (por ciclo)",null,0,0,null,null,null,null,null,null,null,null,null,null,null,null,null,null,null,null,null,null,null,null,null,null,null,null,null,null,null,null,null,null,null,null,2318620,0]
["2904004","Quimioterapia bajo riesgo 2 (por ciclo)",null,0,0,null,null,null,null,null,null,null,null,null,null,null,null,null,null,null,null,null,null,null,null,null,null,null,null,null,null,null,null,null,null,null,null,666460,0]
["2904005","Quimioterapia bajo riesgo 3 (por ciclo)",null,0,0,null,null,null,null,null,null,null,null,null,null,null,null,null,null,null,null,null,null,null,null,null,null,null,null,null,null,null,null,null,null,null,null,88030,0]
["2904006","Quimioterapia bajo riesgo 4 (por ciclo)",null,0,0,null,null,null,null,null,null,null,null,null,null,null,null,null,null,null,null,null,null,null,null,null,null,null,null,null,null,null,null,null,null,null,null,22620,0]
["2904007","Quimioterapia riesgo intermedio 1 (por ciclo)",null,0,0,null,null,null,null,null,null,null,null,null,null,null,null,null,null,null,null,null,null,null,null,null,null,null,null,null,null,null,null,null,null,null,null,3292980,0]
["2904008","Quimioterapia riesgo intermedio 2 (por ciclo)",null,0,0,null,null,null,null,null,null,null,null,null,null,null,null,null,null,null,null,null,null,null,null,null,null,null,null,null,null,null,null,null,null,null,null,989040,0]
["2904009","Quimioterapia riesgo intermedio 3 (por ciclo)",null,0,0,null,null,null,null,null,null,null,null,null,null,null,null,null,null,null,null,null,null,null,null,null,null,null,null,null,null,null,null,null,null,null,null,206700,0]
["2904010","Quimioterapia riesgo intermedio 4 (por ciclo)",null,0,0,null,null,null,null,null,null,null,null,null,null,null,null,null,null,null,null,null,null,null,null,null,null,null,null,null,null,null,null,null,null,null,null,72410,0]
["2904011","Quimioterapia radioterapia 1 (por ciclo)",null,0,0,null,null,null,null,null,null,null,null,null,null,null,null,null,null,null,null,null,null,null,null,null,null,null,null,null,null,null,null,null,null,null,null,247100,0]
["2904012","Quimioterapia radioterapia 2 (por ciclo)",null,0,0,null,null,null,null,null,null,null,null,null,null,null,null,null,null,null,null,null,null,null,null,null,null,null,null,null,null,null,null,null,null,null,null,70320,0]
["2904013","Tratamiento terapia endocrina 1 (por ciclo)",null,0,0,null,null,null,null,null,null,null,null,null,null,null,null,null,null,null,null,null,null,null,null,null,null,null,null,null,null,null,null,null,null,null,null,1467760,0]
["2904014","Tratamiento terapia endocrina 2 (por ciclo)",null,0,0,null,null,null,null,null,null,null,null,null,null,null,null,null,null,null,null,null,null,null,null,null,null,null,null,null,null,null,null,null,null,null,null,139680,0]
["2904015","Tratamiento inhibidores tirosin kinasa 1 (valor trimestral)",null,0,0,null,null,null,null,null,null,null,null,null,null,null,null,null,null,null,null,null,null,null,null,null,null,null,null,null,null,null,null,null,null,null,null,9958970,0]
["2904016","Tratamiento inhibidores tirosin kinasa 2 (valor trimestral)",null,0,0,null,null,null,null,null,null,null,null,null,null,null,null,null,null,null,null,null,null,null,null,null,null,null,null,null,null,null,null,null,null,null,null,6206000,0]
["2904017","Tratamiento inhibidores tirosin kinasa 3 (valor trimestral)",null,0,0,null,null,null,null,null,null,null,null,null,null,null,null,null,null,null,null,null,null,null,null,null,null,null,null,null,null,null,null,null,null,null,null,2345210,0]
["2904018","Tratamiento inhibidores tirosin kinasa 4 (valor trimestral)",null,0,0,null,null,null,null,null,null,null,null,null,null,null,null,null,null,null,null,null,null,null,null,null,null,null,null,null,null,null,null,null,null,null,null,1063880,0]
[null,"TOTAL",null,{"$f":"SUM(D3173:D3202)","v":0},{"$f":"SUM(E3173:E3202)","v":0},0,0,0,null,null,null,null,null,null,null,null,null,null,null,null,null,null,null,null,null,null,null,{"$f":"SUM(AB3173:AB3202)","v":0},{"$f":"SUM(AC3173:AC3202)","v":0},{"$f":"SUM(AD3173:AD3202)","v":0},{"$f":"SUM(AE3173:AE3202)","v":0},{"$f":"SUM(AF3173:AF3202)","v":0},{"$f":"SUM(AG3173:AG3202)","v":0},{"$f":"SUM(AH3173:AH3202)","v":0},{"$f":"SUM(AI3173:AI3202)","v":0},{"$f":"SUM(AJ3173:AJ3202)","v":0},{"$f":"SUM(AK3173:AK3202)","v":0},null,{"$f":"SUM(AM3173:AM3202)","v":0}]
[null,"LENTES,AUDIFONOS"]
[null,"LENTES Y AUDIFONOS                                          "]
["3001001","Lentes ópticos",null,0,0,null,null,null,null,null,null,null,null,null,null,null,null,null,null,null,null,null,null,null,null,null,null,null,null,null,null,null,null,null,null,null,null,24610,{"$f":"AL3206*F3206","v":0}]
["3001002","Audífonos",null,0,0,null,null,null,null,null,null,null,null,null,null,null,null,null,null,null,null,null,null,null,null,null,null,null,null,null,null,null,null,null,null,null,null,308500,{"$f":"AL3207*F3207","v":0}]
[null,"TOTAL",null,{"$f":"SUM(D3206:D3207)","v":0},{"$f":"SUM(E3206:E3207)","v":0},{"$f":"SUM(F3206:F3207)","v":0},{"$f":"SUM(G3206:G3207)","v":0},{"$f":"SUM(H3206:H3207)","v":0},null,null,null,null,null,null,null,null,null,null,null,null,null,null,null,null,null,null,null,{"$f":"SUM(AB3206:AB3207)","v":0},0,0,0,0,0,0,0,0,0,null,0]
[null,"PROGRAMA CÁNCER"]
["01012665","Test Inmunoquímico de Deposiciones",null,{"$f":"SUM(E3210+H3210)","v":0},{"$f":"SUM(F3210:G3210)","v":0}]
["01012666","Yodoterapia",null,0,0]
["01012668","Braquiterapia baja tasa en dosis (LDR)",null,0,0]
["01012669","Teleterapia de alta complejidad con acelerador lineal (3D)",null,0,0]
["01012670","Teleterapia estándar (3D) con acelerador lineal ",null,0,0]
["01012671","Telecobaltoterapia con acelerador lineal",null,0,0]
[null,"TOTAL",null,{"$f":"SUM(D3210:D3215)","v":0},{"$f":"SUM(E3210:E3215)","v":0},{"$f":"SUM(F3210:F3215)","v":0},{"$f":"SUM(G3210:G3215)","v":0},{"$f":"SUM(H3210:H3215)","v":0},null,null,null,null,null,null,null,null,null,null,null,null,null,null,null,null,null,null,null,{"$f":"SUM(AB3210:AB3215)","v":0},0,0,0,0,0,0,0,0,0]
[null,"TRATAMIENTO ABREVIADO DE LA TUBERCULOSIS     "]
["3003001","TBC, esquema primario (mensual)",null,0,0,null,null,null,null,null,null,null,null,null,null,null,null,null,null,null,null,null,null,null,null,null,null,null,null,null,null,null,null,null,null,null,null,8790,{"$f":"AL3218*F3218","v":0}]
["3003002","TBC, esquema primario simplificado (mensual)",null,0,0,null,null,null,null,null,null,null,null,null,null,null,null,null,null,null,null,null,null,null,null,null,null,null,null,null,null,null,null,null,null,null,null,4680,{"$f":"AL3219*F3219","v":0}]
["3003003","TBC, esquema secundario (mensual)",null,0,0,null,null,null,null,null,null,null,null,null,null,null,null,null,null,null,null,null,null,null,null,null,null,null,null,null,null,null,null,null,null,null,null,17620,{"$f":"AL3220*F3220","v":0}]
["3003004","TBC, esquema normado de retratamiento (mensual)",null,0,0,null,null,null,null,null,null,null,null,null,null,null,null,null,null,null,null,null,null,null,null,null,null,null,null,null,null,null,null,null,null,null,null,180730,{"$f":"AL3221*F3221","v":0}]
["3003005","TBC, esquema especial de retratamiento (mensual)",null,0,0,null,null,null,null,null,null,null,null,null,null,null,null,null,null,null,null,null,null,null,null,null,null,null,null,null,null,null,null,null,null,null,null,992600,{"$f":"AL3222*F3222","v":0}]
[null,"TOTAL",null,{"$f":"SUM(D3218:D3222)","v":0},{"$f":"SUM(E3218:E3222)","v":0},{"$f":"SUM(F3218:F3222)","v":0},{"$f":"SUM(G3218:G3222)","v":0},{"$f":"SUM(H3218:H3222)","v":0},null,null,null,null,null,null,null,null,null,null,null,null,null,null,null,null,null,null,null,{"$f":"SUM(AB3218:AB3222)","v":0},0,0,0,0,0,0,0,0,0,null,0]

{"sheet":"B17","index":2,"n_rows":288,"n_cols":28,"rows_kept":288,"cut":false,"hidden":false,"merged":[[170,0,170,1],[207,1,209,1],[202,0,203,1],[236,0,237,0],[207,0,209,0],[201,0,201,1],[227,0,227,1],[228,0,228,1],[196,0,196,1],[226,0,226,1],[232,0,232,1],[233,0,233,1],[192,0,192,1],[205,0,205,1],[225,0,225,1],[204,0,204,1],[224,0,224,1],[206,0,206,1],[147,13,149,13],[147,14,147,15],[147,2,149,2],[147,3,147,6],[150,0,150,1],[151,0,151,1],[152,0,152,1],[238,0,238,1],[198,0,199,0],[197,0,197,1],[229,0,229,1],[207,15,209,15],[208,2,209,2],[208,3,208,4],[208,5,209,5],[194,3,195,3],[194,5,195,5],[160,10,161,10],[207,12,209,12],[207,13,207,14],[160,3,161,3],[202,3,203,3],[208,6,209,6],[160,7,161,7],[118,17,120,17],[119,10,120,10],[119,11,120,11],[119,14,120,14],[119,15,120,15],[118,13,120,13],[118,14,118,15],[118,10,118,12],[119,12,120,12],[202,2,203,2],[284,0,284,1],[285,0,285,1],[272,0,272,1],[281,0,281,1],[282,0,282,1],[283,0,283,1],[253,0,253,1],[254,0,254,1],[255,0,255,1],[258,0,258,1],[259,0,259,1],[262,0,262,1],[263,0,263,1],[274,0,274,1],[275,0,275,1],[276,0,276,1],[277,0,277,1],[278,0,278,1],[279,0,279,1],[240,0,240,1],[241,0,243,0],[271,0,271,1],[245,0,246,1],[208,10,209,10],[208,11,209,11],[208,13,209,13],[207,6,207,8],[207,9,207,11],[207,2,207,5],[208,14,209,14],[208,8,209,8],[208,9,209,9],[208,7,209,7],[147,16,149,16],[160,9,161,9],[147,7,147,9],[147,10,147,12],[172,17,174,17],[160,14,161,14],[172,14,174,14],[172,15,173,16],[160,12,161,12],[172,11,173,13],[159,10,159,12],[160,11,161,11],[159,7,159,9],[172,4,172,9],[159,17,161,17],[173,7,173,9],[172,10,174,10],[159,16,161,16],[160,15,161,15],[159,13,161,13],[159,14,159,15],[160,6,161,6],[160,8,161,8],[173,4,173,6],[7,0,7,2],[85,0,85,1],[118,0,120,1],[118,3,118,6],[95,0,95,1],[118,2,120,2],[119,4,119,5],[119,3,120,3],[56,0,56,1],[119,6,120,6],[100,0,100,1],[121,0,121,1],[134,0,134,1],[145,0,145,1],[127,0,130,0],[138,0,141,0],[194,4,195,4],[193,0,193,5],[194,2,195,2],[172,3,174,3],[160,4,160,5],[159,2,161,2],[154,0,154,1],[155,0,155,1],[156,0,156,1],[144,0,144,1],[153,0,153,1],[157,0,157,1],[159,0,161,1],[147,0,149,1],[159,3,159,6],[194,0,195,1],[172,0,174,1],[171,0,171,1],[172,2,174,2],[118,18,120,18],[172,18,174,18],[172,19,174,19],[172,20,174,20],[172,21,174,21],[245,6,245,8],[147,17,149,17],[148,3,149,3],[148,4,148,5],[148,6,149,6],[148,7,149,7],[148,8,149,8],[148,9,149,9],[148,10,149,10],[148,11,149,11],[148,12,149,12],[148,14,149,14],[148,15,149,15],[245,4,245,5],[118,16,120,16],[119,7,120,7],[119,8,120,8],[119,9,120,9],[118,7,118,9],[245,2,246,2],[245,3,246,3],[270,0,270,1],[250,0,250,1],[251,0,251,1],[256,0,256,1],[257,0,257,1],[247,0,247,1],[248,0,248,1],[249,0,249,1],[268,0,268,1],[261,0,261,1],[265,0,265,1],[266,0,266,1],[267,0,267,1],[269,0,269,1]]}
["SERVICIO DE SALUD / ESTABLECIMIENTO MUNICIPAL"]
[{"$f":"CONCATENATE(\"COMUNA: \",NOMBRE!B2,\" - \",\"( \",NOMBRE!C2,NOMBRE!D2,NOMBRE!E2,NOMBRE!F2,NOMBRE!G2,\" )\")","v":"COMUNA:  - (  )"}]
[{"$f":"CONCATENATE(\"ESTABLECIMIENTO/ESTRATEGIA: \",NOMBRE!B3,\" - \",\"( \",NOMBRE!C3,NOMBRE!D3,NOMBRE!E3,NOMBRE!F3,NOMBRE!G3,NOMBRE!H3,\" )\")","v":"ESTABLECIMIENTO/ESTRATEGIA:  - (  )"}]
[{"$f":"CONCATENATE(\"MES: \",NOMBRE!B6,\" - \",\"( \",NOMBRE!C6,NOMBRE!D6,\" )\")","v":"MES:  - (  )"}]
[{"$f":"CONCATENATE(\"AÑO: \",NOMBRE!B7)","v":"AÑO: 2023"}]
[null,null,null,"REM-B17.   ACTIVIDADES DE APOYO DIAGNOSTICO y TERAPEUTICO"]
[]
["SECCION A: ATENCIONES ABIERTAS ",null,null,"E","AL"]
["CODIGOS","IDENTIFICACION DE PRESTACIONES","TOTAL PRODUCCIÓN","TOTAL BENEFICIARIOS MAI","PAGO POR PRESTACIONES ($)"]
[null,"CONSULTAS Y ATENCION MEDICA ",{"$f":"SUM(C11:C17)","v":0},{"$f":"SUM(D11:D17)","v":0},{"$f":"SUM(AL11:AL17)","v":0}]
[null,"Consulta Médica general",{"$f":"+B!D$6","v":0},{"$f":"+B!F6","v":0},{"$f":"+B!AM6","v":0}]
[null,"Consulta Médica de Especialidades",{"$f":"SUM(B!D$9:D$56)","v":0},{"$f":"SUM(B!F$9:F$56)","v":0},{"$f":"SUM(B!AM$9:AM$56)","v":0}]
[null,"Consulta en Unidades de Urgencia Hospitalaria",{"$f":"+B!D$8","v":0},{"$f":"+B!F$8","v":0},{"$f":"+B!AM$8","v":0}]
[null,"Atención médica del recién nacido en sala de parto o pabellón quirúrgico c/s reanimación cardio-respiratoria",{"$f":"+B!D$7","v":0},{"$f":"+B!F$7","v":0},{"$f":"+B!AM$7","v":0}]
[null,"Telemedicina/ Teleconsulta por profesional médico",{"$f":"B!D$157","v":0},{"$f":"B!F$157","v":0},{"$f":"B!AM$157","v":0}]
[null,"Teleinterconsulta (Telemedicina)",{"$f":"+B!D$164","v":0},{"$f":"+B!F$164","v":0},{"$f":"+B!AM$164","v":0}]
["0903006","Consultoría de salud mental por psiquiatra (sesión 4 hrs.) (mínimo 8 pacientes)",{"$f":"B!D$1245","v":0},{"$f":"B!F$1245","v":0},{"$f":"B!AM$1245","v":0}]
[null,"CONSULTAS POR OTROS PROFESIONALES DE LA SALUD",{"$f":"SUM(C19:C32)","v":0},{"$f":"SUM(D19:D32)","v":0},{"$f":"SUM(AL19:AL32)","v":0}]
["0102008","Consulta o control por enfermera/o",{"$f":"+B!D$62","v":0},{"$f":"+B!F$62","v":0},{"$f":"+B!AM$62","v":0}]
["0102002","Control de salud niño con EDP por enfermera/o",{"$f":"+B!D$59","v":0},{"$f":"+B!F$59","v":0},{"$f":"+B!AM$59","v":0}]
["0102003","Consulta o control por auxiliar de enfermería",{"$f":"+B!D$60","v":0},{"$f":"+B!F$60","v":0},{"$f":"+B!AM$60","v":0}]
["0102005","Consulta por fonoaudiólogo/a",{"$f":"+B!D$61","v":0},{"$f":"+B!F$61","v":0},{"$f":"+B!AM$61","v":0}]
["0102009","Consulta o control por matron/a",{"$f":"+B!D$63","v":0},{"$f":"+B!F$63","v":0},{"$f":"+B!AM$63","v":0}]
["0102010","Consulta o control por nutricionista",{"$f":"+B!D$64","v":0},{"$f":"+B!F$64","v":0},{"$f":"+B!AM$64","v":0}]
["0903002","Consulta o control psicológico clínico",{"$f":"+B!D$1241","v":0},{"$f":"+B!F$1241","v":0},{"$f":"+B!AM$1241","v":0}]
["0903003","Consulta de salud mental por otros profesionales",{"$f":"+B!D$1242","v":0},{"$f":"+B!F$1242","v":0},{"$f":"+B!AM$1242","v":0}]
["0903004","Intervención psicosocial grupal (4 a 8 pacientes, familiares o cuidadores)",{"$f":"+B!D$1243","v":0},{"$f":"+B!F$1243","v":0},{"$f":"+B!AM$1243","v":0}]
["0903005","Psicoterapia de grupo (por psicólogo o psiquiatra) (4 a 8 pacientes)",{"$f":"+B!D$1243","v":0},{"$f":"+B!F$1243","v":0},{"$f":"+B!AM$1243","v":0}]
[null,"Telemedicina/ Teleconsulta por profesional no médico",{"$f":"+B!D$159","v":0},{"$f":"+B!F$159","v":0},{"$f":"+B!AM$159","v":0}]
[null,"OTRAS CONSULTAS Y ATENCION MEDICA",{"$f":"SUM(C31:C32)","v":0}]
[null,"Consulta por otros profesionales ",{"$f":"+B!D$66","v":0}]
[null,"Consulta por Trabajador(a) Social",{"$f":"+B!D$67","v":0}]
[null,"PROGRAMAS DE REHABILITACION",{"$f":"SUM(C34:C35)","v":0},{"$f":"SUM(D34:D35)","v":0},{"$f":"SUM(E34:E35)","v":0}]
["0903007","Programa de rehabilitación tipo 1 (mensual, grupo 6 a 10 pers.)",{"$f":"+B!D$1246","v":0},{"$f":"B!$F$1246","v":0},{"$f":"B!$AM$1246","v":0}]
["0903008","Programa de rehabilitación tipo 2 (mensual, grupo 5 a 7 pers.)",{"$f":"+B!D$1247","v":0},{"$f":"B!$F$1247","v":0},{"$f":"B!$AM$1247","v":0}]
[null,"OTROS PROGRAMAS",{"$f":"C$37","v":0}]
["0901003","Sesión de terapia electroconvulsivante (hasta 6 sesiones por ciclo o sesiones de mantención) c/ sesión",{"$f":"+B!D$1255","v":0}]
[null,"EDUCACION DE GRUPO",{"$f":"SUM(C39:C44)","v":0},{"$f":"SUM(D39:D44)","v":0},{"$f":"SUM(E39:E44)","v":0}]
["0103001","Educación de grupo por médico",{"$f":"B!D$71","v":0},{"$f":"B!$F$71","v":0},{"$f":"B!$AM$71","v":0}]
["0103005","Educación de grupo por enfermera",{"$f":"+B!D$74","v":0},{"$f":"B!$F$72","v":0},{"$f":"B!$AM$72","v":0}]
["0103003","Educación de grupo por Trabajador/a Social",{"$f":"+B!D$72","v":0},{"$f":"B!$F$73","v":0},{"$f":"B!$AM$73","v":0}]
["0103004","Educación de grupo por auxiliar de enfermería",{"$f":"+B!D$73","v":0},{"$f":"B!$F$74","v":0},{"$f":"B!$AM$74","v":0}]
["0103006","Educación de grupo por matrona ",{"$f":"+B!D$75","v":0},{"$f":"B!$F$75","v":0},{"$f":"B!$AM$75","v":0}]
["0103007","Educación de grupo por nutricionista",{"$f":"+B!D$76","v":0},{"$f":"B!$F$76","v":0},{"$f":"B!$AM$76","v":0}]
[null,"OTRA EDUCADION DE GRUPO",{"$f":"C46","v":0}]
[null,"Educación de grupo por otro integrante del equipo de salud",{"$f":"+B!D$78","v":0}]
[null,"VISITAS DOMICILIARIAS",{"$f":"SUM(C48:C52)","v":0},{"$f":"SUM(D48:D52)","v":0},{"$f":"SUM(E48:E52)","v":0}]
["0104004","Visita a domicilio por enfermera",{"$f":"+B!D84","v":0},{"$f":"B!$F$84","v":0},{"$f":"B!$AM$84","v":0}]
["0104002","Visita a domicilio por asistente social",{"$f":"+B!D82","v":0},{"$f":"B!$F$82","v":0},{"$f":"B!$AM$82","v":0}]
["0104003","Visita a domicilio por auxiliar de enfermería",{"$f":"+B!D83","v":0},{"$f":"B!$F$83","v":0},{"$f":"B!$AM$83","v":0}]
["0104005","Visita a domicilio por matrona",{"$f":"+B!D85","v":0},{"$f":"B!$F$85","v":0},{"$f":"B!$AM$85","v":0}]
["0104006","Visita a domicilio por nutricionista",{"$f":"+B!D86","v":0},{"$f":"B!$F$86","v":0},{"$f":"B!$AM$86","v":0}]
[null,"OTRAS VISITAS DOMICILIARIAS",{"$f":"SUM(C54:C55)","v":0}]
[null,"Visita a domicilio por otro integrante del equipo de salud",{"$f":" B!$D$88","v":0}]
[null,"Visita domiciaria por profesional y técnico paramédico",{"$f":"B!$D$89","v":0}]
[null,"TOTAL ",{"$f":"C10+C18+C33+C38+C47+C30+C36+C45+C53","v":0},{"$f":"D10+D18+D33+D38+D47","v":0},{"$f":"E10+E18+E33+E38+E47","v":0}]
["SECCION B: ATENCION CERRADA, DIAS DE HOSPITALIZACION "]
["CODIGOS","IDENTIFICACION DE PRESTACIONES","TOTAL PRODUCCIÓN","TOTAL BENEFICIARIOS MAI","PAGO POR PRESTACIONES ($)"]
[null,"ATENCION CERRADA "]
["0201010","Dia Cama de Hospitalización Integral Cuidados Básicos",{"$f":"B!D$205","v":0},{"$f":"B!F205","v":0},{"$f":"B!$AM$205","v":0}]
["0201110","Dia Cama de Hospitalización Integral Cuidados Medios",{"$f":"B!D$206","v":0},{"$f":"B!F206","v":0},{"$f":"B!$AM$206","v":0}]
["0201301","Día Cama de Hospitalización Integral Adulto en Unidad de Tratamiento Intermedio (U.T.I)",{"$f":"B!D$207","v":0},{"$f":"B!F207","v":0},{"$f":"B!$AM$207","v":0}]
["0201302","Día Cama de Hospitalización Integral Pediátrica en Unidad de Tratamiento Intermedio (U.T.I)",{"$f":"B!D$208","v":0},{"$f":"B!F208","v":0},{"$f":"B!$AM$208","v":0}]
["0201303","Día Cama de Hospitalización Integral Neonatal en Unidad de Tratamiento Intermedio (U.T.I)",{"$f":"B!D$209","v":0},{"$f":"B!F209","v":0},{"$f":"B!$AM$209","v":0}]
["0201201","Día Cama de Hospitalización Integral Adulto en Unidad de Cuidado Intensivo (U.C.I.) ",{"$f":"B!D$210","v":0},{"$f":"B!F210","v":0},{"$f":"B!$AM$210","v":0}]
["0201202","Día Cama de Hospitalización Integral Pediátrica en Unidad de Cuidado Intensivo (U.C.I). ",{"$f":"B!D$211","v":0},{"$f":"B!F211","v":0},{"$f":"B!$AM$211","v":0}]
["0201203","Día Cama de Hospitalización Integral Neonatal en Unidad de Cuidado Intensivo (U.C.I.)",{"$f":"B!D$212","v":0},{"$f":"B!F212","v":0},{"$f":"B!$AM$212","v":0}]
["0201410","Día Cama de Hospitalización Integral Obstetricia ",{"$f":"B!D$213","v":0},{"$f":"B!F213","v":0},{"$f":"B!$AM$213","v":0}]
["0201403","Día Cama de Hospitalización Integral Sala Cuna",{"$f":"B!D$214","v":0},{"$f":"B!F214","v":0},{"$f":"B!$AM$214","v":0}]
["0201404","Día Cama de Hospitalización Integral Incubadora",{"$f":"B!D$215","v":0},{"$f":"B!F215","v":0},{"$f":"B!$AM$215","v":0}]
["0201405","Día Cama de Hospitalización Integral Psiquiatría Cuidados Básicos",{"$f":"+B!D$216","v":0},{"$f":"+B!F$216","v":0},{"$f":"+B!AM$216","v":0}]
["0201406","Día Cama de Hospitalización Integral Psiquiatría Cuidados Medios",{"$f":"B!D$217","v":0},{"$f":"B!F217","v":0},{"$f":"B!$AM$217","v":0}]
["0201407","Día Cama de Hospitalizacion Integral de Observación - Ambulatorio",{"$f":"B!D$218","v":0},{"$f":"B!F218","v":0},{"$f":"B!$AM$218","v":0}]
["0201501","Dia Cama Hospitalizacion Domiciliaria Cuidados Básicos",{"$f":"B!D$219","v":0},{"$f":"B!F219","v":0},{"$f":"B!$AM$219","v":0}]
["0201502","Dia Cama Hospitalizacion Domiciliaria Cuidados Medios ",{"$f":"B!D$220","v":0},{"$f":"B!F220","v":0},{"$f":"B!$AM$220","v":0}]
["0201503","Dia Cama Hospitalizacion Domiciliaria Cuidados Alta Complejidad ",{"$f":"B!D$221","v":0},{"$f":"B!F221","v":0},{"$f":"B!$AM$221","v":0}]
[null,"TOTAL ",{"$f":"SUM(C60:C76)","v":0},{"$f":"SUM(D60:D76)","v":0},0]
["SECCIÓN C:TRATAMIENTO ABREVIADO DE LA TUBERCULOSIS"]
["CODIGOS","TRATAMIENTO ABREVIADO DE LA TUBERCULOSIS","TOTAL PRODUCCIÓN","TOTAL BENEFICIARIOS MAI","PAGO POR PRESTACIONES ($)"]
[3003001,"TBC, Esquema primario (mensual)",{"$f":"+B!D3218","v":0},{"$f":"+B!F$3218","v":0},{"$f":"+B!AM$3218","v":0}]
["3003002","TBC, Esquema primario simplificado (mensual)",{"$f":"+B!D3219","v":0},{"$f":"+B!F$3219","v":0},{"$f":"+B!AM$3219","v":0}]
["3003003","TBC, Esquema secundario (mensual)",{"$f":"+B!D3220","v":0},{"$f":"+B!F$3220","v":0},{"$f":"+B!AM$3220","v":0}]
["3003004","TBC, Esquema normado de retratamiento (mensual)",{"$f":"+B!D3221","v":0},{"$f":"+B!F$3221","v":0},{"$f":"+B!AM$3221","v":0}]
["3003005","TBC, Esquema especial de retratamiento (mensual)",{"$f":"+B!D3222","v":0},{"$f":"+B!F$3222","v":0},{"$f":"+B!AM$3222","v":0}]
[null,"TOTAL ",{"$f":"SUM(C80:C84)","v":0},{"$f":"SUM(D80:D84)","v":0},{"$f":"SUM(E80:E84)","v":0}]
["SECCIÓN D:TRASLADO, RESCATES Y RONDAS RURALES"]
["CODIGOS","TRASLADO, RESCATES Y RONDAS RURALES","TOTAL PRODUCCIÓN","TOTAL BENEFICIARIOS MAI","PAGO POR PRESTACIONES ($)"]
[2401061,"Rescate simple y/o traslado en móvil 1",{"$f":"+B!D2987","v":0},{"$f":"+B!F$2987","v":0},{"$f":"+B!AM$2987","v":0}]
["2401062","Rescate profesionalizado y/o traslado paciente complejo móvil 2",{"$f":"+B!D2988","v":0},{"$f":"+B!F$2988","v":0},{"$f":"+B!AM$2988","v":0}]
["2401063","Rescate medicalizado y/o traslado paciente critico en móvil 3",{"$f":"+B!D$2989","v":0},{"$f":"+B!F$2989","v":0},{"$f":"+B!AM$2989","v":0}]
["2401064","Traslado en ambulancia",{"$f":"+B!D$2990","v":0},{"$f":"+B!F$2990","v":0},{"$f":"+B!AM$2990","v":0}]
["2401065","Ronda rural terrestre, c/ km recorrido",{"$f":"+B!D$2991","v":0},{"$f":"+B!F$2991","v":0},{"$f":"+B!AM$2991","v":0}]
["2401066","Ronda rural aérea, c/ hora de vuelo",{"$f":"+B!D$2992","v":0},{"$f":"+B!F$2992","v":0},{"$f":"+B!AM$2992","v":0}]
["2401067","Ronda rural marítima, c/ hora de navegación",{"$f":"+B!D$2993","v":0},{"$f":"+B!F$2993","v":0},{"$f":"+B!AM$2993","v":0}]
[null,"TOTAL ",{"$f":"SUM(C88:C94)","v":0},{"$f":"SUM(D88:D94)","v":0},{"$f":"SUM(E88:E94)","v":0}]
["SECCION E: PARTOS"]
["CODIGOS","IDENTIFICACION DE PRESTACIONES","TOTAL PRODUCCIÓN","TOTAL BENEFICIARIOS MAI","PAGO POR PRESTACIONES ($)"]
[2004103,"Parto normal",{"$f":"+B!D2669","v":0},{"$f":"B!$F$2669","v":0},{"$f":"B!$AM$2669","v":0}]
["2004113","Parto distósico vaginal",{"$f":"+B!D2670","v":0},{"$f":"B!$F$2670","v":0},{"$f":"B!$AM$2670","v":0}]
[null,"TOTAL ",{"$f":"SUM(C98:C99)","v":0},{"$f":"SUM(D98:D99)","v":0},{"$f":"SUM(E98:E99)","v":0}]
["SECCION F: ATENCION ODONTOLOGICA"]
[null,"Prestaciones","TOTAL PRODUCCIÓN","TOTAL BENEFICIARIOS MAI","PAGO POR PRESTACIONES ($)"]
["2701XXX","Consulta y atención odontológica",{"$f":"B!$D$3012","v":0},{"$f":"B!$F$3012","v":0},{"$f":"B!$AM$3012","v":0}]
["2702XXX","Exámenes imagenológicos odontológico",{"$f":"+B!$D$3031","v":0},{"$f":"B!$F$3031","v":0},{"$f":"B!$AM$3031","v":0}]
["2703XXX","Odontología general: Actividades preventivas y recuperativas",{"$f":"B!$D$3049","v":0},{"$f":"B!$F$3049","v":0},{"$f":"B!$AM$3049","v":0}]
["2704XXX","Especialidades",{"$f":"B!$D$3081","v":0},{"$f":"B!$F$3081","v":0},{"$f":"B!$AM$3081","v":0}]
["2705XXX","Cirugías",{"$f":"B!D3109","v":0},{"$f":"B!J3109","v":0},{"$f":"B!AM3109","v":0}]
[null,"Otras prestaciones odontológicas",{"$f":"B!$D$3170","v":0}]
[null,"TOTAL",{"$f":"SUM(C103:C108)","v":0},{"$f":"SUM(D103:D107)","v":0},{"$f":"SUM(E103:E107)","v":0}]
["SECCION G: LENTES, AUDIFONOS"]
["CODIGOS","IDENTIFICACION DE PRESTACIONES","TOTAL PRODUCCIÓN ","TOTAL BENEFICIARIOS MAI","PAGO POR PRESTACIONES ($)"]
[3001001,"Lentes ópticos (incluye GES y NO GES)",{"$f":"+B!D$3206","v":0},{"$f":"+B!F$3206","v":0},{"$f":"+B!F$3206","v":0}]
["3001002","Audífonos (incluye GES y NO GES)",{"$f":"+B!D$3207","v":0},{"$f":"+B!F$3207","v":0},{"$f":"+B!F$3207","v":0}]
[null,"TOTAL",{"$f":"SUM(C112:C113)","v":0},{"$f":"SUM(D112:D113)","v":0},{"$f":"SUM(E112:E113)","v":0}]
["SECCIÓN H: MEDICINA TRANSFUSIONAL"]
["CODIGOS","IDENTIFICACION DE PRESTACIONES","TOTAL PRODUCCIÓN ","TOTAL BENEFICIARIOS MAI","PAGO POR PRESTACIONES ($)"]
["Grupo 07","Medicina Transfusional",{"$f":"+B!$D$1221","v":0},{"$f":"B!$F$1221","v":0},{"$f":"B!$AM$1221","v":0}]
["SECCION I: EXAMENES DE DIAGNOSTICO"]
["TIPO DE EXAMEN",null,"TOTAL","EXAMENES REALIZADOS",null,null,null,"PROCEDENCIA",null,null,"PRODUCCION INTRA HOSPITAL",null,null,"OPERATIVO","COMPRAS REALIZADAS",null,"VENTAS DE SERVICIOS","TOTAL DE PROCEDIMIENTOS INFORMADOS","PAGO POR PRESTACIONES ($)"]
[null,null,null,"TOTAL BENEFICIARIOS","BENEFICIARIOS",null,"NO BENEFICIARIOS","ATENCION CERRADA","ATENCION ABIERTA","EMERGENCIA","POR \nHONORARIOS","POR CONVENIOS","POR\nCONSULTORES\nDE LLAMADA",null,"AL SISTEMA ","EXTRA-SISTEMA"]
[null,null,null,null,"MAI","MLE"]
["TOTAL EXAMENES LABORATORIO",null,{"$f":"+C123+C124+C125+C126+C127+C128+C132+C133+C134","v":0},{"$f":"+D123+D124+D125+D126+D127+D128+D132+D133+D134","v":0},0,0,0,0,0,0,0,0,0,0,0,0,{"$f":"+Q123+Q124+Q125+Q126+Q127+Q128+Q132+Q133+Q134","v":0},0,{"$f":"SUM(S123:S127,S128,S132:S134)","v":0}]
["I  ","HEMATOLOGICOS",{"$f":"B!D304","v":0},{"$f":"B!E304","v":0},{"$f":"B!F304","v":0},{"$f":"B!G304","v":0},{"$f":"B!H304","v":0},{"$f":"B!AB304","v":0},{"$f":"B!AC304","v":0},{"$f":"B!AD304","v":0},{"$f":"B!AE304","v":0},{"$f":"B!AF304","v":0},{"$f":"B!AG304","v":0},{"$f":"B!AH304","v":0},{"$f":"B!AI304","v":0},{"$f":"B!AJ304","v":0},{"$f":"B!AK304","v":0},null,{"$f":"B!$AM$304","v":0}]
["II  ","BIOQUIMICOS",{"$f":"B!D385","v":0},{"$f":"B!E385","v":0},{"$f":"B!F385","v":0},{"$f":"B!G385","v":0},{"$f":"B!H385","v":0},{"$f":"B!AB385","v":0},{"$f":"B!AC385","v":0},{"$f":"B!AD385","v":0},{"$f":"B!AE385","v":0},{"$f":"B!AF385","v":0},{"$f":"B!AG385","v":0},{"$f":"B!AH385","v":0},{"$f":"B!AI385","v":0},{"$f":"B!AJ385","v":0},{"$f":"B!AK385","v":0},null,{"$f":"B!$AM$385","v":0}]
["III","HORMONALES",{"$f":"B!D435","v":0},{"$f":"B!E435","v":0},{"$f":"B!F435","v":0},{"$f":"B!G435","v":0},{"$f":"B!H435","v":0},{"$f":"B!AB435","v":0},{"$f":"B!AC435","v":0},{"$f":"B!AD435","v":0},{"$f":"B!AE435","v":0},{"$f":"B!AF435","v":0},{"$f":"B!AG435","v":0},{"$f":"B!AH435","v":0},{"$f":"B!AI435","v":0},{"$f":"B!AJ435","v":0},{"$f":"B!AK435","v":0},null,{"$f":"B!$AM$435","v":0}]
["IV","GENETICA",{"$f":"B!D450","v":0},{"$f":"B!E450","v":0},{"$f":"B!F450","v":0},{"$f":"B!G450","v":0},{"$f":"B!H450","v":0},{"$f":"B!AB450","v":0},{"$f":"B!AC450","v":0},{"$f":"B!AD450","v":0},{"$f":"B!AE450","v":0},{"$f":"B!AF450","v":0},{"$f":"B!AG450","v":0},{"$f":"B!AH450","v":0},{"$f":"B!AI450","v":0},{"$f":"B!AJ450","v":0},{"$f":"B!AK450","v":0},null,{"$f":"B!$AM$450","v":0}]
["V","INMUNOLOGICOS",{"$f":"B!D535","v":0},{"$f":"B!E535","v":0},{"$f":"B!F535","v":0},{"$f":"B!G535","v":0},{"$f":"B!H535","v":0},{"$f":"B!AB535","v":0},{"$f":"B!AC535","v":0},{"$f":"B!AD535","v":0},{"$f":"B!AE535","v":0},{"$f":"B!AF535","v":0},{"$f":"B!AG535","v":0},{"$f":"B!AH535","v":0},{"$f":"B!AI535","v":0},{"$f":"B!AJ535","v":0},{"$f":"B!AK535","v":0},null,{"$f":"B!$AM$535","v":0}]
["VI  ","MICROBIOLOGICOS",{"$f":"SUM(C129:C131)","v":0},{"$f":"SUM(D129:D131)","v":0},{"$f":"SUM(E129:E131)","v":0},0,0,0,0,0,0,0,0,0,0,0,{"$f":"SUM(Q129:Q131)","v":0},0,{"$f":"SUM(S129:S131)","v":0}]
[null,"a)   BACTERIAS Y HONGOS",{"$f":"B!D606","v":0},{"$f":"B!E606","v":0},{"$f":"B!F606","v":0},{"$f":"B!G606","v":0},{"$f":"B!H606","v":0},{"$f":"B!AB606","v":0},{"$f":"B!AC606","v":0},{"$f":"B!AD606","v":0},{"$f":"B!AE606","v":0},{"$f":"B!AF606","v":0},{"$f":"B!AG606","v":0},{"$f":"B!AH606","v":0},{"$f":"B!AI606","v":0},{"$f":"B!AJ606","v":0},{"$f":"B!AK606","v":0},null,{"$f":"B!$AM$606","v":0}]
[null,"b)   PARASITOS",{"$f":"B!D629","v":0},{"$f":"B!E629","v":0},{"$f":"B!F629","v":0},{"$f":"B!G629","v":0},{"$f":"B!H629","v":0},{"$f":"B!AB629","v":0},{"$f":"B!AC629","v":0},{"$f":"B!AD629","v":0},{"$f":"B!AE629","v":0},{"$f":"B!AF629","v":0},{"$f":"B!AG629","v":0},{"$f":"B!AH629","v":0},{"$f":"B!AI629","v":0},{"$f":"B!AJ629","v":0},{"$f":"B!AK629","v":0},null,{"$f":"B!$AM$629","v":0}]
[null,"c)   VIRUS",{"$f":"B!D681","v":0},{"$f":"B!E681","v":0},{"$f":"B!F681","v":0},{"$f":"B!G681","v":0},{"$f":"B!H681","v":0},{"$f":"B!AB681","v":0},{"$f":"B!AC681","v":0},{"$f":"B!AD681","v":0},{"$f":"B!AE681","v":0},{"$f":"B!AF681","v":0},{"$f":"B!AG681","v":0},{"$f":"B!AH681","v":0},{"$f":"B!AI681","v":0},{"$f":"B!AJ681","v":0},{"$f":"B!AK681","v":0},null,{"$f":"B!$AM$681","v":0}]
["VII","PROCEDIMIENTO O DETERMINACION DIRECTA C/PACIENTE",{"$f":"B!D691","v":0},{"$f":"B!E691","v":0},{"$f":"B!F691","v":0},{"$f":"B!G691","v":0},{"$f":"B!H691","v":0},{"$f":"B!AB691","v":0},{"$f":"B!AC691","v":0},{"$f":"B!AD691","v":0},{"$f":"B!AE691","v":0},{"$f":"B!AF691","v":0},{"$f":"B!AG691","v":0},{"$f":"B!AH691","v":0},{"$f":"B!AI691","v":0},{"$f":"B!AJ691","v":0},{"$f":"B!AK691","v":0},null,{"$f":"B!$AM$691","v":0}]
["VIII  ","EX.  DE DEPOSICIONES EXUDADOS. SECREC. Y OTROS LIQ.  ",{"$f":"B!D756","v":0},{"$f":"B!E756","v":0},{"$f":"B!F756","v":0},{"$f":"B!G756","v":0},{"$f":"B!H756","v":0},{"$f":"B!AB756","v":0},{"$f":"B!AC756","v":0},{"$f":"B!AD756","v":0},{"$f":"B!AE756","v":0},{"$f":"B!AF756","v":0},{"$f":"B!AG756","v":0},{"$f":"B!AH756","v":0},{"$f":"B!AI756","v":0},{"$f":"B!AJ756","v":0},{"$f":"B!AK756","v":0},null,{"$f":"B!$AM$756","v":0}]
["IX   ","ORINA",{"$f":"B!D799","v":0},{"$f":"B!E799","v":0},{"$f":"B!F799","v":0},{"$f":"B!G799","v":0},{"$f":"B!H799","v":0},{"$f":"B!AB799","v":0},{"$f":"B!AC799","v":0},{"$f":"B!AD799","v":0},{"$f":"B!AE799","v":0},{"$f":"B!AF799","v":0},{"$f":"B!AG799","v":0},{"$f":"B!AH799","v":0},{"$f":"B!AI799","v":0},{"$f":"B!AJ799","v":0},{"$f":"B!AK799","v":0},null,{"$f":"B!$AM$799","v":0}]
["TOTAL EXAMENES IMAGENOLOGIA",null,{"$f":"+C136+C137+C138+C139+C143+C144","v":0},0,0,0,0,0,0,0,0,0,0,0,0,0,{"$f":"+Q136+Q137+Q138+Q139+Q143+Q144","v":0},{"$f":"+R136+R137+R138","v":0},{"$f":"+S136+S137+S138+S139+S143","v":0}]
["I. a)","EX. RADIOLOGICOS SIMPLES",{"$f":"B!D859","v":0},{"$f":"B!E859","v":0},{"$f":"B!F859","v":0},{"$f":"B!G859","v":0},{"$f":"B!H859","v":0},{"$f":"B!AB859","v":0},{"$f":"B!AC859","v":0},{"$f":"B!AD859","v":0},{"$f":"B!AE859","v":0},{"$f":"B!AF859","v":0},{"$f":"B!AG859","v":0},{"$f":"B!AH859","v":0},{"$f":"B!AI859","v":0},{"$f":"B!AJ859","v":0},{"$f":"B!AK859","v":0},null,{"$f":"B!$AM$859","v":0}]
["I. b)","EX. RADIOLOGICOS COMPLEJOS",{"$f":"B!D882","v":0},{"$f":"B!E882","v":0},{"$f":"B!F882","v":0},{"$f":"B!G882","v":0},{"$f":"B!H882","v":0},{"$f":"B!AB882","v":0},{"$f":"B!AC882","v":0},{"$f":"B!AD882","v":0},{"$f":"B!AE882","v":0},{"$f":"B!AF882","v":0},{"$f":"B!AG882","v":0},{"$f":"B!AH882","v":0},{"$f":"B!AI882","v":0},{"$f":"B!AJ882","v":0},{"$f":"B!AK882","v":0},null,{"$f":"B!$AM$882","v":0}]
["II.","TOMOGRAFIA AXIAL COMP.",{"$f":"B!D912","v":0},{"$f":"B!E912","v":0},{"$f":"B!F912","v":0},{"$f":"B!G912","v":0},{"$f":"B!H912","v":0},{"$f":"B!AB912","v":0},{"$f":"B!AC912","v":0},{"$f":"B!AD912","v":0},{"$f":"B!AE912","v":0},{"$f":"B!AF912","v":0},{"$f":"B!AG912","v":0},{"$f":"B!AH912","v":0},{"$f":"B!AI912","v":0},{"$f":"B!AJ912","v":0},{"$f":"B!AK912","v":0},null,{"$f":"B!$AM$912","v":0}]
["III","ULTRASONOGRAFIA",{"$f":"SUM(C140:C142)","v":0},{"$f":"SUM(D140:D142)","v":0},{"$f":"SUM(E140:E142)","v":0},0,0,0,0,0,0,0,0,{"$f":"SUM(N140:N142)","v":0},0,0,{"$f":"SUM(Q140:Q142)","v":0},{"$f":"SUM(R140:R143)","v":0},{"$f":"SUM(S140:S142)","v":0}]
[null,"Ecotomografias ( Sin Ecografía Obstetr. Y Abdominal )",{"$f":"B!D937-B!D914-B!D915","v":0},{"$f":"B!E937-B!E914-B!E915","v":0},{"$f":"B!F937-B!F914-B!F915","v":0},{"$f":"B!G937-B!G914-B!G915","v":0},{"$f":"B!H937-B!H914-B!H915","v":0},{"$f":"B!AB937-B!AB914-B!AB915","v":0},{"$f":"B!AC937-B!AC914-B!AC915","v":0},{"$f":"B!AD937-B!AD914-B!AD915","v":0},{"$f":"B!AE937-B!AE914-B!AE915","v":0},{"$f":"B!AF937-B!AF914-B!AF915","v":0},{"$f":"B!AG937-B!AG914-B!AG915","v":0},{"$f":"B!AH937-B!AH914-B!AH915","v":0},{"$f":"B!AI937-B!AI914-B!AI915","v":0},{"$f":"B!AJ937-B!AJ914-B!AJ915","v":0},{"$f":"B!AK937-B!AK914-B!AK915","v":0},null,{"$f":"B!$AM$937-B!$AM$914-B!$AM$915","v":0}]
[null,"Ecografías Obstétricas",{"$f":"B!D914","v":0},{"$f":"B!E914","v":0},{"$f":"B!F914","v":0},{"$f":"B!G914","v":0},{"$f":"B!H914","v":0},{"$f":"B!AB914","v":0},{"$f":"B!AC914","v":0},{"$f":"B!AD914","v":0},{"$f":"B!AE914","v":0},{"$f":"B!AF914","v":0},{"$f":"B!AG914","v":0},{"$f":"B!AH914","v":0},{"$f":"B!AI914","v":0},{"$f":"B!AJ914","v":0},{"$f":"B!AK914","v":0},null,{"$f":"B!$AM$914","v":0}]
[null,"Ecotomografias abdominal ",{"$f":"B!D915","v":0},{"$f":"B!E915","v":0},{"$f":"B!F915","v":0},{"$f":"B!G915","v":0},{"$f":"B!H915","v":0},{"$f":"B!AB915","v":0},{"$f":"B!AC915","v":0},{"$f":"B!AD915","v":0},{"$f":"B!AE915","v":0},{"$f":"B!AF915","v":0},{"$f":"B!AG915","v":0},{"$f":"B!AH915","v":0},{"$f":"B!AI915","v":0},{"$f":"B!AJ915","v":0},{"$f":"B!AK915","v":0},null,{"$f":"B!$AM$915","v":0}]
["IV","RESONANCIA MAGNÉTICA ",{"$f":"B!D979","v":0},{"$f":"B!E979","v":0},{"$f":"B!F979","v":0},{"$f":"B!G979","v":0},{"$f":"B!H979","v":0},{"$f":"B!AB979","v":0},{"$f":"B!AC979","v":0},{"$f":"B!AD979","v":0},{"$f":"B!AE979","v":0},{"$f":"B!AF979","v":0},{"$f":"B!AG979","v":0},{"$f":"B!AH979","v":0},{"$f":"B!AI979","v":0},{"$f":"B!AJ979","v":0},{"$f":"B!AK979","v":0},null,{"$f":"B!$AM$979","v":0}]
[null,"OTROS EXÁMENES DE IMÁGENES",{"$f":"B!D1023","v":0},{"$f":"B!E1023","v":0},{"$f":"B!F1023","v":0},{"$f":"B!G1023","v":0},{"$f":"B!H1023","v":0},{"$f":"B!AB1023","v":0},{"$f":"B!AC1023","v":0},{"$f":"B!AD1023","v":0},{"$f":"B!AE1023","v":0},{"$f":"B!AF1023","v":0},{"$f":"B!AG1023","v":0},{"$f":"B!AH1023","v":0},{"$f":"B!AI1023","v":0},{"$f":"B!AJ1023","v":0},{"$f":"B!AK1023","v":0}]
["TOMA DE MUESTRAS",null,{"$f":"B!D702","v":0},{"$f":"B!E702","v":0},{"$f":"B!F702","v":0},{"$f":"B!G702","v":0},{"$f":"B!H702","v":0},{"$f":"B!AB702","v":0},{"$f":"B!AC702","v":0},{"$f":"B!AD702","v":0},{"$f":"B!AE702","v":0},{"$f":"B!AF702","v":0},{"$f":"B!AG702","v":0},{"$f":"B!AH702","v":0},{"$f":"B!AI702","v":0},{"$f":"B!AJ702","v":0},{"$f":"B!AK702","v":0}]
["EXAMENES ANATOMIA PATOLOGICA",null,{"$f":"B!D1238","v":0},{"$f":"B!E1238","v":0},{"$f":"B!F1238","v":0},{"$f":"B!G1238","v":0},{"$f":"B!H1238","v":0},{"$f":"B!AB1238","v":0},{"$f":"B!AC1238","v":0},{"$f":"B!AD1238","v":0},{"$f":"B!AE1238","v":0},{"$f":"B!AF1238","v":0},{"$f":"B!AG1238","v":0},{"$f":"B!AH1238","v":0},{"$f":"B!AI1238","v":0},{"$f":"B!AJ1238","v":0},{"$f":"B!AK1238","v":0},null,{"$f":"B!$AM$1238","v":0}]
["SECCION J:  MEDICINA NUCLEAR Y RADIOTERAPIA"]
["TIPO DE PROCEDIMIENTO",null,"TOTAL","PROCEDIMIENTOS",null,null,null,"PROCEDENCIA",null,null,"PRODUCCION INTRA HOSPITAL",null,null,"OPERATIVO","COMPRAS REALIZADAS",null,"VENTAS DE SERVICIOS","PAGO POR PRESTACIONES ($)"]
[null,null,null,"TOTAL BENEFICIARIOS","BENEFICIARIOS",null,"NO BENEFICIARIOS","ATENCION CERRADA","ATENCION ABIERTA","EMERGENCIA","POR \nHONORARIOS","POR CONVENIOS","POR\nCONSULTORES\nDE LLAMADA",null,"AL SISTEMA ","EXTRA-SISTEMA"]
[null,null,null,null,"MAI","MLE"]
["Medicina Nuclear",null,{"$f":"+B!D1032+B!D1040+B!D1049+B!D1059+B!D1066+B!D1070+B!D1074+B!D1078+B!D1086+B!D1089+B!D1092","v":0}]
["Braquioterapia",null,{"$f":"SUM(B!D3173:D3175)","v":0}]
["Radioterapia",null,{"$f":"SUM(B!D3176:D3183)","v":0}]
["Radiocirugía",null,{"$f":"+B!D3184","v":0}]
["Quimioterapia",null,{"$f":"SUM(B!D3185:D3197)","v":0}]
["Tratamiento terapia endocrina",null,{"$f":"SUM(B!D3197:D3198)","v":0}]
["Tratamiento inhibidores tirosin kinasa",null,{"$f":"SUM(B!D3199:D3202)","v":0}]
["TOTAL ",null,{"$f":"SUM(C151+C152+C153+C154)","v":0},0,0,0,0,0,0,0,0,0,0,0,0,0,0,0]
["SECCION K:  HEMODIALISIS"]
["TIPO DE HEMODIALISIS",null,"TOTAL","PROCEDIMIENTOS",null,null,null,"PROCEDENCIA",null,null,"PRODUCCION INTRA HOSPITAL",null,null,"OPERATIVO","COMPRAS REALIZADAS",null,"VENTAS DE SERVICIOS","PAGO POR PRESTACIONES ($)"]
[null,null,null,"TOTAL BENEFI-CIARIOS","BENEFICIARIOS",null,"NO BENEFI-CIARIOS","ATENCION CERRADA","ATENCION ABIERTA","EMERGENCIA","POR \nHONORARIOS","POR CONVENIOS","POR\nCONSULTORES\nDE LLAMADA",null,"AL SISTEMA ","EXTRA-SISTEMA"]
[null,null,null,null,"MAI","MLE"]
[1901023,"Hemodiálisis con insumos incluidos",{"$f":"B!D2483","v":0},{"$f":"B!E2483","v":0},{"$f":"B!F2483","v":0},{"$f":"B!G2483","v":0},{"$f":"B!H2483","v":0},{"$f":"B!AB2483","v":0},{"$f":"B!AC2483","v":0},{"$f":"B!AD2483","v":0},{"$f":"B!AE2483","v":0},{"$f":"B!AF2483","v":0},{"$f":"B!AG2483","v":0},{"$f":"B!AH2483","v":0},{"$f":"B!AI2483","v":0},{"$f":"B!AJ2483","v":0},{"$f":"B!AK2483","v":0},{"$f":"B!$AM$2483","v":0}]
[1901024,"Hemodiálisis sin insumos",{"$f":"B!D2484","v":0},{"$f":"B!E2484","v":0},{"$f":"B!F2484","v":0},{"$f":"B!G2484","v":0},{"$f":"B!H2484","v":0},{"$f":"B!AB2484","v":0},{"$f":"B!AC2484","v":0},{"$f":"B!AD2484","v":0},{"$f":"B!AE2484","v":0},{"$f":"B!AF2484","v":0},{"$f":"B!AG2484","v":0},{"$f":"B!AH2484","v":0},{"$f":"B!AI2484","v":0},{"$f":"B!AJ2484","v":0},{"$f":"B!AK2484","v":0},{"$f":"B!$AM$2484","v":0}]
[1901025,"Peritoneodiálisis  (incluye insumos)",{"$f":"B!D2485","v":0},{"$f":"B!E2485","v":0},{"$f":"B!F2485","v":0},{"$f":"B!G2485","v":0},{"$f":"B!H2485","v":0},{"$f":"B!AB2485","v":0},{"$f":"B!AC2485","v":0},{"$f":"B!AD2485","v":0},{"$f":"B!AE2485","v":0},{"$f":"B!AF2485","v":0},{"$f":"B!AG2485","v":0},{"$f":"B!AH2485","v":0},{"$f":"B!AI2485","v":0},{"$f":"B!AJ2485","v":0},{"$f":"B!AK2485","v":0},{"$f":"B!$AM$2485","v":0}]
[1901026,"Peritoneodiálisis continua en paciente crónico (adulto o niños) (tratamiento mensual)",{"$f":"B!D2486","v":0},{"$f":"B!E2486","v":0},{"$f":"B!F2486","v":0},{"$f":"B!G2486","v":0},{"$f":"B!H2486","v":0},{"$f":"B!AB2486","v":0},{"$f":"B!AC2486","v":0},{"$f":"B!AD2486","v":0},{"$f":"B!AE2486","v":0},{"$f":"B!AF2486","v":0},{"$f":"B!AG2486","v":0},{"$f":"B!AH2486","v":0},{"$f":"B!AI2486","v":0},{"$f":"B!AJ2486","v":0},{"$f":"B!AK2486","v":0},{"$f":"B!$AM$2486","v":0}]
[1901126,"Instalación de cateter para peritoneodiális",{"$f":"B!D2487","v":0},{"$f":"B!E2487","v":0},{"$f":"B!F2487","v":0},{"$f":"B!G2487","v":0},{"$f":"B!H2487","v":0},{"$f":"B!AB2487","v":0},{"$f":"B!AC2487","v":0},{"$f":"B!AD2487","v":0},{"$f":"B!AE2487","v":0},{"$f":"B!AF2487","v":0},{"$f":"B!AG2487","v":0},{"$f":"B!AH2487","v":0},{"$f":"B!AI2487","v":0},{"$f":"B!AJ2487","v":0},{"$f":"B!AK2487","v":0},{"$f":"B!$AM$2487","v":0}]
[1901027,"Hemodiálisis, tratamiento mensual (con insumos incluidos)",{"$f":"B!D2488","v":0},{"$f":"B!E2488","v":0},{"$f":"B!F2488","v":0},{"$f":"B!G2488","v":0},{"$f":"B!H2488","v":0},{"$f":"B!AB2488","v":0},{"$f":"B!AC2488","v":0},{"$f":"B!AD2488","v":0},{"$f":"B!AE2488","v":0},{"$f":"B!AF2488","v":0},{"$f":"B!AG2488","v":0},{"$f":"B!AH2488","v":0},{"$f":"B!AI2488","v":0},{"$f":"B!AJ2488","v":0},{"$f":"B!AK2488","v":0},{"$f":"B!$AM$2488","v":0}]
[1901028,"Hemodiálisis con bicarbonato con insumos (por sesion)",{"$f":"B!D2489","v":0},{"$f":"B!E2489","v":0},{"$f":"B!F2489","v":0},{"$f":"B!G2489","v":0},{"$f":"B!H2489","v":0},{"$f":"B!AB2489","v":0},{"$f":"B!AC2489","v":0},{"$f":"B!AD2489","v":0},{"$f":"B!AE2489","v":0},{"$f":"B!AF2489","v":0},{"$f":"B!AG2489","v":0},{"$f":"B!AH2489","v":0},{"$f":"B!AI2489","v":0},{"$f":"B!AJ2489","v":0},{"$f":"B!AK2489","v":0},{"$f":"B!$AM$2489","v":0}]
[1901029,"Hemodiálisis con bicarbonato con insumos (tratamiento mensual)",{"$f":"B!D2490","v":0},{"$f":"B!E2490","v":0},{"$f":"B!F2490","v":0},{"$f":"B!G2490","v":0},{"$f":"B!H2490","v":0},{"$f":"B!AB2490","v":0},{"$f":"B!AC2490","v":0},{"$f":"B!AD2490","v":0},{"$f":"B!AE2490","v":0},{"$f":"B!AF2490","v":0},{"$f":"B!AG2490","v":0},{"$f":"B!AH2490","v":0},{"$f":"B!AI2490","v":0},{"$f":"B!AJ2490","v":0},{"$f":"B!AK2490","v":0},{"$f":"B!$AM$2490","v":0}]
["TOTAL",null,{"$f":"SUM(C163:C170)","v":0},{"$f":"SUM(D163:D170)","v":0},{"$f":"SUM(E163:E170)","v":0},0,0,0,0,0,0,0,0,0,0,0,0,{"$f":"SUM(R163:R170)","v":0}]
["SECCION L: INTERVENCIONES QUIRURGICAS"]
["TIPO DE INTERVENCION QUIRURGICA",null,"TOTAL PRODUCCIÓN","TOTAL BENEFICIARIOS","INTERVENCIONES QUIRÚRGICAS",null,null,null,null,null,"CIRUGÍAS MENORES","PRODUCCION INTRA HOSPITAL",null,null,"OPERATIVO","COMPRAS REALIZADAS",null,"VENTAS DE SERVICIOS","INTERVENCIONES 100%","INTERVENCIONES 50%","INTERVENCIONES 75%","PAGO POR PRESTACIONES ($)"]
[null,null,null,null,"PRINCIPAL",null,null,"SECUNDARIA"]
[null,null,null,null,"MAI","MLE","NO BENEFI-CIARIOS","MAI","MLE","NO BENEFI-CIARIOS",null,"POR \nHONORARIOS","POR CONVENIOS","POR\nCONSULTORES\nDE LLAMADA",null,"AL SISTEMA ","EXTRA-SISTEMA"]
["I","NEUROCIRUGIA",{"$f":"B!$D$1413","v":0},{"$f":"B!I1413","v":0},{"$f":"B!J1413","v":0},{"$f":"B!K1413","v":0},{"$f":"B!L1413","v":0},{"$f":"B!M1413","v":0},{"$f":"B!N1413","v":0},{"$f":"B!O1413","v":0},null,{"$f":"B!AE1413","v":0},{"$f":"B!AF1413","v":0},{"$f":"B!AG1413","v":0},{"$f":"B!AH1413","v":0},{"$f":"B!AI1413","v":0},{"$f":"B!AJ1413","v":0},{"$f":"B!AK1413","v":0},{"$f":"B!$J$1413","v":0},{"$f":"B!$M$1413","v":0},null,{"$f":"B!$AM$1413","v":0}]
["II","CIRUGIA OFTALMOLOGICA",{"$f":"B!D1548","v":0},{"$f":"B!I1548","v":0},{"$f":"B!J1548","v":0},{"$f":"B!K1548","v":0},{"$f":"B!L1548","v":0},{"$f":"B!M1548","v":0},{"$f":"B!N1548","v":0},{"$f":"B!O1548","v":0},{"$f":"+B!D1464+B!D1465+B!D1466+B!D1467+B!D1468+B!D1469+B!D1473+B!D1474+B!D1475+B!D1477+B!D1478+B!D1479+B!D1481+B!D1482+B!D1483+B!D1485+B!D1487+B!D1488+B!D1490+B!D1491+B!D1494+B!D1495+B!D1510+B!D1511+B!D1530+B!D1527+B!D1529+B!D1530+B!D1544+B!D1545+B!D1546","v":0},{"$f":"B!AE1548","v":0},{"$f":"B!AF1548","v":0},{"$f":"B!AG1548","v":0},{"$f":"B!AH1548","v":0},{"$f":"B!AI1548","v":0},{"$f":"B!AJ1548","v":0},{"$f":"B!AK1548","v":0},{"$f":"B!$J$1548","v":0},{"$f":"B!$M$1548","v":0},null,{"$f":"B!$AM$1548","v":0}]
["III","CIRUGIA OTORRINOLOGICA",{"$f":"B!D1719","v":0},{"$f":"B!I1719","v":0},{"$f":"B!J1719","v":0},{"$f":"B!K1719","v":0},{"$f":"B!L1719","v":0},{"$f":"B!M1719","v":0},{"$f":"B!N1719","v":0},{"$f":"B!O1719","v":0},{"$f":"+B!D1610+B!D1611+B!D1612+B!D1613+B!D1614+B!D1618+B!D1622+B!D1647+B!D1648+B!D1649+B!D1650+B!D1651+B!D1652+B!D1655+B!D1656+B!D1664+B!D1665+B!D1667+B!D1668+B!D1673+B!D1675+B!D1676+B!D1683+B!D1696+B!D1702+B!D1703+B!D1712+B!D1715","v":0},{"$f":"B!AE1719","v":0},{"$f":"B!AF1719","v":0},{"$f":"B!AG1719","v":0},{"$f":"B!AH1719","v":0},{"$f":"B!AI1719","v":0},{"$f":"B!AJ1719","v":0},{"$f":"B!AK1719","v":0},{"$f":"B!$J$1719","v":0},{"$f":"B!$M$1719","v":0},null,{"$f":"B!$AM$1719","v":0}]
["IV","CIRUGIA DE CABEZA Y CUELLO",{"$f":"B!D1799","v":0},{"$f":"B!I1799","v":0},{"$f":"B!J1799","v":0},{"$f":"B!K1799","v":0},{"$f":"B!L1799","v":0},{"$f":"B!M1799","v":0},{"$f":"B!N1799","v":0},{"$f":"B!O1799","v":0},{"$f":"SUM(B!D1758,B!D1760:'B'!D1761,B!D1765:'B'!D1766,B!D1768,B!D1792,B!D1794,B!D1797:'B'!D1798)","v":0},{"$f":"B!AE1799","v":0},{"$f":"B!AF1799","v":0},{"$f":"B!AG1799","v":0},{"$f":"B!AH1799","v":0},{"$f":"B!AI1799","v":0},{"$f":"B!AJ1799","v":0},{"$f":"B!AK1799","v":0},{"$f":"B!$J$1799","v":0},{"$f":"B!$M$1799","v":0},null,{"$f":"B!$AM$1799","v":0}]
["V","CIRUGIA PLASTICA Y REPARADORA",{"$f":"B!D1873","v":0},{"$f":"B!I1873","v":0},{"$f":"B!J1873","v":0},{"$f":"B!K1873","v":0},{"$f":"B!L1873","v":0},{"$f":"B!M1873","v":0},{"$f":"B!N1873","v":0},{"$f":"B!O1873","v":0},{"$f":"SUM(B!D1802:'B'!D1808,B!D1813,B!D1815,B!D1820,B!D1831:'B'!D1832,B!D1863,B!D1867:'B'!D1870)","v":0},{"$f":"B!AE1873","v":0},{"$f":"B!AF1873","v":0},{"$f":"B!AG1873","v":0},{"$f":"B!AH1873","v":0},{"$f":"B!AI1873","v":0},{"$f":"B!AJ1873","v":0},{"$f":"B!AK1873","v":0},{"$f":"B!$J$1873","v":0},{"$f":"B!$M$1873","v":0},null,{"$f":"B!$AM$1873","v":0}]
["VI","DERMATOLOGÍA Y TEGUMENTOS     ",{"$f":"B!D1916","v":0},{"$f":"B!I1916","v":0},{"$f":"B!J1916","v":0},{"$f":"B!K1916","v":0},{"$f":"B!L1916","v":0},{"$f":"B!M1916","v":0},{"$f":"B!N1916","v":0},{"$f":"B!O1916","v":0},{"$f":"SUM(B!D1892:D1914)","v":0},{"$f":"B!AE1916","v":0},{"$f":"B!AF1916","v":0},{"$f":"B!AG1916","v":0},{"$f":"B!AH1916","v":0},{"$f":"B!AI1916","v":0},{"$f":"B!AJ1916","v":0},{"$f":"B!AK1916","v":0},{"$f":"B!$J$1916","v":0},{"$f":"B!$M$1916","v":0},null,{"$f":"B!$AM$1916","v":0}]
["VII","CIRUGIA CARDIOVASCULAR",{"$f":"B!D2080","v":0},{"$f":"B!I2080","v":0},{"$f":"B!J2080","v":0},{"$f":"B!K2080","v":0},{"$f":"B!L2080","v":0},{"$f":"B!M2080","v":0},{"$f":"B!N2080","v":0},{"$f":"B!O2080","v":0},{"$f":"+B!D2017+B!D2033+B!D2033+B!D2034","v":0},{"$f":"B!AE2080","v":0},{"$f":"B!AF2080","v":0},{"$f":"B!AG2080","v":0},{"$f":"B!AH2080","v":0},{"$f":"B!AI2080","v":0},{"$f":"B!AJ2080","v":0},{"$f":"B!AK2080","v":0},{"$f":"B!$J$2080","v":0},{"$f":"B!$M$2080","v":0},null,{"$f":"B!$AM$2080","v":0}]
["VIII","CIRUGIA DE TORAX",{"$f":"B!D2182","v":0},{"$f":"B!I2182","v":0},{"$f":"B!J2182","v":0},{"$f":"B!K2182","v":0},{"$f":"B!L2182","v":0},{"$f":"B!M2182","v":0},{"$f":"B!N2182","v":0},{"$f":"B!O2182","v":0},{"$f":"B!D2121","v":0},{"$f":"B!AE2182","v":0},{"$f":"B!AF2182","v":0},{"$f":"B!AG2182","v":0},{"$f":"B!AH2182","v":0},{"$f":"B!AI2182","v":0},{"$f":"B!AJ2182","v":0},{"$f":"B!AK2182","v":0},{"$f":"B!$J$2182","v":0},{"$f":"B!$M$2182","v":0},null,{"$f":"B!$AM$2182","v":0}]
["IX","CIRUGIA ABDOMINAL",{"$f":"B!D2411","v":0},{"$f":"B!I2411","v":0},{"$f":"B!J2411","v":0},{"$f":"B!K2411","v":0},{"$f":"B!L2411","v":0},{"$f":"B!M2411","v":0},{"$f":"B!N2411","v":0},{"$f":"B!O2411","v":0},null,{"$f":"B!AE2411","v":0},{"$f":"B!AF2411","v":0},{"$f":"B!AG2411","v":0},{"$f":"B!AH2411","v":0},{"$f":"B!AI2411","v":0},{"$f":"B!AJ2411","v":0},{"$f":"B!AK2411","v":0},{"$f":"B!$J$2411","v":0},{"$f":"B!$M$2411","v":0},null,{"$f":"B!$AM$2411","v":0}]
["X","CIRUGIA PROCTOLOGICA",{"$f":"B!D2451","v":0},{"$f":"B!I2451","v":0},{"$f":"B!J2451","v":0},{"$f":"B!K2451","v":0},{"$f":"B!L2451","v":0},{"$f":"B!M2451","v":0},{"$f":"B!N2451","v":0},{"$f":"B!O2451","v":0},{"$f":"SUM(B!D2414:'B'!D2415,B!D2418,B!D2430)","v":0},{"$f":"B!AE2451","v":0},{"$f":"B!AF2451","v":0},{"$f":"B!AG2451","v":0},{"$f":"B!AH2451","v":0},{"$f":"B!AI2451","v":0},{"$f":"B!AJ2451","v":0},{"$f":"B!AK2451","v":0},{"$f":"B!$J$2451","v":0},{"$f":"B!$M$2451","v":0},null,{"$f":"B!AM2451","v":0}]
["XI","CIRUGIA UROLOGICA Y SUPRARRENAL",{"$f":"B!D2574","v":0},{"$f":"B!I2574","v":0},{"$f":"B!J2574","v":0},{"$f":"B!K2574","v":0},{"$f":"B!L2574","v":0},{"$f":"B!M2574","v":0},{"$f":"B!N2574","v":0},{"$f":"B!O2574","v":0},{"$f":"SUM(B!D2568,B!D2572)","v":0},{"$f":"B!AE2574","v":0},{"$f":"B!AF2574","v":0},{"$f":"B!AG2574","v":0},{"$f":"B!AH2574","v":0},{"$f":"B!AI2574","v":0},{"$f":"B!AJ2574","v":0},{"$f":"B!AK2574","v":0},{"$f":"B!$J$2574","v":0},{"$f":"B!$M$2574","v":0},null,{"$f":"B!AM2574","v":0}]
["XII","CIRUGIA DE LA MAMA",{"$f":"B!D2605","v":0},{"$f":"B!I2605","v":0},{"$f":"B!J2605","v":0},{"$f":"B!K2605","v":0},{"$f":"B!L2605","v":0},{"$f":"B!M2605","v":0},{"$f":"B!N2605","v":0},{"$f":"B!O2605","v":0},{"$f":"B!D2600","v":0},{"$f":"B!AE2605","v":0},{"$f":"B!AF2605","v":0},{"$f":"B!AG2605","v":0},{"$f":"B!AH2605","v":0},{"$f":"B!AI2605","v":0},{"$f":"B!AJ2605","v":0},{"$f":"B!AK2605","v":0},{"$f":"B!$J$2605","v":0},{"$f":"B!$M$2605","v":0},null,{"$f":"B!AM2605","v":0}]
["XIII","CIRUGIA GINECOLOGICA",{"$f":"B!D2653","v":0},{"$f":"B!I2653","v":0},{"$f":"B!J2653","v":0},{"$f":"B!K2653","v":0},{"$f":"B!L2653","v":0},{"$f":"B!M2653","v":0},{"$f":"B!N2653","v":0},{"$f":"B!O2653","v":0},{"$f":"+B!D2607+B!D2608+B!D2609+B!D2635+B!D2644+B!D2652","v":0},{"$f":"B!AE2653","v":0},{"$f":"B!AF2653","v":0},{"$f":"B!AG2653","v":0},{"$f":"B!AH2653","v":0},{"$f":"B!AI2653","v":0},{"$f":"B!AJ2653","v":0},{"$f":"B!AK2653","v":0},{"$f":"B!$J$2653","v":0},{"$f":"B!$M$2653","v":0},null,{"$f":"B!AM2653","v":0}]
["XIV","CIRUGIA OBSTETRICA  ",{"$f":"+B!D$2671","v":0},{"$f":"+B!I$2671","v":0},{"$f":"+B!J$2671","v":0},{"$f":"+B!K$2671","v":0},{"$f":"+B!L$2671","v":0},{"$f":"+B!M$2671","v":0},{"$f":"+B!N$2671","v":0},{"$f":"+B!O$2671","v":0},{"$f":"B!D2655+B!D2656+B!D2657","v":0},{"$f":"+B!AE$2671","v":0},{"$f":"+B!AF$2671","v":0},{"$f":"+B!AG$2671","v":0},{"$f":"+B!AH$2671","v":0},{"$f":"+B!AI$2671","v":0},{"$f":"+B!AJ$2671","v":0},{"$f":"+B!AK$2671","v":0},{"$f":"+B!J$2671","v":0},{"$f":"+B!M$2671","v":0},null,{"$f":"+B!AM$2671","v":0}]
["XV.I","TRAUMATOLOGIA",{"$f":"+B!D2915","v":0},{"$f":"+B!I2915","v":0},{"$f":"+B!J2915","v":0},{"$f":"+B!K2915","v":0},{"$f":"+B!L2915","v":0},{"$f":"+B!M2915","v":0},{"$f":"+B!N2915","v":0},{"$f":"+B!O2915","v":0},{"$f":"SUM(B!D2690:D2696,B!D2698,B!D2708:D2709,B!C2721,B!C2723:C2725,B!C2728,B!D2776,B!D2778,B!D2781:D2783,B!D2787:D2788,B!D2797,B!D2853)","v":0},{"$f":"+B!AE2915","v":0},{"$f":"+B!AF2915","v":0},{"$f":"+B!AG2915","v":0},{"$f":"+B!AH2915","v":0},{"$f":"+B!AI2915","v":0},{"$f":"+B!AJ2915","v":0},{"$f":"+B!AK2915","v":0},{"$f":"B!$J$2915","v":0},{"$f":"B!$M$2915","v":0},null,{"$f":"B!$AM$2915","v":0}]
["XVI","ODONTOLOGIA ",{"$f":"+B!D3120","v":0},{"$f":"+B!E3120","v":0},{"$f":"+B!F3120","v":0},{"$f":"+B!G3120","v":0},{"$f":"+B!H3120","v":0},{"$f":"+B!I3120","v":0},{"$f":"+B!J3120","v":0},{"$f":"+B!K3120","v":0},{"$f":"SUM(B!D3083:D3084,B!D3089,B!D3091:D3092,B!D3095:D3096,B!D3098:D3102,B!D3105:D3106)","v":0},{"$f":"+B!AB3109","v":0},{"$f":"+B!AC3109","v":0},{"$f":"+B!AD3109","v":0},{"$f":"+B!AE3109","v":0},{"$f":"+B!AF3109","v":0},{"$f":"+B!AG3109","v":0},{"$f":"+B!AH3109","v":0},{"$f":"+B!AI3109","v":0},{"$f":"+B!AJ3109","v":0},null,{"$f":"+B!AM3109","v":0}]
["XVI","RETIRO ELEMENTOS OSTEOSINTESIS",{"$f":"+B!D2920","v":0},{"$f":"+B!I2920","v":0},{"$f":"+B!J2920","v":0},{"$f":"+B!K2920","v":0},{"$f":"+B!L2920","v":0},{"$f":"+B!M2920","v":0},{"$f":"+B!N2920","v":0},{"$f":"+B!O2920","v":0},null,{"$f":"+B!AB2920","v":0},{"$f":"+B!AC2920","v":0},{"$f":"+B!AD2920","v":0},{"$f":"+B!AE2920","v":0},{"$f":"+B!AF2920","v":0},{"$f":"+B!AG2920","v":0},{"$f":"+B!AH2920","v":0},null,null,{"$f":"+B!D2920","v":0},{"$f":"+B!AM2920*0.75","v":0}]
["TOTAL  ",null,{"$f":"SUM(C176:C192)","v":0},{"$f":"SUM(D176:D192)","v":0},0,0,0,0,0,0,0,0,0,0,0,0,0,0,0,0,0,0]
["SECCIÓN M: INTERVENCIONES QUIRÚRGICAS POR TIPO DE INTERVENCIÓN "]
["TIPO DE INTERVENCIÓN",null,"TOTAL","BENEFICIARIOS MAI","< 15 AÑOS","15 AÑOS Y MAS","COMPRAS REALIZADAS AL SISTEMA ","COMPRAS REALIZADAS AL SISTEMA","COMPRAS REALIZADAS AL EXTRA-SISTEMA","COMPRAS REALIZADAS AL EXTRA-SISTEMA"]
[null,null,null,null,null,null,"< 15 AÑOS","15 AÑOS Y MAS","< 15 AÑOS","15 AÑOS Y MAS"]
["ELECTIVAS MAYORES NO AMBULATORIAS ",null,{"$f":"SUM(E197:F197)","v":0},null,null,null,null,null,null,null,{"$f":"AA197","v":""},null,null,null,null,null,null,null,null,null,null,null,null,null,null,null,{"$f":"IF(C197<D197,\"Beneficiarios MAI no puede ser mayor al TOTAL\",\"\")","v":""},{"$f":"IF(C197<D197,1,0)","v":0}]
["ELECTIVAS MAYORES AMBULATORIAS ",null,{"$f":"SUM(E198:F198)","v":0},null,null,null,null,null,null,null,{"$f":"AA198","v":""},null,null,null,null,null,null,null,null,null,null,null,null,null,null,null,{"$f":"IF(C198<D198,\"Beneficiarios MAI no puede ser mayor al TOTAL\",\"\")","v":""},{"$f":"IF(C198<D198,1,0)","v":0}]
["URGENCIA","MAYOR NO AMBULATORIAS",0,null,null,null,null,null,null,null,{"$f":"AA199","v":""},null,null,null,null,null,null,null,null,null,null,null,null,null,null,null,{"$f":"IF(C199<D199,\"Beneficiarios MAI no puede ser mayor al TOTAL\",\"\")","v":""},{"$f":"IF(C199<D199,1,0)","v":0}]
[null,"MAYOR AMBULATORIAS",0,null,null,null,null,null,null,null,{"$f":"AA200","v":""},null,null,null,null,null,null,null,null,null,null,null,null,null,null,null,{"$f":"IF(C200<D200,\"Beneficiarios MAI no puede ser mayor al TOTAL\",\"\")","v":""},{"$f":"IF(C200<D200,1,0)","v":0}]
["CIRUGÍA MENOR",null,0]
["SECCIÓN N:  AMPUTACIÓN POR PIE DIABÉTICO"]
["TIPO DE INTERVENCIÓN QUIRÚRGICA",null,"TOTAL PRODUCCIÓN","TOTAL BENEFICIARIOS MAI"]
[]
["AMPUTACIÓN DE ORTEJO(S) POR PIE DIABETICO",null,{"$f":"B!D2912","v":0},{"$f":"B!J2912","v":0}]
["AMPUTACIÓN DE PIE COMPLETO POR PIE DIABETICO",null,{"$f":"SUM(B!D2911+B!D2913)","v":0},{"$f":"B!J2911+B!J2913","v":0}]
["SECCIÓN O: PROCEDIMIENTOS DIAGNÓSTICOS Y TERAPÉUTICOS"]
["TIPO DE PROCEDIMIENTO","TOTAL","PROCEDIMIENTOS",null,null,null,"PROCEDENCIA",null,null,"PRODUCCION INTRA HOSPITAL",null,null,"OPERATIVO","COMPRAS REALIZADAS",null,"VENTAS DE SERVICIOS"]
[null,null,"TOTAL BENEFICIARIOS","BENEFICIARIOS",null,"NO BENEFI-CIARIOS","ATENCION CERRADA","ATENCION ABIERTA","EMERGENCIA","POR \nHONO-\nRARIOS","POR CONVENIOS","POR\nCONSULTORES\nDE LLAMADA",null,"AL SISTEMA ","EXTRA-SISTEMA"]
[null,null,null,"MAI","MLE"]
["Neurología",{"$f":"+B!D1331","v":0},{"$f":"+B!E1331","v":0},{"$f":"+B!F1331","v":0},{"$f":"+B!G1331","v":0},{"$f":"+B!H1331","v":0},{"$f":"+B!AB1331","v":0},{"$f":"+B!AC1331","v":0},{"$f":"+B!AD1331","v":0},{"$f":"+B!AE1331","v":0},{"$f":"+B!AF1331","v":0},{"$f":"+B!AG1331","v":0},{"$f":"+B!AH1331","v":0},{"$f":"+B!AI1331","v":0},{"$f":"+B!AJ1331","v":0},{"$f":"+B!AK1331","v":0}]
["Oftalmología",{"$f":"+B!D1462","v":0},{"$f":"+B!E1462","v":0},{"$f":"+B!F1462","v":0},{"$f":"+B!G1462","v":0},{"$f":"+B!H1462","v":0},{"$f":"+B!AB1462","v":0},{"$f":"+B!AC1462","v":0},{"$f":"+B!AD1462","v":0},{"$f":"+B!AE1462","v":0},{"$f":"+B!AF1462","v":0},{"$f":"+B!AG1462","v":0},{"$f":"+B!AH1462","v":0},{"$f":"+B!AI1462","v":0},{"$f":"+B!AJ1462","v":0},{"$f":"+B!AK1462","v":0}]
["Otorrinolaringología",{"$f":"+B!D1608","v":0},{"$f":"+B!E1608","v":0},{"$f":"+B!F1608","v":0},{"$f":"+B!G1608","v":0},{"$f":"+B!H1608","v":0},{"$f":"+B!AB1608","v":0},{"$f":"+B!AC1608","v":0},{"$f":"+B!AD1608","v":0},{"$f":"+B!AE1608","v":0},{"$f":"+B!AF1608","v":0},{"$f":"+B!AG1608","v":0},{"$f":"+B!AH1608","v":0},{"$f":"+B!AI1608","v":0},{"$f":"+B!AJ1608","v":0},{"$f":"+B!AK1608","v":0}]
["Cabeza y Cuello",{"$f":"B!D1737","v":0},{"$f":"B!E1737","v":0},{"$f":"B!F1737","v":0},{"$f":"B!G1737","v":0},{"$f":"B!H1737","v":0},{"$f":"B!AB1737","v":0},{"$f":"B!AC1737","v":0},{"$f":"B!AD1737","v":0},{"$f":"B!AE1737","v":0},{"$f":"B!AF1737","v":0},{"$f":"B!AG1737","v":0},{"$f":"B!AH1737","v":0},{"$f":"B!AI1737","v":0},{"$f":"B!AJ1737","v":0},{"$f":"B!AK1737","v":0}]
["Dedrmatología",{"$f":"B!D1890","v":0},{"$f":"B!E1890","v":0},{"$f":"B!F1890","v":0},{"$f":"B!G1890","v":0},{"$f":"B!H1890","v":0},{"$f":"B!AB1890","v":0},{"$f":"B!AC1890","v":0},{"$f":"B!AD1890","v":0},{"$f":"B!AE1890","v":0},{"$f":"B!AF1890","v":0},{"$f":"B!AG1890","v":0},{"$f":"B!AH1890","v":0},{"$f":"B!AI1890","v":0},{"$f":"B!AJ1890","v":0},{"$f":"B!AK1890","v":0}]
["Cardiología",{"$f":"+B!D1991","v":0},{"$f":"+B!E1991","v":0},{"$f":"+B!F1991","v":0},{"$f":"+B!G1991","v":0},{"$f":"+B!H1991","v":0},{"$f":"+B!AB1991","v":0},{"$f":"+B!AC1991","v":0},{"$f":"+B!AD1991","v":0},{"$f":"+B!AE1991","v":0},{"$f":"+B!AF1991","v":0},{"$f":"+B!AG1991","v":0},{"$f":"+B!AH1991","v":0},{"$f":"+B!AI1991","v":0},{"$f":"+B!AJ1991","v":0},{"$f":"+B!AK1991","v":0}]
["Aparato Respiratorio",{"$f":"+B!D2224","v":0},{"$f":"+B!E2224","v":0},{"$f":"+B!F2224","v":0},{"$f":"+B!G2224","v":0},{"$f":"+B!H2224","v":0},{"$f":"+B!AB2224","v":0},{"$f":"+B!AC2224","v":0},{"$f":"+B!AD2224","v":0},{"$f":"+B!AE2224","v":0},{"$f":"+B!AF2224","v":0},{"$f":"+B!AG2224","v":0},{"$f":"+B!AH2224","v":0},{"$f":"+B!AI2224","v":0},{"$f":"+B!AJ2224","v":0},{"$f":"+B!AK2224","v":0}]
["Gastroenterología",{"$f":"+B!D2295","v":0},{"$f":"+B!E2295","v":0},{"$f":"+B!F2295","v":0},{"$f":"+B!G2295","v":0},{"$f":"+B!H2295","v":0},{"$f":"+B!AB2295","v":0},{"$f":"+B!AC2295","v":0},{"$f":"+B!AD2295","v":0},{"$f":"+B!AE2295","v":0},{"$f":"+B!AF2295","v":0},{"$f":"+B!AG2295","v":0},{"$f":"+B!AH2295","v":0},{"$f":"+B!AI2295","v":0},{"$f":"+B!AJ2295","v":0},{"$f":"+B!AK2295","v":0}]
["Urología y Nefrología",{"$f":"+B!D2480","v":0},{"$f":"+B!E2480","v":0},{"$f":"+B!F2480","v":0},{"$f":"+B!G2480","v":0},{"$f":"+B!H2480","v":0},{"$f":"+B!AB2480","v":0},{"$f":"+B!AC2480","v":0},{"$f":"+B!AD2480","v":0},{"$f":"+B!AE2480","v":0},{"$f":"+B!AF2480","v":0},{"$f":"+B!AG2480","v":0},{"$f":"+B!AH2480","v":0},{"$f":"+B!AI2480","v":0},{"$f":"+B!AJ2480","v":0},{"$f":"+B!AK2480","v":0}]
["Ginecología y Obstetricia",{"$f":"+B!D2598","v":0},{"$f":"+B!E2598","v":0},{"$f":"+B!F2598","v":0},{"$f":"+B!G2598","v":0},{"$f":"+B!H2598","v":0},{"$f":"+B!AB2598","v":0},{"$f":"+B!AC2598","v":0},{"$f":"+B!AD2598","v":0},{"$f":"+B!AE2598","v":0},{"$f":"+B!AF2598","v":0},{"$f":"+B!AG2598","v":0},{"$f":"+B!AH2598","v":0},{"$f":"+B!AI2598","v":0},{"$f":"+B!AJ2598","v":0},{"$f":"+B!AK2598","v":0}]
["Traumatología",{"$f":"+B!D2694","v":0},{"$f":"+B!E2694","v":0},{"$f":"+B!F2694","v":0},{"$f":"+B!G2694","v":0},{"$f":"+B!H2694","v":0},{"$f":"+B!AB2694","v":0},{"$f":"+B!AC2694","v":0},{"$f":"+B!AD2694","v":0},{"$f":"+B!AE2694","v":0},{"$f":"+B!AF2694","v":0},{"$f":"+B!AG2694","v":0},{"$f":"+B!AH2694","v":0},{"$f":"+B!AI2694","v":0},{"$f":"+B!AJ2694","v":0},{"$f":"+B!AK2694","v":0}]
["Kinesiología y Fisioterapia ",{"$f":"+B!D1114","v":0},{"$f":"+B!E1114","v":0},{"$f":"+B!F1114","v":0},{"$f":"+B!G1114","v":0},{"$f":"+B!H1114","v":0},{"$f":"+B!AB1114","v":0},{"$f":"+B!AC1114","v":0},{"$f":"+B!AD1114","v":0},{"$f":"+B!AE1114","v":0},{"$f":"+B!AF1114","v":0},{"$f":"+B!AG1114","v":0},{"$f":"+B!AH1114","v":0},{"$f":"+B!AI1114","v":0},{"$f":"+B!AJ1114","v":0},{"$f":"+B!AK1114","v":0}]
["TOTAL PROCEDIMIENTOS MEDICOS",{"$f":"SUM(B211:B222)","v":0},{"$f":"SUM(C211:C222)","v":0},0,0,0,0,0,0,0,0,0,0,0,0,{"$f":"SUM(P211:P222)","v":0}]
["SECCION P:  MISCELANEOS"]
["TIPO DE PRESTACIÓN",null,"TOTAL","TOTAL BENEFICIARIOS MAI","PAGO POR PRESTACIONES ($)"]
["Otras Prestaciones Psiquiatricas",null,{"$f":"B!D1272","v":0},{"$f":"B!F1272","v":0}]
["Anestesia Epidural (Partos)",null,{"$f":"B!D2979","v":0},{"$f":"B!F2979","v":0},{"$f":"B!AM2979","v":0}]
["Otros Procedimientos Anestésicos",null,{"$f":"B!D2985","v":0},{"$f":"B!F2985","v":0}]
["Curacion Simple Ambulatoria",null,{"$f":"B!D93","v":0},{"$f":"B!F93","v":0},{"$f":"B!AM93","v":0}]
["Procedimiento De Podología",null,{"$f":"B!D99","v":0},{"$f":"B!F99","v":0}]
["Autocuidado Pacientes DID",null,{"$f":"+B!D98","v":0},{"$f":"+B!F97","v":0}]
["Oxigenoterapia Domicilio",null,{"$f":"+B!D98","v":0},{"$f":"+B!E98","v":0}]
["Protesis Y Órtesis",null,{"$f":"B!D2975","v":0},{"$f":"B!F2975","v":0}]
["TOTAL ",null,{"$f":"SUM(C226:C233)","v":0},{"$f":"SUM(D226:D233)","v":0},{"$f":"SUM(E226:E233)","v":0}]
["SECCIÓN Q: ACTIVIDADES EN UNIDAD DE FARMACIA HOSPITALARIA"]
[null,null,"TOTAL"]
["Nº DE PREPARADOS FARMACEUTICOS","Esteriles"]
[null,"No Esteriles"]
["Nº DE DOSIS UNITARIA PREPARADAS"]
["SECCIÓN R: OTROS TRASLADOS DE PACIENTES"]
["TIPO DE ACCIÓN",null,"TOTAL","A \nBENE-\nFICIARIOS","POR COMPRA \nDE SERVICIO",null,null,null,null,null,null," "]
["TRASLADOS NO DE URGENCIA","Ambulancia",null,null,null,{"$f":"AA242","v":""},null,null,null,null,null,null,null,null,null,null,null,null,null,null,null,null,null,null,null,null,{"$f":"IF(D242>C242,\"Error: Las actividades totales son menores que las realizadas en beneficiarios\",\"\")","v":""},{"$f":"IF(D242>C242,1,0)","v":0}]
[null,"Marítimo",null,null,null,{"$f":"AA243","v":""},null,null,null,null,null,null,null,null,null,null,null,null,null,null,null,null,null,null,null,null,{"$f":"IF(D243>C243,\"Error: Las actividades totales son menores que las realizadas en beneficiarios\",\"\")","v":""},{"$f":"IF(D243>C243,1,0)","v":0}]
[null,"Aéreo",null,null,null,{"$f":"AA244","v":""},null,null,null,null,null,null,null,null,null,null,null,null,null,null,null,null,null,null,null,null,{"$f":"IF(D244>C244,\"Error: Las actividades totales son menores que las realizadas en beneficiarios\",\"\")","v":""},{"$f":"IF(D244>C244,1,0)","v":0}]
["SECCIÓN S: INTERRUPCIÓN VOLUNTARIA DEL EMBARAZO, (IVE)"]
["TIPO DE INTERVENCIÓN",null,"TOTAL","BENEFICIARIOS MAI","GRUPOS ETARIOS",null,"CAUSALES",null,null,"COMPRAS REALIZADAS AL SISTEMA ","COMPRAS REALIZADAS AL SISTEMA","COMPRAS REALIZADAS AL EXTRA-SISTEMA","COMPRAS REALIZADAS AL EXTRA-SISTEMA"]
[null,null,null,null,"< 14 AÑOS","14 AÑOS Y MAS","CAUSAL N°1              MUJER EMBARAZADA CON RIESGO VITAL","CAUSAL N°2 INVIABILIDAD FETAL DE CARÁCTER LETAL","CAUSAL N°3 POR VIOLACIÓN","< 14 AÑOS","14 AÑOS Y MAS","< 14 AÑOS","14 AÑOS Y MAS"]
["Día cama hospitalización integral medicina, cirugía, pediatría, obstetricia-ginecología y especialidades (sala 3 camas o más) (Hosp. Alta Complejidad)","Día cama hospitalización integral medicina, cirugía, pediatría, obstetricia-ginecología y especialidades (sala 3 camas o más) (Hosp. Alta Complejidad)",{"$f":"SUM(E248:F248)","v":0}]
["Día cama hospitalización integral medicina, cirugía, pediatría, obstetricia-ginecología y especialidades (sala 3 camas o más) (Hosp. Mediana Complejidad)","Día cama hospitalización integral medicina, cirugía, pediatría, obstetricia-ginecología y especialidades (sala 3 camas o más) (Hosp. Mediana Complejidad)",{"$f":"SUM(E249:F249)","v":0}]
["Día cama hospitalización integral adulto en Unidad de Cuidado Intensivo (U.C.I.) ",null,{"$f":"SUM(E250:F250)","v":0}]
["Día cama hospitalización integral adulto en Unidad de Tratamiento Intermedio (U.T.I)",null,{"$f":"SUM(E251:F251)","v":0}]
["Día cama integral de observación o día cama integral ambulatorio diurno",null,{"$f":"SUM(E252:F252)","v":0}]
[null,"TOTAL DIAS CAMAS",{"$f":"SUM(C248:C252)","v":0},0,0,0,0,0,0,{"$f":"SUM(J248:J252)","v":0},{"$f":"SUM(K248:K252)","v":0},{"$f":"SUM(L248:L252)","v":0},{"$f":"SUM(M248:M252)","v":0}]
["Cariotipo en fibroblastos por cultivo de trofoblasto, líquido amniótico, piel u otros bandeos G y eventualmente Q,R,C,NOR",null,{"$f":"SUM(E254:F254)","v":0}]
["FISH Cromosomas X e Y",null,{"$f":"SUM(E255:F255)","v":0}]
["Diagnóstico Genético Molecular: Displasia Tanatofórica tipo I y II",null,{"$f":"SUM(E256:F256)","v":0}]
["TOTAL EXAMENES DE LABORATORIO",null,{"$f":"SUM(C254:C256)","v":0},0,0,0,0,0,0,0,0,0,0]
["Radiografía de tórax frontal y lateral",null,{"$f":"SUM(E258:F258)","v":0}]
["Radiografía de pelvis, cadera o coxofemoral",null,{"$f":"SUM(E259:F259)","v":0}]
["Radiografía de brazo, antebrazo, codo, muñeca, mano, dedos, pie  (frontal y lateral)",null,{"$f":"SUM(E260:F260)","v":0}]
[null,"TOTAL EXAMENES RADIOLÓGICOS",{"$f":"SUM(C258:C260)","v":0},0,0,0,0,0,0,{"$f":"SUM(J258:J260)","v":0},{"$f":"SUM(K258:K260)","v":0},{"$f":"SUM(L258:L260)","v":0},{"$f":"SUM(M258:M260)","v":0}]
["Resonancia Magnética Fetal",null,{"$f":"SUM(E262:F262)","v":0}]
["Ecografía obstétrica",null,{"$f":"SUM(E263:F263)","v":0}]
["Ecografía doppler de vasos placentarios",null,{"$f":"SUM(E264:F264)","v":0}]
[null,"TOTAL EXAMENES POR IMÁGENES",{"$f":"SUM(C262:C264)","v":0},0,0,0,0,0,0,0,0,0,0]
["Consulta Médica de Especialidad en Obstetricia y Ginecología ","Consulta Médica de Especialidad en Obstetricia y Ginecología",{"$f":"SUM(E266:F266)","v":0}]
["Evaluación psiquiátrica previa a terapia (1ra. consulta).","Evaluación psiquiátrica previa a terapia (1ra. consulta).",0]
["Consulta Psicólogo clínico (sesiones 45')","Consulta Psicólogo clínico (sesiones 45')",0]
["Consulta o control por enfermera, matrona o nutricionista",null,0]
["Educación de grupo por asistente social","Educación de grupo por asistente social",0]
["Consulta por Asistente Social",null,0]
["Atención psiquiátrica o psicoterapia de familia, individual, de relajación o de manejo (con familia u otros);(cada sesión mínimo 45')","Atención psiquiátrica o psicoterapia de familia, individual, de relajación o de manejo (con familia u otros);(cada sesión mínimo 45')",0]
["Psicoterapia de grupo (por psicólogo o psiquiatra) (4 a 8 pacientes)","Psicoterapia de grupo (por psicólogo o psiquiatra) (4 a 8 pacientes)",0]
[null,"TOTAL CONSULTAS ",{"$f":"SUM(C266:C273)","v":0},0,0,0,0,0,0,0,0,0,0]
["Amniocentesis",null,{"$f":"SUM(E275:F275)","v":0}]
["Biopsia corial",null,0]
["Cordocentesis",null,0]
["Aspiración manual endouterina",null,0]
["Raspado uterino diagnóstico o terapéutico por metrorragia o por restos de aborto",null,0]
["Tratamiento Farmacológico Ley IVE (incluye Consulta especialidad en Obstetricia y Ginecología y Fármacos)",null,0]
[null,"TOTAL PROCEDIMIENTOS",{"$f":"SUM(C275:C280)","v":0},0,0,0,0,0,0,0,0,0,0]
["Parto normal","Parto normal",{"$f":"SUM(E282:F282)","v":0}]
["Parto distósico vaginal","Parto distósico vaginal",{"$f":"SUM(E283:F283)","v":0}]
["Parto presentación cefálica o podálica, c/s episiotomía, c/s sutura, c/s fórceps, c/s inducción, c/s versión interna, c/s revisión, c/s extracción manual de placenta, c/s monitorización. (Unico o Múltiple)",null,{"$f":"SUM(E284:F284)","v":0}]
["Cesárea c/s salpingoligadura o salpingectomía",null,{"$f":"SUM(E285:F285)","v":0}]
["Cesárea con histerectomía",null,{"$f":"SUM(E286:F286)","v":0}]
[null,"TOTAL CIRUGÍAS OBSTETRICAS Y PARTOS",{"$f":"SUM(C282:C286)","v":0},{"$f":"SUM(D282:D286)","v":0},{"$f":"SUM(E282:E286)","v":0},0,0,0,0,0,0,0,0]
[null,"TOTAL",{"$f":"SUM(C253+C257+C261+C265+C274+C281+C287)","v":0},0,0,0,0,0,0,0,0,0,0]

{"sheet":"Control","index":3,"n_rows":82,"n_cols":4,"rows_kept":82,"cut":false,"hidden":false,"merged":[]}
[]
[null,"HOJA","SECCION","Nº Errores"]
[null,"NOMBRE","Código comuna",{"$f":"+NOMBRE!AF2","v":1}]
[null,"NOMBRE","Código establecimiento/estrategia",{"$f":"+NOMBRE!AF3","v":1}]
[null,"NOMBRE","Tipo establecimiento/estrategia",{"$f":"+NOMBRE!AF4","v":1}]
[null,"NOMBRE","Dependencia",{"$f":"+NOMBRE!AF5","v":1}]
[null,"NOMBRE","Código Mes",{"$f":"+NOMBRE!AF6","v":1}]
[null,"B17","SECCIÓN E: INTERVENCIONES QUIRÚRGICAS POR TIPO DE INTERVENCIÓN ",{"$f":"SUM('B17'!AB197:AB200)","v":0}]
[null,"B17","SECCIÓN K: OTRAS ATENCIONES A PACIENTES AMBULATORIOS",{"$f":"SUM('B17'!#REF!)","v":{"$error":"#REF!"}}]
[null,"B17","SECCIÓN L: OTROS TRASLADOS DE PACIENTES",{"$f":"SUM('B17'!AB242:AB244)","v":0}]
[null,null,"TOTAL ERRORES",{"$f":"SUM(D3:D10)","v":{"$error":"#REF!"}}]
[]
[]
[]
[null,"¿Nombre vacío?"]
[null,{"$f":"ISBLANK(NOMBRE!B2)","v":true}]
[]
[]
[]
[]
[]
[]
[]
[]
[]
[]
[]
[]
[]
[]
[]
[]
[]
[]
[]
[]
[]
[]
[]
[]
[]
[]
[]
[]
[]
[]
[]
[]
[]
[]
[]
[]
[]
[]
[]
[]
[]
[]
[]
[]
[]
[]
[]
[]
[]
[]
[]
[]
[]
[]
[]
[]
[]
[]
[]
[]
[]
[]
[]
[]
[]
[null,null,null,{"$f":"SUM(D3:D7)","v":5}]

{"sheet":"MACROS","index":4,"n_rows":7,"n_cols":2,"rows_kept":7,"cut":false,"hidden":false,"merged":[[0,0,0,13],[6,1,7,7]]}
["Hoja de Macros y Utilidades"]
[{"$f":"CONCATENATE(\"ESTABLECIMIENTO/ESTRATEGIA: \",NOMBRE!B3,\" - \",\"( \",NOMBRE!C3,NOMBRE!D3,NOMBRE!E3,NOMBRE!F3,NOMBRE!G3,NOMBRE!H3,NOMBRE!I3,\" )\")","v":"ESTABLECIMIENTO/ESTRATEGIA:  - ( Falta Cód. Est. )"}]
[]
[]
[null,"CREA UNA COPIA  DEL ARCHIVO  (TRANFORMA HOJAS A VALORES)\nA ESTE NUEVO ARCHIVO DEBERÁ ASIGNARLE UN NOMBRE"]
[null,"Contraseña para copia del archivo :DEIS"]
[null,{"$f":"IF(Control!D11>0,\"REVISE LA HOJA CONTROL, EXISTEN ERRORES\",\"\")","v":{"$error":"#REF!"}}]