{"text_format":"1","workbook":"xlsx","n_sheets":5,"sheets":["NOMBRE","B","B17","Control","MACROS"],"not_rendered":{"charts":0,"images":1,"macros":1,"external_links":0,"defined_names":10,"comments":0,"pivot_tables":0},"unopened":[],"bounds":{"document_bytes":16777216,"sheet_cells":100000,"rows_first":2000,"rows_last":500,"rows_between":2000,"halvings":0,"cell_chars":16384,"cell_head_chars":4096},"cells_cut":0,"cells_raw":0,"read":"whole","date_system":"1900"}

{"sheet":"NOMBRE","index":0,"n_rows":37,"n_cols":32,"rows_kept":37,"cut":false,"hidden":false,"merged":[[1,8,1,13],[2,8,2,13],[13,0,13,1],[16,1,18,1],[0,0,0,1],[0,2,0,6],[8,0,8,1]]}
["DATOS DEL ESTABLECIMIENTO",null,"CÓDIGOS"]
["NOMBRE DE COMUNA",null,null,null,null,null,null,null,{"$f":"IF(OR(NOMBRE!C2=\"\",NOMBRE!D2=\"\",NOMBRE!E2=\"\",NOMBRE!F2=\"\",NOMBRE!G2=\"\"),\"Falta Cód. Com.\",\"\")","v":"Falta Cód. Com."},null,null,null,null,null,null,null,null,null,null,null,null,null,null,null,null,null,null,null,null,null,null,{"$f":"IF(I2>\"\",1,0)","v":1}]
["NOMBRE ESTABLECIMIENTO/ESTRATEGIA",null,null,null,null,null,null,null,{"$f":"IF(OR(NOMBRE!C3=\"\",NOMBRE!D3=\"\",NOMBRE!E3=\"\",NOMBRE!F3=\"\",NOMBRE!G3=\"\",NOMBRE!H3=\"\"),\"Falta Cód. Est.\",\"\")","v":"Falta Cód. Est."},null,null,null,null,null,null,null,null,null,null,null,null,null,null,null,null,null,null,null,null,null,null,{"$f":"IF(I3>\"\",1,0)","v":1}]
["TIPO DE ESTABLECIMIENTO/ESTRATEGIA",null,null,null,null,null,null,null,{"$f":"IF(OR(NOMBRE!B4=\"\"),\"Falta Tipo. Est.\",\"\")","v":"Falta Tipo. Est."},null,null,null,null,null,null,null,null,null,null,null,null,null,null,null,null,null,null,null,null,null,null,{"$f":"IF(I4>\"\",1,0)","v":1}]
["DEPENDENCIA",null,null,null,null,null,null,null,{"$f":"IF(OR(NOMBRE!B5=\"\"),\"Falta Dependencia. Est.\",\"\")","v":"Falta Dependencia. Est."},null,null,null,null,null,null,null,null,null,null,null,null,null,null,null,null,null,null,null,null,null,null,{"$f":"IF(I5>\"\",1,0)","v":1}]
["MES:",null,null,null,null,null,null,null,{"$f":"IF(OR(NOMBRE!C6=\"\",NOMBRE!D6=\"\"),\"Falta Cód. Mes.\",\"\")","v":"Falta Cód. Mes."},null,null,null,null,null,null,null,null,null,null,null,null,null,null,null,null,null,null,null,null,null,null,{"$f":"IF(I6>\"\",1,0)","v":1}]
["AÑO:",2023,null,null,null,null,null,null,null,null,null,null,null,null,null,null,null,null,null,null,null,null,null,null,null,null,null,null,null,null,null,{"$f":"SUM(AF2:AF6)","v":5}]
[]
["Versión 1.4: ABRIL 2023"]
[]
["Director Servicio de Salud o Director Establecimiento",null,null,null,null,null,null,null,null,null,null,null,null,null,null,null,null,null,null,null,null,null,null,null,null,"ENERO","Establecimiento de Mayor Complejidad (EMAYC)","SERVICIO DE SALUD"]
["Jefe de Estadisticas",null,null,null,null,null,null,null,null,null,null,null,null,null,null,null,null,null,null,null,null,null,null,null,null,"FEBRERO","Establecimiento de Mediana Complejidad (EMEDC)","MUNICIPAL"]
[null,null,null,null,null,null,null,null,null,null,null,null,null,null,null,null,null,null,null,null,null,null,null,null,null,"MARZO","Establecimiento de Menor Complejidad (EMENC)","OTRA INSTITUCIÓN (Delegado)"]
["MINSAL - DEIS",null,null,null,null,null,null,null,null,null,null,null,null,null,null,null,null,null,null,null,null,null,null,null,null,"ABRIL","Centros de Diagnóstico Terapéutico (CDT)"]
[null,null,null,null,null,null,null,null,null,null,null,null,null,null,null,null,null,null,null,null,null,null,null,null,null,"MAYO","Centro de Referencia de Salud (CRS)"]
[null,null,null,null,null,null,null,null,null,null,null,null,null,null,null,null,null,null,null,null,null,null,null,null,null,"JUNIO","Consultorio General Urbano (CGU)"]
[null,"SERIE BS",null,null,null,null,null,null,null,null,null,null,null,null,null,null,null,null,null,null,null,null,null,null,null,"JULIO","Consultorio General Urbano (CGU) - CESFAM"]
[null,null,null,null,null,null,null,null,null,null,null,null,null,null,null,null,null,null,null,null,null,null,null,null,null,"AGOSTO","Consultorio General Urbano(CGU) con SAPU/SUR/SAR"]
[null,null,null,null,null,null,null,null,null,null,null,null,null,null,null,null,null,null,null,null,null,null,null,null,null,"SEPTIEMBRE","Consultorio General Urbano (CGU) - CESFAM con SAPU/SAR"]
[null,null,null,null,null,null,null,null,null,null,null,null,null,null,null,null,null,null,null,null,null,null,null,null,null,"OCTUBRE","Consultorio General Rural (CGR)"]
[null,null,null,null,null,null,null,null,null,null,null,null,null,null,null,null,null,null,null,null,null,null,null,null,null,"NOVIEMBRE","Consultorio General Rural (CGR) - CESFAM"]
[null,null,null,null,null,null,null,null,null,null,null,null,null,null,null,null,null,null,null,null,null,null,null,null,null,"DICIEMBRE","Consultorio General Rural (CGR) con SAPU/SUR/SAR"]
[null,null,null,null,null,null,null,null,null,null,null,null,null,null,null,null,null,null,null,null,null,null,null,null,null,null,"Consultorio General Rural (CGR) - CESFAM con SAPU/SUR/SAR"]
[null,null,null,null,null,null,null,null,null,null,null,null,null,null,null,null,null,null,null,null,null,null,null,null,null,null,"Posta de Salud Rural (PSR)"]
[null,null,null,null,null,null,null,null,null,null,null,null,null,null,null,null,null,null,null,null,null,null,null,null,null,null,"Centro Comunitario de Salud Familiar (CECOF)"]
[null,null,null,null,null,null,null,null,null,null,null,null,null,null,null,null,null,null,null,null,null,null,null,null,null,null,"Consultorio de Salud Mental (COSAM)"]
[null,null,null,null,null,null,null,null,null,null,null,null,null,null,null,null,null,null,null,null,null,null,null,null,null,null,"Programa de Reparación y Atención Integral de Salud (PRAIS)"]
[null,null,null,null,null,null,null,null,null,null,null,null,null,null,null,null,null,null,null,null,null,null,null,null,null,null,"Centro de Atención Funcionarios (CAF)"]
[null,null,null,null,null,null,null,null,null,null,null,null,null,null,null,null,null,null,null,null,null,null,null,null,null,null,"Clínica Dental Móvil (CDM)"]
[null,null,null,null,null,null,null,null,null,null,null,null,null,null,null,null,null,null,null,null,null,null,null,null,null,null,"Dirección Servicio de Salud (DSS)"]
[null,null,null,null,null,null,null,null,null,null,null,null,null,null,null,null,null,null,null,null,null,null,null,null,null,null,"Servicio de Atención Primaria de Urgencia (SAPU)"]
[null,null,null,null,null,null,null,null,null,null,null,null,null,null,null,null,null,null,null,null,null,null,null,null,null,null,"Servicio de Atención Primaria de Urgencia Alta Resolución (SAR)"]
[null,null,null,null,null,null,null,null,null,null,null,null,null,null,null,null,null,null,null,null,null,null,null,null,null,null,"Laboratorio Clínico o Dental"]
[null,null,null,null,null,null,null,null,null,null,null,null,null,null,null,null,null,null,null,null,null,null,null,null,null,null,"Servicio de Atención Primaria de Urgencia Dental (SAPUDENT)"]
[null,null,null,null,null,null,null,null,null,null,null,null,null,null,null,null,null,null,null,null,null,null,null,null,null,null,"Centro de Rehabilitación (CR)"]
[null,null,null,null,null,null,null,null,null,null,null,null,null,null,null,null,null,null,null,null,null,null,null,null,null,null,"Hospital de Campaña"]
[null,null,null,null,null,null,null,null,null,null,null,null,null,null,null,null,null,null,null,null,null,null,null,null,null,null,"Centro Oncologico"]

{"sheet":"B","index":1,"n_rows":3180,"n_cols":40,"rows_kept":2250,"cut":true,"hidden":false,"merged":[[3167,7,3167,25],[650,2,650,25],[650,29,650,37],[660,2,660,37],[1038,7,1038,25],[1042,7,1042,25],[1050,7,1050,25],[1053,7,1053,25],[1054,2,1054,37],[1056,7,1056,25],[1023,7,1023,25],[1030,7,1030,25],[1034,7,1034,25],[1014,2,1014,25],[1014,29,1014,37],[987,7,987,25],[877,2,877,37],[944,2,944,37],[765,2,765,25],[765,29,765,37],[823,7,823,25],[659,7,659,25],[670,7,670,25],[720,7,720,25],[3154,7,3154,25],[2466,7,2466,25],[2978,7,2978,25],[1024,2,1024,37],[1031,2,1031,25],[721,2,721,37],[763,7,763,25],[522,2,522,37],[523,2,523,37],[581,7,581,25],[601,7,601,25],[847,2,847,37],[876,7,876,25],[901,7,901,25],[3159,7,3159,25],[2639,3,2639,6],[2888,3,2888,6],[2168,3,2168,6],[2881,3,2881,6],[2893,3,2893,6],[2969,7,2969,25],[2560,3,2560,6],[2599,3,2599,6],[2480,7,2480,25],[2585,7,2585,25],[2591,7,2591,25],[2592,7,2592,25],[2887,3,2887,6],[2959,7,2959,25],[2996,7,2996,25],[2997,2,2997,25],[3103,3,3103,6],[3015,7,3015,25],[3033,7,3033,25],[3065,7,3065,25],[2391,3,2391,6],[2396,3,2396,6],[2397,3,2397,6],[2438,0,2438,1],[1965,7,1965,25],[1981,7,1981,25],[1982,7,1982,25],[2281,7,2281,25],[2056,3,2056,6],[1031,29,1031,37],[2655,0,2655,1],[1617,7,1617,25],[1730,7,1730,25],[2066,3,2066,6],[2067,3,2067,6],[1882,7,1882,25],[1908,3,1908,6],[1251,7,1251,25],[1329,7,1329,25],[1460,7,1460,25],[1272,7,1272,25],[1791,3,1791,6],[1865,3,1865,6],[2437,3,2437,6],[988,0,988,1],[989,0,989,1],[990,2,990,25],[990,29,990,37],[989,2,989,37],[997,2,997,25],[997,29,997,37],[1005,2,1005,25],[1005,29,1005,37],[996,7,996,25],[1004,7,1004,25],[988,2,988,37],[1,0,2,0],[0,29,1,31],[0,35,2,35],[0,37,2,37],[0,17,1,19],[0,20,1,22],[0,3,0,6],[1,3,2,3],[0,36,2,36],[1,6,2,6],[1,8,1,10],[1,1,2,1],[0,33,1,34],[0,32,2,32],[1,4,1,5],[0,7,0,13],[1,7,2,7],[199,2,199,37],[222,2,222,37],[0,14,1,16],[0,2,2,2],[300,29,300,37],[0,23,1,25],[3,2,3,36],[160,2,160,36],[0,26,1,28],[1,11,1,13],[120,7,120,25],[73,2,73,37],[121,2,121,35],[124,2,124,35],[127,7,127,25],[123,7,123,25],[60,2,60,37],[4,2,4,37],[186,2,186,37],[150,2,150,37],[154,7,154,25],[158,7,158,25],[159,7,159,25],[58,7,58,25],[3174,7,3174,25],[53,7,53,25],[67,7,67,25],[70,7,70,25],[71,7,71,25],[72,7,72,25],[185,7,185,25],[198,7,198,25],[216,7,216,25],[220,7,220,25],[221,7,221,25],[223,2,223,25],[217,2,217,35],[299,7,299,25],[300,2,300,25],[2166,3,2166,6],[2169,3,2169,6],[1064,7,1064,25],[1039,3,1039,37],[1013,7,1013,25],[846,7,846,25],[380,7,380,25],[381,2,381,25],[426,7,426,25],[427,2,427,37],[381,29,381,37],[521,7,521,25],[1177,7,1177,25],[1223,7,1223,25],[1239,7,1239,25],[1118,7,1118,25],[1176,7,1176,25],[764,2,764,37],[824,2,824,25],[824,29,824,37],[1043,2,1043,37],[1051,2,1051,37],[1057,2,1057,37],[1058,2,1058,37],[1035,2,1035,25],[1035,29,1035,37],[902,2,902,37],[943,7,943,25],[582,2,582,37],[649,7,649,25],[59,7,59,25],[139,7,139,25],[145,7,145,25],[148,7,148,25],[149,7,149,25],[128,2,128,37],[135,7,135,25],[137,7,137,25],[138,7,138,25]],"bounds":{"rows_first":1000,"rows_last":250,"rows_between":1000,"halvings":1}}
[null,null,"TOTAL","ACTIVIDADES",null,null,null,"INTERVENCIONES QUIRÚRGICAS",null,null,null,null,null,null,"INTERVENCIONES QUIRÚRGICAS MAYORES NO AMBULATORIAS ELECTIVAS",null,null,"INTERVENCIONES QUIRÚRGICAS MAYORES AMBULATORIAS ELECTIVA",null,null,"INTERVENCIONES QUIRÚRGICAS MAYORES AMBULATORIAS URGENCIA",null,null,"INTERVENCIONES QUIRÚRGICAS MAYORES NO AMBULATORIAS URGENCIA",null,null,"PROCEDENCIA",null,null,"PRODUCCION INTRA HOSPITAL",null,null,"OPERATIVO","COMPRAS REALIZADAS",null,"VENTAS DE SERVICIOS","TRANSFERENCIA\n2022","TOTAL FACTURADO"," "]
["CODIGO","GLOSA",null,"TOTAL BENEFI-CIARIOS","BENEFICIARIOS",null,"NO BENEFI-CIARIOS","TOTAL BENEFI-    CIARIOS","PRINCIPAL",null,null,"SECUNDARIA",null,null,null,null,null,"< 15 AÑOS",null,null,"< 15 AÑOS",null,null,"< 15 AÑOS"]
[null,null,null,null,"MAI","MLE",null,null,"MAI","MLE","NO BENEFI-CIARIO","MAI","MLE","NO BENEFI-CIARIO","TOTAL","< 15 AÑOS","15 AÑOS Y MÁS","TOTAL","< 15 AÑOS","15 AÑOS Y MÁS","TOTAL","< 15 AÑOS","15 AÑOS Y MÁS","TOTAL","< 15 AÑOS","15 AÑOS Y MÁS","ATENCION CERRADA","ATENCION ABIERTA","EMERGENCIA","POR \nHONO-\nRARIOS","POR CONVENIOS","POR\nCONSULTO-\nRES DE \nLLAMADA",null,"AL SISTEMA ","EXTRA-SISTEMA"]
[null,"CONSULTAS Y ATENCION MEDICA "]
[null,"CONSULTAS DE ESPECIALIDADES MEDICAS"]
["0101201","Consulta Médica de Especialidad en Dermatología",{"$f":"SUM(D6+G6)","v":0},{"$f":"SUM(E6:F6)","v":0},null,null,null,null,null,null,null,null,null,null,null,null,null,null,null,null,null,null,null,null,null,null,null,null,null,null,null,null,null,null,null,null,9050,{"$f":"AK6*E6","v":0}," "," "]
["0101202","Consulta Médica de Especialidad en Geriatría",{"$f":"SUM(D7+G7)","v":0},{"$f":"SUM(E7:F7)","v":0},null,null,null,null,null,null,null,null,null,null,null,null,null,null,null,null,null,null,null,null,null,null,null,null,null,null,null,null,null,null,null,null,9050,0," "," "]
["0101203","Consulta Médica de Especialidad en Neurocirugía",0,0,null,null,null,null,null,null,null,null,null,null,null,null,null,null,null,null,null,null,null,null,null,null,null,null,null,null,null,null,null,null,null,null,9050,0]
["0101204","Consulta Médica de Especialidad en Oftalmología",0,0,null,null,null,null,null,null,null,null,null,null,null,null,null,null,null,null,null,null,null,null,null,null,null,null,null,null,null,null,null,null,null,null,9050,0]
["0101205","Consulta Médica de Especialidad en Otorrinolaringología",0,0,null,null,null,null,null,null,null,null,null,null,null,null,null,null,null,null,null,null,null,null,null,null,null,null,null,null,null,null,null,null,null,null,9050,0]
["0101206","Consulta Médica de Especialidad en Reumatología",0,0,null,null,null,null,null,null,null,null,null,null,null,null,null,null,null,null,null,null,null,null,null,null,null,null,null,null,null,null,null,null,null,null,9050,0]
["0101207","Consulta Médica de Especialidad en Endocrinología Adulto",0,0,null,null,null,null,null,null,null,null,null,null,null,null,null,null,null,null,null,null,null,null,null,null,null,null,null,null,null,null,null,null,null,null,9050,0]
["0101208","Consulta Médica de Especialidad en Endocrinología Pediátrica",0,0,null,null,null,null,null,null,null,null,null,null,null,null,null,null,null,null,null,null,null,null,null,null,null,null,null,null,null,null,null,null,null,null,9050,0]
["0101209","Consulta Médica de Especialidad en Neurología Adultos",0,0,null,null,null,null,null,null,null,null,null,null,null,null,null,null,null,null,null,null,null,null,null,null,null,null,null,null,null,null,null,null,null,null,9050,0]
["0101210","Consulta Médica de Especialidad en Neurología Pediátrica",0,0,null,null,null,null,null,null,null,null,null,null,null,null,null,null,null,null,null,null,null,null,null,null,null,null,null,null,null,null,null,null,null,null,9050,0]
["0101211","Consulta Médica de Especialidad en Oncología Médica",0,0,null,null,null,null,null,null,null,null,null,null,null,null,null,null,null,null,null,null,null,null,null,null,null,null,null,null,null,null,null,null,null,null,9050,0]
["0101212","Consulta Médica de Especialidad en Psiquiatría adultos",0,0,null,null,null,null,null,null,null,null,null,null,null,null,null,null,null,null,null,null,null,null,null,null,null,null,null,null,null,null,null,null,null,null,9050,0]
["0101213","Consulta Médica de Especialidad en Psiquiatría pediátrica y de la adolescencia",0,0,null,null,null,null,null,null,null,null,null,null,null,null,null,null,null,null,null,null,null,null,null,null,null,null,null,null,null,null,null,null,null,null,9050,0]
["0101300","Consulta Médica otras Especialidades",0,0,null,null,null,null,null,null,null,null,null,null,null,null,null,null,null,null,null,null,null,null,null,null,null,null,null,null,null,null,null,null,null,null,9050,0]
["0101301","Consulta Médica de Especialidad en Cardiología",0,0,null,null,null,null,null,null,null,null,null,null,null,null,null,null,null,null,null,null,null,null,null,null,null,null,null,null,null,null,null,null,null,null,9050,0]
["0101302","Consulta Médica de Especialidad en Hematología",0,0,null,null,null,null,null,null,null,null,null,null,null,null,null,null,null,null,null,null,null,null,null,null,null,null,null,null,null,null,null,null,null,null,9050,0]
["0101303","Consulta Médica de Especialidad en Infectología",0,0,null,null,null,null,null,null,null,null,null,null,null,null,null,null,null,null,null,null,null,null,null,null,null,null,null,null,null,null,null,null,null,null,9050,0]
["0101304","Consulta Médica de Especialidad en Inmunología",0,0,null,null,null,null,null,null,null,null,null,null,null,null,null,null,null,null,null,null,null,null,null,null,null,null,null,null,null,null,null,null,null,null,9050,0]
["0101305","Consulta Médica de Especialidad en Medicina Familiar",0,0,null,null,null,null,null,null,null,null,null,null,null,null,null,null,null,null,null,null,null,null,null,null,null,null,null,null,null,null,null,null,null,null,9050,0]
["0101306","Consulta Médica de Especialidad en Medicina Física y Rehabilitación",0,0,null,null,null,null,null,null,null,null,null,null,null,null,null,null,null,null,null,null,null,null,null,null,null,null,null,null,null,null,null,null,null,null,9050,0]
["0101307","Consulta Médica de Especialidad en Medicina Interna",0,0,null,null,null,null,null,null,null,null,null,null,null,null,null,null,null,null,null,null,null,null,null,null,null,null,null,null,null,null,null,null,null,null,9050,0]
["0101308","Consulta Médica de Especialidad en Obstetricia y Ginecología",0,0,null,null,null,null,null,null,null,null,null,null,null,null,null,null,null,null,null,null,null,null,null,null,null,null,null,null,null,null,null,null,null,null,9050,0]
["0101309","Consulta Médica de Especialidad en Pediatría",0,0,null,null,null,null,null,null,null,null,null,null,null,null,null,null,null,null,null,null,null,null,null,null,null,null,null,null,null,null,null,null,null,null,9050,0]
["0101310","Consulta Médica de Especialidad en Traumatología y Ortopedia",0,0,null,null,null,null,null,null,null,null,null,null,null,null,null,null,null,null,null,null,null,null,null,null,null,null,null,null,null,null,null,null,null,null,9050,0]
["0101311","Consulta Médica de Especialidad en Urología",0,0,null,null,null,null,null,null,null,null,null,null,null,null,null,null,null,null,null,null,null,null,null,null,null,null,null,null,null,null,null,null,null,null,9050,0]
["0101312","Consulta Médica de Especialidad en Cirugía General",0,0,null,null,null,null,null,null,null,null,null,null,null,null,null,null,null,null,null,null,null,null,null,null,null,null,null,null,null,null,null,null,null,null,9050,0]
["0101313","Consulta Médica de Especialidad en Cirugía de Cabeza, Cuello y Maxilofacial",0,0,null,null,null,null,null,null,null,null,null,null,null,null,null,null,null,null,null,null,null,null,null,null,null,null,null,null,null,null,null,null,null,null,9050,0]
["0101314","Consulta Médica de Especialidad en Cirugía Cardiovascular",0,0,null,null,null,null,null,null,null,null,null,null,null,null,null,null,null,null,null,null,null,null,null,null,null,null,null,null,null,null,null,null,null,null,9050,0]
["0101315","Consulta Médica de Especialidad en Cirugía de Tórax",0,0,null,null,null,null,null,null,null,null,null,null,null,null,null,null,null,null,null,null,null,null,null,null,null,null,null,null,null,null,null,null,null,null,9050,0]
["0101316","Consulta Médica de Especialidad en Cirugía Plástica y Reparadora",0,0,null,null,null,null,null,null,null,null,null,null,null,null,null,null,null,null,null,null,null,null,null,null,null,null,null,null,null,null,null,null,null,null,9050,{"$f":"AK35*E35","v":0}]
["0101317","Consulta Médica de Especialidad en Cirugía Pediátrica",0,0,null,null,null,null,null,null,null,null,null,null,null,null,null,null,null,null,null,null,null,null,null,null,null,null,null,null,null,null,null,null,null,null,9050,0," "," "]
["0101318","Consulta Médica de Especialidad en Cirugía Vascular Periférica",0,0,null,null,null,null,null,null,null,null,null,null,null,null,null,null,null,null,null,null,null,null,null,null,null,null,null,null,null,null,null,null,null,null,9050,0]
["0101319","Consulta Médica de Especialidad en Coloproctología",0,0,null,null,null,null,null,null,null,null,null,null,null,null,null,null,null,null,null,null,null,null,null,null,null,null,null,null,null,null,null,null,null,null,9050,0]
["0101320","Consulta Médica de Especialidad en Diabetología",0,0,null,null,null,null,null,null,null,null,null,null,null,null,null,null,null,null,null,null,null,null,null,null,null,null,null,null,null,null,null,null,null,null,9050,0]
["0101321","Consulta Médica de Especialidad en Enfermedades Respiratorias Adulto",0,0,null,null,null,null,null,null,null,null,null,null,null,null,null,null,null,null,null,null,null,null,null,null,null,null,null,null,null,null,null,null,null,null,9050,0]
["0101322","Consulta Médica de Especialidad en Enfermedades Respiratorias Pediátricas",0,0,null,null,null,null,null,null,null,null,null,null,null,null,null,null,null,null,null,null,null,null,null,null,null,null,null,null,null,null,null,null,null,null,9050,0]
["0101323","Consulta Médica de Especialidad en Gastroenterología Adulto",0,0,null,null,null,null,null,null,null,null,null,null,null,null,null,null,null,null,null,null,null,null,null,null,null,null,null,null,null,null,null,null,null,null,9050,0]
["0101324","Consulta Médica de Especialidad en Gastroenterología Pediátrico",0,0,null,null,null,null,null,null,null,null,null,null,null,null,null,null,null,null,null,null,null,null,null,null,null,null,null,null,null,null,null,null,null,null,9050,0]
["0101325","Consulta Médica de Especialidad en Genética Clínica",0,0,null,null,null,null,null,null,null,null,null,null,null,null,null,null,null,null,null,null,null,null,null,null,null,null,null,null,null,null,null,null,null,null,9050,0]
["0101326","Consulta Médica de Especialidad en Nefrología Adulto",0,0,null,null,null,null,null,null,null,null,null,null,null,null,null,null,null,null,null,null,null,null,null,null,null,null,null,null,null,null,null,null,null,null,9050,0," "," "]
["0101327","Consulta Médica de Especialidad en Nefrología Pediátrico",0,0,null,null,null,null,null,null,null,null,null,null,null,null,null,null,null,null,null,null,null,null,null,null,null,null,null,null,null,null,null,null,null,null,9050,0]
["0101328","Consulta Médica de Especialidad en Neonatología",0,0,null,null,null,null,null,null,null,null,null,null,null,null,null,null,null,null,null,null,null,null,null,null,null,null,null,null,null,null,null,null,null,null,9050,0]
["0101329","Consulta Médica de Especialidad en Anestesiología",0,0,null,null,null,null,null,null,null,null,null,null,null,null,null,null,null,null,null,null,null,null,null,null,null,null,null,null,null,null,null,null,null,null,9050,0]
["0101330","Consulta Médica de Especialidad en Medicina de Urgencia",0,0]
["0101331","Consulta Médica de Especialidad en Radioterapia Oncológica",0,0,null,null,null,null,null,null,null,null,null,null,null,null,null,null,null,null,null,null,null,null,null,null,null,null,null,null,null,null,null,null,null,null,9050,0]
["0101332","Consulta Médica de Especialidad en Ginecología Pediátrica y de la Adolescencia",0,0,null,null,null,null,null,null,null,null,null,null,null,null,null,null,null,null,null,null,null,null,null,null,null,null,null,null,null,null,null,null,null,null,9050,0]
["0101333","Consulta Médica de Especialidad en Medicina Materno Fetal",0,0]
["0101334","Consulta Médica de Especialidad en Medicina Nuclear",0,0,null,null,null,null,null,null,null,null,null,null,null,null,null,null,null,null,null,null,null,null,null,null,null,null,null,null,null,null,null,null,null,null,9050,0,null," "]
[null,"TOTAL ARANCEL MAI",{"$f":"SUM(C6:C53)","v":0},{"$f":"SUM(D6:D53)","v":0},{"$f":"SUM(E6:E53)","v":0},{"$f":"SUM(F6:F53)","v":0},{"$f":"SUM(G6:G53)","v":0},null,null,null,null,null,null,null,null,null,null,null,null,null,null,null,null,null,null,null,{"$f":"SUM(AA6:AA53)","v":0},0,0,0,0,0,0,0,0,0,null,{"$f":"SUM(AL6:AL53)","v":0}]
[null,"OTRAS CONSULTAS MEDICAS"]
["0101001","Consulta Medicina General",{"$f":"SUM(D56+G56)","v":0},{"$f":"SUM(E56:F56)","v":0},null,null,null,null,null,null,null,null,null,null,null,null,null,null,null,null,null,null,null,null,null,null,null,null,null,null,null,null,null,null,null,null,6360,{"$f":"AK56*E56","v":0}," "," "]
["0101007","Atención médica del recién nacido en sala de parto o pabellón quirúrgico c/s reanimación cardio-respiratoria",{"$f":"SUM(D57+G57)","v":0},{"$f":"SUM(E57:F57)","v":0},null,null,null,null,null,null,null,null,null,null,null,null,null,null,null,null,null,null,null,null,null,null,null,null,null,null,null,null,null,null,null,null,16790,0,null," "]
["0101103","Consulta en Unidades de Urgencia Hospitalaria",0,0,null,null,null,null,null,null,null,null,null,null,null,null,null,null,null,null,null,null,null,null,null,null,null,null,null,null,null,null,null,null,null,null,9050,0," "," "]
[null,"TOTAL OTRAS CONSULTAS MÉDICAS",{"$f":"SUM(C56:C58)","v":0},{"$f":"SUM(D56:D58)","v":0},0,0,0,null,null,null,null,null,null,null,null,null,null,null,null,null,null,null,null,null,null,null,{"$f":"SUM(AA56:AA58)","v":0},{"$f":"SUM(AB56:AB58)","v":0},0,0,0,0,0,0,0,0,null,0," "," "]
[null,"TOTAL PRODUCCION",{"$f":"SUM(C54+C59)","v":0},{"$f":"SUM(D54+D59)","v":0},{"$f":"SUM(E54+E59)","v":0},{"$f":"SUM(F54+F59)","v":0},{"$f":"SUM(G54+G59)","v":0},null,null,null,null,null,null,null,null,null,null,null,null,null,null,null,null,null,null,null,{"$f":"SUM(AA54+AA59)","v":0},{"$f":"SUM(AB54+AB59)","v":0},0,0,0,0,0,0,0,0,null,{"$f":"SUM(AL54+AL59)","v":0}," "," "]
[null,"CONSULTAS POR OTROS PROFESIONALES DE LA SALUD                                   "]
["0102002","Control de salud niño con EDP por enfermera",{"$f":"SUM(D62+G62)","v":0},{"$f":"SUM(E62:F62)","v":0},null,null,null,null,null,null,null,null,null,null,null,null,null,null,null,null,null,null,null,null,null,null,null,null,null,null,null,null,null,null,null,null,2410,{"$f":"AK62*E62","v":0},null," "]
["0102003","Consulta o control por auxiliar de enfermería",0,0,null,null,null,null,null,null,null,null,null,null,null,null,null,null,null,null,null,null,null,null,null,null,null,null,null,null,null,null,null,null,null,null,780,0,null," "]
["0102005","Consulta por fonoaudiólogo",0,0,null,null,null,null,null,null,null,null,null,null,null,null,null,null,null,null,null,null,null,null,null,null,null,null,null,null,null,null,null,null,null,null,1920,0,null," "]
["0102008","Consulta o control por enfermera",0,0,null,null,null,null,null,null,null,null,null,null,null,null,null,null,null,null,null,null,null,null,null,null,null,null,null,null,null,null,null,null,null,null,1410,0,null," "]
["0102009","Consulta o control por matrona",0,0,null,null,null,null,null,null,null,null,null,null,null,null,null,null,null,null,null,null,null,null,null,null,null,null,null,null,null,null,null,null,null,null,1410,0,null," "]
["0102010","Consulta o control por nutricionista",0,0,null,null,null,null,null,null,null,null,null,null,null,null,null,null,null,null,null,null,null,null,null,null,null,null,null,null,null,null,null,null,null,null,1410,0,null," "]
[null,"TOTAL ARANCEL MAI",{"$f":"SUM(C62:C67)","v":0},{"$f":"SUM(D62:D67)","v":0},{"$f":"SUM(E62:E67)","v":0},{"$f":"SUM(F62:F67)","v":0},{"$f":"SUM(G62:G67)","v":0},null,null,null,null,null,null,null,null,null,null,null,null,null,null,null,null,null,null,null,{"$f":"SUM(AA62:AA67)","v":0},0,0,0,0,0,0,0,0,0,null,{"$f":"SUM(AL62:AL67)","v":0}]
["01010025","Consulta por otros profesionales ",0,0,null,null,null,null,null,null,null,null,null,null,null,null,null,null,null,null,null,null,null,null,null,null,null,null,null,null,null,null,null,null,null,null,null,null,null," "]
["01012817","Consulta por Trabajador(a) Social",0,0,null,null,null,null,null,null,null,null,null,null,null,null,null,null,null,null,null,null,null,null,null,null,null,null,null,null,null,null,null,null,null,null,null,null,null," "]
[null,"TOTAL ARANCEL MLE Y NO ARANCELADO",{"$f":"SUM(C69:C70)","v":0},{"$f":"SUM(D69:D70)","v":0},{"$f":"SUM(E69:E70)","v":0},{"$f":"SUM(F69:F70)","v":0},{"$f":"SUM(G69:G70)","v":0},null,null,null,null,null,null,null,null,null,null,null,null,null,null,null,null,null,null,null,{"$f":"SUM(AA69:AA70)","v":0},0,0,0,0,0,0,0,0,{"$f":"SUM(AJ69:AJ70)","v":0}]
[null,"TOTAL PRODUCCION",{"$f":"SUM(C68+C71)","v":0},{"$f":"SUM(D68+D71)","v":0},{"$f":"SUM(E68+E71)","v":0},{"$f":"SUM(F68+F71)","v":0},{"$f":"SUM(G68+G71)","v":0},null,null,null,null,null,null,null,null,null,null,null,null,null,null,null,null,null,null,null,{"$f":"SUM(AA68+AA71)","v":0},0,0,0,0,0,0,0,0,0,null,{"$f":"SUM(AL68+AL71)","v":0}]
[null,"TELEMEDICINA POR PROFESIONALES MÉDICOS"]
[null,"TELECONSULTAS"]
["0108001","Teleconsulta Medicina General",{"$f":"SUM(D75+G75)","v":0},{"$f":"SUM(E75:F75)","v":0},null,null,null,null,null,null,null,null,null,null,null,null,null,null,null,null,null,null,null,null,null,null,null,null,null,null,null,null,null,null,null,null,5290,{"$f":"AK75*E75","v":0},null," "]
["0108201","Teleconsulta Médica de Especialidad en Dermatología",0,0,null,null,null,null,null,null,null,null,null,null,null,null,null,null,null,null,null,null,null,null,null,null,null,null,null,null,null,null,null,null,null,null,7530,0]
["0108202","Teleconsulta Médica de Especialidad en Geriatría",0,0,null,null,null,null,null,null,null,null,null,null,null,null,null,null,null,null,null,null,null,null,null,null,null,null,null,null,null,null,null,null,null,null,7530,0]
["0108206","Teleconsulta Médica de Especialidad en Reumatología",0,0,null,null,null,null,null,null,null,null,null,null,null,null,null,null,null,null,null,null,null,null,null,null,null,null,null,null,null,null,null,null,null,null,7530,0]
["0108207","Teleconsulta Médica de Especialidad en Endocrinología Adulto",0,0,null,null,null,null,null,null,null,null,null,null,null,null,null,null,null,null,null,null,null,null,null,null,null,null,null,null,null,null,null,null,null,null,7530,0]
["0108208","Teleconsulta Médica de Especialidad en Endocrinología Pediátrica",0,0,null,null,null,null,null,null,null,null,null,null,null,null,null,null,null,null,null,null,null,null,null,null,null,null,null,null,null,null,null,null,null,null,7530,0]
["0108209","Teleconsulta Médica de Especialidad en Neurología Adultos",0,0,null,null,null,null,null,null,null,null,null,null,null,null,null,null,null,null,null,null,null,null,null,null,null,null,null,null,null,null,null,null,null,null,7530,0]
["0108210","Teleconsulta Médica de Especialidad en Neurología Pediátrica",0,0,null,null,null,null,null,null,null,null,null,null,null,null,null,null,null,null,null,null,null,null,null,null,null,null,null,null,null,null,null,null,null,null,7530,0]
["0108211","Teleconsulta Médica de Especialidad en Oncología Médica",0,0,null,null,null,null,null,null,null,null,null,null,null,null,null,null,null,null,null,null,null,null,null,null,null,null,null,null,null,null,null,null,null,null,7530,0]
["0108212","Teleconsulta Médica de Especialidad en Psiquiatría adultos",0,0,null,null,null,null,null,null,null,null,null,null,null,null,null,null,null,null,null,null,null,null,null,null,null,null,null,null,null,null,null,null,null,null,7530,0]
["0108213","Teleconsulta Médica de Especialidad en Psiquiatría pediátrica y de la adolescencia",0,0,null,null,null,null,null,null,null,null,null,null,null,null,null,null,null,null,null,null,null,null,null,null,null,null,null,null,null,null,null,null,null,null,7530,0]
["0108301","Teleconsulta Médica de Especialidad en Cardiología",0,0,null,null,null,null,null,null,null,null,null,null,null,null,null,null,null,null,null,null,null,null,null,null,null,null,null,null,null,null,null,null,null,null,7530,0]
["0108302","Teleconsulta Médica de Especialidad en Hematología",0,0,null,null,null,null,null,null,null,null,null,null,null,null,null,null,null,null,null,null,null,null,null,null,null,null,null,null,null,null,null,null,null,null,7530,0]
["0108303","Teleconsulta Médica de Especialidad en Infectología",0,0,null,null,null,null,null,null,null,null,null,null,null,null,null,null,null,null,null,null,null,null,null,null,null,null,null,null,null,null,null,null,null,null,7530,0]
["0108304","Teleconsulta Médica de Especialidad en Inmunología",0,0,null,null,null,null,null,null,null,null,null,null,null,null,null,null,null,null,null,null,null,null,null,null,null,null,null,null,null,null,null,null,null,null,7530,0]
["0108305","Teleconsulta Médica de Especialidad en Medicina Familiar",0,0,null,null,null,null,null,null,null,null,null,null,null,null,null,null,null,null,null,null,null,null,null,null,null,null,null,null,null,null,null,null,null,null,7530,0]
["0108306","Teleconsulta Médica de Especialidad en Medicina Física y Rehabilitación",0,0,null,null,null,null,null,null,null,null,null,null,null,null,null,null,null,null,null,null,null,null,null,null,null,null,null,null,null,null,null,null,null,null,7530,0]
["0108307","Teleconsulta Médica de Especialidad en Medicina Interna",0,0,null,null,null,null,null,null,null,null,null,null,null,null,null,null,null,null,null,null,null,null,null,null,null,null,null,null,null,null,null,null,null,null,7530,0]
["0108308","Teleconsulta Médica de Especialidad en Obstetricia y Ginecología",0,0,null,null,null,null,null,null,null,null,null,null,null,null,null,null,null,null,null,null,null,null,null,null,null,null,null,null,null,null,null,null,null,null,7530,0]
["0108309","Teleconsulta Médica de Especialidad en Pediatría",0,0,null,null,null,null,null,null,null,null,null,null,null,null,null,null,null,null,null,null,null,null,null,null,null,null,null,null,null,null,null,null,null,null,7530,0]
["0108310","Teleconsulta Médica de Especialidad en Traumatología y Ortopedia",0,0,null,null,null,null,null,null,null,null,null,null,null,null,null,null,null,null,null,null,null,null,null,null,null,null,null,null,null,null,null,null,null,null,7530,0]
["0108311","Teleconsulta Médica de Especialidad en Urología",0,0,null,null,null,null,null,null,null,null,null,null,null,null,null,null,null,null,null,null,null,null,null,null,null,null,null,null,null,null,null,null,null,null,7530,0]
["0108319","Teleconsulta Médica de Especialidad en Coloproctología",0,0,null,null,null,null,null,null,null,null,null,null,null,null,null,null,null,null,null,null,null,null,null,null,null,null,null,null,null,null,null,null,null,null,7530,0]
["0108320","Teleconsulta Médica de Especialidad en Diabetología",0,0,null,null,null,null,null,null,null,null,null,null,null,null,null,null,null,null,null,null,null,null,null,null,null,null,null,null,null,null,null,null,null,null,7530,0]
["0108321","Teleconsulta Médica de Especialidad en Enfermedades Respiratorias Adulto",0,0,null,null,null,null,null,null,null,null,null,null,null,null,null,null,null,null,null,null,null,null,null,null,null,null,null,null,null,null,null,null,null,null,7530,0]
["0108322","Teleconsulta Médica de Especialidad en Enfermedades Respiratorias Pediátricas",0,0,null,null,null,null,null,null,null,null,null,null,null,null,null,null,null,null,null,null,null,null,null,null,null,null,null,null,null,null,null,null,null,null,7530,0]
["0108323","Teleconsulta Médica de Especialidad en Gastroenterología Adulto",0,0,null,null,null,null,null,null,null,null,null,null,null,null,null,null,null,null,null,null,null,null,null,null,null,null,null,null,null,null,null,null,null,null,7530,0]
["0108324","Teleconsulta Médica de Especialidad en Gastroenterología Pediátrico",0,0,null,null,null,null,null,null,null,null,null,null,null,null,null,null,null,null,null,null,null,null,null,null,null,null,null,null,null,null,null,null,null,null,7530,0]
["0108325","Teleconsulta Médica de Especialidad en Genética Clínica",0,0,null,null,null,null,null,null,null,null,null,null,null,null,null,null,null,null,null,null,null,null,null,null,null,null,null,null,null,null,null,null,null,null,7530,0]
["0108326","Teleconsulta Médica de Especialidad en Nefrología Adulto",0,0,null,null,null,null,null,null,null,null,null,null,null,null,null,null,null,null,null,null,null,null,null,null,null,null,null,null,null,null,null,null,null,null,7530,0]
["0108327","Teleconsulta Médica de Especialidad en Nefrología Pediátrico",0,0,null,null,null,null,null,null,null,null,null,null,null,null,null,null,null,null,null,null,null,null,null,null,null,null,null,null,null,null,null,null,null,null,7530,0]
["0108331","Teleconsulta Médica de Especialidad en Radioterapia Oncológica",0,0,null,null,null,null,null,null,null,null,null,null,null,null,null,null,null,null,null,null,null,null,null,null,null,null,null,null,null,null,null,null,null,null,7530,0]
["0108203","Teleconsulta Médica de Especialidad en Neurocirugía",0,0,null,null,null,null,null,null,null,null,null,null,null,null,null,null,null,null,null,null,null,null,null,null,null,null,null,null,null,null,null,null,null,null,7530,0]
["0108204","Teleconsulta Médica de Especialidad en Oftalmología",0,0,null,null,null,null,null,null,null,null,null,null,null,null,null,null,null,null,null,null,null,null,null,null,null,null,null,null,null,null,null,null,null,null,7530,0]
["0108205","Teleconsulta Médica de Especialidad en Otorrinolaringología",0,0,null,null,null,null,null,null,null,null,null,null,null,null,null,null,null,null,null,null,null,null,null,null,null,null,null,null,null,null,null,null,null,null,7530,0]
["0108312","Teleconsulta Médica de Especialidad en Cirugía General",0,0,null,null,null,null,null,null,null,null,null,null,null,null,null,null,null,null,null,null,null,null,null,null,null,null,null,null,null,null,null,null,null,null,7530,0]
["0108313","Teleconsulta Médica de Especialidad en Cirugía de Cabeza, Cuello y Maxilofacial",0,0,null,null,null,null,null,null,null,null,null,null,null,null,null,null,null,null,null,null,null,null,null,null,null,null,null,null,null,null,null,null,null,null,7530,0]
["0108314","Teleconsulta Médica de Especialidad en Cirugía Cardiovascular",0,0,null,null,null,null,null,null,null,null,null,null,null,null,null,null,null,null,null,null,null,null,null,null,null,null,null,null,null,null,null,null,null,null,7530,0]
["0108315","Teleconsulta Médica de Especialidad en Cirugía de Tórax",0,0,null,null,null,null,null,null,null,null,null,null,null,null,null,null,null,null,null,null,null,null,null,null,null,null,null,null,null,null,null,null,null,null,7530,0]
["0108316","Teleconsulta Médica de Especialidad en Cirugía Plástica y Reparadora",0,0,null,null,null,null,null,null,null,null,null,null,null,null,null,null,null,null,null,null,null,null,null,null,null,null,null,null,null,null,null,null,null,null,7530,0]
["0108317","Teleconsulta Médica de Especialidad en Cirugía Pediátrica",0,0,null,null,null,null,null,null,null,null,null,null,null,null,null,null,null,null,null,null,null,null,null,null,null,null,null,null,null,null,null,null,null,null,7530,0]
["0108318","Teleconsulta Médica de Especialidad en Cirugía Vascular Periférica",0,0,null,null,null,null,null,null,null,null,null,null,null,null,null,null,null,null,null,null,null,null,null,null,null,null,null,null,null,null,null,null,null,null,7530,0]
["0108329","Teleconsulta Médica de Especialidad en Anestesiología",0,0,null,null,null,null,null,null,null,null,null,null,null,null,null,null,null,null,null,null,null,null,null,null,null,null,null,null,null,null,null,null,null,null,7530,0]
["0108332","Teleconsulta Médica de Especialidad en Ginecología Pediátrica y de la Adolescencia",0,0,null,null,null,null,null,null,null,null,null,null,null,null,null,null,null,null,null,null,null,null,null,null,null,null,null,null,null,null,null,null,null,null,7530,0]
["0108333","Teleconsulta Médica de Especialidad en Medicina Materno Fetal",0,0,null,null,null,null,null,null,null,null,null,null,null,null,null,null,null,null,null,null,null,null,null,null,null,null,null,null,null,null,null,null,null,null,7530,0]
["0108334","Teleconsulta Médica de Especialidad en Medicina Nuclear",0,0,null,null,null,null,null,null,null,null,null,null,null,null,null,null,null,null,null,null,null,null,null,null,null,null,null,null,null,null,null,null,null,null,7530,0,null," "]
[null,"TOTAL",{"$f":"SUM(C75:C120)","v":0},{"$f":"SUM(D75:D120)","v":0},0,0,0,null,null,null,null,null,null,null,null,null,null,null,null,null,null,null,null,null,null,null,{"$f":"SUM(AA75:AA120)","v":0},{"$f":"SUM(AB75:AB120)","v":0},{"$f":"SUM(AC75:AC120)","v":0},{"$f":"SUM(AD75:AD120)","v":0},{"$f":"SUM(AE75:AE120)","v":0},{"$f":"SUM(AF75:AF120)","v":0},{"$f":"SUM(AG75:AG120)","v":0},{"$f":"SUM(AH75:AH120)","v":0},{"$f":"SUM(AI75:AI120)","v":0},{"$f":"SUM(AJ75:AJ120)","v":0},null,{"$f":"SUM(AL75:AL120)","v":0}]
[null,"TELEMEDICINA PROFESIONALES NO MÉDICOS"]
["0108400","Teleconsulta: Atención Integral de Nutricionista (incluye 3 sesiones)",{"$f":"SUM(D123+G123)","v":0},{"$f":"SUM(E123:F123)","v":0},null,null,null,null,null,null,null,null,null,null,null,null,null,null,null,null,null,null,null,null,null,null,null,null,null,null,null,null,null,null,null,null,21750,{"$f":"AK123*E123","v":0},null," "]
[null,"TOTAL",{"$f":"SUM(C123)","v":0},{"$f":"SUM(D123)","v":0},0,0,0,null,null,null,null,null,null,null,null,null,null,null,null,null,null,null,null,null,null,null,{"$f":"SUM(AA123)","v":0},{"$f":"SUM(AB123)","v":0},0,0,0,0,0,0,0,0,null,0]
[null,"TELEINTERCONSULTA (TELEMEDICINA)"]
["0109001","Teleinterconsulta médica",{"$f":"SUM(D126+G126)","v":0},{"$f":"SUM(E126:F126)","v":0},null,null,null,null,null,null,null,null,null,null,null,null,null,null,null,null,null,null,null,null,null,null,null,null,null,null,null,null,null,null,null,null,7530,{"$f":"AK126*E126","v":0},null," "]
["0109002","Teleinterconsulta no médica",0,0,null,null,null,null,null,null,null,null,null,null,null,null,null,null,null,null,null,null,null,null,null,null,null,null,null,null,null,null,null,null,null,null,6400,{"$f":"AK127*E127","v":0},null," "]
[null,"TOTAL",{"$f":"SUM(C126:C127)","v":0},{"$f":"SUM(D126:D127)","v":0},{"$f":"SUM(E126:E127)","v":0},0,0,null,null,null,null,null,null,null,null,null,null,null,null,null,null,null,null,null,null,null,{"$f":"SUM(AA126:AA127)","v":0},{"$f":"SUM(AB126:AB127)","v":0},0,0,0,0,0,0,0,0,null,0]
[null,"EDUCACION DE GRUPO                                                                                         "]
["0103001","Educación de grupo por médico",{"$f":"SUM(D130+G130)","v":0},{"$f":"SUM(E130:F130)","v":0},null,null,null,null,null,null,null,null,null,null,null,null,null,null,null,null,null,null,null,null,null,null,null,null,null,null,null,null,null,null,null,null,4640,{"$f":"AK130*E130","v":0},null," "]
["0103003","Educación de grupo por Trabajador/a Social",0,0,null,null,null,null,null,null,null,null,null,null,null,null,null,null,null,null,null,null,null,null,null,null,null,null,null,null,null,null,null,null,null,null,2550,0,null," "]
["0103004","Educación de grupo por auxiliar de enfermería",0,0,null,null,null,null,null,null,null,null,null,null,null,null,null,null,null,null,null,null,null,null,null,null,null,null,null,null,null,null,null,null,null,null,780,0,null," "]
["0103005","Educación de grupo por enfermera",0,0,null,null,null,null,null,null,null,null,null,null,null,null,null,null,null,null,null,null,null,null,null,null,null,null,null,null,null,null,null,null,null,null,2550,0,null," "]
["0103006","Educación de grupo por matrona ",0,0,null,null,null,null,null,null,null,null,null,null,null,null,null,null,null,null,null,null,null,null,null,null,null,null,null,null,null,null,null,null,null,null,2550,0,null," "]
["0103007","Educación de grupo por nutricionista",0,0,null,null,null,null,null,null,null,null,null,null,null,null,null,null,null,null,null,null,null,null,null,null,null,null,null,null,null,null,null,null,null,null,2550,0,null," "]
[null,"TOTAL ARANCEL MAI",{"$f":"SUM(C130:C135)","v":0},{"$f":"SUM(D130:D135)","v":0},{"$f":"SUM(E130:E135)","v":0},{"$f":"SUM(F130:F135)","v":0},{"$f":"SUM(G130:G135)","v":0},null,null,null,null,null,null,null,null,null,null,null,null,null,null,null,null,null,null,null,{"$f":"SUM(AA130:AA135)","v":0},{"$f":"SUM(AB130:AB135)","v":0},0,0,0,0,0,0,0,0,null,{"$f":"SUM(AL130:AL135)","v":0}]
["01010033","Educación de grupo por otro integrante del equipo de salud",{"$f":"SUM(D137+G137)","v":0},{"$f":"SUM(E137:F137)","v":0},null,null,null,null,null,null,null,null,null,null,null,null,null,null,null,null,null,null,null,null,null,null,null,null,null,null,null,null,null,null,null,null,null,null,null," "]
[null,"TOTAL ARANCEL MLE Y NO ARANCELADO",{"$f":"C137","v":0},{"$f":"D137","v":0},{"$f":"E137","v":0},{"$f":"F137","v":0},{"$f":"G137","v":0},null,null,null,null,null,null,null,null,null,null,null,null,null,null,null,null,null,null,null,{"$f":"AA137","v":0},0,0,0,0,0,0,0,0,0]
[null,"TOTAL PRODUCCION",{"$f":"SUM(C136+C138)","v":0},{"$f":"SUM(D136+D138)","v":0},{"$f":"SUM(E136+E138)","v":0},{"$f":"SUM(F136+F138)","v":0},{"$f":"SUM(G136+G138)","v":0},null,null,null,null,null,null,null,null,null,null,null,null,null,null,null,null,null,null,null,{"$f":"SUM(AA136+AA138)","v":0},0,0,0,0,0,0,0,0,0,0,{"$f":"SUM(AL136+AL138)","v":0}]
[null,"VISITAS DOMICILIARIAS                                                                                       "]
["0104002","Visita a domicilio por asistente social",{"$f":"SUM(D141+G141)","v":0},{"$f":"SUM(E141:F141)","v":0},null,null,null,null,null,null,null,null,null,null,null,null,null,null,null,null,null,null,null,null,null,null,null,null,null,null,null,null,null,null,null,null,2210,{"$f":"AK141*E141","v":0},null," "]
["0104003","Visita a domicilio por auxiliar de enfermería",{"$f":"SUM(D142+G142)","v":0},{"$f":"SUM(E142:F142)","v":0},null,null,null,null,null,null,null,null,null,null,null,null,null,null,null,null,null,null,null,null,null,null,null,null,null,null,null,null,null,null,null,null,1270,{"$f":"AK142*E142","v":0},null," "]
["0104004","Visita a domicilio por enfermera",{"$f":"SUM(D143+G143)","v":0},{"$f":"SUM(E143:F143)","v":0},null,null,null,null,null,null,null,null,null,null,null,null,null,null,null,null,null,null,null,null,null,null,null,null,null,null,null,null,null,null,null,null,2210,{"$f":"AK143*E143","v":0},null," "]
["0104005","Visita a domicilio por matrona",{"$f":"SUM(D144+G144)","v":0},{"$f":"SUM(E144:F144)","v":0},null,null,null,null,null,null,null,null,null,null,null,null,null,null,null,null,null,null,null,null,null,null,null,null,null,null,null,null,null,null,null,null,2210,{"$f":"AK144*E144","v":0},null," "]
["0104006","Visita a domicilio por nutricionista",{"$f":"SUM(D145+G145)","v":0},{"$f":"SUM(E145:F145)","v":0},null,null,null,null,null,null,null,null,null,null,null,null,null,null,null,null,null,null,null,null,null,null,null,null,null,null,null,null,null,null,null,null,2210,{"$f":"AK145*E145","v":0},null," "]
[null,"TOTAL ARANCEL MAI",{"$f":"SUM(C141:C145)","v":0},{"$f":"SUM(D141:D145)","v":0},{"$f":"SUM(E141:E145)","v":0},{"$f":"SUM(F141:F145)","v":0},{"$f":"SUM(G141:G145)","v":0},null,null,null,null,null,null,null,null,null,null,null,null,null,null,null,null,null,null,null,{"$f":"SUM(AA141:AA145)","v":0},{"$f":"SUM(AB141:AB145)","v":0},0,0,0,0,0,0,0,0,null,{"$f":"SUM(AL141:AL145)","v":0}]
["01010037","Visita a domicilio por otro integrante del equipo de salud",{"$f":"SUM(D147+G147)","v":0},{"$f":"SUM(E147:F147)","v":0},null,null,null,null,null,null,null,null,null,null,null,null,null,null,null,null,null,null,null,null,null,null,null,null,null,null,null,null,null,null,null,null,null,null,null," "]
["01010038","Visita domiciaria por otro profesional y técnicos paramédico",{"$f":"SUM(D148+G148)","v":0},{"$f":"SUM(E148:F148)","v":0},null,null,null,null,null,null,null,null,null,null,null,null,null,null,null,null,null,null,null,null,null,null,null,null,null,null,null,null,null,null,null,null,null,null,null," "]
[null,"TOTAL ARANCEL MLE Y NO ARANCELADO",{"$f":"SUM(C147:C148)","v":0},{"$f":"SUM(D147:D148)","v":0},{"$f":"SUM(E147:E148)","v":0},{"$f":"SUM(F147:F148)","v":0},{"$f":"SUM(G147:G148)","v":0},null,null,null,null,null,null,null,null,null,null,null,null,null,null,null,null,null,null,null,{"$f":"SUM(AA147:AA148)","v":0},0,0,0,0,0,0,0,0,0]
[null,"TOTAL",{"$f":"SUM(C146+C149)","v":0},{"$f":"SUM(D146+D149)","v":0},{"$f":"SUM(E146+E149)","v":0},{"$f":"SUM(F146+F149)","v":0},{"$f":"SUM(G146+G149)","v":0},null,null,null,null,null,null,null,null,null,null,null,null,null,null,null,null,null,null,null,{"$f":"SUM(AA146+AA149)","v":0},{"$f":"SUM(AB146+AB149)","v":0},0,{"$f":"SUM(AD146+AD149)","v":0},{"$f":"SUM(AE146+AE149)","v":0},0,0,0,0,0,null,{"$f":"SUM(AL146+AL149)","v":0}]
[null,"MISCELANEOS                                                                                            "]
["0106002","Curación simple ambulatoria",{"$f":"SUM(D152+G152)","v":0},{"$f":"SUM(E152:F152)","v":0},null,null,null,null,null,null,null,null,null,null,null,null,null,null,null,null,null,null,null,null,null,null,null,null,null,null,null,null,null,null,null,null,850,{"$f":"AK152*E152","v":0},null," "]
["0106007","Oxigenoterapia Hiperbárica (1 sesión)",{"$f":"SUM(D153+G153)","v":0},{"$f":"SUM(E153:F153)","v":0},null,null,null,null,null,null,null,null,null,null,null,null,null,null,null,null,null,null,null,null,null,null,null,null,null,null,null,null,null,null,null,null,26200,{"$f":"AK153*E153","v":0},null," "]
["0106101","Atención Integral de Acupuntura ",{"$f":"SUM(D154+G154)","v":0},{"$f":"SUM(E154:F154)","v":0},null,null,null,null,null,null,null,null,null,null,null,null,null,null,null,null,null,null,null,null,null,null,null,null,null,null,null,null,null,null,null,null,6110,{"$f":"AK154*E154","v":0},null," "]
[null,"TOTAL ARANCEL MAI",{"$f":"SUM(C152:C154)","v":0},{"$f":"SUM(D152:D154)","v":0},{"$f":"SUM(E152:E154)","v":0},{"$f":"SUM(F152:F154)","v":0},0,null,null,null,null,null,null,null,null,null,null,null,null,null,null,null,null,null,null,null,{"$f":"SUM(AA152:AA154)","v":0},0,0,0,0,0,0,0,0,0,null,{"$f":"SUM(AL152:AL154)","v":0}]
["01010043","Autocontrol pacientes Diabetico insulino dependiente (D.I.D. mensual)",{"$f":"SUM(D156+G156)","v":0},{"$f":"SUM(E156:F156)","v":0},null,null,null,null,null,null,null,null,null,null,null,null,null,null,null,null,null,null,null,null,null,null,null,null,null,null,null,null,null,null,null,null,null,null,null," "]
["01010044","Oxigenoterapia domiciliaria (pacientes oxígeno dependientes)",0,0,null,null,null,null,null,null,null,null,null,null,null,null,null,null,null,null,null,null,null,null,null,null,null,null,null,null,null,null,null,null,null,null,null,null,null," "]
["01010047","Procedimientos de podología",{"$f":"SUM(D158+G158)","v":0},{"$f":"SUM(E158:F158)","v":0},null,null,null,null,null,null,null,null,null,null,null,null,null,null,null,null,null,null,null,null,null,null,null,null,null,null,null,null,null,null,null,null,null,null,null," "]
[null,"TOTAL ARANCEL MLE Y NO ARANCELADO",{"$f":"SUM(C156:C158)","v":0},{"$f":"SUM(D156:D158)","v":0},0,0,0,null,null,null,null,null,null,null,null,null,null,null,null,null,null,null,null,null,null,null,{"$f":"SUM(AA156:AA158)","v":0},0,0,0,0,0,0,0,0,0]
[null,"TOTAL PRODUCCION",{"$f":"SUM(C155+C159)","v":0},{"$f":"SUM(D155+D159)","v":0},{"$f":"SUM(E155+E159)","v":0},{"$f":"SUM(F155+F159)","v":0},{"$f":"SUM(G155+G159)","v":0},null,null,null,null,null,null,null,null,null,null,null,null,null,null,null,null,null,null,null,{"$f":"SUM(AA155+AA159)","v":0},0,0,0,0,0,0,0,0,{"$f":"SUM(AJ155+AJ159)","v":0},null,{"$f":"SUM(AL155+AL159)","v":0}]
[null,"OTRAS MISCELANEOS "]
[5099048,"Hemoglucotest instantáneo",{"$f":"SUM(D162+G162)","v":0},{"$f":"SUM(E162:F162)","v":0}]
[5099008,"Actividad Básica",0,0]
[5099009,"Actividad Terapeutica",0,0]
[5099010,"Evaluacion Actividad",0,0]
[5099011,"Evaluacion  prevocacional",0,0]
[5099063,"Evaluación cognitiva",0,0]
[5099064,"Estimulación cognitiva",0,0]
[5099111,"Curacion avanzada de herida",0,0]
["0102701","Evaluación Motriz Funcional",0,0]
["0102702","Evaluación cognitiva-perceptual",0,0]
["0102703","Evaluación independencia en actividades de la vida diaria",0,0]
["0102704","Evaluación barreras arquitectónicas",0,0]
["0102705","Evaluación puesto de trabajo",0,0]
["0102706","Evaluación del desarrollo Psicomotor",0,0]
["0102707","Reentrenamiento de las funciones cognitiva-perceptual",0,0]
["0102708","Reentrenamiento de las actividades de la vida diaria",0,0]
["0102709","Reentrenamiento laboral",0,0]
["01010065","Comité junta médica",0,0]
["01010066","Consultorías médicas de especialidades",0,0]
["01010067","Consultorías odontólogos",0,0]
["01010068","Consejerias Individual por profesional de salud",0,0]
["01010069","Consejerias Familiar por  profesionales de salud",0,0]
["01010070","Instalación de clips en lesiones sangrantes",0,0]
["01010071","Instalación vendaje compresivo (Coban)",0,0]
[null,"TOTAL",{"$f":"SUM(C162:C185)","v":0},{"$f":"SUM(D162:D185)","v":0},{"$f":"SUM(E162:E185)","v":0},{"$f":"SUM(F162:F185)","v":0},{"$f":"SUM(G162:G185)","v":0},null,null,null,null,null,null,null,null,null,null,null,null,null,null,null,null,null,null,null,{"$f":"SUM(AA162:AA185)","v":0},0,0,0,0,0,0,0,0,0]
[null,"TRASPLANTES"]
["01010072","Estudio receptor donante cadáver ",0,{"$f":"SUM(E188:F188)","v":0},null,null,null,null,null,null,null,null,null,null,null,null,null,null,null,null,null,null,null,null,null,null,null,null,null,null,null,null,null,null,null,null,null,null,null," "]
["01010073","Estudio receptor donante vivo ",0,0]
["01010074","Estudio receptores corazón-pulmón ",0,0]
["01010075","Estudio pacientes trasplante medula ósea ",0,0]
["01010076","Trasplante de medula autólogo",0,0]
["01010077","Trasplante de medula alógeno",0,0]
["01010078","Trasplante medula de cordón",0,0]
["01010079","Trasplante medula aploidentico",0,0]
["01010080","Trasplante de córnea (incluye procuramiento y seguimiento por un año)",0,0]
["01010081","Soporte pretrasplante hepático extracorporeo por sesión ",0,0]
["01010082","Mantención donante cadáver (pulmón, corazón o hígado) (muerte cerebral) ",0,0,null,null,null,null,null,null,null,null,null,null,null,null,null,null,null,null,null,null,null,null,null,null,null,null,null,null,null,null,null,null,null,null,null,null,null," "]
[null,"TOTAL",{"$f":"SUM(C188:C198)","v":0},{"$f":"SUM(D188:D198)","v":0},{"$f":"SUM(E188:E198)","v":0},{"$f":"SUM(F188:F198)","v":0},{"$f":"SUM(G188:G198)","v":0},null,null,null,null,null,null,null,null,null,null,null,null,null,null,null,null,null,null,null,{"$f":"SUM(AA188:AA198)","v":0},{"$f":"SUM(AB188:AB198)","v":0},0,0,0,0,0,0,0,0]
[null,"ATENCION CERRADA "]
["0201010","Dia Cama de Hospitalización Integral Cuidados Básicos",0,{"$f":"SUM(E201:F201)","v":0},null,null,null,null,null,null,null,null,null,null,null,null,null,null,null,null,null,null,null,null,null,null,null,null,null,null,null,null,null,null,null,null,40370,{"$f":"AK201*E201","v":0},null," "]
["0201110","Dia Cama de Hospitalización Integral Cuidados Medios",{"$f":"SUM(D202+G202)","v":0},{"$f":"SUM(E202:F202)","v":0},null,null,null,null,null,null,null,null,null,null,null,null,null,null,null,null,null,null,null,null,null,null,null,null,null,null,null,null,null,null,null,null,45450,0,null," "]
["0201301","Día Cama de Hospitalización Integral Adulto en Unidad de Tratamiento Intermedio (U.T.I)",0,0,null,null,null,null,null,null,null,null,null,null,null,null,null,null,null,null,null,null,null,null,null,null,null,null,null,null,null,null,null,null,null,null,84520,0,null," "]
["0201302","Día Cama de Hospitalización Integral Pediátrica en Unidad de Tratamiento Intermedio (U.T.I)",0,0,null,null,null,null,null,null,null,null,null,null,null,null,null,null,null,null,null,null,null,null,null,null,null,null,null,null,null,null,null,null,null,null,84520,0,null," "]
["0201303","Día Cama de Hospitalización Integral Neonatal en Unidad de Tratamiento Intermedio (U.T.I)",0,0,null,null,null,null,null,null,null,null,null,null,null,null,null,null,null,null,null,null,null,null,null,null,null,null,null,null,null,null,null,null,null,null,84520,0,null," "]
["0201201","Día Cama de Hospitalización Integral Adulto en Unidad de Cuidado Intensivo (U.C.I.) ",0,0,null,null,null,null,null,null,null,null,null,null,null,null,null,null,null,null,null,null,null,null,null,null,null,null,null,null,null,null,null,null,null,null,174970,0,null," "]
["0201202","Día Cama de Hospitalización Integral Pediátrica en Unidad de Cuidado Intensivo (U.C.I). ",0,0,null,null,null,null,null,null,null,null,null,null,null,null,null,null,null,null,null,null,null,null,null,null,null,null,null,null,null,null,null,null,null,null,174970,0,null," "]
["0201203","Día Cama de Hospitalización Integral Neonatal en Unidad de Cuidado Intensivo (U.C.I.)",0,0,null,null,null,null,null,null,null,null,null,null,null,null,null,null,null,null,null,null,null,null,null,null,null,null,null,null,null,null,null,null,null,null,174970,0,null," "]
["0201410","Día Cama de Hospitalización Integral Obstetricia ",0,0,null,null,null,null,null,null,null,null,null,null,null,null,null,null,null,null,null,null,null,null,null,null,null,null,null,null,null,null,null,null,null,null,40420,0,null," "]
["0201403","Día Cama de Hospitalización Integral Sala Cuna",0,0,null,null,null,null,null,null,null,null,null,null,null,null,null,null,null,null,null,null,null,null,null,null,null,null,null,null,null,null,null,null,null,null,8160,0,null," "]
["0201404","Día Cama de Hospitalización Integral Incubadora",0,0,null,null,null,null,null,null,null,null,null,null,null,null,null,null,null,null,null,null,null,null,null,null,null,null,null,null,null,null,null,null,null,null,75830,0,null," "]
["0201406","Día Cama de Hospitalización Integral Psiquiatría ",0,0,null,null,null,null,null,null,null,null,null,null,null,null,null,null,null,null,null,null,null,null,null,null,null,null,null,null,null,null,null,null,null,null,29990,{"$f":"AK212*E212","v":0},null," "]
["0201407","Día Cama de Hospitalizacion Integral de Observación - Ambulatorio",0,0,null,null,null,null,null,null,null,null,null,null,null,null,null,null,null,null,null,null,null,null,null,null,null,null,null,null,null,null,null,null,null,null,8500,{"$f":"AK213*E213","v":0},null," "]
["0201501","Dia Cama Hospitalizacion Domiciliaria Cuidados Básicos",0,0,null,null,null,null,null,null,null,null,null,null,null,null,null,null,null,null,null,null,null,null,null,null,null,null,null,null,null,null,null,null,null,null,39400,{"$f":"AK214*E214","v":0},null," "]
["0201502","Dia Cama Hospitalizacion Domiciliaria Cuidados Medios ",0,0,null,null,null,null,null,null,null,null,null,null,null,null,null,null,null,null,null,null,null,null,null,null,null,null,null,null,null,null,null,null,null,null,60290,{"$f":"AK215*E215","v":0},null," "]
["0201503","Dia Cama Hospitalizacion Domiciliaria Cuidados Alta Complejidad ",0,0,null,null,null,null,null,null,null,null,null,null,null,null,null,null,null,null,null,null,null,null,null,null,null,null,null,null,null,null,null,null,null,null,100420,{"$f":"AK216*E216","v":0}," "," "]
[null,"TOTAL",{"$f":"SUM(C201:C216)","v":0},{"$f":"SUM(D201:D216)","v":0},{"$f":"SUM(E201:E216)","v":0},{"$f":"SUM(F201:F216)","v":0},{"$f":"SUM(G201:G216)","v":0},null,null,null,null,null,null,null,null,null,null,null,null,null,null,null,null,null,null,null,{"$f":"SUM(AA201:AA216)","v":0},0,0,0,0,0,0,0,0,0,null,{"$f":"SUM(AL201:AL216)","v":0}]
[null,"OTRAS  ATENCION CERRADA"]
["0203211","Día Cama Residencia Protegida",{"$f":"SUM(D219+G219)","v":0},{"$f":"SUM(E219:F219)","v":0},null,null,null,null,null,null,null,null,null,null,null,null,null,null,null,null,null,null,null,null,null,null,null,null,null,null,null,null,null,null,null,null,null,null," "," "]
[null,"Pensionado",{"$f":"SUM(D220+G220)","v":0},{"$f":"SUM(E220:F220)","v":0},null,null,null,null,null,null,null,null,null,null,null,null,null,null,null,null,null,null,null,null,null,null,null,null,null,null,null,null,null,null,null,null,null,null," "," "]
[null,"TOTAL ARANCEL MLE Y NO ARANCELADO",{"$f":"SUM(C219:C220)","v":0},{"$f":"SUM(D219:D220)","v":0},0,0,0,null,null,null,null,null,null,null,null,null,null,null,null,null,null,null,null,null,null,null,{"$f":"SUM(AA219:AA220)","v":0},{"$f":"SUM(AB219:AB220)","v":0},0,0,0,0,0,0,0,0]
[null,"TOTAL PRODUCCION",{"$f":"SUM(C217+C221)","v":0},{"$f":"SUM(D217+D221)","v":0},{"$f":"SUM(E217+E221)","v":0},{"$f":"SUM(F217+F221)","v":0},{"$f":"SUM(G217+G221)","v":0},null,null,null,null,null,null,null,null,null,null,null,null,null,null,null,null,null,null,null,{"$f":"SUM(AA217+AA221)","v":0},0,0,0,0,0,0,0,0,0,null,0]
["","EXAMENES DE LABORATORIO  "]
["","SANGRE, HEMATOLOGIA"]
["0301002","Acido fólico o folatos",0,{"$f":"SUM(E225:F225)","v":0},null,null,null,null,null,null,null,null,null,null,null,null,null,null,null,null,null,null,null,null,null,null,null,null,null,null,null,null,null,null,null,null,4470,{"$f":"AK225*E225","v":0},null," "]
["0301003","Adenograma, mielograma, c/u",{"$f":"SUM(D226+G226)","v":0},{"$f":"SUM(E226:F226)","v":0},null,null,null,null,null,null,null,null,null,null,null,null,null,null,null,null,null,null,null,null,null,null,null,null,null,null,null,null,null,null,null,null,5550,0]
["0301006","Agregación plaquetaria con diferentes agonistas",0,0,null,null,null,null,null,null,null,null,null,null,null,null,null,null,null,null,null,null,null,null,null,null,null,null,null,null,null,null,null,null,null,null,3980,0]
["0301007","Anticoagulantes circulantes o anticoagulante lúpico",0,0,null,null,null,null,null,null,null,null,null,null,null,null,null,null,null,null,null,null,null,null,null,null,null,null,null,null,null,null,null,null,null,null,3980,0]
["0301008","Antitrombina III",0,0,null,null,null,null,null,null,null,null,null,null,null,null,null,null,null,null,null,null,null,null,null,null,null,null,null,null,null,null,null,null,null,null,3980,0]
["0301011","Coagulación, tiempo de",0,0,null,null,null,null,null,null,null,null,null,null,null,null,null,null,null,null,null,null,null,null,null,null,null,null,null,null,null,null,null,null,null,null,1380,0]
["0301013","Tiempo de lisis del coágulo",0,0,null,null,null,null,null,null,null,null,null,null,null,null,null,null,null,null,null,null,null,null,null,null,null,null,null,null,null,null,null,null,null,null,520,0]
["0301014","Prueba de antiglobulina directa",0,0,null,null,null,null,null,null,null,null,null,null,null,null,null,null,null,null,null,null,null,null,null,null,null,null,null,null,null,null,null,null,null,null,1090,0]
["0301017","Deshidrogenasa glucosa-6-fosfato en eritrocitos",0,0,null,null,null,null,null,null,null,null,null,null,null,null,null,null,null,null,null,null,null,null,null,null,null,null,null,null,null,null,null,null,null,null,4180,0]
["0301020","Tiempo de lisis de euglobulinas",0,0,null,null,null,null,null,null,null,null,null,null,null,null,null,null,null,null,null,null,null,null,null,null,null,null,null,null,null,null,null,null,null,null,1380,0]
["0301021","Fibrinógeno",0,0,null,null,null,null,null,null,null,null,null,null,null,null,null,null,null,null,null,null,null,null,null,null,null,null,null,null,null,null,null,null,null,null,1980,0]
["0301022","Test de neutralización plaquetaria",0,0,null,null,null,null,null,null,null,null,null,null,null,null,null,null,null,null,null,null,null,null,null,null,null,null,null,null,null,null,null,null,null,null,3980,0]
["0301024","Factor V",0,0,null,null,null,null,null,null,null,null,null,null,null,null,null,null,null,null,null,null,null,null,null,null,null,null,null,null,null,null,null,null,null,null,1980,0]
["0301025","Factores VII, VIII, IX, X, XI, XII, XIII, c/u",0,0,null,null,null,null,null,null,null,null,null,null,null,null,null,null,null,null,null,null,null,null,null,null,null,null,null,null,null,null,null,null,null,null,4180,0]
["0301026","Ferritina",0,0,null,null,null,null,null,null,null,null,null,null,null,null,null,null,null,null,null,null,null,null,null,null,null,null,null,null,null,null,null,null,null,null,5080,0]
["0301027","Fibrinógeno, productos de degradación del",0,0,null,null,null,null,null,null,null,null,null,null,null,null,null,null,null,null,null,null,null,null,null,null,null,null,null,null,null,null,null,null,null,null,4180,0]
["0301028","Fierro sérico",0,0,null,null,null,null,null,null,null,null,null,null,null,null,null,null,null,null,null,null,null,null,null,null,null,null,null,null,null,null,null,null,null,null,1980,0]
["0301029","Fierro, capacidad de fijación del (incluye fierro sérico)",0,0,null,null,null,null,null,null,null,null,null,null,null,null,null,null,null,null,null,null,null,null,null,null,null,null,null,null,null,null,null,null,null,null,4180,0]
["0301030","Fierro, cinética del (cada determinación)",0,0,null,null,null,null,null,null,null,null,null,null,null,null,null,null,null,null,null,null,null,null,null,null,null,null,null,null,null,null,null,null,null,null,5080,0]
["0301034","Clasificación sanguínea AB0 y RhD",0,0,null,null,null,null,null,null,null,null,null,null,null,null,null,null,null,null,null,null,null,null,null,null,null,null,null,null,null,null,null,null,null,null,2260,0]
["0301035","Haptoglobina cuantitativa",0,0,null,null,null,null,null,null,null,null,null,null,null,null,null,null,null,null,null,null,null,null,null,null,null,null,null,null,null,null,null,null,null,null,3760,0]
["0301036","Hematocrito (proc. aut.)",0,0,null,null,null,null,null,null,null,null,null,null,null,null,null,null,null,null,null,null,null,null,null,null,null,null,null,null,null,null,null,null,null,null,620,0]
["0301038","Hemoglobina en sangre total (proc. aut.)",0,0,null,null,null,null,null,null,null,null,null,null,null,null,null,null,null,null,null,null,null,null,null,null,null,null,null,null,null,null,null,null,null,null,620,0]
["0301040","Hemoglobina fetal cuantitativa en eritrocitos",0,0,null,null,null,null,null,null,null,null,null,null,null,null,null,null,null,null,null,null,null,null,null,null,null,null,null,null,null,null,null,null,null,null,4180,0]
["0301041","Hemoglobina glicada A1c",0,0,null,null,null,null,null,null,null,null,null,null,null,null,null,null,null,null,null,null,null,null,null,null,null,null,null,null,null,null,null,null,null,null,4340,0]
["0301042","Hemoglobina plasmática",0,0,null,null,null,null,null,null,null,null,null,null,null,null,null,null,null,null,null,null,null,null,null,null,null,null,null,null,null,null,null,null,null,null,850,0]
["0301044","Electroforesis de hemoglobina",0,0,null,null,null,null,null,null,null,null,null,null,null,null,null,null,null,null,null,null,null,null,null,null,null,null,null,null,null,null,null,null,null,null,4470,0]
["0301045","Hemograma (incluye recuentos de leucocitos y eritrocitos, hemoglobina, hematocrito, fórmula leucocitaria, características de los elementos figurados y velocidad de eritrosedimentación)",0,0,null,null,null,null,null,null,null,null,null,null,null,null,null,null,null,null,null,null,null,null,null,null,null,null,null,null,null,null,null,null,null,null,2860,0]
["0301048","Hemosiderina medular",0,0,null,null,null,null,null,null,null,null,null,null,null,null,null,null,null,null,null,null,null,null,null,null,null,null,null,null,null,null,null,null,null,null,850,0]
["0301049","Cuantificación de heparina",0,0,null,null,null,null,null,null,null,null,null,null,null,null,null,null,null,null,null,null,null,null,null,null,null,null,null,null,null,null,null,null,null,null,4180,0]
["0301051","Identificación de anticuerpos irregulares eritrocitarios",0,0,null,null,null,null,null,null,null,null,null,null,null,null,null,null,null,null,null,null,null,null,null,null,null,null,null,null,null,null,null,null,null,null,4180,0]
["0301054","Metahemoglobina",0,0,null,null,null,null,null,null,null,null,null,null,null,null,null,null,null,null,null,null,null,null,null,null,null,null,null,null,null,null,null,null,null,null,1090,0]
["0301059","Tiempo de protrombina (incluye INR, Razón Internacional Normalizada)",0,0,null,null,null,null,null,null,null,null,null,null,null,null,null,null,null,null,null,null,null,null,null,null,null,null,null,null,null,null,null,null,null,null,1380,{"$f":"AK257*E257","v":0}]
["0301062","Recuento de basófilos (absoluto)",0,0,null,null,null,null,null,null,null,null,null,null,null,null,null,null,null,null,null,null,null,null,null,null,null,null,null,null,null,null,null,null,null,null,850,0]
["0301063","Recuento de eosinófilos (absoluto)",0,0,null,null,null,null,null,null,null,null,null,null,null,null,null,null,null,null,null,null,null,null,null,null,null,null,null,null,null,null,null,null,null,null,850,0]
["0301064","Recuento de eritrocitos, absoluto (proc. aut.)",0,0,null,null,null,null,null,null,null,null,null,null,null,null,null,null,null,null,null,null,null,null,null,null,null,null,null,null,null,null,null,null,null,null,620,0]
["0301065","Recuento de leucocitos, absoluto (proc. aut.)",0,0,null,null,null,null,null,null,null,null,null,null,null,null,null,null,null,null,null,null,null,null,null,null,null,null,null,null,null,null,null,null,null,null,620,0]
["0301066","Recuento de linfocitos (absoluto)",0,0,null,null,null,null,null,null,null,null,null,null,null,null,null,null,null,null,null,null,null,null,null,null,null,null,null,null,null,null,null,null,null,null,1090,0]
["0301067","Recuento de plaquetas (absoluto)",0,0,null,null,null,null,null,null,null,null,null,null,null,null,null,null,null,null,null,null,null,null,null,null,null,null,null,null,null,null,null,null,null,null,1090,0]
["0301068","Recuento de reticulocitos (absoluto o porcentual)",0,0,null,null,null,null,null,null,null,null,null,null,null,null,null,null,null,null,null,null,null,null,null,null,null,null,null,null,null,null,null,null,null,null,850,0]
["0301069","Recuento diferencial o fórmula leucocitaria (proc. aut.)",0,0,null,null,null,null,null,null,null,null,null,null,null,null,null,null,null,null,null,null,null,null,null,null,null,null,null,null,null,null,null,null,null,null,1710,0]
["0301070","Resistencia globular osmótica",0,0,null,null,null,null,null,null,null,null,null,null,null,null,null,null,null,null,null,null,null,null,null,null,null,null,null,null,null,null,null,null,null,null,2800,0]
["0301072","Tiempo de sangría (no incluye dispositivo asociado)",0,0,null,null,null,null,null,null,null,null,null,null,null,null,null,null,null,null,null,null,null,null,null,null,null,null,null,null,null,null,null,null,null,null,1380,0]
["0301082","Transferrina",0,0,null,null,null,null,null,null,null,null,null,null,null,null,null,null,null,null,null,null,null,null,null,null,null,null,null,null,null,null,null,null,null,null,4940,0]
["0301083","Trombina, tiempo de",0,0,null,null,null,null,null,null,null,null,null,null,null,null,null,null,null,null,null,null,null,null,null,null,null,null,null,null,null,null,null,null,null,null,1710,0]
["0301085","Tromboplastina, tiempo parcial de (TTPA, TTPK o similares)",0,0,null,null,null,null,null,null,null,null,null,null,null,null,null,null,null,null,null,null,null,null,null,null,null,null,null,null,null,null,null,null,null,null,2180,0]
["0301086","Velocidad de eritrosedimentación (proc. aut.)",0,0,null,null,null,null,null,null,null,null,null,null,null,null,null,null,null,null,null,null,null,null,null,null,null,null,null,null,null,null,null,null,null,null,510,0]
["0301089","Factor Von Willebrand antigénico (FVW:Ag)",0,0,null,null,null,null,null,null,null,null,null,null,null,null,null,null,null,null,null,null,null,null,null,null,null,null,null,null,null,null,null,null,null,null,8010,0]
["0301090","Factor Von Willebrand antigénico Cofactor Ristocetina (FVW:CoRis)",0,0,null,null,null,null,null,null,null,null,null,null,null,null,null,null,null,null,null,null,null,null,null,null,null,null,null,null,null,null,null,null,null,null,8010,0]
["0301091","Proteína C funcional",0,0,null,null,null,null,null,null,null,null,null,null,null,null,null,null,null,null,null,null,null,null,null,null,null,null,null,null,null,null,null,null,null,null,27480,0]
["0301092","Proteína S",0,0,null,null,null,null,null,null,null,null,null,null,null,null,null,null,null,null,null,null,null,null,null,null,null,null,null,null,null,null,null,null,null,null,29930,0]
["0301093","Resistencia a la Proteína C activada ",0,0,null,null,null,null,null,null,null,null,null,null,null,null,null,null,null,null,null,null,null,null,null,null,null,null,null,null,null,null,null,null,null,null,19630,0]
["0301094","Estudio de la hemoglobinuria paroxística nocturna (HPN) por citometría de flujo",0,0,null,null,null,null,null,null,null,null,null,null,null,null,null,null,null,null,null,null,null,null,null,null,null,null,null,null,null,null,null,null,null,null,42380,0]
["0301095","Dímero-D",0,0,null,null,null,null,null,null,null,null,null,null,null,null,null,null,null,null,null,null,null,null,null,null,null,null,null,null,null,null,null,null,null,null,9310,0]
["0301096","Procalcitonina",0,0,null,null,null,null,null,null,null,null,null,null,null,null,null,null,null,null,null,null,null,null,null,null,null,null,null,null,null,null,null,null,null,null,21350,0]
["0301097","Inhibidor de factor de la coagulación",0,0,null,null,null,null,null,null,null,null,null,null,null,null,null,null,null,null,null,null,null,null,null,null,null,null,null,null,null,null,null,null,null,null,75970,0]
["0301098","Secreción plaquetaria con diferentes agonistas",0,0,null,null,null,null,null,null,null,null,null,null,null,null,null,null,null,null,null,null,null,null,null,null,null,null,null,null,null,null,null,null,null,null,74400,0]
["0301099","Tiempo de veneno de víbora de Russell diluído",0,0,null,null,null,null,null,null,null,null,null,null,null,null,null,null,null,null,null,null,null,null,null,null,null,null,null,null,null,null,null,null,null,null,45370,0]
["0301100","Antitrombina III antigénica",0,0,null,null,null,null,null,null,null,null,null,null,null,null,null,null,null,null,null,null,null,null,null,null,null,null,null,null,null,null,null,null,null,null,30350,0]
["0301101","Actividad anti-factor X activado",{"$f":"SUM(D284+G284)","v":0},{"$f":"SUM(E284:F284)","v":0},null,null,null,null,null,null,null,null,null,null,null,null,null,null,null,null,null,null,null,null,null,null,null,null,null,null,null,null,null,null,null,null,34120,0]
["0301102","Tiempo de tromboplastina parcial activado (TTPA) con mezcla de plasma normal",0,0,null,null,null,null,null,null,null,null,null,null,null,null,null,null,null,null,null,null,null,null,null,null,null,null,null,null,null,null,null,null,null,null,10100,0]
["0301103","Mioglobina",0,0,null,null,null,null,null,null,null,null,null,null,null,null,null,null,null,null,null,null,null,null,null,null,null,null,null,null,null,null,null,null,null,null,38220,0]
["0301104","Tromboelastografia",0,0,null,null,null,null,null,null,null,null,null,null,null,null,null,null,null,null,null,null,null,null,null,null,null,null,null,null,null,null,null,null,null,null,58530,0]
["0301105","Mutación JAK-2",0,0,null,null,null,null,null,null,null,null,null,null,null,null,null,null,null,null,null,null,null,null,null,null,null,null,null,null,null,null,null,null,null,null,102810,0]
["0301106","Hematocrito automatizado (en contador hematológico)",0,0,null,null,null,null,null,null,null,null,null,null,null,null,null,null,null,null,null,null,null,null,null,null,null,null,null,null,null,null,null,null,null,null,4560,{"$f":"AK289*E289","v":0}]
["0301107","Recuento de reticulocitos (absoluto o porcentual) automatizado",0,0,null,null,null,null,null,null,null,null,null,null,null,null,null,null,null,null,null,null,null,null,null,null,null,null,null,null,null,null,null,null,null,null,5300,0]
["0301108","Ensayo de unión a colágeno",0,0,null,null,null,null,null,null,null,null,null,null,null,null,null,null,null,null,null,null,null,null,null,null,null,null,null,null,null,null,null,null,null,null,40820,0]
["0301109","Multimeros del factor Von Willebrand",0,0,null,null,null,null,null,null,null,null,null,null,null,null,null,null,null,null,null,null,null,null,null,null,null,null,null,null,null,null,null,null,null,null,117760,0]
["0301110","Factor V Leiden",0,0,null,null,null,null,null,null,null,null,null,null,null,null,null,null,null,null,null,null,null,null,null,null,null,null,null,null,null,null,null,null,null,null,75440,0]
["0301111","Mutación G20210A del gen de la protrombina",0,0,null,null,null,null,null,null,null,null,null,null,null,null,null,null,null,null,null,null,null,null,null,null,null,null,null,null,null,null,null,null,null,null,66210,0]
["0301112","Anticuerpos antiplaquetarios",0,0,null,null,null,null,null,null,null,null,null,null,null,null,null,null,null,null,null,null,null,null,null,null,null,null,null,null,null,null,null,null,null,null,100750,0]
["0301113","Folato Eritrocitario",0,0,null,null,null,null,null,null,null,null,null,null,null,null,null,null,null,null,null,null,null,null,null,null,null,null,null,null,null,null,null,null,null,null,18830,0]
["0301114","Proteína C antigénica",0,0,null,null,null,null,null,null,null,null,null,null,null,null,null,null,null,null,null,null,null,null,null,null,null,null,null,null,null,null,null,null,null,null,78080,0]
["0301115","Tipificación antigénica de las plaquetas",{"$f":"SUM(D298+G298)","v":0},{"$f":"SUM(E298:F298)","v":0},null,null,null,null,null,null,null,null,null,null,null,null,null,null,null,null,null,null,null,null,null,null,null,null,null,null,null,null,null,null,null,null,81260,0]
["0301116","Hemoglobina Glicada, A1c, test rápido en el lugar de asistencia (incluye toma de muestra sangre capilar)",0,0,null,null,null,null,null,null,null,null,null,null,null,null,null,null,null,null,null,null,null,null,null,null,null,null,null,null,null,null,null,null,null,null,4340,0,null," "]
[null,"TOTAL",{"$f":"SUM(C225:C299)","v":0},{"$f":"SUM(D225:D299)","v":0},0,0,0,null,null,null,null,null,null,null,null,null,null,null,null,null,null,null,null,null,null,null,{"$f":"SUM(AA225:AA299)","v":0},{"$f":"SUM(AB225:AB299)","v":0},{"$f":"SUM(AC225:AC299)","v":0},{"$f":"SUM(AD225:AD299)","v":0},{"$f":"SUM(AE225:AE299)","v":0},{"$f":"SUM(AF225:AF299)","v":0},{"$f":"SUM(AG225:AG299)","v":0},{"$f":"SUM(AH225:AH299)","v":0},{"$f":"SUM(AI225:AI299)","v":0},{"$f":"SUM(AJ225:AJ299)","v":0},null,{"$f":"SUM(AL225:AL299)","v":0}]
[null,"SANGRE, EXAMENES BIOQUIMICOS  "]
["0302001","Cuerpos cetónicos en sangre",0,0,null,null,null,null,null,null,null,null,null,null,null,null,null,null,null,null,null,null,null,null,null,null,null,null,null,null,null,null,null,null,null,null,770,{"$f":"AK302*E302","v":0},null," "]
["0302002","Acido cítrico",0,0,null,null,null,null,null,null,null,null,null,null,null,null,null,null,null,null,null,null,null,null,null,null,null,null,null,null,null,null,null,null,null,null,2170,0]
["0302004","Lactato en sangre",0,0,null,null,null,null,null,null,null,null,null,null,null,null,null,null,null,null,null,null,null,null,null,null,null,null,null,null,null,null,null,null,null,null,3540,0]
["0302005","Acido úrico, en sangre",0,0,null,null,null,null,null,null,null,null,null,null,null,null,null,null,null,null,null,null,null,null,null,null,null,null,null,null,null,null,null,null,null,null,1500,0]
["0302008","Amilasa, en sangre",0,0,null,null,null,null,null,null,null,null,null,null,null,null,null,null,null,null,null,null,null,null,null,null,null,null,null,null,null,null,null,null,null,null,2210,0]
["0302009","Aminoácidos, cualitativo en sangre",0,0,null,null,null,null,null,null,null,null,null,null,null,null,null,null,null,null,null,null,null,null,null,null,null,null,null,null,null,null,null,null,null,null,5240,0]
["0302010","Amonio",0,0,null,null,null,null,null,null,null,null,null,null,null,null,null,null,null,null,null,null,null,null,null,null,null,null,null,null,null,null,null,null,null,null,1980,0]
["0302070","Apolipoproteínas (A1, B u otras)",0,0,null,null,null,null,null,null,null,null,null,null,null,null,null,null,null,null,null,null,null,null,null,null,null,null,null,null,null,null,null,null,null,null,6120,0]
["0302011","Bicarbonato (proc. aut.)",0,0,null,null,null,null,null,null,null,null,null,null,null,null,null,null,null,null,null,null,null,null,null,null,null,null,null,null,null,null,null,null,null,null,620,0]
["0302012","Bilirrubina total (proc. aut.)",0,0,null,null,null,null,null,null,null,null,null,null,null,null,null,null,null,null,null,null,null,null,null,null,null,null,null,null,null,null,null,null,null,null,1240,0]
["0302013","Bilirrubina total y conjugada",0,0,null,null,null,null,null,null,null,null,null,null,null,null,null,null,null,null,null,null,null,null,null,null,null,null,null,null,null,null,null,null,null,null,1380,0]
["0302015","Calcio en sangre",0,0,null,null,null,null,null,null,null,null,null,null,null,null,null,null,null,null,null,null,null,null,null,null,null,null,null,null,null,null,null,null,null,null,1090,0]
["0302017","Caroteno",0,0,null,null,null,null,null,null,null,null,null,null,null,null,null,null,null,null,null,null,null,null,null,null,null,null,null,null,null,null,null,null,null,null,1980,0]
["0302018","Caroteno, prueba de sobrecarga de ",0,0,null,null,null,null,null,null,null,null,null,null,null,null,null,null,null,null,null,null,null,null,null,null,null,null,null,null,null,null,null,null,null,null,4470,0]
["0302019","Ceruloplasmina",0,0,null,null,null,null,null,null,null,null,null,null,null,null,null,null,null,null,null,null,null,null,null,null,null,null,null,null,null,null,null,null,null,null,3050,0]
["0302020","Cobre en sangre",0,0,null,null,null,null,null,null,null,null,null,null,null,null,null,null,null,null,null,null,null,null,null,null,null,null,null,null,null,null,null,null,null,null,1450,0]
["0302067","Colesterol total (proc. aut.)",0,0,null,null,null,null,null,null,null,null,null,null,null,null,null,null,null,null,null,null,null,null,null,null,null,null,null,null,null,null,null,null,null,null,1290,0]
["0302068","Colesterol HDL (proc. aut.)",0,0,null,null,null,null,null,null,null,null,null,null,null,null,null,null,null,null,null,null,null,null,null,null,null,null,null,null,null,null,null,null,null,null,1920,0]
["0302021","Colinesterasa en suero o plasma",0,0,null,null,null,null,null,null,null,null,null,null,null,null,null,null,null,null,null,null,null,null,null,null,null,null,null,null,null,null,null,null,null,null,2790,0]
["0302023","Creatinina en sangre",0,0,null,null,null,null,null,null,null,null,null,null,null,null,null,null,null,null,null,null,null,null,null,null,null,null,null,null,null,null,null,null,null,null,1260,0]
["0302024","Clearance de creatinina (proc.aut.)",0,0,null,null,null,null,null,null,null,null,null,null,null,null,null,null,null,null,null,null,null,null,null,null,null,null,null,null,null,null,null,null,null,null,2790,0]
["0302025","Creatinquinasa CK - MB  actividad",0,0,null,null,null,null,null,null,null,null,null,null,null,null,null,null,null,null,null,null,null,null,null,null,null,null,null,null,null,null,null,null,null,null,4470,0]
["0302026","Creatinquinasa CK - total",0,0,null,null,null,null,null,null,null,null,null,null,null,null,null,null,null,null,null,null,null,null,null,null,null,null,null,null,null,null,null,null,null,null,3410,0]
["0302027","Troponina",0,0,null,null,null,null,null,null,null,null,null,null,null,null,null,null,null,null,null,null,null,null,null,null,null,null,null,null,null,null,null,null,null,null,9310,0]
["0302030","Deshidrogenasa láctica total (LDH)",0,0,null,null,null,null,null,null,null,null,null,null,null,null,null,null,null,null,null,null,null,null,null,null,null,null,null,null,null,null,null,null,null,null,2040,0]
["0302031","Deshidrogenasa láctica total (LDH), con separación de isoenzimas",0,0,null,null,null,null,null,null,null,null,null,null,null,null,null,null,null,null,null,null,null,null,null,null,null,null,null,null,null,null,null,null,null,null,5550,0]
["0302032","Electrolitos plasmáticos (sodio, potasio, cloro) c/u",0,0,null,null,null,null,null,null,null,null,null,null,null,null,null,null,null,null,null,null,null,null,null,null,null,null,null,null,null,null,null,null,null,null,1170,0]
["0302033","Enzima convertidora de angiotensina I",0,0,null,null,null,null,null,null,null,null,null,null,null,null,null,null,null,null,null,null,null,null,null,null,null,null,null,null,null,null,null,null,null,null,5550,0]
["0302034","Perfil lipídico (incluye mediciones de colesterol total, HDL-colesterol y triglicéridos con estimaciones por fórmula de LDL-colesterol, VLDL-colesterol y colesterol no-HDL)",0,0,null,null,null,null,null,null,null,null,null,null,null,null,null,null,null,null,null,null,null,null,null,null,null,null,null,null,null,null,null,null,null,null,5910,0]
["0302035","Fármacos y/o drogas; niveles plasmáticos de (alcohol, anorexígenos, antiarrítmicos, antibióticos, antidepresivos, antiepilépticos, antihistamínicos, antiinflamatorios y analgésicos, estimulantes respiratorios, tranquilizantes mayores y menores, etc.) c/u",0,0,null,null,null,null,null,null,null,null,null,null,null,null,null,null,null,null,null,null,null,null,null,null,null,null,null,null,null,null,null,null,null,null,5310,0]
["0302036","Fenilalanina",0,0,null,null,null,null,null,null,null,null,null,null,null,null,null,null,null,null,null,null,null,null,null,null,null,null,null,null,null,null,null,null,null,null,1980,0]
["0302039","Fosfatasas alcalinas con separación de isoenzimas hepáticas, intestinales, óseas c/u",0,0,null,null,null,null,null,null,null,null,null,null,null,null,null,null,null,null,null,null,null,null,null,null,null,null,null,null,null,null,null,null,null,null,5400,0]
["0302040","Fosfatasas alcalinas totales",0,0,null,null,null,null,null,null,null,null,null,null,null,null,null,null,null,null,null,null,null,null,null,null,null,null,null,null,null,null,null,null,null,null,1270,{"$f":"AK334*E334","v":0}]
["0302042","Fósforo (fosfatos) en sangre",0,0,null,null,null,null,null,null,null,null,null,null,null,null,null,null,null,null,null,null,null,null,null,null,null,null,null,null,null,null,null,null,null,null,1640,0]
["0302043","Galactosa",0,0,null,null,null,null,null,null,null,null,null,null,null,null,null,null,null,null,null,null,null,null,null,null,null,null,null,null,null,null,null,null,null,null,620,0]
["0302045","Gamma glutamiltranspeptidasa (GGT)",0,0,null,null,null,null,null,null,null,null,null,null,null,null,null,null,null,null,null,null,null,null,null,null,null,null,null,null,null,null,null,null,null,null,2110,0]
["0302046","Gases y equilibrio ácido base en sangre (incluye: pH, O2, CO2, exceso de base y bicarbonato), todos o cada uno de los parámetros",0,0,null,null,null,null,null,null,null,null,null,null,null,null,null,null,null,null,null,null,null,null,null,null,null,null,null,null,null,null,null,null,null,null,3520,0]
["0302047","Glucosa en sangre",0,0,null,null,null,null,null,null,null,null,null,null,null,null,null,null,null,null,null,null,null,null,null,null,null,null,null,null,null,null,null,null,null,null,1260,0]
["0302048","Glucosa, Prueba de Tolerancia a la Glucosa Oral (PTGO), (dos determinaciones)",0,0,null,null,null,null,null,null,null,null,null,null,null,null,null,null,null,null,null,null,null,null,null,null,null,null,null,null,null,null,null,null,null,null,5670,0]
["0302050","Adenosindeaminasa en sangre u otro fluído biológico.",0,0,null,null,null,null,null,null,null,null,null,null,null,null,null,null,null,null,null,null,null,null,null,null,null,null,null,null,null,null,null,null,null,null,4180,0]
["0302052","Leucinaminopeptidasa (LAP)",0,0,null,null,null,null,null,null,null,null,null,null,null,null,null,null,null,null,null,null,null,null,null,null,null,null,null,null,null,null,null,null,null,null,1980,0]
["0302053","Lipasa en sangre",0,0,null,null,null,null,null,null,null,null,null,null,null,null,null,null,null,null,null,null,null,null,null,null,null,null,null,null,null,null,null,null,null,null,2170,0]
["0302055","Litio en sangre",0,0,null,null,null,null,null,null,null,null,null,null,null,null,null,null,null,null,null,null,null,null,null,null,null,null,null,null,null,null,null,null,null,null,2790,0]
["0302056","Magnesio en sangre",0,0,null,null,null,null,null,null,null,null,null,null,null,null,null,null,null,null,null,null,null,null,null,null,null,null,null,null,null,null,null,null,null,null,2790,0]
["0302057","Nitrógeno ureico y/o urea, en sangre",0,0,null,null,null,null,null,null,null,null,null,null,null,null,null,null,null,null,null,null,null,null,null,null,null,null,null,null,null,null,null,null,null,null,1260,0]
["0302058","Osmolalidad en sangre",0,0,null,null,null,null,null,null,null,null,null,null,null,null,null,null,null,null,null,null,null,null,null,null,null,null,null,null,null,null,null,null,null,null,1600,0]
["0302075","Perfil bioquímico (determinación automatizada de 12 parámetros)",0,0,null,null,null,null,null,null,null,null,null,null,null,null,null,null,null,null,null,null,null,null,null,null,null,null,null,null,null,null,null,null,null,null,8010,0]
["0302100","Proteínas totales en sangre",0,0,null,null,null,null,null,null,null,null,null,null,null,null,null,null,null,null,null,null,null,null,null,null,null,null,null,null,null,null,null,null,null,null,1370,0]
["0302101","Albúminas en sangre",0,0,null,null,null,null,null,null,null,null,null,null,null,null,null,null,null,null,null,null,null,null,null,null,null,null,null,null,null,null,null,null,null,null,1370,0]
["0302061","Proteínas, electroforesis (incluye cód. 03-02-060)",0,0,null,null,null,null,null,null,null,null,null,null,null,null,null,null,null,null,null,null,null,null,null,null,null,null,null,null,null,null,null,null,null,null,5800,0]
["0302076","Perfil Hepático (incluye tiempo de protrombina, bilirrubina total y conjugada, fosfatasas alcalinas totales, GGT, transaminasas GOT/AST y GPT/ALT)",0,0,null,null,null,null,null,null,null,null,null,null,null,null,null,null,null,null,null,null,null,null,null,null,null,null,null,null,null,null,null,null,null,null,10060,0]
["0302063","Transaminasas, oxalacética (GOT/AST), Pirúvica (GPT/ALT), c/u",0,0,null,null,null,null,null,null,null,null,null,null,null,null,null,null,null,null,null,null,null,null,null,null,null,null,null,null,null,null,null,null,null,null,1820,0]
["0302064","Triglicéridos en sangre (proc.aut.)",0,0,null,null,null,null,null,null,null,null,null,null,null,null,null,null,null,null,null,null,null,null,null,null,null,null,null,null,null,null,null,null,null,null,1650,0]
["0302066","Xilosa, prueba de absorción ",0,0,null,null,null,null,null,null,null,null,null,null,null,null,null,null,null,null,null,null,null,null,null,null,null,null,null,null,null,null,null,null,null,null,2950,0]
["0302077","Vitamina B12 por inmunoensayo",0,0,null,null,null,null,null,null,null,null,null,null,null,null,null,null,null,null,null,null,null,null,null,null,null,null,null,null,null,null,null,null,null,null,6750,0]
["0302078","25 OH Vitamina D Total por inmunoensayo (Quimioluminiscencia, Enzimoinmunoensayo, Radio inmunoensayo y otros)",0,0,null,null,null,null,null,null,null,null,null,null,null,null,null,null,null,null,null,null,null,null,null,null,null,null,null,null,null,null,null,null,null,null,13460,0]
["0302080","Vitamina B6 por HPLC",0,0,null,null,null,null,null,null,null,null,null,null,null,null,null,null,null,null,null,null,null,null,null,null,null,null,null,null,null,null,null,null,null,null,42560,0]
["0302081","Calcio iónico. Incluye medición de pH método ión selectivo. No incluye Point of Care Testing POCT",0,0,null,null,null,null,null,null,null,null,null,null,null,null,null,null,null,null,null,null,null,null,null,null,null,null,null,null,null,null,null,null,null,null,1930,0]
["0302082","Fenilalanina Cuantitativa en Gotas de Sangre Seca",0,0,null,null,null,null,null,null,null,null,null,null,null,null,null,null,null,null,null,null,null,null,null,null,null,null,null,null,null,null,null,null,null,null,7590,0]
["0302083","Carboxihemoglobina",0,0,null,null,null,null,null,null,null,null,null,null,null,null,null,null,null,null,null,null,null,null,null,null,null,null,null,null,null,null,null,null,null,null,18570,0]
["0302084","Plomo en sangre",{"$f":"SUM(D362+G362)","v":0},{"$f":"SUM(E362:F362)","v":0},null,null,null,null,null,null,null,null,null,null,null,null,null,null,null,null,null,null,null,null,null,null,null,null,null,null,null,null,null,null,null,null,60800,0]
["0302085","Prealbumina",0,0,null,null,null,null,null,null,null,null,null,null,null,null,null,null,null,null,null,null,null,null,null,null,null,null,null,null,null,null,null,null,null,null,29760,0]
["0302086","Homocisteína ",0,0,null,null,null,null,null,null,null,null,null,null,null,null,null,null,null,null,null,null,null,null,null,null,null,null,null,null,null,null,null,null,null,null,16710,0]
["0302087","Co-oximetría",0,0,null,null,null,null,null,null,null,null,null,null,null,null,null,null,null,null,null,null,null,null,null,null,null,null,null,null,null,null,null,null,null,null,6870,0]
["0302088","Nivel de Carnitina ",0,0,null,null,null,null,null,null,null,null,null,null,null,null,null,null,null,null,null,null,null,null,null,null,null,null,null,null,null,null,null,null,null,null,50990,{"$f":"AK366*E366","v":0}]
["0302089","Lipoproteina (A)",0,0,null,null,null,null,null,null,null,null,null,null,null,null,null,null,null,null,null,null,null,null,null,null,null,null,null,null,null,null,null,null,null,null,41870,0]
["0302090","Bilirrubina neonatal",0,0,null,null,null,null,null,null,null,null,null,null,null,null,null,null,null,null,null,null,null,null,null,null,null,null,null,null,null,null,null,null,null,null,2150,0]
["0302091","Colesterol LDL directo",0,0,null,null,null,null,null,null,null,null,null,null,null,null,null,null,null,null,null,null,null,null,null,null,null,null,null,null,null,null,null,null,null,null,47350,0]
["0302092","Creatinquinasa CK - MB masa",0,0,null,null,null,null,null,null,null,null,null,null,null,null,null,null,null,null,null,null,null,null,null,null,null,null,null,null,null,null,null,null,null,null,13370,0]
["0302093","Panel de glicemia (incluye glucosa basal, glucosa 2 horas post desayuno y glucosa 2 horas post almuerzo)",0,0,null,null,null,null,null,null,null,null,null,null,null,null,null,null,null,null,null,null,null,null,null,null,null,null,null,null,null,null,null,null,null,null,6660,0]
["0302094","CK isoenzimas",0,0,null,null,null,null,null,null,null,null,null,null,null,null,null,null,null,null,null,null,null,null,null,null,null,null,null,null,null,null,null,null,null,null,87460,0]
["0302095","Tiopurina metiltransferasa, actividad enzimatica",0,0,null,null,null,null,null,null,null,null,null,null,null,null,null,null,null,null,null,null,null,null,null,null,null,null,null,null,null,null,null,null,null,null,56780,0]
["0302096","Tirosina cuantitativa en GSS",0,0,null,null,null,null,null,null,null,null,null,null,null,null,null,null,null,null,null,null,null,null,null,null,null,null,null,null,null,null,null,null,null,null,24280,0]
["0302097","Hormona tiroestimulante, neonatal",0,0,null,null,null,null,null,null,null,null,null,null,null,null,null,null,null,null,null,null,null,null,null,null,null,null,null,null,null,null,null,null,null,null,11250,0]
["0302098","Perfil de aminoácidos y acilcarnitinas",0,0,null,null,null,null,null,null,null,null,null,null,null,null,null,null,null,null,null,null,null,null,null,null,null,null,null,null,null,null,null,null,null,null,81770,0]
["0302099","Pesquisa neonatal ampliada",0,0,null,null,null,null,null,null,null,null,null,null,null,null,null,null,null,null,null,null,null,null,null,null,null,null,null,null,null,null,null,null,null,null,96880,0]
["0302102","Leucina cualitativa en GSS",{"$f":"SUM(D378+G378)","v":0},{"$f":"SUM(E378:F378)","v":0},null,null,null,null,null,null,null,null,null,null,null,null,null,null,null,null,null,null,null,null,null,null,null,null,null,null,null,null,null,null,null,null,30280,0]
["0302103","Zinc en sangre",0,0,null,null,null,null,null,null,null,null,null,null,null,null,null,null,null,null,null,null,null,null,null,null,null,null,null,null,null,null,null,null,null,null,9920,0]
["0302104","Triptasa sérica",0,0,null,null,null,null,null,null,null,null,null,null,null,null,null,null,null,null,null,null,null,null,null,null,null,null,null,null,null,null,null,null,null,null,29130,0,null," "]
[null,"TOTAL",{"$f":"SUM(C302:C380)","v":0},{"$f":"SUM(D302:D380)","v":0},0,0,0,null,null,null,null,null,null,null,null,null,null,null,null,null,null,null,null,null,null,null,{"$f":"SUM(AA302:AA380)","v":0},{"$f":"SUM(AB302:AB380)","v":0},{"$f":"SUM(AC302:AC380)","v":0},{"$f":"SUM(AD302:AD380)","v":0},{"$f":"SUM(AE302:AE380)","v":0},{"$f":"SUM(AF302:AF380)","v":0},{"$f":"SUM(AG302:AG380)","v":0},{"$f":"SUM(AH302:AH380)","v":0},{"$f":"SUM(AI302:AI380)","v":0},{"$f":"SUM(AJ302:AJ380)","v":0},null,{"$f":"SUM(AL302:AL380)","v":0}]
[null,"HORMONAS  "]
["0303001","Adenocorticotrofina (ACTH)",0,0,null,null,null,null,null,null,null,null,null,null,null,null,null,null,null,null,null,null,null,null,null,null,null,null,null,null,null,null,null,null,null,null,7690,{"$f":"AK383*E383","v":0}]
["0303002","Aldosterona",0,0,null,null,null,null,null,null,null,null,null,null,null,null,null,null,null,null,null,null,null,null,null,null,null,null,null,null,null,null,null,null,null,null,6630,0]
["0303003","Androstenediona",0,0,null,null,null,null,null,null,null,null,null,null,null,null,null,null,null,null,null,null,null,null,null,null,null,null,null,null,null,null,null,null,null,null,4970,0]
["0303004","Angiotensina",{"$f":"SUM(D386+G386)","v":0},0,null,null,null,null,null,null,null,null,null,null,null,null,null,null,null,null,null,null,null,null,null,null,null,null,null,null,null,null,null,null,null,null,6030,0]
["0303006","Cortisol",0,0,null,null,null,null,null,null,null,null,null,null,null,null,null,null,null,null,null,null,null,null,null,null,null,null,null,null,null,null,null,null,null,null,4970,0]
["0303007","Crecimiento, hormona de (HGH) (somatotrofina)",0,0,null,null,null,null,null,null,null,null,null,null,null,null,null,null,null,null,null,null,null,null,null,null,null,null,null,null,null,null,null,null,null,null,6630,0]
["0303008","Dehidroepiandrosterona sulfato (DHEA-S)",0,0,null,null,null,null,null,null,null,null,null,null,null,null,null,null,null,null,null,null,null,null,null,null,null,null,null,null,null,null,null,null,null,null,6630,0]
["0303009","Eritropoyetina",0,0,null,null,null,null,null,null,null,null,null,null,null,null,null,null,null,null,null,null,null,null,null,null,null,null,null,null,null,null,null,null,null,null,4710,0]
["0303012","Gastrina",0,0,null,null,null,null,null,null,null,null,null,null,null,null,null,null,null,null,null,null,null,null,null,null,null,null,null,null,null,null,null,null,null,null,6630,0]
["0303014","Gonadotrofina coriónica, sub-unidad beta (cuantificación)",0,0,null,null,null,null,null,null,null,null,null,null,null,null,null,null,null,null,null,null,null,null,null,null,null,null,null,null,null,null,null,null,null,null,4930,0]
["0303015","Hormona folículo estimulante (FSH)",0,0,null,null,null,null,null,null,null,null,null,null,null,null,null,null,null,null,null,null,null,null,null,null,null,null,null,null,null,null,null,null,null,null,4930,0]
["0303016","Hormona luteinizante (LH)",0,0,null,null,null,null,null,null,null,null,null,null,null,null,null,null,null,null,null,null,null,null,null,null,null,null,null,null,null,null,null,null,null,null,4930,0]
["0303047","IGF1 o Somatomedina - C (Insuline Like Growth Factor)",0,0,null,null,null,null,null,null,null,null,null,null,null,null,null,null,null,null,null,null,null,null,null,null,null,null,null,null,null,null,null,null,null,null,11500,0]
["0303048","IGFBP3, IGFBP1 (Insulin Like Growth Factor Binding Proteins)  c/u",0,0,null,null,null,null,null,null,null,null,null,null,null,null,null,null,null,null,null,null,null,null,null,null,null,null,null,null,null,null,null,null,null,null,11500,0]
["0303017","Insulina",0,0,null,null,null,null,null,null,null,null,null,null,null,null,null,null,null,null,null,null,null,null,null,null,null,null,null,null,null,null,null,null,null,null,4930,0]
["0303031","Insulina, curva de (mínimo dos determinaciones)",0,0,null,null,null,null,null,null,null,null,null,null,null,null,null,null,null,null,null,null,null,null,null,null,null,null,null,null,null,null,null,null,null,null,13290,0]
["0303018","Parathormona, hormona Paratiroídea o PTH.",0,0,null,null,null,null,null,null,null,null,null,null,null,null,null,null,null,null,null,null,null,null,null,null,null,null,null,null,null,null,null,null,null,null,7540,0]
["0303019","Progesterona",0,0,null,null,null,null,null,null,null,null,null,null,null,null,null,null,null,null,null,null,null,null,null,null,null,null,null,null,null,null,null,null,null,null,4930,0]
["0303020","Prolactina (PRL)",0,0,null,null,null,null,null,null,null,null,null,null,null,null,null,null,null,null,null,null,null,null,null,null,null,null,null,null,null,null,null,null,null,null,4930,0,null," "]
["0303021","Renina",0,0,null,null,null,null,null,null,null,null,null,null,null,null,null,null,null,null,null,null,null,null,null,null,null,null,null,null,null,null,null,null,null,null,6630,0]
["0303046","SHBG (Sex-Hormone Binding Globulin)",0,0,null,null,null,null,null,null,null,null,null,null,null,null,null,null,null,null,null,null,null,null,null,null,null,null,null,null,null,null,null,null,null,null,11500,0]
["0303022","Testosterona en sangre",0,0,null,null,null,null,null,null,null,null,null,null,null,null,null,null,null,null,null,null,null,null,null,null,null,null,null,null,null,null,null,null,null,null,4970,0]
["0303023","Testosterona libre en sangre",0,0,null,null,null,null,null,null,null,null,null,null,null,null,null,null,null,null,null,null,null,null,null,null,null,null,null,null,null,null,null,null,null,null,6030,0]
["0303123","Índice androgénico (incluye Testosterona Total y SHBG)",0,0,null,null,null,null,null,null,null,null,null,null,null,null,null,null,null,null,null,null,null,null,null,null,null,null,null,null,null,null,null,null,null,null,12280,0]
["0303024","Tiroestimulante (TSH), hormona (adulto, niño o R.N.)",0,0,null,null,null,null,null,null,null,null,null,null,null,null,null,null,null,null,null,null,null,null,null,null,null,null,null,null,null,null,null,null,null,null,4310,0]
["0303025","Tiroglobulina",0,0,null,null,null,null,null,null,null,null,null,null,null,null,null,null,null,null,null,null,null,null,null,null,null,null,null,null,null,null,null,null,null,null,6630,0]
["0303026","Tiroxina libre (T4L)",0,0,null,null,null,null,null,null,null,null,null,null,null,null,null,null,null,null,null,null,null,null,null,null,null,null,null,null,null,null,null,null,null,null,4930,0]
["0303027","Tiroxina o tetrayodotironina (T4)",0,0,null,null,null,null,null,null,null,null,null,null,null,null,null,null,null,null,null,null,null,null,null,null,null,null,null,null,null,null,null,null,null,null,4310,0]
["0303028","Triyodotironina (T3)",0,0,null,null,null,null,null,null,null,null,null,null,null,null,null,null,null,null,null,null,null,null,null,null,null,null,null,null,null,null,null,null,null,null,4310,0]
["0303029","17 - Hidroxiprogesterona",0,0,null,null,null,null,null,null,null,null,null,null,null,null,null,null,null,null,null,null,null,null,null,null,null,null,null,null,null,null,null,null,null,null,6630,0]
["0303030","Estradiol (17-Beta)",0,0,null,null,null,null,null,null,null,null,null,null,null,null,null,null,null,null,null,null,null,null,null,null,null,null,null,null,null,null,null,null,null,null,4930,0]
["0303049","Catecolaminas en sangre (incluye medición de Adrenalina, Noradrenalina y Dopamina por separado por métodos cromatográficos)",0,0,null,null,null,null,null,null,null,null,null,null,null,null,null,null,null,null,null,null,null,null,null,null,null,null,null,null,null,null,null,null,null,null,29100,0]
["0303052","Peptido C",0,0,null,null,null,null,null,null,null,null,null,null,null,null,null,null,null,null,null,null,null,null,null,null,null,null,null,null,null,null,null,null,null,null,41610,0]
["0303053","Calcitonina",0,0,null,null,null,null,null,null,null,null,null,null,null,null,null,null,null,null,null,null,null,null,null,null,null,null,null,null,null,null,null,null,null,null,39230,0]
["0303054","Inhibina B",0,0,null,null,null,null,null,null,null,null,null,null,null,null,null,null,null,null,null,null,null,null,null,null,null,null,null,null,null,null,null,null,null,null,45230,0]
["0303055","NT-Pro BNP O BNP",0,0,null,null,null,null,null,null,null,null,null,null,null,null,null,null,null,null,null,null,null,null,null,null,null,null,null,null,null,null,null,null,null,null,46560,0]
["0303057","Triyodotironina Libre (T3 libre)",0,0,null,null,null,null,null,null,null,null,null,null,null,null,null,null,null,null,null,null,null,null,null,null,null,null,null,null,null,null,null,null,null,null,18080,0]
["0303058","Hormona antimulleriana",0,0,null,null,null,null,null,null,null,null,null,null,null,null,null,null,null,null,null,null,null,null,null,null,null,null,null,null,null,null,null,null,null,null,33830,0]
["0303033","Angiotensina en orina",0,0,null,null,null,null,null,null,null,null,null,null,null,null,null,null,null,null,null,null,null,null,null,null,null,null,null,null,null,null,null,null,null,null,6030,{"$f":"AK421*E421","v":0}]
["0303035","Cortisol libre urinario",0,0,null,null,null,null,null,null,null,null,null,null,null,null,null,null,null,null,null,null,null,null,null,null,null,null,null,null,null,null,null,null,null,null,5420,0]
["0303039","Gonadotrofina coriónica, sub-unidad Beta; titulación por (Elisa; RIA o IRMA; Quimioluminiscencia u otra técnica)",0,0,null,null,null,null,null,null,null,null,null,null,null,null,null,null,null,null,null,null,null,null,null,null,null,null,null,null,null,null,null,null,null,null,4970,0]
["0303050","Metanefrinas urinarias (incluye determinación de Metanefrina y Normetanefrina por separado por métodos cromatográficos)",0,0,null,null,null,null,null,null,null,null,null,null,null,null,null,null,null,null,null,null,null,null,null,null,null,null,null,null,null,null,null,null,null,null,32920,0]
["0303051","Catecolaminas urinarias (incluye medición de Adrenalina, Noradrenalina y Dopamina por separado por métodos cromatográficos)",0,0,null,null,null,null,null,null,null,null,null,null,null,null,null,null,null,null,null,null,null,null,null,null,null,null,null,null,null,null,null,null,null,null,29100,0]
["0303056","Cortisol salival",0,0,null,null,null,null,null,null,null,null,null,null,null,null,null,null,null,null,null,null,null,null,null,null,null,null,null,null,null,null,null,null,null,null,57470,0,null," "]
[null,"TOTAL",{"$f":"SUM(C383:C426)","v":0},{"$f":"SUM(D383:D426)","v":0},0,0,0,null,null,null,null,null,null,null,null,null,null,null,null,null,null,null,null,null,null,null,{"$f":"SUM(AA383:AA426)","v":0},{"$f":"SUM(AB383:AB426)","v":0},0,0,0,0,{"$f":"SUM(AG383:AG426)","v":0},0,0,0,null,{"$f":"SUM(AL383:AL426)","v":0}]
[null,"GENETICA  "]
["0304001","Cariotipo en sangre por cultivo de linfocitos (incluye mínimo 25 mitosis con bandeo G y eventualmente Q, R, C, NOR) (montaje de 3 metafases bandeadas)",0,0,null,null,null,null,null,null,null,null,null,null,null,null,null,null,null,null,null,null,null,null,null,null,null,null,null,null,null,null,null,null,null,null,43530,{"$f":"AK429*E429","v":0}]
["0304002","Cariotipo con técnicas especiales (incluye muestra de sangre o de médula ósea, tratamiento con FUDR, bromuro de etidio, medio deficiente en ácido fólico)",0,0,null,null,null,null,null,null,null,null,null,null,null,null,null,null,null,null,null,null,null,null,null,null,null,null,null,null,null,null,null,null,null,null,46550,0]
["0304003","Cariotipo en fibroblastos por cultivo de trofoblasto, líquido amniótico, piel u otros bandeos G y eventualmente Q, R, C, NOR",0,0,null,null,null,null,null,null,null,null,null,null,null,null,null,null,null,null,null,null,null,null,null,null,null,null,null,null,null,null,null,null,null,null,46550,0]
["0304006","FISH Cromosomas X e Y",0,0,null,null,null,null,null,null,null,null,null,null,null,null,null,null,null,null,null,null,null,null,null,null,null,null,null,null,null,null,null,null,null,null,61830,0]
["0304007","Diagnóstico Genético Molecular: Displasia Tanatofórica tipo I y II",0,0,null,null,null,null,null,null,null,null,null,null,null,null,null,null,null,null,null,null,null,null,null,null,null,null,null,null,null,null,null,null,null,null,35300,0]
["0304008","Amplificación por PCR más análisis de fragmentos fluorescentes por electroforesis capilar (hasta 5 fragmentos) ",0,0,null,null,null,null,null,null,null,null,null,null,null,null,null,null,null,null,null,null,null,null,null,null,null,null,null,null,null,null,null,null,null,null,195400,0]
["0304009","Estudio de deleciones y duplicaciones por amplificación múltiple de sondas dependiente de ligación (MLPA)  (1 o varios genes) ",0,0,null,null,null,null,null,null,null,null,null,null,null,null,null,null,null,null,null,null,null,null,null,null,null,null,null,null,null,null,null,null,null,null,99030,0]
["0304010","Estudio de deleciones y duplicaciones por amplificación múltiple de sondas dependiente de ligación (MLPA) más estudio de metilación o segundo set de sondas  (1 o varios genes)",0,0,null,null,null,null,null,null,null,null,null,null,null,null,null,null,null,null,null,null,null,null,null,null,null,null,null,null,null,null,null,null,null,null,116990,0]
["0304012","Amplificación por PCR en tiempo real cuantitativo con sonda",0,0,null,null,null,null,null,null,null,null,null,null,null,null,null,null,null,null,null,null,null,null,null,null,null,null,null,null,null,null,null,null,null,null,180850,0]
["0304013","Amplificación de ADN por PCR convencional de 1 fragmento",0,0,null,null,null,null,null,null,null,null,null,null,null,null,null,null,null,null,null,null,null,null,null,null,null,null,null,null,null,null,null,null,null,null,135040,0,null," "]
["0304014","Amplificación por PCR más análisis por restricción enzimática",0,0,null,null,null,null,null,null,null,null,null,null,null,null,null,null,null,null,null,null,null,null,null,null,null,null,null,null,null,null,null,null,null,null,122420,0]
["0304015","FISH en frotis frescos de médula ósea, sangre, concentrado de células plasmáticas seleccionadas, búsqueda de alteraciones adquiridas",{"$f":"SUM(D440+G440)","v":0},{"$f":"SUM(E440:F440)","v":0},null,null,null,null,null,null,null,null,null,null,null,null,null,null,null,null,null,null,null,null,null,null,null,null,null,null,null,null,null,null,null,null,183180,0]
["0304016","Cariotipo molecular (Hibridación Genómica Comparativa en Micromatrices) 60K",0,0,null,null,null,null,null,null,null,null,null,null,null,null,null,null,null,null,null,null,null,null,null,null,null,null,null,null,null,null,null,null,null,null,717230,0]
[null,"TOTAL",{"$f":"SUM(C429:C441)","v":0},{"$f":"SUM(D429:D441)","v":0},0,0,0,null,null,null,null,null,null,null,null,null,null,null,null,null,null,null,null,null,null,null,{"$f":"SUM(AA429:AA441)","v":0},{"$f":"SUM(AB429:AB441)","v":0},{"$f":"SUM(AC429:AC441)","v":0},0,0,0,0,0,0,0,null,0,null," "]
[null,"INMUNOLOGÍA"]
["0305001","Alfa -1- antitripsina cuantitativa",0,0,null,null,null,null,null,null,null,null,null,null,null,null,null,null,null,null,null,null,null,null,null,null,null,null,null,null,null,null,null,null,null,null,4970,{"$f":"AK444*E444","v":0},null," "]
["0305002","Alfa -2- macroglobulina",0,0,null,null,null,null,null,null,null,null,null,null,null,null,null,null,null,null,null,null,null,null,null,null,null,null,null,null,null,null,null,null,null,null,4820,0]
["0305003","Alfa fetoproteínas",0,0,null,null,null,null,null,null,null,null,null,null,null,null,null,null,null,null,null,null,null,null,null,null,null,null,null,null,null,null,null,null,null,null,4930,0]
["0305004","Tamizaje de Anticuerpos anti antígenos nucleares extractables (a- ENA: Sm, RNP, Ro, La, Scl- 70 y Jo-1)",{"$f":"SUM(D447+G447)","v":0},{"$f":"SUM(E447:F447)","v":0},null,null,null,null,null,null,null,null,null,null,null,null,null,null,null,null,null,null,null,null,null,null,null,null,null,null,null,null,null,null,null,null,9870,0]
["0305005","Anticuerpos antinucleares (ANA), antimitocondriales, anti DNA (ADNA), anti músculo liso, anticentrómero, u otros, c/u.",0,0,null,null,null,null,null,null,null,null,null,null,null,null,null,null,null,null,null,null,null,null,null,null,null,null,null,null,null,null,null,null,null,null,6770,0]
["0305007","Anticuerpos específicos y otros autoanticuerpos (anticuerpos antitiroídeos: anticuerpos antimicrosomales y antitiroglobulinas y otros anticuerpos: prostático, espermios, etc.) c/u",0,0,null,null,null,null,null,null,null,null,null,null,null,null,null,null,null,null,null,null,null,null,null,null,null,null,null,null,null,null,null,null,null,null,5470,0]
["0305008","Antiestreptolisina O, por técnica de látex ",0,0,null,null,null,null,null,null,null,null,null,null,null,null,null,null,null,null,null,null,null,null,null,null,null,null,null,null,null,null,null,null,null,null,4340,0]
["0305009","Antígeno carcinoembrionario (CEA)",0,0,null,null,null,null,null,null,null,null,null,null,null,null,null,null,null,null,null,null,null,null,null,null,null,null,null,null,null,null,null,null,null,null,6640,0]
["0305070","Antígeno prostático específico",0,0,null,null,null,null,null,null,null,null,null,null,null,null,null,null,null,null,null,null,null,null,null,null,null,null,null,null,null,null,null,null,null,null,8790,0]
["0305170","Antígeno Ca 125, Ca 15-3 y Ca 19-9, c/u",0,0,null,null,null,null,null,null,null,null,null,null,null,null,null,null,null,null,null,null,null,null,null,null,null,null,null,null,null,null,null,null,null,null,8790,0]
["0305010","Beta-2-microglobulina",0,0,null,null,null,null,null,null,null,null,null,null,null,null,null,null,null,null,null,null,null,null,null,null,null,null,null,null,null,null,null,null,null,null,6640,0]
["0305012","Complemento C1Q, C2, C3, C4, etc., c/u",0,0,null,null,null,null,null,null,null,null,null,null,null,null,null,null,null,null,null,null,null,null,null,null,null,null,null,null,null,null,null,null,null,null,4340,0]
["0305013","Complemento hemolítico (CH 50)",0,0,null,null,null,null,null,null,null,null,null,null,null,null,null,null,null,null,null,null,null,null,null,null,null,null,null,null,null,null,null,null,null,null,5470,0,null," "]
["0305014","Crioglobulinas, precipitación en frío (cualitativa) o cuantitativa c/u",0,0,null,null,null,null,null,null,null,null,null,null,null,null,null,null,null,null,null,null,null,null,null,null,null,null,null,null,null,null,null,null,null,null,1040,0]
["0305019","Factor reumatoídeo por técnica de látex u otras similares",0,0,null,null,null,null,null,null,null,null,null,null,null,null,null,null,null,null,null,null,null,null,null,null,null,null,null,null,null,null,null,null,null,null,2520,0]
["0305020","Factor reumatoídeo por técnica de Scat, Waaler Rose, nefelométricas y/o turbidimétricas",0,0,null,null,null,null,null,null,null,null,null,null,null,null,null,null,null,null,null,null,null,null,null,null,null,null,null,null,null,null,null,null,null,null,4480,0]
["0305021","Inhibidor de C1Q, C2 y C3, c/u",0,0,null,null,null,null,null,null,null,null,null,null,null,null,null,null,null,null,null,null,null,null,null,null,null,null,null,null,null,null,null,null,null,null,4340,0]
["0305025","Inmunofijación de inmunoglobulina, c/u",0,0,null,null,null,null,null,null,null,null,null,null,null,null,null,null,null,null,null,null,null,null,null,null,null,null,null,null,null,null,null,null,null,null,7540,0]
["0305026","Inmunoglobulina IgA secretora",0,0,null,null,null,null,null,null,null,null,null,null,null,null,null,null,null,null,null,null,null,null,null,null,null,null,null,null,null,null,null,null,null,null,4250,0]
["0305027","Inmunoglobulinas IgA, IgG, IgM, c/u",0,0,null,null,null,null,null,null,null,null,null,null,null,null,null,null,null,null,null,null,null,null,null,null,null,null,null,null,null,null,null,null,null,null,4340,0]
["0305028","Inmunoglobulinas IgE, IgD total, c/u",0,0,null,null,null,null,null,null,null,null,null,null,null,null,null,null,null,null,null,null,null,null,null,null,null,null,null,null,null,null,null,null,null,null,4970,0]
["0305029","Inmunoglobulinas IgE, IgG específicas, c/u",0,0,null,null,null,null,null,null,null,null,null,null,null,null,null,null,null,null,null,null,null,null,null,null,null,null,null,null,null,null,null,null,null,null,4970,0]
["0305030","Proteína C reactiva por técnica de látex u otras similares",0,0,null,null,null,null,null,null,null,null,null,null,null,null,null,null,null,null,null,null,null,null,null,null,null,null,null,null,null,null,null,null,null,null,4200,0]
["0305031","Proteína C reactiva por técnicas automatizadas",0,0,null,null,null,null,null,null,null,null,null,null,null,null,null,null,null,null,null,null,null,null,null,null,null,null,null,null,null,null,null,null,null,null,5790,0]
["0305181","Anticuerpos antitransglutaminasa (TTG)",0,0,null,null,null,null,null,null,null,null,null,null,null,null,null,null,null,null,null,null,null,null,null,null,null,null,null,null,null,null,null,null,null,null,10760,0]
["0305081","Anticuerpo antiendomisio (EMA, antimembrana basal glomerular (GBM), antireticulina, por IFI c/u.",0,0,null,null,null,null,null,null,null,null,null,null,null,null,null,null,null,null,null,null,null,null,null,null,null,null,null,null,null,null,null,null,null,null,10040,0]
["0305082","Anticuerpos anticitoplasma de neutrófilos (ANCA), C-ANCA y P-ANCA, por IFI",0,0,null,null,null,null,null,null,null,null,null,null,null,null,null,null,null,null,null,null,null,null,null,null,null,null,null,null,null,null,null,null,null,null,14950,0]
["0305083","Determinación de isotipos de anticuerpos anticitoplasma de neutrófilos (G-M-A-C'3), por IFI, c/u.",0,0,null,null,null,null,null,null,null,null,null,null,null,null,null,null,null,null,null,null,null,null,null,null,null,null,null,null,null,null,null,null,null,null,6340,0]
["0305084","Anticuerpos anticardiolipinas (IgG, IgM), c/u",0,0,null,null,null,null,null,null,null,null,null,null,null,null,null,null,null,null,null,null,null,null,null,null,null,null,null,null,null,null,null,null,null,null,11410,0]
["0305085","Anticuerpos anti LKM-1",0,0,null,null,null,null,null,null,null,null,null,null,null,null,null,null,null,null,null,null,null,null,null,null,null,null,null,null,null,null,null,null,null,null,19000,0]
["0305086","Anticuerpos contra péptidos deaminados de gliadina IgG e IgA",0,0,null,null,null,null,null,null,null,null,null,null,null,null,null,null,null,null,null,null,null,null,null,null,null,null,null,null,null,null,null,null,null,null,10040,0]
["0305098","Cromogranina A",{"$f":"SUM(D475+G475)","v":0},{"$f":"SUM(E475:F475)","v":0},null,null,null,null,null,null,null,null,null,null,null,null,null,null,null,null,null,null,null,null,null,null,null,null,null,null,null,null,null,null,null,null,41890,0]
["0305099","Péptido Cíclico Citrulinado, anticuerpos IgG",0,0,null,null,null,null,null,null,null,null,null,null,null,null,null,null,null,null,null,null,null,null,null,null,null,null,null,null,null,null,null,null,null,null,29340,0]
["0305100","Proteina C ultrasensible",0,0,null,null,null,null,null,null,null,null,null,null,null,null,null,null,null,null,null,null,null,null,null,null,null,null,null,null,null,null,null,null,null,null,6580,0]
["0305101","Anticuerpos anti-saccharomyces cerevisiae (ASCA) IGA e IGG, c/u",0,0,null,null,null,null,null,null,null,null,null,null,null,null,null,null,null,null,null,null,null,null,null,null,null,null,null,null,null,null,null,null,null,null,8650,0]
["0305104","Antígeno prostático total y libre ",0,0,null,null,null,null,null,null,null,null,null,null,null,null,null,null,null,null,null,null,null,null,null,null,null,null,null,null,null,null,null,null,null,null,20590,0]
["0305105","Anticuerpos anti-Beta 2 glicoproteina 1 (IgG, IgM), c/u",0,0,null,null,null,null,null,null,null,null,null,null,null,null,null,null,null,null,null,null,null,null,null,null,null,null,null,null,null,null,null,null,null,null,36890,0]
["0305106","Estudio inmunológico de diabetes (determinación de anticuerpos anti células de islotes (ICA), auto anticuerpo insulina nativa (IAA), anti antígeno de insulinoma-2 (IA2) y anti glutamato descarboxilasa (GADA)",0,0,null,null,null,null,null,null,null,null,null,null,null,null,null,null,null,null,null,null,null,null,null,null,null,null,null,null,null,null,null,null,null,null,76380,0]
["0305107","Anticuerpos anti-MPO (mieloperoxidasa)",0,0,null,null,null,null,null,null,null,null,null,null,null,null,null,null,null,null,null,null,null,null,null,null,null,null,null,null,null,null,null,null,null,null,22570,0]
["0305108","Anticuerpos anti antígenos nucleares extractables (A-ENA): SM, RNP, SS-A/RO, SS-B/LA, SCL-70, JO-1). c/u",0,0,null,null,null,null,null,null,null,null,null,null,null,null,null,null,null,null,null,null,null,null,null,null,null,null,null,null,null,null,null,null,null,null,15660,0]
["0305109","Anticuerpos anti-PR3 (proteasa 3)",0,0,null,null,null,null,null,null,null,null,null,null,null,null,null,null,null,null,null,null,null,null,null,null,null,null,null,null,null,null,null,null,null,null,30520,0]
["0305124","Receptor de tirotropina (TRAb), anticuerpos anti",0,0,null,null,null,null,null,null,null,null,null,null,null,null,null,null,null,null,null,null,null,null,null,null,null,null,null,null,null,null,null,null,null,null,32260,0]
["0305125","CTX sérico",0,0,null,null,null,null,null,null,null,null,null,null,null,null,null,null,null,null,null,null,null,null,null,null,null,null,null,null,null,null,null,null,null,null,37150,0]
["0305126","Subclases de IgG (1,2,3,4)",0,0,null,null,null,null,null,null,null,null,null,null,null,null,null,null,null,null,null,null,null,null,null,null,null,null,null,null,null,null,null,null,null,null,81350,0]
["0305035","Detección, identificación y titulación de crioaglutininas",0,0,null,null,null,null,null,null,null,null,null,null,null,null,null,null,null,null,null,null,null,null,null,null,null,null,null,null,null,null,null,null,null,null,2170,{"$f":"AK488*E488","v":0}]
["0305036","Criohemolisinas",0,0,null,null,null,null,null,null,null,null,null,null,null,null,null,null,null,null,null,null,null,null,null,null,null,null,null,null,null,null,null,null,null,null,2170,0]
["0305037","Digestión fagocítica nitroblue-tetrazolium cualitativo y cuantitativo",0,0,null,null,null,null,null,null,null,null,null,null,null,null,null,null,null,null,null,null,null,null,null,null,null,null,null,null,null,null,null,null,null,null,5550,0]
["0305038","Fagocitosis: ingestión y digestión (killing) de levaduras por polimorfonucleares",0,0,null,null,null,null,null,null,null,null,null,null,null,null,null,null,null,null,null,null,null,null,null,null,null,null,null,null,null,null,null,null,null,null,11400,0]
["0305039","Fagocitosis: ingestión y digestión (killing) de bacterias por polimorfonucleares",0,0,null,null,null,null,null,null,null,null,null,null,null,null,null,null,null,null,null,null,null,null,null,null,null,null,null,null,null,null,null,null,null,null,11400,0]
["0305040","Inmunoadherencia de leucocitos macrófagos",0,0,null,null,null,null,null,null,null,null,null,null,null,null,null,null,null,null,null,null,null,null,null,null,null,null,null,null,null,null,null,null,null,null,4470,0]
["0305041","Intradermorreacción (PPD, histoplasmina, aspergilina, u otros, incluye el valor del antígeno y reacción de control), c/u. ",0,0,null,null,null,null,null,null,null,null,null,null,null,null,null,null,null,null,null,null,null,null,null,null,null,null,null,null,null,null,null,null,null,null,4470,0]
["0305042","LIF o MIF",0,0,null,null,null,null,null,null,null,null,null,null,null,null,null,null,null,null,null,null,null,null,null,null,null,null,null,null,null,null,null,null,null,null,5550,0]
["0305044","Linfocitos B (rosetas EAC) y linfocitos T (rosetas E) c/u",0,0,null,null,null,null,null,null,null,null,null,null,null,null,null,null,null,null,null,null,null,null,null,null,null,null,null,null,null,null,null,null,null,null,5080,0]
["0305047","Linfotoxinas humanas, detección de",0,0,null,null,null,null,null,null,null,null,null,null,null,null,null,null,null,null,null,null,null,null,null,null,null,null,null,null,null,null,null,null,null,null,7660,0]
["0305049","Transformación linfoblástica a drogas, análisis de transformación espontánea con estímulo inespecífico y con diferentes concentraciones de la droga en 1000 células",0,0,null,null,null,null,null,null,null,null,null,null,null,null,null,null,null,null,null,null,null,null,null,null,null,null,null,null,null,null,null,null,null,null,22220,0]
["0305089","Linfocitos B totales (CD19). Técnica Citometría de Flujo",0,0,null,null,null,null,null,null,null,null,null,null,null,null,null,null,null,null,null,null,null,null,null,null,null,null,null,null,null,null,null,null,null,null,40460,0]
["0305091","Linfocitos T (CD3, CD4, CD8). Técnica Citometría de Flujo",0,0,null,null,null,null,null,null,null,null,null,null,null,null,null,null,null,null,null,null,null,null,null,null,null,null,null,null,null,null,null,null,null,null,23740,0]
["0305092","Natural Killers (CD16, CD 56). Técnica Citometría de Flujo",0,0,null,null,null,null,null,null,null,null,null,null,null,null,null,null,null,null,null,null,null,null,null,null,null,null,null,null,null,null,null,null,null,null,23740,0]
["0305080","Estudio para hipersensibilidad retardada",{"$f":"SUM(D502+G502)","v":0},{"$f":"SUM(E502:F502)","v":0},null,null,null,null,null,null,null,null,null,null,null,null,null,null,null,null,null,null,null,null,null,null,null,null,null,null,null,null,null,null,null,null,19000]
["0305093","Inmunofenotipo en Leucemias Agudas ",0,0,null,null,null,null,null,null,null,null,null,null,null,null,null,null,null,null,null,null,null,null,null,null,null,null,null,null,null,null,null,null,null,null,314450,{"$f":"AK503*E503","v":0}]
["0305094","Inmunofenotipo en Síndrome Linfoproliferativos",0,0,null,null,null,null,null,null,null,null,null,null,null,null,null,null,null,null,null,null,null,null,null,null,null,null,null,null,null,null,null,null,null,null,268020,{"$f":"AK504*E504","v":0}]
["0305095","Inmunofenotipo en Síndrome Mielodisplásicos",0,0,null,null,null,null,null,null,null,null,null,null,null,null,null,null,null,null,null,null,null,null,null,null,null,null,null,null,null,null,null,null,null,null,272900,{"$f":"AK505*E505","v":0},null," "]
["0305096","Detección de Enfermedad Residual Mínima ",0,0,null,null,null,null,null,null,null,null,null,null,null,null,null,null,null,null,null,null,null,null,null,null,null,null,null,null,null,null,null,null,null,null,173290,{"$f":"AK506*E506","v":0}]
["0305097","Cuantificación de células progenitoras hematopoyéticas CD 34",0,0,null,null,null,null,null,null,null,null,null,null,null,null,null,null,null,null,null,null,null,null,null,null,null,null,null,null,null,null,null,null,null,null,74300,{"$f":"AK507*E507","v":0}]
["0305110","Alocross Match Linfocitos T y Linfocitos B (Citometría De Flujo)",0,0,null,null,null,null,null,null,null,null,null,null,null,null,null,null,null,null,null,null,null,null,null,null,null,null,null,null,null,null,null,null,null,null,264750,{"$f":"AK508*E508","v":0}]
["0305111","Anticuerpo Anti HLA Clase I y II Screening (Luminex)",{"$f":"SUM(D509+G509)","v":0},{"$f":"SUM(E509:F509)","v":0},null,null,null,null,null,null,null,null,null,null,null,null,null,null,null,null,null,null,null,null,null,null,null,null,null,null,null,null,null,null,null,null,59130,0]
["0305112","Autocrossmatch Linfocitos T y B   (Citometría De Flujo )",0,0,null,null,null,null,null,null,null,null,null,null,null,null,null,null,null,null,null,null,null,null,null,null,null,null,null,null,null,null,null,null,null,null,264750,0]
["0305113","Especificidad De Anticuerpos HLA  Con Antígenos Individuales Clase I  (Luminex)",0,0,null,null,null,null,null,null,null,null,null,null,null,null,null,null,null,null,null,null,null,null,null,null,null,null,null,null,null,null,null,null,null,null,224740,0]
["0305114","Especificidad De Anticuerpos HLA  Con Antígenos Individuales Clase II (Luminex)",0,0,null,null,null,null,null,null,null,null,null,null,null,null,null,null,null,null,null,null,null,null,null,null,null,null,null,null,null,null,null,null,null,null,264750,0]
["0305115","Estudio Receptor Trasplantado Con Donante Cadáver",0,0,null,null,null,null,null,null,null,null,null,null,null,null,null,null,null,null,null,null,null,null,null,null,null,null,null,null,null,null,null,null,null,null,425890,0,null," "]
["0305116","HLA-AB Tipificación (Biología Molecular)",0,0,null,null,null,null,null,null,null,null,null,null,null,null,null,null,null,null,null,null,null,null,null,null,null,null,null,null,null,null,null,null,null,null,147960,0]
["0305117","HLA-ABDR Tipificación  (Biología Molecular)",0,0,null,null,null,null,null,null,null,null,null,null,null,null,null,null,null,null,null,null,null,null,null,null,null,null,null,null,null,null,null,null,null,null,264750,0]
["0305118","HLA-B27 Tipificación (Biología Molecular)",0,0,null,null,null,null,null,null,null,null,null,null,null,null,null,null,null,null,null,null,null,null,null,null,null,null,null,null,null,null,null,null,null,null,83590,0]
["0305119","HLA-C Tipificación  (Biología Molecular)",0,0,null,null,null,null,null,null,null,null,null,null,null,null,null,null,null,null,null,null,null,null,null,null,null,null,null,null,null,null,null,null,null,null,97190,0]
["0305120","HLA-DP Tipificación  (Biología  Molecular)",0,0,null,null,null,null,null,null,null,null,null,null,null,null,null,null,null,null,null,null,null,null,null,null,null,null,null,null,null,null,null,null,null,null,97190,0]
["0305121","HLA-DQ Tipificación (Biología Molecular)",0,0,null,null,null,null,null,null,null,null,null,null,null,null,null,null,null,null,null,null,null,null,null,null,null,null,null,null,null,null,null,null,null,null,147960,0]
["0305122","HLA-DR Tipificación  (Biología Molecular)",0,0,null,null,null,null,null,null,null,null,null,null,null,null,null,null,null,null,null,null,null,null,null,null,null,null,null,null,null,null,null,null,null,null,97190,0]
["0305123","Seroteca  Mensual y Mantención en Lista De Espera",0,0,null,null,null,null,null,null,null,null,null,null,null,null,null,null,null,null,null,null,null,null,null,null,null,null,null,null,null,null,null,null,null,null,22730,0]
[null,"TOTAL",{"$f":"SUM(C444:C521)","v":0},{"$f":"SUM(D444:D521)","v":0},0,0,0,null,null,null,null,null,null,null,null,null,null,null,null,null,null,null,null,null,null,null,{"$f":"SUM(AA444:AA521)","v":0},{"$f":"SUM(AB444:AB521)","v":0},0,{"$f":"SUM(AD444:AD521)","v":0},{"$f":"SUM(AE444:AE521)","v":0},0,0,0,0,0,null,0]
[null,"EXAMENES MICROBIOLOGICOS                                                             "]
[null,"BACTERIAS Y HONGOS"]
["0306001","Baciloscopía por método de concentración",{"$f":"SUM(D525+G525)","v":0},{"$f":"SUM(E525:F525)","v":0},null,null,null,null,null,null,null,null,null,null,null,null,null,null,null,null,null,null,null,null,null,null,null,null,null,null,null,null,null,null,null,null,2350,{"$f":"AK525*E525","v":0},null," "]
["0306002","Baciloscopía Ziehl-Neelsen, c/u",0,0,null,null,null,null,null,null,null,null,null,null,null,null,null,null,null,null,null,null,null,null,null,null,null,null,null,null,null,null,null,null,null,null,1590,0]
["0306004","Examen directo al fresco, c/s tinción (incluye trichomonas)",0,0,null,null,null,null,null,null,null,null,null,null,null,null,null,null,null,null,null,null,null,null,null,null,null,null,null,null,null,null,null,null,null,null,1380,0]
["0306005","Tinción de Gram",0,0,null,null,null,null,null,null,null,null,null,null,null,null,null,null,null,null,null,null,null,null,null,null,null,null,null,null,null,null,null,null,null,null,620,0]
["0306006","Ultramicroscopía",0,0,null,null,null,null,null,null,null,null,null,null,null,null,null,null,null,null,null,null,null,null,null,null,null,null,null,null,null,null,null,null,null,null,4140,0]
["0306102","Tinción de toluidina",0,0,null,null,null,null,null,null,null,null,null,null,null,null,null,null,null,null,null,null,null,null,null,null,null,null,null,null,null,null,null,null,null,null,43810,0]
["0306103","Tinción de calcofluor",0,0,null,null,null,null,null,null,null,null,null,null,null,null,null,null,null,null,null,null,null,null,null,null,null,null,null,null,null,null,null,null,null,null,5040,0]
["0306104","Tinción para campylobacter",0,0,null,null,null,null,null,null,null,null,null,null,null,null,null,null,null,null,null,null,null,null,null,null,null,null,null,null,null,null,null,null,null,null,4230,0]
["0306105","Tinción tinta china",0,0,null,null,null,null,null,null,null,null,null,null,null,null,null,null,null,null,null,null,null,null,null,null,null,null,null,null,null,null,null,null,null,null,3690,0]
["0306007","Coprocultivo, c/u",0,0,null,null,null,null,null,null,null,null,null,null,null,null,null,null,null,null,null,null,null,null,null,null,null,null,null,null,null,null,null,null,null,null,3930,{"$f":"AK534*E534","v":0},null," "]
["0306008","Cultivo corriente (excepto coprocultivo, hemocultivo y urocultivo) c/u",0,0,null,null,null,null,null,null,null,null,null,null,null,null,null,null,null,null,null,null,null,null,null,null,null,null,null,null,null,null,null,null,null,null,3300,0]
["0306011","Urocultivo, recuento de colonias y antibiograma (cualquier técnica) ",0,0,null,null,null,null,null,null,null,null,null,null,null,null,null,null,null,null,null,null,null,null,null,null,null,null,null,null,null,null,null,null,null,null,3470,0]
["0306091","Hemocultivo automatizado. Incluye Antibiograma con CIM",0,0,null,null,null,null,null,null,null,null,null,null,null,null,null,null,null,null,null,null,null,null,null,null,null,null,null,null,null,null,null,null,null,null,15630,0]
["0306093","Hemocultivo automatizado para Micobacterias",0,0,null,null,null,null,null,null,null,null,null,null,null,null,null,null,null,null,null,null,null,null,null,null,null,null,null,null,null,null,null,null,null,null,14460,0]
["0306101","Cultivo de Líquido de Cavidades Estériles en frasco de Hemocultivo  automatizado. Incluye Antibiograma con CIM  ",0,0,null,null,null,null,null,null,null,null,null,null,null,null,null,null,null,null,null,null,null,null,null,null,null,null,null,null,null,null,null,null,null,null,16210,0]
["0306106","Hemocultivo automatizado para hongos",0,0,null,null,null,null,null,null,null,null,null,null,null,null,null,null,null,null,null,null,null,null,null,null,null,null,null,null,null,null,null,null,null,null,21660,0]
["0306012","Cultivo para Anaerobios (incluye Cód. 03-06-008)",0,0,null,null,null,null,null,null,null,null,null,null,null,null,null,null,null,null,null,null,null,null,null,null,null,null,null,null,null,null,null,null,null,null,6140,{"$f":"AK541*E541","v":0},null," "]
["0306013","Cultivo para Bordetella",0,0,null,null,null,null,null,null,null,null,null,null,null,null,null,null,null,null,null,null,null,null,null,null,null,null,null,null,null,null,null,null,null,null,5800,0]
["0306014","Cultivo para Campylobacter, Yersinia, Vibrio, c/u",0,0,null,null,null,null,null,null,null,null,null,null,null,null,null,null,null,null,null,null,null,null,null,null,null,null,null,null,null,null,null,null,null,null,4140,0]
["0306016","Neisseria gonorrhoeae (gonococo)",0,0,null,null,null,null,null,null,null,null,null,null,null,null,null,null,null,null,null,null,null,null,null,null,null,null,null,null,null,null,null,null,null,null,2790,0]
["0306017","Cultivo para hongos (levaduras y filamentosos)",0,0,null,null,null,null,null,null,null,null,null,null,null,null,null,null,null,null,null,null,null,null,null,null,null,null,null,null,null,null,null,null,null,null,2540,0]
["0306117","Cultivo para dermatofitos",0,0,null,null,null,null,null,null,null,null,null,null,null,null,null,null,null,null,null,null,null,null,null,null,null,null,null,null,null,null,null,null,null,null,2870,0]
["0306018","Cultivo para micobacterias (incluye bacilo de Koch)",0,0,null,null,null,null,null,null,null,null,null,null,null,null,null,null,null,null,null,null,null,null,null,null,null,null,null,null,null,null,null,null,null,null,4100,0]
["0306019","Cultivo para Legionella",0,0,null,null,null,null,null,null,null,null,null,null,null,null,null,null,null,null,null,null,null,null,null,null,null,null,null,null,null,null,null,null,null,null,4140,0]
["0306022","Cultivo y Tipificación de micobacterias",0,0,null,null,null,null,null,null,null,null,null,null,null,null,null,null,null,null,null,null,null,null,null,null,null,null,null,null,null,null,null,null,null,null,4140,0]
["0306023","Cultivo mycoplasma y ureaplasma, c/u.",0,0,null,null,null,null,null,null,null,null,null,null,null,null,null,null,null,null,null,null,null,null,null,null,null,null,null,null,null,null,null,null,null,null,5790,0]
["0306099","Streptococcus Grupo B/ agalactiae en embarazada por cultivo con medio selectivo y/o enriquecido. ",0,0,null,null,null,null,null,null,null,null,null,null,null,null,null,null,null,null,null,null,null,null,null,null,null,null,null,null,null,null,null,null,null,null,13210,0]
["0306100","Cultivo acelerado para Micobacterias",0,0,null,null,null,null,null,null,null,null,null,null,null,null,null,null,null,null,null,null,null,null,null,null,null,null,null,null,null,null,null,null,null,null,22600,0]
["0306025","Antibiograma Bacilo de Koch (cada fármaco)",0,0,null,null,null,null,null,null,null,null,null,null,null,null,null,null,null,null,null,null,null,null,null,null,null,null,null,null,null,null,null,null,null,null,4140,{"$f":"AK553*E553","v":0},null," "]
["0306026","Antibiograma Corriente (mínimo 10 fármacos) (en caso de urocultivo no corresponde su cobro; incluido en el valor 03-06-011)",0,0,null,null,null,null,null,null,null,null,null,null,null,null,null,null,null,null,null,null,null,null,null,null,null,null,null,null,null,null,null,null,null,null,2590,{"$f":"AK554*E554","v":0}]
["0306027","Antibiograma de estudio de sensibilidad por dilución (CIM) (mínimo 6 fármacos) (en caso de urocultivo, no corresponde su cobro; incluido en el valor código 03-06-011)",0,0,null,null,null,null,null,null,null,null,null,null,null,null,null,null,null,null,null,null,null,null,null,null,null,null,null,null,null,null,null,null,null,null,7260,{"$f":"AK555*E555","v":0}]
["0306028","Antifungigrama (mínimo 4 fármacos antihongos)",0,0,null,null,null,null,null,null,null,null,null,null,null,null,null,null,null,null,null,null,null,null,null,null,null,null,null,null,null,null,null,null,null,null,1980,{"$f":"AK556*E556","v":0}]
["0306097","Chlamydia Trachomatis y Neisseria Gonorrhoeae detección por técnica de biología molecular",0,0,null,null,null,null,null,null,null,null,null,null,null,null,null,null,null,null,null,null,null,null,null,null,null,null,null,null,null,null,null,null,null,null,39050,{"$f":"AK557*E557","v":0}]
["0306090","Test rápido de detección de streptococcus grupo A (Pyogenes)",0,0,null,null,null,null,null,null,null,null,null,null,null,null,null,null,null,null,null,null,null,null,null,null,null,null,null,null,null,null,null,null,null,null,5080,0]
["0306098","Toxina Clostridium Difficile en deposiciones test rápido",0,0,null,null,null,null,null,null,null,null,null,null,null,null,null,null,null,null,null,null,null,null,null,null,null,null,null,null,null,null,null,null,null,null,14910,0,null," "]
["0306107","Pneumocystis Jirovecci por técnica de biología molecular en tiempo real",0,0,null,null,null,null,null,null,null,null,null,null,null,null,null,null,null,null,null,null,null,null,null,null,null,null,null,null,null,null,null,null,null,null,164060,0]
["0306108","Helicobacter pylori, detección en deposiciones, test rápido",0,0,null,null,null,null,null,null,null,null,null,null,null,null,null,null,null,null,null,null,null,null,null,null,null,null,null,null,null,null,null,null,null,null,5230,0]
["0306118","Amplificación de DNA de Bordetella Pertussis por técnica de biología molecular en tiempo real",0,0,null,null,null,null,null,null,null,null,null,null,null,null,null,null,null,null,null,null,null,null,null,null,null,null,null,null,null,null,null,null,null,null,56430,0]
["0306133","Streptococcus agalactiae en embarazada por biología molecular ",0,0,null,null,null,null,null,null,null,null,null,null,null,null,null,null,null,null,null,null,null,null,null,null,null,null,null,null,null,null,null,null,null,null,30440,0]
["0306134","Panel ETS por biología molecular",0,0,null,null,null,null,null,null,null,null,null,null,null,null,null,null,null,null,null,null,null,null,null,null,null,null,null,null,null,null,null,null,null,null,44320,0]
["0306135","Beta-d- glucano",0,0,null,null,null,null,null,null,null,null,null,null,null,null,null,null,null,null,null,null,null,null,null,null,null,null,null,null,null,null,null,null,null,null,95550,0]
["0306136","Detección de antígeno capsular de cryptococcus",0,0,null,null,null,null,null,null,null,null,null,null,null,null,null,null,null,null,null,null,null,null,null,null,null,null,null,null,null,null,null,null,null,null,13710,0]
["0306138","Clostridium Difficile por técnica de biología molecular en tiempo real",{"$f":"SUM(D567+G567)","v":0},{"$f":"SUM(E567:F567)","v":0},null,null,null,null,null,null,null,null,null,null,null,null,null,null,null,null,null,null,null,null,null,null,null,null,null,null,null,null,null,null,null,null,21020,0]
["0306033","Brucella abortus, melitensis y suis, anticuerpos, por Aglutinación o Elisa",0,0,null,null,null,null,null,null,null,null,null,null,null,null,null,null,null,null,null,null,null,null,null,null,null,null,null,null,null,null,null,null,null,null,1440,{"$f":"AK568*E568","v":0},null," "]
["0306034","Clamidias por inmunofluorescencia, peroxidasa, Elisa o similares",0,0,null,null,null,null,null,null,null,null,null,null,null,null,null,null,null,null,null,null,null,null,null,null,null,null,null,null,null,null,null,null,null,null,5080,0]
["0306036","Mononucleosis, reacción de Paul Bunnell, Anticuerpos Heterófilos o similares",0,0,null,null,null,null,null,null,null,null,null,null,null,null,null,null,null,null,null,null,null,null,null,null,null,null,null,null,null,null,null,null,null,null,2210,0]
["0306037","Mycoplasma IgG, IgM, c/u. ",0,0,null,null,null,null,null,null,null,null,null,null,null,null,null,null,null,null,null,null,null,null,null,null,null,null,null,null,null,null,null,null,null,null,4470,0]
["0306038","R.P.R.",0,0,null,null,null,null,null,null,null,null,null,null,null,null,null,null,null,null,null,null,null,null,null,null,null,null,null,null,null,null,null,null,null,null,2480,0]
["0306039","Tíficas, reacciones de aglutinación  (Eberth H y O, paratyphi A y B) (Widal)",0,0,null,null,null,null,null,null,null,null,null,null,null,null,null,null,null,null,null,null,null,null,null,null,null,null,null,null,null,null,null,null,null,null,3480,0]
["0306041","Treponema pallidum FTA - ABS, MHA-TP c/u",0,0,null,null,null,null,null,null,null,null,null,null,null,null,null,null,null,null,null,null,null,null,null,null,null,null,null,null,null,null,null,null,null,null,4600,0]
["0306042","V.D.R.L.",0,0,null,null,null,null,null,null,null,null,null,null,null,null,null,null,null,null,null,null,null,null,null,null,null,null,null,null,null,null,null,null,null,null,2940,0]
["0306094","Antígeno galactomanano",0,0,null,null,null,null,null,null,null,null,null,null,null,null,null,null,null,null,null,null,null,null,null,null,null,null,null,null,null,null,null,null,null,null,20260,0]
["0306114","Antigeno de neumococo",0,0,null,null,null,null,null,null,null,null,null,null,null,null,null,null,null,null,null,null,null,null,null,null,null,null,null,null,null,null,null,null,null,null,77790,0]
["0306115","Legionella antígeno urinario",0,0,null,null,null,null,null,null,null,null,null,null,null,null,null,null,null,null,null,null,null,null,null,null,null,null,null,null,null,null,null,null,null,null,62350,0]
["0306119","Interferón Gamma TBC ",0,0,null,null,null,null,null,null,null,null,null,null,null,null,null,null,null,null,null,null,null,null,null,null,null,null,null,null,null,null,null,null,null,null,86910,0]
["0306131","Bordetella pertussis IgG, IgM en sangre",0,0,null,null,null,null,null,null,null,null,null,null,null,null,null,null,null,null,null,null,null,null,null,null,null,null,null,null,null,null,null,null,null,null,13530,0]
["0306132","Bartonella henselae, anticuerpos IgG o IgM, c/u",0,0,null,null,null,null,null,null,null,null,null,null,null,null,null,null,null,null,null,null,null,null,null,null,null,null,null,null,null,null,null,null,null,null,40730,0]
[null,"TOTAL",{"$f":"SUM(C525:C581)","v":0},{"$f":"SUM(D525:D581)","v":0},{"$f":"SUM(E525:E581)","v":0},{"$f":"SUM(F525:F581)","v":0},0,null,null,null,null,null,null,null,null,null,null,null,null,null,null,null,null,null,null,null,{"$f":"SUM(AA525:AA581)","v":0},{"$f":"SUM(AB525:AB581)","v":0},0,0,0,0,0,0,0,0,null,0]
[null,"PARASITOS"]
["0306043","Artrópodos macroscópicos y microscópicos (imagos y/o pupas y/o larvas), diagnóstico de",0,0,null,null,null,null,null,null,null,null,null,null,null,null,null,null,null,null,null,null,null,null,null,null,null,null,null,null,null,null,null,null,null,null,2790,{"$f":"AK584*E584","v":0}]
["0306045","Coproparasitario seriado con técnica  para Cryptosporidium sp o para Diantamoeba fragilis (incluye los códigos 03-06-048 y/o 03-06-059 más aplicación de técnica de frotis con tinción tricrómica o tinción Ziehl-Neelsen en por lo menos 3 muestras, según corresponda)",0,0,null,null,null,null,null,null,null,null,null,null,null,null,null,null,null,null,null,null,null,null,null,null,null,null,null,null,null,null,null,null,null,null,8340,0]
["0306046","Coproparasitario seriado para fasciola hepática (incluye diagnóstico de gusanos macroscópicos y examen microscópico de 10 muestras por método de Telemann y simultáneamente por técnica de Sedimentación rápida (Copa Cónica)",0,0,null,null,null,null,null,null,null,null,null,null,null,null,null,null,null,null,null,null,null,null,null,null,null,null,null,null,null,null,null,null,null,null,16650,0]
["0306047","Coproparasitario seriado para Isospora y Sarcocystis (incluye diagnóstico de gusanos macroscópicos y examen  microscópico de 3 muestras separadas)",0,0,null,null,null,null,null,null,null,null,null,null,null,null,null,null,null,null,null,null,null,null,null,null,null,null,null,null,null,null,null,null,null,null,4470,0]
["0306048","Coproparasitológico seriado simple (incluye diagnóstico de gusanos macroscópicos y examen microscópico por concentración de tres muestras separadas método Telemann ) (proc. aut.)",0,0,null,null,null,null,null,null,null,null,null,null,null,null,null,null,null,null,null,null,null,null,null,null,null,null,null,null,null,null,null,null,null,null,2940,0]
["0306049","Diagnóstico de parásitos en jugo duodenal y/o bilis, examen macroscópico y microscópico (directo y/o concentración, c/s tinción)",0,0,null,null,null,null,null,null,null,null,null,null,null,null,null,null,null,null,null,null,null,null,null,null,null,null,null,null,null,null,null,null,null,null,2790,0]
["0306050","Diagnóstico parasitario en exudados, secreciones y otros líquidos orgánicos, examen macro y microscópico de (incluye concentración y/o tinción cuando proceda), c/u",0,0,null,null,null,null,null,null,null,null,null,null,null,null,null,null,null,null,null,null,null,null,null,null,null,null,null,null,null,null,null,null,null,null,2790,0]
["0306051","Graham, examen de (incluye diagnóstico de gusanos macroscópicos y examen microscópico de 5 muestras separadas)",0,0,null,null,null,null,null,null,null,null,null,null,null,null,null,null,null,null,null,null,null,null,null,null,null,null,null,null,null,null,null,null,null,null,1980,0,null," "]
["0306052","Estudio de gusanos macroscópicos",0,0,null,null,null,null,null,null,null,null,null,null,null,null,null,null,null,null,null,null,null,null,null,null,null,null,null,null,null,null,null,null,null,null,1590,0]
["0306053","Hemoparásitos, diagnóstico microscópico de (mínimo 10 frotis y/o gotas gruesas, c/s examen directo al fresco), cada sesión",0,0,null,null,null,null,null,null,null,null,null,null,null,null,null,null,null,null,null,null,null,null,null,null,null,null,null,null,null,null,null,null,null,null,8340,0]
["0306054","Hemoparásitos, diagnóstico por técnica de Microstrout o similar en hasta 10 tubos capilares, cada sesión (Chagas)",0,0,null,null,null,null,null,null,null,null,null,null,null,null,null,null,null,null,null,null,null,null,null,null,null,null,null,null,null,null,null,null,null,null,11040,0]
["0306056","Raspado de piel, examen microscópico de (\"Acarotest\"): de 6 a 10 preparaciones",0,0,null,null,null,null,null,null,null,null,null,null,null,null,null,null,null,null,null,null,null,null,null,null,null,null,null,null,null,null,null,null,null,null,3760,0]
["0306059","Coproparasitológico seriado simple (incluye diagnóstico de gusanos macroscópicos y examen microscópico por concentración de tres muestras separadas método PAFS) (proc. aut.)  ",{"$f":"SUM(D596+G596)","v":0},{"$f":"SUM(E596:F596)","v":0},null,null,null,null,null,null,null,null,null,null,null,null,null,null,null,null,null,null,null,null,null,null,null,null,null,null,null,null,null,null,null,null,3800,0]
["0306137","Raspado de piel, examen microscópico para búsqueda de demodex",0,0,null,null,null,null,null,null,null,null,null,null,null,null,null,null,null,null,null,null,null,null,null,null,null,null,null,null,null,null,null,null,null,null,8770,0]
["0306061","Parásitos IgG/IgM (Chagas, Hidatidosis, Toxocariasis y otros por Elisa o Inmunofluorescencia), c/u",0,0,null,null,null,null,null,null,null,null,null,null,null,null,null,null,null,null,null,null,null,null,null,null,null,null,null,null,null,null,null,null,null,null,5080,{"$f":"AK598*E598","v":0}]
["0306066","Inmunofluorescencia indirecta (toxoplasmosis, Chagas, amebiasis y otras), c/u",0,0,null,null,null,null,null,null,null,null,null,null,null,null,null,null,null,null,null,null,null,null,null,null,null,null,null,null,null,null,null,null,null,null,5080,{"$f":"AK599*E599","v":0}]
["0306095","Parásitos: determinación por reacción de polimerasa en cadena (PCR)",0,0,null,null,null,null,null,null,null,null,null,null,null,null,null,null,null,null,null,null,null,null,null,null,null,null,null,null,null,null,null,null,null,null,36990,{"$f":"AK600*E600","v":0}]
["0306096","Parásitos: test rápido anticuerpos (Chagas y otros)",0,0,null,null,null,null,null,null,null,null,null,null,null,null,null,null,null,null,null,null,null,null,null,null,null,null,null,null,null,null,null,null,null,null,10120,{"$f":"AK601*E601","v":0}]
[null,"TOTAL",{"$f":"SUM(C584:C601)","v":0},{"$f":"SUM(D584:D601)","v":0},0,0,0,null,null,null,null,null,null,null,null,null,null,null,null,null,null,null,null,null,null,null,{"$f":"SUM(AA584:AA601)","v":0},{"$f":"SUM(AB584:AB601)","v":0},0,0,0,0,0,0,0,0,null,0]
[null,"VIRUS"]
["0306069","Anticuerpos virales, determ. de (SARS  CoV-2  IgM, IgG), (adenovirus, citomegalovirus, herpes simple, rubéola, influenza  A y B; virus varicela-zoster; virus sincicial respiratorio; parainfluenza 1, 2 y 3; Epstein Barr , otros) c/u",{"$f":"SUM(D604+G604)","v":0},{"$f":"SUM(E604:F604)","v":0},null,null,null,null,null,null,null,null,null,null,null,null,null,null,null,null,null,null,null,null,null,null,null,null,null,null,null,null,null,null,null,null,5270,{"$f":"AK604*E604","v":0},null," "]
["0306169","Anticuerpos virales, determ. de H.I.V.",{"$f":"SUM(D605+G605)","v":0},{"$f":"SUM(E605:F605)","v":0},null,null,null,null,null,null,null,null,null,null,null,null,null,null,null,null,null,null,null,null,null,null,null,null,null,null,null,null,null,null,null,null,5230,0]
["0306070","Antígenos virales determ. de (adenovirus, citomegalovirus, herpes simple, rubéola, influenza y otros), (por cualquier técnica ej: inmunofluorescencia), c/u",{"$f":"SUM(D606+G606)","v":0},{"$f":"SUM(E606:F606)","v":0},null,null,null,null,null,null,null,null,null,null,null,null,null,null,null,null,null,null,null,null,null,null,null,null,null,null,null,null,null,null,null,null,4910,0]
["0306170","Antígenos virales determ. de rotavirus, por cualquier técnica ",{"$f":"SUM(D607+G607)","v":0},{"$f":"SUM(E607:F607)","v":0},null,null,null,null,null,null,null,null,null,null,null,null,null,null,null,null,null,null,null,null,null,null,null,null,null,null,null,null,null,null,null,null,4910,0]
["0306270","Antígenos virales determ. de virus sincicial, por cualquier técnica ",0,0,null,null,null,null,null,null,null,null,null,null,null,null,null,null,null,null,null,null,null,null,null,null,null,null,null,null,null,null,null,null,null,null,5400,0]
["0306074","Virus Hepatitis A, anticuerpos IgG, IgM o totales c/u",0,0,null,null,null,null,null,null,null,null,null,null,null,null,null,null,null,null,null,null,null,null,null,null,null,null,null,null,null,null,null,null,null,null,7280,0]
["0306075","Virus hepatitis B, anticuerpo del antígeno E del",0,0,null,null,null,null,null,null,null,null,null,null,null,null,null,null,null,null,null,null,null,null,null,null,null,null,null,null,null,null,null,null,null,null,6140,0]
["0306076","Virus hepatitis B, anticore total del (anti HBc total)",0,0,null,null,null,null,null,null,null,null,null,null,null,null,null,null,null,null,null,null,null,null,null,null,null,null,null,null,null,null,null,null,null,null,6720,0]
["0306077","Virus hepatitis B, anticuerpos contra antígeno superficie",0,0,null,null,null,null,null,null,null,null,null,null,null,null,null,null,null,null,null,null,null,null,null,null,null,null,null,null,null,null,null,null,null,null,5020,0]
["0306078","Virus hepatitis B, antígeno E del (HBEAg)",0,0,null,null,null,null,null,null,null,null,null,null,null,null,null,null,null,null,null,null,null,null,null,null,null,null,null,null,null,null,null,null,null,null,6140,0]
["0306079","Virus hepatitis B, antígeno de superficie (HBsAg)",0,0,null,null,null,null,null,null,null,null,null,null,null,null,null,null,null,null,null,null,null,null,null,null,null,null,null,null,null,null,null,null,null,null,5080,0]
["0306080","Virus hepatitis B, anticore IgM del (anti HBc IgM)",0,0,null,null,null,null,null,null,null,null,null,null,null,null,null,null,null,null,null,null,null,null,null,null,null,null,null,null,null,null,null,null,null,null,6940,0]
["0306081","Virus hepatitis C, anticuerpos de (anti HCV)",0,0,null,null,null,null,null,null,null,null,null,null,null,null,null,null,null,null,null,null,null,null,null,null,null,null,null,null,null,null,null,null,null,null,7690,0]
["0306082","Reacción de Polimerasa en cadena (P.C.R.) en tiempo real, SARS CoV-2, (incluye toma muestra hisopado nasofaríngeo).",0,0,null,null,null,null,null,null,null,null,null,null,null,null,null,null,null,null,null,null,null,null,null,null,null,null,null,null,null,null,null,null,null,null,22000,0]
["0306182","Reacción de Polimerasa en cadena (P.C.R.) en tiempo real, virus Influenza, virus Herpes, citomegalovirus, hepatitis C, mycobacteria TBC, c/u (incluye toma muestra hisopado nasofaríngeo).",0,0,null,null,null,null,null,null,null,null,null,null,null,null,null,null,null,null,null,null,null,null,null,null,null,null,null,null,null,null,null,null,null,null,26680,0]
["0306083","Citomegalovirus (CMV) shell vial aislamiento rápido",0,0,null,null,null,null,null,null,null,null,null,null,null,null,null,null,null,null,null,null,null,null,null,null,null,null,null,null,null,null,null,null,null,null,35810,0]
["0306084","Hepatitis B, carga viral ",0,0,null,null,null,null,null,null,null,null,null,null,null,null,null,null,null,null,null,null,null,null,null,null,null,null,null,null,null,null,null,null,null,null,97670,0]
["0306085","Hepatitis C, carga viral ",0,0,null,null,null,null,null,null,null,null,null,null,null,null,null,null,null,null,null,null,null,null,null,null,null,null,null,null,null,null,null,null,null,null,119220,0]
["0306086","VIH, carga viral ",0,0,null,null,null,null,null,null,null,null,null,null,null,null,null,null,null,null,null,null,null,null,null,null,null,null,null,null,null,null,null,null,null,null,53670,0]
["0306087","Virus Epstein Barr (VEB) carga viral ",0,0,null,null,null,null,null,null,null,null,null,null,null,null,null,null,null,null,null,null,null,null,null,null,null,null,null,null,null,null,null,null,null,null,148670,0]
["0306088","Polioma (BK) virus carga viral ",0,0,null,null,null,null,null,null,null,null,null,null,null,null,null,null,null,null,null,null,null,null,null,null,null,null,null,null,null,null,null,null,null,null,91630,0]
["0306109","VIH, Genotipificación antivirales",0,0,null,null,null,null,null,null,null,null,null,null,null,null,null,null,null,null,null,null,null,null,null,null,null,null,null,null,null,null,null,null,null,null,342100,0]
["0306110","PCR metapneumovirus",0,0,null,null,null,null,null,null,null,null,null,null,null,null,null,null,null,null,null,null,null,null,null,null,null,null,null,null,null,null,null,null,null,null,43960,0]
["0306111","HTLV I y II determinación de anticuerpos virales",0,0,null,null,null,null,null,null,null,null,null,null,null,null,null,null,null,null,null,null,null,null,null,null,null,null,null,null,null,null,null,null,null,null,57320,0]
["0306112","VIH, anticuerpos y antígenos virales, determ. de H.I.V. ",0,0,null,null,null,null,null,null,null,null,null,null,null,null,null,null,null,null,null,null,null,null,null,null,null,null,null,null,null,null,null,null,null,null,28530,0]
["0306113","VIH, reacción de polimerasa en cadena (P.C.R.) en líquido cefaloraquídeo",0,0,null,null,null,null,null,null,null,null,null,null,null,null,null,null,null,null,null,null,null,null,null,null,null,null,null,null,null,null,null,null,null,null,58000,0]
["0306120","Panel viral diarrea por PCR (determinación de rotavirus, norovirus g1, norovirus g2, astrovirus, adenovirus)",0,0,null,null,null,null,null,null,null,null,null,null,null,null,null,null,null,null,null,null,null,null,null,null,null,null,null,null,null,null,null,null,null,null,106770,0]
["0306121","Hanta virus, anticuerpos IgM test rápido",0,0,null,null,null,null,null,null,null,null,null,null,null,null,null,null,null,null,null,null,null,null,null,null,null,null,null,null,null,null,null,null,null,null,58150,0]
["0306122","Panel virus respiratorio molecular (15 a 17 virus) (adenovirus, VRS A, VRS B, parainfluenza 1,2,3,4, influenza a y b, influenza a H1N1, bocavirus, coronavirus (2 tipos), rinovirus, enterovirus. ",0,0,null,null,null,null,null,null,null,null,null,null,null,null,null,null,null,null,null,null,null,null,null,null,null,null,null,null,null,null,null,null,null,null,78960,0]
["0306123","Virus Papiloma Humano por PCR con genotipificación de papiloma de alto riesgo de Cáncer Cérvico Uterino tipos 16 y 19",0,0,null,null,null,null,null,null,null,null,null,null,null,null,null,null,null,null,null,null,null,null,null,null,null,null,null,null,null,null,null,null,null,null,37550,0]
["0306124","Virus ARN por PCR (hanta, dengue, chikungunya, sarampión, enterovirus, parechovirus, zika) c/u",0,0,null,null,null,null,null,null,null,null,null,null,null,null,null,null,null,null,null,null,null,null,null,null,null,null,null,null,null,null,null,null,null,null,73480,0]
["0306125","Virus hepatitis C, genotipificación ",0,0,null,null,null,null,null,null,null,null,null,null,null,null,null,null,null,null,null,null,null,null,null,null,null,null,null,null,null,null,null,null,null,null,118550,0]
["0306126","Hanta virus serologia IgG/IgM c/u",0,0,null,null,null,null,null,null,null,null,null,null,null,null,null,null,null,null,null,null,null,null,null,null,null,null,null,null,null,null,null,null,null,null,55550,0]
["0306127","Panel de meningitis encefalitis por biología molecular ",0,0,null,null,null,null,null,null,null,null,null,null,null,null,null,null,null,null,null,null,null,null,null,null,null,null,null,null,null,null,null,null,null,null,95300,0]
["0306128","Rotavirus y adenovirus detección simultanea de por inmunocromatografia",0,0,null,null,null,null,null,null,null,null,null,null,null,null,null,null,null,null,null,null,null,null,null,null,null,null,null,null,null,null,null,null,null,null,6160,0]
["0306129","Norovirus detección por inmunocromatografia",0,0,null,null,null,null,null,null,null,null,null,null,null,null,null,null,null,null,null,null,null,null,null,null,null,null,null,null,null,null,null,null,null,null,10050,0]
["0306130","Virus hepatitis B, anticuerpos anti antígeno de superficie (títulos)",0,0,null,null,null,null,null,null,null,null,null,null,null,null,null,null,null,null,null,null,null,null,null,null,null,null,null,null,null,null,null,null,null,null,15620,0]
["0306271","Test rápido de detección de antígenos SARS-CoV-2 (incluye toma de muestra)",0,0,null,null,null,null,null,null,null,null,null,null,null,null,null,null,null,null,null,null,null,null,null,null,null,null,null,null,null,null,null,null,null,null,8350,0]
["0306139","Virus Hepatitis E, Anticuerpos IgM",{"$f":"SUM(D642+G642)","v":0},{"$f":"SUM(E642:F642)","v":0},null,null,null,null,null,null,null,null,null,null,null,null,null,null,null,null,null,null,null,null,null,null,null,null,null,null,null,null,null,null,null,null,75390,0]
["0306140","Virus Hepatitis E, Anticuerpos IgG",0,0,null,null,null,null,null,null,null,null,null,null,null,null,null,null,null,null,null,null,null,null,null,null,null,null,null,null,null,null,null,null,null,null,38010,0]
["0306141","Parvovirus B19, anticuerpos IgG o IgM, c/u",0,0,null,null,null,null,null,null,null,null,null,null,null,null,null,null,null,null,null,null,null,null,null,null,null,null,null,null,null,null,null,null,null,null,22020,0]
["0306142","PCR para parvovirus B19",0,0,null,null,null,null,null,null,null,null,null,null,null,null,null,null,null,null,null,null,null,null,null,null,null,null,null,null,null,null,null,null,null,null,59880,0]
["0306143","PCR para virus varicela zoster ",0,0,null,null,null,null,null,null,null,null,null,null,null,null,null,null,null,null,null,null,null,null,null,null,null,null,null,null,null,null,null,null,null,null,49170,0]
["0306144","HTLV virus por PCR",0,0,null,null,null,null,null,null,null,null,null,null,null,null,null,null,null,null,null,null,null,null,null,null,null,null,null,null,null,null,null,null,null,null,77330,0]
["0306145","CMV, carga viral",0,0,null,null,null,null,null,null,null,null,null,null,null,null,null,null,null,null,null,null,null,null,null,null,null,null,null,null,null,null,null,null,null,null,69180,0,null," "]
["0306146","Reacción de Polimerasa en cadena (P.C.R.) virus viruela símica (incluye hisopado de lesiones cutáneas)",0,0,null,null,null,null,null,null,null,null,null,null,null,null,null,null,null,null,null,null,null,null,null,null,null,null,null,null,null,null,null,null,null,null,25640,0]
[null,"TOTAL",{"$f":"SUM(C604:C649)","v":0},{"$f":"SUM(D604:D649)","v":0},{"$f":"SUM(E604:E649)","v":0},{"$f":"SUM(F604:F649)","v":0},{"$f":"SUM(G604:G649)","v":0},null,null,null,null,null,null,null,null,null,null,null,null,null,null,null,null,null,null,null,{"$f":"SUM(AA604:AA649)","v":0},{"$f":"SUM(AB604:AB649)","v":0},0,0,0,0,0,0,0,0,null,0]
[null,"PROCEDIMIENTOS O DETERMINACIONES DIRECTAMENTE CON EL PACIENTE"]
["0307001","Dietilendiamina tetraacetato de sodio cromo (EDTA Cr 51)",0,0,null,null,null,null,null,null,null,null,null,null,null,null,null,null,null,null,null,null,null,null,null,null,null,null,null,null,null,null,null,null,null,null,5550,{"$f":"AK652*E652","v":0},null," "]
["0307002","Prueba de la sed (volumen, densidad, osmolalidad seriada en sangre y orina)",0,0,null,null,null,null,null,null,null,null,null,null,null,null,null,null,null,null,null,null,null,null,null,null,null,null,null,null,null,null,null,null,null,null,4940,0]
["0307005","Reacción cutánea de parche c/u",0,0,null,null,null,null,null,null,null,null,null,null,null,null,null,null,null,null,null,null,null,null,null,null,null,null,null,null,null,null,null,null,null,null,620,0]
["0307006","Sobrecarga hídrica",0,0,null,null,null,null,null,null,null,null,null,null,null,null,null,null,null,null,null,null,null,null,null,null,null,null,null,null,null,null,null,null,null,null,1380,0]
["0307007","Test del sudor (procedimiento completo)",0,0,null,null,null,null,null,null,null,null,null,null,null,null,null,null,null,null,null,null,null,null,null,null,null,null,null,null,null,null,null,null,null,null,13070,0]
["0307008","Vasopresina test o similares (incluye además mediciones de diuresis)",0,0,null,null,null,null,null,null,null,null,null,null,null,null,null,null,null,null,null,null,null,null,null,null,null,null,null,null,null,null,null,null,null,null,4180,0]
["0307023","Aspirados nasofaríngeo para adulto y niño.",0,0,null,null,null,null,null,null,null,null,null,null,null,null,null,null,null,null,null,null,null,null,null,null,null,null,null,null,null,null,null,null,null,null,2180,0]
["0307024","Reacción cutánea a alergenos  (incluye el valor de los alergenos)",0,0,null,null,null,null,null,null,null,null,null,null,null,null,null,null,null,null,null,null,null,null,null,null,null,null,null,null,null,null,null,null,null,null,5550,0,null," "]
[null,"TOTAL",{"$f":"SUM(C652:C659)","v":0},{"$f":"SUM(D652:D659)","v":0},{"$f":"SUM(E652:E659)","v":0},{"$f":"SUM(F652:F659)","v":0},{"$f":"SUM(G652:G659)","v":0},null,null,null,null,null,null,null,null,null,null,null,null,null,null,null,null,null,null,null,{"$f":"SUM(AA652:AA659)","v":0},0,0,0,0,0,0,0,0,0,null,{"$f":"SUM(AL652:AL659)","v":0}]
[null,"TOMA DE MUESTRAS"]
["0307009","Toma de muestra arterial en adultos",0,0,null,null,null,null,null,null,null,null,null,null,null,null,null,null,null,null,null,null,null,null,null,null,null,null,null,null,null,null,null,null,null,null,null,null,null," "]
["0307010","Toma de muestra arterial en niños y lactantes",0,0]
["0307011","Toma de muestra venosa en adultos",0,0]
["0307012","Toma de muestra venosa en niños y lactantes",0,0]
["0307013","Toma de muestra con técnica aséptica para hemocultivo, c/u",0,0]
["0307014","Toma de muestra capilar ( adultos, niños y lactantes )",0,0]
["0307016","Toma de muestra por punción traqueal",0,0]
["0307017","Toma de muestra por punción vesical en recién nacidos",0,0]
["0307018","Toma de muestra por punción medular ósea",0,0,null,null,null,null,null,null,null,null,null,null,null,null,null,null,null,null,null,null,null,null,null,null,null,null,null,null,null,null,null,null,null,null,null,null,null," "]
[null,"TOTAL",{"$f":"SUM(C662:C670)","v":0},{"$f":"SUM(D662:D670)","v":0},{"$f":"SUM(E662:E670)","v":0},{"$f":"SUM(F662:F670)","v":0},{"$f":"SUM(G662:G670)","v":0},null,null,null,null,null,null,null,null,null,null,null,null,null,null,null,null,null,null,null,{"$f":"SUM(AA662:AA670)","v":0},0,0,0,0,0,0,0,0,0]
[null,"EXAMENES DE DEPOSICIONES, EXUDADOS, SECRECIONES Y OTROS LIQUIDOS"]
["0308001","Azúcares reductores (Benedict-Fehling o similar)",{"$f":"SUM(D673+G673)","v":0},0,null,null,null,null,null,null,null,null,null,null,null,null,null,null,null,null,null,null,null,null,null,null,null,null,null,null,null,null,null,null,null,null,1090,{"$f":"AK673*E673","v":0},null," "]
["0308003","Grasas neutras (Sudán III)",0,0,null,null,null,null,null,null,null,null,null,null,null,null,null,null,null,null,null,null,null,null,null,null,null,null,null,null,null,null,null,null,null,null,620,0]
["0308004","Hemorragias ocultas, (bencidina, guayaco o test de Weber y similares), cualquier método, c/muestra",0,0,null,null,null,null,null,null,null,null,null,null,null,null,null,null,null,null,null,null,null,null,null,null,null,null,null,null,null,null,null,null,null,null,1090,0]
["0308005","Leucocitos fecales",0,0,null,null,null,null,null,null,null,null,null,null,null,null,null,null,null,null,null,null,null,null,null,null,null,null,null,null,null,null,null,null,null,null,1090,0]
["0308006","pH en deposiciones",0,0,null,null,null,null,null,null,null,null,null,null,null,null,null,null,null,null,null,null,null,null,null,null,null,null,null,null,null,null,null,null,null,null,620,0]
["0308007","Elastasa fecal ",0,0,null,null,null,null,null,null,null,null,null,null,null,null,null,null,null,null,null,null,null,null,null,null,null,null,null,null,null,null,null,null,null,null,67540,0]
["0308047","Esteatocrito",0,0,null,null,null,null,null,null,null,null,null,null,null,null,null,null,null,null,null,null,null,null,null,null,null,null,null,null,null,null,null,null,null,null,14260,0]
["0308049","Calprotectina cuantitativa por Elisa",0,0,null,null,null,null,null,null,null,null,null,null,null,null,null,null,null,null,null,null,null,null,null,null,null,null,null,null,null,null,null,null,null,null,39210,0]
["0308009","Células neoplásicas en fluidos biológicos",0,0,null,null,null,null,null,null,null,null,null,null,null,null,null,null,null,null,null,null,null,null,null,null,null,null,null,null,null,null,null,null,null,null,3880,{"$f":"AK681*E681","v":0}]
["0308010","Citológico c/s tinción (incluye examen al fresco, recuento celular y citológico porcentual)",0,0,null,null,null,null,null,null,null,null,null,null,null,null,null,null,null,null,null,null,null,null,null,null,null,null,null,null,null,null,null,null,null,null,2800,0]
["0308011","Directo al fresco c/s tinción, (incluye trichomonas)",0,0,null,null,null,null,null,null,null,null,null,null,null,null,null,null,null,null,null,null,null,null,null,null,null,null,null,null,null,null,null,null,null,null,1380,0]
["0308012","Electrolitos (sodio, potasio, cloro), en exudados, secreciones y otros líquidos, c/u ",0,0,null,null,null,null,null,null,null,null,null,null,null,null,null,null,null,null,null,null,null,null,null,null,null,null,null,null,null,null,null,null,null,null,1380,0]
["0308013","Eosinófilos en secreciones",0,0,null,null,null,null,null,null,null,null,null,null,null,null,null,null,null,null,null,null,null,null,null,null,null,null,null,null,null,null,null,null,null,null,770,0]
["0308014","Físico-químico (incluye aspecto, color, pH, glucosa, proteína, Pandy y filancia)",0,0,null,null,null,null,null,null,null,null,null,null,null,null,null,null,null,null,null,null,null,null,null,null,null,null,null,null,null,null,null,null,null,null,2180,0]
["0308015","Glucosa en exudados, secreciones y otros líquidos",0,0,null,null,null,null,null,null,null,null,null,null,null,null,null,null,null,null,null,null,null,null,null,null,null,null,null,null,null,null,null,null,null,null,620,0]
["0308016","Mucina, determinación de",0,0,null,null,null,null,null,null,null,null,null,null,null,null,null,null,null,null,null,null,null,null,null,null,null,null,null,null,null,null,null,null,null,null,1090,0]
["0308017","pH en exudados, secreciones y otros líquidos (proc. aut.)",0,0,null,null,null,null,null,null,null,null,null,null,null,null,null,null,null,null,null,null,null,null,null,null,null,null,null,null,null,null,null,null,null,null,620,0]
["0308050","Proteínas totales en exudados, secreciones y otros líquidos",0,0,null,null,null,null,null,null,null,null,null,null,null,null,null,null,null,null,null,null,null,null,null,null,null,null,null,null,null,null,null,null,null,null,1380,0]
["0308051","Albúminas en exudados, secreciones y otros líquidos",0,0,null,null,null,null,null,null,null,null,null,null,null,null,null,null,null,null,null,null,null,null,null,null,null,null,null,null,null,null,null,null,null,null,1380,0]
["0308019","Proteínas, electroforésis de (incluye proteínas totales) en otros líquidos biológicos",0,0,null,null,null,null,null,null,null,null,null,null,null,null,null,null,null,null,null,null,null,null,null,null,null,null,null,null,null,null,null,null,null,null,5820,0]
["0308020","Bandas oligoclonales (incluye electroforesis de L.C.R., suero e inmunofijación)",0,0,null,null,null,null,null,null,null,null,null,null,null,null,null,null,null,null,null,null,null,null,null,null,null,null,null,null,null,null,null,null,null,null,20010,0]
["0308021","Glutamina",{"$f":"SUM(D694+G694)","v":0},{"$f":"SUM(E694:F694)","v":0},null,null,null,null,null,null,null,null,null,null,null,null,null,null,null,null,null,null,null,null,null,null,null,null,null,null,null,null,null,null,null,null,1840,0]
["0308022","Índice IgG/albúmina (incluye determ. de IgG y albúmina en L.C.R. y suero)",0,0,null,null,null,null,null,null,null,null,null,null,null,null,null,null,null,null,null,null,null,null,null,null,null,null,null,null,null,null,null,null,null,null,11050,0]
["0308023","Estudio de cristales (con luz polarizada)",0,0,null,null,null,null,null,null,null,null,null,null,null,null,null,null,null,null,null,null,null,null,null,null,null,null,null,null,null,null,null,null,null,null,1380,0]
["0308025","Prueba de estimulación máxima con histamina, mínimo 5 muestras (no incluye la histamina ni el antihistamínico).",0,0,null,null,null,null,null,null,null,null,null,null,null,null,null,null,null,null,null,null,null,null,null,null,null,null,null,null,null,null,null,null,null,null,5550,0]
["0308029","Espermiograma (físico y microscópico, con o sin observación hasta 24 horas)",0,0,null,null,null,null,null,null,null,null,null,null,null,null,null,null,null,null,null,null,null,null,null,null,null,null,null,null,null,null,null,null,null,null,3820,0]
["0308030","Fosfatasa ácida prostática",0,0,null,null,null,null,null,null,null,null,null,null,null,null,null,null,null,null,null,null,null,null,null,null,null,null,null,null,null,null,null,null,null,null,2800,0]
["0308031","Fructosa seminal",0,0,null,null,null,null,null,null,null,null,null,null,null,null,null,null,null,null,null,null,null,null,null,null,null,null,null,null,null,null,null,null,null,null,1600,0]
["0308033","Células anaranjadas (proc. aut.)",0,0,null,null,null,null,null,null,null,null,null,null,null,null,null,null,null,null,null,null,null,null,null,null,null,null,null,null,null,null,null,null,null,null,620,0]
["0308034","Contaminantes (meconio y sangre) (proc. aut.)",0,0,null,null,null,null,null,null,null,null,null,null,null,null,null,null,null,null,null,null,null,null,null,null,null,null,null,null,null,null,null,null,null,null,1090,0]
["0308035","Creatinina en exudados, secreciones y otros líquidos (proc. aut.)",0,0,null,null,null,null,null,null,null,null,null,null,null,null,null,null,null,null,null,null,null,null,null,null,null,null,null,null,null,null,null,null,null,null,1090,0]
["0308036","Fosfatidil glicerol y/o fosfatidil inositol",0,0,null,null,null,null,null,null,null,null,null,null,null,null,null,null,null,null,null,null,null,null,null,null,null,null,null,null,null,null,null,null,null,null,6140,0]
["0308037","Índice de bilirrubina (prueba de Liley)",0,0,null,null,null,null,null,null,null,null,null,null,null,null,null,null,null,null,null,null,null,null,null,null,null,null,null,null,null,null,null,null,null,null,1380,0]
["0308038","Índice lecitina/esfingomielina",0,0,null,null,null,null,null,null,null,null,null,null,null,null,null,null,null,null,null,null,null,null,null,null,null,null,null,null,null,null,null,null,null,null,5550,0]
["0308039","Madurez fetal completa (físico; células anaranjadas, bilirrubina, test de Clements, creatinina, contaminantes)",0,0,null,null,null,null,null,null,null,null,null,null,null,null,null,null,null,null,null,null,null,null,null,null,null,null,null,null,null,null,null,null,null,null,5550,0]
["0308040","Test de Clements (proc. aut.)",0,0,null,null,null,null,null,null,null,null,null,null,null,null,null,null,null,null,null,null,null,null,null,null,null,null,null,null,null,null,null,null,null,null,1090,0]
["0308041","Colpocitograma",0,0,null,null,null,null,null,null,null,null,null,null,null,null,null,null,null,null,null,null,null,null,null,null,null,null,null,null,null,null,null,null,null,null,2180,0]
["0308043","Moco-semen, prueba de compatibilidad",0,0,null,null,null,null,null,null,null,null,null,null,null,null,null,null,null,null,null,null,null,null,null,null,null,null,null,null,null,null,null,null,null,null,2180,0]
["0308044","Flujo vaginal o secreción uretral, estudio de (incluye toma de muestra y códigos 03-06-004, 03-06-005, 03-06-008, 03-06-017 y 03-06-026)       ",0,0,null,null,null,null,null,null,null,null,null,null,null,null,null,null,null,null,null,null,null,null,null,null,null,null,null,null,null,null,null,null,null,null,7610,0]
["0308045","Amilasa en Líquidos Biológicos",0,0,null,null,null,null,null,null,null,null,null,null,null,null,null,null,null,null,null,null,null,null,null,null,null,null,null,null,null,null,null,null,null,null,3980,0]
["0308046","Lipasa en  Líquidos Biológicos",0,0,null,null,null,null,null,null,null,null,null,null,null,null,null,null,null,null,null,null,null,null,null,null,null,null,null,null,null,null,null,null,null,null,2620,0]
["0308048","Cuerpos lamelares (procedimiento automatizado) en líquido amniótico",0,0,null,null,null,null,null,null,null,null,null,null,null,null,null,null,null,null,null,null,null,null,null,null,null,null,null,null,null,null,null,null,null,null,8120,0]
["0308052","Colesterol total en exudados, secreciones y otros líquidos",0,0,null,null,null,null,null,null,null,null,null,null,null,null,null,null,null,null,null,null,null,null,null,null,null,null,null,null,null,null,null,null,null,null,3710,0]
["0308053","Hematocrito automatizado (en contador hematológico) en exudados, secreciones y otros líquidos",0,0,null,null,null,null,null,null,null,null,null,null,null,null,null,null,null,null,null,null,null,null,null,null,null,null,null,null,null,null,null,null,null,null,4560,0]
["0308054","LDH en exudados, secreciones y otros líquidos",0,0,null,null,null,null,null,null,null,null,null,null,null,null,null,null,null,null,null,null,null,null,null,null,null,null,null,null,null,null,null,null,null,null,4140,0]
["0308055","Trigliceridos en exudados, secreciones y otros líquidos",0,0,null,null,null,null,null,null,null,null,null,null,null,null,null,null,null,null,null,null,null,null,null,null,null,null,null,null,null,null,null,null,null,null,4770,0]
["0308056","Beta-2 transferrina",0,0,null,null,null,null,null,null,null,null,null,null,null,null,null,null,null,null,null,null,null,null,null,null,null,null,null,null,null,null,null,null,null,null,56610,0]
["0308057","Acido láctico, LCR",0,0,null,null,null,null,null,null,null,null,null,null,null,null,null,null,null,null,null,null,null,null,null,null,null,null,null,null,null,null,null,null,null,null,4540,0,null," "]
[null,"TOTAL",{"$f":"SUM(C673:C720)","v":0},{"$f":"SUM(D673:D720)","v":0},0,0,0,null,null,null,null,null,null,null,null,null,null,null,null,null,null,null,null,null,null,null,{"$f":"SUM(AA673:AA720)","v":0},{"$f":"SUM(AB673:AB720)","v":0},0,0,0,0,0,0,0,0,null,0]
[null,"EXAMENES ORINA"]
["0309001","Acido ascórbico",0,0,null,null,null,null,null,null,null,null,null,null,null,null,null,null,null,null,null,null,null,null,null,null,null,null,null,null,null,null,null,null,null,null,2180,{"$f":"AK723*E723","v":0},null," "]
["0309002","Acido delta aminolevulínico",0,0,null,null,null,null,null,null,null,null,null,null,null,null,null,null,null,null,null,null,null,null,null,null,null,null,null,null,null,null,null,null,null,null,4470,0]
["0309004","Ácido úrico en orina (cuantitativo)",0,0,null,null,null,null,null,null,null,null,null,null,null,null,null,null,null,null,null,null,null,null,null,null,null,null,null,null,null,null,null,null,null,null,1980,0]
["0309005","Acido 5 hidroxiindolacético cuantitativo",0,0,null,null,null,null,null,null,null,null,null,null,null,null,null,null,null,null,null,null,null,null,null,null,null,null,null,null,null,null,null,null,null,null,4650,0]
["0309006","Amilasa cuantitativa en orina",0,0,null,null,null,null,null,null,null,null,null,null,null,null,null,null,null,null,null,null,null,null,null,null,null,null,null,null,null,null,null,null,null,null,2460,0]
["0309007","Aminoácidos en orina (cualitativo)(excepto fenilalanina, PKU)",0,0,null,null,null,null,null,null,null,null,null,null,null,null,null,null,null,null,null,null,null,null,null,null,null,null,null,null,null,null,null,null,null,null,4470,0]
["0309008","Calcio cuantitativo en orina",0,0,null,null,null,null,null,null,null,null,null,null,null,null,null,null,null,null,null,null,null,null,null,null,null,null,null,null,null,null,null,null,null,null,1840,0]
["0309009","Cálculo urinario (examen físico y químico)",0,0,null,null,null,null,null,null,null,null,null,null,null,null,null,null,null,null,null,null,null,null,null,null,null,null,null,null,null,null,null,null,null,null,3840,0]
["0309010","Creatinina cuantitativa en orina",0,0,null,null,null,null,null,null,null,null,null,null,null,null,null,null,null,null,null,null,null,null,null,null,null,null,null,null,null,null,null,null,null,null,1380,0]
["0309011","Cuerpos cetónicos",0,0,null,null,null,null,null,null,null,null,null,null,null,null,null,null,null,null,null,null,null,null,null,null,null,null,null,null,null,null,null,null,null,null,1380,0]
["0309012","Electrólitos (sodio, potasio, cloro) c/u, en orina",0,0,null,null,null,null,null,null,null,null,null,null,null,null,null,null,null,null,null,null,null,null,null,null,null,null,null,null,null,null,null,null,null,null,1380,0]
["0309013","Microalbuminuria cuantitativa",0,0,null,null,null,null,null,null,null,null,null,null,null,null,null,null,null,null,null,null,null,null,null,null,null,null,null,null,null,null,null,null,null,null,2790,0]
["0309014","Gonadotrofina coriónica, sub-unidad beta en orina (test rápido)",0,0,null,null,null,null,null,null,null,null,null,null,null,null,null,null,null,null,null,null,null,null,null,null,null,null,null,null,null,null,null,null,null,null,2350,0]
["0309015","Fósforo cuantitativo en orina",0,0,null,null,null,null,null,null,null,null,null,null,null,null,null,null,null,null,null,null,null,null,null,null,null,null,null,null,null,null,null,null,null,null,1840,0]
["0309016","Glucosa (cuantitativo), en orina",0,0,null,null,null,null,null,null,null,null,null,null,null,null,null,null,null,null,null,null,null,null,null,null,null,null,null,null,null,null,null,null,null,null,1230,0]
["0309035","Hemosiderina",0,0,null,null,null,null,null,null,null,null,null,null,null,null,null,null,null,null,null,null,null,null,null,null,null,null,null,null,null,null,null,null,null,null,1030,0]
["0309017","Hidroxiprolina en orina",0,0,null,null,null,null,null,null,null,null,null,null,null,null,null,null,null,null,null,null,null,null,null,null,null,null,null,null,null,null,null,null,null,null,4180,0]
["0309019","Mucopolisacáridos",0,0,null,null,null,null,null,null,null,null,null,null,null,null,null,null,null,null,null,null,null,null,null,null,null,null,null,null,null,null,null,null,null,null,5550,0]
["0309020","Nitrógeno ureico o urea en orina (cuantitativo)",0,0,null,null,null,null,null,null,null,null,null,null,null,null,null,null,null,null,null,null,null,null,null,null,null,null,null,null,null,null,null,null,null,null,770,0]
["0309021","Nucleótidos cíclicos (CAMP, CGM, u otros) c/u",0,0,null,null,null,null,null,null,null,null,null,null,null,null,null,null,null,null,null,null,null,null,null,null,null,null,null,null,null,null,null,null,null,null,4470,0]
["0309022","Orina completa, (incluye cód. 03-09-023 y 03-09-024)",0,0,null,null,null,null,null,null,null,null,null,null,null,null,null,null,null,null,null,null,null,null,null,null,null,null,null,null,null,null,null,null,null,null,1770,0]
["0309023","Orina, físico-químico ( aspecto, color, densidad, pH; proteínas, glucosa, cuerpos cetónicos, urobilinogeno, bilirrubina, hemoglobina y nitritos, determinación cualitativa o semi cuantitativa) todos o cada uno de los parámetros (proc. aut.)",0,0,null,null,null,null,null,null,null,null,null,null,null,null,null,null,null,null,null,null,null,null,null,null,null,null,null,null,null,null,null,null,null,null,1090,0]
["0309024","Sedimento de orina (proc. aut.)",0,0,null,null,null,null,null,null,null,null,null,null,null,null,null,null,null,null,null,null,null,null,null,null,null,null,null,null,null,null,null,null,null,null,1000,0]
["0309025","Osmolalidad",0,0,null,null,null,null,null,null,null,null,null,null,null,null,null,null,null,null,null,null,null,null,null,null,null,null,null,null,null,null,null,null,null,null,1600,0]
["0309027","Porfirinas, c/u",0,0,null,null,null,null,null,null,null,null,null,null,null,null,null,null,null,null,null,null,null,null,null,null,null,null,null,null,null,null,null,null,null,null,1920,0]
["0309028","Proteína (cuantitativa), en orina",0,0,null,null,null,null,null,null,null,null,null,null,null,null,null,null,null,null,null,null,null,null,null,null,null,null,null,null,null,null,null,null,null,null,1600,0]
["0309029","Proteínas de Bence-Jones prueba térmica",0,0,null,null,null,null,null,null,null,null,null,null,null,null,null,null,null,null,null,null,null,null,null,null,null,null,null,null,null,null,null,null,null,null,1090,0]
["0309031","Screening de drogas",0,0,null,null,null,null,null,null,null,null,null,null,null,null,null,null,null,null,null,null,null,null,null,null,null,null,null,null,null,null,null,null,null,null,6180,0]
["0309034","Arsenico en orina (muestra aislada)",0,0,null,null,null,null,null,null,null,null,null,null,null,null,null,null,null,null,null,null,null,null,null,null,null,null,null,null,null,null,null,null,null,null,44590,0]
["0309036","Cobre en orina",0,0,null,null,null,null,null,null,null,null,null,null,null,null,null,null,null,null,null,null,null,null,null,null,null,null,null,null,null,null,null,null,null,null,30260,0]
["0309037","Oxalato en orina",0,0,null,null,null,null,null,null,null,null,null,null,null,null,null,null,null,null,null,null,null,null,null,null,null,null,null,null,null,null,null,null,null,null,19360,0]
["0309038","Citrato en orina (enzimático)",0,0,null,null,null,null,null,null,null,null,null,null,null,null,null,null,null,null,null,null,null,null,null,null,null,null,null,null,null,null,null,null,null,null,21880,0]
["0309039","Deoxipiridinolina (DPD)",0,0,null,null,null,null,null,null,null,null,null,null,null,null,null,null,null,null,null,null,null,null,null,null,null,null,null,null,null,null,null,null,null,null,16550,0]
["0309040","Magnesio en orina",0,0,null,null,null,null,null,null,null,null,null,null,null,null,null,null,null,null,null,null,null,null,null,null,null,null,null,null,null,null,null,null,null,null,15450,0]
["0309041","Sulfato en orina",0,0,null,null,null,null,null,null,null,null,null,null,null,null,null,null,null,null,null,null,null,null,null,null,null,null,null,null,null,null,null,null,null,null,22510,0]
["0309042","L-Cistina en orina",0,0,null,null,null,null,null,null,null,null,null,null,null,null,null,null,null,null,null,null,null,null,null,null,null,null,null,null,null,null,null,null,null,null,15560,0]
["0309043","Ph en orina con peachimetro",0,0,null,null,null,null,null,null,null,null,null,null,null,null,null,null,null,null,null,null,null,null,null,null,null,null,null,null,null,null,null,null,null,null,1060,0]
["0309044","Ácidos orgánicos, orina",0,0,null,null,null,null,null,null,null,null,null,null,null,null,null,null,null,null,null,null,null,null,null,null,null,null,null,null,null,null,null,null,null,null,133730,0]
["0309045","Ácido orótico, orina",0,0,null,null,null,null,null,null,null,null,null,null,null,null,null,null,null,null,null,null,null,null,null,null,null,null,null,null,null,null,null,null,null,null,112790,0]
["0309046","Screening de mucopolisacaridos",0,0,null,null,null,null,null,null,null,null,null,null,null,null,null,null,null,null,null,null,null,null,null,null,null,null,null,null,null,null,null,null,null,null,103970,0]
["0309047","Zinc en orina",{"$f":"SUM(D763+G763)","v":0},{"$f":"SUM(E763:F763)","v":0},null,null,null,null,null,null,null,null,null,null,null,null,null,null,null,null,null,null,null,null,null,null,null,null,null,null,null,null,null,null,null,null,17560,0,null," "]
[null,"TOTAL",{"$f":"SUM(C723:C763)","v":0},{"$f":"SUM(D723:D763)","v":0},{"$f":"SUM(E723:E763)","v":0},{"$f":"SUM(F723:F763)","v":0},{"$f":"SUM(G723:G763)","v":0},null,null,null,null,null,null,null,null,null,null,null,null,null,null,null,null,null,null,null,{"$f":"SUM(AA723:AA763)","v":0},{"$f":"SUM(AB723:AB763)","v":0},0,0,0,0,0,0,{"$f":"SUM(AI723:AI763)","v":0},{"$f":"SUM(AJ723:AJ763)","v":0},null,{"$f":"SUM(AL723:AL763)","v":0}]
[null,"IMAGENOLOGIA                "]
[null,"EXAMENES RADIOLOGICOS SIMPLES      "]
["0401001","Radiografía de las glándulas salivales \"sialografía\"",0,0,null,null,null,null,null,null,null,null,null,null,null,null,null,null,null,null,null,null,null,null,null,null,null,null,null,null,null,null,null,null,null,null,21190,{"$f":"AK767*E767","v":0}]
["0401002","Radiografía de partes blandas, laringe lateral, cavum rinofaríngeo (rinofarinx). ",0,0,null,null,null,null,null,null,null,null,null,null,null,null,null,null,null,null,null,null,null,null,null,null,null,null,null,null,null,null,null,null,null,null,8880,0]
["0401004","Radiografía de tórax, proyección complementaria (oblicuas, selectivas u otras)",0,0,null,null,null,null,null,null,null,null,null,null,null,null,null,null,null,null,null,null,null,null,null,null,null,null,null,null,null,null,null,null,null,null,6390,0]
["0401008","Radiografía de tórax  frontal o lateral con equipo móvil fuera del departamento de rayos.",0,0,null,null,null,null,null,null,null,null,null,null,null,null,null,null,null,null,null,null,null,null,null,null,null,null,null,null,null,null,null,null,null,null,9500,0]
["0401009","Radiografía de tórax simple frontal o lateral ",0,0,null,null,null,null,null,null,null,null,null,null,null,null,null,null,null,null,null,null,null,null,null,null,null,null,null,null,null,null,null,null,null,null,9500,0]
["0401070","Radiografía de tórax frontal y lateral",0,0,null,null,null,null,null,null,null,null,null,null,null,null,null,null,null,null,null,null,null,null,null,null,null,null,null,null,null,null,null,null,null,null,17400,0]
["0401075","Radiografía de tórax frontal y lateral con equipo móvil fuera del departamento de rayos",0,0,null,null,null,null,null,null,null,null,null,null,null,null,null,null,null,null,null,null,null,null,null,null,null,null,null,null,null,null,null,null,null,null,7350,0]
["0401010","Mamografía bilateral",0,0,null,null,null,null,null,null,null,null,null,null,null,null,null,null,null,null,null,null,null,null,null,null,null,null,null,null,null,null,null,null,null,null,20150,0]
["0401110","Mamografía unilateral",0,0,null,null,null,null,null,null,null,null,null,null,null,null,null,null,null,null,null,null,null,null,null,null,null,null,null,null,null,null,null,null,null,null,12020,0]
["0401130","Mamografía proyección complementaria  (axilar u otras)",{"$f":"SUM(D776+G776)","v":0},{"$f":"SUM(E776:F776)","v":0},null,null,null,null,null,null,null,null,null,null,null,null,null,null,null,null,null,null,null,null,null,null,null,null,null,null,null,null,null,null,null,null,4600,0]
["0401011","Marcación preoperatoria de lesiones de la mama",0,0,null,null,null,null,null,null,null,null,null,null,null,null,null,null,null,null,null,null,null,null,null,null,null,null,null,null,null,null,null,null,null,null,21190,0]
["0401012","Radiografía de mama, pieza operatoria",0,0,null,null,null,null,null,null,null,null,null,null,null,null,null,null,null,null,null,null,null,null,null,null,null,null,null,null,null,null,null,null,null,null,6390,0]
["0401013","Radiografía de Abdomen Simple",0,0,null,null,null,null,null,null,null,null,null,null,null,null,null,null,null,null,null,null,null,null,null,null,null,null,null,null,null,null,null,null,null,null,8450,{"$f":"AK779*E779","v":0}]
["0401014","Radiografía de abdomen simple, proyección complementaria (lateral y/o oblicua)",0,0,null,null,null,null,null,null,null,null,null,null,null,null,null,null,null,null,null,null,null,null,null,null,null,null,null,null,null,null,null,null,null,null,6390,0]
["0401015","Colangiografía intra o postoperatoria (por sonda T, o similar)",0,0,null,null,null,null,null,null,null,null,null,null,null,null,null,null,null,null,null,null,null,null,null,null,null,null,null,null,null,null,null,null,null,null,17670,0]
["0401018","Enema baritado del colon (incluye llene y control post-vaciamiento)",0,0,null,null,null,null,null,null,null,null,null,null,null,null,null,null,null,null,null,null,null,null,null,null,null,null,null,null,null,null,null,null,null,null,35640,0]
["0401019","Enema baritado del colon o intestino delgado, doble contraste",0,0,null,null,null,null,null,null,null,null,null,null,null,null,null,null,null,null,null,null,null,null,null,null,null,null,null,null,null,null,null,null,null,null,40080,0]
["0401020","Esofagograma  (incluye pesquisa de cuerpo extraño) (proc.aut.)",0,0,null,null,null,null,null,null,null,null,null,null,null,null,null,null,null,null,null,null,null,null,null,null,null,null,null,null,null,null,null,null,null,null,15860,0]
["0401021","Radiografía de esófago, estómago y duodeno, relleno y/o doble contraste ",0,0,null,null,null,null,null,null,null,null,null,null,null,null,null,null,null,null,null,null,null,null,null,null,null,null,null,null,null,null,null,null,null,null,35310,0]
["0401022","Estudio radiológico de deglución faríngea",0,0,null,null,null,null,null,null,null,null,null,null,null,null,null,null,null,null,null,null,null,null,null,null,null,null,null,null,null,null,null,null,null,null,15860,0]
["0401023","Estudio radiológico del intestino delgado",0,0,null,null,null,null,null,null,null,null,null,null,null,null,null,null,null,null,null,null,null,null,null,null,null,null,null,null,null,null,null,null,null,null,28280,0]
["0401024","Radiografía de esófago, estómago y duodeno, simple en niños ",0,0,null,null,null,null,null,null,null,null,null,null,null,null,null,null,null,null,null,null,null,null,null,null,null,null,null,null,null,null,null,null,null,null,26140,0]
["0401027","Pielografía de eliminación o descendente: incluye renal y vesical simples previas, 3 placas post inyección de medio de contraste, controles de pie y cistografía pre y post miccional. ",0,0,null,null,null,null,null,null,null,null,null,null,null,null,null,null,null,null,null,null,null,null,null,null,null,null,null,null,null,null,null,null,null,null,38460,{"$f":"AK789*E789","v":0}]
["0401028","Radiografía renal simple (proc. aut.)",0,0,null,null,null,null,null,null,null,null,null,null,null,null,null,null,null,null,null,null,null,null,null,null,null,null,null,null,null,null,null,null,null,null,8130,0]
["0401029","Radiografía vesical simple o perivesical (proc. aut.)",0,0,null,null,null,null,null,null,null,null,null,null,null,null,null,null,null,null,null,null,null,null,null,null,null,null,null,null,null,null,null,null,null,null,7080,0]
["0401031","Radiografía de cavidades perinasales, órbitas, articulaciones temporomandibulares, huesos propios de la nariz, malar, maxilar, arco cigomático y cara",0,0,null,null,null,null,null,null,null,null,null,null,null,null,null,null,null,null,null,null,null,null,null,null,null,null,null,null,null,null,null,null,null,null,9500,0]
["0401032","Radiografía de cráneo frontal y lateral",0,0,null,null,null,null,null,null,null,null,null,null,null,null,null,null,null,null,null,null,null,null,null,null,null,null,null,null,null,null,null,null,null,null,10050,0]
["0401033","Radiografía de Cráneo  proyección especial de  base de cráneo (Towne)",0,0,null,null,null,null,null,null,null,null,null,null,null,null,null,null,null,null,null,null,null,null,null,null,null,null,null,null,null,null,null,null,null,null,7080,0]
["0401035","Radiografía de oído, unilateral o bilateral",0,0,null,null,null,null,null,null,null,null,null,null,null,null,null,null,null,null,null,null,null,null,null,null,null,null,null,null,null,null,null,null,null,null,13870,0]
["0401040","Radiografía de silla turca frontal y lateral",0,0,null,null,null,null,null,null,null,null,null,null,null,null,null,null,null,null,null,null,null,null,null,null,null,null,null,null,null,null,null,null,null,null,11630,0]
["0401042","Radiografía de columna cervical o atlas-axis (frontal y lateral)",0,0,null,null,null,null,null,null,null,null,null,null,null,null,null,null,null,null,null,null,null,null,null,null,null,null,null,null,null,null,null,null,null,null,9500,0]
["0401043","Radiografía de columna cervical (frontal, lateral y oblicuas)",0,0,null,null,null,null,null,null,null,null,null,null,null,null,null,null,null,null,null,null,null,null,null,null,null,null,null,null,null,null,null,null,null,null,16940,0]
["0401044","Radiografía de columna cervical  flexión y  extensión (Dinámicas)",0,0,null,null,null,null,null,null,null,null,null,null,null,null,null,null,null,null,null,null,null,null,null,null,null,null,null,null,null,null,null,null,null,null,9500,0]
["0401045","Radiografía de columna dorsal o dorsolumbar localizada, parrilla costal adultos (frontal y lateral)",0,0,null,null,null,null,null,null,null,null,null,null,null,null,null,null,null,null,null,null,null,null,null,null,null,null,null,null,null,null,null,null,null,null,11120,0]
["0401046","Radiografía columna lumbar o lumbosacra ( frontal, lateral y focalizada en el 5° espacio)   ",0,0,null,null,null,null,null,null,null,null,null,null,null,null,null,null,null,null,null,null,null,null,null,null,null,null,null,null,null,null,null,null,null,null,16390,0]
["0401047","Radiografía columna lumbar o lumbosacra  flexión y  extensión (Dinámicas)",0,0,null,null,null,null,null,null,null,null,null,null,null,null,null,null,null,null,null,null,null,null,null,null,null,null,null,null,null,null,null,null,null,null,14060,0]
["0401048","Radiografía columna lumbar o lumbosacra, oblicuas adicionales ",0,0,null,null,null,null,null,null,null,null,null,null,null,null,null,null,null,null,null,null,null,null,null,null,null,null,null,null,null,null,null,null,null,null,9500,0]
["0401049","Radiografía de columna total, panorámica con folio graduado  frontal o lateral",0,0,null,null,null,null,null,null,null,null,null,null,null,null,null,null,null,null,null,null,null,null,null,null,null,null,null,null,null,null,null,null,null,null,12730,0]
["0401051","Radiografía de pelvis, cadera o coxofemoral",0,0,null,null,null,null,null,null,null,null,null,null,null,null,null,null,null,null,null,null,null,null,null,null,null,null,null,null,null,null,null,null,null,null,7330,0]
["0401151","Radiografía de pelvis, cadera o coxofemoral de RN, lactante o niño menor de 6 años.",0,0,null,null,null,null,null,null,null,null,null,null,null,null,null,null,null,null,null,null,null,null,null,null,null,null,null,null,null,null,null,null,null,null,7330,0]
["0401052","Radiografía de pelvis, cadera o coxofemoral, proyecciones especiales; (rotación interna, abducción, lateral, Lawenstein u otras)",0,0,null,null,null,null,null,null,null,null,null,null,null,null,null,null,null,null,null,null,null,null,null,null,null,null,null,null,null,null,null,null,null,null,7080,0]
["0401053","Radiografía de Sacrocoxis o articulaciones sacroilíacas.",0,0,null,null,null,null,null,null,null,null,null,null,null,null,null,null,null,null,null,null,null,null,null,null,null,null,null,null,null,null,null,null,null,null,10570,0]
["0401054","Radiografía de brazo, antebrazo, codo, muñeca, mano, dedos, pie  (frontal y lateral)",0,0,null,null,null,null,null,null,null,null,null,null,null,null,null,null,null,null,null,null,null,null,null,null,null,null,null,null,null,null,null,null,null,null,8450,0]
["0401055","Radiografía de clavícula.",0,0,null,null,null,null,null,null,null,null,null,null,null,null,null,null,null,null,null,null,null,null,null,null,null,null,null,null,null,null,null,null,null,null,9770,0]
["0401056","Radiografía Edad Ósea: carpo y mano ",0,0,null,null,null,null,null,null,null,null,null,null,null,null,null,null,null,null,null,null,null,null,null,null,null,null,null,null,null,null,null,null,null,null,7080,0]
["0401057","Radiografía Edad ósea : rodilla frontal",0,0,null,null,null,null,null,null,null,null,null,null,null,null,null,null,null,null,null,null,null,null,null,null,null,null,null,null,null,null,null,null,null,null,7080,0]
["0401058","Estudio radiológico de escafoides",0,0,null,null,null,null,null,null,null,null,null,null,null,null,null,null,null,null,null,null,null,null,null,null,null,null,null,null,null,null,null,null,null,null,10570,0]
["0401059","Estudio radiológico de muñeca o tobillo frontal lateral y oblicuas",0,0,null,null,null,null,null,null,null,null,null,null,null,null,null,null,null,null,null,null,null,null,null,null,null,null,null,null,null,null,null,null,null,null,9870,0]
["0401060","Radiografía de hombro, fémur, rodilla, pierna, costilla o esternón Frontal y Lateral",0,0,null,null,null,null,null,null,null,null,null,null,null,null,null,null,null,null,null,null,null,null,null,null,null,null,null,null,null,null,null,null,null,null,9870,0]
["0401062","Radiografía de Proyecciones especiales oblicuas u otras en hombro, brazo, codo, rodilla, rótulas, sesamoideos, axial de ambas rótulas o similares",0,0,null,null,null,null,null,null,null,null,null,null,null,null,null,null,null,null,null,null,null,null,null,null,null,null,null,null,null,null,null,null,null,null,7080,0]
["0401063","Radiografía de túnel intercondíleo o radio-carpiano",0,0,null,null,null,null,null,null,null,null,null,null,null,null,null,null,null,null,null,null,null,null,null,null,null,null,null,null,null,null,null,null,null,null,7080,0,null," "]
["0401064","Apoyo fluoroscópico a procedimientos intraoperatorios y/o biopsia (no incluye el proc.)",0,0,null,null,null,null,null,null,null,null,null,null,null,null,null,null,null,null,null,null,null,null,null,null,null,null,null,null,null,null,null,null,null,null,7080,0,null," "]
["0401071","Mamografía bilateral digital 3D con tomosíntesis",0,0,null,null,null,null,null,null,null,null,null,null,null,null,null,null,null,null,null,null,null,null,null,null,null,null,null,null,null,null,null,null,null,null,32030,0,null," "]
["0401072","Mamografía unilateral digital 3D con tomosíntesis",0,0,null,null,null,null,null,null,null,null,null,null,null,null,null,null,null,null,null,null,null,null,null,null,null,null,null,null,null,null,null,null,null,null,25600,0,null," "]
["0401073","Videofluoroscopia para estudio de deglución",0,0,null,null,null,null,null,null,null,null,null,null,null,null,null,null,null,null,null,null,null,null,null,null,null,null,null,null,null,null,null,null,null,null,35450,0,null," "]
["0401074","Tránsito colónico con marcadores",0,0,null,null,null,null,null,null,null,null,null,null,null,null,null,null,null,null,null,null,null,null,null,null,null,null,null,null,null,null,null,null,null,null,25400,0,null," "]
[5099115,"Radiografía de pelvis, cadera o coxofemoral de 1er screening  (entre 3 -6 meses)",{"$f":"SUM(D823+G823)","v":0},{"$f":"SUM(E823:F823)","v":0},null,null,null,null,null,null,null,null,null,null,null,null,null,null,null,null,null,null,null,null,null,null,null,null,null,null,null,null,null,null,null,null,null,null,null," "]
[null,"TOTAL",{"$f":"SUM(C767:C822)","v":0},{"$f":"SUM(D767:D822)","v":0},0,0,0,null,null,null,null,null,null,null,null,null,null,null,null,null,null,null,null,null,null,null,{"$f":"SUM(AA767:AA822)","v":0},{"$f":"SUM(AB767:AB822)","v":0},0,0,0,0,0,0,0,0,null,{"$f":"SUM(AL767:AL822)","v":0}]
[null,"EXAMENES RADIOLOGICOS COMPLEJOS   "]
["0402001","Vía lagrimal unilateral",0,0,null,null,null,null,null,null,null,null,null,null,null,null,null,null,null,null,null,null,null,null,null,null,null,null,null,null,null,null,null,null,null,null,17650,{"$f":"AK826*E826","v":0},null," "]
["0402005","Galactografía, unilateral",0,0,null,null,null,null,null,null,null,null,null,null,null,null,null,null,null,null,null,null,null,null,null,null,null,null,null,null,null,null,null,null,null,null,10140,0]
["0402008","Colangiopancreatografía endoscópica (5-7 exp)",0,0,null,null,null,null,null,null,null,null,null,null,null,null,null,null,null,null,null,null,null,null,null,null,null,null,null,null,null,null,null,null,null,null,77600,0]
["0402009","Fistulografía  (3 exp.)",0,0,null,null,null,null,null,null,null,null,null,null,null,null,null,null,null,null,null,null,null,null,null,null,null,null,null,null,null,null,null,null,null,null,13910,0]
["0402011","Histerosalpingografía (a.c. 20-01-013) (4 exp.; incluye prueba de Cotte tardía)",0,0,null,null,null,null,null,null,null,null,null,null,null,null,null,null,null,null,null,null,null,null,null,null,null,null,null,null,null,null,null,null,null,null,20670,0]
["0402012","Pielografía ascendente (3 exp.)",0,0,null,null,null,null,null,null,null,null,null,null,null,null,null,null,null,null,null,null,null,null,null,null,null,null,null,null,null,null,null,null,null,null,58060,0]
["0402014","Uretro y/o cistouretrografía miccional retrógrada  (5 exp.)",0,0,null,null,null,null,null,null,null,null,null,null,null,null,null,null,null,null,null,null,null,null,null,null,null,null,null,null,null,null,null,null,null,null,29690,0]
["0402015","Artrografía facetaria",0,0,null,null,null,null,null,null,null,null,null,null,null,null,null,null,null,null,null,null,null,null,null,null,null,null,null,null,null,null,null,null,null,null,33870,0]
["0402019","Angiografía selectiva de carótida externa o interna",0,0,null,null,null,null,null,null,null,null,null,null,null,null,null,null,null,null,null,null,null,null,null,null,null,null,null,null,null,null,null,null,null,null,58570,0]
["0402020","Angiografía selectiva medular",0,0,null,null,null,null,null,null,null,null,null,null,null,null,null,null,null,null,null,null,null,null,null,null,null,null,null,null,null,null,null,null,null,null,58570,0]
["0402024","Aortografía con AOT o cineangiografía",0,0,null,null,null,null,null,null,null,null,null,null,null,null,null,null,null,null,null,null,null,null,null,null,null,null,null,null,null,null,null,null,null,null,62330,0]
["0402025","Arteriografía de miembros superiores o inferiores unilateral (a.c.17-01-023)",0,0,null,null,null,null,null,null,null,null,null,null,null,null,null,null,null,null,null,null,null,null,null,null,null,null,null,null,null,null,null,null,null,null,46450,0]
["0402027","Arteriografía selectiva con AOT o cineangiografía (pulmonar, renal, tronco celíaco o similar) c/u",{"$f":"SUM(D838+G838)","v":0},{"$f":"SUM(E838:F838)","v":0},null,null,null,null,null,null,null,null,null,null,null,null,null,null,null,null,null,null,null,null,null,null,null,null,null,null,null,null,null,null,null,null,76270,0]
["0402029","Arteriografía de vasos del cuello (carótidas y vertebrales) (a.c. 11-01-013)",0,0,null,null,null,null,null,null,null,null,null,null,null,null,null,null,null,null,null,null,null,null,null,null,null,null,null,null,null,null,null,null,null,null,54990,0]
["0402031","Embolización o balonización (a.c. de la angiografía correspondiente) (incluye control radiológico inmediato)",0,0,null,null,null,null,null,null,null,null,null,null,null,null,null,null,null,null,null,null,null,null,null,null,null,null,null,null,null,null,null,null,null,null,22670,0]
["0402032","Instalación de catéter o sonda intracardíaca, control por radiólogo",0,0,null,null,null,null,null,null,null,null,null,null,null,null,null,null,null,null,null,null,null,null,null,null,null,null,null,null,null,null,null,null,null,null,55940,0]
["0402035","Cavografía",0,0,null,null,null,null,null,null,null,null,null,null,null,null,null,null,null,null,null,null,null,null,null,null,null,null,null,null,null,null,null,null,null,null,39690,0]
["0402038","Flebografía extremidad inferior o superior, unilateral (a.c. 17-01-026) cada extremidad.",0,0,null,null,null,null,null,null,null,null,null,null,null,null,null,null,null,null,null,null,null,null,null,null,null,null,null,null,null,null,null,null,null,null,29880,0]
["0402040","Flebografía orbitaria o yugular",0,0,null,null,null,null,null,null,null,null,null,null,null,null,null,null,null,null,null,null,null,null,null,null,null,null,null,null,null,null,null,null,null,null,42010,0]
["0402041","Flebografía selectiva de venas hepáticas, renales, gonadales, pélvicas. (a.c. 17-01-027)",0,0,null,null,null,null,null,null,null,null,null,null,null,null,null,null,null,null,null,null,null,null,null,null,null,null,null,null,null,null,null,null,null,null,39690,0]
["0402050","Mielografía por punción lumbar con contraste hidrosoluble",0,0,null,null,null,null,null,null,null,null,null,null,null,null,null,null,null,null,null,null,null,null,null,null,null,null,null,null,null,null,null,null,null,null,42010,0,null," "]
[null,"TOTAL",{"$f":"SUM(C826:C846)","v":0},{"$f":"SUM(D826:D846)","v":0},{"$f":"SUM(E826:E846)","v":0},{"$f":"SUM(F826:F846)","v":0},{"$f":"SUM(G826:G846)","v":0},null,null,null,null,null,null,null,null,null,null,null,null,null,null,null,null,null,null,null,{"$f":"SUM(AA826:AA846)","v":0},0,0,0,0,0,0,0,0,0,null,0]
[null,"TOMOGRAFIA AXIAL COMPUTARIZADA (TAC)   "]
["0403001","Tomografía Computarizada de cráneo encefálica",0,0,null,null,null,null,null,null,null,null,null,null,null,null,null,null,null,null,null,null,null,null,null,null,null,null,null,null,null,null,null,null,null,null,59840,{"$f":"AK849*E849","v":0},null," "]
["0403002","Tomografía Computarizada de hipotálamo-hipófisis",0,0,null,null,null,null,null,null,null,null,null,null,null,null,null,null,null,null,null,null,null,null,null,null,null,null,null,null,null,null,null,null,null,null,66800,0]
["0403003","Tomografía Computarizada de fosa posterior",0,0,null,null,null,null,null,null,null,null,null,null,null,null,null,null,null,null,null,null,null,null,null,null,null,null,null,null,null,null,null,null,null,null,55060,0]
["0403006","Tomografía Computarizada de temporal-oído ",0,0,null,null,null,null,null,null,null,null,null,null,null,null,null,null,null,null,null,null,null,null,null,null,null,null,null,null,null,null,null,null,null,null,55060,0]
["0403007","Tomografía Computarizada de órbitas maxilofacial ",0,0,null,null,null,null,null,null,null,null,null,null,null,null,null,null,null,null,null,null,null,null,null,null,null,null,null,null,null,null,null,null,null,null,66800,0]
["0403008","Tomografía Computarizada de columna cervical ",0,0,null,null,null,null,null,null,null,null,null,null,null,null,null,null,null,null,null,null,null,null,null,null,null,null,null,null,null,null,null,null,null,null,73040,0]
["0403018","Tomografía Computarizada de Columna Dorsal. Incluye mínimo 6 espacios ",0,0,null,null,null,null,null,null,null,null,null,null,null,null,null,null,null,null,null,null,null,null,null,null,null,null,null,null,null,null,null,null,null,null,66680,0]
["0403019","Tomografía Computarizada de Columna Lumbar ",0,0,null,null,null,null,null,null,null,null,null,null,null,null,null,null,null,null,null,null,null,null,null,null,null,null,null,null,null,null,null,null,null,null,66680,0]
["0403012","Tomografía Computarizada de cuello, partes blandas ",0,0,null,null,null,null,null,null,null,null,null,null,null,null,null,null,null,null,null,null,null,null,null,null,null,null,null,null,null,null,null,null,null,null,55060,0]
["0403013","Tomografía Computarizada de Tórax. Incluye además: Esternón, Clavículas, Articulación Acromioclavicular, Escápula, Costillas, Articulación Esternoclavicular. Incluye todo el Tórax o cada segmento o articulación. Incluye bilateralidad",0,0,null,null,null,null,null,null,null,null,null,null,null,null,null,null,null,null,null,null,null,null,null,null,null,null,null,null,null,null,null,null,null,null,86230,0]
["0403014","Tomografía Computarizada de abdomen (hígado, vías y vesícula biliar, páncreas, bazo, suprarrenales y riñones)",0,0,null,null,null,null,null,null,null,null,null,null,null,null,null,null,null,null,null,null,null,null,null,null,null,null,null,null,null,null,null,null,null,null,51350,0]
["0403016","Tomografía Computarizada de Pelvis (Además incluye Sacro, Coxis, Caderas, Huesos Pélvicos, Articulaciones Sacro Ilíacas). Bilateral",0,0,null,null,null,null,null,null,null,null,null,null,null,null,null,null,null,null,null,null,null,null,null,null,null,null,null,null,null,null,null,null,null,null,51350,0]
["0403020","Tomografía Computarizada de Abdomen y Pelvis",0,0,null,null,null,null,null,null,null,null,null,null,null,null,null,null,null,null,null,null,null,null,null,null,null,null,null,null,null,null,null,null,null,null,87300,0]
["0403021","Tomografía Computarizada Pielografía",0,0,null,null,null,null,null,null,null,null,null,null,null,null,null,null,null,null,null,null,null,null,null,null,null,null,null,null,null,null,null,null,null,null,20280,0]
["0403022","Tomografía Computarizada Urografía",0,0,null,null,null,null,null,null,null,null,null,null,null,null,null,null,null,null,null,null,null,null,null,null,null,null,null,null,null,null,null,null,null,null,50710,0]
["0403023","Tomografía Computarizada de Colonoscopía Virtual. No incluye instalación de sonda",0,0,null,null,null,null,null,null,null,null,null,null,null,null,null,null,null,null,null,null,null,null,null,null,null,null,null,null,null,null,null,null,null,null,38680,0]
["0403024","Tomografía Computarizada Planificación Radioterapia",0,0,null,null,null,null,null,null,null,null,null,null,null,null,null,null,null,null,null,null,null,null,null,null,null,null,null,null,null,null,null,null,null,null,54920,0]
["0403025","Tomografía Computarizada de Calcio Coronario",0,0,null,null,null,null,null,null,null,null,null,null,null,null,null,null,null,null,null,null,null,null,null,null,null,null,null,null,null,null,null,null,null,null,23470,0]
["0403104","Tomografía Computarizada Angio de Cuello",0,0,null,null,null,null,null,null,null,null,null,null,null,null,null,null,null,null,null,null,null,null,null,null,null,null,null,null,null,null,null,null,null,null,49080,0]
["0403105","Tomografía Computarizada Angio de Pelvis",0,0,null,null,null,null,null,null,null,null,null,null,null,null,null,null,null,null,null,null,null,null,null,null,null,null,null,null,null,null,null,null,null,null,40060,0]
["0403106","Tomografía Computarizada de Angio Cardíaco. Mínimo 64 cortes",0,0,null,null,null,null,null,null,null,null,null,null,null,null,null,null,null,null,null,null,null,null,null,null,null,null,null,null,null,null,null,null,null,null,44060,0]
["0403017","Tomografía Computarizada Musculoesquelética por zona anatómica. Por cada segmento o articulación: muslo, pierna, rodillas, antebrazo, codo, muñeca, mano, hombro, pie, tobillo u otros. Bilateral sólo para rodillas",0,0,null,null,null,null,null,null,null,null,null,null,null,null,null,null,null,null,null,null,null,null,null,null,null,null,null,null,null,null,null,null,null,null,46590,0]
["0403101","Tomografía Computarizada angio  de encéfalo",0,0,null,null,null,null,null,null,null,null,null,null,null,null,null,null,null,null,null,null,null,null,null,null,null,null,null,null,null,null,null,null,null,null,72600,0]
["0403102","Tomografía Computarizada angio de tórax",0,0,null,null,null,null,null,null,null,null,null,null,null,null,null,null,null,null,null,null,null,null,null,null,null,null,null,null,null,null,null,null,null,null,103280,0]
["0403103","Tomografía Computarizada angio de abdomen",0,0,null,null,null,null,null,null,null,null,null,null,null,null,null,null,null,null,null,null,null,null,null,null,null,null,null,null,null,null,null,null,null,null,98300,0]
["0403107","Tomografía computarizada angio de extremidades inferiores (bilateral)",0,0,null,null,null,null,null,null,null,null,null,null,null,null,null,null,null,null,null,null,null,null,null,null,null,null,null,null,null,null,null,null,null,null,74010,0]
["0403108","Tomografía computarizada angio de extremidad superior (unilateral)",0,0,null,null,null,null,null,null,null,null,null,null,null,null,null,null,null,null,null,null,null,null,null,null,null,null,null,null,null,null,null,null,null,null,74630,0]
["0403026","Tomografía computarizada de enterografía ",0,0,null,null,null,null,null,null,null,null,null,null,null,null,null,null,null,null,null,null,null,null,null,null,null,null,null,null,null,null,null,null,null,null,65980,0,null," "]
[null,"TOTAL",{"$f":"SUM(C849:C876)","v":0},{"$f":"SUM(D849:D876)","v":0},{"$f":"SUM(E849:E876)","v":0},{"$f":"SUM(F849:F876)","v":0},{"$f":"SUM(G849:G876)","v":0},null,null,null,null,null,null,null,null,null,null,null,null,null,null,null,null,null,null,null,{"$f":"SUM(AA849:AA876)","v":0},{"$f":"SUM(AB849:AB876)","v":0},{"$f":"SUM(AC849:AC876)","v":0},{"$f":"SUM(AD849:AD876)","v":0},0,0,0,0,0,0,null,0]
[null,"ULTRASONOGRAFIA                "]
["0404002","Ecografía obstétrica",0,0,null,null,null,null,null,null,null,null,null,null,null,null,null,null,null,null,null,null,null,null,null,null,null,null,null,null,null,null,null,null,null,null,6480,{"$f":"AK879*E879","v":0},null," "]
["0404003","Ecografía abdominal (incluye hígado, vía biliar, vesícula, páncreas, riñones, bazo, retroperitoneo y grandes vasos)",0,0,null,null,null,null,null,null,null,null,null,null,null,null,null,null,null,null,null,null,null,null,null,null,null,null,null,null,null,null,null,null,null,null,23740,0,null," "]
["0404004","Ecografía como apoyo a cirugía, o a procedimiento (de tórax, muscular, partes blandas, etc.)",0,0,null,null,null,null,null,null,null,null,null,null,null,null,null,null,null,null,null,null,null,null,null,null,null,null,null,null,null,null,null,null,null,null,14680,0,null," "]
["0404005","Ecografía transvaginal o transrectal",0,0,null,null,null,null,null,null,null,null,null,null,null,null,null,null,null,null,null,null,null,null,null,null,null,null,null,null,null,null,null,null,null,null,13210,0,null," "]
["0404006","Ecografía ginecológica, pelviana femenina u obstétrica con estudio fetal",0,0,null,null,null,null,null,null,null,null,null,null,null,null,null,null,null,null,null,null,null,null,null,null,null,null,null,null,null,null,null,null,null,null,12580,0,null," "]
["0404007","Ecografía transvaginal para seguimiento de ovulación, procedimiento completo (6-8 sesiones )",0,0,null,null,null,null,null,null,null,null,null,null,null,null,null,null,null,null,null,null,null,null,null,null,null,null,null,null,null,null,null,null,null,null,18350,0,null," "]
["0404008","Ecografía para seguimiento de ovulación, procedimiento completo (6 a 8 sesiones)",0,0,null,null,null,null,null,null,null,null,null,null,null,null,null,null,null,null,null,null,null,null,null,null,null,null,null,null,null,null,null,null,null,null,18350,0,null," "]
["0404009","Ecografía pélvica masculina (incluye vejiga y próstata)",0,0,null,null,null,null,null,null,null,null,null,null,null,null,null,null,null,null,null,null,null,null,null,null,null,null,null,null,null,null,null,null,null,null,13210,0,null," "]
["0404010","Ecografía renal (bilateral), o de bazo",0,0,null,null,null,null,null,null,null,null,null,null,null,null,null,null,null,null,null,null,null,null,null,null,null,null,null,null,null,null,null,null,null,null,16520,0]
["0404011","Ecografía encefálica (RN o lactante)",0,0,null,null,null,null,null,null,null,null,null,null,null,null,null,null,null,null,null,null,null,null,null,null,null,null,null,null,null,null,null,null,null,null,16520,0]
["0404012","Ecografía mamaria bilateral (incluye Doppler)",0,0,null,null,null,null,null,null,null,null,null,null,null,null,null,null,null,null,null,null,null,null,null,null,null,null,null,null,null,null,null,null,null,null,16520,0]
["0404013","Ecografía ocular, unilateral o bilateral.",0,0,null,null,null,null,null,null,null,null,null,null,null,null,null,null,null,null,null,null,null,null,null,null,null,null,null,null,null,null,null,null,null,null,16520,0]
["0404014","Ecografía testicular (unilateral o bilateral) (Incluye Doppler)",0,0,null,null,null,null,null,null,null,null,null,null,null,null,null,null,null,null,null,null,null,null,null,null,null,null,null,null,null,null,null,null,null,null,16520,0]
["0404015","Ecografía tiroidea (Incluye Doppler)",0,0,null,null,null,null,null,null,null,null,null,null,null,null,null,null,null,null,null,null,null,null,null,null,null,null,null,null,null,null,null,null,null,null,16520,0]
["0404016","Ecografía Partes Blandas o Musculoesquelética (cada zona anatómica)",0,0,null,null,null,null,null,null,null,null,null,null,null,null,null,null,null,null,null,null,null,null,null,null,null,null,null,null,null,null,null,null,null,null,16520,0]
["0404017","Ecografía axilar",0,0,null,null,null,null,null,null,null,null,null,null,null,null,null,null,null,null,null,null,null,null,null,null,null,null,null,null,null,null,null,null,null,null,16290,0]
["0404019","Ecografía espinal",0,0,null,null,null,null,null,null,null,null,null,null,null,null,null,null,null,null,null,null,null,null,null,null,null,null,null,null,null,null,null,null,null,null,20320,0]
["0404118","Ecografía vascular (arterial y venosa) periférica (bilateral)",0,0,null,null,null,null,null,null,null,null,null,null,null,null,null,null,null,null,null,null,null,null,null,null,null,null,null,null,null,null,null,null,null,null,56410,0]
["0404119","Ecografía doppler de vasos del cuello",0,0,null,null,null,null,null,null,null,null,null,null,null,null,null,null,null,null,null,null,null,null,null,null,null,null,null,null,null,null,null,null,null,null,56410,0]
["0404120","Ecografía transcraneana",0,0,null,null,null,null,null,null,null,null,null,null,null,null,null,null,null,null,null,null,null,null,null,null,null,null,null,null,null,null,null,null,null,null,56410,0]
["0404121","Ecografía abdominal o de vasos testiculares",0,0,null,null,null,null,null,null,null,null,null,null,null,null,null,null,null,null,null,null,null,null,null,null,null,null,null,null,null,null,null,null,null,null,56410,0]
["0404122","Ecografía doppler de vasos placentarios",0,0,null,null,null,null,null,null,null,null,null,null,null,null,null,null,null,null,null,null,null,null,null,null,null,null,null,null,null,null,null,null,null,null,56410,0]
["0404218","Elastografía hepática",{"$f":"SUM(D901+G901)","v":0},{"$f":"SUM(E901:F901)","v":0},null,null,null,null,null,null,null,null,null,null,null,null,null,null,null,null,null,null,null,null,null,null,null,null,null,null,null,null,null,null,null,null,23060,0,null," "]
[null,"TOTAL",{"$f":"SUM(C879:C901)","v":0},{"$f":"SUM(D879:D901)","v":0},{"$f":"SUM(E879:E901)","v":0},{"$f":"SUM(F879:F901)","v":0},{"$f":"SUM(G879:G901)","v":0},null,null,null,null,null,null,null,null,null,null,null,null,null,null,null,null,null,null,null,{"$f":"SUM(AA879:AA901)","v":0},{"$f":"SUM(AB879:AB901)","v":0},{"$f":"SUM(AC879:AC901)","v":0},0,0,0,0,0,0,0,null,0]
[null,"RESONANCIA MAGNÉTICA (incluye medio de contraste)     "]
["0405001","Resonancia Magnética Cráneo Encefálica u Oídos, bilateral",{"$f":"SUM(D904+G904)","v":0},{"$f":"SUM(E904:F904)","v":0},null,null,null,null,null,null,null,null,null,null,null,null,null,null,null,null,null,null,null,null,null,null,null,null,null,null,null,null,null,null,null,null,182610,{"$f":"AK904*E904","v":0},null," "]
["0405002","Resonancia Magnética de hipotálamo - hipófisis",0,0,null,null,null,null,null,null,null,null,null,null,null,null,null,null,null,null,null,null,null,null,null,null,null,null,null,null,null,null,null,null,null,null,182610,0]
["0405003","Resonancia Magnética  de órbitas",0,0,null,null,null,null,null,null,null,null,null,null,null,null,null,null,null,null,null,null,null,null,null,null,null,null,null,null,null,null,null,null,null,null,173200,0]
["0405004","Resonancia Magnética de articulaciones temporomandibulares",0,0,null,null,null,null,null,null,null,null,null,null,null,null,null,null,null,null,null,null,null,null,null,null,null,null,null,null,null,null,null,null,null,null,173200,0]
["0405005","Resonancia Magnética  de columna cervical",0,0,null,null,null,null,null,null,null,null,null,null,null,null,null,null,null,null,null,null,null,null,null,null,null,null,null,null,null,null,null,null,null,null,182610,0]
["0405006","Resonancia Magnética de columna dorsal",0,0,null,null,null,null,null,null,null,null,null,null,null,null,null,null,null,null,null,null,null,null,null,null,null,null,null,null,null,null,null,null,null,null,182610,0]
["0405007","Resonancia Magnética de columna lumbar",0,0,null,null,null,null,null,null,null,null,null,null,null,null,null,null,null,null,null,null,null,null,null,null,null,null,null,null,null,null,null,null,null,null,182610,0]
["0405017","Resonancia Magnética Angiografía de Encéfalo ",0,0,null,null,null,null,null,null,null,null,null,null,null,null,null,null,null,null,null,null,null,null,null,null,null,null,null,null,null,null,null,null,null,null,182610,0]
["0405018","Resonancia Magnética Angiografía de Cuello",0,0,null,null,null,null,null,null,null,null,null,null,null,null,null,null,null,null,null,null,null,null,null,null,null,null,null,null,null,null,null,null,null,null,182610,0]
["0405019","Resonancia Magnética Angiografía de Tórax ",0,0,null,null,null,null,null,null,null,null,null,null,null,null,null,null,null,null,null,null,null,null,null,null,null,null,null,null,null,null,null,null,null,null,182610,0]
["0405020","Resonancia Magnética Angiografía de Abdomen ",0,0,null,null,null,null,null,null,null,null,null,null,null,null,null,null,null,null,null,null,null,null,null,null,null,null,null,null,null,null,null,null,null,null,182610,0]
["0405021","Resonancia Magnética Angiografía de Pelvis ",0,0,null,null,null,null,null,null,null,null,null,null,null,null,null,null,null,null,null,null,null,null,null,null,null,null,null,null,null,null,null,null,null,null,182610,0]
["0405022","Resonancia Magnética  Angiografía de Extremidad Superior Unilateral ",0,0,null,null,null,null,null,null,null,null,null,null,null,null,null,null,null,null,null,null,null,null,null,null,null,null,null,null,null,null,null,null,null,null,182610,0]
["0405023","Resonancia Magnética  Angiografía de Extremidad Inferior Bilateral ",0,0,null,null,null,null,null,null,null,null,null,null,null,null,null,null,null,null,null,null,null,null,null,null,null,null,null,null,null,null,null,null,null,null,182610,0]
["0405009","Resonancia Magnética de Tórax ( corazón, esternón, clavículas, articulación acromioclavicular, escápula, costillas o articulación esternoclavicular). Toda la pared torácica o cada segmento o articulación. Bilateral",0,0,null,null,null,null,null,null,null,null,null,null,null,null,null,null,null,null,null,null,null,null,null,null,null,null,null,null,null,null,null,null,null,null,182610,0]
["0405010","Resonancia Magnética de abdomen ",0,0,null,null,null,null,null,null,null,null,null,null,null,null,null,null,null,null,null,null,null,null,null,null,null,null,null,null,null,null,null,null,null,null,182610,0]
["0405011","Resonancia Magnética de Pelvis. Incluye: osteoarticular de sacroiliacas u osteoarticular de sacrocoxis u osteoarticular de huesos pélvicos u órganos pelvianos (incluye genitales internos y gastrointestinal)",0,0,null,null,null,null,null,null,null,null,null,null,null,null,null,null,null,null,null,null,null,null,null,null,null,null,null,null,null,null,null,null,null,null,182610,0]
["0405012","Resonancia Magnética de abdomen y pelvis",0,0,null,null,null,null,null,null,null,null,null,null,null,null,null,null,null,null,null,null,null,null,null,null,null,null,null,null,null,null,null,null,null,null,273890,0]
["0405098","Colangioresonancia",{"$f":"SUM(D922+G922)","v":0},{"$f":"SUM(E922:F922)","v":0},null,null,null,null,null,null,null,null,null,null,null,null,null,null,null,null,null,null,null,null,null,null,null,null,null,null,null,null,null,null,null,null,122330,0]
["0405013","Resonancia Magnética de rodilla",0,0,null,null,null,null,null,null,null,null,null,null,null,null,null,null,null,null,null,null,null,null,null,null,null,null,null,null,null,null,null,null,null,null,149730,0]
["0405024","Resonancia Magnética de Mano o Muñeca ",0,0,null,null,null,null,null,null,null,null,null,null,null,null,null,null,null,null,null,null,null,null,null,null,null,null,null,null,null,null,null,null,null,null,149730,0]
["0405025","Resonancia Magnética de Antebrazo o Brazo ",0,0,null,null,null,null,null,null,null,null,null,null,null,null,null,null,null,null,null,null,null,null,null,null,null,null,null,null,null,null,null,null,null,null,149730,0]
["0405026","Resonancia Magnética de Codo ",0,0,null,null,null,null,null,null,null,null,null,null,null,null,null,null,null,null,null,null,null,null,null,null,null,null,null,null,null,null,null,null,null,null,149730,0]
["0405027","Resonancia Magnética de Hombro ",0,0,null,null,null,null,null,null,null,null,null,null,null,null,null,null,null,null,null,null,null,null,null,null,null,null,null,null,null,null,null,null,null,null,149730,0]
["0405028","Resonancia Magnética de Pie, Antepie o Tobillo ",0,0,null,null,null,null,null,null,null,null,null,null,null,null,null,null,null,null,null,null,null,null,null,null,null,null,null,null,null,null,null,null,null,null,149730,0]
["0405029","Resonancia Magnética de Pierna",0,0,null,null,null,null,null,null,null,null,null,null,null,null,null,null,null,null,null,null,null,null,null,null,null,null,null,null,null,null,null,null,null,null,149730,0]
["0405030","Resonancia Magnética de Muslo o Cadera. Unilateral",0,0,null,null,null,null,null,null,null,null,null,null,null,null,null,null,null,null,null,null,null,null,null,null,null,null,null,null,null,null,null,null,null,null,149730,0]
["0405031","Resonancia Magnética de Mama (bilateral)",0,0,null,null,null,null,null,null,null,null,null,null,null,null,null,null,null,null,null,null,null,null,null,null,null,null,null,null,null,null,null,null,null,null,149730,0]
["0405032","Resonancia Magnética Fetal",0,0,null,null,null,null,null,null,null,null,null,null,null,null,null,null,null,null,null,null,null,null,null,null,null,null,null,null,null,null,null,null,null,null,182610,0]
["0405016","Resonancia Columna Total (cervical, dorsal, lumbar)",{"$f":"SUM(D933+G933)","v":0},{"$f":"SUM(E933:F933)","v":0},null,null,null,null,null,null,null,null,null,null,null,null,null,null,null,null,null,null,null,null,null,null,null,null,null,null,null,null,null,null,null,null,328660,0]
["0405033","Resonancia magnética para planificación de tratamiento con radioterapia",0,0,null,null,null,null,null,null,null,null,null,null,null,null,null,null,null,null,null,null,null,null,null,null,null,null,null,null,null,null,null,null,null,null,71360,0]
["0405034","Resonancia magnética estudio funcional de encéfalo",0,0,null,null,null,null,null,null,null,null,null,null,null,null,null,null,null,null,null,null,null,null,null,null,null,null,null,null,null,null,null,null,null,null,178590,0]
["0405035","Resonancia magnética tractografía",0,0,null,null,null,null,null,null,null,null,null,null,null,null,null,null,null,null,null,null,null,null,null,null,null,null,null,null,null,null,null,null,null,null,178590,0]
["0405036","Resonancia magnética espectroscopía encefálica",0,0,null,null,null,null,null,null,null,null,null,null,null,null,null,null,null,null,null,null,null,null,null,null,null,null,null,null,null,null,null,null,null,null,178590,0]
["0405037","Resonancia magnética de cara, macizo facial y/o cavidades paranasales",0,0,null,null,null,null,null,null,null,null,null,null,null,null,null,null,null,null,null,null,null,null,null,null,null,null,null,null,null,null,null,null,null,null,178590,0]
["0405038","Resonancia magnética perfusión cerebral",0,0,null,null,null,null,null,null,null,null,null,null,null,null,null,null,null,null,null,null,null,null,null,null,null,null,null,null,null,null,null,null,null,null,178590,0]
["0405039","Resonancia magnética estudio de líquido cerebroespinal",0,0,null,null,null,null,null,null,null,null,null,null,null,null,null,null,null,null,null,null,null,null,null,null,null,null,null,null,null,null,null,null,null,null,178590,0]
["0405040","Resonancia magnética estudio de piso pélvico por defecografía ",0,0,null,null,null,null,null,null,null,null,null,null,null,null,null,null,null,null,null,null,null,null,null,null,null,null,null,null,null,null,null,null,null,null,178590,0]
["0405041","Resonancia Magnética Screening óseo o muscular",0,0,null,null,null,null,null,null,null,null,null,null,null,null,null,null,null,null,null,null,null,null,null,null,null,null,null,null,null,null,null,null,null,null,178590,0]
["0405042","Resonancia Magnética de cuello",{"$f":"SUM(D943+G943)","v":0},{"$f":"SUM(E943:F943)","v":0},null,null,null,null,null,null,null,null,null,null,null,null,null,null,null,null,null,null,null,null,null,null,null,null,null,null,null,null,null,null,null,null,149730,0,null," "]
[null,"TOTAL",{"$f":"SUM(C904:C943)","v":0},{"$f":"SUM(D904:D943)","v":0},0,0,0,null,null,null,null,null,null,null,null,null,null,null,null,null,null,null,null,null,null,null,{"$f":"SUM(AA904:AA943)","v":0},{"$f":"SUM(AB904:AB943)","v":0},0,{"$f":"SUM(AD904:AD943)","v":0},{"$f":"SUM(AE904:AE943)","v":0},0,0,0,0,0,null,{"$f":"SUM(AL904:AL943)","v":0}]
[null,"OTROS EXAMENES DE IMÁGENES"]
["0403998","Cisternotac",0,0,null,null,null,null,null,null,null,null,null,null,null,null,null,null,null,null,null,null,null,null,null,null,null,null,null,null,null,null,null,null,null,null,null,null,null," "]
["01010753","Estudio de deglución faríngea por videofluroscopía",0,0]
["01010754","Biopsia mamaria guíado por ecotomografía",0,0]
["01010755","Ecotomografia portátil (traslado desde imagenología al servicio que lo requiere)",0,0]
["01010758","Marcación Ecográfica",0,0]
["01010759","Angiotomografia  computarizada de corazón  con estudios de vasos coronarios ",0,0]
["01010760","Angiotomografía corazón con estudio de vasos coronarios",0,0]
["01010765","Estudio de Flujo de Liquido Cefalo Raquideo",0,0]
["01010772","Tóracocentesis guíado por ecotomografía",0,0]
["01010773","Laparocentesis guíado por ecotomografía",0,0]
["01010774","Ablación por radiofrecuencia de tumores guíado por ecotomografía",0,0]
["01010775","Ablación por radiofrecuencia de tumores guíado por TAC",0,0]
["01010776","Contraste paramagnético para resonancia magnética",0,0]
["01010777","Contraste yodado hidrosoluble para tomografía computada",0,0]
["01010778","Extracción de cuerpos extraños guíado por ecotomografía",0,0]
["01010779","Marcación de microcalcificaciones preoperatorias guíada por mamografías ",0,0]
["01010780","Marcación de nódulo mamario preoperatorio guíada por ultrasonido ",0,0]
["01010781","Nefrostomía bajo TAC con Anestesia General",0,0]
["01010782","Nefrostomía percutánea guíada en TAC",0,0]
["01010783","Punción Citológica bajo Ecografía",0,0]
["01010784","Punción Citológica bajo TAC",0,0]
["01010785","Punción citológica de tiroides por ultrasonido",{"$f":"SUM(D967+G967)","v":0},{"$f":"SUM(E967:F967)","v":0}]
["01010786","Radiofrecuencia bajo TAC",0,0]
["01010787","Asistencia ventricular en UCI",0,0]
["01010788","Biopsia de lesiones de partes blandas guíado por ecotomografía",0,0]
["01010789","Biopsia de tiroides con aguja fina PAAF",0,0]
["01010790","Biopsia Ósea con Anestesia General",0,0]
["01010791","Biopsia Ósea sin Anestesia General",0,0]
["01010792","Biopsia Percutanea bajo Ecografía con Anestesia General",0,0]
["01010793","Biopsia Percutanea bajo TAC con Anestesia General",0,0]
["01010794","Biopsia de médula",0,0]
["01010795","Biopsia hepática",0,0]
["01010796","Biopsia muscular",0,0]
["01010798","Biopsia rápida en quirófano",0,0]
["01010799","Infiltraciones terapéuticas guíado por ecotomografía",0,0]
["01010800","Artrocentesis (drenaje articular) diagnóstico y terapéutico guíado por ecotomografía",0,0]
["01010801","Aspiración tendinitis calcificante del hombre guíado por ecotomografía",0,0]
["01010802","Calculo de reserva Fraccional de Flujo",0,0]
["01010803","Drenaje de colecciones guíado por ecotomografía",0,0]
["01010804","Drenaje de colecciones guíado por tomografía computada",0,0]
["01010805","Drenaje Percutaneo bajo TAC con Anestesia General",0,0]
["01010806","Drenaje Percutaneo bajo TAC sin Anestesia General",0,0,null,null,null,null,null,null,null,null,null,null,null,null,null,null,null,null,null,null,null,null,null,null,null,null,null,null,null,null,null,null,null,null,null,null,null," "]
[null,"TOTAL",{"$f":"SUM(C946:C987)","v":0},{"$f":"SUM(D946:D987)","v":0},{"$f":"SUM(E946:E987)","v":0},{"$f":"SUM(F946:F987)","v":0},{"$f":"SUM(G946:G987)","v":0},null,null,null,null,null,null,null,null,null,null,null,null,null,null,null,null,null,null,null,{"$f":"SUM(AA946:AA987)","v":0},0,0,0,0,0,0,0,0,0]
["MEDICINA NUCLEAR Y RADIOTERAPIA       "]
["PROCEDIMIENTOS DIAGNOSTICOS                             "]
[null,"ESTUDIOS ENDOCRINOLÓGICOS"]
["0501100","Captación I-131 a las 2 y/o 24 horas",0,0,null,null,null,null,null,null,null,null,null,null,null,null,null,null,null,null,null,null,null,null,null,null,null,null,null,null,null,null,null,null,null,null,21960,{"$f":"AK992*E992","v":0},null," "]
["0501101","Cintigrafía tiroidea, cualquier radioisótopo",0,0,null,null,null,null,null,null,null,null,null,null,null,null,null,null,null,null,null,null,null,null,null,null,null,null,null,null,null,null,null,null,null,null,21960,{"$f":"AK993*E993","v":0}]
["0501102","Cintigrafía  glándulas paratiroides (no incluye MIBI)",0,0,null,null,null,null,null,null,null,null,null,null,null,null,null,null,null,null,null,null,null,null,null,null,null,null,null,null,null,null,null,null,null,null,32960,{"$f":"AK994*E994","v":0}]
["0501140","Cintigrafía Spect glándulas paratiroides con sestamibi ",0,0,null,null,null,null,null,null,null,null,null,null,null,null,null,null,null,null,null,null,null,null,null,null,null,null,null,null,null,null,null,null,null,null,96750,{"$f":"AK995*E995","v":0}]
["0501141","Cintigrafía Spect-ct glándulas paratiroides con sestamibi ",0,0,null,null,null,null,null,null,null,null,null,null,null,null,null,null,null,null,null,null,null,null,null,null,null,null,null,null,null,null,null,null,null,null,116290,{"$f":"AK996*E996","v":0}]
[null,"TOTAL",{"$f":"SUM(C992:C996)","v":0},{"$f":"SUM(D992:D996)","v":0},0,0,0,null,null,null,null,null,null,null,null,null,null,null,null,null,null,null,null,null,null,null,{"$f":"SUM(AA992:AA996)","v":0},{"$f":"SUM(AB992:AB996)","v":0},0,0,0,0,0,0,0,0,null,{"$f":"SUM(AL992:AL996)","v":0}]
[null,"ESTUDIOS OSTEOARTICULARES"]
["0501136","Cintigrafía ósea completa planar",0,0,null,null,null,null,null,null,null,null,null,null,null,null,null,null,null,null,null,null,null,null,null,null,null,null,null,null,null,null,null,null,null,null,59360,{"$f":"AK999*E999","v":0},null," "]
["0501137","Cintigrafía de médula ósea ",0,0,null,null,null,null,null,null,null,null,null,null,null,null,null,null,null,null,null,null,null,null,null,null,null,null,null,null,null,null,null,null,null,null,59360,0]
["0501104","Cintigrafía ósea trifásica (incluye mediciones fase precoz y tardía)",0,0,null,null,null,null,null,null,null,null,null,null,null,null,null,null,null,null,null,null,null,null,null,null,null,null,null,null,null,null,null,null,null,null,87950,0]
["0501142","Cintigrama óseo de cuerpo entero con Spect",0,0,null,null,null,null,null,null,null,null,null,null,null,null,null,null,null,null,null,null,null,null,null,null,null,null,null,null,null,null,null,null,null,null,144280,0]
[null,"TOTAL",{"$f":"SUM(C999:C1004)","v":0},{"$f":"SUM(D999:D1004)","v":0},0,0,0,null,null,null,null,null,null,null,null,null,null,null,null,null,null,null,null,null,null,null,{"$f":"SUM(AA999:AA1004)","v":0},{"$f":"SUM(AB999:AB1004)","v":0},{"$f":"SUM(AC999:AC1004)","v":0},0,0,0,0,0,0,0,null,{"$f":"SUM(AL999:AL1004)","v":0}]
[null,"ESTUDIOS CARDIOVASCULARES"]
["0501107","Pool sanguíneo, arteriografía isotópica c/u",0,0,null,null,null,null,null,null,null,null,null,null,null,null,null,null,null,null,null,null,null,null,null,null,null,null,null,null,null,null,null,null,null,null,21960,0]
["0501108","Linfocintigrafía isotópica (no incluye procedimiento)",0,0,null,null,null,null,null,null,null,null,null,null,null,null,null,null,null,null,null,null,null,null,null,null,null,null,null,null,null,null,null,null,null,null,65950,0]
["0501146","Ventriculografía cardíaca isotópica spect",0,0,null,null,null,null,null,null,null,null,null,null,null,null,null,null,null,null,null,null,null,null,null,null,null,null,null,null,null,null,null,null,null,null,116290,0]
[null,"TOTAL",{"$f":"SUM(C1007:C1013)","v":0},{"$f":"SUM(D1007:D1013)","v":0},0,0,0,null,null,null,null,null,null,null,null,null,null,null,null,null,null,null,null,null,null,null,{"$f":"SUM(AA1007:AA1013)","v":0},{"$f":"SUM(AB1007:AB1013)","v":0},0,0,0,0,0,0,0,0,null,0]
["0501139","Dacriocintigrafía",0,0,null,null,null,null,null,null,null,null,null,null,null,null,null,null,null,null,null,null,null,null,null,null,null,null,null,null,null,null,null,null,null,null,32960,0]
["0501111","Estudio motilidad esofágica y/o reflujo gastroesofágico",0,0,null,null,null,null,null,null,null,null,null,null,null,null,null,null,null,null,null,null,null,null,null,null,null,null,null,null,null,null,null,null,null,null,49450,0]
["0501114","Detección de sitio de sangramiento digestivo con glóbulos rojos marcados",0,0,null,null,null,null,null,null,null,null,null,null,null,null,null,null,null,null,null,null,null,null,null,null,null,null,null,null,null,null,null,null,null,null,109920,0]
["0501115","Detección divertículo Meckel",0,0,null,null,null,null,null,null,null,null,null,null,null,null,null,null,null,null,null,null,null,null,null,null,null,null,null,null,null,null,null,null,null,null,32960,0]
[null,"ESTUDIOS NEFROUROLÓGICOS"]
["0501117","Cintigrafía renal con D.M.S.A.",{"$f":"SUM(D1026+G1026)","v":0},{"$f":"SUM(E1026:F1026)","v":0},null,null,null,null,null,null,null,null,null,null,null,null,null,null,null,null,null,null,null,null,null,null,null,null,null,null,null,null,null,null,null,null,32960,{"$f":"SUM(AK1026*E1026)","v":0},null," "]
["0501119","Estudio dinámico renal con Tc 99 - MAG 3 o EC",{"$f":"SUM(D1028+G1028)","v":0},{"$f":"SUM(E1028:F1028)","v":0},null,null,null,null,null,null,null,null,null,null,null,null,null,null,null,null,null,null,null,null,null,null,null,null,null,null,null,null,null,null,null,null,85740,{"$f":"SUM(AK1028*E1028)","v":0}]
["0501120","Cistografía isotópica indirecta",{"$f":"SUM(D1029+G1029)","v":0},{"$f":"SUM(E1029:F1029)","v":0},null,null,null,null,null,null,null,null,null,null,null,null,null,null,null,null,null,null,null,null,null,null,null,null,null,null,null,null,null,null,null,null,32960,{"$f":"SUM(AK1029*E1029)","v":0}]
[null,"ESTUDIOS PULMONARES "]
["0501122","Cintigrafía pulmonar perfusión o ventilación o difusión, c/u",0,0,null,null,null,null,null,null,null,null,null,null,null,null,null,null,null,null,null,null,null,null,null,null,null,null,null,null,null,null,null,null,null,null,32960,{"$f":"AK1033*E1033","v":0},null," "]
[null,"ESTUDIOS SISTEMA NERVIOSO CENTRAL"]
["0501124","Spect cerebral de perfusión (no incluye radiofármaco)",0,0,null,null,null,null,null,null,null,null,null,null,null,null,null,null,null,null,null,null,null,null,null,null,null,null,null,null,null,null,null,null,null,null,65950,{"$f":"AK1037*E1037","v":0},null," "]
[null,"ESTUDIOS DE INFECCIONES"]
["0501126","Cintigrafía evaluación infecciones (leucocitos, infecton, granulocitos u otros) (no incluye radiofármaco ni procedimiento).",0,0,null,null,null,null,null,null,null,null,null,null,null,null,null,null,null,null,null,null,null,null,null,null,null,null,null,null,null,null,null,null,null,null,65950,{"$f":"AK1041*E1041","v":0},null," "]
[null,"ESTUDIOS ONCOLÓGICOS"]
["0501128","Detección y/o marcación de ganglio centinela, no incluye, punción ni detección con gammaprobe",0,0,null,null,null,null,null,null,null,null,null,null,null,null,null,null,null,null,null,null,null,null,null,null,null,null,null,null,null,null,null,null,null,null,65950,{"$f":"AK1045*E1045","v":0},null," "]
["0501131","Estudio glándulas mamarias (mamocintigrafia) (no incluye MIBI)",0,0,null,null,null,null,null,null,null,null,null,null,null,null,null,null,null,null,null,null,null,null,null,null,null,null,null,null,null,null,null,null,null,null,43950,0]
["0501132","Estudio de tumores (anticuerpos monoclonales, octreoscan, DMSA pentavalente, prostacint u otros) (no incluye radioisótopo)",0,0,null,null,null,null,null,null,null,null,null,null,null,null,null,null,null,null,null,null,null,null,null,null,null,null,null,null,null,null,null,null,null,null,131880,0]
[null,"DENSITOMETRÍA OSEA"]
["0501134","Densitometría ósea a fotón doble, columna y cadera (unilateral o bilateral) o cuerpo entero",0,0,null,null,null,null,null,null,null,null,null,null,null,null,null,null,null,null,null,null,null,null,null,null,null,null,null,null,null,null,null,null,null,null,33390,{"$f":"AK1053*E1053","v":0},null," "]
[null,"EXAMEN Y ESTUDIO PET-CT"]
["0501135","PET-CT ",{"$f":"SUM(D1056+G1056)","v":0},{"$f":"SUM(E1056:F1056)","v":0},null,null,null,null,null,null,null,null,null,null,null,null,null,null,null,null,null,null,null,null,null,null,null,null,null,null,null,null,null,null,null,null,615910,{"$f":"AK1056*E1056","v":0},null," "]
[null,"RADIOISOTOPOS"]
["0502001","Dosis terapéuticas con I-131 hasta 30 mCi.",{"$f":"SUM(D1060+G1060)","v":0},{"$f":"SUM(E1060:F1060)","v":0},null,null,null,null,null,null,null,null,null,null,null,null,null,null,null,null,null,null,null,null,null,null,null,null,null,null,null,null,null,null,null,null,76930,{"$f":"AK1060*E1060","v":0},null," "]
["0502004","Dosis terapéuticas con I-131 entre 201 a 300 mCi.",0,0,null,null,null,null,null,null,null,null,null,null,null,null,null,null,null,null,null,null,null,null,null,null,null,null,null,null,null,null,null,null,null,null,379140,{"$f":"AK1063*E1063","v":0}]
["0502005","Terapia paliativa del dolor con radioisótopos (no incluye radiofármaco)",0,0,null,null,null,null,null,null,null,null,null,null,null,null,null,null,null,null,null,null,null,null,null,null,null,null,null,null,null,null,null,null,null,null,32960,{"$f":"AK1064*E1064","v":0}]
[null,"BRAQUITERAPIA"]
["2901001","Tratamiento integral de braquiterapia endocavitaria o intersticial (por sesión)",{"$f":"SUM(D1068+G1068)","v":0},{"$f":"SUM(E1068:F1068)","v":0},null,null,null,null,null,null,null,null,null,null,null,null,null,null,null,null,null,null,null,null,null,null,null,null,null,null,null,null,null,null,null,null,1099900,{"$f":"AK1068*E1068","v":0},null," "]
[null,"TOTAL",{"$f":"SUM(C1068:C1070)","v":0},{"$f":"SUM(D1068:D1070)","v":0},0,0,0,null,null,null,null,null,null,null,null,null,null,null,null,null,null,null,null,null,null,null,{"$f":"SUM(AA1068:AA1070)","v":0},0,0,0,0,0,0,0,0,0,null,{"$f":"SUM(AL1068:AL1070)","v":0}]
[null,"RADIOTERAPIA"]
["2902003","Tratamiento integral de radioterapia estándar con Linac ",0,0,null,null,null,null,null,null,null,null,null,null,null,null,null,null,null,null,null,null,null,null,null,null,null,null,null,null,null,null,null,null,null,null,2973880,0]
["2902004","Tratamiento integral de radioterapia convencional con Linac ",0,0,null,null,null,null,null,null,null,null,null,null,null,null,null,null,null,null,null,null,null,null,null,null,null,null,null,null,null,null,null,null,null,null,2531980,0]
["2902011","Tratamiento integral de radioterapia estándar con cobalto",0,0,null,null,null,null,null,null,null,null,null,null,null,null,null,null,null,null,null,null,null,null,null,null,null,null,null,null,null,null,null,null,null,null,1941120,0]
["2902012","Tratamiento integral de radioterapia convencional con cobalto ",0,0,null,null,null,null,null,null,null,null,null,null,null,null,null,null,null,null,null,null,null,null,null,null,null,null,null,null,null,null,null,null,null,null,1670560,0]
[null,"QUIMIOTERAPIA"]
[2904001,"Quimioterapia alto riesgo 1 (por ciclo)",{"$f":"SUM(D1083+G1083)","v":0},{"$f":"SUM(E1083:F1083)","v":0},null,null,null,null,null,null,null,null,null,null,null,null,null,null,null,null,null,null,null,null,null,null,null,null,null,null,null,null,null,null,null,null,1643860,{"$f":"AK1083*E1083","v":0},null," "]
["2904004","Quimioterapia bajo riesgo 2 (por ciclo)",0,0,null,null,null,null,null,null,null,null,null,null,null,null,null,null,null,null,null,null,null,null,null,null,null,null,null,null,null,null,null,null,null,null,666460,0]
["2904005","Quimioterapia bajo riesgo 3 (por ciclo)",0,0,null,null,null,null,null,null,null,null,null,null,null,null,null,null,null,null,null,null,null,null,null,null,null,null,null,null,null,null,null,null,null,null,88030,0,null," "]
["2904008","Quimioterapia riesgo intermedio 2 (por ciclo)",0,0,null,null,null,null,null,null,null,null,null,null,null,null,null,null,null,null,null,null,null,null,null,null,null,null,null,null,null,null,null,null,null,null,989040,0]
["2904009","Quimioterapia riesgo intermedio 3 (por ciclo)",0,0,null,null,null,null,null,null,null,null,null,null,null,null,null,null,null,null,null,null,null,null,null,null,null,null,null,null,null,null,null,null,null,null,206700,0]
["2904012","Quimioterapia radioterapia 2 (por ciclo)",0,0,null,null,null,null,null,null,null,null,null,null,null,null,null,null,null,null,null,null,null,null,null,null,null,null,null,null,null,null,null,null,null,null,70320,0]
["2904013","Tratamiento terapia endocrina 1 (por ciclo)",0,0,null,null,null,null,null,null,null,null,null,null,null,null,null,null,null,null,null,null,null,null,null,null,null,null,null,null,null,null,null,null,null,null,1467760,0]
["2904016","Tratamiento inhibidores tirosin kinasa 2 (valor trimestral)",0,0,null,null,null,null,null,null,null,null,null,null,null,null,null,null,null,null,null,null,null,null,null,null,null,null,null,null,null,null,null,null,null,null,6206000,0]
["2904017","Tratamiento inhibidores tirosin kinasa 3 (valor trimestral)",0,0,null,null,null,null,null,null,null,null,null,null,null,null,null,null,null,null,null,null,null,null,null,null,null,null,null,null,null,null,null,null,null,null,2345210,0]
[null,"RADIOCIRUGÍA"]
["2903001","Radiocirugía",{"$f":"SUM(D1103+G1103)","v":0},{"$f":"SUM(E1103:F1103)","v":0},null,null,null,null,null,null,null,null,null,null,null,null,null,null,null,null,null,null,null,null,null,null,null,null,null,null,null,null,null,null,null,null,4223740,{"$f":"AK1103*E1103","v":0},null," "]
["0601101","Evaluación Kinesiológica Integral",{"$f":"SUM(D1106+G1106)","v":0},{"$f":"SUM(E1106:F1106)","v":0},null,null,null,null,null,null,null,null,null,null,null,null,null,null,null,null,null,null,null,null,null,null,null,null,null,null,null,null,null,null,null,null,3170,{"$f":"AK1106*E1106","v":0},null," "]
["0601103","Atención Kinesiológica Integral en Pacientes hospitalizados",{"$f":"SUM(D1107+G1107)","v":0},{"$f":"SUM(E1107:F1107)","v":0},null,null,null,null,null,null,null,null,null,null,null,null,null,null,null,null,null,null,null,null,null,null,null,null,null,null,null,null,null,null,null,null,10710,0]
["0601106","Atención Kinesiológica Integral Domiciliaria",{"$f":"SUM(D1110+G1110)","v":0},0,null,null,null,null,null,null,null,null,null,null,null,null,null,null,null,null,null,null,null,null,null,null,null,null,null,null,null,null,null,null,null,null,12270,0]
["0602001","Atención integral de terapia ocupacional",0,{"$f":"SUM(E1111:F1111)","v":0},null,null,null,null,null,null,null,null,null,null,null,null,null,null,null,null,null,null,null,null,null,null,null,null,null,null,null,null,null,null,null,null,8640,0]
["0602003","Intervención terapia ocupacional en actividades de la vida diaria, básicas, instrumentales y avanzadas",0,0,null,null,null,null,null,null,null,null,null,null,null,null,null,null,null,null,null,null,null,null,null,null,null,null,null,null,null,null,null,null,null,null,4040,0]
["0608101","Telerehabilitación: Evaluación Kinesiológica Integral",0,0,null,null,null,null,null,null,null,null,null,null,null,null,null,null,null,null,null,null,null,null,null,null,null,null,null,null,null,null,null,null,null,null,2690,0]
["0608202","Telerehabilitación: Intervención de terapia ocupacional en ayudas técnicas y tecnología asistida",0,0,null,null,null,null,null,null,null,null,null,null,null,null,null,null,null,null,null,null,null,null,null,null,null,null,null,null,null,null,null,null,null,null,6750,0]
["0608203","Telerehabilitación: Intervención terapia ocupacional en actividades de la vida diaria, básicas, instrumentales y avanzadas",0,0,null,null,null,null,null,null,null,null,null,null,null,null,null,null,null,null,null,null,null,null,null,null,null,null,null,null,null,null,null,null,null,null,3430,0,null," "]
["0601003","Evaluación Biomecánica instrumental",0,0]
["0601004","Piscina temperada (incluye ejercicios) (proc.aut.)",0,0]
["0601007","Turbión, tanque con remolino (hiper o hipotermal,baño de contraste) (proc.aut.)",0,0]
["0601010","Terapia por radiación ultravioleta. (proc.aut.)",0,0]
["0601011","Terapia por ondas mecánicas (proc. aut.)",0,0]
["0601012","Analgesia transcutánea (TENS) (proc.aut.)",0,0]
["0601015","Retroalimentación neuromuscular (miofeedback) (proc.aut.)",0,0]
["0601016","Compresión neumática (masaje compresivo) (proc.aut.)",0,0]
["0601028","Entrenamiento cardiorespiratorio funcional",0,0]
["0601018","Prueba de esfuerzo o Entrenamiento ergométrico (porc.aut.)",0,0]
["0601020","Entrenamiento protésico extremidades (proc.aut.)",0,0]
["0601021","Manipulación osteopática (liberación articular, manipulación vertebral) (proc.aut.)",0,0]
["0601024","Reeducación motriz (ejercicios terapéuticos para recuperación muscular, capacidad de trabajo, coordinación, gimnasia ortopédica, reeducación funcional, de marcha) (individual y por sesión, mínimo 30 minutos) (proc.aut.)",0,0]
["0601025","Técnicas de facilitación, técnicas de inhibición  (Kabat y/o Bobath) (proc.aut.)",0,0]
["0601031","Atención kinesiológica integral, al enfermo hosp. en UTI o Intermedio (máx. 1 diaria)",0,0]
["0601171","Asistencia en IOT, VMNI, cambio de cánula de traqueostomía",0,0]
["0102504","Rehabilitación de la deglución ",0,0]
["0102501","Reeducación de la tos y respiración en pacientes con traqueostomía",0,0]
["01010918","Deep oscilación",0,0]
["01010919","Plataforma Vibratoria",0,0]
["01010922","Prueba de tolerancia ortostática",0,0]
["01010923","Rehabilitación vestibular",0,0]
["01010926","Neurodinamia",0,0]
["01010927","Entrenamiento ortésico de gran incapacitado",0,0]
["01010930","Habilitación y rehabilitación laboral",{"$f":"SUM(D1167+G1167)","v":0},{"$f":"SUM(E1167:F1167)","v":0}]
["01010931","Habilitación y rehabilitación educacional",0,0]
["01010934","Manejo de trastorno de deglución",0,0]
["01010935","Infiltración intraneuromuscular (fenol y toxina botulínica)",0,0]
["01010938","Atención integral en demencia",0,0]
["01010939","Entrenamiento ortésico de gran incapacitado (proc.aut) ",0,0]
[null,"MEDICINA TRANSFUSIONAL "]
["0702101","Producción de glóbulo rojo ",{"$f":"SUM(D1180+G1180)","v":0},{"$f":"SUM(E1180:F1180)","v":0},null,null,null,null,null,null,null,null,null,null,null,null,null,null,null,null,null,null,null,null,null,null,null,null,null,null,null,null,null,null,null,null,27870,{"$f":"AK1180*E1180","v":0}]
["0702104","Producción de concentrado de plaquetas por aféresis automática ",0,0,null,null,null,null,null,null,null,null,null,null,null,null,null,null,null,null,null,null,null,null,null,null,null,null,null,null,null,null,null,null,null,null,321920,0]
["0702105","Producción de concentrado de glóbulos rojos por aféresis automática ",0,0,null,null,null,null,null,null,null,null,null,null,null,null,null,null,null,null,null,null,null,null,null,null,null,null,null,null,null,null,null,null,null,null,321920,0]
["0702108","Producción de células progenitoras hematopoyética por aféresis automática a partir de sangre periférica",0,0,null,null,null,null,null,null,null,null,null,null,null,null,null,null,null,null,null,null,null,null,null,null,null,null,null,null,null,null,null,null,null,null,715330,0]
["0702109","Irradiación de componente sanguíneo por unidad",0,0,null,null,null,null,null,null,null,null,null,null,null,null,null,null,null,null,null,null,null,null,null,null,null,null,null,null,null,null,null,null,null,null,3390,0]
["0702202","Calificación inmunohematológica por donante estudiado, componente sanguíneo producido o producto de aféresis automática",0,0,null,null,null,null,null,null,null,null,null,null,null,null,null,null,null,null,null,null,null,null,null,null,null,null,null,null,null,null,null,null,null,null,14330,0]
["0702203","Prueba de compatibilidad por unidad de glóbulos rojos estudiada (proc. aut.)",0,0,null,null,null,null,null,null,null,null,null,null,null,null,null,null,null,null,null,null,null,null,null,null,null,null,null,null,null,null,null,null,null,null,3090,0]
["0702205","Titulación de anticuerpos irregulares eritrocitarios",0,0,null,null,null,null,null,null,null,null,null,null,null,null,null,null,null,null,null,null,null,null,null,null,null,null,null,null,null,null,null,null,null,null,27760,0]
["0702206","Genotipificación D variante (incluye D parcial y débil)",0,0,null,null,null,null,null,null,null,null,null,null,null,null,null,null,null,null,null,null,null,null,null,null,null,null,null,null,null,null,null,null,null,null,89160,0]
["0702209","Subgrupo ABO ",0,0,null,null,null,null,null,null,null,null,null,null,null,null,null,null,null,null,null,null,null,null,null,null,null,null,null,null,null,null,null,null,null,null,3760,0]
["0702301","Transfusión en adulto por unidad o subunidad de glóbulos rojos o unidad / subunidad o pool de: plasma, plaquetas o crioprecipitados (atención ambulatoria, atención cerrada siempre que la administración sea controlada por profesional especialista, tecnólogo médico o médico responsable)  ",0,0,null,null,null,null,null,null,null,null,null,null,null,null,null,null,null,null,null,null,null,null,null,null,null,null,null,null,null,null,null,null,null,null,9800,0]
["0702304","Sangría (considera el cobro de una prestación por cada unidad de sangre extraída)",0,0,null,null,null,null,null,null,null,null,null,null,null,null,null,null,null,null,null,null,null,null,null,null,null,null,null,null,null,null,null,null,null,null,8620,0]
["0702305","Recambio plasmático por aféresis terapéutica",0,0,null,null,null,null,null,null,null,null,null,null,null,null,null,null,null,null,null,null,null,null,null,null,null,null,null,null,null,null,null,null,null,null,331230,0]
["0702308","Eritroféresis por aféresis terapéutica",0,0,null,null,null,null,null,null,null,null,null,null,null,null,null,null,null,null,null,null,null,null,null,null,null,null,null,null,null,null,null,null,null,null,331230,0]
["0702309","Fotoféresis terapéutica",0,0,null,null,null,null,null,null,null,null,null,null,null,null,null,null,null,null,null,null,null,null,null,null,null,null,null,null,null,null,null,null,null,null,1357690,0]
["0704003","Procuramiento de Piel de Donante Cadáver (DC)",0,0,null,null,null,null,null,null,null,null,null,null,null,null,null,null,null,null,null,null,null,null,null,null,null,null,null,null,null,null,null,null,null,null,1752310,0]
["0704004","Procesamiento de Piel de Donante Cadáver (DC)",0,0,null,null,null,null,null,null,null,null,null,null,null,null,null,null,null,null,null,null,null,null,null,null,null,null,null,null,null,null,null,null,null,null,677350,0]
["0704007","Procuramiento de Homoinjertos (Válvulas Cardíacas y Segmentos Vasculares)",0,0,null,null,null,null,null,null,null,null,null,null,null,null,null,null,null,null,null,null,null,null,null,null,null,null,null,null,null,null,null,null,null,null,1437000,0]
["0704008","Procesamiento de Homoinjertos (Válvulas Cardíacas y Segmentos Vasculares) ",0,0,null,null,null,null,null,null,null,null,null,null,null,null,null,null,null,null,null,null,null,null,null,null,null,null,null,null,null,null,null,null,null,null,407460,0]
["0704011","Procesamiento de Tejido óseo Granulado",0,0,null,null,null,null,null,null,null,null,null,null,null,null,null,null,null,null,null,null,null,null,null,null,null,null,null,null,null,null,null,null,null,null,359530,0]
["0704012","Procesamiento de Tejido óseo Congelado",0,0,null,null,null,null,null,null,null,null,null,null,null,null,null,null,null,null,null,null,null,null,null,null,null,null,null,null,null,null,null,null,null,null,389610,0]
["0704014","Procuramiento de Córneas de Donante Cadáver (DC) por Paro Cardiorrespiratorio (PCR)",0,0,null,null,null,null,null,null,null,null,null,null,null,null,null,null,null,null,null,null,null,null,null,null,null,null,null,null,null,null,null,null,null,null,1174970,0]
["0704015","Procuramiento de Córneas de Donante Cadáver (DC) por Muerte Encefálica (ME)",0,0,null,null,null,null,null,null,null,null,null,null,null,null,null,null,null,null,null,null,null,null,null,null,null,null,null,null,null,null,null,null,null,null,1017990,0]
[null,"ANATOMIA PATOLOGICA                                     "]
["0801001","Citodiagnóstico corriente, exfoliativa (Papanicolau) (por cada placa)",{"$f":"SUM(D1226+G1226)","v":0},{"$f":"SUM(E1226:F1226)","v":0},null,null,null,null,null,null,null,null,null,null,null,null,null,null,null,null,null,null,null,null,null,null,null,null,null,null,null,null,null,null,null,null,6090,{"$f":"AK1226*E1226","v":0},null," "]
["0801004","Estudio histopatológico con técnicas de inmunohistoquímica o inmunofluorescencia (por cada anticuerpo investigado)",0,0,null,null,null,null,null,null,null,null,null,null,null,null,null,null,null,null,null,null,null,null,null,null,null,null,null,null,null,null,null,null,null,null,24660,0]
["0801005","Estudio histopatológico con técnicas histoquímicas, niveles, decalcificación (por cada lámina)",0,0,null,null,null,null,null,null,null,null,null,null,null,null,null,null,null,null,null,null,null,null,null,null,null,null,null,null,null,null,null,null,null,null,18530,0]
["0801008","Estudio histopatológico de biopsia diferida (por cada muestra y/o tejido) (incluye hasta 3 láminas)",0,0,null,null,null,null,null,null,null,null,null,null,null,null,null,null,null,null,null,null,null,null,null,null,null,null,null,null,null,null,null,null,null,null,12430,0]
["0801009","Necropsia de adulto o niño, con estudio histopatológico corriente",0,0,null,null,null,null,null,null,null,null,null,null,null,null,null,null,null,null,null,null,null,null,null,null,null,null,null,null,null,null,null,null,null,null,67810,0]
["0801012","Técnica inmunohistoquimica para marcadores tumorales (ALK-PDL1-ROS1) c/u",0,0,null,null,null,null,null,null,null,null,null,null,null,null,null,null,null,null,null,null,null,null,null,null,null,null,null,null,null,null,null,null,null,null,152670,0]
["0801013","Hibridación in situ en corte de tejido en parafina, búsqueda de alteraciones",{"$f":"SUM(D1238+G1238)","v":0},{"$f":"SUM(E1238:F1238)","v":0},null,null,null,null,null,null,null,null,null,null,null,null,null,null,null,null,null,null,null,null,null,null,null,null,null,null,null,null,null,null,null,null,183180,0,null," "]
[null,"PSIQUIATRIA Y SALUD MENTAL     "]
["0903002","Consulta o control por psicólogo clínico",{"$f":"SUM(D1242+G1242)","v":0},{"$f":"SUM(E1242:F1242)","v":0},null,null,null,null,null,null,null,null,null,null,null,null,null,null,null,null,null,null,null,null,null,null,null,null,null,null,null,null,null,null,null,null,3450,{"$f":"AK1242*E1242","v":0},null," "]
["0903005","Psicoterapia de grupo (por psicólogo o psiquiatra) (4 a 8 pacientes)",0,0,null,null,null,null,null,null,null,null,null,null,null,null,null,null,null,null,null,null,null,null,null,null,null,null,null,null,null,null,null,null,null,null,16060,0,null," "]
["0903006","Consultoría de salud mental por psiquiatra (sesión 4 hrs.) (mínimo 8 pacientes)",0,0,null,null,null,null,null,null,null,null,null,null,null,null,null,null,null,null,null,null,null,null,null,null,null,null,null,null,null,null,null,null,null,null,36450,0,null," "]
["0903008","Programa de rehabilitación tipo 2 (mensual, grupo 5 a 7 pers.)",0,0,null,null,null,null,null,null,null,null,null,null,null,null,null,null,null,null,null,null,null,null,null,null,null,null,null,null,null,null,null,null,null,null,372570,0,null," "]
["0908101","Telerehabilitación: Psicólogo clínico (sesiones 45')",0,0,null,null,null,null,null,null,null,null,null,null,null,null,null,null,null,null,null,null,null,null,null,null,null,null,null,null,null,null,null,null,null,null,12030,0,null," "]
[null,"TOTAL MAI",{"$f":"SUM(C1242:C1251)","v":0},{"$f":"SUM(D1242:D1251)","v":0},{"$f":"SUM(E1242:E1251)","v":0},{"$f":"SUM(F1242:F1251)","v":0},{"$f":"SUM(G1242:G1251)","v":0},null,null,null,null,null,null,null,null,null,null,null,null,null,null,null,null,null,null,null,{"$f":"SUM(AA1242:AA1251)","v":0},0,0,0,0,0,0,0,0,0,null,{"$f":"SUM(AL1242:AL1251)","v":0}]
[null,"PSIQUIATRIA Y PSICOLOGIA CLINICA     "]
["0901003","Sesión de terapia electroconvulsivante (hasta 6 sesiones por ciclo o sesiones de mantención) c/ sesión",0,0,null,null,null,null,null,null,null,null,null,null,null,null,null,null,null,null,null,null,null,null,null,null,null,null,null,null,null,null,null,null,null,null,null,null,null," "]
["0901005","Atención psiquiátrica o psicoterapia de familia, individual, de relajación o de manejo (con familia u otros);(cada sesión mínimo 45')",0,0]
["0902002","Sesión de Psicoterapia individual",0,0]
["0902003","Sesión de psicoterapia de pareja (con ambos miembros)",0,0]
["0902012","Test de Apercepción Temática, T.A.T., C.A.T.-H o C.A.T.-A.",0,0]
["0902013","Test de Edwards",0,0]
["0902016","Test de Dominó o Test de Raven",0,0,null,null,null,null,null,null,null,null,null,null,null,null,null,null,null,null,null,null,null,null,null,null,null,null,null,null,null,null,null,null,null,null,null,null,null," "]
["0902017","Test de Bender",0,0]
["0902020","Test de Luria-Nebraska",0,0]
[null,"TOTAL MLE ",{"$f":"SUM(C1254:C1272)","v":0},{"$f":"SUM(D1254:D1272)","v":0},{"$f":"SUM(E1254:E1272)","v":0},{"$f":"SUM(F1254:F1272)","v":0},{"$f":"SUM(G1254:G1272)","v":0},null,null,null,null,null,null,null,null,null,null,null,null,null,null,null,null,null,null,null,{"$f":"SUM(AA1254:AA1272)","v":0},0,0,0,0,0,0,0,0,0]
[null,"PROCEDIMIENTOS DIAGNOSTICOS NEUROLOGÍA                        "]
["1101004","E.E.G. de 16 o más canales (incluye el cód. 11-01-006)",{"$f":"SUM(D1276+G1276)","v":0},{"$f":"SUM(E1276:F1276)","v":0},null,null,null,null,null,null,null,null,null,null,null,null,null,null,null,null,null,null,null,null,null,null,null,null,null,null,null,null,null,null,null,null,18180,{"$f":"AK1276*E1276","v":0},null," "]
["1101140","Esclerosis Múltiple Remitente Recurrente,  Tratamiento médico farmacológico  Anual (incluye inmunomoduladores)",0,0,null,null,null,null,null,null,null,null,null,null,null,null,null,null,null,null,null,null,null,null,null,null,null,null,null,null,null,null,null,null,null,null,11070520,0]
["1101141","Esclerosis Múltiple Remitente Recurrente, Tratamiento rehabilitación",0,0,null,null,null,null,null,null,null,null,null,null,null,null,null,null,null,null,null,null,null,null,null,null,null,null,null,null,null,null,null,null,null,null,284190,0]
["1101002","Punción Subdural",0,0,null,null,null,null,null,null,null,null,null,null,null,null,null,null,null,null,null,null,null,null,null,null,null,null,null,null,null,null,null,null,null,null,10950,0]
["1101003","Punción Lumbar c/s manometría c/s Queckensted",0,0,null,null,null,null,null,null,null,null,null,null,null,null,null,null,null,null,null,null,null,null,null,null,null,null,null,null,null,null,null,null,null,null,7700,0]
["1101005","Electrocorticografía",0,0,null,null,null,null,null,null,null,null,null,null,null,null,null,null,null,null,null,null,null,null,null,null,null,null,null,null,null,null,null,null,null,null,24060,0]
["1101007","Estéreo-electroencefalografía (incluye uno o mas electrodos adicionales)",0,0,null,null,null,null,null,null,null,null,null,null,null,null,null,null,null,null,null,null,null,null,null,null,null,null,null,null,null,null,null,null,null,null,32400,0]
["1101041","EEG en vigilia, sueño y post-privación de sueño. Equipo de 16 o mas canales",0,0,null,null,null,null,null,null,null,null,null,null,null,null,null,null,null,null,null,null,null,null,null,null,null,null,null,null,null,null,null,null,null,null,25760,0]
["1101042","EEG digital 20 canales (con activaciones HV y FE) estándar o post privación de sueño de 20 a 30 minutos duración",0,0,null,null,null,null,null,null,null,null,null,null,null,null,null,null,null,null,null,null,null,null,null,null,null,null,null,null,null,null,null,null,null,null,22210,0]
["1101044","Monitoreo E.E.G. continuo de 24 hrs.",0,0,null,null,null,null,null,null,null,null,null,null,null,null,null,null,null,null,null,null,null,null,null,null,null,null,null,null,null,null,null,null,null,null,43390,0]
["1101045","Polisomnografía  (electroencefalograma, electrocardiograma, monitoreo de apneas y electronistagmografía, electromiografía)",0,0,null,null,null,null,null,null,null,null,null,null,null,null,null,null,null,null,null,null,null,null,null,null,null,null,null,null,null,null,null,null,null,null,58230,0]
["1101011","Potenciales evocados en corteza ( por ej.: auditivo, ocular o corporales), c/u",0,0,null,null,null,null,null,null,null,null,null,null,null,null,null,null,null,null,null,null,null,null,null,null,null,null,null,null,null,null,null,null,null,null,14170,0]
["1101012","Velocidad de conducción nerviosa (incluye reflejo H, onda F y otros)",0,0,null,null,null,null,null,null,null,null,null,null,null,null,null,null,null,null,null,null,null,null,null,null,null,null,null,null,null,null,null,null,null,null,10950,0]
["1101019","Neumoencefalografía fraccionada, por punción lumbar ",{"$f":"SUM(D1303+G1303)","v":0},{"$f":"SUM(E1303:F1303)","v":0},null,null,null,null,null,null,null,null,null,null,null,null,null,null,null,null,null,null,null,null,null,null,null,null,null,null,null,null,null,null,null,null,15340,0]
["1101020","Neumoencefalografía p/punción suboccipital",0,0,null,null,null,null,null,null,null,null,null,null,null,null,null,null,null,null,null,null,null,null,null,null,null,null,null,null,null,null,null,null,null,null,23560,0]
["1101027","Bloqueo nervio troncular",0,0,null,null,null,null,null,null,null,null,null,null,null,null,null,null,null,null,null,null,null,null,null,null,null,null,null,null,null,null,null,null,null,null,15390,0]
["1101028","Infiltración o bloqueo de ramas del trigémino o del facial",0,0,null,null,null,null,null,null,null,null,null,null,null,null,null,null,null,null,null,null,null,null,null,null,null,null,null,null,null,null,null,null,null,null,8140,0]
["1101031","Infiltración o bloqueo intercostales (cualquier número)",0,0,null,null,null,null,null,null,null,null,null,null,null,null,null,null,null,null,null,null,null,null,null,null,null,null,null,null,null,null,null,null,null,null,11580,0]
["1101032","Rizotomía química por medio de inyección intratecal",0,0,null,null,null,null,null,null,null,null,null,null,null,null,null,null,null,null,null,null,null,null,null,null,null,null,null,null,null,null,null,null,null,null,23140,0]
["1101035","Alcoholización o fenolización de nervios periféricos: intratecal",0,0,null,null,null,null,null,null,null,null,null,null,null,null,null,null,null,null,null,null,null,null,null,null,null,null,null,null,null,null,null,null,null,null,19430,0]
["1101036","Alcoholización o fenolización de nervios periféricos: troncular",0,0,null,null,null,null,null,null,null,null,null,null,null,null,null,null,null,null,null,null,null,null,null,null,null,null,null,null,null,null,null,null,null,null,15820,0]
[5099018,"Inyeccion toxina botulinica",0,0]
[5099019,"Inyeccion interferon",0,0]
["01011042","Implantación estimulador vagal epilepsia refractaria menores de 15 años",0,0]
["01011044","Bloqueo neuromuscular con Toxina Butolínica",0,0]
["01011047","Trombolisis de urgencia infarto cerebral",0,0]
["01011049","Embolización de Malformaciones arteriovenosas medulares",0,0]
[null,"TOTAL",{"$f":"SUM(C1276:C1329)","v":0},{"$f":"SUM(D1276:D1329)","v":0},{"$f":"SUM(E1276:E1329)","v":0},{"$f":"SUM(F1276:F1329)","v":0},{"$f":"SUM(G1276:G1329)","v":0},null,null,null,null,null,null,null,null,null,null,null,null,null,null,null,null,null,null,null,{"$f":"SUM(AA1276:AA1329)","v":0},0,0,0,0,0,0,0,0,0,null,{"$f":"SUM(AL1276:AL1329)","v":0}]
[null,"INTERVENCIONES QUIRURGICAS. NEUROCIRUGIA  "]
["1103002","Sinus pericrani, trat. quir.",{"$f":"SUM(I1333:N1333)","v":0},null,null,null,null,{"$f":"SUM(I1333:J1333)","v":0},null,null,null,null,null,null,{"$f":"SUM(P1333:Q1333)","v":0},null,null,{"$f":"SUM(S1333:T1333)","v":0},null,null,{"$f":"SUM(V1333:W1333)","v":0},null,null,{"$f":"SUM(Y1333:Z1333)","v":0},null,null,null,null,null,null,null,null,null,null,null,null,183720,{"$f":"+(I1333*AK1333)+(L1333*AK1333*0.5)","v":0}]
["1103003","Hundimiento simple, reparación de",0,null,null,null,null,0,null,null,null,null,null,null,0,null,null,0,null,null,0,null,null,0,null,null,null,null,null,null,null,null,null,null,null,null,229240,0]
["1103006","Tumores de calota, extirp. De",0,null,null,null,null,0,null,null,null,null,null,null,0,null,null,0,null,null,0,null,null,0,null,null,null,null,null,null,null,null,null,null,null,null,250280,0]
["1103007","Osteomielitis, limpieza quirúrgica",0,null,null,null,null,0,null,null,null,null,null,null,0,null,null,0,null,null,0,null,null,0,null,null,null,null,null,null,null,null,null,null,null,null,229580,0]
["1103010","Craneotomías lineales",0,null,null,null,null,0,null,null,null,null,null,null,0,null,null,0,null,null,0,null,null,0,null,null,null,null,null,null,null,null,null,null,null,null,458980,0]
["1103011","Craniectomías c/s remodelación ósea",{"$f":"SUM(I1342:N1342)","v":0},null,null,null,null,0,null,null,null,null,null,null,0,null,null,0,null,null,0,null,null,0,null,null,null,null,null,null,null,null,null,null,null,null,704710,0]
["1103015","Reparación de fístula de LCR",0,null,null,null,null,0,null,null,null,null,null,null,0,null,null,0,null,null,0,null,null,0,null,null,null,null,null,null,null,null,null,null,null,null,478760,0]
["1103016","Hematoma, empiema o colección subdural, vaciamiento de",0,null,null,null,null,0,null,null,null,null,null,null,0,null,null,0,null,null,0,null,null,0,null,null,null,null,null,null,null,null,null,null,null,null,428690,0]
["1103019","Absceso cerebral, trat. quir.",0,null,null,null,null,0,null,null,null,null,null,null,0,null,null,0,null,null,0,null,null,0,null,null,null,null,null,null,null,null,null,null,null,null,598860,0]
["1103020","Tratamiento quirúrgico del traumatismo craneoencefálico  abierto o penetrante (herida a bala u otro elemento penetrante)",0,null,null,null,null,0,null,null,null,null,null,null,0,null,null,0,null,null,0,null,null,0,null,null,null,null,null,null,null,null,null,null,null,null,378870,0]
["1103023","Hematoma intracerebral, vaciamiento de",0,null,null,null,null,0,null,null,null,null,null,null,0,null,null,0,null,null,0,null,null,0,null,null,null,null,null,null,null,null,null,null,null,null,505020,0]
["1103024","De base de cráneo, resección de tumores y/o quistes y/o cavernoma",0,null,null,null,null,0,null,null,null,null,null,null,0,null,null,0,null,null,0,null,null,0,null,null,null,null,null,null,null,null,null,null,null,null,1035550,0]
["1103027","Aneurismas, malformaciones arteriovenosas encefálicas u orbitarias, fístulas durales",0,null,null,null,null,0,null,null,null,null,null,null,0,null,null,0,null,null,0,null,null,0,null,null,null,null,null,null,null,null,null,null,null,null,1120360,0]
["1103028","Fístula carótido cavernosa tratamiento endovascular",0,null,null,null,null,0,null,null,null,null,null,null,0,null,null,0,null,null,0,null,null,0,null,null,null,null,null,null,null,null,null,null,null,null,395530,0]
["1103030","Revascularización intracraneana indirecta (endodurosinangiosis, multitrepanación, emás, etc)",0,null,null,null,null,0,null,null,null,null,null,null,0,null,null,0,null,null,0,null,null,0,null,null,null,null,null,null,null,null,null,null,null,null,428690,0]
["1103031","Anastomosis y revascularización cerebral extra-intracraneana (cirugía de carótida: ver Cirugía Vascular Periférica)",0,null,null,null,null,0,null,null,null,null,null,null,0,null,null,0,null,null,0,null,null,0,null,null,null,null,null,null,null,null,null,null,null,null,803350,0]
["1103033","Revisión o exteriorización de derivativa",0,null,null,null,null,0,null,null,null,null,null,null,0,null,null,0,null,null,0,null,null,0,null,null,null,null,null,null,null,null,null,null,null,null,184050,0]
["1103034","Ventriculocisternostomía",0,null,null,null,null,0,null,null,null,null,null,null,0,null,null,0,null,null,0,null,null,0,null,null,null,null,null,null,null,null,null,null,null,null,332440,0]
["1103037","Meningo y meningoencefalocele occipital, repar. de",0,null,null,null,null,0,null,null,null,null,null,null,0,null,null,0,null,null,0,null,null,0,null,null,null,null,null,null,null,null,null,null,null,null,760180,0]
["1103038","Cirugía descompresiva neurovascular",0,null,null,null,null,0,null,null,null,null,null,null,0,null,null,0,null,null,0,null,null,0,null,null,null,null,null,null,null,null,null,null,null,null,606120,0]
["1103041","Cirugía de la epilepsia (cualquier técnica)",0,null,null,null,null,0,null,null,null,null,null,null,0,null,null,0,null,null,0,null,null,0,null,null,null,null,null,null,null,null,null,null,null,null,541180,0]
["1103042","Biopsia estereotáxica cerebral con marco de estereotaxia o neuronavegador",0,null,null,null,null,0,null,null,null,null,null,null,0,null,null,0,null,null,0,null,null,0,null,null,null,null,null,null,null,null,null,null,null,null,589290,0]
["1103076","Guía estereotáxica para realización de cirugía o procedimiento neuroquirúrgico intracranéano ",0,null,null,null,null,0,null,null,null,null,null,null,0,null,null,0,null,null,0,null,null,0,null,null,null,null,null,null,null,null,null,null,null,null,354800,0]
["1103046","Instalación de estimuladores medulares",0,null,null,null,null,0,null,null,null,null,null,null,0,null,null,0,null,null,0,null,null,0,null,null,null,null,null,null,null,null,null,null,null,null,357860,0]
["1103049","Hernia núcleo pulposo, estenorraquis, aracnoiditis, fibrosis perirradicular cervical, dorsal o lumbar, trat. quir.",0,null,null,null,null,0,null,null,null,null,null,null,0,null,null,0,null,null,0,null,null,0,null,null,null,null,null,null,null,null,null,null,null,null,653390,0]
["1103050","Laminectomía descompresiva",0,null,null,null,null,0,null,null,null,null,null,null,0,null,null,0,null,null,0,null,null,0,null,null,null,null,null,null,null,null,null,null,null,null,502230,0]
["1103052","Tratamiento quirúrgico de tumor espinal extradural",0,null,null,null,null,0,null,null,null,null,null,null,0,null,null,0,null,null,0,null,null,0,null,null,null,null,null,null,null,null,null,null,null,null,428690,0]
["1103053","Extirpación de tumor o quiste medular o intrarraquídeo",0,null,null,null,null,0,null,null,null,null,null,null,0,null,null,0,null,null,0,null,null,0,null,null,null,null,null,null,null,null,null,null,null,null,551930,0]
["1103055","Cordotomía percutánea",0,null,null,null,null,0,null,null,null,null,null,null,0,null,null,0,null,null,0,null,null,0,null,null,null,null,null,null,null,null,null,null,null,null,277030,0]
["1103056","Mielotomía, DREZtomía",0,null,null,null,null,0,null,null,null,null,null,null,0,null,null,0,null,null,0,null,null,0,null,null,null,null,null,null,null,null,null,null,null,null,456090,0]
["1103073","Artroplastia de columna ",0,null,null,null,null,0,null,null,null,null,null,null,0,null,null,0,null,null,0,null,null,0,null,null,null,null,null,null,null,null,null,null,null,null,758300,0]
["1103074","Aseo quirúrgico de columna vertebral",0,null,null,null,null,0,null,null,null,null,null,null,0,null,null,0,null,null,0,null,null,0,null,null,null,null,null,null,null,null,null,null,null,null,467000,0]
["1103079","Cementación vertebral cervical, dorsal o lumbar mas de 3 niveles",{"$f":"SUM(I1395:N1395)","v":0},null,null,null,null,{"$f":"SUM(I1395:J1395)","v":0},null,null,null,null,null,null,{"$f":"SUM(P1395:Q1395)","v":0},null,null,{"$f":"SUM(S1395:T1395)","v":0},null,null,{"$f":"SUM(V1395:W1395)","v":0},null,null,{"$f":"SUM(Y1395:Z1395)","v":0},null,null,null,null,null,null,null,null,null,null,null,null,648010,0]
["1103080","Fusión intersomatica cervical",{"$f":"SUM(I1396:N1396)","v":0},null,null,null,null,{"$f":"SUM(I1396:J1396)","v":0},null,null,null,null,null,null,{"$f":"SUM(P1396:Q1396)","v":0},null,null,{"$f":"SUM(S1396:T1396)","v":0},null,null,{"$f":"SUM(V1396:W1396)","v":0},null,null,{"$f":"SUM(Y1396:Z1396)","v":0},null,null,null,null,null,null,null,null,null,null,null,null,707610,0]
["1103058","Tumor de nervio periférico, extirp. de",{"$f":"SUM(I1399:N1399)","v":0},null,null,null,null,{"$f":"SUM(I1399:J1399)","v":0},null,null,null,null,null,null,{"$f":"SUM(P1399:Q1399)","v":0},null,null,{"$f":"SUM(S1399:T1399)","v":0},null,null,{"$f":"SUM(V1399:W1399)","v":0},null,null,{"$f":"SUM(Y1399:Z1399)","v":0},null,null,null,null,null,null,null,null,null,null,null,null,190440,0]
["1103059","Reparación de plexos c/s neurotización con técnica microquirúrgica o injertos interfasciculares",0,null,null,null,null,0,null,null,null,null,null,null,0,null,null,0,null,null,0,null,null,0,null,null,null,null,null,null,null,null,null,null,null,null,524860,0]
["1103068","Neurectomía, cualquier localización, cada zona quirúrgica",0,null,null,null,null,0,null,null,null,null,null,null,0,null,null,0,null,null,0,null,null,0,null,null,null,null,null,null,null,null,null,null,null,null,179060,0]
["1103062","Neurolisis con técnica microquirúrgica",0,null,null,null,null,0,null,null,null,null,null,null,0,null,null,0,null,null,0,null,null,0,null,null,null,null,null,null,null,null,null,null,null,null,326400,0]
["1103065","Síndrome de costilla cervical, trat. quir.",0,null,null,null,null,0,null,null,null,null,null,null,0,null,null,0,null,null,0,null,null,0,null,null,null,null,null,null,null,null,null,null,null,null,361440,0]
["1103066","Liberación quirúrgica de nervio periférico extracraneano (trat. quir. del Síndrome del Túnel Carpiano, tarso u otro)",0,null,null,null,null,0,null,null,null,null,null,null,0,null,null,0,null,null,0,null,null,0,null,null,null,null,null,null,null,null,null,null,null,null,190440,0]
["1103077","Neurotomía periférica selectiva para tratamiento de espasticidad",0,null,null,null,null,0,null,null,null,null,null,null,0,null,null,0,null,null,0,null,null,0,null,null,null,null,null,null,null,null,null,null,null,null,757660,0,null," "]
[null,"TOTAL",{"$f":"SUM(C1332:C1411)","v":0},0,0,0,0,0,0,0,0,0,0,0,0,{"$f":"SUM(P1332:P1411)","v":0},0,0,0,0,0,0,0,0,0,{"$f":"SUM(Z1332:Z1411)","v":0},0,0,0,0,0,0,0,0,0,0,null,{"$f":"SUM(AL1332:AL1411)","v":0}]
["1201044","Tomografía coherencia óptica, c/ ojo ",{"$f":"SUM(D1414+G1414)","v":0},{"$f":"SUM(E1414:F1414)","v":0},null,null,null,null,null,null,null,null,null,null,null,null,null,null,null,null,null,null,null,null,null,null,null,null,null,null,null,null,null,null,null,null,50690,{"$f":"AK1414*E1414","v":0},null," "]
["1201001","Campimetría de proyección, unilateral (proc.aut.)",{"$f":"SUM(D1415+G1415)","v":0},{"$f":"SUM(E1415:F1415)","v":0},null,null,null,null,null,null,null,null,null,null,null,null,null,null,null,null,null,null,null,null,null,null,null,null,null,null,null,null,null,null,null,null,5250,0]
["1201003","Cuantificación de lagrimación (test de Schirmer), uni o bilateral",0,0,null,null,null,null,null,null,null,null,null,null,null,null,null,null,null,null,null,null,null,null,null,null,null,null,null,null,null,null,null,null,null,null,1970,0]
["1201004","Curva de tensión aplanática (por cada día), unilateral",0,0,null,null,null,null,null,null,null,null,null,null,null,null,null,null,null,null,null,null,null,null,null,null,null,null,null,null,null,null,null,null,null,null,4890,0]
["1201007","Electromiografía músculos oculares niños, unilateral",0,0,null,null,null,null,null,null,null,null,null,null,null,null,null,null,null,null,null,null,null,null,null,null,null,null,null,null,null,null,null,null,null,null,12940,0]
["1201008","Electrooculografía, bilateral",0,0,null,null,null,null,null,null,null,null,null,null,null,null,null,null,null,null,null,null,null,null,null,null,null,null,null,null,null,null,null,null,null,null,9690,0]
["1201011","Pruebas de provocación para glaucoma (prueba de oscuridad u otras), uni o bilateral",0,0,null,null,null,null,null,null,null,null,null,null,null,null,null,null,null,null,null,null,null,null,null,null,null,null,null,null,null,null,null,null,null,null,6080,0]
["1201012","Retinografía, bilateral",0,0,null,null,null,null,null,null,null,null,null,null,null,null,null,null,null,null,null,null,null,null,null,null,null,null,null,null,null,null,null,null,null,null,7280,0]
["1201027","Examen Optométrico c/s Prescripción de Lentes",0,0,null,null,null,null,null,null,null,null,null,null,null,null,null,null,null,null,null,null,null,null,null,null,null,null,null,null,null,null,null,null,null,null,10920,0]
["1201016","Angiografía de retina o de iris, (con fluoresceína o sim.), unilateral",0,0,null,null,null,null,null,null,null,null,null,null,null,null,null,null,null,null,null,null,null,null,null,null,null,null,null,null,null,null,null,null,null,null,12730,0]
["1201019","Exploración vitreorretinal, ambos ojos",0,0,null,null,null,null,null,null,null,null,null,null,null,null,null,null,null,null,null,null,null,null,null,null,null,null,null,null,null,null,null,null,null,null,5910,0]
["1201020","Ecobiometría con cálculo de lente intraocular, bilateral",0,0,null,null,null,null,null,null,null,null,null,null,null,null,null,null,null,null,null,null,null,null,null,null,null,null,null,null,null,null,null,null,null,null,20310,0]
["1201043","Topografía corneal computarizada, unilateral",0,0,null,null,null,null,null,null,null,null,null,null,null,null,null,null,null,null,null,null,null,null,null,null,null,null,null,null,null,null,null,null,null,null,24060,0]
["1201029","Cuerpo extraño conjuntival y/o corneal en adultos",0,0,null,null,null,null,null,null,null,null,null,null,null,null,null,null,null,null,null,null,null,null,null,null,null,null,null,null,null,null,null,null,null,null,7690,0]
["1201031","Vía lagrimal, cateterismo o sondaje en adultos",0,0,null,null,null,null,null,null,null,null,null,null,null,null,null,null,null,null,null,null,null,null,null,null,null,null,null,null,null,null,null,null,null,null,11580,0]
["1201032","Vía lagrimal, cateterismo o sondaje en lactantes",0,0,null,null,null,null,null,null,null,null,null,null,null,null,null,null,null,null,null,null,null,null,null,null,null,null,null,null,null,null,null,null,null,null,19250,0]
["1201035","Criocoagulación conjuntival, corneal o palpebral en adultos",0,0,null,null,null,null,null,null,null,null,null,null,null,null,null,null,null,null,null,null,null,null,null,null,null,null,null,null,null,null,null,null,null,null,11580,0]
["1201036","Criocoagulación conjuntival, corneal o palpebral en niños",0,0,null,null,null,null,null,null,null,null,null,null,null,null,null,null,null,null,null,null,null,null,null,null,null,null,null,null,null,null,null,null,null,null,12860,0]
["1201039","Pestañas, extirp. por electrocoagulación (cualquier número)",0,0,null,null,null,null,null,null,null,null,null,null,null,null,null,null,null,null,null,null,null,null,null,null,null,null,null,null,null,null,null,null,null,null,12860,0]
["1201040","Puntos lagrimales; electrotermocoagulación",0,0,null,null,null,null,null,null,null,null,null,null,null,null,null,null,null,null,null,null,null,null,null,null,null,null,null,null,null,null,null,null,null,null,11580,0]
[5099013,"Inyeccion intravitrea  avastin",0,0]
[5099014,"Toma agudeza visual (ambos ojos)",0,0]
[5099051,"Test de ishihara",0,0]
[5099052,"Campo visual",0,0,null,null,null,null,null,null,null,null,null,null,null,null,null,null,null,null,null,null,null,null,null,null,null,null,null,null,null,null,null,null,null,null,null,null,null," "]
[null,"TOTAL ",{"$f":"SUM(C1414:C1460)","v":0},{"$f":"SUM(D1414:D1460)","v":0},{"$f":"SUM(E1414:E1460)","v":0},{"$f":"SUM(F1414:F1460)","v":0},{"$f":"SUM(G1414:G1460)","v":0},null,null,null,null,null,null,null,null,null,null,null,null,null,null,null,null,null,null,null,{"$f":"SUM(AA1414:AA1460)","v":0},0,0,0,0,0,0,0,0,0,null,{"$f":"SUM(AL1414:AL1460)","v":0}]
[null,"CIRUGIA OFTALMOLOGICA          "]
["1202003","Reconstitución de canalículos",0,null,null,null,null,0,null,null,null,null,null,null,null,null,null,null,null,null,null,null,null,null,null,null,null,null,null,null,null,null,null,null,null,null,84170,0]
["1202004","Absceso, vaciamiento y/o drenaje de saco y/o glándula lagrimal",0,null,null,null,null,0,null,null,null,null,null,null,null,null,null,null,null,null,null,null,null,null,null,null,null,null,null,null,null,null,null,null,null,null,19120,0]
["1202006","Extirpación de saco y/o glándula lagrimal",0,null,null,null,null,0,null,null,null,null,null,null,null,null,null,null,null,null,null,null,null,null,null,null,null,null,null,null,null,null,null,null,null,null,50380,0]
["1202007","Reconstitución vía lagrimal en ausencia del saco",0,null,null,null,null,0,null,null,null,null,null,null,{"$f":"SUM(P1469:Q1469)","v":0},null,null,{"$f":"SUM(S1469:T1469)","v":0},null,null,{"$f":"SUM(V1469:W1469)","v":0},null,null,{"$f":"SUM(Y1469:Z1469)","v":0},null,null,null,null,null,null,null,null,null,null,null,null,159840,0]
["1202010","Absceso, trat. quir. párpado o ceja",{"$f":"SUM(I1472:N1472)","v":0},null,null,null,null,{"$f":"SUM(I1472:J1472)","v":0},null,null,null,null,null,null,null,null,null,null,null,null,null,null,null,null,null,null,null,null,null,null,null,null,null,null,null,null,19120,0]
["1202011","Biopsia de párpado y/o anexos (proc. aut.)",0,null,null,null,null,0,null,null,null,null,null,null,null,null,null,null,null,null,null,null,null,null,null,null,null,null,null,null,null,null,null,null,null,null,26340,0]
["1202014","Blefarorrafia con blefarotomía posterior",0,null,null,null,null,0,null,null,null,null,null,null,null,null,null,null,null,null,null,null,null,null,null,null,null,null,null,null,null,null,null,null,null,null,30100,0]
["1202015","Cantoplastía",0,null,null,null,null,0,null,null,null,null,null,null,null,null,null,null,null,null,null,null,null,null,null,null,null,null,null,null,null,null,null,null,null,null,39660,0]
["1202018","Ectropión, plastía de",0,null,null,null,null,0,null,null,null,null,null,null,null,null,null,null,null,null,null,null,null,null,null,null,null,null,null,null,null,null,null,null,null,null,64250,0]
["1202019","Entropión, plastía de",0,null,null,null,null,0,null,null,null,null,null,null,null,null,null,null,null,null,null,null,null,null,null,null,null,null,null,null,null,null,null,null,null,null,64250,0]
["1202022","Quiste dermoide de la cola de la ceja, resec. plástica",0,null,null,null,null,0,null,null,null,null,null,null,null,null,null,null,null,null,null,null,null,null,null,null,null,null,null,null,null,null,null,null,null,null,33310,0]
["1202023","Tumor maligno de párpado o ceja, trat. quir. completo",0,null,null,null,null,0,null,null,null,null,null,null,0,null,null,0,null,null,0,null,null,0,null,null,null,null,null,null,null,null,null,null,null,null,90970,0]
["1202080","Tratamiento quirúrgico ptosis de la ceja",0,null,null,null,null,0,null,null,null,null,null,null,0,null,null,0,null,null,0,null,null,0,null,null,null,null,null,null,null,null,null,null,null,null,120150,0]
["1202025","Herida o dehiscencia de la conjuntiva, sutura de (proc. aut.)",0,null,null,null,null,0,null,null,null,null,null,null,null,null,null,null,null,null,null,null,null,null,null,null,null,null,null,null,null,null,null,null,null,null,55290,0]
[5099191,"Extirpación de Pterigión con injerto corneal",0,null,null,null,null,0,null,null,null,null,null,null,0,null,null,0,null,null,0,null,null,0]
["1202028","Extirpación de tumor benigno de la conjuntiva",0,null,null,null,null,0,null,null,null,null,null,null,null,null,null,null,null,null,null,null,null,null,null,null,null,null,null,null,null,null,null,null,null,null,38590,{"$f":"+(I1493*AK1493)+(L1493*AK1493*0.5)","v":0}]
["1202031","Cuerpo extraño orbitario (con orbitotomía)",0,null,null,null,null,0,null,null,null,null,null,null,0,null,null,0,null,null,0,null,null,0,null,null,null,null,null,null,null,null,null,null,null,null,182840,0]
["1202032","Exanteración orbitaria o tumor orbitario, trat. quirúrgico completo",0,null,null,null,null,0,null,null,null,null,null,null,0,null,null,0,null,null,0,null,null,0,null,null,null,null,null,null,null,null,null,null,null,null,343470,0]
["1202034","Orbitotomía lateral descompresiva",0,null,null,null,null,0,null,null,null,null,null,null,0,null,null,0,null,null,0,null,null,0,null,null,null,null,null,null,null,null,null,null,null,null,116560,0]
["1202072","Reconstrucción de paredes orbitarias",0,null,null,null,null,0,null,null,null,null,null,null,0,null,null,0,null,null,0,null,null,0,null,null,null,null,null,null,null,null,null,null,null,null,108800,0]
["1202037","Enucleación con implante",0,null,null,null,null,0,null,null,null,null,null,null,0,null,null,0,null,null,0,null,null,0,null,null,null,null,null,null,null,null,null,null,null,null,186400,0]
["1202038","Tratamiento quirúrgico completo del estrabismo unilateral o bilateral",0,null,null,null,null,0,null,null,null,null,null,null,0,null,null,0,null,null,0,null,null,0,null,null,null,null,null,null,null,null,null,null,null,null,192560,0]
["1202081","Evisceración del globo ocular",0,null,null,null,null,0,null,null,null,null,null,null,0,null,null,0,null,null,0,null,null,0,null,null,null,null,null,null,null,null,null,null,null,null,338750,0]
["1202041","Cirugía refractiva, queratotomía radial o similar con bisturí de diamante",0,null,null,null,null,0,null,null,null,null,null,null,0,null,null,0,null,null,0,null,null,0,null,null,null,null,null,null,null,null,null,null,null,null,100080,0]
["1202045","Glaucoma, trat. quir. por cualquier técnica",0,null,null,null,null,0,null,null,null,null,null,null,0,null,null,0,null,null,0,null,null,0,null,null,null,null,null,null,null,null,null,null,null,null,203590,0]
["1202046","Herida corneal o corneo-escleral o dehiscencia de sutura",0,null,null,null,null,0,null,null,null,null,null,null,0,null,null,0,null,null,0,null,null,0,null,null,null,null,null,null,null,null,null,null,null,null,103790,0]
["1202049","Queratoprótesis, implantación de (no incluye el valor de la prótesis)",0,null,null,null,null,0,null,null,null,null,null,null,0,null,null,0,null,null,0,null,null,0,null,null,null,null,null,null,null,null,null,null,null,null,271190,0]
["1202050","Recubrimiento conjuntival",0,null,null,null,null,0,null,null,null,null,null,null,0,null,null,0,null,null,0,null,null,0,null,null,null,null,null,null,null,null,null,null,null,null,125350,0]
["1202073","Operación triple (injerto, facoéresis e implante de lente intraocular) (no incluye valor de la prótesis)",0,null,null,null,null,0,null,null,null,null,null,null,0,null,null,0,null,null,0,null,null,0,null,null,null,null,null,null,null,null,null,null,null,null,388680,0]
["1202173","Operación triple (injerto, facoéresis e implante de lente intraocular) (incluye valor de la prótesis)",0,null,null,null,null,0,null,null,null,null,null,null,0,null,null,0,null,null,0,null,null,0,null,null,null,null,null,null,null,null,null,null,null,null,529490,0]
["1202053","Iridectomía periférica y/u óptica, (proc. aut.)",0,null,null,null,null,0,null,null,null,null,null,null,0,null,null,0,null,null,0,null,null,0,null,null,null,null,null,null,null,null,null,null,null,null,90970,0]
["1202054","Tratamiento quirúrgico de lesión tumoral del iris o cuerpo ciliar",0,null,null,null,null,0,null,null,null,null,null,null,0,null,null,0,null,null,0,null,null,0,null,null,null,null,null,null,null,null,null,null,null,null,164820,0]
["1202055","Desgarro  con o sin desprendimiento, diatermo y/o crio y/o fotocoagulación (incluye endofotocoagulación intraquirúrgica )",0,null,null,null,null,0,null,null,null,null,null,null,null,null,null,null,null,null,null,null,null,null,null,null,null,null,null,null,null,null,null,null,null,null,99720,0," "," "]
["1202056","Desprendimiento retinal, cirugía convencional (exoimplantes)",0,null,null,null,null,0,null,null,null,null,null,null,0,null,null,0,null,null,0,null,null,0,null,null,null,null,null,null,null,null,null,null,null,null,223760,0," "]
["1202060","Vitrectomía c/retinotomía (c/s inyección de gas o silicona)",0,null,null,null,null,0,null,null,null,null,null,null,0,null,null,0,null,null,0,null,null,0,null,null,null,null,null,null,null,null,null,null,null,null,371900,0]
["1202061","Vitrectomía con inyección de gas o silicona",0,null,null,null,null,0,null,null,null,null,null,null,0,null,null,0,null,null,0,null,null,0,null,null,null,null,null,null,null,null,null,null,null,null,332780,0]
["1202077","Desprendimiento coroídeo o hemorragia coroídea, trat. quir.",0,null,null,null,null,0,null,null,null,null,null,null,0,null,null,0,null,null,0,null,null,0,null,null,null,null,null,null,null,null,null,null,null,null,94540,0]
["1202063","Facoéresis intracapsular o catarata secundaria o discisión y aspiración de masas",0,null,null,null,null,0,null,null,null,null,null,null,0,null,null,0,null,null,0,null,null,0,null,null,null,null,null,null,null,null,null,null,null,null,173690,0]
["1202065","Implante secundario de lente intraocular",0,null,null,null,null,0,null,null,null,null,null,null,0,null,null,0,null,null,0,null,null,0,null,null,null,null,null,null,null,null,null,null,null,null,308820,0]
["1202066","Aspiración esferular c/s capsulotomía",0,null,null,null,null,0,null,null,null,null,null,null,0,null,null,0,null,null,0,null,null,0,null,null,null,null,null,null,null,null,null,null,null,null,87240,0]
["1202057","Retinopatía proliferativa, (diabética, hipertensiva, eales y otras) panfotocoagulación trat. completo   (incluye endofotocoagulación intraquirúrgica )",0,null,null,null,null,0,null,null,null,null,null,null,null,null,null,null,null,null,null,null,null,null,null,null,null,null,null,null,null,null,null,null,null,null,174680,0]
["1202067","Discisión de cápsula posterior",0,null,null,null,null,0,null,null,null,null,null,null,null,null,null,null,null,null,null,null,null,null,null,null,null,null,null,null,null,null,null,null,null,null,195490,0]
["1202078","Cirugía fotorrefractiva o fototerapéutica de córnea, cualquier técnica",0,null,null,null,null,0,null,null,null,null,null,null,0,null,null,0,null,null,0,null,null,0,null,null,null,null,null,null,null,null,null,null,null,null,179130,0,null," "]
[null,"TOTAL",{"$f":"SUM(C1463:C1546)","v":0},{"$f":"SUM(D1463:D1546)","v":0},{"$f":"SUM(E1463:E1546)","v":0},0,0,0,0,0,0,0,0,0,0,0,0,0,0,0,0,0,0,0,0,0,{"$f":"SUM(AA1463:AA1546)","v":0},0,0,0,0,0,0,0,0,0,null,{"$f":"SUM(AL1463:AL1546)","v":0}]
["1301047","Nasofibroscopía de la deglución",{"$f":"SUM(D1550+G1550)","v":0},{"$f":"SUM(E1550:F1550)","v":0},null,null,null,null,null,null,null,null,null,null,null,null,null,null,null,null,null,null,null,null,null,null,null,null,null,null,null,null,null,null,null,null,38810,0]
["1301002","Rinomanometría c/s vasocontrictor",0,0,null,null,null,null,null,null,null,null,null,null,null,null,null,null,null,null,null,null,null,null,null,null,null,null,null,null,null,null,null,null,null,null,6730,0]
["1301005","Sinusoscopia de cada seno maxilar por punción, c/s biopsia, c/s toma de muestras",0,0,null,null,null,null,null,null,null,null,null,null,null,null,null,null,null,null,null,null,null,null,null,null,null,null,null,null,null,null,null,null,null,null,7690,0]
["1301006","Laringoscopia y/o traqueoscopia directa c/s toma de muestra, c/s biopsia. Con microscopio",0,0,null,null,null,null,null,null,null,null,null,null,null,null,null,null,null,null,null,null,null,null,null,null,null,null,null,null,null,null,null,null,null,null,18200,0]
["1301008","Audiometría niños",0,0,null,null,null,null,null,null,null,null,null,null,null,null,null,null,null,null,null,null,null,null,null,null,null,null,null,null,null,null,null,null,null,null,8520,0]
["1301009","Impedanciometría",0,0,null,null,null,null,null,null,null,null,null,null,null,null,null,null,null,null,null,null,null,null,null,null,null,null,null,null,null,null,null,null,null,null,5430,0]
["1301012","Cócleovestibular con electronistagmografía",0,0,null,null,null,null,null,null,null,null,null,null,null,null,null,null,null,null,null,null,null,null,null,null,null,null,null,null,null,null,null,null,null,null,14620,0]
["1301015","Electronistagmografía o Videoelectronistagmografía c/s nistag.de posición",0,0,null,null,null,null,null,null,null,null,null,null,null,null,null,null,null,null,null,null,null,null,null,null,null,null,null,null,null,null,null,null,null,null,5250,0]
["1301019","Test de glicerol (con 3 audiometrías)",0,0,null,null,null,null,null,null,null,null,null,null,null,null,null,null,null,null,null,null,null,null,null,null,null,null,null,null,null,null,null,null,null,null,14620,0]
["1301020","Examen funcional de VIII par",0,0,null,null,null,null,null,null,null,null,null,null,null,null,null,null,null,null,null,null,null,null,null,null,null,null,null,null,null,null,null,null,null,null,16160,0]
["1303002","Evaluación de habla",0,0,null,null,null,null,null,null,null,null,null,null,null,null,null,null,null,null,null,null,null,null,null,null,null,null,null,null,null,null,null,null,null,null,8160,0]
["1303003","Evaluación del lenguaje (incluye voz, habla y aspecto semántico, sintáctico y fonológico, etc. e informe) (incluye 3 sesiones de mínimo 30')",0,0,null,null,null,null,null,null,null,null,null,null,null,null,null,null,null,null,null,null,null,null,null,null,null,null,null,null,null,null,null,null,null,null,11600,0]
["1303006","Rehabilitación de la deglución",0,0,null,null,null,null,null,null,null,null,null,null,null,null,null,null,null,null,null,null,null,null,null,null,null,null,null,null,null,null,null,null,null,null,6630,0]
["1303007","Evaluación clínica de la deglución ",0,0,null,null,null,null,null,null,null,null,null,null,null,null,null,null,null,null,null,null,null,null,null,null,null,null,null,null,null,null,null,null,null,null,13190,0]
["1308303","Telerehabilitación: Evaluación del lenguaje (incluye voz, habla y aspecto semántico, sintáctico y fonológico, etc. e informe) (incluye 3 sesiones de mínimo 30')",0,0,null,null,null,null,null,null,null,null,null,null,null,null,null,null,null,null,null,null,null,null,null,null,null,null,null,null,null,null,null,null,null,null,16200,0]
["1308304","Telerehabilitación: Rehabilitación de la voz ",0,0,null,null,null,null,null,null,null,null,null,null,null,null,null,null,null,null,null,null,null,null,null,null,null,null,null,null,null,null,null,null,null,null,5400,0]
["1301048","Prueba de impulso cefálico con videooculografía o similar (VHIT) ",0,0,null,null,null,null,null,null,null,null,null,null,null,null,null,null,null,null,null,null,null,null,null,null,null,null,null,null,null,null,null,null,null,null,5250,0]
["1301049","Pruebas rotatorias",0,0,null,null,null,null,null,null,null,null,null,null,null,null,null,null,null,null,null,null,null,null,null,null,null,null,null,null,null,null,null,null,null,null,9470,{"$f":"AK1581*E1581","v":0}]
["1301025","Taponamiento nasal anterior (proc. aut.)",0,0,null,null,null,null,null,null,null,null,null,null,null,null,null,null,null,null,null,null,null,null,null,null,null,null,null,null,null,null,null,null,null,null,3970,0]
["1301026","Taponamiento nasal posterior",0,0,null,null,null,null,null,null,null,null,null,null,null,null,null,null,null,null,null,null,null,null,null,null,null,null,null,null,null,null,null,null,null,null,11580,0]
["1301029","Cuerpo extraño en fosas nasales, extracción de: - En adultos",0,0,null,null,null,null,null,null,null,null,null,null,null,null,null,null,null,null,null,null,null,null,null,null,null,null,null,null,null,null,null,null,null,null,5510,0]
["1301030","Cuerpo extraño en fosas nasales, extracción de: - En niños",0,0,null,null,null,null,null,null,null,null,null,null,null,null,null,null,null,null,null,null,null,null,null,null,null,null,null,null,null,null,null,null,null,null,12260,0]
["1301037","Dilatación esofágica por sesión",0,0,null,null,null,null,null,null,null,null,null,null,null,null,null,null,null,null,null,null,null,null,null,null,null,null,null,null,null,null,null,null,null,null,5670,0]
["1301038","Cuerpo extraño extracción en hipofaringe y/o esófago (por tubo rígido) - En niños",0,0,null,null,null,null,null,null,null,null,null,null,null,null,null,null,null,null,null,null,null,null,null,null,null,null,null,null,null,null,null,null,null,null,23140,0]
["1301041","Trompa de Eustaquio, insuflación instrumental (proc. aut.)",0,0,null,null,null,null,null,null,null,null,null,null,null,null,null,null,null,null,null,null,null,null,null,null,null,null,null,null,null,null,null,null,null,null,3860,0]
["1301042","Cuerpo extraño en oído, extracción de (incluye tapón de cerumen) (proc. aut.) - En adultos",0,0,null,null,null,null,null,null,null,null,null,null,null,null,null,null,null,null,null,null,null,null,null,null,null,null,null,null,null,null,null,null,null,null,3860,0]
["1301051","Retiro de tubos de ventilación timpánica, uni o bilateral",{"$f":"SUM(D1600+G1600)","v":0},{"$f":"SUM(E1600:F1600)","v":0},null,null,null,null,null,null,null,null,null,null,null,null,null,null,null,null,null,null,null,null,null,null,null,null,null,null,null,null,null,null,null,null,53900,0]
["1301045","Emisiones Otoacústicas ",0,0,null,null,null,null,null,null,null,null,null,null,null,null,null,null,null,null,null,null,null,null,null,null,null,null,null,null,null,null,null,null,null,null,8920,0]
[5099093,"Retiro de yeso",0,0]
[5099094,"Cambio de canula traqueostomia (enfermera Otorrino)",0,0]
["","Electrococleografía ",0,0]
["01011304","Maniobras de reposición de particulas",0,0]
["01011309","Rinometría acústica",0,0]
["","Maniobras de reposición vestibular ",0,0]
["01011314","Timpanometría de banda ancha",0,0]
["01011315","Estudio funcional de equilibrio en plataforma",0,0]
[null,"CIRUGIA OTORRINOLARINGOLOGICA       "]
["1302001","Absceso y/o hematomas oído externo, trat. quir.",{"$f":"SUM(I1620:N1620)","v":0},null,null,null,null,{"$f":"SUM(I1620:J1620)","v":0},null,null,null,null,null,null,null,null,null,null,null,null,null,null,null,null,null,null,null,null,null,null,null,null,null,null,null,null,16200,{"$f":"+(I1620*AK1620)+(L1620*AK1620*0.5)","v":0},null," "]
["1302004","Extirpación de tumor de conducto auditivo externo",0,null,null,null,null,0,null,null,null,null,null,null,null,null,null,null,null,null,null,null,null,null,null,null,null,null,null,null,null,null,null,null,null,null,30750,0]
["1302005","Tumor maligno oído externo, trat. quir.",0,null,null,null,null,0,null,null,null,null,null,null,null,null,null,null,null,null,null,null,null,null,null,null,null,null,null,null,null,null,null,null,null,null,157350,0]
["1302007","Mastoidectomía c/s sección cuerda del tímpano",0,null,null,null,null,0,null,null,null,null,null,null,0,null,null,0,null,null,0,null,null,0,null,null,null,null,null,null,null,null,null,null,null,null,236120,0]
["1302008","Tratamiento quirúrgico de Mucositis timpánica, otitis media con efusión uni o bilateral",{"$f":"SUM(I1628:N1628)","v":0},null,null,null,null,{"$f":"SUM(I1628:J1628)","v":0},null,null,null,null,null,null,null,null,null,null,null,null,null,null,null,null,null,null,null,null,null,null,null,null,null,null,null,null,121920,0]
["1302012","Timpanoplastía funcional (cualquier tipo) c/s mastoidectomía",0,null,null,null,null,0,null,null,null,null,null,null,0,null,null,0,null,null,0,null,null,0,null,null,null,null,null,null,null,null,null,null,null,null,212070,0]
["1302076","Punción timpánica para inyección de medicamentos",{"$f":"SUM(I1632:N1632)","v":0},null,null,null,null,{"$f":"SUM(I1632:J1632)","v":0},null,null,null,null,null,null,null,null,null,null,null,null,null,null,null,null,null,null,null,null,null,null,null,null,null,null,null,null,199270,0]
["1302079","Aticotomía (excluye timpanoplastia funcional)",0,null,null,null,null,0,null,null,null,null,null,null,0,null,null,0,null,null,0,null,null,0,null,null,null,null,null,null,null,null,null,null,null,null,195650,0]
["1302080","Plastía o dilatación por vía endoscópica trompa de Eustaquio",0,null,null,null,null,0,null,null,null,null,null,null,0,null,null,0,null,null,0,null,null,0,null,null,null,null,null,null,null,null,null,null,null,null,194880,0]
["1302083","Resección subtotal del hueso temporal (incluye tegmen, laberinto y punta de peñasco)",0,null,null,null,null,0,null,null,null,null,null,null,0,null,null,0,null,null,0,null,null,0,null,null,null,null,null,null,null,null,null,null,null,null,361740,0]
["1302084","Resección total del hueso temporal (abordaje combinado orl y neurocirujano)",0,null,null,null,null,0,null,null,null,null,null,null,0,null,null,0,null,null,0,null,null,0,null,null,null,null,null,null,null,null,null,null,null,null,470260,0]
["1302087","Timpanotomía exploradora",0,null,null,null,null,0,null,null,null,null,null,null,0,null,null,0,null,null,0,null,null,0,null,null,null,null,null,null,null,null,null,null,null,null,328520,0]
["1302088","Tiroplastia 1-4",0,null,null,null,null,0,null,null,null,null,null,null,0,null,null,0,null,null,0,null,null,0,null,null,null,null,null,null,null,null,null,null,null,null,311880,0]
["1302091","Tumor glómico petro-tímpano-mástoídeo, tratamiento quirúrgico",0,null,null,null,null,0,null,null,null,null,null,null,0,null,null,0,null,null,0,null,null,0,null,null,null,null,null,null,null,null,null,null,null,null,361840,0]
["1302013","Reconstitución plástica de conducto auditivo externo cartilaginoso",0,null,null,null,null,0,null,null,null,null,null,null,0,null,null,0,null,null,0,null,null,0,null,null,null,null,null,null,null,null,null,null,null,null,263830,0]
["1302016","Reconstitución de conducto auditivo externo, c/s timpanoplastía (incluye revisión de cadena osicular)",0,null,null,null,null,0,null,null,null,null,null,null,0,null,null,0,null,null,0,null,null,0,null,null,null,null,null,null,null,null,null,null,null,null,236120,0]
["1302017","Tratamiento quirúrgico de tumor glómico timpánico",0,null,null,null,null,0,null,null,null,null,null,null,0,null,null,0,null,null,0,null,null,0,null,null,null,null,null,null,null,null,null,null,null,null,263830,0]
["1302074","Intervención quirúrgica implante coclear",0,null,null,null,null,0,null,null,null,null,null,null,0,null,null,0,null,null,0,null,null,0,null,null,null,null,null,null,null,null,null,null,null,null,563350,0]
["1302020","Descompresión intraósea nervio facial c/s plastía",0,null,null,null,null,0,null,null,null,null,null,null,0,null,null,0,null,null,0,null,null,0,null,null,null,null,null,null,null,null,null,null,null,null,197620,0]
["1302023","Sección y/o resección frenillos cavidad bucal",0,null,null,null,null,0,null,null,null,null,null,null,null,null,null,null,null,null,null,null,null,null,null,null,null,null,null,null,null,null,null,null,null,null,16200,0]
["1302024","Drenaje de absceso o flegmón de piso de boca",0,null,null,null,null,0,null,null,null,null,null,null,null,null,null,null,null,null,null,null,null,null,null,null,null,null,null,null,null,null,null,null,null,null,22230,0]
["1302026","Drenaje de absceso o flegmón retrofaríngeo o faringolaríngeo",0,null,null,null,null,0,null,null,null,null,null,null,null,null,null,null,null,null,null,null,null,null,null,null,null,null,null,null,null,null,null,null,null,null,35190,0]
["1302027","Drenaje de absceso o flegmón de vestíbulo bucal",0,null,null,null,null,0,null,null,null,null,null,null,null,null,null,null,null,null,null,null,null,null,null,null,null,null,null,null,null,null,null,null,null,null,16200,0]
["1302030","Extracción de cálculos o tapones salivales",{"$f":"SUM(I1665:N1665)","v":0},null,null,null,null,{"$f":"SUM(I1665:J1665)","v":0},null,null,null,null,null,null,null,null,null,null,null,null,null,null,null,null,null,null,null,null,null,null,null,null,null,null,null,null,22230,0]
["1302031","Tumor benigno de la mucosa bucal,  extirp. c/s  biopsia bucofaríngea",0,null,null,null,null,0,null,null,null,null,null,null,null,null,null,null,null,null,null,null,null,null,null,null,null,null,null,null,null,null,null,null,null,null,22230,0]
["1302034","Extirpación tumor maligno de base de lengua",0,null,null,null,null,0,null,null,null,null,null,null,0,null,null,0,null,null,0,null,null,0,null,null,null,null,null,null,null,null,null,null,null,null,377880,0]
["1302035","Faringoplastía (cualq. técn.), c/s desplazamiento de colgajos",0,null,null,null,null,0,null,null,null,null,null,null,0,null,null,0,null,null,0,null,null,0,null,null,null,null,null,null,null,null,null,null,null,null,268850,0]
["1302038","Abscesos y hematoma del tabique nasal, trat. quir.",{"$f":"SUM(I1673:N1673)","v":0},null,null,null,null,{"$f":"SUM(I1673:J1673)","v":0},null,null,null,null,null,null,null,null,null,null,null,null,null,null,null,null,null,null,null,null,null,null,null,null,null,null,null,null,32100,0]
["1302039","Arteria esfenopalatina, cauterización por vía nasal",0,null,null,null,null,0,null,null,null,null,null,null,null,null,null,null,null,null,null,null,null,null,null,null,null,null,null,null,null,null,null,null,null,null,150910,0]
["1302042","Turbinectomía o cauterización de cornetes, cualquier técnica ",0,null,null,null,null,0,null,null,null,null,null,null,null,null,null,null,null,null,null,null,null,null,null,null,null,null,null,null,null,null,null,null,null,null,43670,0]
["1302043","Conducto y/o seno lagrimal, obstrucción del, trat. quir. por vía nasal",0,null,null,null,null,0,null,null,null,null,null,null,{"$f":"SUM(P1678:Q1678)","v":0},null,null,{"$f":"SUM(S1678:T1678)","v":0},null,null,{"$f":"SUM(V1678:W1678)","v":0},null,null,{"$f":"SUM(Y1678:Z1678)","v":0},null,null,null,null,null,null,null,null,null,null,null,null,165620,0]
["1302045","Tratamiento quirúrgico de las fistulas buco-sinusales o buco-nasales  y/o retiro cuerpos extraños del seno maxilar",0,null,null,null,null,0,null,null,null,null,null,null,0,null,null,0,null,null,0,null,null,0,null,null,null,null,null,null,null,null,null,null,null,null,159240,0]
["1302046","Fract. nasal reciente, cerrada o expuesta, reducción c/s inmovilización ",{"$f":"SUM(I1682:N1682)","v":0},null,null,null,null,{"$f":"SUM(I1682:J1682)","v":0},null,null,null,null,null,null,null,null,null,null,null,null,null,null,null,null,null,null,null,null,null,null,null,null,null,null,null,null,30310,0]
["1302049","Tratamiento quirúrgico pólipo nasal",0,null,null,null,null,0,null,null,null,null,null,null,null,null,null,null,null,null,null,null,null,null,null,null,null,null,null,null,null,null,null,null,null,null,37550,0]
["1302050","Rinitis atrófica, trat. por inclusión submucosa, con cualquier material, uni o bilateral",0,null,null,null,null,0,null,null,null,null,null,null,{"$f":"SUM(P1686:Q1686)","v":0},null,null,{"$f":"SUM(S1686:T1686)","v":0},null,null,{"$f":"SUM(V1686:W1686)","v":0},null,null,{"$f":"SUM(Y1686:Z1686)","v":0},null,null,null,null,null,null,null,null,null,null,null,null,137640,0]
["1302053","Seno esfenoidal, abertura por cualquier vía ",0,null,null,null,null,0,null,null,null,null,null,null,0,null,null,0,null,null,0,null,null,0,null,null,null,null,null,null,null,null,null,null,null,null,197620,0]
["1302054","Tratamiento quirúrgico de seno frontal, cualquier vía",0,null,null,null,null,0,null,null,null,null,null,null,0,null,null,0,null,null,0,null,null,0,null,null,null,null,null,null,null,null,null,null,null,null,165620,0]
["1302056","Sinequia nasal, trat. quir.",{"$f":"SUM(I1692:N1692)","v":0},null,null,null,null,{"$f":"SUM(I1692:J1692)","v":0},null,null,null,null,null,null,null,null,null,null,null,null,null,null,null,null,null,null,null,null,null,null,null,null,null,null,null,null,24300,0]
["1302057","Tumor nasal, extirp. por rinotomía lateral",0,null,null,null,null,0,null,null,null,null,null,null,{"$f":"SUM(P1693:Q1693)","v":0},null,null,{"$f":"SUM(S1693:T1693)","v":0},null,null,{"$f":"SUM(V1693:W1693)","v":0},null,null,{"$f":"SUM(Y1693:Z1693)","v":0},null,null,null,null,null,null,null,null,null,null,null,null,165620,0]
["1302094","Resección de tumor de base de cráneo anterior con reparación de duramadre (colgajo pediculado de haddad o similar)",{"$f":"SUM(I1696:N1696)","v":0},null,null,null,null,{"$f":"SUM(I1696:J1696)","v":0},null,null,null,null,null,null,{"$f":"SUM(P1696:Q1696)","v":0},null,null,{"$f":"SUM(S1696:T1696)","v":0},null,null,{"$f":"SUM(V1696:W1696)","v":0},null,null,{"$f":"SUM(Y1696:Z1696)","v":0},null,null,null,null,null,null,null,null,null,null,null,null,258900,0,null," "]
["1302095","Resección lateral del hueso temporal (incluye mástoides y conducto auditivo externo en forma circular)",{"$f":"SUM(I1697:N1697)","v":0},null,null,null,null,{"$f":"SUM(I1697:J1697)","v":0},null,null,null,null,null,null,{"$f":"SUM(P1697:Q1697)","v":0},null,null,0,null,null,0,null,null,0,null,null,null,null,null,null,null,null,null,null,null,null,278260,0]
["1302098","Tumor maligno nasosinusal y/o rinofaríngeo, tratamiento quirúrgico por vía endoscópica",0,null,null,null,null,0,null,null,null,null,null,null,0,null,null,0,null,null,0,null,null,0,null,null,null,null,null,null,null,null,null,null,null,null,361840,0]
["1302099","Sinuplastía seno frontal con balón por endoscopía u otra técnica",0,null,null,null,null,0,null,null,null,null,null,null,0,null,null,0,null,null,0,null,null,0,null,null,null,null,null,null,null,null,null,null,null,null,161540,0]
["1302102","Dacriocistocele reseccion vía nasal",0,null,null,null,null,0,null,null,null,null,null,null,0,null,null,0,null,null,0,null,null,0,null,null,null,null,null,null,null,null,null,null,null,null,120000,0]
["1302059","Aritenoidectomía vía endoscópica",{"$f":"SUM(I1705:N1705)","v":0},null,null,null,null,{"$f":"SUM(I1705:J1705)","v":0},null,null,null,null,null,null,null,null,null,null,null,null,null,null,null,null,null,null,null,null,null,null,null,null,null,null,null,null,129380,0]
["1302061","Decorticación de cuerdas vocales c/microscopio",0,null,null,null,null,{"$f":"SUM(I1708:J1708)","v":0},null,null,null,null,null,null,{"$f":"SUM(P1708:Q1708)","v":0},null,null,0,null,null,0,null,null,0,null,null,null,null,null,null,null,null,null,null,null,null,154290,0]
[1302104,"Cordectomía, sinequia y otras malformaciones, tratatamiento quirúrgico por endoscópica (incluye laser)",{"$f":"SUM(I1709:N1709)","v":0},null,null,null,null,{"$f":"SUM(I1709:J1709)","v":0},null,null,null,null,null,null,{"$f":"SUM(P1709:Q1709)","v":0},null,null,{"$f":"SUM(S1709:T1709)","v":0},null,null,{"$f":"SUM(V1709:W1709)","v":0},null,null,{"$f":"SUM(Y1709:Z1709)","v":0},null,null,null,null,null,null,null,null,null,null,null,null,258130,0]
["1302063","Tumor benigno de cuerdas vocales, trat. quirúrgico por vía endoscópica",0,null,null,null,null,0,null,null,null,null,null,null,null,null,null,null,null,null,null,null,null,null,null,null,null,null,null,null,null,null,null,null,null,null,128220,0]
["1302064","Cordectomía, resección de sinequia y otras malformaciones, trat. quirúrgico por vía externa ",0,null,null,null,null,0,null,null,null,null,null,null,{"$f":"SUM(P1713:Q1713)","v":0},null,null,{"$f":"SUM(S1713:T1713)","v":0},null,null,{"$f":"SUM(V1713:W1713)","v":0},null,null,{"$f":"SUM(Y1713:Z1713)","v":0},null,null,null,null,null,null,null,null,null,null,null,null,165620,0]
["1302106","Laringectomía parcial endoscópica con láser, incluye cordectomía ampliada (carcinoma supraglótico)",0,null,null,null,null,{"$f":"SUM(I1716:J1716)","v":0},null,null,null,null,null,null,{"$f":"SUM(P1716:Q1716)","v":0},null,null,{"$f":"SUM(S1716:T1716)","v":0},null,null,{"$f":"SUM(V1716:W1716)","v":0},null,null,{"$f":"SUM(Y1716:Z1716)","v":0},null,null,null,null,null,null,null,null,null,null,null,null,845270,{"$f":"+(I1716*AK1716)+(L1716*AK1716*0.5)","v":0}]
["1302067","Laringectomía total más faringectomía parcial",{"$f":"SUM(I1717:N1717)","v":0},null,null,null,null,{"$f":"SUM(I1717:J1717)","v":0},null,null,null,null,null,null,{"$f":"SUM(P1717:Q1717)","v":0},null,null,{"$f":"SUM(S1717:T1717)","v":0},null,null,{"$f":"SUM(V1717:W1717)","v":0},null,null,{"$f":"SUM(Y1717:Z1717)","v":0},null,null,null,null,null,null,null,null,null,null,null,null,476820,0]
["1302107","Laringoplastía por laringomalacia",0,null,null,null,null,0,null,null,null,null,null,null,0,null,null,0,null,null,0,null,null,0,null,null,null,null,null,null,null,null,null,null,null,null,218990,0]
["1302069","Laringocele, trat. quir.",0,null,null,null,null,0,null,null,null,null,null,null,0,null,null,0,null,null,0,null,null,0,null,null,null,null,null,null,null,null,null,null,null,null,159240,0]
["1302072","Traqueostomía (proc. aut.)",0,null,null,null,null,0,null,null,null,null,null,null,0,null,null,0,null,null,0,null,null,0,null,null,null,null,null,null,null,null,null,null,null,null,159240,0]
["1302073","Estenosis laringotraqueales y faríngeas, trat. quir. por vía endoscópica (incluye laser) ",{"$f":"SUM(I1724:N1724)","v":0},null,null,null,null,{"$f":"SUM(I1724:J1724)","v":0},null,null,null,null,null,null,null,null,null,null,null,null,null,null,null,null,null,null,null,null,null,null,null,null,null,null,null,null,93220,0]
["1302109","Inyección de cuerda vocal vía externa",0,null,null,null,null,0,null,null,null,null,null,null,0,null,null,0,null,null,0,null,null,0,null,null,null,null,null,null,null,null,null,null,null,null,164490,0,null," "]
[null,"TOTAL ",{"$f":"SUM(C1620:C1727)","v":0},0,0,0,0,0,0,0,0,0,0,0,0,0,0,0,0,0,0,0,0,0,0,0,0,0,0,0,0,0,0,0,0,0,null,{"$f":"SUM(AL1620:AL1727)","v":0}]
[null,"TOTAL",{"$f":"C1730","v":0},{"$f":"D1730","v":0},{"$f":"E1730","v":0},{"$f":"F1730","v":0},{"$f":"G1730","v":0},null,null,null,null,null,null,null,null,null,null,null,null,null,null,null,null,null,null,null,{"$f":"AA1730","v":0},0,0,0,0,0,0,0,0,0,null,0]
[null,"CIRUGIA DE CABEZA Y CUELLO"]
["1402003","Bocio intratorácico, trat. quir. por esternotomía",0,null,null,null,null,0,null,null,null,null,null,null,{"$f":"SUM(P1735:Q1735)","v":0},null,null,{"$f":"SUM(S1735:T1735)","v":0},null,null,{"$f":"SUM(V1735:W1735)","v":0},null,null,{"$f":"SUM(Y1735:Z1735)","v":0},null,null,null,null,null,null,null,null,null,null,null,null,391290,0]
["1402004","Extirpación de Tiroides lingual",0,null,null,null,null,0,null,null,null,null,null,null,0,null,null,0,null,null,0,null,null,0,null,null,null,null,null,null,null,null,null,null,null,null,365840,0]
["1402007","Autotransplante de paratiroides (operación asociada a algunas de las prestaciones de tiroides y paratiroides)",0,null,null,null,null,0,null,null,null,null,null,null,0,null,null,0,null,null,0,null,null,0,null,null,null,null,null,null,null,null,null,null,null,null,230230,0]
["1402008","Paratiroidectomía o exploración paratiroides con exploración de mediastino, abordaje transtorácico.",0,null,null,null,null,0,null,null,null,null,null,null,0,null,null,0,null,null,0,null,null,0,null,null,null,null,null,null,null,null,null,null,null,null,365840,0]
["1402011","Parotidectomía suprafacial con disección y preservación del nervio facial",0,null,null,null,null,0,null,null,null,null,null,null,0,null,null,0,null,null,0,null,null,0,null,null,null,null,null,null,null,null,null,null,null,null,175960,0]
["1402012","Parotidectomía total, con disección y preservación del nervio facial.",0,null,null,null,null,0,null,null,null,null,null,null,0,null,null,0,null,null,0,null,null,0,null,null,null,null,null,null,null,null,null,null,null,null,258350,0]
["1402014","Totalización de parotidectomía previa o parotidectomía del lóbulo profundo",0,null,null,null,null,0,null,null,null,null,null,null,0,null,null,0,null,null,0,null,null,0,null,null,null,null,null,null,null,null,null,null,null,null,299690,0]
["1402015","Extirpación submandibular ampliada (incluye piso de boca, arco mandibular, músculos y articulaciones)  ",0,null,null,null,null,0,null,null,null,null,null,null,0,null,null,0,null,null,0,null,null,0,null,null,null,null,null,null,null,null,null,null,null,null,515500,0]
["1402018","Extirpación sublingual ampliada (incluye piso de boca, arco mandibular, músculos, ganglios y articulaciones)   ",0,null,null,null,null,0,null,null,null,null,null,null,0,null,null,0,null,null,0,null,null,0,null,null,null,null,null,null,null,null,null,null,null,null,515500,0]
["1402019","Absceso parotídeo, sub-maxilar y/o cervical profundo, trat. quir.",0,null,null,null,null,0,null,null,null,null,null,null,null,null,null,null,null,null,null,null,null,null,null,null,null,null,null,null,null,null,null,null,null,null,143530,0]
["1402022","Extirpación de quiste o mucocele de glándula salival menor de labios",0,null,null,null,null,0,null,null,null,null,null,null,null,null,null,null,null,null,null,null,null,null,null,null,null,null,null,null,null,null,null,null,null,null,75580,0]
["1402023","Tratamiento quirúrgico Torticolis Congénita",0,null,null,null,null,0,null,null,null,null,null,null,0,null,null,0,null,null,0,null,null,0,null,null,null,null,null,null,null,null,null,null,null,null,169620,0]
["1402026","Biopsia quir., mucosa oronasofaríngea (proc. aut.)",0,null,null,null,null,0,null,null,null,null,null,null,null,null,null,null,null,null,null,null,null,null,null,null,null,null,null,null,null,null,null,null,null,null,24300,0]
["1402027","Biopsia quir., piel  y mucosa cara (proc. aut.)",0,null,null,null,null,0,null,null,null,null,null,null,null,null,null,null,null,null,null,null,null,null,null,null,null,null,null,null,null,null,null,null,null,null,29720,0]
["1402030","Tumor maligno de labio superior o inferior, resección total del labio y cirugía reparadora",0,null,null,null,null,0,null,null,null,null,null,null,0,null,null,0,null,null,0,null,null,0,null,null,null,null,null,null,null,null,null,null,null,null,203560,0]
["1402031","Tumor maligno de labio superior o inferior, resección parcial del labio y cirugía reparadora",0,null,null,null,null,0,null,null,null,null,null,null,0,null,null,0,null,null,0,null,null,0,null,null,null,null,null,null,null,null,null,null,null,null,175960,0]
["1402034","Extirpación ampliada de nariz incluyendo parte esqueleto facial (naso-etmoidiana)",0,null,null,null,null,0,null,null,null,null,null,null,0,null,null,0,null,null,0,null,null,0,null,null,null,null,null,null,null,null,null,null,null,null,250810,0]
["1402035","Exanteración orbitaria ampliada (incluye etmoides, hueso frontal, base de cráneo anterior y región máxilo-malar)",0,null,null,null,null,0,null,null,null,null,null,null,0,null,null,0,null,null,0,null,null,0,null,null,null,null,null,null,null,null,null,null,null,null,643370,0]
["1402038","Maxilectomía parcial (incluye paladar óseo; reparación con colgajo)",0,null,null,null,null,0,null,null,null,null,null,null,0,null,null,0,null,null,0,null,null,0,null,null,null,null,null,null,null,null,null,null,null,null,266320,0]
["1402039","Maxilectomía radical ampliada (incluye exanteración orbitaria y de fosa craneal anterior o media)",0,null,null,null,null,0,null,null,null,null,null,null,0,null,null,0,null,null,0,null,null,0,null,null,null,null,null,null,null,null,null,null,null,null,643370,0]
["1402041","Maxilectomía radical clásica (incluye exanteración orbitaria y reparación protésica)",0,null,null,null,null,0,null,null,null,null,null,null,0,null,null,0,null,null,0,null,null,0,null,null,null,null,null,null,null,null,null,null,null,null,524860,0]
["1402042","Glosectomía parcial, reparación primaria",0,null,null,null,null,0,null,null,null,null,null,null,0,null,null,0,null,null,0,null,null,0,null,null,null,null,null,null,null,null,null,null,null,null,143470,0]
["1402045","Mandibulectomía total",0,null,null,null,null,0,null,null,null,null,null,null,0,null,null,0,null,null,0,null,null,0,null,null,null,null,null,null,null,null,null,null,null,null,430810,0]
["1402046","Operación \"comando\" (incluye extirp. del tumor, hemimandibulectomía y disección ganglionar radical de cuello)",0,null,null,null,null,0,null,null,null,null,null,null,0,null,null,0,null,null,0,null,null,0,null,null,null,null,null,null,null,null,null,null,null,null,708230,0]
["1402050","Faringectomía parcial",0,null,null,null,null,0,null,null,null,null,null,null,0,null,null,0,null,null,0,null,null,0,null,null,null,null,null,null,null,null,null,null,null,null,175960,0]
["1402051","Genioplastía",0,null,null,null,null,0,null,null,null,null,null,null,0,null,null,0,null,null,0,null,null,0,null,null,null,null,null,null,null,null,null,null,null,null,169620,0]
["1402054","Reducción cerrada de fracturas maxilofaciales",0,null,null,null,null,0,null,null,null,null,null,null,null,null,null,null,null,null,null,null,null,null,null,null,null,null,null,null,null,null,null,null,null,null,75520,0]
["1402055","Reducción abierta de fracturas maxilofaciales y estabilización con elementos de osteosíntesis",0,null,null,null,null,0,null,null,null,null,null,null,0,null,null,0,null,null,0,null,null,0,null,null,null,null,null,null,null,null,null,null,null,null,187280,0]
["1402058","Reconstrucciones de partes duras y blandas de la cara, mediante abordajes múltiples y hemicoronal o coronal",0,null,null,null,null,0,null,null,null,null,null,null,0,null,null,0,null,null,0,null,null,0,null,null,null,null,null,null,null,null,null,null,null,null,329370,0]
["1402059","Remoción de arcos dentarios o ligaduras de alambre ",0,null,null,null,null,0,null,null,null,null,null,null,null,null,null,null,null,null,null,null,null,null,null,null,null,null,null,null,null,null,null,null,null,null,52620,0]
[null,"CIRUGIA PLASTICA Y REPARADORA     "]
[null,"CIRUGIA PLASTICA Y REPARADORA                               "]
["1502003","Implante de silicona facial (cualquier zona o zonas)",{"$f":"SUM(I1797:N1797)","v":0},null,null,null,null,0,null,null,null,null,null,null,null,null,null,null,null,null,null,null,null,null,null,null,null,null,null,null,null,null,null,null,null,null,97760,0]
["1502004","Resección plástica de hasta 2 cicatrices (cualquier localización o tamaño)",0,null,null,null,null,0,null,null,null,null,null,null,null,null,null,null,null,null,null,null,null,null,null,null,null,null,null,null,null,null,null,null,null,null,117400,0]
["1502006","Injertos  hasta 1% superficie corporal receptora",0,null,null,null,null,0,null,null,null,null,null,null,null,null,null,null,null,null,null,null,null,null,null,null,null,null,null,null,null,null,null,null,null,null,36190,0]
["1502007","Injertos  hasta 5% superficie corporal receptora",0,null,null,null,null,0,null,null,null,null,null,null,null,null,null,null,null,null,null,null,null,null,null,null,null,null,null,null,null,null,null,null,null,null,58660,0]
["1502010","Injertos 51% y más de superficie corporal receptora",0,null,null,null,null,0,null,null,null,null,null,null,0,null,null,0,null,null,0,null,null,0,null,null,null,null,null,null,null,null,null,null,null,null,398800,0]
["1502011","Piel total, cualquier tamaño (incluye tratamiento zona dadora y receptora)",0,null,null,null,null,0,null,null,null,null,null,null,0,null,null,0,null,null,0,null,null,0,null,null,null,null,null,null,null,null,null,null,null,null,178640,0]
["1502067","Toma de injerto de cuero cabelludo",0,null,null,null,null,0,null,null,null,null,null,null,null,null,null,null,null,null,null,null,null,null,null,null,null,null,null,null,null,null,null,null,null,null,134290,0]
["1502068","Expansor de piel (dos o más) primer tiempo",0,null,null,null,null,0,null,null,null,null,null,null,0,null,null,0,null,null,0,null,null,0,null,null,null,null,null,null,null,null,null,null,null,null,269550,0]
["1502071","Expansor de piel (único) segundo tiempo o retiro",0,null,null,null,null,0,null,null,null,null,null,null,0,null,null,0,null,null,0,null,null,0,null,null,null,null,null,null,null,null,null,null,null,null,247110,0]
["1502014","Plastías en Z, hasta 3",0,null,null,null,null,0,null,null,null,null,null,null,null,null,null,null,null,null,null,null,null,null,null,null,null,null,null,null,null,null,null,null,null,null,124830,0]
["1502017","Colgajos libres con microanastomosis (incluye toma del colgajo y las suturas neurovasculares)",0,null,null,null,null,0,null,null,null,null,null,null,0,null,null,0,null,null,0,null,null,0,null,null,null,null,null,null,null,null,null,null,null,null,564400,0]
["1502018","Colgajos musculares o musculocutáneos",0,null,null,null,null,0,null,null,null,null,null,null,0,null,null,0,null,null,0,null,null,0,null,null,null,null,null,null,null,null,null,null,null,null,290260,0]
["1502021","Colgajo simple único",0,null,null,null,null,0,null,null,null,null,null,null,0,null,null,0,null,null,0,null,null,0,null,null,null,null,null,null,null,null,null,null,null,null,121080,0]
["1502022","Parálisis facial, trasplantes musculares",0,null,null,null,null,0,null,null,null,null,null,null,0,null,null,0,null,null,0,null,null,0,null,null,null,null,null,null,null,null,null,null,null,null,239730,0]
["1502025","Orejas aladas o en asa, corrección plástica",0,null,null,null,null,0,null,null,null,null,null,null,null,null,null,null,null,null,null,null,null,null,null,null,null,null,null,null,null,null,null,null,null,null,151150,0]
["1502026","Lóbulo auricular partido, corrección plástica (proc. aut)",0,null,null,null,null,0,null,null,null,null,null,null,null,null,null,null,null,null,null,null,null,null,null,null,null,null,null,null,null,null,null,null,null,null,36190,0]
["1502028","Corrección nasal parcial (alares, alargamiento columela o similar)",0,null,null,null,null,0,null,null,null,null,null,null,0,null,null,0,null,null,0,null,null,0,null,null,null,null,null,null,null,null,null,null,null,null,159240,{"$f":"+(I1827*AK1827)+(L1827*AK1827*0.5)","v":0}]
["1502029","Blefaroplastia párpados inferiores, uni o bilateral",0,null,null,null,null,0,null,null,null,null,null,null,0,null,null,0,null,null,0,null,null,0,null,null,null,null,null,null,null,null,null,null,null,null,165620,0]
["1502032","Queiloplastía primaria, un lado (proc. quir. completo por cualquier técnica)",0,null,null,null,null,0,null,null,null,null,null,null,0,null,null,0,null,null,0,null,null,0,null,null,null,null,null,null,null,null,null,null,null,null,165620,0]
["1502033","Cierre de paladar duro y/o cierre de comunicación oro-nasal",0,null,null,null,null,0,null,null,null,null,null,null,0,null,null,0,null,null,0,null,null,0,null,null,null,null,null,null,null,null,null,null,null,null,165620,0]
["1502036","Cierre de macrostomía, unilateral",0,null,null,null,null,0,null,null,null,null,null,null,0,null,null,0,null,null,0,null,null,0,null,null,null,null,null,null,null,null,null,null,null,null,159240,0]
["1502037","Tratamiento quirúrgico de anomalías cráneo faciales",0,null,null,null,null,0,null,null,null,null,null,null,0,null,null,0,null,null,0,null,null,0,null,null,null,null,null,null,null,null,null,null,null,null,296330,0]
["1502040","Distoplasias orbitarias: movilización unilateral o vertical tiempo facial",0,null,null,null,null,0,null,null,null,null,null,null,0,null,null,0,null,null,0,null,null,0,null,null,null,null,null,null,null,null,null,null,null,null,550370,0]
["1502041","Expansión o reconstrucción de un micro-orbitismo",0,null,null,null,null,0,null,null,null,null,null,null,0,null,null,0,null,null,0,null,null,0,null,null,null,null,null,null,null,null,null,null,null,null,550370,0]
["1502044","Corrección telecanto",0,null,null,null,null,0,null,null,null,null,null,null,0,null,null,0,null,null,0,null,null,0,null,null,null,null,null,null,null,null,null,null,null,null,191530,0]
["1502045","Movilización orbitaria extracraneana",0,null,null,null,null,0,null,null,null,null,null,null,0,null,null,0,null,null,0,null,null,0,null,null,null,null,null,null,null,null,null,null,null,null,550370,0]
["1502048","Mamoplastía de aumento (unilateral)",0,null,null,null,null,0,null,null,null,null,null,null,0,null,null,0,null,null,0,null,null,0,null,null,null,null,null,null,null,null,null,null,null,null,169620,0]
["1502049","Mamoplastía de reducción",0,null,null,null,null,0,null,null,null,null,null,null,0,null,null,0,null,null,0,null,null,0,null,null,null,null,null,null,null,null,null,null,null,null,206240,0]
["1502052","Reconstrucción mamaria",0,null,null,null,null,0,null,null,null,null,null,null,0,null,null,0,null,null,0,null,null,0,null,null,null,null,null,null,null,null,null,null,null,null,242120,0]
["1502053","Abdominoplastia",0,null,null,null,null,0,null,null,null,null,null,null,0,null,null,0,null,null,0,null,null,0,null,null,null,null,null,null,null,null,null,null,null,null,235460,0]
["1502055","Tratamiento de escaras de decubito, con resección ósea y colgajos musculares o musculocutáneos",0,null,null,null,null,0,null,null,null,null,null,null,0,null,null,0,null,null,0,null,null,0,null,null,null,null,null,null,null,null,null,null,null,null,296330,0]
["1502056","Sindactilia, trat. quir. cada espacio con injerto",0,null,null,null,null,0,null,null,null,null,null,null,0,null,null,0,null,null,0,null,null,0,null,null,null,null,null,null,null,null,null,null,null,null,133100,0]
["1502059","Lipectomía glútea, unilateral",0,null,null,null,null,0,null,null,null,null,null,null,0,null,null,0,null,null,0,null,null,0,null,null,null,null,null,null,null,null,null,null,null,null,143470,0]
["1502060","Lipectomía trocantérea, unilateral",0,null,null,null,null,0,null,null,null,null,null,null,0,null,null,0,null,null,0,null,null,0,null,null,null,null,null,null,null,null,null,null,null,null,143470,{"$f":"+(I1859*AK1859)+(L1859*AK1859*0.5)","v":0}]
["1502063","Escarectomía hasta 1 % superficie corporal",0,null,null,null,null,0,null,null,null,null,null,null,null,null,null,null,null,null,null,null,null,null,null,null,null,null,null,null,null,null,null,null,null,null,51210,0]
["1502064","Escarectomía hasta 5 % superficie corporal",0,null,null,null,null,0,null,null,null,null,null,null,null,null,null,null,null,null,null,null,null,null,null,null,null,null,null,null,null,null,null,null,null,null,76710,0]
[null,"TOTAL",{"$f":"SUM(C1795:C1865)","v":0},null,null,null,null,{"$f":"SUM(H1795:H1865)","v":0},0,0,0,0,0,0,0,0,0,0,0,0,0,0,0,0,0,{"$f":"SUM(Z1795:Z1865)","v":0},0,0,0,0,0,0,0,0,0,0,null,{"$f":"SUM(AL1795:AL1865)","v":0}]
[null,"PROCEDIMIENTOS DERMATOLOGIA Y TEGUMENTOS"]
["1601112","Fototerapia UVB, UVA localizada, por sesión",0,0,null,null,null,null,null,null,null,null,null,null,null,null,null,null,null,null,null,null,null,null,null,null,null,null,null,null,null,null,null,null,null,null,4600,0]
["1601113","Fototerapia UVB, Banda Angosta y UVA por sesión en cabina",0,0,null,null,null,null,null,null,null,null,null,null,null,null,null,null,null,null,null,null,null,null,null,null,null,null,null,null,null,null,null,null,null,null,7680,0]
["1601117","Crioterapia 6 a 10 lesiones por sesión",0,0,null,null,null,null,null,null,null,null,null,null,null,null,null,null,null,null,null,null,null,null,null,null,null,null,null,null,null,null,null,null,null,null,23060,0]
["1601118","Tumor maligno por criocirugía (por cada lesión) por sesión",0,0,null,null,null,null,null,null,null,null,null,null,null,null,null,null,null,null,null,null,null,null,null,null,null,null,null,null,null,null,null,null,null,null,43860,0]
["1601121","Tratamiento abrasivo cutáneo químico por sesión",0,0,null,null,null,null,null,null,null,null,null,null,null,null,null,null,null,null,null,null,null,null,null,null,null,null,null,null,null,null,null,null,null,null,23060,0]
["1601122","Tricograma",0,0,null,null,null,null,null,null,null,null,null,null,null,null,null,null,null,null,null,null,null,null,null,null,null,null,null,null,null,null,null,null,null,null,15350,0]
["1601126","Dermatoscopía digital con registro gráfico o digital hasta 5 lesiones",0,0,null,null,null,null,null,null,null,null,null,null,null,null,null,null,null,null,null,null,null,null,null,null,null,null,null,null,null,null,null,null,null,null,15800,0,null," "]
[null,"TOTAL",{"$f":"SUM(C1868:C1882)","v":0},{"$f":"SUM(D1868:D1882)","v":0},{"$f":"SUM(E1868:E1882)","v":0},{"$f":"SUM(F1868:F1882)","v":0},{"$f":"SUM(G1868:G1882)","v":0},null,null,null,null,null,null,null,null,null,null,null,null,null,null,null,null,null,null,null,{"$f":"SUM(AA1868:AA1882)","v":0},{"$f":"SUM(AB1868:AB1882)","v":0},{"$f":"SUM(AC1868:AC1882)","v":0},0,0,0,0,0,0,0,null,0]
["1602201","Biopsia de piel y/o mucosa por curetaje o sección tangencial c/s electro por 1 lesión",{"$f":"SUM(I1885:N1885)","v":0},null,null,null,null,{"$f":"+I1885+J1885","v":0},null,null,null,null,null,null,null,null,null,null,null,null,null,null,null,null,null,null,null,null,null,null,null,null,null,null,null,null,39480,{"$f":"+(I1885*AK1885)+(L1885*AK1885*0.5)","v":0},null," "]
["1602202","Extirpacion de, reparacion o biopsia total o parcial, de lesiones benignas cutáneas por excision cabeza, cuello, genitales, hasta 3 lesiones                                                                  ",{"$f":"SUM(I1886:N1886)","v":0},null,null,null,null,0,null,null,null,null,null,null,null,null,null,null,null,null,null,null,null,null,null,null,null,null,null,null,null,null,null,null,null,null,69660,0]
["1602205","Extirpacion de, reparacion o biopsia total o parcial, de lesiones benignas cutáneas por excision resto de cuerpo desde 4 hasta 6 lesiones                                                             ",0,null,null,null,null,0,null,null,null,null,null,null,null,null,null,null,null,null,null,null,null,null,null,null,null,null,null,null,null,null,null,null,null,null,92900,0]
["1602206","Extirpacion de lesiones benignas por sec tangencial ,curetaje,y/o fulguracion hasta 15 lesiones   ",0,null,null,null,null,0,null,null,null,null,null,null,null,null,null,null,null,null,null,null,null,null,null,null,null,null,null,null,null,null,null,null,null,null,46450,0]
["1602212","Resto del cuerpo: tratamiento quirúrgico de tumor maligno por escisión total o parcial, con o sin sutura, por cada lesión",0,null,null,null,null,0,null,null,null,null,null,null,null,null,null,null,null,null,null,null,null,null,null,null,null,null,null,null,null,null,null,null,null,null,116120,0]
["1602213","Cabeza, cuello, genitales o melanoma cualquier ubicación: ampliación de márgenes quirúrgicos de tumor maligno extirpado previamente ",0,null,null,null,null,0,null,null,null,null,null,null,null,null,null,null,null,null,null,null,null,null,null,null,null,null,null,null,null,null,null,null,null,null,116120,0]
["1602216","Tumores Vasculares Profundos Resto del cuerpo",0,null,null,null,null,0,null,null,null,null,null,null,null,null,null,null,null,null,null,null,null,null,null,null,null,null,null,null,null,null,null,null,null,null,116120,0]
["1602221","Herida cortante o contusa complicada, reparación y sutura (más de 5 cm)",0,null,null,null,null,0,null,null,null,null,null,null,null,null,null,null,null,null,null,null,null,null,null,null,null,null,null,null,null,null,null,null,null,null,66300,0]
["1602224","Resto del cuerpo: extirpación de lesión benigna subepidérmica, incluye tumor sólido, quiste epidérmico y lipoma por lesión ",0,null,null,null,null,0,null,null,null,null,null,null,null,null,null,null,null,null,null,null,null,null,null,null,null,null,null,null,null,null,null,null,null,null,72560,0]
["1602225","Vaciamiento y curetaje quirúrgico de lesiones quísticas o abscesos",0,null,null,null,null,0,null,null,null,null,null,null,null,null,null,null,null,null,null,null,null,null,null,null,null,null,null,null,null,null,null,null,null,null,46450,0]
["1602233","Corrección quirúrgica de defecto congénito o por tumor ungueal",0,null,null,null,null,0,null,null,null,null,null,null,null,null,null,null,null,null,null,null,null,null,null,null,null,null,null,null,null,null,null,null,null,null,92900,0]
["1602240","Curación por Médico, Quemadura o Similar  menor al 5% superficie corporal en pabellón",0,null,null,null,null,0,null,null,null,null,null,null,null,null,null,null,null,null,null,null,null,null,null,null,null,null,null,null,null,null,null,null,null,null,12890,0]
[null,"TOTAL",{"$f":"SUM(C1885:C1908)","v":0},null,null,null,null,{"$f":"SUM(H1885:H1908)","v":0},0,0,0,0,0,0,0,0,0,0,0,0,0,0,0,0,0,0,0,0,0,0,0,0,0,0,0,0,null,0]
[null,"PROC. DIAGNOSTICO Y TERAPEUTICO CARDIOLOGÍA                        "]
["1701003","Electrocardiograma de esfuerzo",{"$f":"SUM(D1912+G1912)","v":0},{"$f":"SUM(E1912:F1912)","v":0},null,null,null,null,null,null,null,null,null,null,null,null,null,null,null,null,null,null,null,null,null,null,null,null,null,null,null,null,null,null,null,null,17550,0]
["1701006","E.C.G. continuo (test Holter o similares, por ej. variabilidad de la frecuencia cardíaca y/o alta resolución del ST y/o depolarización tardía); 20 a 24 horas de registro",0,0,null,null,null,null,null,null,null,null,null,null,null,null,null,null,null,null,null,null,null,null,null,null,null,null,null,null,null,null,null,null,null,null,29760,0]
["1701008","Ecocardiograma bidimensional (incluye registro modo M, papel fotosensible y fotografía), en adultos o niños (proc. aut.)",0,0,null,null,null,null,null,null,null,null,null,null,null,null,null,null,null,null,null,null,null,null,null,null,null,null,null,null,null,null,null,null,null,null,35520,0]
["1701010","Sondeo cardíaco derecho c/s termodilución, en adultos o niños",0,0,null,null,null,null,null,null,null,null,null,null,null,null,null,null,null,null,null,null,null,null,null,null,null,null,null,null,null,null,null,null,null,null,274830,0]
["1701019","Cinecoronariografía derecha y/o izquierda (incluye sondeo cardíaco izquierdo  y ventriculografía izquierda)",0,0,null,null,null,null,null,null,null,null,null,null,null,null,null,null,null,null,null,null,null,null,null,null,null,null,null,null,null,null,null,null,null,null,327270,0]
["1701020","Ventriculografía derecha, en adultos o niños (incl. proc. rad., y sondeo cardíaco derecho)",0,0,null,null,null,null,null,null,null,null,null,null,null,null,null,null,null,null,null,null,null,null,null,null,null,null,null,null,null,null,null,null,null,null,334870,0]
["1701023","Arteriografía de extremidades, en adultos o niños (incluye proc. rad.)",0,0,null,null,null,null,null,null,null,null,null,null,null,null,null,null,null,null,null,null,null,null,null,null,null,null,null,null,null,null,null,null,null,null,361450,0]
["1701131","Angioplastía Intraluminal coronaria uno o múltiples vasos (incl. proc. rad; balón, rotablator, Stent o similar)",0,0,null,null,null,null,null,null,null,null,null,null,null,null,null,null,null,null,null,null,null,null,null,null,null,null,null,null,null,null,null,null,null,null,2345630,{"$f":"AK1925*E1925","v":0}]
["1701144","Angioplastía de arteria pulmonar o vena cava en niños (incluye proc. rad., balón, Stent o similar)",0,0,null,null,null,null,null,null,null,null,null,null,null,null,null,null,null,null,null,null,null,null,null,null,null,null,null,null,null,null,null,null,null,null,1485570,0]
["1701033","Biopsia endomiocárdica (proc. completo)",0,0,null,null,null,null,null,null,null,null,null,null,null,null,null,null,null,null,null,null,null,null,null,null,null,null,null,null,null,null,null,null,null,null,210220,0]
["1701141","Valvuloplastía mitral o tricúspide (incl. proc. radiológico,  incluye balón)",0,0,null,null,null,null,null,null,null,null,null,null,null,null,null,null,null,null,null,null,null,null,null,null,null,null,null,null,null,null,null,null,null,null,1440950,0]
["1701142","Valvuloplastía aórtica y/o pulmonar c/u (incl. proc. radiológico,  incluye balón)",0,0,null,null,null,null,null,null,null,null,null,null,null,null,null,null,null,null,null,null,null,null,null,null,null,null,null,null,null,null,null,null,null,null,1440950,0]
["1701056","Ecocardiograma Fetal ",0,0,null,null,null,null,null,null,null,null,null,null,null,null,null,null,null,null,null,null,null,null,null,null,null,null,null,null,null,null,null,null,null,null,55090,0]
["1701057","Ecocardiograma de estrés (incluye medicamento)",0,0,null,null,null,null,null,null,null,null,null,null,null,null,null,null,null,null,null,null,null,null,null,null,null,null,null,null,null,null,null,null,null,null,53520,0]
["1701059","Tilt test o prueba de inclinación",0,0,null,null,null,null,null,null,null,null,null,null,null,null,null,null,null,null,null,null,null,null,null,null,null,null,null,null,null,null,null,null,null,null,62830,0]
["1701009","Monitoreo de presión arterial continuo",0,0,null,null,null,null,null,null,null,null,null,null,null,null,null,null,null,null,null,null,null,null,null,null,null,null,null,null,null,null,null,null,null,null,20650,0]
["1701015","Doppler con ergometría (por sesión)",0,0,null,null,null,null,null,null,null,null,null,null,null,null,null,null,null,null,null,null,null,null,null,null,null,null,null,null,null,null,null,null,null,null,10120,0]
["1701016","Doppler simple de vasos periféricos (por sesión)",0,0,null,null,null,null,null,null,null,null,null,null,null,null,null,null,null,null,null,null,null,null,null,null,null,null,null,null,null,null,null,null,null,null,4080,0]
["1701030","Punción evacuadora de pericardio, c/s toma de muestra c/s inyección de medicamento",{"$f":"SUM(D1947+G1947)","v":0},{"$f":"SUM(E1947:F1947)","v":0},null,null,null,null,null,null,null,null,null,null,null,null,null,null,null,null,null,null,null,null,null,null,null,null,null,null,null,null,null,null,null,null,13610,0]
["1701034","Cardioversión",0,0,null,null,null,null,null,null,null,null,null,null,null,null,null,null,null,null,null,null,null,null,null,null,null,null,null,null,null,null,null,null,null,null,20370,0]
["1701039","Trombólisis arterial periférica",0,0,null,null,null,null,null,null,null,null,null,null,null,null,null,null,null,null,null,null,null,null,null,null,null,null,null,null,null,null,null,null,null,null,67940,0]
["1701040","Trombólisis intracoronaria",0,0,null,null,null,null,null,null,null,null,null,null,null,null,null,null,null,null,null,null,null,null,null,null,null,null,null,null,null,null,null,null,null,null,144820,0]
["1701051","Ablación con corriente continua o con radiofrecuencia de vías accesorias y otros",0,0,null,null,null,null,null,null,null,null,null,null,null,null,null,null,null,null,null,null,null,null,null,null,null,null,null,null,null,null,null,null,null,null,94070,0]
["1701060","Revisión (re-implante) electrodo desfibrilador automático transvenoso",0,0,null,null,null,null,null,null,null,null,null,null,null,null,null,null,null,null,null,null,null,null,null,null,null,null,null,null,null,null,null,null,null,null,199690,0]
["1701063","Arteriografía selectiva o superselectiva tronco celíaco en adultos o niños (incl. proc. rad.)",0,0,null,null,null,null,null,null,null,null,null,null,null,null,null,null,null,null,null,null,null,null,null,null,null,null,null,null,null,null,null,null,null,null,320520,0]
["1701064","Arteriografía selectiva o superselectiva arteria glútea en adultos o niños (incl. proc. rad.)",0,0,null,null,null,null,null,null,null,null,null,null,null,null,null,null,null,null,null,null,null,null,null,null,null,null,null,null,null,null,null,null,null,null,320520,0]
["1701067","Arteriografía selectiva o superselectiva mesentérica en adultos o niños (incl. proc. rad.)",0,0,null,null,null,null,null,null,null,null,null,null,null,null,null,null,null,null,null,null,null,null,null,null,null,null,null,null,null,null,null,null,null,null,320520,0]
["1701068","Arteriografía selectiva o superselectiva arteria lumbar en adultos o niños (incl. proc. rad.)",0,0,null,null,null,null,null,null,null,null,null,null,null,null,null,null,null,null,null,null,null,null,null,null,null,null,null,null,null,null,null,null,null,null,320520,0]
[null,"Total ARANCEL MAI",{"$f":"SUM(C1911:C1965)","v":0},{"$f":"SUM(D1911:D1965)","v":0},{"$f":"SUM(E1911:E1965)","v":0},{"$f":"SUM(F1911:F1965)","v":0},{"$f":"SUM(G1911:G1965)","v":0},null,null,null,null,null,null,null,null,null,null,null,null,null,null,null,null,null,null,null,{"$f":"SUM(AA1911:AA1965)","v":0},0,0,0,0,0,0,0,0,0,null,{"$f":"SUM(AL1911:AL1965)","v":0}]
["01011688","Cierre percutáneo del foramen oval con dispositivo ",{"$f":"SUM(D1967+G1967)","v":0},{"$f":"SUM(E1967:F1967)","v":0}]
["01011634","Reposición por desplazamiento electrodo",0,0]
["01011636","Extraccion endovascular de electrodos de dispositivos implantados (marcapasos, desfibriladores o resincronizadores)",0,0]
["01011650","Extracción de cuerpos extraños intravascular",0,0]
["01011651","Cierre percutáneo del foramen oval con dispositivo Amplatzer: FOP",0,0]
["01011654","Estudio de Puentes Coronarios",0,0]
["01011655","Angioplastia con stent en ramas pulmonares",0,0]
[null,"TOTAL ARANCEL MLE Y NO ARANCELADO",{"$f":"SUM(C1967:C1981)","v":0},{"$f":"SUM(D1967:D1981)","v":0},0,0,0,null,null,null,null,null,null,null,null,null,null,null,null,null,null,null,null,null,null,null,{"$f":"SUM(AA1967:AA1981)","v":0},{"$f":"SUM(AB1967:AB1981)","v":0},{"$f":"SUM(AC1967:AC1981)","v":0},{"$f":"SUM(AD1967:AD1981)","v":0},{"$f":"SUM(AE1967:AE1981)","v":0},{"$f":"SUM(AF1967:AF1981)","v":0},{"$f":"SUM(AG1967:AG1981)","v":0},{"$f":"SUM(AH1967:AH1981)","v":0},{"$f":"SUM(AI1967:AI1981)","v":0},{"$f":"SUM(AJ1967:AJ1981)","v":0}]
[null,"TOTAL PRODUCCION",{"$f":"SUM(C1966,C1982)","v":0},{"$f":"SUM(D1966,D1982)","v":0},{"$f":"SUM(E1966,E1982)","v":0},{"$f":"SUM(F1966,F1982)","v":0},{"$f":"SUM(G1966,G1982)","v":0},null,null,null,null,null,null,null,null,null,null,null,null,null,null,null,null,null,null,null,{"$f":"SUM(AA1966,AA1982)","v":0},0,0,0,0,0,0,0,0,0,null,0]
["1703002","Fístula arteriovenosa congénita o traumática, repar. quir.",{"$f":"SUM(I1986:N1986)","v":0},null,null,null,null,0,null,null,null,null,null,null,{"$f":"SUM(P1986:Q1986)","v":0},null,null,{"$f":"SUM(S1986:T1986)","v":0},null,null,{"$f":"SUM(V1986:W1986)","v":0},null,null,{"$f":"SUM(Y1986:Z1986)","v":0},null,null,null,null,null,null,null,null,null,null,null,null,302260,0]
["1703003","Fístula arteriovenosa (de Brescia o similar)",{"$f":"SUM(I1987:N1987)","v":0},null,null,null,null,0,null,null,null,null,null,null,{"$f":"SUM(P1987:Q1987)","v":0},null,null,{"$f":"SUM(S1987:T1987)","v":0},null,null,{"$f":"SUM(V1987:W1987)","v":0},null,null,{"$f":"SUM(Y1987:Z1987)","v":0},null,null,null,null,null,null,null,null,null,null,null,null,184050,0]
["1703007","Reparación quirúrgica de vasos arteriales y/o venosos periféricos c/s injerto (biológicos o sintéticos) aórtico-abdominal",0,null,null,null,null,0,null,null,null,null,null,null,0,null,null,0,null,null,0,null,null,0,null,null,null,null,null,null,null,null,null,null,null,null,673520,0]
["1703008","Reparación quirúrgica de vasos arteriales y/o venosos periféricos c/s injerto (biológicos o sintéticos) periféricos",0,null,null,null,null,0,null,null,null,null,null,null,0,null,null,0,null,null,0,null,null,0,null,null,null,null,null,null,null,null,null,null,null,null,320330,0]
["1703071","Aneurisma torácico con compromiso de arco aórtico tratamiento endovascular",0,null,null,null,null,0,null,null,null,null,null,null,0,null,null,0,null,null,0,null,null,0,null,null,null,null,null,null,null,null,null,null,null,null,1263780,0]
["1703010","Puente aorto-bifemoral; puentes de troncos supra-aórticos",0,null,null,null,null,0,null,null,null,null,null,null,0,null,null,0,null,null,0,null,null,0,null,null,null,null,null,null,null,null,null,null,null,null,585070,0]
["1703013","Puente aorto-ilíaco",0,null,null,null,null,0,null,null,null,null,null,null,0,null,null,0,null,null,0,null,null,0,null,null,null,null,null,null,null,null,null,null,null,null,565200,0]
["1703014","Endarterectomía carotídea, subclavia, vertebral, femoral, o similar  c/s injerto (proc. aut.)",0,null,null,null,null,0,null,null,null,null,null,null,0,null,null,0,null,null,0,null,null,0,null,null,null,null,null,null,null,null,null,null,null,null,476790,0]
["1703017","Puente fémoro-tibial o distales",0,null,null,null,null,0,null,null,null,null,null,null,0,null,null,0,null,null,0,null,null,0,null,null,null,null,null,null,null,null,null,null,null,null,476790,0]
["1703018","Puente fémoro-poplíteo",0,null,null,null,null,0,null,null,null,null,null,null,0,null,null,0,null,null,0,null,null,0,null,null,null,null,null,null,null,null,null,null,null,null,476790,0]
["1703064","Implante de prótesis para hemodiálisis",{"$f":"SUM(I2005:N2005)","v":0},null,null,null,null,{"$f":"+I2005+J2005","v":0},null,null,null,null,null,null,null,null,null,null,null,null,null,null,null,null,null,null,null,null,null,null,null,null,null,null,null,null,428810,0," "," "]
["1703065","Transposición basílica o similar",{"$f":"SUM(I2006:N2006)","v":0},null,null,null,null,{"$f":"+I2006+J2006","v":0},null,null,null,null,null,null,{"$f":"SUM(P2006:Q2006)","v":0},null,null,{"$f":"SUM(S2006:T2006)","v":0},null,null,{"$f":"SUM(V2006:W2006)","v":0},null,null,{"$f":"SUM(Y2006:Z2006)","v":0},null,null,null,null,null,null,null,null,null,null,null,null,894060,0," "," "]
["1703023","Denudación venosa (proc. aut.)",0,null,null,null,null,0,null,null,null,null,null,null,null,null,null,null,null,null,null,null,null,null,null,null,null,null,null,null,null,null,null,null,null,null,42110,0," "," "]
["1703024","Derivaciones venosas de extremidades puentes venosos",0,null,null,null,null,0,null,null,null,null,null,null,0,null,null,0,null,null,0,null,null,0,null,null,null,null,null,null,null,null,null,null,null,null,347820,0," "," "]
["1703027","Ligadura otros troncos venosos (poplíteo, femoral, ilíacas, humeral, axilar, otros); ligadura de venas comunicantes y/o perforantes, y/o resección de paquetes varicosos, cualquier técnica (una extremidad); c/u",0,null,null,null,null,0,null,null,null,null,null,null,0,null,null,0,null,null,0,null,null,0,null,null,null,null,null,null,null,null,null,null,null,null,176430,0," "]
["1703028","Ligadura vena cava inferior",0,null,null,null,null,0,null,null,null,null,null,null,0,null,null,0,null,null,0,null,null,0,null,null,null,null,null,null,null,null,null,null,null,null,324210,0," "]
["1703031","Trombectomía de venas profundas",0,null,null,null,null,0,null,null,null,null,null,null,0,null,null,0,null,null,0,null,null,0,null,null,null,null,null,null,null,null,null,null,null,null,175960,0," "]
["1703066","Instalación de catéter venoso de larga duración tunelizado (incluye cateter)",{"$f":"SUM(I2018:N2018)","v":0},null,null,null,null,{"$f":"+I2018+J2018","v":0},null,null,null,null,null,null,{"$f":"SUM(P2018:Q2018)","v":0},null,null,{"$f":"SUM(S2018:T2018)","v":0},null,null,{"$f":"SUM(V2018:W2018)","v":0},null,null,{"$f":"SUM(Y2018:Z2018)","v":0},null,null,null,null,null,null,null,null,null,null,null,null,491350,0," "]
["1703033","Linfedema, trat. quir. una extremidad",0,null,null,null,null,0,null,null,null,null,null,null,0,null,null,0,null,null,0,null,null,0,null,null,null,null,null,null,null,null,null,null,null,null,326360,0," "]
["1703034","Drenaje quirúrgico adenitis",0,null,null,null,null,0,null,null,null,null,null,null,null,null,null,null,null,null,null,null,null,null,null,null,null,null,null,null,null,null,null,null,null,null,51210,0," "," "]
["1703037","Disección y extirpación ganglionar regional: cérvico-torácica",0,null,null,null,null,0,null,null,null,null,null,null,0,null,null,0,null,null,0,null,null,0,null,null,null,null,null,null,null,null,null,null,null,null,365840,0]
["1703038","Disección y extirpación ganglionar regional: ileoinguinal",0,null,null,null,null,0,null,null,null,null,null,null,0,null,null,0,null,null,0,null,null,0,null,null,null,null,null,null,null,null,null,null,null,null,410970,0,null," "]
["1703068","Resección ganglios mediastínicos por toracotomía",0,null,null,null,null,0,null,null,null,null,null,null,0,null,null,0,null,null,0,null,null,0,null,null,null,null,null,null,null,null,null,null,null,null,466300,0]
["1703069","Resección ganglios mediastínicos por vía videotoracoscopica",0,null,null,null,null,0,null,null,null,null,null,null,0,null,null,0,null,null,0,null,null,0,null,null,null,null,null,null,null,null,null,null,null,null,652820,0]
["1703042","Disección y extirpación ganglionar regional: poplíteos",0,null,null,null,null,0,null,null,null,null,null,null,0,null,null,0,null,null,0,null,null,0,null,null,null,null,null,null,null,null,null,null,null,null,228820,{"$f":"+(I2032*AK2032)+(L2032*AK2032*0.5)","v":0}]
["1703043","Vaciamiento (disección) radical cuello (v.r.c.) clásico ipsilateral",0,null,null,null,null,0,null,null,null,null,null,null,0,null,null,0,null,null,0,null,null,0,null,null,null,null,null,null,null,null,null,null,null,null,341020,0]
["1703046","Simpatectomía lumbar",0,null,null,null,null,0,null,null,null,null,null,null,0,null,null,0,null,null,0,null,null,0,null,null,null,null,null,null,null,null,null,null,null,null,317760,0]
["1703067","Simpatectomía cervico-torácica toracoscopia",{"$f":"SUM(I2037:N2037)","v":0},null,null,null,null,{"$f":"+I2037+J2037","v":0},null,null,null,null,null,null,{"$f":"SUM(P2037:Q2037)","v":0},null,null,{"$f":"SUM(S2037:T2037)","v":0},null,null,{"$f":"SUM(V2037:W2037)","v":0},null,null,{"$f":"SUM(Y2037:Z2037)","v":0},null,null,null,null,null,null,null,null,null,null,null,null,361500,0]
["1703148","Cambio de generador de marcapaso (incluye el valor de la prótesis)",0,null,null,null,null,0,null,null,null,null,null,null,0,null,null,0,null,null,0,null,null,0,null,null,null,null,null,null,null,null,null,null,null,null,1856590,0]
["1703049","Coartación aórtica infantil (preductal) trat. quir.",0,null,null,null,null,0,null,null,null,null,null,null,0,null,null,0,null,null,0,null,null,0,null,null,null,null,null,null,null,null,null,null,null,null,619350,0]
["1703052","Fístula coronaria, trat. quir.",0,null,null,null,null,0,null,null,null,null,null,null,0,null,null,0,null,null,0,null,null,0,null,null,null,null,null,null,null,null,null,null,null,null,550370,0]
["1703053","Implantación de marcapaso c/electrod. intraven. o epicárdico (no incluye el valor de la prótesis)",0,null,null,null,null,0,null,null,null,null,null,null,0,null,null,0,null,null,0,null,null,0,null,null,null,null,null,null,null,null,null,null,null,null,223760,0]
["1703054","Operación sobre anillos valvulares o vasculares",0,null,null,null,null,0,null,null,null,null,null,null,0,null,null,0,null,null,0,null,null,0,null,null,null,null,null,null,null,null,null,null,null,null,454150,0]
["1703055","Operaciones sobre arteria pulmonar, constricción por cinta",0,null,null,null,null,0,null,null,null,null,null,null,0,null,null,0,null,null,0,null,null,0,null,null,null,null,null,null,null,null,null,null,null,null,428690,0]
["1703058","Pericardiotomía",0,null,null,null,null,0,null,null,null,null,null,null,0,null,null,0,null,null,0,null,null,0,null,null,null,null,null,null,null,null,null,null,null,null,338430,0]
["1703072","Implante de desfribilador con resincronizador VVI (incluye dispositivo)",0,null,null,null,null,0,null,null,null,null,null,null,0,null,null,0,null,null,0,null,null,0,null,null,null,null,null,null,null,null,null,null,null,null,6951030,0]
["1703062","De complejidad mediana: incluye comunicación interventricular, reemplazo univalvular, uno o dos puentes aortocoronarios; aneurisma ventricular, corrección de Wolf-Parkinson White y otras arritmias",0,null,null,null,null,0,null,null,null,null,null,null,0,null,null,0,null,null,0,null,null,0,null,null,null,null,null,null,null,null,null,null,null,null,2560040,0]
["1703063","De complejidad Menor: incluye comunicación interauricular simple, estenosis pulmonar valvular, estenosis mitral o similar",0,null,null,null,null,{"$f":"+I2056+J2056","v":0},null,null,null,null,null,null,0,null,null,0,null,null,0,null,null,0,null,null,null,null,null,null,null,null,null,null,null,null,1574290,0]
["01011755","Instalación de ECMO Pediátrico (cirugía)",{"$f":"SUM(I2059:N2059)","v":0},null,null,null,null,{"$f":"+I2059+J2059","v":0},null,null,null,null,null,null,{"$f":"SUM(P2059:Q2059)","v":0},null,null,0,null,null,0,null,null,0]
["01011757","Implantación Resincronizador (No Incluye Electrodos)",{"$f":"SUM(I2060:N2060)","v":0},null,null,null,null,{"$f":"+I2060+J2060","v":0},null,null,null,null,null,null,{"$f":"SUM(P2060:Q2060)","v":0},null,null,0,null,null,0,null,null,0]
["01011762","Recambio Desfibrilador Cardiaco Bicameral",0,null,null,null,null,0,null,null,null,null,null,null,0,null,null,0,null,null,0,null,null,0]
["01011763","Reposicion electrodo Auricular ",0,null,null,null,null,0,null,null,null,null,null,null,0,null,null,0,null,null,0,null,null,0]
[null," TOTAL ARANCEL MLE Y NO ARANCELADO ",{"$f":"SUM(C2058:C2065)","v":0},null,null,null,null,{"$f":"SUM(H2058:H2065)","v":0},0,0,0,0,0,0,0,0,0,0,0,0,0,0,0,0,0,0,0,0,0,0,0,0,0,0,0,0]
[null," TOTAL PRODUCCION ",{"$f":"SUM(C2057+C2067)","v":0},null,null,null,null,{"$f":"SUM(H2057+H2067)","v":0},0,0,0,0,0,0,0,0,0,0,0,0,0,0,0,0,0,0,0,0,0,0,0,0,0,0,0,0,null,{"$f":"SUM(AL2057+AL2067)","v":0}]
["1704079","Cirugía del opérculo torácico por vía videotoracoscopica",0,null,null,null,null,0,null,null,null,null,null,null,0,null,null,0,null,null,0,null,null,0,null,null,null,null,null,null,null,null,null,null,null,null,447660,0]
["1704002","Cirugía tórax abierto traumático y/o fijación tórax volante, osteosíntesis costales múltiples y de esternón (no incluye el valor de la prótesis)",0,null,null,null,null,0,null,null,null,null,null,null,0,null,null,0,null,null,0,null,null,0,null,null,null,null,null,null,null,null,null,null,null,null,439450,0]
["1704005","Resección de costillas y/o pared costal y/o cartílago y/o esternón s/plastía (proc. aut.)",0,null,null,null,null,0,null,null,null,null,null,null,0,null,null,0,null,null,0,null,null,0,null,null,null,null,null,null,null,null,null,null,null,null,220760,0]
["1704006","Resección de pared costal c/plastía (toracoplastía osteoplástica de York o similar)",0,null,null,null,null,0,null,null,null,null,null,null,0,null,null,0,null,null,0,null,null,0,null,null,null,null,null,null,null,null,null,null,null,null,268850,0]
["1704008","Toracofrenotomía exploradora",0,null,null,null,null,0,null,null,null,null,null,null,0,null,null,0,null,null,0,null,null,0,null,null,null,null,null,null,null,null,null,null,null,null,338430,0]
["1704009","Toracotomía exploradora, c/s biopsia, c/s debridación, c/s drenaje",0,null,null,null,null,0,null,null,null,null,null,null,0,null,null,0,null,null,0,null,null,0,null,null,null,null,null,null,null,null,null,null,null,null,281670,0]
["1704011","Mediastinotomía exploradora ant. o post. c/s biopsia proc. aut",0,null,null,null,null,0,null,null,null,null,null,null,0,null,null,0,null,null,0,null,null,0,null,null,null,null,null,null,null,null,null,null,null,null,214710,0]
["1704012","Drenaje quir. de mediastino, vía cervical",0,null,null,null,null,0,null,null,null,null,null,null,0,null,null,0,null,null,0,null,null,0,null,null,null,null,null,null,null,null,null,null,null,null,184050,0]
["1704015","Timectomía  vía torácica medioesternal",0,null,null,null,null,0,null,null,null,null,null,null,0,null,null,0,null,null,0,null,null,0,null,null,null,null,null,null,null,null,null,null,null,null,304980,0]
["1704016","Conducto torácico, ligadura quirúrgica",0,null,null,null,null,0,null,null,null,null,null,null,0,null,null,0,null,null,0,null,null,0,null,null,null,null,null,null,null,null,null,null,null,null,317750,0]
["1704065","Mediastinoscopía y/o videomediastinoscopía c/s biopsia",0,null,null,null,null,0,null,null,null,null,null,null,0,null,null,0,null,null,0,null,null,0,null,null,null,null,null,null,null,null,null,null,null,null,298170,0]
["1704066","Tumores o quistes de mediastino (anterior o posterior) tratamiento quirúrgico c/s disección ganglionar por videotoracoscopia",0,null,null,null,null,0,null,null,null,null,null,null,0,null,null,0,null,null,0,null,null,0,null,null,null,null,null,null,null,null,null,null,null,null,360390,0]
["1704082","Frenoparalisis tratatamiento quirúrgico laparoscópico",0,null,null,null,null,0,null,null,null,null,null,null,0,null,null,0,null,null,0,null,null,0,null,null,null,null,null,null,null,null,null,null,null,null,411340,0]
["1704083","Frenoparalisis tratamiento quirúrgico por vía videotoracoscopica",0,null,null,null,null,0,null,null,null,null,null,null,0,null,null,0,null,null,0,null,null,0,null,null,null,null,null,null,null,null,null,null,null,null,542970,0]
["1704084","Hernioplastía diafragmática por vía torácica c/s prótesis por vía videotoracoscopica ",0,null,null,null,null,0,null,null,null,null,null,null,0,null,null,0,null,null,0,null,null,0,null,null,null,null,null,null,null,null,null,null,null,null,463390,0]
["1704021","Hernioplastía diafragmática por vía torácica, sin prótesis",0,null,null,null,null,0,null,null,null,null,null,null,0,null,null,0,null,null,0,null,null,0,null,null,null,null,null,null,null,null,null,null,null,null,305720,0]
["1704068","Heridas traumáticas, trat. quir. por vía videotoracoscopia",{"$f":"SUM(I2102:N2102)","v":0},null,null,null,null,{"$f":"+I2102+J2102","v":0},null,null,null,null,null,null,{"$f":"SUM(P2102:Q2102)","v":0},null,null,{"$f":"SUM(S2102:T2102)","v":0},null,null,{"$f":"SUM(V2102:W2102)","v":0},null,null,{"$f":"SUM(Y2102:Z2102)","v":0},null,null,null,null,null,null,null,null,null,null,null,null,360720,{"$f":"+(I2102*AK2102)+(L2102*AK2102*0.5)","v":0}]
["1704069","Cirugía de tumores o malformaciones diafragmaticos por videotoracoscopia",{"$f":"SUM(I2103:N2103)","v":0},null,null,null,null,{"$f":"+I2103+J2103","v":0},null,null,null,null,null,null,{"$f":"SUM(P2103:Q2103)","v":0},null,null,{"$f":"SUM(S2103:T2103)","v":0},null,null,{"$f":"SUM(V2103:W2103)","v":0},null,null,{"$f":"SUM(Y2103:Z2103)","v":0},null,null,null,null,null,null,null,null,null,null,null,null,365460,0]
["1704024","Decorticación pleuropulmonar (pleurectomía parcial o total)",0,null,null,null,null,0,null,null,null,null,null,null,0,null,null,0,null,null,0,null,null,0,null,null,null,null,null,null,null,null,null,null,null,null,333820,0]
["1704025","Pleurodesis por pleurotomía",0,null,null,null,null,0,null,null,null,null,null,null,0,null,null,0,null,null,0,null,null,0,null,null,null,null,null,null,null,null,null,null,null,null,95300,0]
["1704027","Pleurotomía única o doble ",0,null,null,null,null,0,null,null,null,null,null,null,null,null,null,null,null,null,null,null,null,null,null,null,null,null,null,null,null,null,null,null,null,null,67060,0,null," "]
["1704028","Tratamiento resectivo de tumores pleurales",0,null,null,null,null,0,null,null,null,null,null,null,0,null,null,0,null,null,0,null,null,0,null,null,null,null,null,null,null,null,null,null,null,null,308370,0]
["1704088","Fibrinolisis pleural por pleurotomía",0,null,null,null,null,0,null,null,null,null,null,null,0,null,null,0,null,null,0,null,null,0,null,null,null,null,null,null,null,null,null,null,null,null,579820,0]
["1704070","Biopsia pleural por videotoracoscopia",{"$f":"SUM(I2114:N2114)","v":0},null,null,null,null,{"$f":"+I2114+J2114","v":0},null,null,null,null,null,null,{"$f":"SUM(P2114:Q2114)","v":0},null,null,{"$f":"SUM(S2114:T2114)","v":0},null,null,{"$f":"SUM(V2114:W2114)","v":0},null,null,{"$f":"SUM(Y2114:Z2114)","v":0},null,null,null,null,null,null,null,null,null,null,null,null,263610,0]
["1704029","Broncotomía o traqueobroncotomía exploradora o terapéutica por toracotomía (proc. aut.)",0,null,null,null,null,0,null,null,null,null,null,null,0,null,null,0,null,null,0,null,null,0,null,null,null,null,null,null,null,null,null,null,null,null,338430,0]
["1704030","Cirugía ruptura traqueobronquial o tratamiento quirúrgico fístula bronquial por esternotomía media",0,null,null,null,null,0,null,null,null,null,null,null,0,null,null,0,null,null,0,null,null,0,null,null,null,null,null,null,null,null,null,null,null,null,550370,0]
["1704033","Tumores traqueales, extirpación",0,null,null,null,null,0,null,null,null,null,null,null,0,null,null,0,null,null,0,null,null,0,null,null,null,null,null,null,null,null,null,null,null,null,540320,0]
["1704034","Absceso pulmonar, drenaje por toracotomía",0,null,null,null,null,0,null,null,null,null,null,null,0,null,null,0,null,null,0,null,null,0,null,null,null,null,null,null,null,null,null,null,null,null,302330,0]
["1704037","Cirugía de quiste hidatídico sin resección pulmonar",0,null,null,null,null,0,null,null,null,null,null,null,0,null,null,0,null,null,0,null,null,0,null,null,null,null,null,null,null,null,null,null,null,null,502230,0]
["1704038","Cuerpo extraño intrapulmonar, extirp. quir.",0,null,null,null,null,0,null,null,null,null,null,null,0,null,null,0,null,null,0,null,null,0,null,null,null,null,null,null,null,null,null,null,null,null,311690,0]
["1704040","Lobectomía o bilobectomía",0,null,null,null,null,0,null,null,null,null,null,null,0,null,null,0,null,null,0,null,null,0,null,null,null,null,null,null,null,null,null,null,null,null,502230,0]
["1704091","Lobectomía o bilobectomía por vía videotoracoscopica",0,null,null,null,null,0,null,null,null,null,null,null,0,null,null,0,null,null,0,null,null,0,null,null,null,null,null,null,null,null,null,null,null,null,966390,0]
["1704042","Metástasis unilateral pulmón",0,null,null,null,null,0,null,null,null,null,null,null,0,null,null,0,null,null,0,null,null,0,null,null,null,null,null,null,null,null,null,null,null,null,356450,0]
["1704043","Neumonectomía c/s resección de pared costal",0,null,null,null,null,0,null,null,null,null,null,null,0,null,null,0,null,null,0,null,null,0,null,null,null,null,null,null,null,null,null,null,null,null,586440,0]
["1704046","Resecciones segmentarias anatómicas de pulmón ",0,null,null,null,null,0,null,null,null,null,null,null,0,null,null,0,null,null,0,null,null,0,null,null,null,null,null,null,null,null,null,null,null,null,428690,0]
["1704093","Resecciones segmentarias anatómica por vía videotoracoscopica",0,null,null,null,null,0,null,null,null,null,null,null,0,null,null,0,null,null,0,null,null,0,null,null,null,null,null,null,null,null,null,null,null,null,865700,0]
["1704074","Cirugía de quiste hidatídico c/s resección pulmonar por vía videotoracoscopia",{"$f":"SUM(I2140:N2140)","v":0},null,null,null,null,{"$f":"+I2140+J2140","v":0},null,null,null,null,null,null,{"$f":"SUM(P2140:Q2140)","v":0},null,null,{"$f":"SUM(S2140:T2140)","v":0},null,null,{"$f":"SUM(V2140:W2140)","v":0},null,null,{"$f":"SUM(Y2140:Z2140)","v":0},null,null,null,null,null,null,null,null,null,null,null,null,334580,0]
["1704075","Metástasis unilateral, trat. quir. por videotoracoscopia",{"$f":"SUM(I2141:N2141)","v":0},null,null,null,null,{"$f":"+I2141+J2141","v":0},null,null,null,null,null,null,{"$f":"SUM(P2141:Q2141)","v":0},null,null,{"$f":"SUM(S2141:T2141)","v":0},null,null,{"$f":"SUM(V2141:W2141)","v":0},null,null,{"$f":"SUM(Y2141:Z2141)","v":0},null,null,null,null,null,null,null,null,null,null,null,null,374830,0]
["1704094","Extracción cuerpo extraño esofágico por vía videotoracoscopica",0,null,null,null,null,0,null,null,null,null,null,null,0,null,null,0,null,null,0,null,null,0,null,null,null,null,null,null,null,null,null,null,null,null,435060,0]
["1704049","Esofagostomía cervical (proc. aut.)",0,null,null,null,null,0,null,null,null,null,null,null,0,null,null,0,null,null,0,null,null,0,null,null,null,null,null,null,null,null,null,null,null,null,179520,0]
["1704095","Resección de tumor esofagico benignos por vía videotoracoscopica",0,null,null,null,null,0,null,null,null,null,null,null,0,null,null,0,null,null,0,null,null,0,null,null,null,null,null,null,null,null,null,null,null,null,435060,0]
["1704052","Divertículos esofágicos, trat. quir., vía cervical",0,null,null,null,null,0,null,null,null,null,null,null,0,null,null,0,null,null,0,null,null,0,null,null,null,null,null,null,null,null,null,null,null,null,211150,0]
["1704054","Achalasia, trat. quir.",0,null,null,null,null,0,null,null,null,null,null,null,0,null,null,0,null,null,0,null,null,0,null,null,null,null,null,null,null,null,null,null,null,null,341020,0]
["1704055","Atresia esofágica, trat. quir.",0,null,null,null,null,0,null,null,null,null,null,null,0,null,null,0,null,null,0,null,null,0,null,null,null,null,null,null,null,null,null,null,null,null,541180,0]
["1704058","Esofagogastrectomía proximal",0,null,null,null,null,0,null,null,null,null,null,null,0,null,null,0,null,null,0,null,null,0,null,null,null,null,null,null,null,null,null,null,null,null,595250,0]
["1704059","Prótesis o tubo endoesofágico, colocación de (proc. aut.)",0,null,null,null,null,0,null,null,null,null,null,null,0,null,null,0,null,null,0,null,null,0,null,null,null,null,null,null,null,null,null,null,null,null,259840,0]
["1704061","Sutura herida o perforación esófago cervical",0,null,null,null,null,0,null,null,null,null,null,null,0,null,null,0,null,null,0,null,null,0,null,null,null,null,null,null,null,null,null,null,null,null,395960,0]
["1704062","Sutura herida o perforación esófago torácico",0,null,null,null,null,0,null,null,null,null,null,null,0,null,null,0,null,null,0,null,null,0,null,null,null,null,null,null,null,null,null,null,null,null,502230,0]
["1704076","Atresia esofágica con fístula traqueoesofágica por toracoscopia",{"$f":"SUM(I2163:N2163)","v":0},null,null,null,null,{"$f":"+I2163+J2163","v":0},null,null,null,null,null,null,{"$f":"SUM(P2163:Q2163)","v":0},null,null,{"$f":"SUM(S2163:T2163)","v":0},null,null,{"$f":"SUM(V2163:W2163)","v":0},null,null,{"$f":"SUM(Y2163:Z2163)","v":0},null,null,null,null,null,null,null,null,null,null,null,null,703530,0]
["1704077","Atresia esofágica sin fístula traqueoesofágica por toracoscopia",0,null,null,null,null,{"$f":"+I2164+J2164","v":0},null,null,null,null,null,null,{"$f":"SUM(P2164:Q2164)","v":0},null,null,0,null,null,0,null,null,0,null,null,null,null,null,null,null,null,null,null,null,null,703530,0]
[null,"TOTAL ARANCEL MAI",{"$f":"SUM(C2070:C2166)","v":0},null,null,null,null,{"$f":"SUM(H2070:H2166)","v":0},{"$f":"SUM(I2070:I2166)","v":0},{"$f":"SUM(J2070:J2166)","v":0},0,0,0,0,0,0,0,0,0,0,0,0,0,0,{"$f":"SUM(Y2070:Y2166)","v":0},{"$f":"SUM(Z2070:Z2166)","v":0},{"$f":"SUM(AA2070:AA2166)","v":0},{"$f":"SUM(AB2070:AB2166)","v":0},0,{"$f":"SUM(AD2070:AD2166)","v":0},{"$f":"SUM(AE2070:AE2166)","v":0},{"$f":"SUM(AF2070:AF2166)","v":0},{"$f":"SUM(AG2070:AG2166)","v":0},{"$f":"SUM(AH2070:AH2166)","v":0},{"$f":"SUM(AI2070:AI2166)","v":0},{"$f":"SUM(AJ2070:AJ2166)","v":0},null,{"$f":"SUM(AL2070:AL2165)","v":0},null," "]
["01011830","Trasplante pulmón",{"$f":"SUM(I2168:N2168)","v":0},null,null,null,null,{"$f":"+I2168+J2168","v":0},null,null,null,null,null,null,{"$f":"SUM(P2168:Q2168)","v":0},null,null,{"$f":"SUM(S2168:T2168)","v":0},null,null,{"$f":"SUM(V2168:W2168)","v":0},null,null,{"$f":"SUM(Y2168:Z2168)","v":0},null,null,null,null,null,null,null,null,null,null,null,null,null,null,null," "]
[null,"PROCEDIMIENTOS DIAGNOSTICOS Y TERAPEUTICOS  DEL APARATO RESPIRATORIO"]
["1707001","Espirometría Basal ",{"$f":"SUM(D2172+G2172)","v":0},{"$f":"SUM(E2172:F2172)","v":0},null,null,null,null,null,null,null,null,null,null,null,null,null,null,null,null,null,null,null,null,null,null,null,null,null,null,null,null,null,null,null,null,6080,{"$f":"AK2172*E2172","v":0}," "," "]
["1707004","Provocación con ejercicio, test de",0,0,null,null,null,null,null,null,null,null,null,null,null,null,null,null,null,null,null,null,null,null,null,null,null,null,null,null,null,null,null,null,null,null,14900,0]
["1707005","Test de provocación con metacolina (pc20) (incluye espirometría basal y tratamiento de efectos adversos de la metacolina)",0,0,null,null,null,null,null,null,null,null,null,null,null,null,null,null,null,null,null,null,null,null,null,null,null,null,null,null,null,null,null,null,null,null,16180,0]
["1707007","Análisis de gas espirado",0,0,null,null,null,null,null,null,null,null,null,null,null,null,null,null,null,null,null,null,null,null,null,null,null,null,null,null,null,null,null,null,null,null,5720,0]
["1707008","Capacidad de difusión, estudio de",0,0,null,null,null,null,null,null,null,null,null,null,null,null,null,null,null,null,null,null,null,null,null,null,null,null,null,null,null,null,null,null,null,null,10120,0]
["1707011","Curva de relación flujo-volumen basal",0,0,null,null,null,null,null,null,null,null,null,null,null,null,null,null,null,null,null,null,null,null,null,null,null,null,null,null,null,null,null,null,null,null,8110,0]
["1707012","Distensibilidad pulmonar, (compliance), estudio de",0,0,null,null,null,null,null,null,null,null,null,null,null,null,null,null,null,null,null,null,null,null,null,null,null,null,null,null,null,null,null,null,null,null,12910,0]
["1707014","Medición de presión inspiratoria máxima (proc. aut.)",0,0,null,null,null,null,null,null,null,null,null,null,null,null,null,null,null,null,null,null,null,null,null,null,null,null,null,null,null,null,null,null,null,null,4200,0]
["1707015","Medición de presión trans-diafragmática",0,0,null,null,null,null,null,null,null,null,null,null,null,null,null,null,null,null,null,null,null,null,null,null,null,null,null,null,null,null,null,null,null,null,12940,0]
["1707018","Tiempo de tolerancia a la fatiga respiratoria",0,0,null,null,null,null,null,null,null,null,null,null,null,null,null,null,null,null,null,null,null,null,null,null,null,null,null,null,null,null,null,null,null,null,5720,0]
["1707019","Ventilación alveolar, estudio de (incluye ventilación minuto y alveolar, volumen del espacio muerto y cuociente resp.)",0,0,null,null,null,null,null,null,null,null,null,null,null,null,null,null,null,null,null,null,null,null,null,null,null,null,null,null,null,null,null,null,null,null,36470,0]
["1707059","Volúmenes pulmonares por pletismografía corporal. Estudio basal y post broncodilatador",0,0,null,null,null,null,null,null,null,null,null,null,null,null,null,null,null,null,null,null,null,null,null,null,null,null,null,null,null,null,null,null,null,null,41570,0]
["1707021","Laringotraqueobroncoscopía con fibroscopio",0,0,null,null,null,null,null,null,null,null,null,null,null,null,null,null,null,null,null,null,null,null,null,null,null,null,null,null,null,null,null,null,null,null,38580,0," "," "]
["1707027","Broncoaspiración, c/s lavado y/o colocación de medicamentos por sonda traqueobronquial (proc. aut.)",0,0,null,null,null,null,null,null,null,null,null,null,null,null,null,null,null,null,null,null,null,null,null,null,null,null,null,null,null,null,null,null,null,null,11850,0]
["1707029","Toracocentesis evacuadora, c/s toma de muestras c/s inyección de medicamentos  ",0,0,null,null,null,null,null,null,null,null,null,null,null,null,null,null,null,null,null,null,null,null,null,null,null,null,null,null,null,null,null,null,null,null,12910,0]
["1707062","Selle endoscópico de fístula bronco-pleural",0,0,null,null,null,null,null,null,null,null,null,null,null,null,null,null,null,null,null,null,null,null,null,null,null,null,null,null,null,null,null,null,null,null,1634240,0]
["1707025","Procedimiento para determinar gasometría arterial en reposo y ejercicio ",0,0,null,null,null,null,null,null,null,null,null,null,null,null,null,null,null,null,null,null,null,null,null,null,null,null,null,null,null,null,null,null,null,null,4310,0]
["1707055","Saturación de O2 en reposo y ejercicio y O2 100% (con oxímetro) ",0,0,null,null,null,null,null,null,null,null,null,null,null,null,null,null,null,null,null,null,null,null,null,null,null,null,null,null,null,null,null,null,null,null,3230,0]
["1707056","Endosonografía bronquial (EBUS)",0,0,null,null,null,null,null,null,null,null,null,null,null,null,null,null,null,null,null,null,null,null,null,null,null,null,null,null,null,null,null,null,null,null,1596630,0]
["01011629","Instalación drenaje Pleural",{"$f":"SUM(D2210+G2210)","v":0},{"$f":"SUM(E2210:F2210)","v":0},null,null,null,null,null,null,null,null,null,null,null,null,null,null,null,null,null,null,null,null,null,null,null,null,null,null,null,null,null,null,null,null,null,null," "," "]
[null,"TOTAL ARANCEL MLE Y NO ARANCELADO",{"$f":"SUM(C2210)","v":0},{"$f":"SUM(D2210)","v":0},{"$f":"SUM(E2210)","v":0},{"$f":"SUM(F2210)","v":0},{"$f":"SUM(G2210)","v":0},null,null,null,null,null,null,null,null,null,null,null,null,null,null,null,null,null,null,null,{"$f":"SUM(AA2210)","v":0},{"$f":"SUM(AB2210)","v":0},{"$f":"SUM(AC2210)","v":0},{"$f":"SUM(AD2210)","v":0},{"$f":"SUM(AE2210)","v":0},0,0,0,0,0,null,null,null," "]
[null,"PROCEDIMIENTOS GASTROENTEROLOGIA                          "]
["1801001","Gastroduodenoscopía (incluye esofagoscopía)",{"$f":"SUM(D2214+G2214)","v":0},{"$f":"SUM(E2214:F2214)","v":0},null,null,null,null,null,null,null,null,null,null,null,null,null,null,null,null,null,null,null,null,null,null,null,null,null,null,null,null,null,null,null,null,42980,{"$f":"AK2214*E2214","v":0},null," "]
["1801037","Ureasa, test de (para Helicobacter pylori) o similar",{"$f":"SUM(D2217+G2217)","v":0},{"$f":"SUM(E2217:F2217)","v":0},null,null,null,null,null,null,null,null,null,null,null,null,null,null,null,null,null,null,null,null,null,null,null,null,null,null,null,null,null,null,null,null,5510,0]
["1801002","Esofagoscopia",0,0,null,null,null,null,null,null,null,null,null,null,null,null,null,null,null,null,null,null,null,null,null,null,null,null,null,null,null,null,null,null,null,null,13240,0]
["1801007","Sigmoidoscopía y colonoscopía izquierda con tubo flexible (incluye ano-recto-sigmoidoscopía)",0,0,null,null,null,null,null,null,null,null,null,null,null,null,null,null,null,null,null,null,null,null,null,null,null,null,null,null,null,null,null,null,null,null,38480,0]
["1801008","Coledocoscopia intraoperatoria c/s extracción de cálculos",0,0,null,null,null,null,null,null,null,null,null,null,null,null,null,null,null,null,null,null,null,null,null,null,null,null,null,null,null,null,null,null,null,null,6740,0]
["1801011","Manometría esofágica convencional",0,0,null,null,null,null,null,null,null,null,null,null,null,null,null,null,null,null,null,null,null,null,null,null,null,null,null,null,null,null,null,null,null,null,19250,0]
["1801012","Reflujo ácido, test de (Grossman o similar) o Reflujo alcalino, test de",0,0,null,null,null,null,null,null,null,null,null,null,null,null,null,null,null,null,null,null,null,null,null,null,null,null,null,null,null,null,null,null,null,null,13270,0]
["1801018","Colangiopancreatografía retrógrada c/s papilotomía",0,0,null,null,null,null,null,null,null,null,null,null,null,null,null,null,null,null,null,null,null,null,null,null,null,null,null,null,null,null,null,null,null,null,56320,0]
["1801019","Drenaje de la vía biliar transhepática y/o percutáneo ",0,0,null,null,null,null,null,null,null,null,null,null,null,null,null,null,null,null,null,null,null,null,null,null,null,null,null,null,null,null,null,null,null,null,24940,0]
["1801023","Instalación endoscópica de sonda nasogástrica",0,0,null,null,null,null,null,null,null,null,null,null,null,null,null,null,null,null,null,null,null,null,null,null,null,null,null,null,null,null,null,null,null,null,2650,0]
["1801024","Instalación endoscópica de sonda enteral",0,0,null,null,null,null,null,null,null,null,null,null,null,null,null,null,null,null,null,null,null,null,null,null,null,null,null,null,null,null,null,null,null,null,2720,0]
["1801027","Instalación prótesis plástica (s) en vía biliar o pancreática",0,0,null,null,null,null,null,null,null,null,null,null,null,null,null,null,null,null,null,null,null,null,null,null,null,null,null,null,null,null,null,null,null,null,54330,0]
["1801028","Cuerpo extraño, extracción endoscópica",0,0,null,null,null,null,null,null,null,null,null,null,null,null,null,null,null,null,null,null,null,null,null,null,null,null,null,null,null,null,null,null,null,null,39650,0]
["1801030","Dilatación ano-rectal, por sesión",0,0,null,null,null,null,null,null,null,null,null,null,null,null,null,null,null,null,null,null,null,null,null,null,null,null,null,null,null,null,null,null,null,null,3380,0]
["1801031","Polipectomía o Mucosectomía endoscópica alta",0,0,null,null,null,null,null,null,null,null,null,null,null,null,null,null,null,null,null,null,null,null,null,null,null,null,null,null,null,null,null,null,null,null,44270,0]
["1801033","Inyectoterapia hemostática, Hemostasia mecánica, Hemostasia térmica, Ligadura elástica",0,0,null,null,null,null,null,null,null,null,null,null,null,null,null,null,null,null,null,null,null,null,null,null,null,null,null,null,null,null,null,null,null,null,59420,0]
["1801034","Extracción percutánea de cálculos biliares",0,0,null,null,null,null,null,null,null,null,null,null,null,null,null,null,null,null,null,null,null,null,null,null,null,null,null,null,null,null,null,null,null,null,16060,0]
["1801038","Punción evacuadora de absceso intraabdominales (hepático u otros), c/s toma de muestra, c/s inyección de medicamentos",0,0,null,null,null,null,null,null,null,null,null,null,null,null,null,null,null,null,null,null,null,null,null,null,null,null,null,null,null,null,null,null,null,null,20650,0]
["1801041","Punción de líquido ascítico, diagnóstica",0,0,null,null,null,null,null,null,null,null,null,null,null,null,null,null,null,null,null,null,null,null,null,null,null,null,null,null,null,null,null,null,null,null,18100,0]
["1801046","Hemorroidopexia grapada",0,0,null,null,null,null,null,null,null,null,null,null,null,null,null,null,null,null,null,null,null,null,null,null,null,null,null,null,null,null,null,null,null,null,174420,0]
["1801047","Ligadura hemorroidaria con doppler",0,0,null,null,null,null,null,null,null,null,null,null,null,null,null,null,null,null,null,null,null,null,null,null,null,null,null,null,null,null,null,null,null,null,161290,0]
["1801050","Endosonografía digestiva alta",0,0,null,null,null,null,null,null,null,null,null,null,null,null,null,null,null,null,null,null,null,null,null,null,null,null,null,null,null,null,null,null,null,null,77010,0]
["1801051","Endosonografía digestiva baja",0,0,null,null,null,null,null,null,null,null,null,null,null,null,null,null,null,null,null,null,null,null,null,null,null,null,null,null,null,null,null,null,null,null,96340,0]
["1801054","Endosonografía ano-rectal",0,0,null,null,null,null,null,null,null,null,null,null,null,null,null,null,null,null,null,null,null,null,null,null,null,null,null,null,null,null,null,null,null,null,89050,0]
["1801055","Septotomía endoscópica (divertículo de zenker y otros)",0,0,null,null,null,null,null,null,null,null,null,null,null,null,null,null,null,null,null,null,null,null,null,null,null,null,null,null,null,null,null,null,null,null,86260,0]
["1801058","Instalación de prótesis en vía biliar",0,0,null,null,null,null,null,null,null,null,null,null,null,null,null,null,null,null,null,null,null,null,null,null,null,null,null,null,null,null,null,null,null,null,48270,0]
["1801059","Test de hidrógeno en aire espirado ",0,0,null,null,null,null,null,null,null,null,null,null,null,null,null,null,null,null,null,null,null,null,null,null,null,null,null,null,null,null,null,null,null,null,41390,0]
[5099101,"Endosonografia compleja",0,0]
[5099102,"Endosonografia alta lineal",0,0]
[5099104,"Endosonografia con sonda radial",0,0]
[5099105,"Instalacion de sonda nasogastrica",0,0]
["01011880","Escleroterapia várices con cionocrilato",0,0]
["01011881","Hemostasia con endoclips",0,0]
["01011886","Dilatación de Estenosis Colonica",0,0]
["01011887","Dilatación Pilórica y/o Estenosis Duodenal",0,0]
[null,"CIRUGIA ABDOMINAL                                           "]
["1802001","Hernia diafragmática por vía abdominal o cualquiera otra hernia con uso de prótesis (no incluye el valor de la prótesis)",{"$f":"SUM(I2284:N2284)","v":0},null,null,null,null,{"$f":"+I2284+J2284","v":0},null,null,null,null,null,null,{"$f":"SUM(P2284:Q2284)","v":0},null,null,{"$f":"SUM(S2284:T2284)","v":0},null,null,{"$f":"SUM(V2284:W2284)","v":0},null,null,{"$f":"SUM(Y2284:Z2284)","v":0},null,null,null,null,null,null,null,null,null,null,null,null,304980,{"$f":"+(I2284*AK2284)+(L2284*AK2284*0.5)","v":0},null," "]
["1802003","Hernia inguinal, crural, umbilical, de la línea blanca o similares, recidivada o no, simple o estrangulada s/resección intest.c/u",0,null,null,null,null,0,null,null,null,null,null,null,0,null,null,0,null,null,0,null,null,0,null,null,null,null,null,null,null,null,null,null,null,null,197620,0]
["1802004","Laparotomía exploradora, c/s liberación de adherencias, c/s drenaje, c/s biopsias como proc. aut. o como resultado de una herida penetrante abdominal no complicada o de un hemoperitoneo postoperatorio o como tratamiento de una peritonitis (laparostomía contenida -máximo cuatro-, resuturas, etc.)",0,null,null,null,null,0,null,null,null,null,null,null,0,null,null,0,null,null,0,null,null,0,null,null,null,null,null,null,null,null,null,null,null,null,184050,0]
["1802013","Gastrosquisis",0,null,null,null,null,0,null,null,null,null,null,null,0,null,null,0,null,null,0,null,null,0,null,null,null,null,null,null,null,null,null,null,null,null,350820,0]
["1802007","Peritonitis difusa aguda, trat. quir. (proc. aut.) ",0,null,null,null,null,0,null,null,null,null,null,null,0,null,null,0,null,null,0,null,null,0,null,null,null,null,null,null,null,null,null,null,null,null,259840,0]
["1802010","Antrectomía y vagotomía troncular o selectiva (proc. aut.)",0,null,null,null,null,0,null,null,null,null,null,null,0,null,null,0,null,null,0,null,null,0,null,null,null,null,null,null,null,null,null,null,null,null,395960,0]
["1802011","Desgastrectomía y neoanastomosis, c/s vaguectomía",0,null,null,null,null,0,null,null,null,null,null,null,0,null,null,0,null,null,0,null,null,0,null,null,null,null,null,null,null,null,null,null,null,null,446680,0]
["1802149","By pass gástrico por cirugía abierta",0,null,null,null,null,0,null,null,null,null,null,null,0,null,null,0,null,null,0,null,null,0,null,null,null,null,null,null,null,null,null,null,null,null,2229590,0]
["1802150","By pass gástrico por laparoscopía",0,null,null,null,null,0,null,null,null,null,null,null,0,null,null,0,null,null,0,null,null,0,null,null,null,null,null,null,null,null,null,null,null,null,2898460,0]
["1802016","Piloroplastía (proc. aut.)",0,null,null,null,null,0,null,null,null,null,null,null,0,null,null,0,null,null,0,null,null,0,null,null,null,null,null,null,null,null,null,null,null,null,212070,0]
["1802017","Gastrectomía subtotal con disección ganglionar",0,null,null,null,null,0,null,null,null,null,null,null,0,null,null,0,null,null,0,null,null,0,null,null,null,null,null,null,null,null,null,null,null,null,432030,0]
["1802021","Gastrectomía sub-total proximal con esófago-gastro-anastomosis u otra derivación",0,null,null,null,null,0,null,null,null,null,null,null,0,null,null,0,null,null,0,null,null,0,null,null,null,null,null,null,null,null,null,null,null,null,550370,0]
["1802022","Gastrectomía total",0,null,null,null,null,0,null,null,null,null,null,null,0,null,null,0,null,null,0,null,null,0,null,null,null,null,null,null,null,null,null,null,null,null,550370,0]
["1802025","Vagotomía selectiva y superselectiva c/s dren. gástrico, c/s piloroplastía (proc. aut.)",0,null,null,null,null,0,null,null,null,null,null,null,0,null,null,0,null,null,0,null,null,0,null,null,null,null,null,null,null,null,null,null,null,null,310970,0]
["1802079","Gastrectomía total con ostomías proximal y distal",0,null,null,null,null,0,null,null,null,null,null,null,0,null,null,0,null,null,0,null,null,0,null,null,null,null,null,null,null,null,null,null,null,null,442110,0]
["1802084","Cirugía de la estenosis hipertrófica del píloro. Laparoscopia",{"$f":"SUM(I2314:N2314)","v":0},null,null,null,null,{"$f":"+I2314+J2314","v":0},null,null,null,null,null,null,{"$f":"SUM(P2314:Q2314)","v":0},null,null,{"$f":"SUM(S2314:T2314)","v":0},null,null,{"$f":"SUM(V2314:W2314)","v":0},null,null,{"$f":"SUM(Y2314:Z2314)","v":0},null,null,null,null,null,null,null,null,null,null,null,null,275690,0]
["1802085","Laparotomía exploradora, instalación de VAC (por procedimiento)",{"$f":"SUM(I2315:N2315)","v":0},null,null,null,null,{"$f":"+I2315+J2315","v":0},null,null,null,null,null,null,{"$f":"SUM(P2315:Q2315)","v":0},null,null,{"$f":"SUM(S2315:T2315)","v":0},null,null,{"$f":"SUM(V2315:W2315)","v":0},null,null,{"$f":"SUM(Y2315:Z2315)","v":0},null,null,null,null,null,null,null,null,null,null,null,null,296130,0]
["1802026","Drenaje de colecciones líquidas hepáticas",0,null,null,null,null,0,null,null,null,null,null,null,0,null,null,0,null,null,0,null,null,0,null,null,null,null,null,null,null,null,null,null,null,null,292960,0]
["1802027","Colangioenteroanastomosis intrahepática",0,null,null,null,null,0,null,null,null,null,null,null,0,null,null,0,null,null,0,null,null,0,null,null,null,null,null,null,null,null,null,null,null,null,585070,0]
["1802029","Colecistectomía y coledocostomía (sonda T y colangiografía postoperatoria) c/s colangiografía operatoria",0,null,null,null,null,0,null,null,null,null,null,null,0,null,null,0,null,null,0,null,null,0,null,null,null,null,null,null,null,null,null,null,null,null,347030,0]
["1802030","Colecistogastroanastomosis o colecistoenteroanastomosis",0,null,null,null,null,0,null,null,null,null,null,null,0,null,null,0,null,null,0,null,null,0,null,null,null,null,null,null,null,null,null,null,null,null,401200,0]
["1802032","Colédoco o hepatoenteroanastomosis",0,null,null,null,null,0,null,null,null,null,null,null,0,null,null,0,null,null,0,null,null,0,null,null,null,null,null,null,null,null,null,null,null,null,456090,0]
["1802033","Coledocostomía supraduodenal o hepaticostomía (proc. aut.)",0,null,null,null,null,0,null,null,null,null,null,null,0,null,null,0,null,null,0,null,null,0,null,null,null,null,null,null,null,null,null,null,null,null,295900,0]
["1802034","Colocación de válvula peritoneoyugular derivativa de ascitis",0,null,null,null,null,0,null,null,null,null,null,null,0,null,null,0,null,null,0,null,null,0,null,null,null,null,null,null,null,null,null,null,null,null,184050,0]
["1802035","Desconexión ácigoportal con transección esofágica",0,null,null,null,null,0,null,null,null,null,null,null,0,null,null,0,null,null,0,null,null,0,null,null,null,null,null,null,null,null,null,null,null,null,619350,0]
["1802038","Esfinteroplastía transduodenal, (proc. aut.)",0,null,null,null,null,0,null,null,null,null,null,null,0,null,null,0,null,null,0,null,null,0,null,null,null,null,null,null,null,null,null,null,null,null,395960,0]
["1802039","Hepatectomía segmentaria (proc. aut.)",0,null,null,null,null,0,null,null,null,null,null,null,0,null,null,0,null,null,0,null,null,0,null,null,null,null,null,null,null,null,null,null,null,null,476790,0]
["1802042","Quiste hidatídico, único o múltiple, y/o cistoyeyunoanastomosis, trat. quir.",0,null,null,null,null,0,null,null,null,null,null,null,0,null,null,0,null,null,0,null,null,0,null,null,null,null,null,null,null,null,null,null,null,null,347880,0]
["1802100","Trasplante hepático",0,null,null,null,null,0,null,null,null,null,null,null,0,null,null,0,null,null,0,null,null,0,null,null,null,null,null,null,null,null,null,null,null,null,1029590,0]
["1802043","Abscesos, quistes, pseudoquistes o similares de páncreas, trat. quir.",0,null,null,null,null,0,null,null,null,null,null,null,0,null,null,0,null,null,0,null,null,0,null,null,null,null,null,null,null,null,null,null,null,null,324210,0]
["1802044","Heridas, traumatismos de páncreas, trat.quir.",0,null,null,null,null,0,null,null,null,null,null,null,0,null,null,0,null,null,0,null,null,0,null,null,null,null,null,null,null,null,null,null,null,null,270630,0]
["1802047","Pancreatoduodenectomía",0,null,null,null,null,0,null,null,null,null,null,null,0,null,null,0,null,null,0,null,null,0,null,null,null,null,null,null,null,null,null,null,null,null,988670,0]
["1802048","Secuestrectomía en pancreatitis aguda",0,null,null,null,null,0,null,null,null,null,null,null,0,null,null,0,null,null,0,null,null,0,null,null,null,null,null,null,null,null,null,null,null,null,397340,0]
["1802091","Atresia o estenosis duodenal, páncreas anular, reparación quirúrgica laparoscopia",{"$f":"SUM(I2349:N2349)","v":0},null,null,null,null,{"$f":"+I2349+J2349","v":0},null,null,null,null,null,null,{"$f":"SUM(P2349:Q2349)","v":0},null,null,{"$f":"SUM(S2349:T2349)","v":0},null,null,{"$f":"SUM(V2349:W2349)","v":0},null,null,{"$f":"SUM(Y2349:Z2349)","v":0},null,null,null,null,null,null,null,null,null,null,null,null,320500,0]
["1802092","Esplenectomía por vía laparoscopia",{"$f":"SUM(I2350:N2350)","v":0},null,null,null,null,{"$f":"+I2350+J2350","v":0},null,null,null,null,null,null,{"$f":"SUM(P2350:Q2350)","v":0},null,null,{"$f":"SUM(S2350:T2350)","v":0},null,null,{"$f":"SUM(V2350:W2350)","v":0},null,null,{"$f":"SUM(Y2350:Z2350)","v":0},null,null,null,null,null,null,null,null,null,null,null,null,380850,0]
["1802050","Esplenectomía total o parcial (proc. aut.)",0,null,null,null,null,0,null,null,null,null,null,null,0,null,null,0,null,null,0,null,null,0,null,null,null,null,null,null,null,null,null,null,null,null,292960,0]
["1802051","Operación de etapificación (incluye esplenectomía, biopsias hepáticas, de ganglios abdominales y de cresta ilíaca)",0,null,null,null,null,0,null,null,null,null,null,null,0,null,null,0,null,null,0,null,null,0,null,null,null,null,null,null,null,null,null,null,null,null,407960,0]
["1802054","Cierre de colostomía (proc. aut.)",0,null,null,null,null,0,null,null,null,null,null,null,0,null,null,0,null,null,0,null,null,0,null,null,null,null,null,null,null,null,null,null,null,null,200050,0]
["1802055","Colostomía (proc. aut.)",0,null,null,null,null,0,null,null,null,null,null,null,0,null,null,0,null,null,0,null,null,0,null,null,null,null,null,null,null,null,null,null,null,null,212070,0]
["1802058","Entero-enteroanastomosis o enterocoloanastomosis (proc. aut.)",0,null,null,null,null,0,null,null,null,null,null,null,0,null,null,0,null,null,0,null,null,0,null,null,null,null,null,null,null,null,null,null,null,null,246540,0]
["1802059","Enterotomía o enterostomía (yeyunostomía u otra) (proc. aut.)",0,null,null,null,null,{"$f":"+I2361+J2361","v":0},null,null,null,null,null,null,0,null,null,0,null,null,0,null,null,0,null,null,null,null,null,null,null,null,null,null,null,null,175960,0]
["1802062","Persistencia conducto onfalomesentérico, trat. quir.",0,null,null,null,null,0,null,null,null,null,null,null,0,null,null,0,null,null,0,null,null,0,null,null,null,null,null,null,null,null,null,null,null,null,190440,0]
["1802063","Quiste uraco, trat. quir.",0,null,null,null,null,0,null,null,null,null,null,null,0,null,null,0,null,null,0,null,null,0,null,null,null,null,null,null,null,null,null,null,null,null,190440,0]
["1802067","Colectomía parcial o hemicolectomía",0,null,null,null,null,0,null,null,null,null,null,null,0,null,null,0,null,null,0,null,null,0,null,null,null,null,null,null,null,null,null,null,null,null,456090,0]
["1802068","Colectomía total abdominal",0,null,null,null,null,0,null,null,null,null,null,null,0,null,null,0,null,null,0,null,null,0,null,null,null,null,null,null,null,null,null,null,null,null,560970,0]
["1802071","Perforación y/o herida de intestino, única o múltiple, trat. quir. (proc. aut.)",0,null,null,null,null,0,null,null,null,null,null,null,0,null,null,0,null,null,0,null,null,0,null,null,null,null,null,null,null,null,null,null,null,null,230150,0]
["1802072","Quiste y/o tumor del mesenterio y/o epiplones, único y/o múltiple, trat. quir.",0,null,null,null,null,0,null,null,null,null,null,null,0,null,null,0,null,null,0,null,null,0,null,null,null,null,null,null,null,null,null,null,null,null,230150,0]
["1802082","Resección intestinal con ostomías proximal y distal",0,null,null,null,null,0,null,null,null,null,null,null,0,null,null,0,null,null,0,null,null,0,null,null,null,null,null,null,null,null,null,null,null,null,280890,0]
["1802075","Resección intestinal masiva por trombosis mesentérica u otra etiología",0,null,null,null,null,0,null,null,null,null,null,null,0,null,null,0,null,null,0,null,null,0,null,null,null,null,null,null,null,null,null,null,null,null,520060,0]
["1802077","Mal rotación intestinal, trat. quir.",0,null,null,null,null,0,null,null,null,null,null,null,0,null,null,0,null,null,0,null,null,0,null,null,null,null,null,null,null,null,null,null,null,null,292960,0]
["1802093","Cirugía de la enterocolitis neonatal con resección intestinal",0,null,null,null,null,0,null,null,null,null,null,null,0,null,null,0,null,null,0,null,null,0,null,null,null,null,null,null,null,null,null,null,null,null,311800,{"$f":"+(I2380*AK2380)+(L2380*AK2380*0.5)","v":0}]
["1802096","Cirugía de la enterocolitis neonatal con resección múltiple laparoscopia",0,null,null,null,null,0,null,null,null,null,null,null,0,null,null,0,null,null,0,null,null,0,null,null,null,null,null,null,null,null,null,null,null,null,506680,0]
["1802097","Cirugía de la enterocolitis neonatal sin resección intestinal",0,null,null,null,null,0,null,null,null,null,null,null,0,null,null,0,null,null,0,null,null,0,null,null,null,null,null,null,null,null,null,null,null,null,259840,0]
["1802106","Reconstitución de transito post enterocolitis neonatal con múltiples entero-entero anastomosis",0,null,null,null,null,0,null,null,null,null,null,null,0,null,null,0,null,null,0,null,null,0,null,null,null,null,null,null,null,null,null,null,null,null,547320,0]
["1802102","Atresia o estenosis yeyuno-ileal, reparación primaria abierta",0,null,null,null,null,0,null,null,null,null,null,null,0,null,null,0,null,null,0,null,null,0,null,null,null,null,null,null,null,null,null,null,null,null,295850,0]
["1802105","Atresia o estenosis yeyuno-ileal, resección y ostomías laparoscopia",0,null,null,null,null,0,null,null,null,null,null,null,0,null,null,0,null,null,0,null,null,0,null,null,null,null,null,null,null,null,null,null,null,null,384600,0,null," "]
[null,"Total ARANCEL MAI",{"$f":"SUM(C2284:C2391)","v":0},null,null,null,null,{"$f":"SUM(H2284:H2391)","v":0},{"$f":"SUM(I2284:I2391)","v":0},0,0,0,0,0,0,0,0,0,0,0,0,0,0,0,0,0,0,0,0,0,0,0,0,0,0,0,null,0]
[5099007,"Cirugía bariátrica con Balón Intragástrico",0,null,null,null,null,{"$f":"+I2395+J2395","v":0},null,null,null,null,null,null,0,null,null,0,null,null,0,null,null,0]
["01011983","Cierre de fistula de esófago-colon-gástrica  cirugía",0,null,null,null,null,{"$f":"+I2396+J2396","v":0},null,null,null,null,null,null,0,null,null,0,null,null,0,null,null,0,null,null,null,null,null,null,null,null,null,null,null,null,null,null,null," "]
[null,"CIRUGIA PROCTOLOGICA                                 "]
["1803001","Absceso ano rectal complejo, tratamiento quirúrgico",{"$f":"SUM(I2400:N2400)","v":0},null,null,null,null,{"$f":"+I2400+J2400","v":0},null,null,null,null,null,null,{"$f":"SUM(P2400:Q2400)","v":0},null,null,{"$f":"SUM(S2400:T2400)","v":0},null,null,{"$f":"SUM(V2400:W2400)","v":0},null,null,{"$f":"SUM(Y2400:Z2400)","v":0},null,null,null,null,null,null,null,null,null,null,null,null,159240,{"$f":"+(I2400*AK2400)+(L2400*AK2400*0.5)","v":0},null," "]
["1803004","Biopsia quirúrgica rectal (proc. aut.)",0,null,null,null,null,0,null,null,null,null,null,null,{"$f":"SUM(P2403:Q2403)","v":0},null,null,{"$f":"SUM(S2403:T2403)","v":0},null,null,{"$f":"SUM(V2403:W2403)","v":0},null,null,{"$f":"SUM(Y2403:Z2403)","v":0},null,null,null,null,null,null,null,null,null,null,null,null,48890,0,null," "]
["1803006","Cuerpo extraño rectal, extracción por vía abdominal",0,null,null,null,null,0,null,null,null,null,null,null,0,null,null,0,null,null,0,null,null,0,null,null,null,null,null,null,null,null,null,null,null,null,256830,0,null," "]
["1803008","Desgarros y heridas anorrectales con compromiso del esfínter",0,null,null,null,null,0,null,null,null,null,null,null,0,null,null,0,null,null,0,null,null,0,null,null,null,null,null,null,null,null,null,null,null,null,190040,0,null," "]
["1803009","Desgarros y heridas anorrectales sin compromiso del esfínter",0,null,null,null,null,0,null,null,null,null,null,null,0,null,null,0,null,null,0,null,null,0,null,null,null,null,null,null,null,null,null,null,null,null,123280,0]
["1803012","Estenosis rectal, plastía",0,null,null,null,null,0,null,null,null,null,null,null,0,null,null,0,null,null,0,null,null,0,null,null,null,null,null,null,null,null,null,null,null,null,157940,0]
["1803013","Fecaloma, trat. quir.",0,null,null,null,null,0,null,null,null,null,null,null,0,null,null,0,null,null,0,null,null,0,null,null,null,null,null,null,null,null,null,null,null,null,260210,0]
["1803016","Fístula anorrectal, trat.quir.de cualquier tipo",0,null,null,null,null,0,null,null,null,null,null,null,0,null,null,0,null,null,0,null,null,0,null,null,null,null,null,null,null,null,null,null,null,null,169620,0]
["1803017","Fisura anal, repar. quir.",0,null,null,null,null,0,null,null,null,null,null,null,0,null,null,0,null,null,0,null,null,0,null,null,null,null,null,null,null,null,null,null,null,null,84930,0]
["1803020","Imperforación anal, reconstitución tránsito por vía abdómino-perineal",0,null,null,null,null,0,null,null,null,null,null,null,0,null,null,0,null,null,0,null,null,0,null,null,null,null,null,null,null,null,null,null,null,null,317750,0]
["1803021","Imperforación anal, reconstitución tránsito por vía perineal",0,null,null,null,null,0,null,null,null,null,null,null,0,null,null,0,null,null,0,null,null,0,null,null,null,null,null,null,null,null,null,null,null,null,190440,0]
["1803025","Pólipo rectal, trat.quir. por vía abdominal",0,null,null,null,null,0,null,null,null,null,null,null,0,null,null,0,null,null,0,null,null,0,null,null,null,null,null,null,null,null,null,null,null,null,256830,0]
["1803026","Pólipo rectal, trat.quir. por vía anal",0,null,null,null,null,0,null,null,null,null,null,null,0,null,null,0,null,null,0,null,null,0,null,null,null,null,null,null,null,null,null,null,null,null,159240,0]
["1803029","Panproctocolectomía (2 equipos)",0,null,null,null,null,0,null,null,null,null,null,null,0,null,null,0,null,null,0,null,null,0,null,null,null,null,null,null,null,null,null,null,null,null,703570,0]
["1803030","Prurito anal, trat. quir. por denervación",0,null,null,null,null,0,null,null,null,null,null,null,0,null,null,0,null,null,0,null,null,0,null,null,null,null,null,null,null,null,null,null,null,null,89310,0]
["1803033","Resección abdómino-perineal de ano y recto ampliada (2 equipos) (incluye genitales femeninos)",0,null,null,null,null,0,null,null,null,null,null,null,0,null,null,0,null,null,0,null,null,0,null,null,null,null,null,null,null,null,null,null,null,null,583240,0]
["1803034","Resección anterior de recto",0,null,null,null,null,0,null,null,null,null,null,null,0,null,null,0,null,null,0,null,null,0,null,null,null,null,null,null,null,null,null,null,null,null,407960,0]
["1803038","Condilomas anales, trat. quir. ",0,null,null,null,null,0,null,null,null,null,null,null,0,null,null,0,null,null,0,null,null,0,null,null,null,null,null,null,null,null,null,null,null,null,132000,0]
["1803039","Cirugía de la cloaca, primer tiempo de derivación",0,null,null,null,null,0,null,null,null,null,null,null,0,null,null,0,null,null,0,null,null,0,null,null,null,null,null,null,null,null,null,null,null,null,136810,0]
["1803042","Cirugía reparadora en Enfermedad de Hirschsprung vía endoanal",0,null,null,null,null,0,null,null,null,null,null,null,0,null,null,0,null,null,0,null,null,0,null,null,null,null,null,null,null,null,null,null,null,null,384310,0,null," "]
[null,"TOTAL",{"$f":"SUM(C2400:C2437)","v":0},null,null,null,null,{"$f":"SUM(H2400:H2437)","v":0},0,0,0,0,0,0,0,0,0,0,0,0,0,0,0,0,0,0,0,0,0,0,0,0,0,0,0,0,null,0]
["1901002","Cistoscopía con o sin sondeo de uno o ambos uréteres, con o sin biopsia ",0,0,null,null,null,null,null,null,null,null,null,null,null,null,null,null,null,null,null,null,null,null,null,null,null,null,null,null,null,null,null,null,null,null,36460,0]
["1901003","Cistoscopia y/o uretrocistoscopia y/o uretroscopia (proc.aut.)",0,0,null,null,null,null,null,null,null,null,null,null,null,null,null,null,null,null,null,null,null,null,null,null,null,null,null,null,null,null,null,null,null,null,33240,0]
["1901006","Biopsia renal transparietal",0,0,null,null,null,null,null,null,null,null,null,null,null,null,null,null,null,null,null,null,null,null,null,null,null,null,null,null,null,null,null,null,null,null,12910,0]
["1901035","Biopsia estereotáxica digital de próstata",{"$f":"SUM(D2446+G2446)","v":0},{"$f":"SUM(E2446:F2446)","v":0},null,null,null,null,null,null,null,null,null,null,null,null,null,null,null,null,null,null,null,null,null,null,null,null,null,null,null,null,null,null,null,null,438800,0]
["1901010","Perfil uretral (proc.aut.)",0,0,null,null,null,null,null,null,null,null,null,null,null,null,null,null,null,null,null,null,null,null,null,null,null,null,null,null,null,null,null,null,null,null,17020,0]
["1901011","Uroflujometría (proc.aut.)",0,0,null,null,null,null,null,null,null,null,null,null,null,null,null,null,null,null,null,null,null,null,null,null,null,null,null,null,null,null,null,null,null,null,10990,0]
["1901013","Inyección de medio de contraste en cuerpo cavernoso",0,0,null,null,null,null,null,null,null,null,null,null,null,null,null,null,null,null,null,null,null,null,null,null,null,null,null,null,null,null,null,null,null,null,10730,0]
["1901015","Ureteropielografía ascendente (directa) por cateterismo ureteral uni o bilateral ",0,0,null,null,null,null,null,null,null,null,null,null,null,null,null,null,null,null,null,null,null,null,null,null,null,null,null,null,null,null,null,null,null,null,40730,0]
["1901019","Instilación vesical (incluye colocación de sonda) proc. aut.",0,0,null,null,null,null,null,null,null,null,null,null,null,null,null,null,null,null,null,null,null,null,null,null,null,null,null,null,null,null,null,null,null,null,7280,0]
[1901036,"Instilación vesical (incluye colocación de sonda y Micobacterium Bovis para instilación intravesical proc. aut.)",0,0,null,null,null,null,null,null,null,null,null,null,null,null,null,null,null,null,null,null,null,null,null,null,null,null,null,null,null,null,null,null,null,null,346270,0]
["1901022","Vaciamiento vesical por sonda uretral, (proc. aut.)",0,0,null,null,null,null,null,null,null,null,null,null,null,null,null,null,null,null,null,null,null,null,null,null,null,null,null,null,null,null,null,null,null,null,7700,0]
["1901034","Ureterostomía unilateral: vesical, cutáneo o intestinal por vía de abordaje laparoscopia ",0,0,null,null,null,null,null,null,null,null,null,null,null,null,null,null,null,null,null,null,null,null,null,null,null,null,null,null,null,null,null,null,null,null,480290,0]
[" 5099109 ","Instalacion de sonda vesical ",0,0]
["01012045","Extracción percutánea de calculos renales ",0,0]
[null,"UROLOGIA Y NEFROLOGIA   "]
[null,"DIALISIS                                                    "]
["1901025","Peritoneodiálisis por sesión (incluye insumos)",0,0,null,null,null,null,null,null,null,null,null,null,null,null,null,null,null,null,null,null,null,null,null,null,null,null,null,null,null,null,null,null,null,null,34310,0,null," "]
["1901026","Peritoneodiálisis continua en paciente crónico (adulto o niños) (tratamiento mensual)",0,0,null,null,null,null,null,null,null,null,null,null,null,null,null,null,null,null,null,null,null,null,null,null,null,null,null,null,null,null,null,null,null,null,1029930,0,null," "]
["1901028","Hemodiálisis con bicarbonato con insumos (por sesión)",0,0,null,null,null,null,null,null,null,null,null,null,null,null,null,null,null,null,null,null,null,null,null,null,null,null,null,null,null,null,null,null,null,null,64500,0,null," "]
["1901029","Hemodiálisis con bicarbonato con insumos (tratamiento mensual)",0,0,null,null,null,null,null,null,null,null,null,null,null,null,null,null,null,null,null,null,null,null,null,null,null,null,null,null,null,null,null,null,null,null,838450,0,null," "]
[1901033,"Revisión de catéter de peritoneodiálisis laparoscopia",{"$f":"SUM(D2480+G2480)","v":0},{"$f":"SUM(E2480:F2480)","v":0},null,null,null,null,null,null,null,null,null,null,null,null,null,null,null,null,null,null,null,null,null,null,null,null,null,null,null,null,null,null,null,null,318010,0,null," "]
[null,"TOTAL",{"$f":"SUM(C2470:C2480)","v":0},{"$f":"SUM(D2470:D2480)","v":0},{"$f":"SUM(E2470:E2480)","v":0},{"$f":"SUM(F2470:F2480)","v":0},{"$f":"SUM(G2470:G2480)","v":0},null,null,null,null,null,null,null,null,null,null,null,null,null,null,null,null,null,null,null,{"$f":"SUM(AA2470:AA2480)","v":0},{"$f":"SUM(AB2470:AB2480)","v":0},{"$f":"SUM(AC2470:AC2480)","v":0},0,0,0,0,0,0,0,null,{"$f":"SUM(AL2470:AL2480)","v":0}]
["1902003","Auto o heterotrasplante riñón",{"$f":"SUM(I2484:N2484)","v":0},null,null,null,null,0,null,null,null,null,null,null,{"$f":"SUM(P2484:Q2484)","v":0},null,null,{"$f":"SUM(S2484:T2484)","v":0},null,null,{"$f":"SUM(V2484:W2484)","v":0},null,null,{"$f":"SUM(Y2484:Z2484)","v":0},null,null,null,null,null,null,null,null,null,null,null,null,805870,0]
["1902004","Cirugía de banco, (proc. completo) (micro-extracorpórea), autotrasplante",0,null,null,null,null,0,null,null,null,null,null,null,{"$f":"SUM(P2485:Q2485)","v":0},null,null,{"$f":"SUM(S2485:T2485)","v":0},null,null,{"$f":"SUM(V2485:W2485)","v":0},null,null,{"$f":"SUM(Y2485:Z2485)","v":0},null,null,null,null,null,null,null,null,null,null,null,null,784040,0]
["1902006","Litiasis renal o ureteral  por cirugía abierta o laparoscópica, por pielotomía o nefrotomía mínima o anatrófica.",0,null,null,null,null,0,null,null,null,null,null,null,0,null,null,0,null,null,0,null,null,0,null,null,null,null,null,null,null,null,null,null,null,null,371140,0]
["1902008","Lumbotomía exploradora c/s dren., c/s biopsia (proc. aut.)",0,null,null,null,null,0,null,null,null,null,null,null,0,null,null,0,null,null,0,null,null,0,null,null,null,null,null,null,null,null,null,null,null,null,239120,0]
["1902010","Nefrectomía radical por cáncer renal, traumatismo renal, vía abierta, laparoscópica o robótica, incluye disección ganglionar etapificadora o reductiva",0,null,null,null,null,0,null,null,null,null,null,null,0,null,null,0,null,null,0,null,null,0,null,null,null,null,null,null,null,null,null,null,null,null,586280,0]
["1902011","Nefrectomía por patología benigna o malformación o trasplante.",0,null,null,null,null,0,null,null,null,null,null,null,0,null,null,0,null,null,0,null,null,0,null,null,null,null,null,null,null,null,null,null,null,null,304980,0]
["1902015","Suprarrenalectomía unilateral",0,null,null,null,null,0,null,null,null,null,null,null,0,null,null,0,null,null,0,null,null,0,null,null,null,null,null,null,null,null,null,null,null,null,371140,0]
["1902016","Anastomosis de los uréteres",0,null,null,null,null,0,null,null,null,null,null,null,0,null,null,0,null,null,0,null,null,0,null,null,null,null,null,null,null,null,null,null,null,null,407960,0]
["1902019","Ureterectomía",0,null,null,null,null,0,null,null,null,null,null,null,0,null,null,0,null,null,0,null,null,0,null,null,null,null,null,null,null,null,null,null,null,null,353080,0]
["1902020","Urétero-litotomía abierta",0,null,null,null,null,0,null,null,null,null,null,null,0,null,null,0,null,null,0,null,null,0,null,null,null,null,null,null,null,null,null,null,null,null,266200,0]
["1902023","Ureterorrafia y/o ureterolisis c/u",0,null,null,null,null,0,null,null,null,null,null,null,0,null,null,0,null,null,0,null,null,0,null,null,null,null,null,null,null,null,null,null,null,null,292960,0]
["1902024","Ureterostomía bilateral: vesical, cutánea o intestinal",0,null,null,null,null,0,null,null,null,null,null,null,0,null,null,0,null,null,0,null,null,0,null,null,null,null,null,null,null,null,null,null,null,null,510240,0]
["1902028","Cistectomía radical, cualquier vía o técnica, incluye linfadenectomía ampliada.",0,null,null,null,null,0,null,null,null,null,null,null,0,null,null,0,null,null,0,null,null,0,null,null,null,null,null,null,null,null,null,null,null,null,767170,0]
["1902029","Cistoplastía, proc. completo",0,null,null,null,null,0,null,null,null,null,null,null,0,null,null,0,null,null,0,null,null,0,null,null,null,null,null,null,null,null,null,null,null,null,510240,0]
["1902031","Cistostomía, extracción de litiasis o cuerpo extraño, instalación de catéter suprapúbico, por vía abierta o endoscopica, c/s láser",0,null,null,null,null,0,null,null,null,null,null,null,0,null,null,0,null,null,0,null,null,0,null,null,null,null,null,null,null,null,null,null,null,null,190440,0]
["1902032","Extrofia vesical, proc. completo",0,null,null,null,null,0,null,null,null,null,null,null,0,null,null,0,null,null,0,null,null,0,null,null,null,null,null,null,null,null,null,null,null,null,371110,0]
["1902035","Ligadura de arterias hipogástricas (proc. aut.)",0,null,null,null,null,0,null,null,null,null,null,null,0,null,null,0,null,null,0,null,null,0,null,null,null,null,null,null,null,null,null,null,null,null,230150,{"$f":"+(I2515*AK2515)+(L2515*AK2515*0.5)","v":0}]
["1902036","Operación de Bricker",0,null,null,null,null,0,null,null,null,null,null,null,0,null,null,0,null,null,0,null,null,0,null,null,null,null,null,null,null,null,null,null,null,null,559810,0]
["1902038","Reservorio continente intestinal externo o interno",0,null,null,null,null,0,null,null,null,null,null,null,0,null,null,0,null,null,0,null,null,0,null,null,null,null,null,null,null,null,null,null,null,null,510240,0]
["1902092","Inyección ureteral o vesical de medicamentos o sustancias vía endoscópica (no incluye fármaco)",0,null,null,null,null,0,null,null,null,null,null,null,0,null,null,0,null,null,0,null,null,0,null,null,null,null,null,null,null,null,null,null,null,null,242120,0]
["1902043","Uretroplastía sin substitución - uretrorrafía",0,null,null,null,null,0,null,null,null,null,null,null,0,null,null,0,null,null,0,null,null,0,null,null,null,null,null,null,null,null,null,null,null,null,230150,0]
["1902044","Uretroplastía de substitución, cada tiempo",0,null,null,null,null,0,null,null,null,null,null,null,0,null,null,0,null,null,0,null,null,0,null,null,null,null,null,null,null,null,null,null,null,null,286890,0]
["1902049","Uretrectomía y /o plastía  abierta de uretra posterior por  trauma o, estenosis  o cualquier etiología",0,null,null,null,null,0,null,null,null,null,null,null,0,null,null,0,null,null,0,null,null,0,null,null,null,null,null,null,null,null,null,null,null,null,277870,0]
["1902050","Fistulectomía uretral",0,null,null,null,null,0,null,null,null,null,null,null,0,null,null,0,null,null,0,null,null,0,null,null,null,null,null,null,null,null,null,null,null,null,165620,0]
["1902053","Uretrotomía interna y/o uretrolitotomía (proc. aut.)",0,null,null,null,null,0,null,null,null,null,null,null,0,null,null,0,null,null,0,null,null,0,null,null,null,null,null,null,null,null,null,null,null,null,181230,0]
["1902054","Tratamiento quirúrgico de absceso prostático y/o vesículas seminales, cualquier vía o técnica",0,null,null,null,null,0,null,null,null,null,null,null,0,null,null,0,null,null,0,null,null,0,null,null,null,null,null,null,null,null,null,null,null,null,159240,0]
["1902057","Prostatectomía radical por cáncer prostático, vía abierta, laparoscópica o robótica, incluye linfadenectomía si corresponde",0,null,null,null,null,0,null,null,null,null,null,null,0,null,null,0,null,null,0,null,null,0,null,null,null,null,null,null,null,null,null,null,null,null,586280,0]
["1902059","Biopsia quirúrgica de testículo y/o aspiración epididimaria.",0,null,null,null,null,0,null,null,null,null,null,null,0,null,null,0,null,null,0,null,null,0,null,null,null,null,null,null,null,null,null,null,null,null,159240,0]
["1902062","Escroto, plastía de, proc. completo",0,null,null,null,null,0,null,null,null,null,null,null,0,null,null,0,null,null,0,null,null,0,null,null,null,null,null,null,null,null,null,null,null,null,169620,0]
["1902063","Hidatidectomía unilat. c/s eversión de la vaginal (proc. aut.)",0,null,null,null,null,0,null,null,null,null,null,null,0,null,null,0,null,null,0,null,null,0,null,null,null,null,null,null,null,null,null,null,null,null,159240,0]
["1902066","Orquidopexia unilateral",0,null,null,null,null,0,null,null,null,null,null,null,0,null,null,0,null,null,0,null,null,0,null,null,null,null,null,null,null,null,null,null,null,null,159240,0]
["1902067","Prótesis testicular, (proc. aut.)",0,null,null,null,null,0,null,null,null,null,null,null,0,null,null,0,null,null,0,null,null,0,null,null,null,null,null,null,null,null,null,null,null,null,159240,0]
["1902069","Disección ganglionar lumboaórtica por cáncer testicular, cualquier vía o técnica, uni o bilateral o modificada.",0,null,null,null,null,{"$f":"+I2545+J2545","v":0},null,null,null,null,null,null,0,null,null,0,null,null,0,null,null,0,null,null,null,null,null,null,null,null,null,null,null,null,550370,0]
["1902070","Anastomosis deferentes o epidídimo-deferencial",{"$f":"SUM(I2546:N2546)","v":0},null,null,null,null,0,null,null,null,null,null,null,0,null,null,0,null,null,0,null,null,0,null,null,null,null,null,null,null,null,null,null,null,null,254200,0]
["1902073","Quistes del cordón, y/o epidídimo, extirpación; epididimotomía diagnóstica y/o terapéutica (proc. aut.)",0,null,null,null,null,0,null,null,null,null,null,null,0,null,null,0,null,null,0,null,null,0,null,null,null,null,null,null,null,null,null,null,null,null,159240,0]
["1902074","Exploración escroto agudo. Incluye hematocele por trauma, destorsión y fijación testículo, hidatidectomía  y eversión bilateral si corresponde ",0,null,null,null,null,0,null,null,null,null,null,null,0,null,null,0,null,null,0,null,null,0,null,null,null,null,null,null,null,null,null,null,null,null,165620,0]
["1902078","Amputación parcial del pene (proc. aut.)",0,null,null,null,null,0,null,null,null,null,null,null,0,null,null,0,null,null,0,null,null,0,null,null,null,null,null,null,null,null,null,null,null,null,197620,0]
["1902079","Amputación total del pene, proc. completo",0,null,null,null,null,0,null,null,null,null,null,null,0,null,null,0,null,null,0,null,null,0,null,null,null,null,null,null,null,null,null,null,null,null,322980,0]
["1902082","Circuncisión (incluye sección de frenillo, y/o de sinequias bálano-prepuciales, y/o incisión dorsal c/s meatotomía)",0,null,null,null,null,0,null,null,null,null,null,null,0,null,null,0,null,null,0,null,null,0,null,null,null,null,null,null,null,null,null,null,null,null,165620,0,null," "]
["1902083","Cirugía traumatismo peneano o curvaturas  adquiridas de la albugínea",0,null,null,null,null,0,null,null,null,null,null,null,0,null,null,0,null,null,0,null,null,0,null,null,null,null,null,null,null,null,null,null,null,null,175220,0,null," "]
[null,"TOTAL",{"$f":"SUM(C2483:C2560)","v":0},null,null,null,null,{"$f":"SUM(H2483:H2560)","v":0},0,0,0,0,0,0,0,0,0,0,0,0,0,0,0,0,0,0,0,0,0,0,0,0,0,0,0,0,null,0]
[null,"PROCEDIMIENTOS GINECOLOGIA Y OBSTETRICIA  "]
["2001006","Amniocentesis",0,0,null,null,null,null,null,null,null,null,null,null,null,null,null,null,null,null,null,null,null,null,null,null,null,null,null,null,null,null,null,null,null,null,11010,0," "," "]
["2001007","Culdocentesis (punción del Douglas)",0,0,null,null,null,null,null,null,null,null,null,null,null,null,null,null,null,null,null,null,null,null,null,null,null,null,null,null,null,null,null,null,null,null,22990,0," "," "]
["2001021","Cordocentesis",0,0,null,null,null,null,null,null,null,null,null,null,null,null,null,null,null,null,null,null,null,null,null,null,null,null,null,null,null,null,null,null,null,null,25730,0]
["2001012","Galactografía (a.c. 04-02-005)",0,0,null,null,null,null,null,null,null,null,null,null,null,null,null,null,null,null,null,null,null,null,null,null,null,null,null,null,null,null,null,null,null,null,11630,0]
["2001014","Biopsia endometrio, vulva, vagina, cuello, c/u (proc. aut.)",{"$f":"SUM(D2572+G2572)","v":0},{"$f":"SUM(E2572:F2572)","v":0},null,null,null,null,null,null,null,null,null,null,null,null,null,null,null,null,null,null,null,null,null,null,null,null,null,null,null,null,null,null,null,null,22780,{"$f":"AK2572*E2572","v":0}]
["2001015","Colocación o extracción de dispositivo intrauterino (no incluye el valor del dispositivo)",0,0,null,null,null,null,null,null,null,null,null,null,null,null,null,null,null,null,null,null,null,null,null,null,null,null,null,null,null,null,null,null,null,null,9460,0]
["2001022","Punción evacuadora de quistes mamarios, c/s toma de muestras, c/s inyección de medicamentos",0,0,null,null,null,null,null,null,null,null,null,null,null,null,null,null,null,null,null,null,null,null,null,null,null,null,null,null,null,null,null,null,null,null,10660,0]
["2001023","Biopsia estereotáxica digital de mama",0,0,null,null,null,null,null,null,null,null,null,null,null,null,null,null,null,null,null,null,null,null,null,null,null,null,null,null,null,null,null,null,null,null,541230,0]
[2003047,"Prueba de neuromodulación sacra básica: Evaluación periférica de raíces sacras",0,0,null,null,null,null,null,null,null,null,null,null,null,null,null,null,null,null,null,null,null,null,null,null,null,null,null,null,null,null,null,null,null,null,467140,0]
["2003048","Implante conjunto de neuroelectrodo sacro cuadripolar y generador de pulso implantable de neuromodulación sacra ",0,0,null,null,null,null,null,null,null,null,null,null,null,null,null,null,null,null,null,null,null,null,null,null,null,null,null,null,null,null,null,null,null,null,752020,0]
["2003051","Explante de neuroelectrodo sacro cuadripolar espiculado o revisión de bolsillo glúteo",0,0,null,null,null,null,null,null,null,null,null,null,null,null,null,null,null,null,null,null,null,null,null,null,null,null,null,null,null,null,null,null,null,null,752020,0]
[2004009,"Fototerapia a recién nacidos",0,0]
[5099045,"Insercion Implante Anticonceptivo",0,0]
[5099046,"Remocion Implante Anticonceptivo",{"$f":"SUM(D2589+G2589)","v":0},{"$f":"SUM(E2589:F2589)","v":0}]
[null,"TOTAL ARANCEL MLE Y NO ARANCELADO",{"$f":"SUM(C2587:C2591)","v":0},{"$f":"SUM(D2587:D2591)","v":0},{"$f":"SUM(E2587:E2591)","v":0},{"$f":"SUM(F2587:F2591)","v":0},{"$f":"SUM(G2587:G2591)","v":0},null,null,null,null,null,null,null,null,null,null,null,null,null,null,null,null,null,null,null,{"$f":"SUM(AA2587:AA2591)","v":0},{"$f":"SUM(AB2587:AB2591)","v":0},0,0,0,0,0,0,0,0]
[null,"TOTAL PRODUCCION",{"$f":"SUM(C2586+C2592)","v":0},{"$f":"SUM(D2586+D2592)","v":0},{"$f":"SUM(E2586+E2592)","v":0},{"$f":"SUM(F2586+F2592)","v":0},{"$f":"SUM(G2586+G2592)","v":0},null,null,null,null,null,null,null,null,null,null,null,null,null,null,null,null,null,null,null,{"$f":"SUM(AA2586+AA2592)","v":0},0,0,0,0,0,0,0,0,0,null,0]
["2002002","Mastectomía parcial (cuadrantectomía o similar) o total s/vaciamiento ganglionar",{"$f":"SUM(I2596:N2596)","v":0},null,null,null,null,{"$f":"+I2596+J2596","v":0},null,null,null,null,null,null,{"$f":"SUM(P2596:Q2596)","v":0},null,null,{"$f":"SUM(S2596:T2596)","v":0},null,null,{"$f":"SUM(V2596:W2596)","v":0},null,null,{"$f":"SUM(Y2596:Z2596)","v":0},null,null,null,null,null,null,null,null,null,null,null,null,227170,{"$f":"+(I2596*AK2596)+(L2596*AK2596*0.5)","v":0}," "," "]
["2002003","Mastectomía radical o tumorectomía c/vaciamiento ganglionar o mastectomía total c/vaciamiento ganglionar",{"$f":"SUM(I2597:N2597)","v":0},null,null,null,null,{"$f":"+I2597+J2597","v":0},null,null,null,null,null,null,{"$f":"SUM(P2597:Q2597)","v":0},null,null,{"$f":"SUM(S2597:T2597)","v":0},null,null,{"$f":"SUM(V2597:W2597)","v":0},null,null,{"$f":"SUM(Y2597:Z2597)","v":0},null,null,null,null,null,null,null,null,null,null,null,null,410540,{"$f":"+(I2597*AK2597)+(L2597*AK2597*0.5)","v":0}," "," , * Intervenciones Quirurgicas Mayores, Debe ser igual a total -"]
["2002006","Biopsia linfonodo centinela",{"$f":"SUM(I2599:N2599)","v":0},null,null,null,null,{"$f":"+I2599+J2599","v":0},null,null,null,null,null,null,{"$f":"SUM(P2599:Q2599)","v":0},null,null,{"$f":"SUM(S2599:T2599)","v":0},null,null,{"$f":"SUM(V2599:W2599)","v":0},null,null,{"$f":"SUM(Y2599:Z2599)","v":0},null,null,null,null,null,null,null,null,null,null,null,null,330760,{"$f":"+(I2599*AK2599)+(L2599*AK2599*0.5)","v":0}," "," , * Intervenciones Quirurgicas Mayores, Debe ser igual a total -"]
[null,"TOTAL",{"$f":"SUM(C2595:C2599)","v":0},null,null,null,null,{"$f":"SUM(H2595:H2599)","v":0},{"$f":"SUM(I2595:I2599)","v":0},{"$f":"SUM(J2595:J2599)","v":0},0,0,0,0,{"$f":"SUM(O2595:O2599)","v":0},0,0,0,0,0,0,0,0,0,0,0,0,0,0,0,0,0,0,0,0,0,null,0]
["2003042","Linfadenectomía pélvica bilateral laparoscopia ",0,null,null,null,null,{"$f":"+I2603+J2603","v":0},null,null,null,null,null,null,0,null,null,0,null,null,0,null,null,0,null,null,null,null,null,null,null,null,null,null,null,null,674370,0," "," "]
["2003044","Linfadenectomía pelvica bilateral abierta",0,null,null,null,null,{"$f":"+I2604+J2604","v":0},null,null,null,null,null,null,0,null,null,0,null,null,0,null,null,0,null,null,null,null,null,null,null,null,null,null,null,null,648070,0]
["2003046","Traquelectomía simple por vía vaginal",{"$f":"SUM(I2607:N2607)","v":0},null,null,null,null,{"$f":"+I2607+J2607","v":0},null,null,null,null,null,null,0,null,null,0,null,null,0,null,null,0,null,null,null,null,null,null,null,null,null,null,null,null,648070,0]
["2003001","Ooforectomía parcial o total, uni o bilateral (proc. aut.)",0,null,null,null,null,0,null,null,null,null,null,null,0,null,null,0,null,null,0,null,null,0,null,null,null,null,null,null,null,null,null,null,null,null,191770,0]
["2003004","Ligadura o sección uni o bilateral de las trompas (Madlener, Pomeroy, o similares) (proc. aut.)",0,null,null,null,null,0,null,null,null,null,null,null,0,null,null,{"$f":"SUM(S2611:T2611)","v":0},null,null,0,null,null,{"$f":"SUM(Y2611:Z2611)","v":0},null,null,null,null,null,null,null,null,null,null,null,null,184050,0]
["2003005","Salpingectomía uni o bilateral",0,null,null,null,null,0,null,null,null,null,null,null,0,null,null,0,null,null,{"$f":"SUM(V2612:W2612)","v":0},null,null,0,null,null,null,null,null,null,null,null,null,null,null,null,184050,0]
["2003008","Miomectomía",0,null,null,null,null,0,null,null,null,null,null,null,0,null,null,0,null,null,0,null,null,0,null,null,null,null,null,null,null,null,null,null,null,null,227910,0]
["2003041","Extracción de DIU incrustado, por vía abdominal",0,null,null,null,null,0,null,null,null,null,null,null,0,null,null,0,null,null,0,null,null,0,null,null,null,null,null,null,null,null,null,null,null,null,227910,0]
["2003011","Ligamento ancho: abscesos y/o hematomas y/o flegmones y/o quistomas y/o várices u otros, trat. quir. (proc. aut.)",0,null,null,null,null,0,null,null,null,null,null,null,0,null,null,0,null,null,0,null,null,0,null,null,null,null,null,null,null,null,null,null,null,null,262850,0]
["2003012","Conización y/o amputación del cuello uterino, diagnóstica y/o terapéutica  c/s biopsia",0,null,null,null,null,0,null,null,null,null,null,null,0,null,null,0,null,null,0,null,null,0,null,null,null,null,null,null,null,null,null,null,null,null,159240,0]
["2003015","Histerectomía radical con disección pelviana completa de territorios ganglionares, incluye ganglios lumboaórticos (operación de Wertheim o similares)",0,null,null,null,null,0,null,null,null,null,null,null,0,null,null,0,null,null,0,null,null,0,null,null,null,null,null,null,null,null,null,null,null,null,662660,0]
["2003016","Histerectomía total c/intervención incontinencia urinaria, cualquier técnica",0,null,null,null,null,0,null,null,null,null,null,null,0,null,null,0,null,null,0,null,null,0,null,null,null,null,null,null,null,null,null,null,null,null,521450,0]
["2003018","Plastía uterina (operación de Strassmann o similares)",0,null,null,null,null,0,null,null,null,null,null,null,0,null,null,0,null,null,0,null,null,0,null,null,null,null,null,null,null,null,null,null,null,null,256830,0]
["2003019","Polipectomía (uno o más) (proc. aut.)",{"$f":"SUM(I2627:N2627)","v":0},null,null,null,null,0,null,null,null,null,null,null,null,null,null,null,null,null,null,null,null,null,null,null,null,null,null,null,null,null,null,null,null,null,49630,0," "," "]
["2003040","Incompetencia cervical trat. quir.",0,null,null,null,null,0,null,null,null,null,null,null,0,null,null,0,null,null,0,null,null,0,null,null,null,null,null,null,null,null,null,null,null,null,137610,0," "," "]
["2003021","Colpoceliotomía",{"$f":"SUM(I2631:N2631)","v":0},null,null,null,null,0,null,null,null,null,null,null,0,null,null,0,null,null,0,null,null,0,null,null,null,null,null,null,null,null,null,null,null,null,84930,0," "," "]
["2003024","Prolapso anterior y/o posterior c/s trat. de incontinencia urinaria por vía vaginal, trat. quir.",0,null,null,null,null,0,null,null,null,null,null,null,0,null,null,0,null,null,0,null,null,0,null,null,null,null,null,null,null,null,null,null,null,null,212070,0," "," "]
["2003025","Quiste y/o desgarro y/o tabique vaginal, trat. quir.",0,null,null,null,null,0,null,null,null,null,null,null,0,null,null,0,null,null,0,null,null,0,null,null,null,null,null,null,null,null,null,null,null,null,84930,0," "," "]
["2003028","Vulvectomía radical",0,null,null,null,null,0,null,null,null,null,null,null,0,null,null,0,null,null,0,null,null,0,null,null,null,null,null,null,null,null,null,null,null,null,485420,0]
["2003029","Vulvectomía simple",0,null,null,null,null,0,null,null,null,null,null,null,0,null,null,0,null,null,0,null,null,0,null,null,null,null,null,null,null,null,null,null,null,null,275780,0]
["2004001","Aborto retenido, vaciamiento de (incluye la inducción en los casos que corresponda)",{"$f":"SUM(D2642+G2642)","v":0},{"$f":"SUM(E2642:F2642)","v":0},null,null,null,null,null,null,null,null,null,null,null,null,null,null,null,null,null,null,null,null,null,null,null,null,null,null,null,null,null,null,null,null,129380,{"$f":"AK2642*E2642","v":0},null," "]
["2004002","Raspado uterino diagnóstico o terapéutico por metrorragia o por restos de aborto",{"$f":"SUM(D2643+G2643)","v":0},{"$f":"SUM(E2643:F2643)","v":0},null,null,null,null,null,null,null,null,null,null,null,null,null,null,null,null,null,null,null,null,null,null,null,null,null,null,null,null,null,null,null,null,124230,{"$f":"AK2643*E2643","v":0},null," "]
["2004006","Cesárea c/s salpingoligadura o salpingectomía",{"$f":"SUM(I2646:N2646)","v":0},null,null,null,null,{"$f":"+I2646+J2646","v":0},null,null,null,null,null,null,{"$f":"SUM(P2646:Q2646)","v":0},null,null,{"$f":"SUM(S2646:T2646)","v":0},null,null,{"$f":"SUM(V2646:W2646)","v":0},null,null,{"$f":"SUM(Y2646:Z2646)","v":0},null,null,null,null,null,null,null,null,null,null,null,null,164360,{"$f":"+(I2646*AK2646)+(L2646*AK2646*0.5)","v":0},null," "]
["2004005","Cesárea con histerectomía",0,null,null,null,null,0,null,null,null,null,null,null,0,null,null,0,null,null,0,null,null,0,null,null,null,null,null,null,null,null,null,null,null,null,322980,0,null," "]
["2004015","Tratamiento quirúrgico abierto del quiste paraovárico o del ligamento ancho, neonatal",0,null,null,null,null,0,null,null,null,null,null,null,0,null,null,0,null,null,0,null,null,0,null,null,null,null,null,null,null,null,null,null,null,null,295900,0,null," "]
["2004016","Tratamiento quirúrgico laparoscópico del quiste paraovárico o del ligamento ancho, laparoscópico, neonatal",0,null,null,null,null,0,null,null,null,null,null,null,0,null,null,0,null,null,0,null,null,0,null,null,null,null,null,null,null,null,null,null,null,null,384660,0,null," "]
[2004113,"Parto distósico vaginal",{"$f":"SUM(D2654+G2654)","v":0},{"$f":"SUM(E2654:F2654)","v":0},null,null,null,null,null,null,null,null,null,null,null,null,null,null,null,null,null,null,null,null,null,null,null,null,null,null,null,null,null,null,null,null,172910,{"$f":"AK2654*E2654","v":0},null," "]
[null,"TOTAL PRODUCCION",{"$f":"SUM(C2642:C2654)","v":0},{"$f":"SUM(D2642:D2654)","v":0},0,0,0,0,0,0,0,0,0,0,0,0,0,0,0,0,0,0,0,0,0,0,0,0,0,0,0,0,0,0,0,0,null,{"$f":"SUM(AL2642:AL2654)","v":0}]
[2101001,"Infiltracion local medicamentos (bursas, tendones, yuxtaarticulares y/o intraarticulares",{"$f":"SUM(D2657+G2657)","v":0},{"$f":"SUM(E2657:F2657)","v":0},null,null,null,null,null,null,null,null,null,null,null,null,null,null,null,null,null,null,null,null,null,null,null,null,null,null,null,null,null,null,null,null,null,null,null," "]
[2101002,"Procedimiento para exploraciones radiologicas (incluye maniobra e inyeccion del medio de contraste)  BM18A  Revisar en BM Colocación valva",0,0]
["2105002","Corbata tipo Schantz",0,0,null,null,null,null,null,null,null,null,null,null,null,null,null,null,null,null,null,null,null,null,null,null,null,null,null,null,null,null,null,null,null,null,11390,0]
["2105003","Minerva de yeso",0,0,null,null,null,null,null,null,null,null,null,null,null,null,null,null,null,null,null,null,null,null,null,null,null,null,null,null,null,null,null,null,null,null,26590,0]
["2105006","Yeso antebraquial c/s férula digital",0,0,null,null,null,null,null,null,null,null,null,null,null,null,null,null,null,null,null,null,null,null,null,null,null,null,null,null,null,null,null,null,null,null,15180,0]
["2105007","Yeso braquicarpiano",0,0,null,null,null,null,null,null,null,null,null,null,null,null,null,null,null,null,null,null,null,null,null,null,null,null,null,null,null,null,null,null,null,null,15180,0]
["2105010","Yeso toracobraquial",0,0,null,null,null,null,null,null,null,null,null,null,null,null,null,null,null,null,null,null,null,null,null,null,null,null,null,null,null,null,null,null,null,null,26590,0]
["2105011","Corsets de Milwaukee o similares (incluye la toma de molde )",0,0,null,null,null,null,null,null,null,null,null,null,null,null,null,null,null,null,null,null,null,null,null,null,null,null,null,null,null,null,null,null,null,null,31270,0]
["01011297","Retiro de yeso",0,0,null,null,null,null,null,null,null,null,null,null,null,null,null,null,null,null,null,null,null,null,null,null,null,null,null,null,null,null,null,null,null,null,null,null,null," "]
[null,"TOTAL",{"$f":"SUM(C2657:C2673)","v":0},{"$f":"SUM(D2657:D2673)","v":0},{"$f":"SUM(E2657:E2673)","v":0},{"$f":"SUM(F2657:F2673)","v":0},{"$f":"SUM(G2657:G2673)","v":0},null,null,null,null,null,null,null,null,null,null,null,null,null,null,null,null,null,null,null,{"$f":"SUM(AA2657:AA2673)","v":0},0,0,0,0,0,0,0,0,0,null,{"$f":"SUM(AL2657:AL2673)","v":0}]
["2104002","Exostosis u osteocondroma, trat. quir.",{"$f":"SUM(I2677:N2677)","v":0},null,null,null,null,0,null,null,null,null,null,null,null,null,null,null,null,null,null,null,null,null,null,null,null,null,null,null,null,null,null,null,null,null,165690,0,null," "]
["2104003","Quistes sinoviales de vainas flexoras, bursas",{"$f":"SUM(I2678:N2678)","v":0},null,null,null,null,0,null,null,null,null,null,null,null,null,null,null,null,null,null,null,null,null,null,null,null,null,null,null,null,null,null,null,null,null,135770,0,null," "]
["2104006","Tracción transesquelética o de partes blandas en adultos o en niños (proc. aut.)",0,null,null,null,null,0,null,null,null,null,null,null,null,null,null,null,null,null,null,null,null,null,null,null,null,null,null,null,null,null,null,null,null,null,28730,0,null," "]
["2104007","Artrodesis de codo o muñeca, c/u",0,null,null,null,null,0,null,null,null,null,null,null,null,null,null,null,null,null,null,null,null,null,null,null,null,null,null,null,null,null,null,null,null,null,175430,0,null," "]
["2104009","Artrodesis de mano o pie c/u",0,null,null,null,null,0,null,null,null,null,null,null,null,null,null,null,null,null,null,null,null,null,null,null,null,null,null,null,null,null,null,null,null,null,175430,0,null," "]
["2104010","Tratamiento completo de fracturas expuestas de brazo, antebrazo, muslo y pierna, c/u",0,null,null,null,null,0,null,null,null,null,null,null,0,null,null,{"$f":"SUM(S2685:T2685)","v":0},null,null,0,null,null,{"$f":"SUM(Y2685:Z2685)","v":0},null,null,null,null,null,null,null,null,null,null,null,null,273200,0]
["2104013","Osteomielitis aguda hematógena, drenaje quirúrgico, c/s dispositivos de osteoclisis",0,null,null,null,null,0,null,null,null,null,null,null,0,null,null,0,null,null,0,null,null,0,null,null,null,null,null,null,null,null,null,null,null,null,200180,0]
["2104014","Osteomielitis crónica huesos largos, legrado óseo,  c/s osteosíntesis o aparato de yeso",0,null,null,null,null,0,null,null,null,null,null,null,0,null,null,0,null,null,0,null,null,0,null,null,null,null,null,null,null,null,null,null,null,null,200180,0]
["2104017","Pseudoartrosis  infectada huesos largos, trat. quir. cualquier técnica, c/s dispositivo de osteoclisis, c/s osteosíntesis o aparato de yeso",0,null,null,null,null,0,null,null,null,null,null,null,0,null,null,0,null,null,0,null,null,0,null,null,null,null,null,null,null,null,null,null,null,null,262930,0]
["2104018","Autotrasplante óseo microquirúrgico",0,null,null,null,null,0,null,null,null,null,null,null,0,null,null,0,null,null,0,null,null,0,null,null,null,null,null,null,null,null,null,null,null,null,667480,0]
["2104021","Transplante óseo (auto u homotrasplante)",0,null,null,null,null,0,null,null,null,null,null,null,0,null,null,0,null,null,0,null,null,0,null,null,null,null,null,null,null,null,null,null,null,null,395420,0]
["2104022","Lesiones quísticas con fractura patológica: legrado óseo, c/s relleno injerto esponjoso, c/s osteosíntesis y/o aparato de inmovilización postoperatoria",0,null,null,null,null,0,null,null,null,null,null,null,0,null,null,0,null,null,0,null,null,0,null,null,null,null,null,null,null,null,null,null,null,null,282130,0]
["2104025","Tumor óseo, resección en bloque, c/s osteosíntesis y/o aparato inmovilización postoperatorio",0,null,null,null,null,0,null,null,null,null,null,null,0,null,null,0,null,null,0,null,null,0,null,null,null,null,null,null,null,null,null,null,null,null,282130,0]
["2104026","Tumores o quistes o lesiones pseudoquísticas o musculares y/o tendíneas, trat. quir.",0,null,null,null,null,0,null,null,null,null,null,null,0,null,null,0,null,null,0,null,null,0,null,null,null,null,null,null,null,null,null,null,null,null,226520,0]
["2104029","Sinovectomías quirúrgicas de codo o muñeca o metacarpofalángicas, c/u",0,null,null,null,null,0,null,null,null,null,null,null,0,null,null,0,null,null,0,null,null,0,null,null,null,null,null,null,null,null,null,null,null,null,156450,0]
["2104030","Sinovectomías quirúrgicas de rodilla o cadera u hombro, c/u",0,null,null,null,null,0,null,null,null,null,null,null,0,null,null,0,null,null,0,null,null,0,null,null,null,null,null,null,null,null,null,null,null,null,200170,0]
["2104034","Biopsia ósea quirúrgica",0,null,null,null,null,0,null,null,null,null,null,null,0,null,null,0,null,null,0,null,null,0,null,null,null,null,null,null,null,null,null,null,null,null,156450,0,null," "]
["2104035","Biopsia sinovial o muscular por punción",0,null,null,null,null,0,null,null,null,null,null,null,null,null,null,null,null,null,null,null,null,null,null,null,null,null,null,null,null,null,null,null,null,null,34900,0,null," "]
["2104037","Biopsia vertebral por punción",0,null,null,null,null,0,null,null,null,null,null,null,null,null,null,null,null,null,null,null,null,null,null,null,null,null,null,null,null,null,null,null,null,null,71350,0,null," "]
["2104232","Punción discal diagnóstica o terapéutica",0,null,null,null,null,0,null,null,null,null,null,null,0,null,null,0,null,null,0,null,null,0,null,null,null,null,null,null,null,null,null,null,null,null,153010,0,null," "]
["2104039","Osteocondrosis o epifisitis, trat. quir.",0,null,null,null,null,0,null,null,null,null,null,null,0,null,null,0,null,null,0,null,null,0,null,null,null,null,null,null,null,null,null,null,null,null,186430,0,null," "]
["2104040","Amputación interescápulo-torácica",0,null,null,null,null,0,null,null,null,null,null,null,0,null,null,0,null,null,0,null,null,0,null,null,null,null,null,null,null,null,null,null,null,null,530100,0]
["2104044","Fractura cuello humeral, trat. quir.",0,null,null,null,null,0,null,null,null,null,null,null,0,null,null,0,null,null,0,null,null,0,null,null,null,null,null,null,null,null,null,null,null,null,282130,0]
["2104045","Fractura de clavícula, osteosíntesis",0,null,null,null,null,0,null,null,null,null,null,null,0,null,null,0,null,null,0,null,null,0,null,null,null,null,null,null,null,null,null,null,null,null,156530,0]
["2104048","Luxación recidivante de hombro, trat. quir.",0,null,null,null,null,0,null,null,null,null,null,null,0,null,null,0,null,null,0,null,null,0,null,null,null,null,null,null,null,null,null,null,null,null,262930,0]
["2104049","Luxación traumática de hombro, reducción cruenta",0,null,null,null,null,0,null,null,null,null,null,null,0,null,null,0,null,null,0,null,null,0,null,null,null,null,null,null,null,null,null,null,null,null,186430,0]
["2104052","Transposiciones musculares",0,null,null,null,null,0,null,null,null,null,null,null,0,null,null,0,null,null,0,null,null,0,null,null,null,null,null,null,null,null,null,null,null,null,200170,0]
["2104053","Amputación brazo",0,null,null,null,null,0,null,null,null,null,null,null,0,null,null,0,null,null,0,null,null,0,null,null,null,null,null,null,null,null,null,null,null,null,226520,0]
["2104056","Osteosíntesis supra o intercondílea (cualquier técnica)",0,null,null,null,null,0,null,null,null,null,null,null,0,null,null,0,null,null,0,null,null,0,null,null,null,null,null,null,null,null,null,null,null,null,207320,0]
["2104057","Osteotomía húmero (cualquier técnica)",0,null,null,null,null,0,null,null,null,null,null,null,0,null,null,0,null,null,0,null,null,0,null,null,null,null,null,null,null,null,null,null,null,null,200170,0]
["2104060","Cúpula radial, resección",0,null,null,null,null,0,null,null,null,null,null,null,0,null,null,0,null,null,0,null,null,0,null,null,null,null,null,null,null,null,null,null,null,null,200110,0]
["2104061","Cúpula radial, (resección con implante de prótesis) artroplastía ",0,null,null,null,null,0,null,null,null,null,null,null,0,null,null,0,null,null,0,null,null,0,null,null,null,null,null,null,null,null,null,null,null,null,219270,0]
["2104063","Epicondilitis, trat. quir. (cualquier técnica)",0,null,null,null,null,0,null,null,null,null,null,null,0,null,null,0,null,null,0,null,null,0,null,null,null,null,null,null,null,null,null,null,null,null,207310,0]
["2104064","Luxación de codo, reducción cruenta ",0,null,null,null,null,0,null,null,null,null,null,null,0,null,null,0,null,null,0,null,null,0,null,null,null,null,null,null,null,null,null,null,null,null,186460,0]
["2104067","Osteosíntesis olécranon u osteosíntesis de cúpula radial (proc. aut.) (cualquier técnica)",0,null,null,null,null,0,null,null,null,null,null,null,0,null,null,0,null,null,0,null,null,0,null,null,null,null,null,null,null,null,null,null,null,null,200170,0]
["2104068","Traslocación nervio cubital (proc. aut.)",{"$f":"SUM(I2743:N2743)","v":0},null,null,null,null,0,null,null,null,null,null,null,0,null,null,0,null,null,0,null,null,0,null,null,null,null,null,null,null,null,null,null,null,null,251270,0]
["2104071","Extirpación metáfisis distal del cúbito y artrodesis radiocubital inferior",0,null,null,null,null,0,null,null,null,null,null,null,0,null,null,0,null,null,0,null,null,0,null,null,null,null,null,null,null,null,null,null,null,null,200170,0]
["2104072","Luxofracturas (Monteggia-Galeazzi), reducc. y osteosíntesis",0,null,null,null,null,0,null,null,null,null,null,null,0,null,null,0,null,null,0,null,null,0,null,null,null,null,null,null,null,null,null,null,null,null,200170,0]
["2104075","Pseudoartrosis  cúbito y/o radio c/s osteosíntesis c/s yeso",0,null,null,null,null,0,null,null,null,null,null,null,0,null,null,{"$f":"SUM(S2750:T2750)","v":0},null,null,0,null,null,{"$f":"SUM(Y2750:Z2750)","v":0},null,null,null,null,null,null,null,null,null,null,null,null,200170,0]
["2104076","Sinostosis radio-cubital, trat. quir., c/s injerto",0,null,null,null,null,0,null,null,null,null,null,null,0,null,null,0,null,null,0,null,null,0,null,null,null,null,null,null,null,null,null,null,null,null,207320,0]
["2104079","Endoprótesis total de muñeca, (cualquier técnica)",0,null,null,null,null,0,null,null,null,null,null,null,0,null,null,0,null,null,0,null,null,0,null,null,null,null,null,null,null,null,null,null,null,null,379740,0]
["2104080","Estiloides cubital, radial, resección de.",0,null,null,null,null,0,null,null,null,null,null,null,0,null,null,0,null,null,0,null,null,0,null,null,null,null,null,null,null,null,null,null,null,null,186430,0]
["2104084","Luxación semilunar ,escafoidea, reducción y osteosíntesis semicruenta o cruenta",0,null,null,null,null,0,null,null,null,null,null,null,0,null,null,0,null,null,0,null,null,0,null,null,null,null,null,null,null,null,null,null,null,null,186460,0]
["2104085","Osteosíntesis radio, (cualquier técnica)",0,null,null,null,null,0,null,null,null,null,null,null,0,null,null,0,null,null,0,null,null,0,null,null,null,null,null,null,null,null,null,null,null,null,200170,0]
["2104088","Amputación dedos (uno o dos)",0,null,null,null,null,0,null,null,null,null,null,null,null,null,null,null,null,null,null,null,null,null,null,null,null,null,null,null,null,null,null,null,null,null,147860,0,null," "]
["2104089","Amputación mano o del pulgar",0,null,null,null,null,0,null,null,null,null,null,null,0,null,null,0,null,null,0,null,null,0,null,null,null,null,null,null,null,null,null,null,null,null,232080,0,null," "]
["2104091","Contractura Dupuytren, trat. quir., cada tiempo",0,null,null,null,null,0,null,null,null,null,null,null,0,null,null,0,null,null,0,null,null,0,null,null,null,null,null,null,null,null,null,null,null,null,186430,0,null," "]
["2104092","Contusión-compresión grave mano, trat. quir. incluye incisiones liberadoras y/o fasciotomía y/o escarectomía y/o injertos piel inmediatos y síntesis percutánea",0,null,null,null,null,0,null,null,null,null,null,null,0,null,null,0,null,null,0,null,null,0,null,null,null,null,null,null,null,null,null,null,null,null,186460,0,null," "]
["2104095","Luxofractura metacarpofalángica o interfalángica, trat. quir.",0,null,null,null,null,0,null,null,null,null,null,null,null,null,null,null,null,null,null,null,null,null,null,null,null,null,null,null,null,null,null,null,null,null,175430,0,null," "]
["2104096","Mano reumática en ráfaga: traslocaciones tendinosas, plastías capsulares, tenotomías, inmovilización postoperatoria",0,null,null,null,null,0,null,null,null,null,null,null,0,null,null,0,null,null,0,null,null,0,null,null,null,null,null,null,null,null,null,null,null,null,211410,0,null," "]
["2104099","Osteosíntesis metacarpianas o de falanges, cualquier técnica",0,null,null,null,null,0,null,null,null,null,null,null,null,null,null,null,null,null,null,null,null,null,null,null,null,null,null,null,null,null,null,null,null,null,175430,0,null," "]
["2104100","Panadizo, trat. quir.",0,null,null,null,null,0,null,null,null,null,null,null,null,null,null,null,null,null,null,null,null,null,null,null,null,null,null,null,null,null,null,null,null,null,27100,0,null," "]
["2104103","Reparación flexores: primer tiempo espaciador silastic",0,null,null,null,null,0,null,null,null,null,null,null,0,null,null,0,null,null,0,null,null,0,null,null,null,null,null,null,null,null,null,null,null,null,200110,0]
["2104104","Reparación nervio digital con injerto interfascicular: cualquier número",0,null,null,null,null,0,null,null,null,null,null,null,0,null,null,0,null,null,0,null,null,0,null,null,null,null,null,null,null,null,null,null,null,null,319410,0]
["2104107","Tenorrafia extensores mano",0,null,null,null,null,0,null,null,null,null,null,null,0,null,null,0,null,null,0,null,null,0,null,null,null,null,null,null,null,null,null,null,null,null,186430,0]
["2104108","Tenorrafia o injertos flexores mano",0,null,null,null,null,0,null,null,null,null,null,null,0,null,null,0,null,null,0,null,null,0,null,null,null,null,null,null,null,null,null,null,null,null,186430,0]
["2104111","Transposiciones tendinosas flexoras o extensoras mano",0,null,null,null,null,0,null,null,null,null,null,null,0,null,null,0,null,null,0,null,null,0,null,null,null,null,null,null,null,null,null,null,null,null,186430,0]
["2104112","Diastematomielia, resección espolón c/s instrumentación",0,null,null,null,null,0,null,null,null,null,null,null,0,null,null,0,null,null,0,null,null,0,null,null,null,null,null,null,null,null,null,null,null,null,565100,0]
["2104116","Luxaciones, luxofracturas vertebrales (cervical, dorsal, lumbar), reducción cruenta, cualquier vía de abordaje, cualquier número",0,null,null,null,null,0,null,null,null,null,null,null,0,null,null,0,null,null,0,null,null,0,null,null,null,null,null,null,null,null,null,null,null,null,434680,0]
["2104117","Osteotomías vertebrales correctoras, c/s instrumentación, c/s injertos óseos, c/s artrodesis",0,null,null,null,null,0,null,null,null,null,null,null,0,null,null,0,null,null,0,null,null,0,null,null,null,null,null,null,null,null,null,null,null,null,658860,0]
["2104119","Reemplazo cuerpo vertebral con artrodesis c/s osteosíntesis c/s instrumentación",0,null,null,null,null,0,null,null,null,null,null,null,0,null,null,0,null,null,0,null,null,0,null,null,null,null,null,null,null,null,null,null,null,null,824100,0]
["2104121","Resección del coxis",0,null,null,null,null,0,null,null,null,null,null,null,0,null,null,0,null,null,0,null,null,0,null,null,null,null,null,null,null,null,null,null,null,null,186430,0]
["2104236","Teratoma sacrococcigeo",0,null,null,null,null,0,null,null,null,null,null,null,0,null,null,0,null,null,0,null,null,0,null,null,null,null,null,null,null,null,null,null,null,null,536930,0]
["2104237","Teratoma sacrococcigeo intra y extrapelviano",0,null,null,null,null,0,null,null,null,null,null,null,0,null,null,0,null,null,0,null,null,0,null,null,null,null,null,null,null,null,null,null,null,null,805390,0]
["2104124","Osteotomía pelviana (Salter, Chiari o similares)",0,null,null,null,null,0,null,null,null,null,null,null,0,null,null,0,null,null,0,null,null,0,null,null,null,null,null,null,null,null,null,null,null,null,326360,0]
["2104125","Triple osteotomía de pelvis",0,null,null,null,null,0,null,null,null,null,null,null,0,null,null,0,null,null,0,null,null,0,null,null,null,null,null,null,null,null,null,null,null,null,346930,0]
["2104128","Endoprótesis parcial de cadera c/s cementación (cualquier técnica) (no incluye prótesis)",0,null,null,null,null,0,null,null,null,null,null,null,0,null,null,0,null,null,0,null,null,0,null,null,null,null,null,null,null,null,null,null,null,null,348360,{"$f":"AK2804*I2804","v":0}]
["2104228","Endoprótesis parcial de cadera c/s cementación (cualquier técnica) (incluye prótesis)",0,null,null,null,null,{"$f":"+I2805+J2805","v":0},null,null,null,null,null,null,0,null,null,0,null,null,0,null,null,0,null,null,null,null,null,null,null,null,null,null,null,null,810840,0]
["2104130","Epifisiolisis lenta o aguda, trat. quir.",0,null,null,null,null,0,null,null,null,null,null,null,0,null,null,0,null,null,0,null,null,0,null,null,null,null,null,null,null,null,null,null,null,null,309120,0]
["2104131","Fractura de cuello de fémur, osteosíntesis, cualquier técnica ",0,null,null,null,null,0,null,null,null,null,null,null,0,null,null,0,null,null,0,null,null,0,null,null,null,null,null,null,null,null,null,null,null,null,365970,0]
["2104133","Luxación traumática de cadera, reducción cruenta",0,null,null,null,null,0,null,null,null,null,null,null,{"$f":"SUM(P2812:Q2812)","v":0},null,null,0,null,null,{"$f":"SUM(V2812:W2812)","v":0},null,null,0,null,null,null,null,null,null,null,null,null,null,null,null,282130,0]
["2104134","Luxofractura acetabular, trat. quir.",0,null,null,null,null,0,null,null,null,null,null,null,0,null,null,0,null,null,0,null,null,0,null,null,null,null,null,null,null,null,null,null,null,null,326360,0]
["2104137","Reducción cruenta en luxación congénita o traumática de cadera",0,null,null,null,null,0,null,null,null,null,null,null,0,null,null,0,null,null,0,null,null,0,null,null,null,null,null,null,null,null,null,null,null,null,282130,0]
["2104138","Reducción cruenta y acetabuloplastía femoral c/s osteotomía femoral",0,null,null,null,null,0,null,null,null,null,null,null,0,null,null,0,null,null,0,null,null,0,null,null,null,null,null,null,null,null,null,null,null,null,380200,0]
["2104140","Tenotomía aductores c/s botas, con yugo (proc. aut.)",0,null,null,null,null,0,null,null,null,null,null,null,0,null,null,0,null,null,0,null,null,0,null,null,null,null,null,null,null,null,null,null,null,null,219270,0]
["2104141","Trocanteroplastías",0,null,null,null,null,0,null,null,null,null,null,null,0,null,null,0,null,null,0,null,null,0,null,null,null,null,null,null,null,null,null,null,null,null,309120,0]
["2104144","Osteosíntesis diafisiaria o metafisiaria muslo (cualquier técnica)",0,null,null,null,null,0,null,null,null,null,null,null,0,null,null,0,null,null,0,null,null,0,null,null,null,null,null,null,null,null,null,null,null,null,254150,0]
["2104145","Osteotomía correctora muslo",0,null,null,null,null,0,null,null,null,null,null,null,0,null,null,0,null,null,0,null,null,0,null,null,null,null,null,null,null,null,null,null,null,null,253550,0]
["2104148","Pseudoartrosis, trat. quir. (cualquier técnica) muslo",0,null,null,null,null,0,null,null,null,null,null,null,0,null,null,0,null,null,0,null,null,0,null,null,null,null,null,null,null,null,null,null,null,null,322180,0]
["2104149","Ruptura y/o hernia muscular, trat. quir. muslo",0,null,null,null,null,0,null,null,null,null,null,null,0,null,null,0,null,null,0,null,null,0,null,null,null,null,null,null,null,null,null,null,null,null,186430,0]
["2104152","Disfunción patelo-femoral, realineamiento (cualquier técnica)",0,null,null,null,null,0,null,null,null,null,null,null,0,null,null,0,null,null,0,null,null,0,null,null,null,null,null,null,null,null,null,null,null,null,232080,0]
["2104153","Endoprótesis total de rodilla, (cualquier técnica)",0,null,null,null,null,0,null,null,null,null,null,null,0,null,null,0,null,null,0,null,null,0,null,null,null,null,null,null,null,null,null,null,null,null,565100,0]
["2104156","Inestabilidad crónica de rodilla, reconstrucción cápsuloligamentosa (cualquier técnica)",0,null,null,null,null,0,null,null,null,null,null,null,0,null,null,0,null,null,0,null,null,0,null,null,null,null,null,null,null,null,null,null,null,null,306160,0]
["2104157","Luxación o rotura ligamentos, trat. quir. cápsulo-ligamentoso",0,null,null,null,null,0,null,null,null,null,null,null,0,null,null,0,null,null,0,null,null,0,null,null,null,null,null,null,null,null,null,null,null,null,200180,0]
["2104160","Quiste poplíteo, trat. quir.",0,null,null,null,null,0,null,null,null,null,null,null,null,null,null,null,null,null,null,null,null,null,null,null,null,null,null,null,null,null,null,null,null,null,175430,0,null," "]
["2104161","Reconstrucción aparato extensor de rodilla",0,null,null,null,null,0,null,null,null,null,null,null,0,null,null,0,null,null,0,null,null,0,null,null,null,null,null,null,null,null,null,null,null,null,200180,0]
["2104164","Amputación pierna",0,null,null,null,null,0,null,null,null,null,null,null,0,null,null,0,null,null,0,null,null,0,null,null,null,null,null,null,null,null,null,null,null,null,257630,0]
["2104165","Colgajo cruzado de pierna, trat. quir. completo",0,null,null,null,null,0,null,null,null,null,null,null,0,null,null,0,null,null,0,null,null,0,null,null,null,null,null,null,null,null,null,null,null,null,305740,0]
["2104168","Osteotomía correctora de ejes  (cualquier técnica) pierna",0,null,null,null,null,0,null,null,null,null,null,null,0,null,null,0,null,null,0,null,null,0,null,null,null,null,null,null,null,null,null,null,null,null,207320,0]
["2104169","Osteotomía de alargamiento o acortamiento con osteosíntesis inmediata o distracción instrumental progresiva pierna",0,null,null,null,null,0,null,null,null,null,null,null,0,null,null,0,null,null,0,null,null,0,null,null,null,null,null,null,null,null,null,null,null,null,338960,0]
["2104171","Peroné protibia",0,null,null,null,null,0,null,null,null,null,null,null,0,null,null,0,null,null,0,null,null,0,null,null,null,null,null,null,null,null,null,null,null,null,230640,0]
["2104172","Pseudoartrosis, c/s osteosíntesis  (cualquier técnica) pierna",0,null,null,null,null,0,null,null,null,null,null,null,0,null,null,0,null,null,0,null,null,0,null,null,null,null,null,null,null,null,null,null,null,null,207320,0]
["2104175","Esguince grave de tobillo, trat. quir. cápsulo-ligamentoso ",0,null,null,null,null,0,null,null,null,null,null,null,0,null,null,0,null,null,0,null,null,0,null,null,null,null,null,null,null,null,null,null,null,null,200170,0]
["2104176","Fractura astrágalo y/o calcáneo, osteosíntesis (cualq. técn.)",0,null,null,null,null,0,null,null,null,null,null,null,0,null,null,0,null,null,0,null,null,0,null,null,null,null,null,null,null,null,null,null,null,null,226520,0]
["2104179","Luxofractura tobillo, cualquier tipo, osteosíntesis y reparación cápsulo-ligamentosa",0,null,null,null,null,0,null,null,null,null,null,null,0,null,null,0,null,null,0,null,null,0,null,null,null,null,null,null,null,null,null,null,null,null,251270,0]
["2104180","Osteoplastía tibio-calcánea",0,null,null,null,null,0,null,null,null,null,null,null,0,null,null,0,null,null,0,null,null,0,null,null,null,null,null,null,null,null,null,null,null,null,226520,0]
["2104183","Tenorrafia extensores o tenotomía de alargamiento de tendón de Aquiles",0,null,null,null,null,0,null,null,null,null,null,null,0,null,null,0,null,null,0,null,null,0,null,null,null,null,null,null,null,null,null,null,null,null,186460,0]
["2104184","Traslocación tendinosa tobillo",0,null,null,null,null,0,null,null,null,null,null,null,0,null,null,0,null,null,0,null,null,0,null,null,null,null,null,null,null,null,null,null,null,null,200180,0]
["2104187","Espolón calcáneo, trat. quir.",0,null,null,null,null,0,null,null,null,null,null,null,0,null,null,0,null,null,0,null,null,0,null,null,null,null,null,null,null,null,null,null,null,null,186430,0]
["2104188","Exostosis 5° metatarsiano, (\"juanetillo\")  trat. quir.",0,null,null,null,null,0,null,null,null,null,null,null,0,null,null,0,null,null,0,null,null,0,null,null,null,null,null,null,null,null,null,null,null,null,186430,0]
["2104191","Luxaciones, luxofracturas, fracturas, reducción cruenta pie",0,null,null,null,null,{"$f":"+I2870+J2870","v":0},null,null,null,null,null,null,0,null,null,0,null,null,0,null,null,0,null,null,null,null,null,null,null,null,null,null,null,null,200180,0," "," , * Intervenciones Quirurgicas Mayores, Debe ser igual a total -"]
["2104192","Mal perforante plantar, trat. quir.",{"$f":"SUM(I2871:N2871)","v":0},null,null,null,null,{"$f":"+I2871+J2871","v":0},null,null,null,null,null,null,0,null,null,0,null,null,0,null,null,0,null,null,null,null,null,null,null,null,null,null,null,null,200180,0]
["2104195","Ortejos, amputación, uno o más, unilateral",0,null,null,null,null,0,null,null,null,null,null,null,0,null,null,0,null,null,0,null,null,0,null,null,null,null,null,null,null,null,null,null,null,null,186430,0]
["2104196","Pie bot u otras malformaciones congénitas, trat. quir. (cualquier técnica)",0,null,null,null,null,0,null,null,null,null,null,null,0,null,null,0,null,null,0,null,null,0,null,null,null,null,null,null,null,null,null,null,null,null,207310,0]
["2104198","Pie plano, trat. quir. (cualquier técnica)",0,null,null,null,null,0,null,null,null,null,null,null,0,null,null,0,null,null,0,null,null,0,null,null,null,null,null,null,null,null,null,null,null,null,186460,0]
["2104199","Pie reumatoideo, trat.quir.completo (cualquier técnica)",0,null,null,null,null,0,null,null,null,null,null,null,0,null,null,{"$f":"SUM(S2878:T2878)","v":0},null,null,0,null,null,{"$f":"SUM(Y2878:Z2878)","v":0},null,null,null,null,null,null,null,null,null,null,null,null,211410,0]
["2104202","Trasplantes tendinosos pie (cualquier técnica)",0,null,null,null,null,0,null,null,null,null,null,null,0,null,null,0,null,null,0,null,null,0,null,null,null,null,null,null,null,null,null,null,null,null,200180,0," "," "]
[null,"Total ARANCEL MAI",{"$f":"SUM(C2676:C2881)","v":0},null,null,null,null,{"$f":"SUM(H2676:H2881)","v":0},{"$f":"SUM(I2676:I2881)","v":0},{"$f":"SUM(J2676:J2881)","v":0},0,0,0,0,{"$f":"SUM(O2676:O2881)","v":0},{"$f":"SUM(P2676:P2881)","v":0},{"$f":"SUM(Q2676:Q2881)","v":0},{"$f":"SUM(R2676:R2881)","v":0},{"$f":"SUM(S2676:S2881)","v":0},0,0,0,0,0,0,0,0,0,0,0,0,0,0,0,0,0,null,0]
["01012428","Amputaciones pie diabético",0,null,null,null,null,{"$f":"+I2885","v":0},null,null,null,null,null,null,0,null,null,0,null,null,0,null,null,0,null,null,null,null,null,null,null,null,null,null,null,null,null,null,null," "]
["01012429","Amputación de ortejo(s) por pie diabético ",0,null,null,null,null,{"$f":"+I2886","v":0},null,null,null,null,null,null,0,null,null,0,null,null,0,null,null,0,null,null,null,null,null,null,null,null,null,null,null,null,null,null," "," "]
[null,"TOTAL PRODUCCION",{"$f":"C2882","v":0},null,null,null,null,{"$f":"SUM(H2882)","v":0},{"$f":"SUM(I2882)","v":0},0,0,0,0,0,0,0,0,0,0,0,0,0,0,0,0,0,0,0,0,0,0,0,0,0,0,0,0,0]
[null,"RETIRO ELEMENTOS OSTEOSISTESIS"]
["2106003","Retiro de tornillos, clavos, agujas de osteosíntesis o similares",{"$f":"SUM(I2893:N2893)","v":0},null,null,null,null,{"$f":"+I2893+J2893","v":0},null,null,null,null,null,null,{"$f":"SUM(P2893:Q2893)","v":0},null,null,{"$f":"SUM(S2893:T2893)","v":0},null,null,{"$f":"SUM(V2893:W2893)","v":0},null,null,{"$f":"SUM(Y2893:Z2893)","v":0},null,null,null,null,null,null,null,null,null,null,null,null,68740,{"$f":"AK2893*I2893","v":0}," "," "]
[null,"TOTAL",{"$f":"SUM(C2891:C2893)","v":0},null,null,null,null,{"$f":"SUM(H2891:H2893)","v":0},{"$f":"SUM(I2891:I2893)","v":0},{"$f":"SUM(J2891:J2893)","v":0},0,0,0,0,0,0,0,0,0,0,0,0,0,0,0,0,0,0,0,0,0,0,0,0,0,0,null,{"$f":"SUM(AL2891:AL2893)","v":0}]
["2107002","Luxaciones de articulaciones  mayores (columna, cadera, pelvis)",{"$f":"SUM(D2897+G2897)","v":0},{"$f":"SUM(E2897:F2897)","v":0},null,null,null,null,null,null,null,null,null,null,null,null,null,null,null,null,null,null,null,null,null,null,null,null,null,null,null,null,null,null,null,null,95350,0," "," "]
["2107003","Luxaciones de articulaciones menores (el resto)",{"$f":"SUM(D2898+G2898)","v":0},0,null,null,null,null,null,null,null,null,null,null,null,null,null,null,null,null,null,null,null,null,null,null,null,null,null,null,null,null,null,null,null,null,34140,0," "," "]
["2107006","Fracturas menores (el resto)",0,0,null,null,null,null,null,null,null,null,null,null,null,null,null,null,null,null,null,null,null,null,null,null,null,null,null,null,null,null,null,null,null,null,53620,0," "," "]
["2107007","Tratamiento funcional con técnica de Sarmiento y similares de extremidad inferior",0,0,null,null,null,null,null,null,null,null,null,null,null,null,null,null,null,null,null,null,null,null,null,null,null,null,null,null,null,null,null,null,null,null,108270,0," "," "]
["2107009","Luxación congénita de cadera, trat. ortopédico completo (uni o bilateral)",0,{"$f":"SUM(E2904:F2904)","v":0},null,null,null,null,null,null,null,null,null,null,null,null,null,null,null,null,null,null,null,null,null,null,null,null,null,null,null,null,null,null,null,null,99530,0," "," "]
["2107010","Pie bot, unilateral, hasta 10 cambios de yeso",0,{"$f":"SUM(E2905:F2905)","v":0},null,null,null,null,null,null,null,null,null,null,null,null,null,null,null,null,null,null,null,null,null,null,null,null,null,null,null,null,null,null,null,null,99530,0," "," "]
[2301002,"Ortesis cervicales (collares blandos y duros)",{"$f":"SUM(D2908+G2908)","v":0},{"$f":"SUM(E2908:F2908)","v":0},null,null,null,null,null,null,null,null,null,null,null,null,null,null,null,null,null,null,null,null,null,null,null,null,null,null,null,null,null,null,null,null,null,null,null," "]
[2301008,"Braguero (Hernia Umbilical o Inguinal)",0,0]
[2301021,"Arnés de Prótesis (Extremidad Superior)",0,0]
[2301022,"Bastón canadiense o trípode, c/u",0,0]
[2301030,"Correa de ortesis",0,0]
[2301031,"Correa de Muley (Prótesis bajo rodilla)",0,0]
[2301034,"Ortesis palmar activa (UCLA)",0,0]
[2301035,"Ortesis radial de posición",0,0]
[2301038,"Ortesis Larga de Posición (Extremidad Superior)",0,0]
[2301040,"Muletas (par)",0,0]
[2301043,"Ortesis mano-muñeca pasiva",0,0]
[2301044,"Ortesis para rodilla",0,0]
[2301067,"Talonera goma (par)",0,0]
[5099074,"Ortesis parálisis cubital",0,0]
[5099075,"Ortesis tendones flexores",0,0]
[5099076,"Ortesis digital dinámica",0,0]
[5099066,"Correas desrotadoras ",0,0]
[5099067,"Correa dorsiflexion pie",0,0]
[5099068,"Férula abducción hombro",0,0]
[5099069,"Férula extension codo",0,0]
[5099070,"Férula extension muñeca",0,0]
[5099071,"Férula flexion muñeca",0,0]
[5099072,"Palmeta extensión muñeca y dedos",0,0]
[5099073,"Correas desrotadoras parálisis braquial obstétrica",0,0]
[5099077,"Camiseta manga larga ",0,0]
[5099078,"Camiseta manga corta",0,0]
[5099079,"Manga larga ",0,0]
[5099080,"Manga corta",0,0]
[5099081,"Pantalón largo ",0,0]
[5099082,"Pantalón corto ",0,0]
[5099083,"Media larga",0,0]
[5099084,"Media corta",0,0]
[5099085,"Media tipo calcetín",0,0]
[5099086,"Guante tipo mitón",0,0]
[5099087,"Guante con dedos",0,0]
[5099088,"Máscara",0,0]
[5099089,"Mentonera",0,0]
[5099090,"Cintillo",0,0]
[5099061,"Collar cervical semirígido",0,0]
[5099062,"Collar cervical blando",0,0]
[5099065,"Canaletas  bipedestación ",{"$f":"SUM(D2959+G2959)","v":0},{"$f":"SUM(E2959:F2959)","v":0},null,null,null,null,null,null,null,null,null,null,null,null,null,null,null,null,null,null,null,null,null,null,null,null,null,null,null,null,null,null,null,null,null,null,null," "]
[null,"TOTAL",{"$f":"SUM(C2908:C2959)","v":0},{"$f":"SUM(D2908:D2959)","v":0},{"$f":"SUM(E2908:E2959)","v":0},{"$f":"SUM(F2908:F2959)","v":0},{"$f":"SUM(G2908:G2959)","v":0},null,null,null,null,null,null,null,null,null,null,null,null,null,null,null,null,null,null,null,{"$f":"SUM(AA2908:AA2959)","v":0},0,0,0,0,0,0,0,0,0]
[null,"PROCEDIMIENTOS ANESTÉSICOS"]
[2201001,"Anestesia general o regional otorgada por médico diferente al primer cirujano (en intervenciones o procedimientos diagnósticos o terapéuticos)",0,0]
[2201002,"Anestesia peridural continua, proc. aut.",0,0]
["2201102","Anestesia peridural o epidural  continua para partos",{"$f":"SUM(D2964+G2964)","v":0},{"$f":"SUM(E2964:F2964)","v":0},null,null,null,null,null,null,null,null,null,null,null,null,null,null,null,null,null,null,null,null,null,null,null,null,null,null,null,null,null,null,null,null,35650,{"$f":"AK2964*E2964","v":0},null," "]
["01012500","Intubación nasotraqueal/orotraqueal",0,0]
["01012501","Anestesia general como apoyo a resonancia magnética",0,0]
["01012502","Anestesia general como apoyo a tomografía computada",0,0]
["01012503","Sedación como apoyo a examen y/o procedimiento",0,0]
["01012504","Anestesia regional o local infiltrativa administrada por cirujano",0,0]
[null,"TOTAL",{"$f":"SUM(C2962:C2969)","v":0},{"$f":"SUM(D2962:D2969)","v":0},{"$f":"SUM(E2962:E2969)","v":0},{"$f":"SUM(F2962:F2969)","v":0},{"$f":"SUM(G2962:G2969)","v":0},null,null,null,null,null,null,null,null,null,null,null,null,null,null,null,null,null,null,null,{"$f":"SUM(AA2962:AA2969)","v":0},{"$f":"SUM(AB2962:AB2969)","v":0},{"$f":"SUM(AC2962:AC2969)","v":0},0,0,0,0,0,0,{"$f":"SUM(AJ2962:AJ2969)","v":0},null,{"$f":"SUM(AL2962:AL2969)","v":0}]
[null," RESCATES, TRASLADOS Y RONDAS RURALES  "]
["2401061","Rescate simple y/o traslado en móvil 1",0,0,null,null,null,null,null,null,null,null,null,null,null,null,null,null,null,null,null,null,null,null,null,null,null,null,null,null,null,null,null,null,null,null,23490,{"$f":"AK2972*E2972","v":0},null," "]
["2401062","Rescate profesionalizado y/o traslado paciente complejo móvil 2",0,0,null,null,null,null,null,null,null,null,null,null,null,null,null,null,null,null,null,null,null,null,null,null,null,null,null,null,null,null,null,null,null,null,73890,0,null," "]
["2401063","Rescate medicalizado y/o traslado paciente critico en móvil 3",0,0,null,null,null,null,null,null,null,null,null,null,null,null,null,null,null,null,null,null,null,null,null,null,null,null,null,null,null,null,null,null,null,null,91590,0,null," "]
["2401064","Traslado en ambulancia",0,0,null,null,null,null,null,null,null,null,null,null,null,null,null,null,null,null,null,null,null,null,null,null,null,null,null,null,null,null,null,null,null,null,3230,0,null," "]
["2401065","Ronda rural terrestre, c/ km recorrido",0,0,null,null,null,null,null,null,null,null,null,null,null,null,null,null,null,null,null,null,null,null,null,null,null,null,null,null,null,null,null,null,null,null,70,0,null," "]
["2401066","Ronda rural aérea, c/ hora de vuelo",0,0,null,null,null,null,null,null,null,null,null,null,null,null,null,null,null,null,null,null,null,null,null,null,null,null,null,null,null,null,null,null,null,null,194460,0,null," "]
["2401067","Ronda rural marítima, c/ hora de navegación",0,0,null,null,null,null,null,null,null,null,null,null,null,null,null,null,null,null,null,null,null,null,null,null,null,null,null,null,null,null,null,null,null,null,13220,0,null," "]
[null,"TOTAL",{"$f":"SUM(C2972:C2978)","v":0},{"$f":"SUM(D2972:D2978)","v":0},{"$f":"SUM(E2972:E2978)","v":0},{"$f":"SUM(F2972:F2978)","v":0},{"$f":"SUM(G2972:G2978)","v":0},null,null,null,null,null,null,null,null,null,null,null,null,null,null,null,null,null,null,null,{"$f":"SUM(AA2972:AA2978)","v":0},0,0,0,0,0,0,0,0,0,null,{"$f":"SUM(AL2972:AL2978)","v":0}]
[null,"ATENCION ODONTOLOGICA                             "]
[null,"CONSULTAS Y ATENCIÓN ODONTOLÓGICA"]
["2701101","Consulta especialidad Periodoncia",{"$f":"SUM(D2982+G2982)","v":0},{"$f":"SUM(E2982:F2982)","v":0},null,null,null,null,null,null,null,null,null,null,null,null,null,null,null,null,null,null,null,null,null,null,null,null,null,null,null,null,null,null,null,null,4180,{"$f":"AK2982*E2982","v":0},null," "]
["2701102","Consulta especialidad Cirugía y Traumatología Buco Maxilofacial",0,0,null,null,null,null,null,null,null,null,null,null,null,null,null,null,null,null,null,null,null,null,null,null,null,null,null,null,null,null,null,null,null,null,4180,0]
["2701103","Consulta especialidad Endodoncia",0,0,null,null,null,null,null,null,null,null,null,null,null,null,null,null,null,null,null,null,null,null,null,null,null,null,null,null,null,null,null,null,null,null,4180,0]
["2701104","Consulta especialidad Imagenología Oral y Maxilofacial ",0,0,null,null,null,null,null,null,null,null,null,null,null,null,null,null,null,null,null,null,null,null,null,null,null,null,null,null,null,null,null,null,null,null,4180,0]
["2701105","Consulta especialidad Implantología Buco Maxilofacial",0,0,null,null,null,null,null,null,null,null,null,null,null,null,null,null,null,null,null,null,null,null,null,null,null,null,null,null,null,null,null,null,null,null,4180,0]
["2701106","Consulta especialidad Odontopediatría",0,0,null,null,null,null,null,null,null,null,null,null,null,null,null,null,null,null,null,null,null,null,null,null,null,null,null,null,null,null,null,null,null,null,4180,0]
["2701107","Consulta especialidad Ortodoncia y Ortopedia Dento Maxilofacial",0,0,null,null,null,null,null,null,null,null,null,null,null,null,null,null,null,null,null,null,null,null,null,null,null,null,null,null,null,null,null,null,null,null,4180,0]
["2701108","Consulta especialidad Patología Oral y Maxilofacial",0,0,null,null,null,null,null,null,null,null,null,null,null,null,null,null,null,null,null,null,null,null,null,null,null,null,null,null,null,null,null,null,null,null,4180,0]
["2701109","Consulta especialidad Rehabilitación Oral",0,0,null,null,null,null,null,null,null,null,null,null,null,null,null,null,null,null,null,null,null,null,null,null,null,null,null,null,null,null,null,null,null,null,4180,0]
["2701110","Consulta especialidad Trastornos Temporomandibulares y Dolor Orofacial",0,0,null,null,null,null,null,null,null,null,null,null,null,null,null,null,null,null,null,null,null,null,null,null,null,null,null,null,null,null,null,null,null,null,4180,0]
["2701111","Consulta especialidad Somato-Prótesis ",0,0,null,null,null,null,null,null,null,null,null,null,null,null,null,null,null,null,null,null,null,null,null,null,null,null,null,null,null,null,null,null,null,null,4180,0]
["2701112","Educación grupal",0,0,null,null,null,null,null,null,null,null,null,null,null,null,null,null,null,null,null,null,null,null,null,null,null,null,null,null,null,null,null,null,null,null,11710,0]
["2701113","Consulta o control por Odontólogo General",0,0,null,null,null,null,null,null,null,null,null,null,null,null,null,null,null,null,null,null,null,null,null,null,null,null,null,null,null,null,null,null,null,null,3840,0]
["2701114","Trabajo comunitario",0,0,null,null,null,null,null,null,null,null,null,null,null,null,null,null,null,null,null,null,null,null,null,null,null,null,null,null,null,null,null,null,null,null,6620,0]
["2701115","Consulta de urgencia odontológica ",0,0,null,null,null,null,null,null,null,null,null,null,null,null,null,null,null,null,null,null,null,null,null,null,null,null,null,null,null,null,null,null,null,null,5500,0,null," "]
[null,"TOTAL",{"$f":"SUM(C2982:C2996)","v":0},{"$f":"SUM(D2982:D2996)","v":0},{"$f":"SUM(E2982:E2996)","v":0},{"$f":"SUM(F2982:F2996)","v":0},{"$f":"SUM(G2982:G2996)","v":0},null,null,null,null,null,null,null,null,null,null,null,null,null,null,null,null,null,null,null,{"$f":"SUM(AA2982:AA2996)","v":0},{"$f":"SUM(AB2982:AB2996)","v":0},0,0,0,0,0,0,0,0,null,{"$f":"SUM(AL2982:AL2996)","v":0}]
[null,"EXÁMENES IMAGENOLÓGICOS ODONTOLÓGICA"]
["2702101","Radiografía Retroalveolar Unitaria Adulto (por placa)",{"$f":"SUM(D2999+G2999)","v":0},{"$f":"SUM(E2999:F2999)","v":0},null,null,null,null,null,null,null,null,null,null,null,null,null,null,null,null,null,null,null,null,null,null,null,null,null,null,null,null,null,null,null,null,3520,{"$f":"AK2999*E2999","v":0},null," "]
["2702102","Radiografía Retroalveolar Unitaria Niño (por placa)",0,0,null,null,null,null,null,null,null,null,null,null,null,null,null,null,null,null,null,null,null,null,null,null,null,null,null,null,null,null,null,null,null,null,3520,0]
["2702103","Radiografía Bite Wing Adulto (por placa)",0,0,null,null,null,null,null,null,null,null,null,null,null,null,null,null,null,null,null,null,null,null,null,null,null,null,null,null,null,null,null,null,null,null,3520,0]
["2702104","Radiografía Bite-Wing Niño (por placa)",0,0,null,null,null,null,null,null,null,null,null,null,null,null,null,null,null,null,null,null,null,null,null,null,null,null,null,null,null,null,null,null,null,null,3520,0]
["2702105","Radiografía extraoral (por placa)",0,0,null,null,null,null,null,null,null,null,null,null,null,null,null,null,null,null,null,null,null,null,null,null,null,null,null,null,null,null,null,null,null,null,4980,0]
["2702106","Radiografía oclusal (por placa)",0,0,null,null,null,null,null,null,null,null,null,null,null,null,null,null,null,null,null,null,null,null,null,null,null,null,null,null,null,null,null,null,null,null,2850,0]
["2702107","Sialografía (cada lado) (incluye el proc.)",0,0,null,null,null,null,null,null,null,null,null,null,null,null,null,null,null,null,null,null,null,null,null,null,null,null,null,null,null,null,null,null,null,null,32770,0]
["2702108","Telerradiografía",0,0,null,null,null,null,null,null,null,null,null,null,null,null,null,null,null,null,null,null,null,null,null,null,null,null,null,null,null,null,null,null,null,null,8730,0]
["2702109","Radiografía panorámica u ortopantomografía",0,0,null,null,null,null,null,null,null,null,null,null,null,null,null,null,null,null,null,null,null,null,null,null,null,null,null,null,null,null,null,null,null,null,18510,0]
["2702110","Radiografía de ATM Bilateral en Boca Cerrada y Boca Abierta",0,0,null,null,null,null,null,null,null,null,null,null,null,null,null,null,null,null,null,null,null,null,null,null,null,null,null,null,null,null,null,null,null,null,18510,0]
["2702111","Tomografía Computacional Maxilo Facial Cone Beam Zona Dentaria",0,0,null,null,null,null,null,null,null,null,null,null,null,null,null,null,null,null,null,null,null,null,null,null,null,null,null,null,null,null,null,null,null,null,33510,0]
["2702112","Tomografía Computacional Maxilo Facial Cone Beam Unimaxilar",0,0,null,null,null,null,null,null,null,null,null,null,null,null,null,null,null,null,null,null,null,null,null,null,null,null,null,null,null,null,null,null,null,null,50270,0]
["2702113","Tomografía Computada Cone Beam Bimaxilar, Máxilo Facial, Cráneo Completo, Sialo Tc Cone Beam",0,0,null,null,null,null,null,null,null,null,null,null,null,null,null,null,null,null,null,null,null,null,null,null,null,null,null,null,null,null,null,null,null,null,60320,0]
["2702114","Tomografía Computada de Cuello Suprahioideo con contraste",0,0,null,null,null,null,null,null,null,null,null,null,null,null,null,null,null,null,null,null,null,null,null,null,null,null,null,null,null,null,null,null,null,null,53850,0]
["2702115","Sialo Tomografía Computada",0,0,null,null,null,null,null,null,null,null,null,null,null,null,null,null,null,null,null,null,null,null,null,null,null,null,null,null,null,null,null,null,null,null,53850,0]
["2702116","Resonancia Magnética de Cuello Suprahioideo",0,0,null,null,null,null,null,null,null,null,null,null,null,null,null,null,null,null,null,null,null,null,null,null,null,null,null,null,null,null,null,null,null,null,74660,0]
["2702117","Estudio de Localización Maxilofacial",0,0,null,null,null,null,null,null,null,null,null,null,null,null,null,null,null,null,null,null,null,null,null,null,null,null,null,null,null,null,null,null,null,null,11130,0,null," "]
[null,"TOTAL",{"$f":"SUM(C2999:C3015)","v":0},{"$f":"SUM(D2999:D3015)","v":0},0,0,0,null,null,null,null,null,null,null,null,null,null,null,null,null,null,null,null,null,null,null,{"$f":"SUM(AA2999:AA3015)","v":0},{"$f":"SUM(AB2999:AB3015)","v":0},{"$f":"SUM(AC2999:AC3015)","v":0},{"$f":"SUM(AD2999:AD3015)","v":0},{"$f":"SUM(AE2999:AE3015)","v":0},0,0,0,0,0,null,{"$f":"SUM(AL2999:AL3015)","v":0}]
[null,"ODONTOLOGÍA GENERAL: ACTIVIDADES PREVENTIVAS Y RECUPERATIVAS"]
["2703101","Aplicación de sellantes",{"$f":"SUM(D3018+G3018)","v":0},{"$f":"SUM(E3018:F3018)","v":0},null,null,null,null,null,null,null,null,null,null,null,null,null,null,null,null,null,null,null,null,null,null,null,null,null,null,null,null,null,null,null,null,5490,{"$f":"AK3018*E3018","v":0},null," "]
["2703102","Desgastes selectivos",0,0,null,null,null,null,null,null,null,null,null,null,null,null,null,null,null,null,null,null,null,null,null,null,null,null,null,null,null,null,null,null,null,null,4500,0]
["2703103","Destartraje y pulido coronario",0,0,null,null,null,null,null,null,null,null,null,null,null,null,null,null,null,null,null,null,null,null,null,null,null,null,null,null,null,null,null,null,null,null,8560,0]
["2703104","Mantenedores de espacio",0,0,null,null,null,null,null,null,null,null,null,null,null,null,null,null,null,null,null,null,null,null,null,null,null,null,null,null,null,null,null,null,null,null,17870,0]
["2703105","Pulpotomía",0,0,null,null,null,null,null,null,null,null,null,null,null,null,null,null,null,null,null,null,null,null,null,null,null,null,null,null,null,null,null,null,null,null,3140,0]
["2703106","Aplicación tópica de fluoruros",0,0,null,null,null,null,null,null,null,null,null,null,null,null,null,null,null,null,null,null,null,null,null,null,null,null,null,null,null,null,null,null,null,null,11230,0]
["2703107","Exodoncia simple diente permanente",0,0,null,null,null,null,null,null,null,null,null,null,null,null,null,null,null,null,null,null,null,null,null,null,null,null,null,null,null,null,null,null,null,null,4990,0]
["2703108","Exodoncia diente primario",0,0,null,null,null,null,null,null,null,null,null,null,null,null,null,null,null,null,null,null,null,null,null,null,null,null,null,null,null,null,null,null,null,null,3140,0]
["2703109","Obturación amalgama",0,0,null,null,null,null,null,null,null,null,null,null,null,null,null,null,null,null,null,null,null,null,null,null,null,null,null,null,null,null,null,null,null,null,12130,0]
["2703110","Obturación composite",0,0,null,null,null,null,null,null,null,null,null,null,null,null,null,null,null,null,null,null,null,null,null,null,null,null,null,null,null,null,null,null,null,null,11550,0]
["2703111","Obturación Vidrio Ionómero",0,0,null,null,null,null,null,null,null,null,null,null,null,null,null,null,null,null,null,null,null,null,null,null,null,null,null,null,null,null,null,null,null,null,7140,0]
["2703112","Profilaxis Dental ",0,0,null,null,null,null,null,null,null,null,null,null,null,null,null,null,null,null,null,null,null,null,null,null,null,null,null,null,null,null,null,null,null,null,24010,0]
["2703113","Acceso Cavitario",0,0,null,null,null,null,null,null,null,null,null,null,null,null,null,null,null,null,null,null,null,null,null,null,null,null,null,null,null,null,null,null,null,null,4340,0]
["2703114","Ferulización por grupo",0,0,null,null,null,null,null,null,null,null,null,null,null,null,null,null,null,null,null,null,null,null,null,null,null,null,null,null,null,null,null,null,null,null,9180,0]
["2703115","Recubrimiento Directo",0,0,null,null,null,null,null,null,null,null,null,null,null,null,null,null,null,null,null,null,null,null,null,null,null,null,null,null,null,null,null,null,null,null,3130,0]
["2703116","Pulpectomía (por odontólogo general)",0,0,null,null,null,null,null,null,null,null,null,null,null,null,null,null,null,null,null,null,null,null,null,null,null,null,null,null,null,null,null,null,null,null,7310,0,null," "]
[null,"Total ARANCEL MAI",{"$f":"SUM(C3018:C3033)","v":0},{"$f":"SUM(D3018:D3033)","v":0},{"$f":"SUM(E3018:E3033)","v":0},{"$f":"SUM(F3018:F3033)","v":0},{"$f":"SUM(G3018:G3033)","v":0},null,null,null,null,null,null,null,null,null,null,null,null,null,null,null,null,null,null,null,{"$f":"SUM(AA3018:AA3033)","v":0},{"$f":"SUM(AB3018:AB3033)","v":0},0,0,0,0,0,0,0,0,null,{"$f":"SUM(AL3018:AL3033)","v":0}]
[null,"ESPECIALIDADES"]
["2704001","Obturación Inlay metal (incluye materiales no preciosos, no incluye oro)",{"$f":"SUM(D3036+G3036)","v":0},{"$f":"SUM(E3036:F3036)","v":0},null,null,null,null,null,null,null,null,null,null,null,null,null,null,null,null,null,null,null,null,null,null,null,null,null,null,null,null,null,null,null,null,11910,{"$f":"AK3036*E3036","v":0},null," "]
["2704002","Dispositivo Interoclusal",0,0,null,null,null,null,null,null,null,null,null,null,null,null,null,null,null,null,null,null,null,null,null,null,null,null,null,null,null,null,null,null,null,null,22790,0]
["2704003","Prótesis de restitución (fase clínica)",0,0,null,null,null,null,null,null,null,null,null,null,null,null,null,null,null,null,null,null,null,null,null,null,null,null,null,null,null,null,null,null,null,null,49450,0]
["2704004","Prótesis metálica",0,0,null,null,null,null,null,null,null,null,null,null,null,null,null,null,null,null,null,null,null,null,null,null,null,null,null,null,null,null,null,null,null,null,74310,0]
["2704005","Prótesis de restitución (fase laboratorio)",0,0,null,null,null,null,null,null,null,null,null,null,null,null,null,null,null,null,null,null,null,null,null,null,null,null,null,null,null,null,null,null,null,null,24630,0]
["2704006","Reparación compuesta de prótesis",0,0,null,null,null,null,null,null,null,null,null,null,null,null,null,null,null,null,null,null,null,null,null,null,null,null,null,null,null,null,null,null,null,null,9890,0]
["2704007","Reparación corona",0,0,null,null,null,null,null,null,null,null,null,null,null,null,null,null,null,null,null,null,null,null,null,null,null,null,null,null,null,null,null,null,null,null,7600,0]
["2704008","Reparación o reajuste prótesis",0,0,null,null,null,null,null,null,null,null,null,null,null,null,null,null,null,null,null,null,null,null,null,null,null,null,null,null,null,null,null,null,null,null,5950,0]
["2704009","Restitución por corona (combinada)",0,0,null,null,null,null,null,null,null,null,null,null,null,null,null,null,null,null,null,null,null,null,null,null,null,null,null,null,null,null,null,null,null,null,44640,0]
["2704010","Restitución por corona provisoria",0,0,null,null,null,null,null,null,null,null,null,null,null,null,null,null,null,null,null,null,null,null,null,null,null,null,null,null,null,null,null,null,null,null,22790,0]
["2704011","Tratamiento ortodoncia con aparatología removible (incluye aparato)(año 1)",0,0,null,null,null,null,null,null,null,null,null,null,null,null,null,null,null,null,null,null,null,null,null,null,null,null,null,null,null,null,null,null,null,null,125250,0]
["2704012","Tratamiento ortodoncia con aparatología fija (incluye aparato) (año 1)",0,0,null,null,null,null,null,null,null,null,null,null,null,null,null,null,null,null,null,null,null,null,null,null,null,null,null,null,null,null,null,null,null,null,151850,0]
["2704013","Tratamiento ortodoncia con aparatología fija (incluye aparato) (año 2)",0,0,null,null,null,null,null,null,null,null,null,null,null,null,null,null,null,null,null,null,null,null,null,null,null,null,null,null,null,null,null,null,null,null,90680,0]
["2704014","Endodoncia Multirradicular",0,0,null,null,null,null,null,null,null,null,null,null,null,null,null,null,null,null,null,null,null,null,null,null,null,null,null,null,null,null,null,null,null,null,78440,0]
["2704015","Endodoncia birradicular",0,0,null,null,null,null,null,null,null,null,null,null,null,null,null,null,null,null,null,null,null,null,null,null,null,null,null,null,null,null,null,null,null,null,57340,0]
["2704016","Endodoncia unirradicular",0,0,null,null,null,null,null,null,null,null,null,null,null,null,null,null,null,null,null,null,null,null,null,null,null,null,null,null,null,null,null,null,null,null,51280,0]
["2704017","Destartraje Subgingival y Pulido Radicular",0,0,null,null,null,null,null,null,null,null,null,null,null,null,null,null,null,null,null,null,null,null,null,null,null,null,null,null,null,null,null,null,null,null,12840,0]
["2704018","Sedación inhalatoria con óxido nitroso",0,0,null,null,null,null,null,null,null,null,null,null,null,null,null,null,null,null,null,null,null,null,null,null,null,null,null,null,null,null,null,null,null,null,13420,0]
["2704019","Corona Metálica Preformada en diente temporal",0,0,null,null,null,null,null,null,null,null,null,null,null,null,null,null,null,null,null,null,null,null,null,null,null,null,null,null,null,null,null,null,null,null,17870,0]
["2704020","Sialometría",0,0,null,null,null,null,null,null,null,null,null,null,null,null,null,null,null,null,null,null,null,null,null,null,null,null,null,null,null,null,null,null,null,null,4180,0]
["2704021","Inyección Intralesional de Medicamentos en el territorio de la Mucosa Oral",0,0,null,null,null,null,null,null,null,null,null,null,null,null,null,null,null,null,null,null,null,null,null,null,null,null,null,null,null,null,null,null,null,null,6560,0]
["2704022","Tratamiento No Quirúrgico de Obstrucción Glándula Salival",0,0,null,null,null,null,null,null,null,null,null,null,null,null,null,null,null,null,null,null,null,null,null,null,null,null,null,null,null,null,null,null,null,null,4180,0]
["2704023","Cateterismo de Conducto Excretor Glándula Salival en Adultos (c/u)",0,0,null,null,null,null,null,null,null,null,null,null,null,null,null,null,null,null,null,null,null,null,null,null,null,null,null,null,null,null,null,null,null,null,11330,0]
["2704024","Cateterismo de Conducto Excretor Glándula Salival en Niños (c/u)",0,0,null,null,null,null,null,null,null,null,null,null,null,null,null,null,null,null,null,null,null,null,null,null,null,null,null,null,null,null,null,null,null,null,15000,0]
["2704025","Instilación de Glándula Salival (c/u) (Procedimiento)",0,0,null,null,null,null,null,null,null,null,null,null,null,null,null,null,null,null,null,null,null,null,null,null,null,null,null,null,null,null,null,null,null,null,8740,0]
["2704026","Infiltración de la Articulación Temporomandibular, por sesión",0,0,null,null,null,null,null,null,null,null,null,null,null,null,null,null,null,null,null,null,null,null,null,null,null,null,null,null,null,null,null,null,null,null,6560,0]
["2704027","Reducción de Luxación Discal de la Articulación Témporomandibular",0,0,null,null,null,null,null,null,null,null,null,null,null,null,null,null,null,null,null,null,null,null,null,null,null,null,null,null,null,null,null,null,null,null,4180,0]
["2704028","Tratamiento de Ronquido Primario y Saos (Dispositivos de Avance Mandibular)",0,0,null,null,null,null,null,null,null,null,null,null,null,null,null,null,null,null,null,null,null,null,null,null,null,null,null,null,null,null,null,null,null,null,45580,0]
["2704029","Reparación o reajuste de Dispositivo Interoclusal",0,0,null,null,null,null,null,null,null,null,null,null,null,null,null,null,null,null,null,null,null,null,null,null,null,null,null,null,null,null,null,null,null,null,5950,0]
["2704030","Artrocentesis temporomandibular unilateral",0,0,null,null,null,null,null,null,null,null,null,null,null,null,null,null,null,null,null,null,null,null,null,null,null,null,null,null,null,null,null,null,null,null,94130,0,null," "]
[null,"TOTAL ",{"$f":"SUM(C3036:C3065)","v":0},{"$f":"SUM(D3036:D3065)","v":0},0,0,0,null,null,null,null,null,null,null,null,null,null,null,null,null,null,null,null,null,null,null,{"$f":"SUM(AA3036:AA3065)","v":0},{"$f":"SUM(AB3036:AB3065)","v":0},0,0,0,0,0,0,0,0,null,{"$f":"SUM(AL3036:AL3065)","v":0}]
[null,"CIRUGÍAS ODONTOLÓGICAS"]
["2705001","Cirugía bucal",{"$f":"SUM(I3068:N3068)","v":0},null,null,null,null,{"$f":"+I3068+J3068","v":0},null,null,null,null,null,null,null,null,null,null,null,null,null,null,null,null,null,null,null,null,null,null,null,null,null,null,null,null,13950,{"$f":"AK3068*I3068","v":0}]
["2705002","Cirugía de enfermedad periodontal (por grupo)",{"$f":"SUM(I3069:N3069)","v":0},null,null,null,null,0,null,null,null,null,null,null,null,null,null,null,null,null,null,null,null,null,null,null,null,null,null,null,null,null,null,null,null,null,14910,0]
["2705003","Corticotomía",{"$f":"SUM(I3070:N3070)","v":0},null,null,null,null,0,null,null,null,null,null,null,{"$f":"SUM(P3070:Q3070)","v":0},null,null,{"$f":"SUM(S3070:T3070)","v":0},null,null,{"$f":"SUM(V3070:W3070)","v":0},null,null,{"$f":"SUM(Y3070:Z3070)","v":0},null,null,null,null,null,null,null,null,null,null,null,null,82660,0]
["2705004","Disyunción palatina quirúrgica",0,null,null,null,null,0,null,null,null,null,null,null,{"$f":"SUM(P3071:Q3071)","v":0},null,null,{"$f":"SUM(S3071:T3071)","v":0},null,null,{"$f":"SUM(V3071:W3071)","v":0},null,null,{"$f":"SUM(Y3071:Z3071)","v":0},null,null,null,null,null,null,null,null,null,null,null,null,154130,0]
["2705005","Extirpación de pseudoquistes, quistes y tumores",0,null,null,null,null,0,null,null,null,null,null,null,0,null,null,0,null,null,0,null,null,{"$f":"SUM(Y3072:Z3072)","v":0},null,null,null,null,null,null,null,null,null,null,null,null,115800,0]
["2705006","Glosectomías",0,null,null,null,null,0,null,null,null,null,null,null,{"$f":"SUM(P3073:Q3073)","v":0},null,null,{"$f":"SUM(S3073:T3073)","v":0},null,null,{"$f":"SUM(V3073:W3073)","v":0},null,null,{"$f":"SUM(Y3073:Z3073)","v":0},null,null,null,null,null,null,null,null,null,null,null,null,177240,0]
["2705007","Implante endodóntico intraóseo",0,null,null,null,null,0,null,null,null,null,null,null,null,null,null,null,null,null,null,null,null,null,null,null,null,null,null,null,null,null,null,null,null,null,47010,0]
["2705008","Implantes subperiósticos",0,null,null,null,null,0,null,null,null,null,null,null,{"$f":"SUM(P3075:Q3075)","v":0},null,null,{"$f":"SUM(S3075:T3075)","v":0},null,null,{"$f":"SUM(V3075:W3075)","v":0},null,null,{"$f":"SUM(Y3075:Z3075)","v":0},null,null,null,null,null,null,null,null,null,null,null,null,178210,0]
["2705009","Exodoncia de dientes retenidos",0,null,null,null,null,0,null,null,null,null,null,null,null,null,null,null,null,null,null,null,null,null,null,null,null,null,null,null,null,null,null,null,null,null,38160,0,null," "]
["2705010","Exodoncia de tercer molar con osteotomía ",0,null,null,null,null,0,null,null,null,null,null,null,null,null,null,null,null,null,null,null,null,null,null,null,null,null,null,null,null,null,null,null,null,null,38160,0]
["2705011","Injertos en boca",0,null,null,null,null,0,null,null,null,null,null,null,{"$f":"SUM(P3078:Q3078)","v":0},null,null,{"$f":"SUM(S3078:T3078)","v":0},null,null,{"$f":"SUM(V3078:W3078)","v":0},null,null,{"$f":"SUM(Y3078:Z3078)","v":0},null,null,null,null,null,null,null,null,null,null,null,null,154130,0]
["2705012","Elevación de piso del seno maxilar",0,null,null,null,null,0,null,null,null,null,null,null,{"$f":"SUM(P3079:Q3079)","v":0},null,null,{"$f":"SUM(S3079:T3079)","v":0},null,null,{"$f":"SUM(V3079:W3079)","v":0},null,null,{"$f":"SUM(Y3079:Z3079)","v":0},null,null,null,null,null,null,null,null,null,null,null,null,134210,0]
["2705013","Plastía de fístula salival",0,null,null,null,null,0,null,null,null,null,null,null,null,null,null,null,null,null,null,null,null,null,null,null,null,null,null,null,null,null,null,null,null,null,53210,0]
["2705014","Preparación quirúrgica de los maxilares con fines protésicos",0,null,null,null,null,0,null,null,null,null,null,null,null,null,null,null,null,null,null,null,null,null,null,null,null,null,null,null,null,null,null,null,null,null,35280,0]
["2705015","Profundización de vestíbulo o reconstrucción de rebordes, con o sin injerto",0,null,null,null,null,0,null,null,null,null,null,null,{"$f":"SUM(P3082:Q3082)","v":0},null,null,{"$f":"SUM(S3082:T3082)","v":0},null,null,{"$f":"SUM(V3082:W3082)","v":0},null,null,{"$f":"SUM(Y3082:Z3082)","v":0},null,null,null,null,null,null,null,null,null,null,null,null,169730,0]
["2705016","Reimplante y trasplante dentario",0,null,null,null,null,0,null,null,null,null,null,null,null,null,null,null,null,null,null,null,null,null,null,null,null,null,null,null,null,null,null,null,null,null,38160,0]
["2705017","Remoción de cuerpo extraño y secuestrectomía",0,null,null,null,null,0,null,null,null,null,null,null,null,null,null,null,null,null,null,null,null,null,null,null,null,null,null,null,null,null,null,null,null,null,38160,0]
["2705018","Sutura completa de herida mayor",0,null,null,null,null,0,null,null,null,null,null,null,null,null,null,null,null,null,null,null,null,null,null,null,null,null,null,null,null,null,null,null,null,null,72850,0]
["2705019","Sutura completa de herida menor",0,null,null,null,null,0,null,null,null,null,null,null,null,null,null,null,null,null,null,null,null,null,null,null,null,null,null,null,null,null,null,null,null,null,63330,0,null," "]
["2705020","Sutura simple de herida",0,null,null,null,null,0,null,null,null,null,null,null,null,null,null,null,null,null,null,null,null,null,null,null,null,null,null,null,null,null,null,null,null,null,38160,0]
["2705021","Tratamiento quirúrgico fracturas maxilar superior",0,null,null,null,null,0,null,null,null,null,null,null,{"$f":"SUM(P3088:Q3088)","v":0},null,null,{"$f":"SUM(S3088:T3088)","v":0},null,null,{"$f":"SUM(V3088:W3088)","v":0},null,null,{"$f":"SUM(Y3088:Z3088)","v":0},null,null,null,null,null,null,null,null,null,null,null,null,203020,0]
["2705022","Tratamiento quirúrgico de fracturas en maxilar inferior",0,null,null,null,null,0,null,null,null,null,null,null,0,null,null,0,null,null,0,null,null,0,null,null,null,null,null,null,null,null,null,null,null,null,203020,0]
["2705023","Tratamiento de traumatismo dento alveolar simple",{"$f":"SUM(E3090:G3090)","v":0},{"$f":"SUM(E3090:F3090)","v":0},null,null,null,null,null,null,null,null,null,null,null,null,null,null,null,null,null,null,null,null,null,null,null,null,null,null,null,null,null,null,null,null,38160,{"$f":"AK3090*D3090","v":0}," "," "]
["2705024","Tratamiento de traumatismo dento alveolar complejo",{"$f":"SUM(E3091:G3091)","v":0},{"$f":"SUM(E3091:F3091)","v":0},null,null,null,null,null,null,null,null,null,null,null,null,null,null,null,null,null,null,null,null,null,null,null,null,null,null,null,null,null,null,null,null,70170,{"$f":"AK3091*D3091","v":0},null," "]
["2705025","Implante oseointegrado",{"$f":"SUM(I3092:N3092)","v":0},null,null,null,null,0,null,null,null,null,null,null,{"$f":"SUM(P3092:Q3092)","v":0},null,null,{"$f":"SUM(S3092:T3092)","v":0},null,null,{"$f":"SUM(V3092:W3092)","v":0},null,null,{"$f":"SUM(Y3092:Z3092)","v":0},null,null,null,null,null,null,null,null,null,null,null,null,79380,{"$f":"AK3092*I3092","v":0},null," "]
["2705026","Pilar Protésico sobre Implantes",0,null,null,null,null,{"$f":"+I3093+J3093","v":0},null,null,null,null,null,null,0,null,null,0,null,null,0,null,null,0,null,null,null,null,null,null,null,null,null,null,null,null,36210,{"$f":"AK3093*I3093","v":0}]
[null,"TOTAL ARANCEL MAI",{"$f":"SUM(C3068:C3089)+C3092+C3093","v":0},{"$f":"SUM(D3090:D3091)","v":0},{"$f":"SUM(E3090:E3091)","v":0},0,0,{"$f":"SUM(H3068:H3093)","v":0},{"$f":"SUM(I3068:I3089)+I3092+I3093","v":0},{"$f":"SUM(J3068:J3089)+J3092+J3093","v":0},0,0,0,0,{"$f":"SUM(O3068:O3093)","v":0},0,0,0,0,0,0,0,0,0,0,0,0,0,0,0,0,0,0,0,0,0,null,0," "," "]
["01012553","Sutura intraoral ",{"$f":"SUM(I3095:N3095)","v":0},null,null,null,null,{"$f":"+I3095+J3095","v":0},null,null,null,null,null,null,null,null,null,null,null,null,null,null,null,null,null,null,null,null,null,null,null,null,null,null,null,null,null,null," "," "]
["01012554","Tratamiento quirúrgico pseudoquiste y quiste odontológico ",{"$f":"SUM(I3096:N3096)","v":0},null,null,null,null,0]
["01012555","Tratamiento quirúrgico tumor odontológico ",0,null,null,null,null,0]
[5099022,"Frenectomia ",0,null,null,null,null,0]
[5099023,"Fenestracion",0,null,null,null,null,0]
[5099024,"Drenaje Abceso intra-extroral",0,null,null,null,null,0]
[5099025,"Cirugía preprotesica ",0,null,null,null,null,0]
[" 5099056 ","Desobturacion de conductos ",0,null,null,null,null,0,null,null,null,null,null,null,null,null,null,null,null,null,null,null,null,null,null,null,null,null,null,null,null,null,null,null,null,null,null,null,null," "]
["01012561","Cirugía ortognática",0,null,null,null,null,0]
[null,"TOTAL ARANCEL MLE Y NO ARANCELADO",{"$f":"SUM(C3095:C3103)","v":0},null,null,null,null,{"$f":"SUM(H3095:H3103)","v":0},{"$f":"SUM(I3095:I3103)","v":0},0,0,0,0,0,0,0,0,0,0,0,0,0,0,0,0,0,0,0,0,{"$f":"SUM(AD3095:AD3103)","v":0},0,0,0,0,0,0]
[null,"TOTAL PRODUCCION",{"$f":"SUM(C3094,C3104)","v":0},{"$f":"+D3094","v":0},{"$f":"SUM(E3094,E3104)","v":0},0,{"$f":"SUM(G3094,G3104)","v":0},0,{"$f":"SUM(I3094,I3104)","v":0},0,0,0,0,0,0,0,0,0,0,0,0,0,0,0,0,0,0,0,0,0,0,0,0,0,0,0,null,{"$f":"SUM(AL3094,AL3104)","v":0}]
[null,"OTRAS PRESTACIONES ODONTOLÓGICAS"]
[5099026,"Bloqueo Anestesico",{"$f":"SUM(D3107+G3107)","v":0},{"$f":"SUM(E3107:F3107)","v":0}]
[null,"Odontologia general",{"$f":"SUM(D3108+G3108)","v":0},{"$f":"SUM(E3108:F3108)","v":0},{"$f":"SUM(E3109:E3112)","v":0},{"$f":"SUM(F3109:F3112)","v":0},{"$f":"SUM(G3109:G3112)","v":0},null,null,null,null,null,null,null,null,null,null,null,null,null,null,null,null,null,null,null,{"$f":"SUM(AA3109:AA3112)","v":0},{"$f":"SUM(AB3109:AB3112)","v":0},0,0,0,0,0,0,0,{"$f":"SUM(AJ3109:AJ3112)","v":0}]
[5099028,"Actividad interseptiva de anomalias dentomaxilares OPI",{"$f":"SUM(D3109+G3109)","v":0},0]
[5099029,"Instalacion de aparato intercepcion de anomalias dentomaxilares",0,0]
[5099030,"Examen diagnostico OPI",0,0]
[5099031,"Alta mantencion ",0,0]
[null,"Odontopediatria",0,0,{"$f":"SUM(E3114:E3116)","v":0},{"$f":"SUM(F3114:F3116)","v":0},{"$f":"SUM(G3114:G3116)","v":0},null,null,null,null,null,null,null,null,null,null,null,null,null,null,null,null,null,null,null,{"$f":"SUM(AA3114:AA3116)","v":0},{"$f":"SUM(AB3114:AB3116)","v":0},0,0,0,0,0,0,0,0]
[5099032,"Corona metalica",0,{"$f":"SUM(E3114:F3114)","v":0}]
["01012592","Atención de niño discapacitado en sillón (acción de odontopediatría)",0,0]
["01012593","Atención de niño discapacitado en pabellón (acción de odontopediatría)",0,0]
[null,"Ortodoncia",{"$f":"SUM(D3117+G3117)","v":0},0,{"$f":"SUM(E3118:E3121)","v":0},{"$f":"SUM(F3118:F3121)","v":0},{"$f":"SUM(G3118:G3121)","v":0},null,null,null,null,null,null,null,null,null,null,null,null,null,null,null,null,null,null,null,{"$f":"SUM(AA3118:AA3121)","v":0},{"$f":"SUM(AB3118:AB3121)","v":0},0,0,0,0,0,0,0,0]
[5099033,"Instalacion aparato removible ",0,0]
[5099034,"Instalacion aparato ortopedia prequirurgica (fisura labiopalatina)",0,0]
[5099035,"Ortopedia prequirurgica actividad (fisura labiopalatina)",0,0]
["01012597","Instalación Aparato Fijo en Ortodoncia. (Brackets)",0,0]
[null,"Endodoncia",0,0,{"$f":"SUM(E3123:E3125)","v":0},{"$f":"SUM(F3123:F3125)","v":0},{"$f":"SUM(G3123:G3125)","v":0},null,null,null,null,null,null,null,null,null,null,null,null,null,null,null,null,null,null,null,{"$f":"SUM(AA3123:AA3125)","v":0},{"$f":"SUM(AB3123:AB3125)","v":0},0,0,0,0,0,0,0,0]
[5099036,"Tratamiento de induccion al cierre",0,0]
[5099037,"Desobturacion de conductos",0,0]
["01012600","Medicación intraconducto (acción de endodoncia)",0,0]
[null,"Periodoncia",0,0,{"$f":"SUM(E3127:E3128)","v":0},{"$f":"SUM(F3127:F3128)","v":0},{"$f":"SUM(G3127:G3128)","v":0},null,null,null,null,null,null,null,null,null,null,null,null,null,null,null,null,null,null,null,{"$f":"SUM(AA3127:AA3128)","v":0},{"$f":"SUM(AB3127:AB3128)","v":0},0,0,0,0,0,0,0,0]
[5099038,"Terapia articular especifica",0,0]
["01012602","Férula Periodoncia",0,0]
[null,"Radiologia",0,0,{"$f":"SUM(E3130:E3132)","v":0},{"$f":"SUM(F3130:F3132)","v":0},{"$f":"SUM(G3130:G3132)","v":0},null,null,null,null,null,null,null,null,null,null,null,null,null,null,null,null,null,null,null,{"$f":"SUM(AA3130:AA3132)","v":0},{"$f":"SUM(AB3130:AB3132)","v":0},0,0,0,0,0,0,0,0]
[5099041,"Telerradiografia perfil",0,0]
[5099042,"Telerradiografia frente",0,0]
[5099043,"Radiografia articulacion temporo mandibular",0,0]
[null,"Protesis",0,0,{"$f":"SUM(E3134:E3149)","v":0},{"$f":"SUM(F3134:F3149)","v":0},{"$f":"SUM(G3134:G3149)","v":0},null,null,null,null,null,null,null,null,null,null,null,null,null,null,null,null,null,null,null,{"$f":"SUM(AA3134:AA3149)","v":0},{"$f":"SUM(AB3134:AB3149)","v":0},0,0,0,0,0,0,0,0]
[5099057,"instalacion aparotologia fija",0,0]
[5099058,"instalacion protesis removible",0,0]
["01012608","Prótesis Removible Acrílica",0,0]
["01012609","Prótesis Removible Metálica",0,0]
["01012610","Instalación Aparato de Contención",0,0]
["01012611","Reparación de Prótesis",0,0]
["01012612","Prótesis Fija Provisoria (unitaria o Plural)",0,0]
["01012613","Tratamiento Traumatismo Dentoalveolar ",0,0]
["01012614","Instalación de Implante Endo-Oseo Oseointegrable. ",0,0]
["01012615","Tratamiento Temporo Mandibular ",0,0]
["01012616","Prevención odontológica niño discapacitado ",0,0]
["01012617","Tratamiento aparatología fija niños de 12 a 14 años año 1 ",0,0]
["01012618","Tratamiento aparatología fija niños de 12 a 14 años año 2 ",0,0]
["01012619","Obturaciones de vidrio Ionomero en diente temporal",0,0]
["01012620","Destartraje subgingival y Pulido radicular por Sextante",0,0,null,null,null,null,null,null,null,null,null,null,null,null,null,null,null,null,null,null,null,null,null,null,null,null,null,null,null,null,null,null,null,null,null,null,null," "]
["01012621","Desinfección Bucal Total",0,0]
[null,"Traumatologia Maxilofacial",0,0,{"$f":"SUM(E3151:E3152)","v":0},{"$f":"SUM(F3151:F3152)","v":0},{"$f":"SUM(G3151:G3152)","v":0},null,null,null,null,null,null,null,null,null,null,null,null,null,null,null,null,null,null,null,{"$f":"SUM(AA3151:AA3152)","v":0},{"$f":"SUM(AB3151:AB3152)","v":0},0,0,0,0,0,0,0,0]
[5099059,"Examen y diagnostico ttm eje I  ",0,0]
[5099060,"Examen y diagnostico ttm eje I y II montaje",0,0,null,null,null,null,null,null,null,null,null,null,null,null,null,null,null,null,null,null,null,null,null,null,null,null,null,null,null,null,null,null,null,null,null,null,null," "]
[null,"Trastornos Temporomandibular y dolor orofacial",0,0,{"$f":"SUM(E3154)","v":0},{"$f":"SUM(F3154)","v":0},{"$f":"SUM(G3154)","v":0},null,null,null,null,null,null,null,null,null,null,null,null,null,null,null,null,null,null,null,{"$f":"SUM(AA3154)","v":0},{"$f":"SUM(AB3154)","v":0},0,0,0,0,0,0,0,0]
[5099039,"Terapia cognitiva conductual y autocontrol TTM (trastornos temporomandibulares)",0,0]
[null,"TOTAL",{"$f":"SUM(C3107,C3109:C3112,C3114:C3116,C3118:C3121,   C3123:C3125, C3127:C3128, C3130:C3132, C3154,C3151:C3152,C3134:C3149)","v":0},{"$f":"SUM(D3107,D3109:D3112,D3114:D3116,D3118:D3121,   D3123:D3125, D3127:D3128, D3130:D3132, D3154,D3151:D3152,D3134:D3149)","v":0},{"$f":"SUM(E3107,E3109:E3112,E3114:E3116,E3118:E3121,   E3123:E3125, E3127:E3128, E3130:E3132, E3154,E3151:E3152,E3134:E3149)","v":0},{"$f":"SUM(F3107,F3109:F3112,F3114:F3116,F3118:F3121,   F3123:F3125, F3127:F3128, F3130:F3132, F3154,F3151:F3152,F3134:F3149)","v":0},{"$f":"SUM(G3107,G3109:G3112,G3114:G3116,G3118:G3121,   G3123:G3125, G3127:G3128, G3130:G3132, G3154,G3151:G3152,G3134:G3149)","v":0},null,null,null,null,null,null,null,null,null,null,null,null,null,null,null,null,null,null,null,{"$f":"SUM(AA3107,AA3109:AA3112,AA3114:AA3116,AA3118:AA3121,   AA3123:AA3125, AA3127:AA3128, AA3130:AA3132, AA3154,AA3151:AA3152,AA3134:AA3149)","v":0},{"$f":"SUM(AB3107,AB3109:AB3112,AB3114:AB3116,AB3118:AB3121,   AB3123:AB3125, AB3127:AB3128, AB3130:AB3132, AB3154,AB3151:AB3152,AB3134:AB3149)","v":0},0,0,0,0,0,{"$f":"SUM(AH3107,AH3109:AH3112,AH3114:AH3116,AH3118:AH3121,   AH3123:AH3125, AH3127:AH3128, AH3130:AH3132, AH3154,AH3151:AH3152,AH3134:AH3149)","v":0},{"$f":"SUM(AI3107,AI3109:AI3112,AI3114:AI3116,AI3118:AI3121,   AI3123:AI3125, AI3127:AI3128, AI3130:AI3132, AI3154,AI3151:AI3152,AI3134:AI3149)","v":0},{"$f":"SUM(AJ3107,AJ3109:AJ3112,AJ3114:AJ3116,AJ3118:AJ3121,   AJ3123:AJ3125, AJ3127:AJ3128, AJ3130:AJ3132, AJ3154,AJ3151:AJ3152,AJ3134:AJ3149)","v":0}]
[null,"LENTES,AUDIFONOS"]
[null,"LENTES Y AUDIFONOS                                          "]
["3001001","Lentes ópticos",0,0,null,null,null,null,null,null,null,null,null,null,null,null,null,null,null,null,null,null,null,null,null,null,null,null,null,null,null,null,null,null,null,null,24610,{"$f":"AK3158*E3158","v":0},null," "]
["3001002","Audífonos",0,0,null,null,null,null,null,null,null,null,null,null,null,null,null,null,null,null,null,null,null,null,null,null,null,null,null,null,null,null,null,null,null,null,308500,{"$f":"AK3159*E3159","v":0},null," "]
[null,"TOTAL",{"$f":"SUM(C3158:C3159)","v":0},{"$f":"SUM(D3158:D3159)","v":0},{"$f":"SUM(E3158:E3159)","v":0},{"$f":"SUM(F3158:F3159)","v":0},{"$f":"SUM(G3158:G3159)","v":0},null,null,null,null,null,null,null,null,null,null,null,null,null,null,null,null,null,null,null,{"$f":"SUM(AA3158:AA3159)","v":0},0,0,0,0,0,0,0,0,0,null,0]
[null,"PROGRAMA CÁNCER"]
["01012665","Test Inmunoquímico de Deposiciones",{"$f":"SUM(D3162+G3162)","v":0},{"$f":"SUM(E3162:F3162)","v":0}]
["01012666","Yodoterapia",0,0]
["01012668","Braquiterapia baja tasa en dosis (LDR)",0,0]
["01012669","Teleterapia de alta complejidad con acelerador lineal (3D)",0,0]
["01012670","Teleterapia estándar (3D) con acelerador lineal ",0,0]
["01012671","Telecobaltoterapia con acelerador lineal",0,0]
[null,"TOTAL",{"$f":"SUM(C3162:C3167)","v":0},{"$f":"SUM(D3162:D3167)","v":0},{"$f":"SUM(E3162:E3167)","v":0},{"$f":"SUM(F3162:F3167)","v":0},{"$f":"SUM(G3162:G3167)","v":0},null,null,null,null,null,null,null,null,null,null,null,null,null,null,null,null,null,null,null,{"$f":"SUM(AA3162:AA3167)","v":0},0,0,0,0,0,0,0,0,0]
[null,"TRATAMIENTO ABREVIADO DE LA TUBERCULOSIS     "]
[3003001,"TBC, esquema primario (mensual)",0,0,null,null,null,null,null,null,null,null,null,null,null,null,null,null,null,null,null,null,null,null,null,null,null,null,null,null,null,null,null,null,null,null,8790,{"$f":"AK3170*E3170","v":0},null," "]
["3003002","TBC, esquema primario simplificado (mensual)",0,0,null,null,null,null,null,null,null,null,null,null,null,null,null,null,null,null,null,null,null,null,null,null,null,null,null,null,null,null,null,null,null,null,4680,{"$f":"AK3171*E3171","v":0},null," "]
["3003003","TBC, esquema secundario (mensual)",0,0,null,null,null,null,null,null,null,null,null,null,null,null,null,null,null,null,null,null,null,null,null,null,null,null,null,null,null,null,null,null,null,null,17620,{"$f":"AK3172*E3172","v":0},null," "]
["3003004","TBC, esquema normado de retratamiento (mensual)",0,0,null,null,null,null,null,null,null,null,null,null,null,null,null,null,null,null,null,null,null,null,null,null,null,null,null,null,null,null,null,null,null,null,180730,{"$f":"AK3173*E3173","v":0},null," "]
["3003005","TBC, esquema especial de retratamiento (mensual)",0,0,null,null,null,null,null,null,null,null,null,null,null,null,null,null,null,null,null,null,null,null,null,null,null,null,null,null,null,null,null,null,null,null,992600,{"$f":"AK3174*E3174","v":0},null," "]
[null,"TOTAL",{"$f":"SUM(C3170:C3174)","v":0},{"$f":"SUM(D3170:D3174)","v":0},{"$f":"SUM(E3170:E3174)","v":0},{"$f":"SUM(F3170:F3174)","v":0},{"$f":"SUM(G3170:G3174)","v":0},null,null,null,null,null,null,null,null,null,null,null,null,null,null,null,null,null,null,null,{"$f":"SUM(AA3170:AA3174)","v":0},0,0,0,0,0,0,0,0,0,null,0]
[]
[]
[]
[]
[null,{"$f":"SUM(C6:C3174)","v":0}]

{"sheet":"B17","index":2,"n_rows":300,"n_cols":28,"rows_kept":300,"cut":false,"hidden":false,"merged":[[290,0,291,1],[290,2,291,2],[290,3,290,8],[290,9,291,9],[292,0,292,1],[293,0,293,1],[294,0,294,1],[117,18,119,18],[172,18,174,18],[117,16,119,16],[118,7,119,7],[118,8,119,8],[118,9,119,9],[117,7,117,9],[120,0,120,1],[133,0,133,1],[144,0,144,1],[126,0,129,0],[137,0,140,0],[143,0,143,1],[154,0,154,1],[156,0,158,1],[146,0,148,1],[156,3,156,6],[172,19,174,19],[172,20,174,20],[172,21,174,21],[247,6,247,8],[146,17,148,17],[147,3,148,3],[147,4,147,5],[147,6,148,6],[147,7,148,7],[147,8,148,8],[147,9,148,9],[147,10,148,10],[147,11,148,11],[147,12,148,12],[147,14,148,14],[147,15,148,15],[247,4,247,5],[197,4,198,4],[196,0,196,5],[197,2,198,2],[172,3,174,3],[157,4,157,5],[156,2,158,2],[153,0,153,1],[197,0,198,1],[172,0,174,1],[171,0,171,1],[172,2,174,2],[152,0,152,1],[170,0,170,1],[195,0,195,1],[7,0,7,2],[84,0,84,1],[117,0,119,1],[149,0,149,1],[150,0,150,1],[151,0,151,1],[117,3,117,6],[94,0,94,1],[117,2,119,2],[118,4,118,5],[118,3,119,3],[56,0,56,1],[118,6,119,6],[99,0,99,1],[146,16,148,16],[146,14,146,15],[146,2,148,2],[146,3,146,6],[146,7,146,9],[146,10,146,12],[146,13,148,13],[172,17,174,17],[157,14,158,14],[172,14,174,14],[172,15,173,16],[157,12,158,12],[172,11,173,13],[156,10,156,12],[157,11,158,11],[156,7,156,9],[172,4,172,9],[156,17,158,17],[173,7,173,9],[172,10,174,10],[156,16,158,16],[157,15,158,15],[156,13,158,13],[156,14,156,15],[157,6,158,6],[157,8,158,8],[173,4,173,6],[242,0,242,1],[243,0,245,0],[273,0,273,1],[247,0,248,1],[210,11,211,11],[210,12,211,12],[210,14,211,14],[209,7,209,9],[209,10,209,12],[209,3,209,6],[210,9,211,9],[210,10,211,10],[210,8,211,8],[247,2,248,2],[247,3,248,3],[272,0,272,1],[252,0,252,1],[253,0,253,1],[258,0,258,1],[259,0,259,1],[249,0,249,1],[250,0,250,1],[251,0,251,1],[270,0,270,1],[285,0,285,1],[286,0,286,1],[274,0,274,1],[283,0,283,1],[284,0,284,1],[255,0,255,1],[256,0,256,1],[257,0,257,1],[260,0,260,1],[261,0,261,1],[264,0,264,1],[265,0,265,1],[276,0,276,1],[277,0,277,1],[278,0,278,1],[279,0,279,1],[280,0,280,1],[281,0,281,1],[263,0,263,1],[267,0,267,1],[268,0,268,1],[269,0,269,1],[271,0,271,1],[117,17,119,17],[118,10,119,10],[118,11,119,11],[118,14,119,14],[118,15,119,15],[117,13,119,13],[117,14,117,15],[117,10,117,12],[118,12,119,12],[209,16,211,16],[210,3,211,3],[210,4,210,5],[210,6,211,6],[197,3,198,3],[197,5,198,5],[157,10,158,10],[209,13,211,13],[209,14,209,15],[157,3,158,3],[204,3,205,3],[210,7,211,7],[157,7,158,7],[210,15,211,15],[157,9,158,9],[240,0,240,1],[201,0,202,0],[200,0,200,1],[231,0,231,1],[204,2,205,2],[209,2,211,2],[204,0,205,1],[238,0,239,0],[203,0,203,1],[229,0,229,1],[230,0,230,1],[199,0,199,1],[228,0,228,1],[234,0,234,1],[235,0,235,1],[207,0,207,1],[227,0,227,1],[206,0,206,1],[226,0,226,1],[208,0,208,1],[219,0,219,1],[220,0,220,1],[221,0,221,1],[222,0,222,1],[223,0,223,1],[224,0,224,1],[209,0,211,1],[212,0,212,1],[213,0,213,1],[214,0,214,1],[215,0,215,1],[216,0,216,1],[217,0,217,1],[218,0,218,1]]}
["SERVICIO DE SALUD / ESTABLECIMIENTO MUNICIPAL"]
[{"$f":"CONCATENATE(\"COMUNA: \",NOMBRE!B2,\" - \",\"( \",NOMBRE!C2,NOMBRE!D2,NOMBRE!E2,NOMBRE!F2,NOMBRE!G2,\" )\")","v":"COMUNA:  - (  )"}]
[{"$f":"CONCATENATE(\"ESTABLECIMIENTO/ESTRATEGIA: \",NOMBRE!B3,\" - \",\"( \",NOMBRE!C3,NOMBRE!D3,NOMBRE!E3,NOMBRE!F3,NOMBRE!G3,NOMBRE!H3,\" )\")","v":"ESTABLECIMIENTO/ESTRATEGIA:  - (  )"}]
[{"$f":"CONCATENATE(\"MES: \",NOMBRE!B6,\" - \",\"( \",NOMBRE!C6,NOMBRE!D6,\" )\")","v":"MES:  - (  )"}]
[{"$f":"CONCATENATE(\"AÑO: \",NOMBRE!B7)","v":"AÑO: 2023"}]
[null,null,null,"REM-B17.   ACTIVIDADES DE APOYO DIAGNOSTICO y TERAPEUTICO"]
[]
["SECCION A: ATENCIONES ABIERTAS "]
["CODIGOS","IDENTIFICACION DE PRESTACIONES","TOTAL PRODUCCIÓN","TOTAL BENEFICIARIOS MAI","PAGO POR PRESTACIONES ($)"]
[null,"CONSULTAS Y ATENCION MEDICA ",{"$f":"SUM(C11:C17)","v":0},{"$f":"SUM(D11:D17)","v":0},{"$f":"SUM(E11:E17)","v":0}]
[null,"Consulta Médica general",{"$f":"B!C56","v":0},{"$f":"B!E56","v":0},{"$f":"B!AL56","v":0}]
[null,"Consulta Médica de Especialidades",{"$f":"SUM(B!C$6:C$53)","v":0},{"$f":"SUM(B!E$6:E$53)","v":0},{"$f":"SUM(B!AL$6:AL$53)","v":0}]
[null,"Consulta en Unidades de Urgencia Hospitalaria",{"$f":"B!C58","v":0},{"$f":"B!E58","v":0},{"$f":"B!AL58","v":0}]
[null,"Atención médica del recién nacido en sala de parto o pabellón quirúrgico c/s reanimación cardio-respiratoria",{"$f":"B!C57","v":0},{"$f":"B!E57","v":0},{"$f":"B!AL57","v":0}]
[null,"Telemedicina/ Teleconsulta por profesional médico",{"$f":"B!C$121","v":0},{"$f":"B!E$121","v":0},{"$f":"B!AL$121","v":0}]
[null,"Teleinterconsulta (Telemedicina)",{"$f":"+B!C$128","v":0},{"$f":"+B!E$128","v":0},{"$f":"+B!AL$128","v":0}]
["0903006","Consultoría de salud mental por psiquiatra (sesión 4 hrs.) (mínimo 8 pacientes)",{"$f":"B!C$1246","v":0},{"$f":"B!E$1246","v":0},{"$f":"B!AL$1246","v":0}]
[null,"CONSULTAS POR OTROS PROFESIONALES DE LA SALUD",{"$f":"SUM(C19:C29)","v":0},{"$f":"SUM(D19:D29)","v":0},{"$f":"SUM(E19:E29)","v":0}]
["0102008","Consulta o control por enfermera/o",{"$f":"+B!C$65","v":0},{"$f":"+B!E$65","v":0},{"$f":"+B!AL$65","v":0}]
["0102002","Control de salud niño con EDP por enfermera/o",{"$f":"+B!C$62","v":0},{"$f":"+B!E$62","v":0},{"$f":"+B!AL$62","v":0}]
["0102003","Consulta o control por auxiliar de enfermería",{"$f":"+B!C$63","v":0},{"$f":"+B!E$63","v":0},{"$f":"+B!AL$63","v":0}]
["0102005","Consulta por fonoaudiólogo/a",{"$f":"+B!C$64","v":0},{"$f":"+B!E$64","v":0},{"$f":"+B!AL$64","v":0}]
["0102009","Consulta o control por matron/a",{"$f":"+B!C$66","v":0},{"$f":"+B!E$66","v":0},{"$f":"+B!AL$66","v":0}]
["0102010","Consulta o control por nutricionista",{"$f":"+B!C$67","v":0},{"$f":"+B!E$67","v":0},{"$f":"+B!AL$67","v":0}]
["0903002","Consulta o control psicológico clínico",{"$f":"+B!C$1242","v":0},{"$f":"+B!E$1242","v":0},{"$f":"+B!AL$1242","v":0}]
["0903003","Consulta de salud mental por otros profesionales",{"$f":"+B!C$1243","v":0},{"$f":"+B!E$1243","v":0},{"$f":"+B!AL$1243","v":0}]
["0903004","Intervención psicosocial grupal (4 a 8 pacientes, familiares o cuidadores)",{"$f":"+B!C$1244","v":0},{"$f":"+B!E$1244","v":0},{"$f":"+B!AL$1244","v":0}]
["0903005","Psicoterapia de grupo (por psicólogo o psiquiatra) (4 a 8 pacientes)",{"$f":"+B!C$1245","v":0},{"$f":"+B!E$1245","v":0},{"$f":"+B!AL$1245","v":0}]
[null,"Telemedicina/ Teleconsulta por profesional no médico",{"$f":"+B!C$123","v":0},{"$f":"+B!E$123","v":0},{"$f":"+B!AL$123","v":0}]
[null,"OTRAS CONSULTAS Y ATENCION MEDICA",{"$f":"SUM(C31:C32)","v":0}]
[null,"Consulta por otros profesionales ",{"$f":"+B!C$69","v":0}]
[null,"Consulta por Trabajador(a) Social",{"$f":"+B!C$70","v":0}]
[null,"PROGRAMAS DE REHABILITACION",{"$f":"SUM(C34:C35)","v":0},{"$f":"SUM(D34:D35)","v":0},{"$f":"SUM(E34:E35)","v":0}]
["0903007","Programa de rehabilitación tipo 1 (mensual, grupo 6 a 10 pers.)",{"$f":"+B!C$1247","v":0},{"$f":"B!$E$1247","v":0},{"$f":"B!$AL$1247","v":0}]
["0903008","Programa de rehabilitación tipo 2 (mensual, grupo 5 a 7 pers.)",{"$f":"+B!C$1248","v":0},{"$f":"B!$E$1248","v":0},{"$f":"B!$AL$1248","v":0}]
[null,"OTROS PROGRAMAS",{"$f":"C$37","v":0}]
["0901003","Sesión de terapia electroconvulsivante (hasta 6 sesiones por ciclo o sesiones de mantención) c/ sesión",{"$f":"+B!C$1256","v":0}]
[null,"EDUCACION DE GRUPO",{"$f":"SUM(C39:C44)","v":0},{"$f":"SUM(D39:D44)","v":0},{"$f":"SUM(E39:E44)","v":0}]
["0103001","Educación de grupo por médico",{"$f":"B!C130","v":0},{"$f":"B!E130","v":0},{"$f":"B!AL130","v":0}]
["0103005","Educación de grupo por enfermera",{"$f":"B!C133","v":0},{"$f":"B!E133","v":0},{"$f":"B!AL133","v":0}]
["0103003","Educación de grupo por Trabajador/a Social",{"$f":"B!C131","v":0},{"$f":"B!E131","v":0},{"$f":"B!AL131","v":0}]
["0103004","Educación de grupo por auxiliar de enfermería",{"$f":"B!C132","v":0},{"$f":"B!E132","v":0},{"$f":"B!AL132","v":0}]
["0103006","Educación de grupo por matrona ",{"$f":"B!C134","v":0},{"$f":"B!E134","v":0},{"$f":"B!AL134","v":0}]
["0103007","Educación de grupo por nutricionista",{"$f":"B!C135","v":0},{"$f":"B!E135","v":0},{"$f":"B!AL135","v":0}]
[null,"OTRA EDUCADION DE GRUPO",{"$f":"C46","v":0}]
[null,"Educación de grupo por otro integrante del equipo de salud",{"$f":"B!C137","v":0}]
[null,"VISITAS DOMICILIARIAS",{"$f":"SUM(C48:C52)","v":0},{"$f":"SUM(D48:D52)","v":0},{"$f":"SUM(E48:E52)","v":0}]
["0104004","Visita a domicilio por enfermera",{"$f":"B!C143","v":0},{"$f":"B!E143","v":0},{"$f":"B!AL143","v":0}]
["0104002","Visita a domicilio por asistente social",{"$f":"B!C141","v":0},{"$f":"B!E141","v":0},{"$f":"B!AL141","v":0}]
["0104003","Visita a domicilio por auxiliar de enfermería",{"$f":"B!C142","v":0},{"$f":"B!E142","v":0},{"$f":"B!AL142","v":0}]
["0104005","Visita a domicilio por matrona",{"$f":"B!C144","v":0},{"$f":"B!E144","v":0},{"$f":"B!AL144","v":0}]
["0104006","Visita a domicilio por nutricionista",{"$f":"B!C145","v":0},{"$f":"B!E145","v":0},{"$f":"B!AL145","v":0}]
[null,"OTRAS VISITAS DOMICILIARIAS",{"$f":"SUM(C54:C55)","v":0}]
[null,"Visita a domicilio por otro integrante del equipo de salud",{"$f":"B!C147","v":0}]
[null,"Visita domiciaria por profesional y técnico paramédico",{"$f":"B!C148","v":0}]
[null,"TOTAL ",{"$f":"C10+C18+C33+C38+C47+C30+C36+C45+C53","v":0},{"$f":"D10+D18+D33+D38+D47","v":0},{"$f":"E10+E18+E33+E38+E47","v":0}]
["SECCION B: ATENCION CERRADA, DIAS DE HOSPITALIZACION "]
["CODIGOS","IDENTIFICACION DE PRESTACIONES","TOTAL PRODUCCIÓN","TOTAL BENEFICIARIOS MAI","PAGO POR PRESTACIONES ($)"]
[null,"ATENCION CERRADA "]
["0201010","Dia Cama de Hospitalización Integral Cuidados Básicos",{"$f":"B!C$201","v":0},{"$f":"B!E201","v":0},{"$f":"B!$AL$201","v":0}]
["0201110","Dia Cama de Hospitalización Integral Cuidados Medios",{"$f":"B!C$202","v":0},{"$f":"B!E202","v":0},{"$f":"B!$AL$202","v":0}]
["0201301","Día Cama de Hospitalización Integral Adulto en Unidad de Tratamiento Intermedio (U.T.I)",{"$f":"B!C$203","v":0},{"$f":"B!E203","v":0},{"$f":"B!$AL$203","v":0}]
["0201302","Día Cama de Hospitalización Integral Pediátrica en Unidad de Tratamiento Intermedio (U.T.I)",{"$f":"B!C$204","v":0},{"$f":"B!E204","v":0},{"$f":"B!$AL$204","v":0}]
["0201303","Día Cama de Hospitalización Integral Neonatal en Unidad de Tratamiento Intermedio (U.T.I)",{"$f":"B!C$205","v":0},{"$f":"B!E205","v":0},{"$f":"B!$AL$205","v":0}]
["0201201","Día Cama de Hospitalización Integral Adulto en Unidad de Cuidado Intensivo (U.C.I.) ",{"$f":"B!C$206","v":0},{"$f":"B!E206","v":0},{"$f":"B!$AL$206","v":0}]
["0201202","Día Cama de Hospitalización Integral Pediátrica en Unidad de Cuidado Intensivo (U.C.I). ",{"$f":"B!C$207","v":0},{"$f":"B!E207","v":0},{"$f":"B!$AL$207","v":0}]
["0201203","Día Cama de Hospitalización Integral Neonatal en Unidad de Cuidado Intensivo (U.C.I.)",{"$f":"B!C$208","v":0},{"$f":"B!E208","v":0},{"$f":"B!$AL$208","v":0}]
["0201410","Día Cama de Hospitalización Integral Obstetricia ",{"$f":"B!C$209","v":0},{"$f":"B!E209","v":0},{"$f":"B!$AL$209","v":0}]
["0201403","Día Cama de Hospitalización Integral Sala Cuna",{"$f":"B!C$210","v":0},{"$f":"B!E210","v":0},{"$f":"B!$AL$210","v":0}]
["0201404","Día Cama de Hospitalización Integral Incubadora",{"$f":"B!C$211","v":0},{"$f":"B!E211","v":0},{"$f":"B!$AL$211","v":0}]
["0201406","Día Cama de Hospitalización Integral Psiquiatría ",{"$f":"B!C$212","v":0},{"$f":"B!E212","v":0},{"$f":"B!$AL$212","v":0}]
["0201407","Día Cama de Hospitalizacion Integral de Observación - Ambulatorio",{"$f":"B!C$213","v":0},{"$f":"B!E213","v":0},{"$f":"B!$AL$213","v":0}]
["0201501","Dia Cama Hospitalizacion Domiciliaria Cuidados Básicos",{"$f":"B!C$214","v":0},{"$f":"B!E214","v":0},{"$f":"B!$AL$214","v":0}]
["0201502","Dia Cama Hospitalizacion Domiciliaria Cuidados Medios ",{"$f":"B!C$215","v":0},{"$f":"B!E215","v":0},{"$f":"B!$AL$215","v":0}]
["0201503","Dia Cama Hospitalizacion Domiciliaria Cuidados Alta Complejidad ",{"$f":"B!C$216","v":0},{"$f":"B!E216","v":0},{"$f":"B!$AL$216","v":0}]
[null,"TOTAL ",{"$f":"SUM(C60:C75)","v":0},{"$f":"SUM(D60:D75)","v":0},{"$f":"SUM(E60:E75)","v":0}]
["SECCIÓN C:TRATAMIENTO ABREVIADO DE LA TUBERCULOSIS"]
["CODIGOS","TRATAMIENTO ABREVIADO DE LA TUBERCULOSIS","TOTAL PRODUCCIÓN","TOTAL BENEFICIARIOS MAI","PAGO POR PRESTACIONES ($)"]
[3003001,"TBC, Esquema primario (mensual)",{"$f":"+B!C3170","v":0},{"$f":"+B!E$3170","v":0},{"$f":"+B!AL$3170","v":0}]
["3003002","TBC, Esquema primario simplificado (mensual)",{"$f":"+B!C3171","v":0},{"$f":"+B!E$3171","v":0},{"$f":"+B!AL$3171","v":0}]
["3003003","TBC, Esquema secundario (mensual)",{"$f":"+B!C3172","v":0},{"$f":"+B!E$3172","v":0},{"$f":"+B!AL$3172","v":0}]
["3003004","TBC, Esquema normado de retratamiento (mensual)",{"$f":"+B!C3173","v":0},{"$f":"+B!E$3173","v":0},{"$f":"+B!AL$3173","v":0}]
["3003005","TBC, Esquema especial de retratamiento (mensual)",{"$f":"+B!C3174","v":0},{"$f":"+B!E$3174","v":0},{"$f":"+B!AL$3174","v":0}]
[null,"TOTAL ",{"$f":"SUM(C79:C83)","v":0},{"$f":"SUM(D79:D83)","v":0},{"$f":"SUM(E79:E83)","v":0}]
["SECCIÓN D:TRASLADO, RESCATES Y RONDAS RURALES"]
["CODIGOS","TRASLADO, RESCATES Y RONDAS RURALES","TOTAL PRODUCCIÓN","TOTAL BENEFICIARIOS MAI","PAGO POR PRESTACIONES ($)"]
[2401061,"Rescate simple y/o traslado en móvil 1",{"$f":"+B!C2972","v":0},{"$f":"+B!E$2972","v":0},{"$f":"+B!AL$2972","v":0}]
["2401062","Rescate profesionalizado y/o traslado paciente complejo móvil 2",{"$f":"+B!C2973","v":0},{"$f":"+B!E$2973","v":0},{"$f":"+B!AL$2973","v":0}]
["2401063","Rescate medicalizado y/o traslado paciente critico en móvil 3",{"$f":"+B!C$2974","v":0},{"$f":"+B!E$2974","v":0},{"$f":"+B!AL$2974","v":0}]
["2401064","Traslado en ambulancia",{"$f":"+B!C$2975","v":0},{"$f":"+B!E$2975","v":0},{"$f":"+B!AL$2975","v":0}]
["2401065","Ronda rural terrestre, c/ km recorrido",{"$f":"+B!C$2976","v":0},{"$f":"+B!E$2976","v":0},{"$f":"+B!AL$2976","v":0}]
["2401066","Ronda rural aérea, c/ hora de vuelo",{"$f":"+B!C$2977","v":0},{"$f":"+B!E$2977","v":0},{"$f":"+B!AL$2977","v":0}]
["2401067","Ronda rural marítima, c/ hora de navegación",{"$f":"+B!C$2978","v":0},{"$f":"+B!E$2978","v":0},{"$f":"+B!AL$2978","v":0}]
[null,"TOTAL ",{"$f":"SUM(C87:C93)","v":0},{"$f":"SUM(D87:D93)","v":0},{"$f":"SUM(E87:E93)","v":0}]
["SECCION E: PARTOS"]
["CODIGOS","IDENTIFICACION DE PRESTACIONES","TOTAL PRODUCCIÓN","TOTAL BENEFICIARIOS MAI","PAGO POR PRESTACIONES ($)"]
[2004103,"Parto normal",{"$f":"+B!C2653","v":0},{"$f":"B!$E$2653","v":0},{"$f":"B!$AL$2653","v":0}]
["2004113","Parto distósico vaginal",{"$f":"+B!C2654","v":0},{"$f":"B!$E$2654","v":0},{"$f":"B!$AL$2654","v":0}]
[null,"TOTAL ",{"$f":"SUM(C97:C98)","v":0},{"$f":"SUM(D97:D98)","v":0},{"$f":"SUM(E97:E98)","v":0}]
["SECCION F: ATENCION ODONTOLOGICA"]
[null,"Prestaciones","TOTAL PRODUCCIÓN","TOTAL BENEFICIARIOS MAI","PAGO POR PRESTACIONES ($)"]
["2701XXX","Consulta y atención odontológica",{"$f":"B!$C$2997","v":0},{"$f":"B!$E$2997","v":0},{"$f":"B!$AL$2997","v":0}]
["2702XXX","Exámenes imagenológicos odontológico",{"$f":"+B!$C$3016","v":0},{"$f":"B!$E$3016","v":0},{"$f":"B!$AL$3016","v":0}]
["2703XXX","Odontología general: Actividades preventivas y recuperativas",{"$f":"B!$C$3034","v":0},{"$f":"B!$E$3034","v":0},{"$f":"B!$AL$3034","v":0}]
["2704XXX","Especialidades",{"$f":"B!$C$3066","v":0},{"$f":"B!$E$3066","v":0},{"$f":"B!$AL$3066","v":0}]
["2705XXX","Cirugías",{"$f":"B!C3094","v":0},{"$f":"B!I3094","v":0},{"$f":"B!AL3094","v":0}]
[null,"Otras prestaciones odontológicas",{"$f":"B!$C$3155","v":0}]
[null,"TOTAL",{"$f":"SUM(C102:C107)","v":0},{"$f":"SUM(D102:D106)","v":0},{"$f":"SUM(E102:E106)","v":0}]
["SECCION G: LENTES, AUDIFONOS"]
["CODIGOS","IDENTIFICACION DE PRESTACIONES","TOTAL PRODUCCIÓN ","TOTAL BENEFICIARIOS MAI","PAGO POR PRESTACIONES ($)"]
[3001001,"Lentes ópticos ",{"$f":"+B!C$3158","v":0},{"$f":"+B!E$3158","v":0},{"$f":"B!AL3158","v":0}]
["3001002","Audífonos ",{"$f":"+B!C$3159","v":0},{"$f":"+B!E$3159","v":0},{"$f":"B!AL3159","v":0}]
[null,"TOTAL",{"$f":"SUM(C111:C112)","v":0},{"$f":"SUM(D111:D112)","v":0},{"$f":"SUM(E111:E112)","v":0}]
["SECCIÓN H: MEDICINA TRANSFUSIONAL"]
["CODIGOS","IDENTIFICACION DE PRESTACIONES","TOTAL PRODUCCIÓN ","TOTAL BENEFICIARIOS MAI","PAGO POR PRESTACIONES ($)"]
["Grupo 07","Medicina Transfusional",{"$f":"+B!$C$1224","v":0},{"$f":"B!$E$1224","v":0},{"$f":"B!$AL$1224","v":0}]
["SECCION I: EXAMENES DE DIAGNOSTICO"]
["TIPO DE EXAMEN",null,"TOTAL","EXAMENES REALIZADOS",null,null,null,"PROCEDENCIA",null,null,"PRODUCCION INTRA HOSPITAL",null,null,"OPERATIVO","COMPRAS REALIZADAS",null,"VENTAS DE SERVICIOS","TOTAL DE PROCEDIMIENTOS INFORMADOS","PAGO POR PRESTACIONES ($)"]
[null,null,null,"TOTAL BENEFICIARIOS","BENEFICIARIOS",null,"NO BENEFICIARIOS","ATENCION CERRADA","ATENCION ABIERTA","EMERGENCIA","POR \nHONORARIOS","POR CONVENIOS","POR\nCONSULTORES\nDE LLAMADA",null,"AL SISTEMA ","EXTRA-SISTEMA"]
[null,null,null,null,"MAI","MLE"]
["TOTAL EXAMENES LABORATORIO",null,{"$f":"+C122+C123+C124+C125+C126+C127+C131+C132+C133","v":0},{"$f":"+D122+D123+D124+D125+D126+D127+D131+D132+D133","v":0},0,0,0,0,0,0,0,0,0,0,0,0,{"$f":"+Q122+Q123+Q124+Q125+Q126+Q127+Q131+Q132+Q133","v":0},0,{"$f":"SUM(S122:S126,S127,S131:S133)","v":0}]
["I  ","HEMATOLOGICOS",{"$f":"B!C300","v":0},{"$f":"B!D300","v":0},{"$f":"B!E300","v":0},{"$f":"B!F300","v":0},{"$f":"B!G300","v":0},{"$f":"B!AA300","v":0},{"$f":"B!AB300","v":0},{"$f":"B!AC300","v":0},{"$f":"B!AD300","v":0},{"$f":"B!AE300","v":0},{"$f":"B!AF300","v":0},{"$f":"B!AG300","v":0},{"$f":"B!AH300","v":0},{"$f":"B!AI300","v":0},{"$f":"B!AJ300","v":0},null,{"$f":"B!$AL$300","v":0}]
["II  ","BIOQUIMICOS",{"$f":"B!C381","v":0},{"$f":"B!D381","v":0},{"$f":"B!E381","v":0},{"$f":"B!F381","v":0},{"$f":"B!G381","v":0},{"$f":"B!AA381","v":0},{"$f":"B!AB381","v":0},{"$f":"B!AC381","v":0},{"$f":"B!AD381","v":0},{"$f":"B!AE381","v":0},{"$f":"B!AF381","v":0},{"$f":"B!AG381","v":0},{"$f":"B!AH381","v":0},{"$f":"B!AI381","v":0},{"$f":"B!AJ381","v":0},null,{"$f":"B!$AL$381","v":0}]
["III","HORMONALES",{"$f":"B!C427","v":0},{"$f":"B!D427","v":0},{"$f":"B!E427","v":0},{"$f":"B!F427","v":0},{"$f":"B!G427","v":0},{"$f":"B!AA427","v":0},{"$f":"B!AB427","v":0},{"$f":"B!AC427","v":0},{"$f":"B!AD427","v":0},{"$f":"B!AE427","v":0},{"$f":"B!AF427","v":0},{"$f":"B!AG427","v":0},{"$f":"B!AH427","v":0},{"$f":"B!AI427","v":0},{"$f":"B!AJ427","v":0},null,{"$f":"B!$AL$427","v":0}]
["IV","GENETICA",{"$f":"B!C442","v":0},{"$f":"B!D442","v":0},{"$f":"B!E442","v":0},{"$f":"B!F442","v":0},{"$f":"B!G442","v":0},{"$f":"B!AA442","v":0},{"$f":"B!AB442","v":0},{"$f":"B!AC442","v":0},{"$f":"B!AD442","v":0},{"$f":"B!AE442","v":0},{"$f":"B!AF442","v":0},{"$f":"B!AG442","v":0},{"$f":"B!AH442","v":0},{"$f":"B!AI442","v":0},{"$f":"B!AJ442","v":0},null,{"$f":"B!AL442","v":0}]
["V","INMUNOLOGICOS",{"$f":"B!C522","v":0},{"$f":"B!D522","v":0},{"$f":"B!E522","v":0},{"$f":"B!F522","v":0},{"$f":"B!G522","v":0},{"$f":"B!AA522","v":0},{"$f":"B!AB522","v":0},{"$f":"B!AC522","v":0},{"$f":"B!AD522","v":0},{"$f":"B!AE522","v":0},{"$f":"B!AF522","v":0},{"$f":"B!AG522","v":0},{"$f":"B!AH522","v":0},{"$f":"B!AI522","v":0},{"$f":"B!AJ522","v":0},null,{"$f":"B!$AL$522","v":0}]
["VI  ","MICROBIOLOGICOS",{"$f":"SUM(C128:C130)","v":0},{"$f":"SUM(D128:D130)","v":0},{"$f":"SUM(E128:E130)","v":0},0,0,0,0,0,0,0,0,0,0,0,{"$f":"SUM(Q128:Q130)","v":0},0,{"$f":"SUM(S128:S130)","v":0}]
[null,"a)   BACTERIAS Y HONGOS",{"$f":"B!C582","v":0},{"$f":"B!D582","v":0},{"$f":"B!E582","v":0},{"$f":"B!F582","v":0},{"$f":"B!G582","v":0},{"$f":"B!AA582","v":0},{"$f":"B!AB582","v":0},{"$f":"B!AC582","v":0},{"$f":"B!AD582","v":0},{"$f":"B!AE582","v":0},{"$f":"B!AF582","v":0},{"$f":"B!AG582","v":0},{"$f":"B!AH582","v":0},{"$f":"B!AI582","v":0},{"$f":"B!AJ582","v":0},null,{"$f":"B!$AL$582","v":0}]
[null,"b)   PARASITOS",{"$f":"B!C602","v":0},{"$f":"B!D602","v":0},{"$f":"B!E602","v":0},{"$f":"B!F602","v":0},{"$f":"B!G602","v":0},{"$f":"B!AA602","v":0},{"$f":"B!AB602","v":0},{"$f":"B!AC602","v":0},{"$f":"B!AD602","v":0},{"$f":"B!AE602","v":0},{"$f":"B!AF602","v":0},{"$f":"B!AG602","v":0},{"$f":"B!AH602","v":0},{"$f":"B!AI602","v":0},{"$f":"B!AJ602","v":0},null,{"$f":"B!$AL$602","v":0}]
[null,"c)   VIRUS",{"$f":"B!C650","v":0},{"$f":"B!D650","v":0},{"$f":"B!E650","v":0},{"$f":"B!F650","v":0},{"$f":"B!G650","v":0},{"$f":"B!AA650","v":0},{"$f":"B!AB650","v":0},{"$f":"B!AC650","v":0},{"$f":"B!AD650","v":0},{"$f":"B!AE650","v":0},{"$f":"B!AF650","v":0},{"$f":"B!AG650","v":0},{"$f":"B!AH650","v":0},{"$f":"B!AI650","v":0},{"$f":"B!AJ650","v":0},null,{"$f":"B!$AL$650","v":0}]
["VII","PROCEDIMIENTO O DETERMINACION DIRECTA C/PACIENTE",{"$f":"B!C660","v":0},{"$f":"B!D660","v":0},{"$f":"B!E660","v":0},{"$f":"B!F660","v":0},{"$f":"B!G660","v":0},{"$f":"B!AA660","v":0},{"$f":"B!AB660","v":0},{"$f":"B!AC660","v":0},{"$f":"B!AD660","v":0},{"$f":"B!AE660","v":0},{"$f":"B!AF660","v":0},{"$f":"B!AG660","v":0},{"$f":"B!AH660","v":0},{"$f":"B!AI660","v":0},{"$f":"B!AJ660","v":0},null,{"$f":"B!$AL$660","v":0}]
["VIII  ","EX.  DE DEPOSICIONES EXUDADOS. SECREC. Y OTROS LIQ.  ",{"$f":"B!C721","v":0},{"$f":"B!D721","v":0},{"$f":"B!E721","v":0},{"$f":"B!F721","v":0},{"$f":"B!G721","v":0},{"$f":"B!AA721","v":0},{"$f":"B!AB721","v":0},{"$f":"B!AC721","v":0},{"$f":"B!AD721","v":0},{"$f":"B!AE721","v":0},{"$f":"B!AF721","v":0},{"$f":"B!AG721","v":0},{"$f":"B!AH721","v":0},{"$f":"B!AI721","v":0},{"$f":"B!AJ721","v":0},null,{"$f":"B!$AL$721","v":0}]
["IX   ","ORINA",{"$f":"B!C764","v":0},{"$f":"B!D764","v":0},{"$f":"B!E764","v":0},{"$f":"B!F764","v":0},{"$f":"B!G764","v":0},{"$f":"B!AA764","v":0},{"$f":"B!AB764","v":0},{"$f":"B!AC764","v":0},{"$f":"B!AD764","v":0},{"$f":"B!AE764","v":0},{"$f":"B!AF764","v":0},{"$f":"B!AG764","v":0},{"$f":"B!AH764","v":0},{"$f":"B!AI764","v":0},{"$f":"B!AJ764","v":0},null,{"$f":"B!$AL$764","v":0}]
["TOTAL EXAMENES IMAGENOLOGIA",null,{"$f":"+C135+C136+C137+C138+C142+C143","v":0},0,0,0,0,0,0,0,0,0,0,0,0,0,{"$f":"+Q135+Q136+Q137+Q138+Q142+Q143","v":0},{"$f":"+R135+R136+R137","v":0},{"$f":"+S135+S136+S137+S138+S142","v":0}]
["I. a)","EX. RADIOLOGICOS SIMPLES",{"$f":"B!C824","v":0},{"$f":"B!D824","v":0},{"$f":"B!E824","v":0},{"$f":"B!F824","v":0},{"$f":"B!G824","v":0},{"$f":"B!AA824","v":0},{"$f":"B!AB824","v":0},{"$f":"B!AC824","v":0},{"$f":"B!AD824","v":0},{"$f":"B!AE824","v":0},{"$f":"B!AF824","v":0},{"$f":"B!AG824","v":0},{"$f":"B!AH824","v":0},{"$f":"B!AI824","v":0},{"$f":"B!AJ824","v":0},null,{"$f":"B!$AL$824","v":0}]
["I. b)","EX. RADIOLOGICOS COMPLEJOS",{"$f":"B!C847","v":0},{"$f":"B!D847","v":0},{"$f":"B!E847","v":0},{"$f":"B!F847","v":0},{"$f":"B!G847","v":0},{"$f":"B!AA847","v":0},{"$f":"B!AB847","v":0},{"$f":"B!AC847","v":0},{"$f":"B!AD847","v":0},{"$f":"B!AE847","v":0},{"$f":"B!AF847","v":0},{"$f":"B!AG847","v":0},{"$f":"B!AH847","v":0},{"$f":"B!AI847","v":0},{"$f":"B!AJ847","v":0},null,{"$f":"B!$AL$847","v":0}]
["II.","TOMOGRAFIA AXIAL COMP.",{"$f":"B!C877","v":0},{"$f":"B!D877","v":0},{"$f":"B!E877","v":0},{"$f":"B!F877","v":0},{"$f":"B!G877","v":0},{"$f":"B!AA877","v":0},{"$f":"B!AB877","v":0},{"$f":"B!AC877","v":0},{"$f":"B!AD877","v":0},{"$f":"B!AE877","v":0},{"$f":"B!AF877","v":0},{"$f":"B!AG877","v":0},{"$f":"B!AH877","v":0},{"$f":"B!AI877","v":0},{"$f":"B!AJ877","v":0},null,{"$f":"B!$AL$877","v":0}]
["III","ULTRASONOGRAFIA",{"$f":"SUM(C139:C141)","v":0},{"$f":"SUM(D139:D141)","v":0},{"$f":"SUM(E139:E141)","v":0},0,0,0,0,0,0,0,0,{"$f":"SUM(N139:N141)","v":0},0,0,{"$f":"SUM(Q139:Q141)","v":0},{"$f":"SUM(R139:R142)","v":0},{"$f":"SUM(S139:S141)","v":0}]
[null,"Ecotomografias ( Sin Ecografía Obstetr. Y Abdominal )",{"$f":"B!C902-B!C879-B!C880","v":0},{"$f":"B!D902-B!D879-B!D880","v":0},{"$f":"B!E902-B!E879-B!E880","v":0},{"$f":"B!F902-B!F879-B!F880","v":0},{"$f":"B!G902-B!G879-B!G880","v":0},{"$f":"B!AA902-B!AA879-B!AA880","v":0},{"$f":"B!AB902-B!AB879-B!AB880","v":0},{"$f":"B!AC902-B!AC879-B!AC880","v":0},{"$f":"B!AD902-B!AD879-B!AD880","v":0},{"$f":"B!AE902-B!AE879-B!AE880","v":0},{"$f":"B!AF902-B!AF879-B!AF880","v":0},{"$f":"B!AG902-B!AG879-B!AG880","v":0},{"$f":"B!AH902-B!AH879-B!AH880","v":0},{"$f":"B!AI902-B!AI879-B!AI880","v":0},{"$f":"B!AJ902-B!AJ879-B!AJ880","v":0},null,{"$f":"B!$AL$902-B!$AL$879-B!$AL$880","v":0}]
[null,"Ecografías Obstétricas",{"$f":"B!C879","v":0},{"$f":"B!D879","v":0},{"$f":"B!E879","v":0},{"$f":"B!F879","v":0},{"$f":"B!G879","v":0},{"$f":"B!AA879","v":0},{"$f":"B!AB879","v":0},{"$f":"B!AC879","v":0},{"$f":"B!AD879","v":0},{"$f":"B!AE879","v":0},{"$f":"B!AF879","v":0},{"$f":"B!AG879","v":0},{"$f":"B!AH879","v":0},{"$f":"B!AI879","v":0},{"$f":"B!AJ879","v":0},null,{"$f":"B!$AL$879","v":0}]
[null,"Ecotomografias abdominal ",{"$f":"B!C880","v":0},{"$f":"B!D880","v":0},{"$f":"B!E880","v":0},{"$f":"B!F880","v":0},{"$f":"B!G880","v":0},{"$f":"B!AA880","v":0},{"$f":"B!AB880","v":0},{"$f":"B!AC880","v":0},{"$f":"B!AD880","v":0},{"$f":"B!AE880","v":0},{"$f":"B!AF880","v":0},{"$f":"B!AG880","v":0},{"$f":"B!AH880","v":0},{"$f":"B!AI880","v":0},{"$f":"B!AJ880","v":0},null,{"$f":"B!$AL$880","v":0}]
["IV","RESONANCIA MAGNÉTICA ",{"$f":"B!C944","v":0},{"$f":"B!D944","v":0},{"$f":"B!E944","v":0},{"$f":"B!F944","v":0},{"$f":"B!G944","v":0},{"$f":"B!AA944","v":0},{"$f":"B!AB944","v":0},{"$f":"B!AC944","v":0},{"$f":"B!AD944","v":0},{"$f":"B!AE944","v":0},{"$f":"B!AF944","v":0},{"$f":"B!AG944","v":0},{"$f":"B!AH944","v":0},{"$f":"B!AI944","v":0},{"$f":"B!AJ944","v":0},null,{"$f":"B!$AL$944","v":0}]
[null,"OTROS EXÁMENES DE IMÁGENES",{"$f":"B!C988","v":0},{"$f":"B!D988","v":0},{"$f":"B!E988","v":0},{"$f":"B!F988","v":0},{"$f":"B!G988","v":0},{"$f":"B!AA988","v":0},{"$f":"B!AB988","v":0},{"$f":"B!AC988","v":0},{"$f":"B!AD988","v":0},{"$f":"B!AE988","v":0},{"$f":"B!AF988","v":0},{"$f":"B!AG988","v":0},{"$f":"B!AH988","v":0},{"$f":"B!AI988","v":0},{"$f":"B!AJ988","v":0}]
["TOMA DE MUESTRAS",null,{"$f":"B!C671","v":0},{"$f":"B!D671","v":0},{"$f":"B!E671","v":0},{"$f":"B!F671","v":0},{"$f":"B!G671","v":0},{"$f":"B!AA671","v":0},{"$f":"B!AB671","v":0},{"$f":"B!AC671","v":0},{"$f":"B!AD671","v":0},{"$f":"B!AE671","v":0},{"$f":"B!AF671","v":0},{"$f":"B!AG671","v":0},{"$f":"B!AH671","v":0},{"$f":"B!AI671","v":0},{"$f":"B!AJ671","v":0}]
["EXAMENES ANATOMIA PATOLOGICA",null,{"$f":"B!C1240","v":0},{"$f":"B!D1240","v":0},{"$f":"B!E1240","v":0},{"$f":"B!F1240","v":0},{"$f":"B!G1240","v":0},{"$f":"B!AA1240","v":0},{"$f":"B!AB1240","v":0},{"$f":"B!AC1240","v":0},{"$f":"B!AD1240","v":0},{"$f":"B!AE1240","v":0},{"$f":"B!AF1240","v":0},{"$f":"B!AG1240","v":0},{"$f":"B!AH1240","v":0},{"$f":"B!AI1240","v":0},{"$f":"B!AJ1240","v":0},null,{"$f":"B!$AL$1240","v":0}]
["SECCION J:  MEDICINA NUCLEAR Y RADIOTERAPIA"]
["TIPO DE PROCEDIMIENTO",null,"TOTAL","PROCEDIMIENTOS",null,null,null,"PROCEDENCIA",null,null,"PRODUCCION INTRA HOSPITAL",null,null,"OPERATIVO","COMPRAS REALIZADAS",null,"VENTAS DE SERVICIOS","PAGO POR PRESTACIONES ($)"]
[null,null,null,"TOTAL BENEFICIARIOS","BENEFICIARIOS",null,"NO BENEFICIARIOS","ATENCION CERRADA","ATENCION ABIERTA","EMERGENCIA","POR \nHONORARIOS","POR CONVENIOS","POR\nCONSULTORES\nDE LLAMADA",null,"AL SISTEMA ","EXTRA-SISTEMA"]
[null,null,null,null,"MAI","MLE"]
["MEDICINA NUCLEAR",null,{"$f":"+B!C997+B!C1005+B!C1014+B!C1024+B!C1031+B!C1035+B!C1039+B!C1043+B!C1051+B!C1054+B!C1057","v":0},{"$f":"+B!D997+B!D1005+B!D1014+B!D1024+B!D1031+B!D1035+B!D1039+B!D1043+B!D1051+B!D1054+B!D1057","v":0},{"$f":"+B!E997+B!E1005+B!E1014+B!E1024+B!E1031+B!E1035+B!E1039+B!E1043+B!E1051+B!E1054+B!E1057","v":0},{"$f":"+B!F997+B!F1005+B!F1014+B!F1024+B!F1031+B!F1035+B!F1039+B!F1043+B!F1051+B!F1054+B!F1057","v":0},{"$f":"+B!G997+B!G1005+B!G1014+B!G1024+B!G1031+B!G1035+B!G1039+B!G1043+B!G1051+B!G1054+B!G1057","v":0},{"$f":"+B!AA997+B!AA1005+B!AA1014+B!AA1024+B!AA1031+B!AA1035+B!AA1039+B!AA1043+B!AA1051+B!AA1054+B!AA1057","v":0},{"$f":"+B!AB997+B!AB1005+B!AB1014+B!AB1024+B!AB1031+B!AB1035+B!AB1039+B!AB1043+B!AB1051+B!AB1054+B!AB1057","v":0},{"$f":"+B!AC997+B!AC1005+B!AC1014+B!AC1024+B!AC1031+B!AC1035+B!AC1039+B!AC1043+B!AC1051+B!AC1054+B!AC1057","v":0},{"$f":"+B!AD997+B!AD1005+B!AD1014+B!AD1024+B!AD1031+B!AD1035+B!AD1039+B!AD1043+B!AD1051+B!AD1054+B!AD1057","v":0},{"$f":"+B!AE997+B!AE1005+B!AE1014+B!AE1024+B!AE1031+B!AE1035+B!AE1039+B!AE1043+B!AE1051+B!AE1054+B!AE1057","v":0},{"$f":"+B!AF997+B!AF1005+B!AF1014+B!AF1024+B!AF1031+B!AF1035+B!AF1039+B!AF1043+B!AF1051+B!AF1054+B!AF1057","v":0},{"$f":"+B!AG997+B!AG1005+B!AG1014+B!AG1024+B!AG1031+B!AG1035+B!AG1039+B!AG1043+B!AG1051+B!AG1054+B!AG1057","v":0},{"$f":"+B!AH997+B!AH1005+B!AH1014+B!AH1024+B!AH1031+B!AH1035+B!AH1039+B!AH1043+B!AH1051+B!AH1054+B!AH1057","v":0},{"$f":"+B!AI997+B!AI1005+B!AI1014+B!AI1024+B!AI1031+B!AI1035+B!AI1039+B!AI1043+B!AI1051+B!AI1054+B!AI1057","v":0},{"$f":"+B!AJ997+B!AJ1005+B!AJ1014+B!AJ1024+B!AJ1031+B!AJ1035+B!AJ1039+B!AJ1043+B!AJ1051+B!AJ1054+B!AJ1057","v":0},{"$f":"+B!AL997+B!AL1005+B!AL1014+B!AL1024+B!AL1031+B!AL1035+B!AL1039+B!AL1043+B!AL1051+B!AL1054+B!AL1057","v":0}]
["BRAQUITERAPIA",null,{"$f":"B!C1071","v":0},{"$f":"B!D1071","v":0},{"$f":"B!E1071","v":0},{"$f":"B!F1071","v":0},{"$f":"B!G1071","v":0},{"$f":"B!AA1071","v":0},{"$f":"B!AB1071","v":0},{"$f":"B!AC1071","v":0},{"$f":"B!AD1071","v":0},{"$f":"B!AE1071","v":0},{"$f":"B!AF1071","v":0},{"$f":"B!AG1071","v":0},{"$f":"B!AH1071","v":0},{"$f":"B!AI1071","v":0},{"$f":"B!AJ1071","v":0},{"$f":"B!AL1071","v":0}]
["RADIOTERAPIA",null,{"$f":"B!C1081","v":0},{"$f":"B!D1081","v":0},{"$f":"B!E1081","v":0},{"$f":"B!F1081","v":0},{"$f":"B!G1081","v":0},{"$f":"B!AA1081","v":0},{"$f":"B!AB1081","v":0},{"$f":"B!AC1081","v":0},{"$f":"B!AD1081","v":0},{"$f":"B!AE1081","v":0},{"$f":"B!AF1081","v":0},{"$f":"B!AG1081","v":0},{"$f":"B!AH1081","v":0},{"$f":"B!AI1081","v":0},{"$f":"B!AJ1081","v":0},{"$f":"B!AL1081","v":0}]
["QUIMIOTERAPIA",null,{"$f":"B!C1101","v":0},{"$f":"B!D1101","v":0},{"$f":"B!E1101","v":0},{"$f":"B!F1101","v":0},{"$f":"B!G1101","v":0},{"$f":"B!AA1101","v":0},{"$f":"B!AB1101","v":0},{"$f":"B!AC1101","v":0},{"$f":"B!AD1101","v":0},{"$f":"B!AE1101","v":0},{"$f":"B!AF1101","v":0},{"$f":"B!AG1101","v":0},{"$f":"B!AH1101","v":0},{"$f":"B!AI1101","v":0},{"$f":"B!AJ1101","v":0},{"$f":"B!AL1101","v":0}]
["RADIOCIRUGÍA",null,{"$f":"B!C1104","v":0},{"$f":"B!D1104","v":0},{"$f":"B!E1104","v":0},{"$f":"B!F1104","v":0},{"$f":"B!G1104","v":0},{"$f":"B!AA1104","v":0},{"$f":"B!AB1104","v":0},{"$f":"B!AC1104","v":0},{"$f":"B!AD1104","v":0},{"$f":"B!AE1104","v":0},{"$f":"B!AF1104","v":0},{"$f":"B!AG1104","v":0},{"$f":"B!AH1104","v":0},{"$f":"B!AI1104","v":0},{"$f":"B!AJ1104","v":0},{"$f":"B!AL1104","v":0}]
["TOTAL ",null,{"$f":"SUM(C150+C151+C152+C153+C154)","v":0},{"$f":"SUM(D150+D151+D152+D153+D154)","v":0},{"$f":"SUM(E150+E151+E152+E153+E154)","v":0},{"$f":"SUM(F150+F151+F152+F153+F154)","v":0},0,0,0,0,0,0,0,0,0,0,0,{"$f":"SUM(R150+R151+R152+R153+R154)","v":0}]
["SECCION K:  HEMODIALISIS"]
["HEMODIALISIS",null,"TOTAL","PROCEDIMIENTOS",null,null,null,"PROCEDENCIA",null,null,"PRODUCCION INTRA HOSPITAL",null,null,"OPERATIVO","COMPRAS REALIZADAS",null,"VENTAS DE SERVICIOS","PAGO POR PRESTACIONES ($)"]
[null,null,null,"TOTAL BENEFI-CIARIOS","BENEFICIARIOS",null,"NO BENEFI-CIARIOS","ATENCION CERRADA","ATENCION ABIERTA","EMERGENCIA","POR \nHONORARIOS","POR CONVENIOS","POR\nCONSULTORES\nDE LLAMADA",null,"AL SISTEMA ","EXTRA-SISTEMA"]
[null,null,null,null,"MAI","MLE"]
[1901023,"Hemodiálisis con insumos incluidos",{"$f":"B!C2470","v":0},{"$f":"B!D2470","v":0},{"$f":"B!E2470","v":0},{"$f":"B!F2470","v":0},{"$f":"B!G2470","v":0},{"$f":"B!AA2470","v":0},{"$f":"B!AB2470","v":0},{"$f":"B!AC2470","v":0},{"$f":"B!AD2470","v":0},{"$f":"B!AE2470","v":0},{"$f":"B!AF2470","v":0},{"$f":"B!AG2470","v":0},{"$f":"B!AH2470","v":0},{"$f":"B!AI2470","v":0},{"$f":"B!AJ2470","v":0},{"$f":"B!AL2470","v":0}]
[1901024,"Hemodiálisis sin insumos",{"$f":"B!C2471","v":0},{"$f":"B!D2471","v":0},{"$f":"B!E2471","v":0},{"$f":"B!F2471","v":0},{"$f":"B!G2471","v":0},{"$f":"B!AA2471","v":0},{"$f":"B!AB2471","v":0},{"$f":"B!AC2471","v":0},{"$f":"B!AD2471","v":0},{"$f":"B!AE2471","v":0},{"$f":"B!AF2471","v":0},{"$f":"B!AG2471","v":0},{"$f":"B!AH2471","v":0},{"$f":"B!AI2471","v":0},{"$f":"B!AJ2471","v":0},{"$f":"B!AL2471","v":0}]
[1901025,"Peritoneodiálisis  (incluye insumos)",{"$f":"B!C2472","v":0},{"$f":"B!D2472","v":0},{"$f":"B!E2472","v":0},{"$f":"B!F2472","v":0},{"$f":"B!G2472","v":0},{"$f":"B!AA2472","v":0},{"$f":"B!AB2472","v":0},{"$f":"B!AC2472","v":0},{"$f":"B!AD2472","v":0},{"$f":"B!AE2472","v":0},{"$f":"B!AF2472","v":0},{"$f":"B!AG2472","v":0},{"$f":"B!AH2472","v":0},{"$f":"B!AI2472","v":0},{"$f":"B!AJ2472","v":0},{"$f":"B!AL2472","v":0}]
[1901026,"Peritoneodiálisis continua en paciente crónico (adulto o niños) (tratamiento mensual)",{"$f":"B!C2473","v":0},{"$f":"B!D2473","v":0},{"$f":"B!E2473","v":0},{"$f":"B!F2473","v":0},{"$f":"B!G2473","v":0},{"$f":"B!AA2473","v":0},{"$f":"B!AB2473","v":0},{"$f":"B!AC2473","v":0},{"$f":"B!AD2473","v":0},{"$f":"B!AE2473","v":0},{"$f":"B!AF2473","v":0},{"$f":"B!AG2473","v":0},{"$f":"B!AH2473","v":0},{"$f":"B!AI2473","v":0},{"$f":"B!AJ2473","v":0},{"$f":"B!AL2473","v":0}]
[1901126,"Instalación de cateter para peritoneodiális",{"$f":"B!C2474","v":0},{"$f":"B!D2474","v":0},{"$f":"B!E2474","v":0},{"$f":"B!F2474","v":0},{"$f":"B!G2474","v":0},{"$f":"B!AA2474","v":0},{"$f":"B!AB2474","v":0},{"$f":"B!AC2474","v":0},{"$f":"B!AD2474","v":0},{"$f":"B!AE2474","v":0},{"$f":"B!AF2474","v":0},{"$f":"B!AG2474","v":0},{"$f":"B!AH2474","v":0},{"$f":"B!AI2474","v":0},{"$f":"B!AJ2474","v":0},{"$f":"B!AL2474","v":0}]
[1901027,"Hemodiálisis, tratamiento mensual (con insumos incluidos)",{"$f":"B!C2475","v":0},{"$f":"B!D2475","v":0},{"$f":"B!E2475","v":0},{"$f":"B!F2475","v":0},{"$f":"B!G2475","v":0},{"$f":"B!AA2475","v":0},{"$f":"B!AB2475","v":0},{"$f":"B!AC2475","v":0},{"$f":"B!AD2475","v":0},{"$f":"B!AE2475","v":0},{"$f":"B!AF2475","v":0},{"$f":"B!AG2475","v":0},{"$f":"B!AH2475","v":0},{"$f":"B!AI2475","v":0},{"$f":"B!AJ2475","v":0},{"$f":"B!AL2475","v":0}]
[1901028,"Hemodiálisis con bicarbonato con insumos (por sesion)",{"$f":"B!C2476","v":0},{"$f":"B!D2476","v":0},{"$f":"B!E2476","v":0},{"$f":"B!F2476","v":0},{"$f":"B!G2476","v":0},{"$f":"B!AA2476","v":0},{"$f":"B!AB2476","v":0},{"$f":"B!AC2476","v":0},{"$f":"B!AD2476","v":0},{"$f":"B!AE2476","v":0},{"$f":"B!AF2476","v":0},{"$f":"B!AG2476","v":0},{"$f":"B!AH2476","v":0},{"$f":"B!AI2476","v":0},{"$f":"B!AJ2476","v":0},{"$f":"B!AL2476","v":0}]
[1901029,"Hemodiálisis con bicarbonato con insumos (tratamiento mensual)",{"$f":"B!C2477","v":0},{"$f":"B!D2477","v":0},{"$f":"B!E2477","v":0},{"$f":"B!F2477","v":0},{"$f":"B!G2477","v":0},{"$f":"B!AA2477","v":0},{"$f":"B!AB2477","v":0},{"$f":"B!AC2477","v":0},{"$f":"B!AD2477","v":0},{"$f":"B!AE2477","v":0},{"$f":"B!AF2477","v":0},{"$f":"B!AG2477","v":0},{"$f":"B!AH2477","v":0},{"$f":"B!AI2477","v":0},{"$f":"B!AJ2477","v":0},{"$f":"B!AL2477","v":0}]
[1901031,"Instalación de catéter de peritoneodiálisis laparoscopia",{"$f":"B!C2478","v":0},{"$f":"B!D2478","v":0},{"$f":"B!E2478","v":0},{"$f":"B!F2478","v":0},{"$f":"B!G2478","v":0},{"$f":"B!AA2478","v":0},{"$f":"B!AB2478","v":0},{"$f":"B!AC2478","v":0},{"$f":"B!AD2478","v":0},{"$f":"B!AE2478","v":0},{"$f":"B!AF2478","v":0},{"$f":"B!AG2478","v":0},{"$f":"B!AH2478","v":0},{"$f":"B!AI2478","v":0},{"$f":"B!AJ2478","v":0},{"$f":"B!AL2478","v":0}]
["1901032","Retiro de catéter de peritoneodiálisis",{"$f":"B!C2479","v":0},{"$f":"B!D2479","v":0},{"$f":"B!E2479","v":0},{"$f":"B!F2479","v":0},{"$f":"B!G2479","v":0},{"$f":"B!AA2479","v":0},{"$f":"B!AB2479","v":0},{"$f":"B!AC2479","v":0},{"$f":"B!AD2479","v":0},{"$f":"B!AE2479","v":0},{"$f":"B!AF2479","v":0},{"$f":"B!AG2479","v":0},{"$f":"B!AH2479","v":0},{"$f":"B!AI2479","v":0},{"$f":"B!AJ2479","v":0},{"$f":"B!AL2479","v":0}]
[1901033,"Revisión de catéter de peritoneodiálisis laparoscopia",{"$f":"B!C2480","v":0},{"$f":"B!D2480","v":0},{"$f":"B!E2480","v":0},{"$f":"B!F2480","v":0},{"$f":"B!G2480","v":0},{"$f":"B!AA2480","v":0},{"$f":"B!AB2480","v":0},{"$f":"B!AC2480","v":0},{"$f":"B!AD2480","v":0},{"$f":"B!AE2480","v":0},{"$f":"B!AF2480","v":0},{"$f":"B!AG2480","v":0},{"$f":"B!AH2480","v":0},{"$f":"B!AI2480","v":0},{"$f":"B!AJ2480","v":0},{"$f":"B!AL2480","v":0}]
["TOTAL",null,{"$f":"SUM(C160:C170)","v":0},{"$f":"SUM(D160:D170)","v":0},0,0,0,0,0,0,0,0,0,0,0,0,0,{"$f":"SUM(R160:R170)","v":0}]
["SECCION L: INTERVENCIONES QUIRURGICAS"]
["TIPO DE INTERVENCION QUIRURGICA",null,"TOTAL PRODUCCIÓN","TOTAL BENEFICIARIOS","INTERVENCIONES QUIRÚRGICAS",null,null,null,null,null,"CIRUGÍAS MENORES","PRODUCCION INTRA HOSPITAL",null,null,"OPERATIVO","COMPRAS REALIZADAS",null,"VENTAS DE SERVICIOS","INTERVENCIONES 100%","INTERVENCIONES 50%","INTERVENCIONES 75%","PAGO POR PRESTACIONES ($)"]
[null,null,null,null,"PRINCIPAL",null,null,"SECUNDARIA"]
[null,null,null,null,"MAI","MLE","NO BENEFI-CIARIOS","MAI","MLE","NO BENEFI-CIARIOS",null,"POR \nHONORARIOS","POR CONVENIOS","POR\nCONSULTORES\nDE LLAMADA",null,"AL SISTEMA ","EXTRA-SISTEMA"]
["I","NEUROCIRUGIA",{"$f":"B!$C$1412","v":0},{"$f":"B!H1412","v":0},{"$f":"B!I1412","v":0},{"$f":"B!J1412","v":0},{"$f":"B!K1412","v":0},{"$f":"B!L1412","v":0},{"$f":"B!M1412","v":0},{"$f":"B!N1412","v":0},null,{"$f":"B!AD1412","v":0},{"$f":"B!AE1412","v":0},{"$f":"B!AF1412","v":0},{"$f":"B!AG1412","v":0},{"$f":"B!AH1412","v":0},{"$f":"B!AI1412","v":0},{"$f":"B!AJ1412","v":0},{"$f":"B!$I$1412","v":0},{"$f":"B!$L$1412","v":0},null,{"$f":"B!AL1412","v":0}]
["II","CIRUGIA OFTALMOLOGICA",{"$f":"B!C1547","v":0},{"$f":"B!H1547","v":0},{"$f":"B!I1547","v":0},{"$f":"B!J1547","v":0},{"$f":"B!K1547","v":0},{"$f":"B!L1547","v":0},{"$f":"B!M1547","v":0},{"$f":"B!N1547","v":0},{"$f":"+B!C1463+B!C1464+B!C1465+B!C1466+B!C1467+B!C1468+B!C1472+B!C1473+B!C1474+B!C1476+B!C1477+B!C1478+B!C1480+B!C1481+B!C1482+B!C1484+B!C1486+B!C1487+B!C1489+B!C1490+B!C1493+B!C1494+B!C1509+B!C1510+B!C1526+B!C1528+B!C1529+B!C1542+B!C1543+B!C1544+B!C1545","v":0},{"$f":"B!AD1547","v":0},{"$f":"B!AE1547","v":0},{"$f":"B!AF1547","v":0},{"$f":"B!AG1547","v":0},{"$f":"B!AH1547","v":0},{"$f":"B!AI1547","v":0},{"$f":"B!AJ1547","v":0},{"$f":"B!$I$1547","v":0},{"$f":"B!$L$1547","v":0},null,{"$f":"B!$AL$1547","v":0}]
["III","CIRUGIA OTORRINOLOGICA",{"$f":"B!C1728","v":0},{"$f":"B!H1728","v":0},{"$f":"B!I1728","v":0},{"$f":"B!J1728","v":0},{"$f":"B!K1728","v":0},{"$f":"B!L1728","v":0},{"$f":"B!M1728","v":0},{"$f":"B!N1728","v":0},{"$f":"+B!C1620+B!C1621+B!C1622+B!C1623+B!C1624+B!C1628+B!C1632+B!C1657+B!C1658+B!C1659+B!C1660+B!C1661+B!C1662+B!C1665+B!C1666+B!C1673+B!C1674+B!C1676+B!C1677+B!C1682+B!C1684+B!C1685+B!C1692+B!C1705+B!C1711+B!C1712+B!C1721+B!C1724","v":0},{"$f":"B!AD1728","v":0},{"$f":"B!AE1728","v":0},{"$f":"B!AF1728","v":0},{"$f":"B!AG1728","v":0},{"$f":"B!AH1728","v":0},{"$f":"B!AI1728","v":0},{"$f":"B!AJ1728","v":0},{"$f":"B!$I$1728","v":0},{"$f":"B!$L$1728","v":0},null,{"$f":"B!AL1728","v":0}]
["IV","CIRUGIA DE CABEZA Y CUELLO",{"$f":"B!C1792","v":0},{"$f":"B!H1792","v":0},{"$f":"B!I1792","v":0},{"$f":"B!J1792","v":0},{"$f":"B!K1792","v":0},{"$f":"B!L1792","v":0},{"$f":"B!M1792","v":0},{"$f":"B!N1792","v":0},{"$f":"SUM(B!C1751,B!C1753:'B'!C1754,B!C1758:'B'!C1759,B!C1761,B!C1785,B!C1787,B!C1790:'B'!C1791)","v":0},{"$f":"B!AD1792","v":0},{"$f":"B!AE1792","v":0},{"$f":"B!AF1792","v":0},{"$f":"B!AG1792","v":0},{"$f":"B!AH1792","v":0},{"$f":"B!AI1792","v":0},{"$f":"B!AJ1792","v":0},{"$f":"B!$I$1792","v":0},{"$f":"B!$L$1792","v":0},null,{"$f":"B!AL1792","v":0}]
["V","CIRUGIA PLASTICA Y REPARADORA",{"$f":"B!C1866","v":0},{"$f":"B!H1866","v":0},{"$f":"B!I1866","v":0},{"$f":"B!J1866","v":0},{"$f":"B!K1866","v":0},{"$f":"B!L1866","v":0},{"$f":"B!M1866","v":0},{"$f":"B!N1866","v":0},{"$f":"SUM(B!C1795:'B'!C1801,B!C1806,B!C1808,B!C1813,B!C1824:'B'!C1825,B!C1856,B!C1860:'B'!C1863)","v":0},{"$f":"B!AD1866","v":0},{"$f":"B!AE1866","v":0},{"$f":"B!AF1866","v":0},{"$f":"B!AG1866","v":0},{"$f":"B!AH1866","v":0},{"$f":"B!AI1866","v":0},{"$f":"B!AJ1866","v":0},{"$f":"B!$I$1866","v":0},{"$f":"B!$L$1866","v":0},null,{"$f":"B!AL1866","v":0}]
["VI","DERMATOLOGÍA Y TEGUMENTOS     ",{"$f":"B!C1909","v":0},{"$f":"B!H1909","v":0},{"$f":"B!I1909","v":0},{"$f":"B!J1909","v":0},{"$f":"B!K1909","v":0},{"$f":"B!L1909","v":0},{"$f":"B!M1909","v":0},{"$f":"B!N1909","v":0},{"$f":"SUM(B!C1885:C1907)","v":0},{"$f":"B!AD1909","v":0},{"$f":"B!AE1909","v":0},{"$f":"B!AF1909","v":0},{"$f":"B!AG1909","v":0},{"$f":"B!AH1909","v":0},{"$f":"B!AI1909","v":0},{"$f":"B!AJ1909","v":0},{"$f":"B!$I$1909","v":0},{"$f":"B!$L$1909","v":0},null,{"$f":"B!AL1909","v":0}]
["VII","CIRUGIA CARDIOVASCULAR",{"$f":"B!C2068","v":0},{"$f":"B!H2068","v":0},{"$f":"B!I2068","v":0},{"$f":"B!J2068","v":0},{"$f":"B!K2068","v":0},{"$f":"B!L2068","v":0},{"$f":"B!M2068","v":0},{"$f":"B!N2068","v":0},{"$f":"+B!C2005+B!C2009+B!C2021+B!C2022","v":0},{"$f":"B!AD2068","v":0},{"$f":"B!AE2068","v":0},{"$f":"B!AF2068","v":0},{"$f":"B!AG2068","v":0},{"$f":"B!AH2068","v":0},{"$f":"B!AI2068","v":0},{"$f":"B!AJ2068","v":0},{"$f":"B!$I$2068","v":0},{"$f":"B!$L$2068","v":0},null,{"$f":"B!AL2068","v":0}]
["VIII","CIRUGIA DE TORAX",{"$f":"B!C2170","v":0},{"$f":"B!H2170","v":0},{"$f":"B!I2170","v":0},{"$f":"B!J2170","v":0},{"$f":"B!K2170","v":0},{"$f":"B!L2170","v":0},{"$f":"B!M2170","v":0},{"$f":"B!N2170","v":0},{"$f":"B!C2109","v":0},{"$f":"B!AD2170","v":0},{"$f":"B!AE2170","v":0},{"$f":"B!AF2170","v":0},{"$f":"B!AG2170","v":0},{"$f":"B!AH2170","v":0},{"$f":"B!AI2170","v":0},{"$f":"B!AJ2170","v":0},{"$f":"B!$I$2170","v":0},{"$f":"B!$L$2170","v":0},null,{"$f":"B!AL2170","v":0}]
["IX","CIRUGIA ABDOMINAL",{"$f":"B!C2398","v":0},{"$f":"B!H2398","v":0},{"$f":"B!I2398","v":0},{"$f":"B!J2398","v":0},{"$f":"B!K2398","v":0},{"$f":"B!L2398","v":0},{"$f":"B!M2398","v":0},{"$f":"B!N2398","v":0},null,{"$f":"B!AD2398","v":0},{"$f":"B!AE2398","v":0},{"$f":"B!AF2398","v":0},{"$f":"B!AG2398","v":0},{"$f":"B!AH2398","v":0},{"$f":"B!AI2398","v":0},{"$f":"B!AJ2398","v":0},{"$f":"B!$I$2398","v":0},{"$f":"B!$L$2398","v":0},null,{"$f":"B!AL2398","v":0}]
["X","CIRUGIA PROCTOLOGICA",{"$f":"B!C2438","v":0},{"$f":"B!H2438","v":0},{"$f":"B!I2438","v":0},{"$f":"B!J2438","v":0},{"$f":"B!K2438","v":0},{"$f":"B!L2438","v":0},{"$f":"B!M2438","v":0},{"$f":"B!N2438","v":0},{"$f":"SUM(B!C2401:'B'!C2402,B!C2405,B!C2417)","v":0},{"$f":"B!AD2438","v":0},{"$f":"B!AE2438","v":0},{"$f":"B!AF2438","v":0},{"$f":"B!AG2438","v":0},{"$f":"B!AH2438","v":0},{"$f":"B!AI2438","v":0},{"$f":"B!AJ2438","v":0},{"$f":"B!$I$2438","v":0},{"$f":"B!$L$2438","v":0},null,{"$f":"B!AL2438","v":0}]
["XI","CIRUGIA UROLOGICA Y SUPRARRENAL",{"$f":"B!C2561","v":0},{"$f":"B!H2561","v":0},{"$f":"B!I2561","v":0},{"$f":"B!J2561","v":0},{"$f":"B!K2561","v":0},{"$f":"B!L2561","v":0},{"$f":"B!M2561","v":0},{"$f":"B!N2561","v":0},{"$f":"SUM(B!C2555,B!C2559)","v":0},{"$f":"B!AD2561","v":0},{"$f":"B!AE2561","v":0},{"$f":"B!AF2561","v":0},{"$f":"B!AG2561","v":0},{"$f":"B!AH2561","v":0},{"$f":"B!AI2561","v":0},{"$f":"B!AJ2561","v":0},{"$f":"B!$I$2561","v":0},{"$f":"B!$L$2561","v":0},null,{"$f":"B!AL2561","v":0}]
["XII","CIRUGIA DE LA MAMA",{"$f":"B!C2600","v":0},{"$f":"B!H2600","v":0},{"$f":"B!I2600","v":0},{"$f":"B!J2600","v":0},{"$f":"B!K2600","v":0},{"$f":"B!L2600","v":0},{"$f":"B!M2600","v":0},{"$f":"B!N2600","v":0},{"$f":"B!C2595","v":0},{"$f":"B!AD2600","v":0},{"$f":"B!AE2600","v":0},{"$f":"B!AF2600","v":0},{"$f":"B!AG2600","v":0},{"$f":"B!AH2600","v":0},{"$f":"B!AI2600","v":0},{"$f":"B!AJ2600","v":0},{"$f":"B!$I$2600","v":0},{"$f":"B!$L$2600","v":0},null,{"$f":"B!AL2600","v":0}]
["XIII","CIRUGIA GINECOLOGICA",{"$f":"B!C2640","v":0},{"$f":"B!H2640","v":0},{"$f":"B!I2640","v":0},{"$f":"B!J2640","v":0},{"$f":"B!K2640","v":0},{"$f":"B!L2640","v":0},{"$f":"B!M2640","v":0},{"$f":"B!N2640","v":0},{"$f":"SUM(B!C2627+B!C2636)","v":0},{"$f":"B!AD2640","v":0},{"$f":"B!AE2640","v":0},{"$f":"B!AF2640","v":0},{"$f":"B!AG2640","v":0},{"$f":"B!AH2640","v":0},{"$f":"B!AI2640","v":0},{"$f":"B!AJ2640","v":0},{"$f":"B!$I$2640","v":0},{"$f":"B!$L$2640","v":0},null,{"$f":"B!AL2640","v":0}]
["XIV","CIRUGIA OBSTETRICA  ",{"$f":"SUM(C190:C192)","v":0},{"$f":"SUM(D190:D192)","v":0},{"$f":"SUM(E190:E192)","v":0},{"$f":"SUM(F190:F192)","v":0},0,0,0,0,null,0,0,0,0,0,0,{"$f":"SUM(R190:R192)","v":0},{"$f":"SUM(S190:S192)","v":0},{"$f":"SUM(T190:T192)","v":0},null,{"$f":"SUM(V190:V192)","v":0}]
[null,"Cesárea c/s salpingoligadura o salpingectomía",{"$f":"B!C2646","v":0},{"$f":"B!H2646","v":0},{"$f":"B!I2646","v":0},{"$f":"B!J2646","v":0},{"$f":"B!K2646","v":0},{"$f":"B!L2646","v":0},{"$f":"B!M2646","v":0},{"$f":"B!N2646","v":0},null,{"$f":"B!AD2646","v":0},{"$f":"B!AE2646","v":0},{"$f":"B!AF2646","v":0},{"$f":"B!AG2646","v":0},{"$f":"B!AH2646","v":0},{"$f":"B!AI2646","v":0},{"$f":"B!AJ2646","v":0},{"$f":"B!$I$2646","v":0},{"$f":"B!$L$2646","v":0},null,{"$f":"B!AL2646","v":0}]
[null,"Cesárea con histerectomía",{"$f":"B!C2647","v":0},{"$f":"B!H2647","v":0},{"$f":"B!I2647","v":0},{"$f":"B!J2647","v":0},{"$f":"B!K2647","v":0},{"$f":"B!L2647","v":0},{"$f":"B!M2647","v":0},{"$f":"B!N2647","v":0},null,{"$f":"B!AD2647","v":0},{"$f":"B!AE2647","v":0},{"$f":"B!AF2647","v":0},{"$f":"B!AG2647","v":0},{"$f":"B!AH2647","v":0},{"$f":"B!AI2647","v":0},{"$f":"B!AJ2647","v":0},{"$f":"B!$I$2646","v":0},{"$f":"B!$L$2646","v":0},null,{"$f":"B!AL2647","v":0}]
[null,"Otras cirugías obstétricas ",{"$f":"SUM(B!C2648:C2652)","v":0},{"$f":"SUM(B!H2648:H2652)","v":0},{"$f":"SUM(B!I2648:I2652)","v":0},{"$f":"SUM(B!J2648:J2652)","v":0},{"$f":"SUM(B!K2648:K2652)","v":0},{"$f":"SUM(B!L2648:L2652)","v":0},{"$f":"SUM(B!M2648:M2652)","v":0},{"$f":"SUM(B!N2648:N2652)","v":0},null,{"$f":"SUM(B!AD2648:AD2652)","v":0},{"$f":"SUM(B!AE2648:AE2652)","v":0},{"$f":"SUM(B!AF2648:AF2652)","v":0},{"$f":"SUM(B!AG2648:AG2652)","v":0},{"$f":"SUM(B!AH2648:AH2652)","v":0},{"$f":"SUM(B!AI2648:AI2652)","v":0},{"$f":"SUM(B!AJ2648:AJ2652)","v":0},{"$f":"SUM(B!I2648:I2652)","v":0},{"$f":"SUM(B!L2648:L2652)","v":0},null,{"$f":"SUM(B!AL2648:AL2652)","v":0}]
["XV.I","TRAUMATOLOGIA",{"$f":"+B!C2889","v":0},{"$f":"+B!H2889","v":0},{"$f":"+B!I2889","v":0},{"$f":"+B!J2889","v":0},{"$f":"+B!K2889","v":0},{"$f":"+B!L2889","v":0},{"$f":"+B!M2889","v":0},{"$f":"+B!N2889","v":0},{"$f":"SUM(B!C2676:C2682,B!C2684,B!C2694:C2695,B!C2707,B!C2709:C2711,B!C2714,B!C2762,B!C2764,B!C2767:C2769,B!C2773:C2774,B!C2783,B!C2839)","v":0},{"$f":"+B!AD2889","v":0},{"$f":"+B!AE2889","v":0},{"$f":"+B!AF2889","v":0},{"$f":"+B!AG2889","v":0},{"$f":"+B!AH2889","v":0},{"$f":"+B!AI2889","v":0},{"$f":"+B!AJ2889","v":0},{"$f":"B!$I$2889","v":0},{"$f":"B!$L$2889","v":0},null,{"$f":"B!$AL$2889","v":0}]
["XVI","ODONTOLOGIA ",{"$f":"+B!C3105","v":0},{"$f":"+B!H3105","v":0},{"$f":"+B!I3105","v":0},{"$f":"+B!J3105","v":0},{"$f":"+B!K3105","v":0},{"$f":"+B!L3105","v":0},{"$f":"+B!M3105","v":0},{"$f":"+B!N3105","v":0},{"$f":"SUM(B!C3068:C3069,B!C3074,B!C3076:C3077,B!C3080:C3081,B!C3083:C3087,B!C3090:C3091,B!C3104)","v":0},{"$f":"+B!AD3094","v":0},{"$f":"+B!AE3094","v":0},{"$f":"+B!AF3094","v":0},{"$f":"+B!AG3094","v":0},{"$f":"+B!AH3094","v":0},{"$f":"+B!AI3094","v":0},{"$f":"+B!AJ3094","v":0},{"$f":"+B!I3094","v":0},{"$f":"+B!L3094","v":0},null,{"$f":"+B!AL3094","v":0}]
["XVI","RETIRO ELEMENTOS OSTEOSINTESIS",{"$f":"+B!C2894","v":0},{"$f":"+B!H2894","v":0},{"$f":"+B!I2894","v":0},{"$f":"+B!J2894","v":0},{"$f":"+B!K2894","v":0},{"$f":"+B!L2894","v":0},{"$f":"+B!M2894","v":0},{"$f":"+B!N2894","v":0},null,{"$f":"+B!AD2894","v":0},{"$f":"+B!AE2894","v":0},{"$f":"+B!AF2894","v":0},{"$f":"+B!AG2894","v":0},{"$f":"+B!AH2894","v":0},{"$f":"+B!AI2894","v":0},{"$f":"+B!AJ2894","v":0},null,null,{"$f":"+B!C2894","v":0},{"$f":"+B!AL2894*0.75","v":0}]
["TOTAL  ",null,{"$f":"SUM(C176:C189)+C193+C194+C195","v":0},0,0,0,0,0,0,0,{"$f":"SUM(K176:K195)","v":0},{"$f":"SUM(L176:L189)+L193+L194+L195","v":0},0,0,0,0,0,0,{"$f":"SUM(S176:S189)+S193+S194","v":0},{"$f":"SUM(T176:T189)+T193+T194","v":0},{"$f":"SUM(U195)","v":0},{"$f":"SUM(V176:V189)+V193+V194+V195","v":0}]
["SECCIÓN M: INTERVENCIONES QUIRÚRGICAS POR TIPO DE INTERVENCIÓN "]
["TIPO DE INTERVENCIÓN",null,"TOTAL","BENEFICIARIOS MAI","< 15 AÑOS","15 AÑOS Y MAS","COMPRAS REALIZADAS AL SISTEMA ","COMPRAS REALIZADAS AL SISTEMA","COMPRAS REALIZADAS AL EXTRA-SISTEMA","COMPRAS REALIZADAS AL EXTRA-SISTEMA"]
[null,null,null,null,null,null,"< 15 AÑOS","15 AÑOS Y MAS","< 15 AÑOS","15 AÑOS Y MAS"]
["ELECTIVAS MAYORES NO AMBULATORIAS ",null,{"$f":"SUM(E200:F200)","v":0},null,{"$f":"SUM(B!P1412,B!P1547,B!P1728,B!P1792,B!P1866,B!P1909,B!P2057,B!P2067,B!P2167,B!P2169,B!P2392,B!P2397,B!P2438,B!P2561,B!P2600,B!P2640,B!P2655,B!P2882,B!P2894,B!P3094)","v":0},{"$f":"SUM(B!Q1412,B!Q1547,B!Q1728,B!Q1792,B!Q1866,B!Q1909,B!Q2057,B!Q2067,B!Q2167,B!Q2169,B!Q2392,B!Q2397,B!Q2438,B!Q2561,B!Q2600,B!Q2640,B!Q2655,B!Q2882,B!Q2894,B!Q3094)","v":0},null,null,null,null,{"$f":"AA200","v":""},null,null,null,null,null,null,null,null,null,null,null,null,null,null,null,{"$f":"IF(C200<D200,\"Beneficiarios MAI no puede ser mayor al TOTAL\",\"\")","v":""},{"$f":"IF(C200<D200,1,0)","v":0}]
["ELECTIVAS MAYORES AMBULATORIAS ",null,{"$f":"SUM(E201:F201)","v":0},null,{"$f":"SUM(B!S1412,B!S1547,B!S1728,B!S1792,B!S1866,B!S1909,B!S2057,B!S2067,B!S2167,B!S2169,B!S2392,B!S2397,B!S2438,B!S2561,B!S2600,B!S2640,B!S2655,B!S2882,B!S2894,B!S3094)","v":0},{"$f":"SUM(B!T1412,B!T1547,B!T1728,B!T1792,B!T1866,B!T1909,B!T2057,B!T2067,B!T2167,B!T2169,B!T2392,B!T2397,B!T2438,B!T2561,B!T2600,B!T2640,B!T2655,B!T2882,B!T2894,B!T3094)","v":0},null,null,null,null,{"$f":"AA201","v":""},null,null,null,null,null,null,null,null,null,null,null,null,null,null,null,{"$f":"IF(C201<D201,\"Beneficiarios MAI no puede ser mayor al TOTAL\",\"\")","v":""},{"$f":"IF(C201<D201,1,0)","v":0}]
["URGENCIA","MAYOR NO AMBULATORIAS",{"$f":"SUM(E202:F202)","v":0},null,{"$f":"SUM(B!Y1412,B!Y1547,B!Y1728,B!Y1792,B!Y1866,B!Y1909,B!Y2057,B!Y2067,B!Y2167,B!Y2169,B!Y2392,B!Y2397,B!Y2438,B!Y2561,B!Y2600,B!Y2640,B!Y2655,B!Y2882,B!Y2894,B!Y3094)","v":0},{"$f":"SUM(B!Z1412,B!Z1547,B!Z1728,B!Z1792,B!Z1866,B!Z1909,B!Z2057,B!Z2067,B!Z2167,B!Z2169,B!Z2392,B!Z2397,B!Z2438,B!Z2561,B!Z2600,B!Z2640,B!Z2655,B!Z2882,B!Z2894,B!Z3094)","v":0},null,null,null,null,{"$f":"AA202","v":""},null,null,null,null,null,null,null,null,null,null,null,null,null,null,null,{"$f":"IF(C202<D202,\"Beneficiarios MAI no puede ser mayor al TOTAL\",\"\")","v":""},{"$f":"IF(C202<D202,1,0)","v":0}]
[null,"MAYOR AMBULATORIAS",{"$f":"SUM(E203:F203)","v":0},null,{"$f":"SUM(B!V1412,B!V1547,B!V1728,B!V1792,B!V1866,B!V1909,B!V2057,B!V2067,B!V2167,B!V2169,B!V2392,B!V2397,B!V2438,B!V2561,B!V2600,B!V2640,B!V2655,B!V2882,B!V2894,B!V3094)","v":0},{"$f":"SUM(B!W1412,B!W1547,B!W1728,B!W1792,B!W1866,B!W1909,B!W2057,B!W2067,B!W2167,B!W2169,B!W2392,B!W2397,B!W2438,B!W2561,B!W2600,B!W2640,B!W2655,B!W2882,B!W2894,B!W3094)","v":0},null,null,null,null,{"$f":"AA203","v":""},null,null,null,null,null,null,null,null,null,null,null,null,null,null,null,{"$f":"IF(C203<D203,\"Beneficiarios MAI no puede ser mayor al TOTAL\",\"\")","v":""},{"$f":"IF(C203<D203,1,0)","v":0}]
["SECCIÓN N:  AMPUTACIÓN POR PIE DIABÉTICO"]
["TIPO DE INTERVENCIÓN QUIRÚRGICA",null,"TOTAL PRODUCCIÓN","TOTAL BENEFICIARIOS MAI"]
[]
["AMPUTACIÓN DE ORTEJO(S) POR PIE DIABETICO",null,{"$f":"B!C2886","v":0},{"$f":"B!I2886","v":0}]
["AMPUTACIÓN DE PIE COMPLETO POR PIE DIABETICO",null,{"$f":"SUM(B!C2885+B!C2887)","v":0},{"$f":"B!I2885+B!I2887","v":0}]
["SECCIÓN O: PROCEDIMIENTOS DIAGNÓSTICOS Y TERAPÉUTICOS"]
["TIPO DE PROCEDIMIENTO",null,"TOTAL","PROCEDIMIENTOS",null,null,null,"PROCEDENCIA",null,null,"PRODUCCION INTRA HOSPITAL",null,null,"OPERATIVO","COMPRAS REALIZADAS",null,"VENTAS DE SERVICIOS"]
[null,null,null,"TOTAL BENEFICIARIOS","BENEFICIARIOS",null,"NO BENEFI-CIARIOS","ATENCION CERRADA","ATENCION ABIERTA","EMERGENCIA","POR \nHONO-\nRARIOS","POR CONVENIOS","POR\nCONSULTORES\nDE LLAMADA",null,"AL SISTEMA ","EXTRA-SISTEMA"]
[null,null,null,null,"MAI","MLE"]
["NEUROLOGÍA",null,{"$f":"+B!C1330","v":0},{"$f":"+B!D1330","v":0},{"$f":"+B!E1330","v":0},{"$f":"+B!F1330","v":0},{"$f":"+B!G1330","v":0},{"$f":"+B!AA1330","v":0},{"$f":"+B!AB1330","v":0},{"$f":"+B!AC1330","v":0},{"$f":"+B!AD1330","v":0},{"$f":"+B!AE1330","v":0},{"$f":"+B!AF1330","v":0},{"$f":"+B!AG1330","v":0},{"$f":"+B!AH1330","v":0},{"$f":"+B!AI1330","v":0},{"$f":"+B!AJ1330","v":0}]
["OFTALMOLOGÍA",null,{"$f":"+B!C1461","v":0},{"$f":"+B!D1461","v":0},{"$f":"+B!E1461","v":0},{"$f":"+B!F1461","v":0},{"$f":"+B!G1461","v":0},{"$f":"+B!AA1461","v":0},{"$f":"+B!AB1461","v":0},{"$f":"+B!AC1461","v":0},{"$f":"+B!AD1461","v":0},{"$f":"+B!AE1461","v":0},{"$f":"+B!AF1461","v":0},{"$f":"+B!AG1461","v":0},{"$f":"+B!AH1461","v":0},{"$f":"+B!AI1461","v":0},{"$f":"+B!AJ1461","v":0}]
["OTORRINOLARINGOLOGÍA",null,{"$f":"+B!C1618","v":0},{"$f":"+B!D1618","v":0},{"$f":"+B!E1618","v":0},{"$f":"+B!F1618","v":0},{"$f":"+B!G1618","v":0},{"$f":"+B!AA1618","v":0},{"$f":"+B!AB1618","v":0},{"$f":"+B!AC1618","v":0},{"$f":"+B!AD1618","v":0},{"$f":"+B!AE1618","v":0},{"$f":"+B!AF1618","v":0},{"$f":"+B!AG1618","v":0},{"$f":"+B!AH1618","v":0},{"$f":"+B!AI1618","v":0},{"$f":"+B!AJ1618","v":0}]
["CABEZA Y CUELLO",null,{"$f":"B!C1730","v":0},{"$f":"B!D1730","v":0},{"$f":"B!E1730","v":0},{"$f":"B!F1730","v":0},{"$f":"B!G1730","v":0},{"$f":"B!AA1730","v":0},{"$f":"B!AB1730","v":0},{"$f":"B!AC1730","v":0},{"$f":"B!AD1730","v":0},{"$f":"B!AE1730","v":0},{"$f":"B!AF1730","v":0},{"$f":"B!AG1730","v":0},{"$f":"B!AH1730","v":0},{"$f":"B!AI1730","v":0},{"$f":"B!AJ1730","v":0}]
["DERMATOLOGÍA",null,{"$f":"B!C1883","v":0},{"$f":"B!D1883","v":0},{"$f":"B!E1883","v":0},{"$f":"B!F1883","v":0},{"$f":"B!G1883","v":0},{"$f":"B!AA1883","v":0},{"$f":"B!AB1883","v":0},{"$f":"B!AC1883","v":0},{"$f":"B!AD1883","v":0},{"$f":"B!AE1883","v":0},{"$f":"B!AF1883","v":0},{"$f":"B!AG1883","v":0},{"$f":"B!AH1883","v":0},{"$f":"B!AI1883","v":0},{"$f":"B!AJ1883","v":0}]
["CARDIOLOGÍA",null,{"$f":"+B!C1983","v":0},{"$f":"+B!D1983","v":0},{"$f":"+B!E1983","v":0},{"$f":"+B!F1983","v":0},{"$f":"+B!G1983","v":0},{"$f":"+B!AA1983","v":0},{"$f":"+B!AB1983","v":0},{"$f":"+B!AC1983","v":0},{"$f":"+B!AD1983","v":0},{"$f":"+B!AE1983","v":0},{"$f":"+B!AF1983","v":0},{"$f":"+B!AG1983","v":0},{"$f":"+B!AH1983","v":0},{"$f":"+B!AI1983","v":0},{"$f":"+B!AJ1983","v":0}]
["RESPIRATORIO",null,{"$f":"+B!C2212","v":0},{"$f":"+B!D2212","v":0},{"$f":"+B!E2212","v":0},{"$f":"+B!F2212","v":0},{"$f":"+B!G2212","v":0},{"$f":"+B!AA2212","v":0},{"$f":"+B!AB2212","v":0},{"$f":"+B!AC2212","v":0},{"$f":"+B!AD2212","v":0},{"$f":"+B!AE2212","v":0},{"$f":"+B!AF2212","v":0},{"$f":"+B!AG2212","v":0},{"$f":"+B!AH2212","v":0},{"$f":"+B!AI2212","v":0},{"$f":"+B!AJ2212","v":0}]
["GASTROENTEROLOGÍA",null,{"$f":"+B!C2282","v":0},{"$f":"+B!D2282","v":0},{"$f":"+B!E2282","v":0},{"$f":"+B!F2282","v":0},{"$f":"+B!G2282","v":0},{"$f":"+B!AA2282","v":0},{"$f":"+B!AB2282","v":0},{"$f":"+B!AC2282","v":0},{"$f":"+B!AD2282","v":0},{"$f":"+B!AE2282","v":0},{"$f":"+B!AF2282","v":0},{"$f":"+B!AG2282","v":0},{"$f":"+B!AH2282","v":0},{"$f":"+B!AI2282","v":0},{"$f":"+B!AJ2282","v":0}]
["UROLOGÍA Y NEFROLOGÍA",null,{"$f":"+B!C2467","v":0},{"$f":"+B!D2467","v":0},{"$f":"+B!E2467","v":0},{"$f":"+B!F2467","v":0},{"$f":"+B!G2467","v":0},{"$f":"+B!AA2467","v":0},{"$f":"+B!AB2467","v":0},{"$f":"+B!AC2467","v":0},{"$f":"+B!AD2467","v":0},{"$f":"+B!AE2467","v":0},{"$f":"+B!AF2467","v":0},{"$f":"+B!AG2467","v":0},{"$f":"+B!AH2467","v":0},{"$f":"+B!AI2467","v":0},{"$f":"+B!AJ2467","v":0}]
["GINECOLOGÍA Y OBSTETRICIA (SE INCLUYEN ABORTOS)",null,{"$f":"SUM(B!C2642:C2644)+B!C2593","v":0},{"$f":"+B!D2593","v":0},{"$f":"+B!E2593","v":0},{"$f":"+B!F2593","v":0},{"$f":"+B!G2593","v":0},{"$f":"+B!AA2593","v":0},{"$f":"+B!AB2593","v":0},{"$f":"+B!AC2593","v":0},{"$f":"+B!AD2593","v":0},{"$f":"+B!AE2593","v":0},{"$f":"+B!AF2593","v":0},{"$f":"+B!AG2593","v":0},{"$f":"+B!AH2593","v":0},{"$f":"+B!AI2593","v":0},{"$f":"+B!AJ2593","v":0}]
["TRAUMATOLOGÍA",null,{"$f":"+B!C2674","v":0},{"$f":"+B!D2674","v":0},{"$f":"+B!E2674","v":0},{"$f":"+B!F2674","v":0},{"$f":"+B!G2674","v":0},{"$f":"+B!AA2674","v":0},{"$f":"+B!AB2674","v":0},{"$f":"+B!AC2674","v":0},{"$f":"+B!AD2674","v":0},{"$f":"+B!AE2674","v":0},{"$f":"+B!AF2674","v":0},{"$f":"+B!AG2674","v":0},{"$f":"+B!AH2674","v":0},{"$f":"+B!AI2674","v":0},{"$f":"+B!AJ2674","v":0}]
["KINESIOLOGÍA Y FISIOTERAPIA",null,{"$f":"+B!C1178","v":0},{"$f":"+B!D1178","v":0},{"$f":"+B!E1178","v":0},{"$f":"+B!F1178","v":0},{"$f":"+B!G1178","v":0},{"$f":"+B!AA1178","v":0},{"$f":"+B!AB1178","v":0},{"$f":"+B!AC1178","v":0},{"$f":"+B!AD1178","v":0},{"$f":"+B!AE1178","v":0},{"$f":"+B!AF1178","v":0},{"$f":"+B!AG1178","v":0},{"$f":"+B!AH1178","v":0},{"$f":"+B!AI1178","v":0},{"$f":"+B!AJ1178","v":0}]
["TOTAL PROCEDIMIENTOS MEDICOS",null,{"$f":"SUM(C213:C224)","v":0},{"$f":"SUM(D213:D224)","v":0},0,0,0,0,0,0,0,0,0,0,0,0,{"$f":"SUM(Q213:Q224)","v":0}]
["SECCION P:  MISCELANEOS"]
["TIPO DE PRESTACIÓN",null,"TOTAL","TOTAL BENEFICIARIOS MAI","PAGO POR PRESTACIONES ($)"]
["Otras Prestaciones Psiquiatricas",null,{"$f":"B!C1273","v":0},{"$f":"B!E1273","v":0}]
["Anestesia Epidural (Partos)",null,{"$f":"B!C2964","v":0},{"$f":"B!E2964","v":0},{"$f":"B!AL2964","v":0}]
["Otros Procedimientos Anestésicos",null,{"$f":"B!C2970","v":0},{"$f":"B!E2970","v":0}]
["Curacion Simple Ambulatoria",null,{"$f":"B!C152","v":0},{"$f":"B!E152","v":0},{"$f":"B!AL152","v":0}]
["Procedimiento De Podología",null,{"$f":"B!C158","v":0},{"$f":"B!E158","v":0}]
["Autocuidado Pacientes DID",null,{"$f":"B!C156","v":0},{"$f":"B!E156","v":0}]
["Oxigenoterapia Domicilio",null,{"$f":"B!C157","v":0},{"$f":"B!E157","v":0}]
["Protesis Y Órtesis",null,{"$f":"B!C2960","v":0},{"$f":"B!E2960","v":0}]
["TOTAL ",null,{"$f":"SUM(C228:C235)","v":0},{"$f":"SUM(D228:D235)","v":0},{"$f":"SUM(E228:E235)","v":0}]
["SECCIÓN Q: ACTIVIDADES EN UNIDAD DE FARMACIA HOSPITALARIA"]
[null,null,"TOTAL"]
["Nº DE PREPARADOS FARMACEUTICOS","Esteriles"]
[null,"No Esteriles"]
["Nº DE DOSIS UNITARIA PREPARADAS"]
["SECCIÓN R: OTROS TRASLADOS DE PACIENTES"]
["TIPO DE ACCIÓN",null,"TOTAL","A \nBENE-\nFICIARIOS","POR COMPRA \nDE SERVICIO",null,null,null,null,null,null," "]
["TRASLADOS NO DE URGENCIA","Ambulancia",null,null,null,{"$f":"AA244","v":""},null,null,null,null,null,null,null,null,null,null,null,null,null,null,null,null,null,null,null,null,{"$f":"IF(D244>C244,\"Error: Las actividades totales son menores que las realizadas en beneficiarios\",\"\")","v":""},{"$f":"IF(D244>C244,1,0)","v":0}]
[null,"Marítimo",null,null,null,{"$f":"AA245","v":""},null,null,null,null,null,null,null,null,null,null,null,null,null,null,null,null,null,null,null,null,{"$f":"IF(D245>C245,\"Error: Las actividades totales son menores que las realizadas en beneficiarios\",\"\")","v":""},{"$f":"IF(D245>C245,1,0)","v":0}]
[null,"Aéreo",null,null,null,{"$f":"AA246","v":""},null,null,null,null,null,null,null,null,null,null,null,null,null,null,null,null,null,null,null,null,{"$f":"IF(D246>C246,\"Error: Las actividades totales son menores que las realizadas en beneficiarios\",\"\")","v":""},{"$f":"IF(D246>C246,1,0)","v":0}]
["SECCIÓN S: INTERRUPCIÓN VOLUNTARIA DEL EMBARAZO, (IVE)"]
["TIPO DE INTERVENCIÓN",null,"TOTAL","BENEFICIARIOS MAI","GRUPOS ETARIOS",null,"CAUSALES",null,null,"COMPRAS REALIZADAS AL SISTEMA ","COMPRAS REALIZADAS AL SISTEMA","COMPRAS REALIZADAS AL EXTRA-SISTEMA","COMPRAS REALIZADAS AL EXTRA-SISTEMA"]
[null,null,null,null,"< 14 AÑOS","14 AÑOS Y MAS","CAUSAL N°1              MUJER EMBARAZADA CON RIESGO VITAL","CAUSAL N°2 INVIABILIDAD FETAL DE CARÁCTER LETAL","CAUSAL N°3 POR VIOLACIÓN","< 14 AÑOS","14 AÑOS Y MAS","< 14 AÑOS","14 AÑOS Y MAS"]
["Día cama hospitalización integral medicina, cirugía, pediatría, obstetricia-ginecología y especialidades (sala 3 camas o más) (Hosp. Alta Complejidad)","Día cama hospitalización integral medicina, cirugía, pediatría, obstetricia-ginecología y especialidades (sala 3 camas o más) (Hosp. Alta Complejidad)",{"$f":"SUM(E250:F250)","v":0}]
["Día cama hospitalización integral medicina, cirugía, pediatría, obstetricia-ginecología y especialidades (sala 3 camas o más) (Hosp. Mediana Complejidad)","Día cama hospitalización integral medicina, cirugía, pediatría, obstetricia-ginecología y especialidades (sala 3 camas o más) (Hosp. Mediana Complejidad)",{"$f":"SUM(E251:F251)","v":0}]
["Día cama hospitalización integral adulto en Unidad de Cuidado Intensivo (U.C.I.) ",null,{"$f":"SUM(E252:F252)","v":0}]
["Día cama hospitalización integral adulto en Unidad de Tratamiento Intermedio (U.T.I)",null,{"$f":"SUM(E253:F253)","v":0}]
["Día cama integral de observación o día cama integral ambulatorio diurno",null,{"$f":"SUM(E254:F254)","v":0}]
[null,"TOTAL DIAS CAMAS",{"$f":"SUM(C250:C254)","v":0},0,0,0,0,0,0,{"$f":"SUM(J250:J254)","v":0},{"$f":"SUM(K250:K254)","v":0},{"$f":"SUM(L250:L254)","v":0},{"$f":"SUM(M250:M254)","v":0}]
["Cariotipo en fibroblastos por cultivo de trofoblasto, líquido amniótico, piel u otros bandeos G y eventualmente Q,R,C,NOR",null,{"$f":"SUM(E256:F256)","v":0}]
["FISH Cromosomas X e Y",null,{"$f":"SUM(E257:F257)","v":0}]
["Diagnóstico Genético Molecular: Displasia Tanatofórica tipo I y II",null,{"$f":"SUM(E258:F258)","v":0}]
["TOTAL EXAMENES DE LABORATORIO",null,{"$f":"SUM(C256:C258)","v":0},0,0,0,0,0,0,0,0,0,0]
["Radiografía de tórax frontal y lateral",null,{"$f":"SUM(E260:F260)","v":0}]
["Radiografía de pelvis, cadera o coxofemoral",null,{"$f":"SUM(E261:F261)","v":0}]
["Radiografía de brazo, antebrazo, codo, muñeca, mano, dedos, pie  (frontal y lateral)",null,{"$f":"SUM(E262:F262)","v":0}]
[null,"TOTAL EXAMENES RADIOLÓGICOS",{"$f":"SUM(C260:C262)","v":0},0,0,0,0,0,0,{"$f":"SUM(J260:J262)","v":0},{"$f":"SUM(K260:K262)","v":0},{"$f":"SUM(L260:L262)","v":0},{"$f":"SUM(M260:M262)","v":0}]
["Resonancia Magnética Fetal",null,{"$f":"SUM(E264:F264)","v":0}]
["Ecografía obstétrica",null,{"$f":"SUM(E265:F265)","v":0}]
["Ecografía doppler de vasos placentarios",null,{"$f":"SUM(E266:F266)","v":0}]
[null,"TOTAL EXAMENES POR IMÁGENES",{"$f":"SUM(C264:C266)","v":0},0,0,0,0,0,0,0,0,0,0]
["Consulta Médica de Especialidad en Obstetricia y Ginecología ","Consulta Médica de Especialidad en Obstetricia y Ginecología",{"$f":"SUM(E268:F268)","v":0}]
["Evaluación psiquiátrica previa a terapia (1ra. consulta).","Evaluación psiquiátrica previa a terapia (1ra. consulta).",0]
["Consulta Psicólogo clínico (sesiones 45')","Consulta Psicólogo clínico (sesiones 45')",0]
["Consulta o control por enfermera, matrona o nutricionista",null,0]
["Educación de grupo por asistente social","Educación de grupo por asistente social",0]
["Consulta por Asistente Social",null,0]
["Atención psiquiátrica o psicoterapia de familia, individual, de relajación o de manejo (con familia u otros);(cada sesión mínimo 45')","Atención psiquiátrica o psicoterapia de familia, individual, de relajación o de manejo (con familia u otros);(cada sesión mínimo 45')",0]
["Psicoterapia de grupo (por psicólogo o psiquiatra) (4 a 8 pacientes)","Psicoterapia de grupo (por psicólogo o psiquiatra) (4 a 8 pacientes)",0]
[null,"TOTAL CONSULTAS ",{"$f":"SUM(C268:C275)","v":0},0,0,0,0,0,0,0,0,0,0]
["Amniocentesis",null,{"$f":"SUM(E277:F277)","v":0}]
["Biopsia corial",null,0]
["Cordocentesis",null,0]
["Aspiración manual endouterina",null,0]
["Raspado uterino diagnóstico o terapéutico por metrorragia o por restos de aborto",null,0]
["Tratamiento Farmacológico Ley IVE (incluye Consulta especialidad en Obstetricia y Ginecología y Fármacos)",null,0]
[null,"TOTAL PROCEDIMIENTOS",{"$f":"SUM(C277:C282)","v":0},0,0,0,0,0,0,0,0,0,0]
["Parto normal","Parto normal",{"$f":"SUM(E284:F284)","v":0}]
["Parto distósico vaginal","Parto distósico vaginal",{"$f":"SUM(E285:F285)","v":0}]
["Cesárea c/s salpingoligadura o salpingectomía",null,{"$f":"SUM(E286:F286)","v":0}]
["Cesárea con histerectomía",null,{"$f":"SUM(E287:F287)","v":0}]
[null,"TOTAL CIRUGÍAS OBSTETRICAS Y PARTOS",{"$f":"SUM(C284:C287)","v":0},0,0,0,0,0,0,0,0,0,0]
[null,"TOTAL",{"$f":"SUM(C255+C259+C263+C267+C276+C283+C288)","v":0},0,0,0,0,0,0,0,0,0,0]
["SECCIÓN T: OTRAS ATENCIONES A PACIENTES AMBULATORIOS"]
["TIPO DE ATENCIÓN",null,"TOTAL ","ATENCIONES POR EDAD",null,null,null,null,null,"BENEFICIARIOS"]
[null,null,null,"< 1 año","1 - 4 años","5 a 9 años","10 a 19 años","20 a 64 años","65 años y más"]
["POR TERAPÉUTA OCUPACIONAL",null,{"$f":"SUM(D293:I293)","v":0}]
["POR KINESIOLOGO (NO SAPU)",null,{"$f":"SUM(D294:I294)","v":0}]
["POR EDUCADORA DE PÁRVULO/DIFERENCIAL",null,{"$f":"SUM(D295:E295)","v":0}]
[]
[]
[]
[]
[{"$f":"SUM(C10,C18,C33,C38,C47,C56,C76,C84,C94,C99,C108,C113,C116,C121,C134,C138,C155,C171,C196,C200:C203,C207:C208,C225,C236,C239:C241,C244:C246,D255,D259,D263,D267,D276,D283,D288,C293:C295)","v":0}]

{"sheet":"Control","index":3,"n_rows":81,"n_cols":4,"rows_kept":81,"cut":false,"hidden":false,"merged":[]}
[]
[null,"HOJA","SECCION","Nº Errores"]
[null,"NOMBRE","Código comuna",{"$f":"+NOMBRE!AF2","v":1}]
[null,"NOMBRE","Código establecimiento/estrategia",{"$f":"+NOMBRE!AF3","v":1}]
[null,"NOMBRE","Tipo establecimiento/estrategia",{"$f":"+NOMBRE!AF4","v":1}]
[null,"NOMBRE","Dependencia",{"$f":"+NOMBRE!AF5","v":1}]
[null,"NOMBRE","Código Mes",{"$f":"+NOMBRE!AF6","v":1}]
[null,"B17","SECCIÓN M: INTERVENCIONES QUIRÚRGICAS POR TIPO DE INTERVENCIÓN ",{"$f":"SUM('B17'!AB200:AB203)","v":0}]
[null,"B17","SECCIÓN R: OTROS TRASLADOS DE PACIENTES",{"$f":"SUM('B17'!AB244:AB246)","v":0}]
[null,null,"TOTAL ERRORES",{"$f":"SUM(D3:D9)","v":5}]
[]
[]
[]
[null,"¿Nombre vacío?"]
[null,{"$f":"ISBLANK(NOMBRE!B2)","v":true}]
[]
[]
[]
[]
[]
[]
[]
[]
[]
[]
[]
[]
[]
[]
[]
[]
[]
[]
[]
[]
[]
[]
[]
[]
[]
[]
[]
[]
[]
[]
[]
[]
[]
[]
[]
[]
[]
[]
[]
[]
[]
[]
[]
[]
[]
[]
[]
[]
[]
[]
[]
[]
[]
[]
[]
[]
[]
[]
[]
[]
[]
[]
[]
[]
[]
[null,null,null,{"$f":"SUM(D3:D7)","v":5}]

{"sheet":"MACROS","index":4,"n_rows":7,"n_cols":2,"rows_kept":7,"cut":false,"hidden":false,"merged":[[0,0,0,13],[6,1,7,7]]}
["Hoja de Macros y Utilidades"]
[{"$f":"CONCATENATE(\"ESTABLECIMIENTO/ESTRATEGIA: \",NOMBRE!B3,\" - \",\"( \",NOMBRE!C3,NOMBRE!D3,NOMBRE!E3,NOMBRE!F3,NOMBRE!G3,NOMBRE!H3,NOMBRE!I3,\" )\")","v":"ESTABLECIMIENTO/ESTRATEGIA:  - ( Falta Cód. Est. )"}]
[]
[]
[null,"CREA UNA COPIA  DEL ARCHIVO  (TRANFORMA HOJAS A VALORES)\nA ESTE NUEVO ARCHIVO DEBERÁ ASIGNARLE UN NOMBRE"]
[null,"Contraseña para copia del archivo :DEIS"]
[null,{"$f":"IF(Control!D10>0,\"REVISE LA HOJA CONTROL, EXISTEN ERRORES\",\"\")","v":"REVISE LA HOJA CONTROL, EXISTEN ERRORES"}]