{"text_format":"1","workbook":"xlsx","n_sheets":29,"sheets":["NOMBRE","A01","A02","A03","A04","A05","A06","A07","A08","A09","A11","A11a","A19a","A19b","A21","A23","A24","A25","A26","A27","A28","A29","A30","A30AR","A31","A32","A33","Control","MACROS"],"not_rendered":{"charts":0,"images":0,"macros":1,"external_links":0,"defined_names":0,"comments":0,"pivot_tables":0},"unopened":[],"bounds":{"document_bytes":16777216,"sheet_cells":100000,"rows_first":2000,"rows_last":500,"rows_between":2000,"halvings":0,"cell_chars":16384,"cell_head_chars":4096},"cells_cut":0,"cells_raw":0,"read":"whole","date_system":"1900"}

{"sheet":"NOMBRE","index":0,"n_rows":32,"n_cols":23,"rows_kept":32,"cut":false,"hidden":false,"merged":[[16,1,18,1],[0,0,0,1],[0,2,0,7],[8,0,8,1],[14,0,14,1]]}
["DATOS DEL ESTABLECIMIENTO",null,"CÓDIGOS"]
["NOMBRE DE COMUNA",null,null,null,null,null,null,null,{"$f":"IF(OR(C2=\"\",D2=\"\",E2=\"\",F2=\"\",G2=\"\"),\"Falta Cód. Com.\",\"\")","v":"Falta Cód. Com."},null,null,null,null,null,null,null,null,null,null,null,null,null,{"$f":"IF(OR(C2=\"\",D2=\"\",E2=\"\",F2=\"\",G2=\"\"),1,0)","v":1}]
["NOMBRE ESTABLECIMIENTO/ESTRATEGIA",null,null,null,null,null,null,null,{"$f":"IF(OR(C3=\"\",D3=\"\",E3=\"\",F3=\"\",G3=\"\",H3=\"\"),\"Falta Cód. Est.\",\"\")","v":"Falta Cód. Est."},null,null,null,null,null,null,null,null,null,null,null,null,null,{"$f":"IF(OR(C3=\"\",D3=\"\",E3=\"\",F3=\"\",G3=\"\",H3=\"\"),1,0)","v":1}]
[]
[]
["MES:",null,null,null,null,null,null,null,{"$f":"IF(OR(C6=\"\",D6=\"\"),\"Falta Cód. Mes.\",\"\")","v":"Falta Cód. Mes."},null,null,null,null,null,null,null,null,null,null,null,null,null,{"$f":"IF(OR(C6=\"\",D6=\"\"),1,0)","v":1}]
["AÑO:",2024]
[]
["Versión 1.1: Marzo 2024"]
[]
["Director/a Servicio de Salud o Director/a Establecimiento",null,null,null,null,null,null,null,null,null,null,null,null,null,null,null,null,null,null,null,null,null,"ENERO"]
["Jefe/a de Estadísticas",null,null,null,null,null,null,null,null,null,null,null,null,null,null,null,null,null,null,null,null,null,"FEBRERO"]
[null,null,null,null,null,null,null," ",null,null,null,null,null,null,null,null,null,null,null,null,null,null,"MARZO"]
[null,null,null,null,null,null,null,null,null,null,null,null,null,null,null,null,null,null,null,null,null,null,"ABRIL"]
["MINSAL - DEIS",null,null,null,null,null,null,null,null,null,null,null,null,null,null,null,null,null,null,null,null,null,"MAYO"]
[null,null,null,null,null,null,null,null,null,null,null,null,null,null,null,null,null,null,null,null,null,null,"JUNIO"]
[null,"SERIE A",null,null,null,null,null,null,null,null,null,null,null,null,null,null,null,null,null,null,null,null,"JULIO"]
[null,null,null,null,null,null,null,null,null,null,null,null,null,null,null,null,null,null,null,null,null,null,"AGOSTO"]
[null,null,null,null,null,null,null,null,null,null,null,null,null,null,null,null,null,null,null,null,null,null,"SEPTIEMBRE"]
[null,null,null,null,null,null,null,null,null,null,null,null,null,null,null,null,null,null,null,null,null,null,"OCTUBRE"]
[null,null,null,null,null,null,null,null,null,null,null,null,null,null,null,null,null,null,null,null,null,null,"NOVIEMBRE"]
[null,null,null,null,null,null,null,null,null,null,null,null,null,null,null,null,null,null,null,null,null,null,"DICIEMBRE"]
[]
[]
[]
[]
[]
[]
[]
[]
[]
[{"$f":"SUM(W2:W6)","v":3}]

{"sheet":"A01","index":1,"n_rows":151,"n_cols":96,"rows_kept":151,"cut":false,"hidden":false,"merged":[[75,12,76,12],[84,33,86,33],[85,4,85,5],[85,6,85,7],[85,8,85,9],[85,10,85,11],[85,12,85,13],[85,14,85,15],[85,16,85,17],[85,18,85,19],[85,24,85,25],[85,26,85,27],[85,28,85,29],[85,30,85,31],[84,32,86,32],[75,4,75,5],[75,6,75,8],[84,0,86,0],[84,1,85,3],[84,4,84,31],[85,20,85,21],[85,22,85,23],[75,0,76,0],[75,1,76,1],[62,0,65,0],[67,0,68,1],[69,0,69,1],[70,0,70,1],[71,0,71,1],[72,0,72,1],[73,0,73,1],[75,2,75,3],[75,9,76,9],[75,10,76,10],[75,11,76,11],[67,2,67,4],[67,5,67,7],[67,10,68,10],[67,11,68,11],[67,8,68,8],[67,9,68,9],[43,0,46,0],[47,0,49,0],[50,0,52,0],[53,0,55,0],[56,0,61,0],[41,25,41,26],[41,27,41,28],[41,29,41,30],[41,31,41,32],[40,40,42,40],[41,5,41,6],[41,7,41,8],[41,9,41,10],[41,11,41,12],[41,13,41,14],[41,15,41,16],[41,17,41,18],[41,19,41,20],[41,21,41,22],[41,37,41,38],[41,33,41,34],[41,35,41,36],[33,39,34,39],[35,0,38,0],[40,0,42,0],[40,1,42,1],[40,2,41,4],[40,5,40,38],[40,39,42,39],[41,23,41,24],[33,0,34,0],[33,1,34,1],[33,2,33,4],[33,5,33,33],[33,34,33,35],[33,36,34,36],[33,37,34,37],[33,38,34,38],[30,0,31,0],[8,28,9,28],[10,0,11,0],[12,0,13,0],[14,0,15,0],[16,0,17,0],[8,26,9,26],[8,27,9,27],[8,22,9,22],[8,23,9,23],[8,24,9,24],[8,25,9,25],[8,20,8,21],[20,0,21,0],[22,0,23,0],[5,0,5,15],[8,0,9,0],[8,1,9,1],[8,2,9,2],[8,3,8,19],[18,0,19,0],[24,0,25,0],[26,0,27,0],[28,0,29,0]]}
["SERVICIO DE SALUD"]
[{"$f":"CONCATENATE(\"COMUNA: \",NOMBRE!B2,\" - \",\"( \",NOMBRE!C2,NOMBRE!D2,NOMBRE!E2,NOMBRE!F2,NOMBRE!G2,\" )\")","v":"COMUNA:  - (  )"}]
[{"$f":"CONCATENATE(\"ESTABLECIMIENTO/ESTRATEGIA: \",NOMBRE!B3,\" - \",\"( \",NOMBRE!C3,NOMBRE!D3,NOMBRE!E3,NOMBRE!F3,NOMBRE!G3,NOMBRE!H3,\" )\")","v":"ESTABLECIMIENTO/ESTRATEGIA:  - (  )"}]
[{"$f":"CONCATENATE(\"MES: \",NOMBRE!B6,\" - \",\"( \",NOMBRE!C6,NOMBRE!D6,\" )\")","v":"MES:  - (  )"}]
[{"$f":"CONCATENATE(\"AÑO: \",NOMBRE!B7)","v":"AÑO: 2024"}]
["REM-A01.   CONTROLES DE SALUD"]
[]
["SECCIÓN A: CONTROLES DE SALUD SEXUAL Y REPRODUCTIVA"]
["TIPO DE CONTROL","PROFESIONAL","TOTAL      ","RANGO ETARIO",null,null,null,null,null,null,null,null,null,null,null,null,null,null,null,null,"Sexo",null,"Control con pareja, familiar u otro","Control de diada con presencia del padre","Espacios Amigables/ Adolescentes","Niños, Niñas, Adolescentes y Jóvenes SENAME","Niños, Niñas, Adolescentes y Jóvenes Mejor Niñez","Pueblos Originarios","Migrantes"]
[null,null,null,"Menos de 4 años"," 5  -  9 años"," 10 - 14 años","15 - 19 años","20 - 24 años","25 - 29 años","30 - 34 años","35 - 39 años","40 - 44 años","45 - 49 años","50 - 54 años","55 - 59 años","60 - 64 años","65 - 69 años","70 - 74 años","75 - 79 años","80 y más años","Hombres","Mujeres"]
["Pre-Concepcional","Médico/a",{"$f":"SUM(F11:O11)","v":0},null,null,null,null,null,null,null,null,null,null,null,null,null,null,null,null,null,null,null,null,null,null,null,null,null,null,{"$f":"$CA11&CB11&CC11&CD11&CE11&CF11&CG11&CH11&CI11","v":""},null,null,null,null,null,null,null,null,null,null,null,null,null,null,null,null,null,null,null,null,null,null,null,null,null,null,null,null,null,null,null,null,null,null,null,null,null,null,null,null,null,null,null,null,null,null,null,null,{"$f":"IF((U11+V11)<>C11,\" * La variable Sexo no puede ser distinto al Total\",\"\")","v":""},null,null,{"$f":"IF(AND($C11<>0,Y11=\"\"),\"* No olvide ingresar la columna \"&Y$9&\"\"&\" (Digite CERO si no tiene).  \",IF(Y11>$C11,\"* El Número de Espacios Amigables/ Adolescentes no puede superar el Total. \",\"\"))","v":""},{"$f":"IF(AND($C11<>0,Z11=\"\"),\"* No olvide ingresar la columna \"&Z$9&\"\"&\" (Digite CERO si no tiene).  \",IF(Z11>$C11,\"* El Número de Niños, Niñas, Adolescentes y Jóvenes SENAME no puede superar el Total. \",\"\"))","v":""},{"$f":"IF(AND($C11<>0,AA11=\"\"),\"* No olvide ingresar la columna \"&AA$9&\"\"&\" (Digite CERO si no tiene).  \",IF(AA11>$C11,\"* El Número de Niños, Niñas, Adolescentes y Jóvenes Mejor Niñez no puede superar el Total. \",\"\"))","v":""},{"$f":"IF(AND($C11<>0,AB11=\"\"),\"* No olvide ingresar la columna \"&AB$9&\"\"&\" (Digite CERO si no tiene).  \",IF(AB11>$C11,\"* El Número de Pueblos Originarios no puede superar el Total. \",\"\"))","v":""},{"$f":"IF(AND($C11<>0,AC11=\"\"),\"* No olvide ingresar la columna \"&AC$9&\"\"&\" (Digite CERO si no tiene).  \",IF(AC11>$C11,\"* El Número de Migrantes no puede superar el Total. \",\"\"))","v":""},null,null,{"$f":"IF((U11+V11)<>C11,1,0)","v":0},null,null,{"$f":"IF(AND(C11<>0,Y11=\"\"),1,IF(Y11>C11,1,0))","v":0},{"$f":"IF(AND($C11<>0,Z11=\"\"),1,IF(Z11>C11,1,0))","v":0},{"$f":"IF(AND($C11<>0,AA11=\"\"),1,IF(AA11>C11,1,0))","v":0},{"$f":"IF(AND($C11<>0,AB11=\"\"),1,IF(AB11>C11,1,0))","v":0},{"$f":"IF(AND($C11<>0,AC11=\"\"),1,IF(AC11>C11,1,0))","v":0}]
[null,"Matrona/ón",{"$f":"SUM(F12:O12)","v":0},null,null,null,null,null,null,null,null,null,null,null,null,null,null,null,null,null,null,null,null,null,null,null,null,null,null,{"$f":"$CA12&CB12&CC12&CD12&CE12&CF12&CG12&CH12&CI12","v":""},null,null,null,null,null,null,null,null,null,null,null,null,null,null,null,null,null,null,null,null,null,null,null,null,null,null,null,null,null,null,null,null,null,null,null,null,null,null,null,null,null,null,null,null,null,null,null,null,{"$f":"IF((U12+V12)<>C12,\" * La variable Sexo no puede ser distinto al Total\",\"\")","v":""},null,null,{"$f":"IF(AND($C12<>0,Y12=\"\"),\"* No olvide ingresar la columna \"&Y$9&\"\"&\" (Digite CERO si no tiene).  \",IF(Y12>$C12,\"* El Número de Espacios Amigables/ Adolescentes no puede superar el Total. \",\"\"))","v":""},{"$f":"IF(AND($C12<>0,Z12=\"\"),\"* No olvide ingresar la columna \"&Z$9&\"\"&\" (Digite CERO si no tiene).  \",IF(Z12>$C12,\"* El Número de Niños, Niñas, Adolescentes y Jóvenes SENAME no puede superar el Total. \",\"\"))","v":""},{"$f":"IF(AND($C12<>0,AA12=\"\"),\"* No olvide ingresar la columna \"&AA$9&\"\"&\" (Digite CERO si no tiene).  \",IF(AA12>$C12,\"* El Número de Niños, Niñas, Adolescentes y Jóvenes Mejor Niñez no puede superar el Total. \",\"\"))","v":""},{"$f":"IF(AND($C12<>0,AB12=\"\"),\"* No olvide ingresar la columna \"&AB$9&\"\"&\" (Digite CERO si no tiene).  \",IF(AB12>$C12,\"* El Número de Pueblos Originarios no puede superar el Total. \",\"\"))","v":""},{"$f":"IF(AND($C12<>0,AC12=\"\"),\"* No olvide ingresar la columna \"&AC$9&\"\"&\" (Digite CERO si no tiene).  \",IF(AC12>$C12,\"* El Número de Migrantes no puede superar el Total. \",\"\"))","v":""},null,null,{"$f":"IF((U12+V12)<>C12,1,0)","v":0},null,null,{"$f":"IF(AND(C12<>0,Y12=\"\"),1,IF(Y12>C12,1,0))","v":0},{"$f":"IF(AND($C12<>0,Z12=\"\"),1,IF(Z12>C12,1,0))","v":0},{"$f":"IF(AND($C12<>0,AA12=\"\"),1,IF(AA12>C12,1,0))","v":0},{"$f":"IF(AND($C12<>0,AB12=\"\"),1,IF(AB12>C12,1,0))","v":0},{"$f":"IF(AND($C12<>0,AC12=\"\"),1,IF(AC12>C12,1,0))","v":0}]
["Prenatal","Médico/a",{"$f":"SUM(F13:O13)","v":0},null,null,null,null,null,null,null,null,null,null,null,null,null,null,null,null,null,null,null,null,null,null,null,null,null,null,"",null,null,null,null,null,null,null,null,null,null,null,null,null,null,null,null,null,null,null,null,null,null,null,null,null,null,null,null,null,null,null,null,null,null,null,null,null,null,null,null,null,null,null,null,null,null,null,null,"",{"$f":"IF(AND($C13<>0,W13=\"\"),\"* No olvide ingresar la columna \"&W$9&\"\"&\" (Digite CERO si no tiene).  \",IF(W13>$C13,\"* El Número de Control con pareja, familiar u otro no puede superar el Total. \",\"\"))","v":""},null,null,"","","","",null,null,{"$f":"IF((U13+V13)<>C13,1,0)","v":0},{"$f":"IF(AND(C13>0,W13=\"\"),1,IF(W13>C13,1,0))","v":0},null,null,0,0,0,0]
[null,"Matrona/ón",0,null,null,null,null,null,null,null,null,null,null,null,null,null,null,null,null,null,null,null,null,null,null,null,null,null,null,"",null,null,null,null,null,null,null,null,null,null,null,null,null,null,null,null,null,null,null,null,null,null,null,null,null,null,null,null,null,null,null,null,null,null,null,null,null,null,null,null,null,null,null,null,null,null,null,null,"",{"$f":"IF(AND($C14<>0,W14=\"\"),\"* No olvide ingresar la columna \"&W$9&\"\"&\" (Digite CERO si no tiene).  \",IF(W14>$C14,\"* El Número de Control con pareja, familiar u otro no puede superar el Total. \",\"\"))","v":""},null,null,"","","","",null,null,0,{"$f":"IF(AND(C14>0,W14=\"\"),1,IF(W14>SUM(C14),1,0))","v":0},null,null,0,0,0,0]
["Post Parto","Médico/a",0,null,null,null,null,null,null,null,null,null,null,null,null,null,null,null,null,null,null,null,null,null,null,null,null,null,null,"",null,null,null,null,null,null,null,null,null,null,null,null,null,null,null,null,null,null,null,null,null,null,null,null,null,null,null,null,null,null,null,null,null,null,null,null,null,null,null,null,null,null,null,null,null,null,null,null,"",null,null,null,"","","","",null,null,0,null,null,null,0,0,0,0]
[null,"Matrona/ón",0,null,null,null,null,null,null,null,null,null,null,null,null,null,null,null,null,null,null,null,null,null,null,null,null,null,null,"",null,null,null,null,null,null,null,null,null,null,null,null,null,null,null,null,null,null,null,null,null,null,null,null,null,null,null,null,null,null,null,null,null,null,null,null,null,null,null,null,null,null,null,null,null,null,null,null,"",null,null,null,"","","","",null,null,0,null,null,null,0,0,0,0]
["Post Aborto","Médico/a",0,null,null,null,null,null,null,null,null,null,null,null,null,null,null,null,null,null,null,null,null,null,null,null,null,null,null,"",null,null,null,null,null,null,null,null,null,null,null,null,null,null,null,null,null,null,null,null,null,null,null,null,null,null,null,null,null,null,null,null,null,null,null,null,null,null,null,null,null,null,null,null,null,null,null,null,"",null,null,null,"","","","",null,null,0,null,null,null,0,0,0,0]
[null,"Matrona/ón",0,null,null,null,null,null,null,null,null,null,null,null,null,null,null,null,null,null,null,null,null,null,null,null,null,null,null,"",null,null,null,null,null,null,null,null,null,null,null,null,null,null,null,null,null,null,null,null,null,null,null,null,null,null,null,null,null,null,null,null,null,null,null,null,null,null,null,null,null,null,null,null,null,null,null,null,"",null,null,null,"","","","",null,null,0,null,null,null,0,0,0,0]
["Puérpera con recién nacido hasta 10 días de vida ","Médico/a",0,null,null,null,null,null,null,null,null,null,null,null,null,null,null,null,null,null,null,null,null,null,null,null,null,null,null,"",null,null,null,null,null,null,null,null,null,null,null,null,null,null,null,null,null,null,null,null,null,null,null,null,null,null,null,null,null,null,null,null,null,null,null,null,null,null,null,null,null,null,null,null,null,null,null,null,"",{"$f":"IF(AND($C19<>0,W19=\"\"),\"* No olvide ingresar la columna \"&W$9&\"\"&\" (Digite CERO si no tiene).  \",IF(W19>$C19,\"* El Número de Control con pareja, familiar u otro no puede superar el Total. \",\"\"))","v":""},{"$f":"IF(AND($C19<>0,X19=\"\"),\"* No olvide ingresar la columna \"&X$9&\"\"&\" (Digite CERO si no tiene).  \",IF(X19>$C19,\"* El Número de Control de diada con presencia del padre no puede superar el Total. \",\"\"))","v":""},null,"","","","",null,null,0,{"$f":"IF(AND(C19>0,W19=\"\"),1,IF(W19>C19,1,0))","v":0},{"$f":"IF(AND(C19<>0,X19=\"\"),1,IF(X19>C19,1,0))","v":0},null,0,0,0,0]
[null,"Matrona/ón",0,null,null,null,null,null,null,null,null,null,null,null,null,null,null,null,null,null,null,null,null,null,null,null,null,null,null,"",null,null,null,null,null,null,null,null,null,null,null,null,null,null,null,null,null,null,null,null,null,null,null,null,null,null,null,null,null,null,null,null,null,null,null,null,null,null,null,null,null,null,null,null,null,null,null,null,"","",{"$f":"IF(AND($C20<>0,X20=\"\"),\"* No olvide ingresar la columna \"&X$9&\"\"&\" (Digite CERO si no tiene).  \",IF(X20>$C20,\"* El Número de Control de diada con presencia del padre no puede superar el Total. \",\"\"))","v":""},null,"","","","",null,null,0,0,{"$f":"IF(AND(C20<>0,X20=\"\"),1,IF(X20>C20,1,0))","v":0},null,0,0,0,0]
["Puérpera con recién nacido entre 11 y 28 días ","Médico/a",0,null,null,null,null,null,null,null,null,null,null,null,null,null,null,null,null,null,null,null,null,null,null,null,null,null,null,"",null,null,null,null,null,null,null,null,null,null,null,null,null,null,null,null,null,null,null,null,null,null,null,null,null,null,null,null,null,null,null,null,null,null,null,null,null,null,null,null,null,null,null,null,null,null,null,null,"","","",null,"","","","",null,null,0,0,0,null,0,0,0,0]
[null,"Matrona/ón",0,null,null,null,null,null,null,null,null,null,null,null,null,null,null,null,null,null,null,null,null,null,null,null,null,null,null,"",null,null,null,null,null,null,null,null,null,null,null,null,null,null,null,null,null,null,null,null,null,null,null,null,null,null,null,null,null,null,null,null,null,null,null,null,null,null,null,null,null,null,null,null,null,null,null,null,"","","",null,"","","","",null,null,0,0,0,null,0,0,0,0]
["Recién nacido hasta 10 días de vida ","Médico/a",{"$f":"SUM(D23)","v":0},null,null,null,null,null,null,null,null,null,null,null,null,null,null,null,null,null,null,null,null,null,null,null,null,null,null,"",null,null,null,null,null,null,null,null,null,null,null,null,null,null,null,null,null,null,null,null,null,null,null,null,null,null,null,null,null,null,null,null,null,null,null,null,null,null,null,null,null,null,null,null,null,null,null,null,"",{"$f":"IF(AND($C23<>0,W23=\"\"),\"* No olvide ingresar la columna \"&W$9&\"\"&\" (Digite CERO si no tiene).  \",IF(W23>$C23,\"* El Número de Control con pareja, familiar u otro no puede superar el Total. \",\"\"))","v":""},{"$f":"IF(AND($C23<>0,X23=\"\"),\"* No olvide ingresar la columna \"&X$9&\"\"&\" (Digite CERO si no tiene).  \",IF(X23>$C23,\"* El Número de Control de diada con presencia del padre no puede superar el Total. \",\"\"))","v":""},{"$f":"IF(AND($C23<>0,Y23=\"\"),\"* No olvide ingresar la columna \"&Y$9&\"\"&\" (Digite CERO si no tiene).  \",IF(Y23>$C23,\"* El Número de Espacios Amigables/ Adolescentes no puede superar el Total. \",\"\"))","v":""},{"$f":"IF(AND($C23<>0,Z23=\"\"),\"* No olvide ingresar la columna \"&Z$9&\"\"&\" (Digite CERO si no tiene).  \",IF(Z23>$C23,\"* El Número de Niños, Niñas, Adolescentes y Jóvenes SENAME no puede superar el Total. \",\"\"))","v":""},{"$f":"IF(AND($C23<>0,AA23=\"\"),\"* No olvide ingresar la columna \"&AA$9&\"\"&\" (Digite CERO si no tiene).  \",IF(AA23>$C23,\"* El Número de Niños, Niñas, Adolescentes y Jóvenes Mejor Niñez no puede superar el Total. \",\"\"))","v":""},{"$f":"IF(AND($C23<>0,AB23=\"\"),\"* No olvide ingresar la columna \"&AB$9&\"\"&\" (Digite CERO si no tiene).  \",IF(AB23>$C23,\"* El Número de Pueblos Originarios no puede superar el Total. \",\"\"))","v":""},{"$f":"IF(AND($C23<>0,AC23=\"\"),\"* No olvide ingresar la columna \"&AC$9&\"\"&\" (Digite CERO si no tiene).  \",IF(AC23>$C23,\"* El Número de Migrantes no puede superar el Total. \",\"\"))","v":""},null,null,0,0,0,{"$f":"IF(AND(C23<>0,Y23=\"\"),1,IF(Y23>C23,1,0))","v":0},0,0,0,0]
[null,"Matrona/ón",{"$f":"SUM(D24)","v":0},null,null,null,null,null,null,null,null,null,null,null,null,null,null,null,null,null,null,null,null,null,null,null,null,null,null,"",null,null,null,null,null,null,null,null,null,null,null,null,null,null,null,null,null,null,null,null,null,null,null,null,null,null,null,null,null,null,null,null,null,null,null,null,null,null,null,null,null,null,null,null,null,null,null,null,"",{"$f":"IF(AND($C24<>0,W24=\"\"),\"* No olvide ingresar la columna \"&W$9&\"\"&\" (Digite CERO si no tiene).  \",IF(W24>$C24,\"* El Número de Control con pareja, familiar u otro no puede superar el Total. \",\"\"))","v":""},{"$f":"IF(AND($C24<>0,X24=\"\"),\"* No olvide ingresar la columna \"&X$9&\"\"&\" (Digite CERO si no tiene).  \",IF(X24>$C24,\"* El Número de Control de diada con presencia del padre no puede superar el Total. \",\"\"))","v":""},{"$f":"IF(AND($C24<>0,Y24=\"\"),\"* No olvide ingresar la columna \"&Y$9&\"\"&\" (Digite CERO si no tiene).  \",IF(Y24>$C24,\"* El Número de Espacios Amigables/ Adolescentes no puede superar el Total. \",\"\"))","v":""},{"$f":"IF(AND($C24<>0,Z24=\"\"),\"* No olvide ingresar la columna \"&Z$9&\"\"&\" (Digite CERO si no tiene).  \",IF(Z24>$C24,\"* El Número de Niños, Niñas, Adolescentes y Jóvenes SENAME no puede superar el Total. \",\"\"))","v":""},{"$f":"IF(AND($C24<>0,AA24=\"\"),\"* No olvide ingresar la columna \"&AA$9&\"\"&\" (Digite CERO si no tiene).  \",IF(AA24>$C24,\"* El Número de Niños, Niñas, Adolescentes y Jóvenes Mejor Niñez no puede superar el Total. \",\"\"))","v":""},{"$f":"IF(AND($C24<>0,AB24=\"\"),\"* No olvide ingresar la columna \"&AB$9&\"\"&\" (Digite CERO si no tiene).  \",IF(AB24>$C24,\"* El Número de Pueblos Originarios no puede superar el Total. \",\"\"))","v":""},{"$f":"IF(AND($C24<>0,AC24=\"\"),\"* No olvide ingresar la columna \"&AC$9&\"\"&\" (Digite CERO si no tiene).  \",IF(AC24>$C24,\"* El Número de Migrantes no puede superar el Total. \",\"\"))","v":""},null,null,0,0,0,{"$f":"IF(AND(C24<>0,Y24=\"\"),1,IF(Y24>C24,1,0))","v":0},0,0,0,0]
["Recién nacido entre 11 y 28 días ","Médico/a",{"$f":"SUM(D25)","v":0},null,null,null,null,null,null,null,null,null,null,null,null,null,null,null,null,null,null,null,null,null,null,null,null,null,null,"",null,null,null,null,null,null,null,null,null,null,null,null,null,null,null,null,null,null,null,null,null,null,null,null,null,null,null,null,null,null,null,null,null,null,null,null,null,null,null,null,null,null,null,null,null,null,null,null,"","",{"$f":"IF(AND($C25<>0,X25=\"\"),\"* No olvide ingresar la columna \"&X$9&\"\"&\" (Digite CERO si no tiene).  \",IF(X25>$C25,\"* El Número de Control de diada con presencia del padre no puede superar el Total. \",\"\"))","v":""},"","","",{"$f":"IF(AND($C25<>0,AB25=\"\"),\"* No olvide ingresar la columna \"&AB$9&\"\"&\" (Digite CERO si no tiene).  \",IF(AB25>$C25,\"* El Número de Pueblos Originarios no puede superar el Total. \",\"\"))","v":""},"",null,null,0,0,0,0,0,0,0,0]
[null,"Matrona/ón",{"$f":"SUM(D26)","v":0},null,null,null,null,null,null,null,null,null,null,null,null,null,null,null,null,null,null,null,null,null,null,null,null,null,null,"",null,null,null,null,null,null,null,null,null,null,null,null,null,null,null,null,null,null,null,null,null,null,null,null,null,null,null,null,null,null,null,null,null,null,null,null,null,null,null,null,null,null,null,null,null,null,null,null,"","","","","","","","",null,null,0,0,0,0,0,0,0,0]
["Ginecológico","Médico/a",{"$f":"SUM(F27:T27)","v":0},null,null,null,null,null,null,null,null,null,null,null,null,null,null,null,null,null,null,null,null,null,null,null,null,null,null,"",null,null,null,null,null,null,null,null,null,null,null,null,null,null,null,null,null,null,null,null,null,null,null,null,null,null,null,null,null,null,null,null,null,null,null,null,null,null,null,null,null,null,null,null,null,null,null,null,"",null,null,"","","","","",null,null,0,null,null,0,0,0,0,0]
[null,"Matrona/ón",{"$f":"SUM(F28:T28)","v":0},null,null,null,null,null,null,null,null,null,null,null,null,null,null,null,null,null,null,null,null,null,null,null,null,null,null,"",null,null,null,null,null,null,null,null,null,null,null,null,null,null,null,null,null,null,null,null,null,null,null,null,null,null,null,null,null,null,null,null,null,null,null,null,null,null,null,null,null,null,null,null,null,null,null,null,"",null,null,"","","","","",null,null,0,null,null,0,0,0,0,0]
["Climaterio","Médico/a",{"$f":"SUM(M29:P29)","v":0},null,null,null,null,null,null,null,null,null,null,null,null,null,null,null,null,null,null,null,null,null,null,null,null,null,null,"",null,null,null,null,null,null,null,null,null,null,null,null,null,null,null,null,null,null,null,null,null,null,null,null,null,null,null,null,null,null,null,null,null,null,null,null,null,null,null,null,null,null,null,null,null,null,null,null,"",null,null,null,null,null,"","",null,null,0,null,null,null,null,null,{"$f":"IF(AND($C29<>0,AB29=\"\"),1,IF(AB29>C29,1,0))","v":0},{"$f":"IF(AND($C29<>0,AC29=\"\"),1,IF(AC29>C29,1,0))","v":0}]
[null,"Matrona/ón",{"$f":"SUM(M30:P30)","v":0},null,null,null,null,null,null,null,null,null,null,null,null,null,null,null,null,null,null,null,null,null,null,null,null,null,null,"",null,null,null,null,null,null,null,null,null,null,null,null,null,null,null,null,null,null,null,null,null,null,null,null,null,null,null,null,null,null,null,null,null,null,null,null,null,null,null,null,null,null,null,null,null,null,null,null,"",null,null,null,null,null,"","",null,null,0,null,null,null,null,null,0,0]
["Regulación de Fecundidad","Médico/a",{"$f":"SUM(F31:T31)","v":0},null,null,null,null,null,null,null,null,null,null,null,null,null,null,null,null,null,null,null,null,null,null,null,null,null,null,"",null,null,null,null,null,null,null,null,null,null,null,null,null,null,null,null,null,null,null,null,null,null,null,null,null,null,null,null,null,null,null,null,null,null,null,null,null,null,null,null,null,null,null,null,null,null,null,null,"",null,null,"","","","","",null,null,0,null,null,{"$f":"IF(AND(C31<>0,Y31=\"\"),1,IF(Y31>C31,1,0))","v":0},{"$f":"IF(AND($C31<>0,Z31=\"\"),1,IF(Z31>C31,1,0))","v":0},{"$f":"IF(AND($C31<>0,AA31=\"\"),1,IF(AA31>C31,1,0))","v":0},0,0]
[null,"Matrona/ón",{"$f":"SUM(F32:T32)","v":0},null,null,null,null,null,null,null,null,null,null,null,null,null,null,null,null,null,null,null,null,null,null,null,null,null,null,"",null,null,null,null,null,null,null,null,null,null,null,null,null,null,null,null,null,null,null,null,null,null,null,null,null,null,null,null,null,null,null,null,null,null,null,null,null,null,null,null,null,null,null,null,null,null,null,null,"",null,null,"","","","","",null,null,0,null,null,0,{"$f":"IF(AND($C32<>0,Z32=\"\"),1,IF(Z32>C32,1,0))","v":0},0,0,0]
["SECCIÓN B: CONTROLES DE SALUD SEGÚN CICLO VITAL"]
["TIPO DE CONTROL","PROFESIONAL","TOTAL",null,null,"RANGO ETARIO",null,null,null,null,null,null,null,null,null,null,null,null,null,null,null,null,null,null,null,null,null,null,null,null,null,null,null,null,"Control con Presencia del Padre",null,"Niños, Niñas, Adolescentes y Jóvenes  SENAME","Niños, Niñas, Adolescentes y Jóvenes Mejor Niñez","Pueblos Originarios","Migrantes"]
[null,null,"Ambos Sexos","Hombres","Mujeres","Menos de 1 mes","1 mes","2 meses","3 meses","4 meses"," 5 meses","6 meses"," 7  -  11 meses","12 - 17 meses","18  - 23  meses","24  - 47  meses","48  - 59  meses","60  - 71  meses","6 - 9 años","10 - 14 años","15 - 19 años","20 - 24 años","25 - 29 años","30 - 34 años","35 - 39 años","40 - 44 años","45 - 49 años","50 - 54 años","55 - 59 años","60 - 64 años","65 - 69 años","70 - 74 años","75 - 79 años","80 y más años","Menor 1 año","1 año a 3 años 11 meses 29 días"]
["De salud ","Médico/a",{"$f":"SUM(F36:AH36)","v":0},null,null,null,null,null,null,null,null,null,null,null,null,null,null,null,null,null,null,null,null,null,null,null,null,null,null,null,null,null,null,null,null,null,null,null,null,null,{"$f":"CA36&CB36&CD36&CE36&CF36&CG36&CH36","v":""},null,null,null,null,null,null,null,null,null,null,null,null,null,null,null,null,null,null,null,null,null,null,null,null,null,null,null,null,null,null,null,null,null,null,null,null,null,{"$f":"IF((D36+E36)<>SUM(F36:AH36),\" * El Total de Controles por Sexo (Hombres+Mujeres) no puede ser distinto al desglose por rango etario.\",\"\")","v":""},{"$f":"IF(AND(SUM(F36:M36)>0,AI36=\"\"),\" * No olvide digitar los campos \"&AI$34&\"\"&\" de menores de 1 año (Digite CERO si no tiene). \",IF(AI36>SUM(F36:M36),\"* La suma de Control con Presencia del padre de menores de 1 año no puede superar el Total de Controles de menores de 1 año. \",\"\"))","v":""},{"$f":"IF(AND(SUM(N36:P36)>0,AJ36=\"\"),\" * No olvide digitar los campos \"&AI$34&\"\"&\" de 1 año a 3 años 11 meses 29 días (Digite CERO si no tiene). \",IF(AJ36>SUM(N36:P36),\"* La suma de Control con Presencia del padre de 1 año a 3 años 11 meses 29 días no puede superar el Total de Controles de 12 a 47 meses. \",\"\"))","v":""},{"$f":"IF(AND($C36<>0,AK36=\"\"),\"* No olvide ingresar la columna \"&AK$34&\"\"&\" (Digite CERO si no tiene).  \",IF(AK36>$C36,\"* El Número de Niños, Niñas, Adolescentes y Jóvenes SENAME no puede superar el Total Ambos Sexos. \",\"\"))","v":""},{"$f":"IF(AND($C36<>0,AL36=\"\"),\"* No olvide ingresar la columna \"&AL$34&\"\"&\" (Digite CERO si no tiene).  \",IF(AL36>$C36,\"* El Número de Niños, Niñas, Adolescentes y Jóvenes Mejor Niñez no puede superar el Total Ambos Sexos. \",\"\"))","v":""},{"$f":"IF(AND($C36<>0,AM36=\"\"),\"* No olvide ingresar la columna \"&AM$34&\"\"&\" (Digite CERO si no tiene).  \",IF(AM36>$C36,\"* El Número de Pueblos Originarios no puede superar el Total Ambos Sexos. \",\"\"))","v":""},{"$f":"IF(AND($C36<>0,AN36=\"\"),\"* No olvide ingresar la columna \"&AN$34&\"\"&\" (Digite CERO si no tiene).  \",IF(AN36>$C36,\"* El Número de Migrantes no puede superar el Total Ambos Sexos. \",\"\"))","v":""},null,null,null,{"$f":"IF((D36+E36)<>SUM(F36:AH36),1,0)","v":0},{"$f":"IF(AND(SUM(F36:M36)>0,AI36=\"\"),1,IF(AI36>SUM(F36:M36),1,0))","v":0},{"$f":"IF(AND(SUM(N36:P36)>0,AJ36=\"\"),1,IF(AJ36>SUM(N36:P36),1,0))","v":0},{"$f":"IF(AND($C36<>0,AK36=\"\"),1,IF(AK36>$C36,1,0))","v":0},{"$f":"IF(AND($C36<>0,AL36=\"\"),1,IF(AL36>$C36,1,0))","v":0},{"$f":"IF(AND($C36<>0,AM36=\"\"),1,IF(AM36>$C36,1,0))","v":0},{"$f":"IF(AND($C36<>0,AN36=\"\"),1,IF(AN36>$C36,1,0))","v":0}]
[null,"Enfermera/o",{"$f":"SUM(F37:AH37)","v":0},null,null,null,null,null,null,null,null,null,null,null,null,null,null,null,null,null,null,null,null,null,null,null,null,null,null,null,null,null,null,null,null,null,null,null,null,null,{"$f":"CA37&CB37&CC37&CD37&CE37&CF37&CG37","v":""},null,null,null,null,null,null,null,null,null,null,null,null,null,null,null,null,null,null,null,null,null,null,null,null,null,null,null,null,null,null,null,null,null,null,null,null,null,{"$f":"IF((D37+E37)<>SUM(F37:AH37),\" * El Total de Controles por Sexo (Hombres+Mujeres) no puede ser distinto al desglose por rango etario.\",\"\")","v":""},{"$f":"IF(AND(SUM(F37:M37)>0,AI37=\"\"),\" * No olvide digitar los campos \"&AI$34&\"\"&\" de menores de 1 año (Digite CERO si no tiene). \",IF(AI37>SUM(F37:M37),\"* La suma de Control con Presencia del padre de menores de 1 año no puede superar el Total de Controles de menores de 1 año. \",\"\"))","v":""},{"$f":"IF(AND(SUM(N37:P37)>0,AJ37=\"\"),\" * No olvide digitar los campos \"&AI$34&\"\"&\" de 1 año a 3 años 11 meses 29 días (Digite CERO si no tiene). \",IF(AJ37>SUM(N37:P37),\"* La suma de Control con Presencia del padre de 1 año a 3 años 11 meses 29 días no puede superar el Total de Controles de 12 a 47 meses. \",\"\"))","v":""},{"$f":"IF(AND($C37<>0,AK37=\"\"),\"* No olvide ingresar la columna \"&AK$34&\"\"&\" (Digite CERO si no tiene).  \",IF(AK37>$C37,\"* El Número de Niños, Niñas, Adolescentes y Jóvenes SENAME no puede superar el Total Ambos Sexos. \",\"\"))","v":""},{"$f":"IF(AND($C37<>0,AL37=\"\"),\"* No olvide ingresar la columna \"&AL$34&\"\"&\" (Digite CERO si no tiene).  \",IF(AL37>$C37,\"* El Número de Niños, Niñas, Adolescentes y Jóvenes Mejor Niñez no puede superar el Total Ambos Sexos. \",\"\"))","v":""},{"$f":"IF(AND($C37<>0,AM37=\"\"),\"* No olvide ingresar la columna \"&AM$34&\"\"&\" (Digite CERO si no tiene).  \",IF(AM37>$C37,\"* El Número de Pueblos Originarios no puede superar el Total Ambos Sexos. \",\"\"))","v":""},{"$f":"IF(AND($C37<>0,AN37=\"\"),\"* No olvide ingresar la columna \"&AN$34&\"\"&\" (Digite CERO si no tiene).  \",IF(AN37>$C37,\"* El Número de Migrantes no puede superar el Total Ambos Sexos. \",\"\"))","v":""},null,null,null,{"$f":"IF((D37+E37)<>SUM(F37:AH37),1,0)","v":0},{"$f":"IF(AND(SUM(F37:M37)>0,AI37=\"\"),1,IF(AI37>SUM(F37:M37),1,0))","v":0},{"$f":"IF(AND(SUM(N37:P37)>0,AJ37=\"\"),1,IF(AJ37>SUM(N37:P37),1,0))","v":0},{"$f":"IF(AND($C37<>0,AK37=\"\"),1,IF(AK37>$C37,1,0))","v":0},{"$f":"IF(AND($C37<>0,AL37=\"\"),1,IF(AL37>$C37,1,0))","v":0},{"$f":"IF(AND($C37<>0,AM37=\"\"),1,IF(AM37>$C37,1,0))","v":0},{"$f":"IF(AND($C37<>0,AN37=\"\"),1,IF(AN37>$C37,1,0))","v":0}]
[null,"Matrona/ón",{"$f":"SUM(F38+T38+U38+V38+W38+X38+Y38+Z38+AA38+AB38+AC38+AD38+AE38+AF38+AG38+AH38)","v":0},null,null,null,null,null,null,null,null,null,null,null,null,null,null,null,null,null,null,null,null,null,null,null,null,null,null,null,null,null,null,null,null,null,null,null,null,null,"",null,null,null,null,null,null,null,null,null,null,null,null,null,null,null,null,null,null,null,null,null,null,null,null,null,null,null,null,null,null,null,null,null,null,null,null,null,{"$f":"IF((D38+E38)<>SUM(F38,T38:AH38),\" * El Total de Controles por Sexo (Hombres+Mujeres) no puede ser distinto al desglose por rango etario.\",\"\")","v":""},{"$f":"IF(AND(F38>0,AI38=\"\"),\" * No olvide digitar los campos \"&AI$34&\"\"&\" de menores de 1 año (Digite CERO si no tiene). \",IF(AI38>F38,\"* La suma de Control con Presencia del padre de menores de 1 año no puede superar el Total de Controles de menores de 1 año. \",\"\"))","v":""},null,"","","","",null,null,null,{"$f":"IF((D38+E38)<>SUM(F38,T38:AH38),1,0)","v":0},{"$f":"IF(AND(SUM(F38)>0,AI38=\"\"),1,IF(AI38>SUM(F38),1,0))","v":0},null,0,0,0,0]
[null,"Técnico en Enfermería",{"$f":"SUM(N39:S39)","v":0},null,null,null,null,null,null,null,null,null,null,null,null,null,null,null,null,null,null,null,null,null,null,null,null,null,null,null,null,null,null,null,null,null,null,null,null,null,"",null,null,null,null,null,null,null,null,null,null,null,null,null,null,null,null,null,null,null,null,null,null,null,null,null,null,null,null,null,null,null,null,null,null,null,null,null,{"$f":"IF((D39+E39)<>SUM(N39:S39),\" * El Total de Controles por Sexo (Hombres+Mujeres) no puede ser distinto al desglose por rango etario.\",\"\")","v":""},null,{"$f":"IF(AND(SUM(N39:P39)>0,AJ39=\"\"),\" * No olvide digitar los campos \"&AI$34&\"\"&\" de 1 año a 3 años 11 meses 29 días (Digite CERO si no tiene). \",IF(AJ39>SUM(N39:P39),\"* La suma de Control con Presencia del padre de 1 año a 3 años 11 meses 29 días no puede superar el Total de Controles de 12 a 47 meses. \",\"\"))","v":""},"","","",{"$f":"IF(AND($C39<>0,AN39=\"\"),\"* No olvide ingresar la columna \"&AN$34&\"\"&\" (Digite CERO si no tiene).  \",IF(AN39>$C39,\"* El Número de Migrantes no puede superar el Total Ambos Sexos. \",\"\"))","v":""},null,null,null,{"$f":"IF((D39+E39)<>SUM(N39:S39),1,0)","v":0},null,{"$f":"IF(AND(SUM(N39:P39)>0,AJ39=\"\"),1,IF(AJ39>SUM(N39:P39),1,0))","v":0},{"$f":"IF(AND($C39<>0,AK39=\"\"),1,IF(AK39>$C39,1,0))","v":0},0,0,0]
["SECCIÓN C: CONTROLES SEGÚN PROBLEMA DE SALUD"]
["TIPO DE CONTROL","PROFESIONAL","TOTAL",null,null,"RANGO ETARIO Y SEXO",null,null,null,null,null,null,null,null,null,null,null,null,null,null,null,null,null,null,null,null,null,null,null,null,null,null,null,null,null,null,null,null,null,"Pueblos Originarios","Migrantes"]
[null,null,null,null,null," 0  -  4 años",null," 5  -  9 años",null," 10 - 14 años",null,"15 - 19 años",null,"20 - 24 años",null,"25 - 29 años",null,"30 - 34 años",null,"35 - 39 años",null,"40 - 44 años",null,"45 - 49 años",null,"50 - 54 años",null,"55 - 59 años",null,"60 - 64 años",null,"65 - 69 años",null,"70 - 74 años",null,"75 - 79 años",null,"80 y más años"]
[null,null,"Ambos Sexos","Hombres","Mujeres","Hombres","Mujeres","Hombres","Mujeres","Hombres","Mujeres","Hombres","Mujeres","Hombres","Mujeres","Hombres","Mujeres","Hombres","Mujeres","Hombres","Mujeres","Hombres","Mujeres","Hombres","Mujeres","Hombres","Mujeres","Hombres","Mujeres","Hombres","Mujeres","Hombres","Mujeres","Hombres","Mujeres","Hombres","Mujeres","Hombres","Mujeres"]
["De Salud Cardiovascular","Médico/a",{"$f":"SUM(D44:E44)","v":0},{"$f":"SUM(L44+N44+P44+R44+T44+V44+X44+Z44+AB44+AD44+AF44+AH44+AJ44+AL44)","v":0},0,null,null,null,null,null,null,null,null,null,null,null,null,null,null,null,null,null,null,null,null,null,null,null,null,null,null,null,null,null,null,null,null,null,null,null,null,{"$f":"CA44&CB44","v":""},null,null,null,null,null,null,null,null,null,null,null,null,null,null,null,null,null,null,null,null,null,null,null,null,null,null,null,null,null,null,null,null,null,null,null,null,{"$f":"IF(AND($C44<>0,AN44=\"\"),\"* No olvide ingresar la columna \"&AN$41&\"\"&\" (Digite CERO si no tiene). \",IF(AN44>$C44,\"* El Número de Pueblos Originarios no puede superar el Total. \",\"\"))","v":""},{"$f":"IF(AND($C44<>0,AO44=\"\"),\"* No olvide ingresar la columna \"&AO$41&\"\"&\" (Digite CERO si no tiene). \",IF(AO44>$C44,\"* El Número de Migrantes no puede superar el Total. \",\"\"))","v":""},null,null,null,null,null,null,null,null,{"$f":"IF(AND($C44<>0,AN44=\"\"),1,IF(AN44>$C44,1,0))","v":0},{"$f":"IF(AND($C44<>0,AO44=\"\"),1,IF(AO44>$C44,1,0))","v":0}]
[null,"Enfermera/o",0,0,0,null,null,null,null,null,null,null,null,null,null,null,null,null,null,null,null,null,null,null,null,null,null,null,null,null,null,null,null,null,null,null,null,null,null,null,null,{"$f":"CA45&CB45","v":""},null,null,null,null,null,null,null,null,null,null,null,null,null,null,null,null,null,null,null,null,null,null,null,null,null,null,null,null,null,null,null,null,null,null,null,null,{"$f":"IF(AND($C45<>0,AN45=\"\"),\"* No olvide ingresar la columna \"&AN$41&\"\"&\" (Digite CERO si no tiene). \",IF(AN45>$C45,\"* El Número de Pueblos Originarios no puede superar el Total. \",\"\"))","v":""},{"$f":"IF(AND($C45<>0,AO45=\"\"),\"* No olvide ingresar la columna \"&AO$41&\"\"&\" (Digite CERO si no tiene). \",IF(AO45>$C45,\"* El Número de Migrantes no puede superar el Total. \",\"\"))","v":""},null,null,null,null,null,null,null,null,{"$f":"IF(AND($C45<>0,AN45=\"\"),1,IF(AN45>$C45,1,0))","v":0},0]
[null,"Nutricionista",0,0,0,null,null,null,null,null,null,null,null,null,null,null,null,null,null,null,null,null,null,null,null,null,null,null,null,null,null,null,null,null,null,null,null,null,null,null,null,"",null,null,null,null,null,null,null,null,null,null,null,null,null,null,null,null,null,null,null,null,null,null,null,null,null,null,null,null,null,null,null,null,null,null,null,null,"","",null,null,null,null,null,null,null,null,0,0]
[null,"Técnico en Enfermería",0,0,0,null,null,null,null,null,null,null,null,null,null,null,null,null,null,null,null,null,null,null,null,null,null,null,null,null,null,null,null,null,null,null,null,null,null,null,null,"",null,null,null,null,null,null,null,null,null,null,null,null,null,null,null,null,null,null,null,null,null,null,null,null,null,null,null,null,null,null,null,null,null,null,null,null,"","",null,null,null,null,null,null,null,null,0,0]
["Seguimiento Autovalente con riesgo ","Médico/a",0,{"$f":"SUM(AF48+AH48+AJ48+AL48)","v":0},0,null,null,null,null,null,null,null,null,null,null,null,null,null,null,null,null,null,null,null,null,null,null,null,null,null,null,null,null,null,null,null,null,null,null,null,null,"",null,null,null,null,null,null,null,null,null,null,null,null,null,null,null,null,null,null,null,null,null,null,null,null,null,null,null,null,null,null,null,null,null,null,null,null,"","",null,null,null,null,null,null,null,null,0,0]
[null,"Enfermera/o",0,0,0,null,null,null,null,null,null,null,null,null,null,null,null,null,null,null,null,null,null,null,null,null,null,null,null,null,null,null,null,null,null,null,null,null,null,null,null,"",null,null,null,null,null,null,null,null,null,null,null,null,null,null,null,null,null,null,null,null,null,null,null,null,null,null,null,null,null,null,null,null,null,null,null,null,"","",null,null,null,null,null,null,null,null,0,0]
[null,"Otros Profesionales debidamente capacitados ",0,0,0,null,null,null,null,null,null,null,null,null,null,null,null,null,null,null,null,null,null,null,null,null,null,null,null,null,null,null,null,null,null,null,null,null,null,null,null,"",null,null,null,null,null,null,null,null,null,null,null,null,null,null,null,null,null,null,null,null,null,null,null,null,null,null,null,null,null,null,null,null,null,null,null,null,"","",null,null,null,null,null,null,null,null,0,0]
["Seguimiento riesgo dependencia ","Médico/a",0,0,0,null,null,null,null,null,null,null,null,null,null,null,null,null,null,null,null,null,null,null,null,null,null,null,null,null,null,null,null,null,null,null,null,null,null,null,null,"",null,null,null,null,null,null,null,null,null,null,null,null,null,null,null,null,null,null,null,null,null,null,null,null,null,null,null,null,null,null,null,null,null,null,null,null,"","",null,null,null,null,null,null,null,null,0,0]
[null,"Enfermera/o",0,0,0,null,null,null,null,null,null,null,null,null,null,null,null,null,null,null,null,null,null,null,null,null,null,null,null,null,null,null,null,null,null,null,null,null,null,null,null,"",null,null,null,null,null,null,null,null,null,null,null,null,null,null,null,null,null,null,null,null,null,null,null,null,null,null,null,null,null,null,null,null,null,null,null,null,"","",null,null,null,null,null,null,null,null,0,0]
[null,"Otros Profesionales debidamente capacitados ",0,0,0,null,null,null,null,null,null,null,null,null,null,null,null,null,null,null,null,null,null,null,null,null,null,null,null,null,null,null,null,null,null,null,null,null,null,null,null,"",null,null,null,null,null,null,null,null,null,null,null,null,null,null,null,null,null,null,null,null,null,null,null,null,null,null,null,null,null,null,null,null,null,null,null,null,"","",null,null,null,null,null,null,null,null,0,0]
["De Infección Transmisión Sexual ","Médico/a",0,{"$f":"SUM(F54+H54+J54+L54+N54+P54+R54+T54+V54+X54+Z54+AB54+AD54+AF54+AH54+AJ54+AL54)","v":0},{"$f":"SUM(G54+I54+K54+M54+O54+Q54+S54+U54+W54+Y54+AA54+AC54+AE54+AG54+AI54+AK54+AM54)","v":0},null,null,null,null,null,null,null,null,null,null,null,null,null,null,null,null,null,null,null,null,null,null,null,null,null,null,null,null,null,null,null,null,null,null,null,null,"",null,null,null,null,null,null,null,null,null,null,null,null,null,null,null,null,null,null,null,null,null,null,null,null,null,null,null,null,null,null,null,null,null,null,null,null,"","",null,null,null,null,null,null,null,null,0,0]
[null,"Enfermera/o",0,0,0,null,null,null,null,null,null,null,null,null,null,null,null,null,null,null,null,null,null,null,null,null,null,null,null,null,null,null,null,null,null,null,null,null,null,null,null,"",null,null,null,null,null,null,null,null,null,null,null,null,null,null,null,null,null,null,null,null,null,null,null,null,null,null,null,null,null,null,null,null,null,null,null,null,"","",null,null,null,null,null,null,null,null,0,0]
[null,"Matrona/ón",0,0,0,null,null,null,null,null,null,null,null,null,null,null,null,null,null,null,null,null,null,null,null,null,null,null,null,null,null,null,null,null,null,null,null,null,null,null,null,"",null,null,null,null,null,null,null,null,null,null,null,null,null,null,null,null,null,null,null,null,null,null,null,null,null,null,null,null,null,null,null,null,null,null,null,null,"","",null,null,null,null,null,null,null,null,0,0]
["Otros problemas de salud ","Médico/a",0,0,0,null,null,null,null,null,null,null,null,null,null,null,null,null,null,null,null,null,null,null,null,null,null,null,null,null,null,null,null,null,null,null,null,null,null,null,null,"",null,null,null,null,null,null,null,null,null,null,null,null,null,null,null,null,null,null,null,null,null,null,null,null,null,null,null,null,null,null,null,null,null,null,null,null,"","",null,null,null,null,null,null,null,null,0,0]
[null,"Enfermera/o",0,0,0,null,null,null,null,null,null,null,null,null,null,null,null,null,null,null,null,null,null,null,null,null,null,null,null,null,null,null,null,null,null,null,null,null,null,null,null,"",null,null,null,null,null,null,null,null,null,null,null,null,null,null,null,null,null,null,null,null,null,null,null,null,null,null,null,null,null,null,null,null,null,null,null,null,"","",null,null,null,null,null,null,null,null,0,0]
[null,"Matrona/ón",0,0,0,null,null,null,null,null,null,null,null,null,null,null,null,null,null,null,null,null,null,null,null,null,null,null,null,null,null,null,null,null,null,null,null,null,null,null,null,"",null,null,null,null,null,null,null,null,null,null,null,null,null,null,null,null,null,null,null,null,null,null,null,null,null,null,null,null,null,null,null,null,null,null,null,null,"","",null,null,null,null,null,null,null,null,0,0]
[null,"Nutricionista",0,0,0,null,null,null,null,null,null,null,null,null,null,null,null,null,null,null,null,null,null,null,null,null,null,null,null,null,null,null,null,null,null,null,null,null,null,null,null,"",null,null,null,null,null,null,null,null,null,null,null,null,null,null,null,null,null,null,null,null,null,null,null,null,null,null,null,null,null,null,null,null,null,null,null,null,"","",null,null,null,null,null,null,null,null,0,0]
[null,"Técnico en Enfermería",0,0,0,null,null,null,null,null,null,null,null,null,null,null,null,null,null,null,null,null,null,null,null,null,null,null,null,null,null,null,null,null,null,null,null,null,null,null,null,"",null,null,null,null,null,null,null,null,null,null,null,null,null,null,null,null,null,null,null,null,null,null,null,null,null,null,null,null,null,null,null,null,null,null,null,null,"","",null,null,null,null,null,null,null,null,0,0]
[null,"Otros Profesionales debidamente capacitados ",0,0,0,null,null,null,null,null,null,null,null,null,null,null,null,null,null,null,null,null,null,null,null,null,null,null,null,null,null,null,null,null,null,null,null,null,null,null,null,"",null,null,null,null,null,null,null,null,null,null,null,null,null,null,null,null,null,null,null,null,null,null,null,null,null,null,null,null,null,null,null,null,null,null,null,null,"","",null,null,null,null,null,null,null,null,0,0]
["Niños con necesidades especiales ","Médico/a",0,{"$f":"SUM(F63+H63+J63+L63)","v":0},0,null,null,null,null,null,null,null,null,null,null,null,null,null,null,null,null,null,null,null,null,null,null,null,null,null,null,null,null,null,null,null,null,null,null,null,null,"",null,null,null,null,null,null,null,null,null,null,null,null,null,null,null,null,null,null,null,null,null,null,null,null,null,null,null,null,null,null,null,null,null,null,null,null,"","",null,null,null,null,null,null,null,null,0,0]
[null,"Enfermera/o",0,0,0,null,null,null,null,null,null,null,null,null,null,null,null,null,null,null,null,null,null,null,null,null,null,null,null,null,null,null,null,null,null,null,null,null,null,null,null,"",null,null,null,null,null,null,null,null,null,null,null,null,null,null,null,null,null,null,null,null,null,null,null,null,null,null,null,null,null,null,null,null,null,null,null,null,"","",null,null,null,null,null,null,null,null,0,0]
[null,"Matrona/ón",0,0,0,null,null,null,null,null,null,null,null,null,null,null,null,null,null,null,null,null,null,null,null,null,null,null,null,null,null,null,null,null,null,null,null,null,null,null,null,"",null,null,null,null,null,null,null,null,null,null,null,null,null,null,null,null,null,null,null,null,null,null,null,null,null,null,null,null,null,null,null,null,null,null,null,null,"","",null,null,null,null,null,null,null,null,0,0]
[null,"Nutricionista",0,0,0,null,null,null,null,null,null,null,null,null,null,null,null,null,null,null,null,null,null,null,null,null,null,null,null,null,null,null,null,null,null,null,null,null,null,null,null,"",null,null,null,null,null,null,null,null,null,null,null,null,null,null,null,null,null,null,null,null,null,null,null,null,null,null,null,null,null,null,null,null,null,null,null,null,"","",null,null,null,null,null,null,null,null,0,{"$f":"IF(AND($C66<>0,AO66=\"\"),1,IF(AO66>$C66,1,0))","v":0}]
["SECCIÓN D: CONTROL DE SALUD INTEGRAL DE ADOLESCENTES (incluidos en sección B)"]
["LUGAR DEL CONTROL, SEGÚN EDAD",null,"10 - 14 años",null,null,"15 - 19 años",null,null,"Pueblos Originarios","Migrantes","Niños, Niñas, Adolescentes y Jóvenes SENAME","Niños, Niñas, Adolescentes y Jóvenes Mejor Niñez"]
[null,null,"Ambos Sexos","Hombres","Mujeres","Ambos Sexos","Hombres","Mujeres"]
["En Espacio Amigable",null,{"$f":"SUM(D70:E70)","v":0},null,null,{"$f":"SUM(G70:H70)","v":0},null,null,null,null,null,null,{"$f":"$CA70&CB70&CC70&CD70","v":""},null,null,null,null,null,null,null,null,null,null,null,null,null,null,null,null,null,null,null,null,null,null,null,null,null,null,null,null,null,null,null,null,null,null,null,null,null,null,null,null,null,null,null,null,null,null,null,null,null,null,null,null,null,null,null,null,null,null,null,null,null,null,null,null,null,{"$f":"IF(AND(($C70+F70)<>0,$I70=\"\"),\"* No olvide ingresar la columna \"&$I$68&\"\"&\" (Digite CERO si no tiene). \",IF(I70>($C70+$F70),\"* El Número de Pueblos Originarios no puede superar la suma de Ambos Sexos. \",\"\"))","v":""},{"$f":"IF(AND(($C70+F70)<>0,$J70=\"\"),\"* No olvide ingresar la columna \"&$J$68&\"\"&\" (Digite CERO si no tiene). \",IF(J70>($C70+$F70),\"* El Número de Migrantes no puede superar la suma de Ambos Sexos. \",\"\"))","v":""},{"$f":"IF(AND(($C70+F70)<>0,$K70=\"\"),\"* No olvide ingresar la columna \"&$K$68&\"\"&\" (Digite CERO si no tiene). \",IF(K70>($C70+$F70),\"* El Número de \"&$K$68&\" no puede superar la suma de Ambos Sexos. \",\"\"))","v":""},{"$f":"IF(AND(($C70+F70)<>0,$L70=\"\"),\"* No olvide ingresar la columna \"&$L$68&\"\"&\" (Digite CERO si no tiene). \",IF(L70>($C70+$F70),\"* El Número de \"&$L$68&\" no puede superar la suma de Ambos Sexos. \",\"\"))","v":""},null,null,null,null,null,null,{"$f":"IF(AND(($C70+F70)<>0,$I70=\"\"),1,IF(I70>($C70+$F70),1,0))","v":0},{"$f":"IF(AND(($C70+F70)<>0,$J70=\"\"),1,IF(J70>($C70+$F70),1,0))","v":0},{"$f":"IF(AND(($C70+F70)<>0,$K70=\"\"),1,IF(K70>($C70+$F70),1,0))","v":0},{"$f":"IF(AND(($C70+F70)<>0,$L70=\"\"),1,IF(L70>($C70+$F70),1,0))","v":0}]
["En otros espacios del Establecimiento de Salud ",null,{"$f":"SUM(D71:E71)","v":0},null,null,{"$f":"SUM(G71:H71)","v":0},null,null,null,null,null,null,{"$f":"$CA71&CB71&CC71&CD71","v":""},null,null,null,null,null,null,null,null,null,null,null,null,null,null,null,null,null,null,null,null,null,null,null,null,null,null,null,null,null,null,null,null,null,null,null,null,null,null,null,null,null,null,null,null,null,null,null,null,null,null,null,null,null,null,null,null,null,null,null,null,null,null,null,null,null,{"$f":"IF(AND(($C71+F71)<>0,$I71=\"\"),\"* No olvide ingresar la columna \"&$I$68&\"\"&\" (Digite CERO si no tiene). \",IF(I71>($C71+$F71),\"* El Número de Pueblos Originarios no puede superar la suma de Ambos Sexos. \",\"\"))","v":""},{"$f":"IF(AND(($C71+F71)<>0,$J71=\"\"),\"* No olvide ingresar la columna \"&$J$68&\"\"&\" (Digite CERO si no tiene). \",IF(J71>($C71+$F71),\"* El Número de Migrantes no puede superar la suma de Ambos Sexos. \",\"\"))","v":""},{"$f":"IF(AND(($C71+F71)<>0,$K71=\"\"),\"* No olvide ingresar la columna \"&$K$68&\"\"&\" (Digite CERO si no tiene). \",IF(K71>($C71+$F71),\"* El Número de \"&$K$68&\" no puede superar la suma de Ambos Sexos. \",\"\"))","v":""},{"$f":"IF(AND(($C71+F71)<>0,$L71=\"\"),\"* No olvide ingresar la columna \"&$L$68&\"\"&\" (Digite CERO si no tiene). \",IF(L71>($C71+$F71),\"* El Número de \"&$L$68&\" no puede superar la suma de Ambos Sexos. \",\"\"))","v":""},null,null,null,null,null,null,{"$f":"IF(AND(($C71+F71)<>0,$I71=\"\"),1,IF(I71>($C71+$F71),1,0))","v":0},{"$f":"IF(AND(($C71+F71)<>0,$J71=\"\"),1,IF(J71>($C71+$F71),1,0))","v":0},{"$f":"IF(AND(($C71+F71)<>0,$K71=\"\"),1,IF(K71>($C71+$F71),1,0))","v":0},{"$f":"IF(AND(($C71+F71)<>0,$L71=\"\"),1,IF(L71>($C71+$F71),1,0))","v":0}]
["En Establecimientos Educacionales ",null,{"$f":"SUM(D72:E72)","v":0},null,null,{"$f":"SUM(G72:H72)","v":0},null,null,null,null,null,null,{"$f":"$CA72&CB72&CC72&CD72","v":""},null,null,null,null,null,null,null,null,null,null,null,null,null,null,null,null,null,null,null,null,null,null,null,null,null,null,null,null,null,null,null,null,null,null,null,null,null,null,null,null,null,null,null,null,null,null,null,null,null,null,null,null,null,null,null,null,null,null,null,null,null,null,null,null,null,"","","","",null,null,null,null,null,null,{"$f":"IF(AND(($C72+F72)<>0,$I72=\"\"),1,IF(I72>($C72+$F72),1,0))","v":0},{"$f":"IF(AND(($C72+F72)<>0,$J72=\"\"),1,IF(J72>($C72+$F72),1,0))","v":0},{"$f":"IF(AND(($C72+F72)<>0,$K72=\"\"),1,IF(K72>($C72+$F72),1,0))","v":0},{"$f":"IF(AND(($C72+F72)<>0,$L72=\"\"),1,IF(L72>($C72+$F72),1,0))","v":0}]
["En otros lugares fuera del Establecimiento de Salud ",null,{"$f":"SUM(D73:E73)","v":0},null,null,{"$f":"SUM(G73:H73)","v":0},null,null,null,null,null,null,{"$f":"$CA73&CB73&CC73&CD73","v":""},null,null,null,null,null,null,null,null,null,null,null,null,null,null,null,null,null,null,null,null,null,null,null,null,null,null,null,null,null,null,null,null,null,null,null,null,null,null,null,null,null,null,null,null,null,null,null,null,null,null,null,null,null,null,null,null,null,null,null,null,null,null,null,null,null,"","","","",null,null,null,null,null,null,{"$f":"IF(AND(($C73+F73)<>0,$I73=\"\"),1,IF(I73>($C73+$F73),1,0))","v":0},{"$f":"IF(AND(($C73+F73)<>0,$J73=\"\"),1,IF(J73>($C73+$F73),1,0))","v":0},{"$f":"IF(AND(($C73+F73)<>0,$K73=\"\"),1,IF(K73>($C73+$F73),1,0))","v":0},{"$f":"IF(AND(($C73+F73)<>0,$L73=\"\"),1,IF(L73>($C73+$F73),1,0))","v":0}]
["TOTAL",null,{"$f":"SUM(C70:C73)","v":0},0,0,0,0,0,0,0,0,0]
["SECCIÓN E: CONTROLES INDIVIDUALES DE SALUD EN ESTABLECIMIENTOS EDUCACIONALES"]
["CURSO","TOTAL","Sexo",null,"Gestión de casos ",null,"Planificación Intervención educativa",null,null,"Pueblos Originarios","Migrantes","Niños, Niñas, Adolescentes y Jóvenes SENAME","Niños, Niñas, Adolescentes y Jóvenes Mejor Niñez"]
[null,null,"Hombres","Mujeres","Total casos gestionados","Casos pesquisados con riesgo ","Diagnóstico participativo","Número de problemáticas intervenidas","Intervenciones educativas finalizadas"]
["Kínder",{"$f":"SUM(C78:D78)","v":0},null,null,null,null,null,null,null,null,null,null,null,{"$f":"$CA78&CB78&CC78&CD78","v":""},null,null,null,null,null,null,null,null,null,null,null,null,null,null,null,null,null,null,null,null,null,null,null,null,null,null,null,null,null,null,null,null,null,null,null,null,null,null,null,null,null,null,null,null,null,null,null,null,null,null,null,null,null,null,null,null,null,null,null,null,null,null,null,null,{"$f":"IF(AND($B78<>0,J78=\"\"),\"* No olvide ingresar la columna \"&J$76&\"\"&\" (Digite CERO si no tiene). \",IF(J78>$B78,\"* El Número de Pueblos Originarios no puede superar el Total. \",\"\"))","v":""},{"$f":"IF(AND($B78<>0,K78=\"\"),\"* No olvide ingresar la columna \"&K$76&\"\"&\" (Digite CERO si no tiene). \",IF(K78>$B78,\"* El Número de Migrantes no puede superar el Total. \",\"\"))","v":""},{"$f":"IF(AND($B78<>0,L78=\"\"),\"* No olvide ingresar la columna \"&L$76&\"\"&\" (Digite CERO si no tiene).  \",IF(L78>$B78,\"* El Número de El Número de Niños, Niñas, Adolescentes y Jóvenes SENAME no puede superar el Total. \",\"\"))","v":""},{"$f":"IF(AND($B78<>0,M78=\"\"),\"* No olvide ingresar la columna \"&M$76&\"\"&\" (Digite CERO si no tiene).  \",IF(M78>$B78,\"* El Número de Niños, Niñas, Adolescentes y Jóvenes Mejor Niñez no puede superar el Total. \",\"\"))","v":""},null,null,null,null,null,null,{"$f":"IF(AND($B78<>0,J78=\"\"),1,IF(J78>$B78,1,0))","v":0},0,0,0]
["Primero básico ",{"$f":"SUM(C79:D79)","v":0},null,null,null,null,null,null,null,null,null,null,null,{"$f":"$CA79&CB79&CC79&CD79","v":""},null,null,null,null,null,null,null,null,null,null,null,null,null,null,null,null,null,null,null,null,null,null,null,null,null,null,null,null,null,null,null,null,null,null,null,null,null,null,null,null,null,null,null,null,null,null,null,null,null,null,null,null,null,null,null,null,null,null,null,null,null,null,null,null,{"$f":"IF(AND($B79<>0,J79=\"\"),\"* No olvide ingresar la columna \"&J$76&\"\"&\" (Digite CERO si no tiene). \",IF(J79>$B79,\"* El Número de Pueblos Originarios no puede superar el Total. \",\"\"))","v":""},{"$f":"IF(AND($B79<>0,K79=\"\"),\"* No olvide ingresar la columna \"&K$76&\"\"&\" (Digite CERO si no tiene). \",IF(K79>$B79,\"* El Número de Migrantes no puede superar el Total. \",\"\"))","v":""},{"$f":"IF(AND($B79<>0,L79=\"\"),\"* No olvide ingresar la columna \"&L$76&\"\"&\" (Digite CERO si no tiene).  \",IF(L79>$B79,\"* El Número de El Número de Niños, Niñas, Adolescentes y Jóvenes SENAME no puede superar el Total. \",\"\"))","v":""},{"$f":"IF(AND($B79<>0,M79=\"\"),\"* No olvide ingresar la columna \"&M$76&\"\"&\" (Digite CERO si no tiene).  \",IF(M79>$B79,\"* El Número de Niños, Niñas, Adolescentes y Jóvenes Mejor Niñez no puede superar el Total. \",\"\"))","v":""},null,null,null,null,null,null,0,0,0,0]
["Segundo básico",{"$f":"SUM(C80:D80)","v":0},null,null,null,null,null,null,null,null,null,null,null,{"$f":"$CA80&CB80&CC80&CD80","v":""},null,null,null,null,null,null,null,null,null,null,null,null,null,null,null,null,null,null,null,null,null,null,null,null,null,null,null,null,null,null,null,null,null,null,null,null,null,null,null,null,null,null,null,null,null,null,null,null,null,null,null,null,null,null,null,null,null,null,null,null,null,null,null,null,{"$f":"IF(AND($B80<>0,J80=\"\"),\"* No olvide ingresar la columna \"&J$76&\"\"&\" (Digite CERO si no tiene). \",IF(J80>$B80,\"* El Número de Pueblos Originarios no puede superar el Total. \",\"\"))","v":""},{"$f":"IF(AND($B80<>0,K80=\"\"),\"* No olvide ingresar la columna \"&K$76&\"\"&\" (Digite CERO si no tiene). \",IF(K80>$B80,\"* El Número de Migrantes no puede superar el Total. \",\"\"))","v":""},{"$f":"IF(AND($B80<>0,L80=\"\"),\"* No olvide ingresar la columna \"&L$76&\"\"&\" (Digite CERO si no tiene).  \",IF(L80>$B80,\"* El Número de El Número de Niños, Niñas, Adolescentes y Jóvenes SENAME no puede superar el Total. \",\"\"))","v":""},{"$f":"IF(AND($B80<>0,M80=\"\"),\"* No olvide ingresar la columna \"&M$76&\"\"&\" (Digite CERO si no tiene).  \",IF(M80>$B80,\"* El Número de Niños, Niñas, Adolescentes y Jóvenes Mejor Niñez no puede superar el Total. \",\"\"))","v":""},null,null,null,null,null,null,0,0,0,0]
["Tercero básico",{"$f":"SUM(C81:D81)","v":0},null,null,null,null,null,null,null,null,null,null,null,{"$f":"$CA81&CB81&CC81&CD81","v":""},null,null,null,null,null,null,null,null,null,null,null,null,null,null,null,null,null,null,null,null,null,null,null,null,null,null,null,null,null,null,null,null,null,null,null,null,null,null,null,null,null,null,null,null,null,null,null,null,null,null,null,null,null,null,null,null,null,null,null,null,null,null,null,null,{"$f":"IF(AND($B81<>0,J81=\"\"),\"* No olvide ingresar la columna \"&J$76&\"\"&\" (Digite CERO si no tiene). \",IF(J81>$B81,\"* El Número de Pueblos Originarios no puede superar el Total. \",\"\"))","v":""},{"$f":"IF(AND($B81<>0,K81=\"\"),\"* No olvide ingresar la columna \"&K$76&\"\"&\" (Digite CERO si no tiene). \",IF(K81>$B81,\"* El Número de Migrantes no puede superar el Total. \",\"\"))","v":""},{"$f":"IF(AND($B81<>0,L81=\"\"),\"* No olvide ingresar la columna \"&L$76&\"\"&\" (Digite CERO si no tiene).  \",IF(L81>$B81,\"* El Número de El Número de Niños, Niñas, Adolescentes y Jóvenes SENAME no puede superar el Total. \",\"\"))","v":""},{"$f":"IF(AND($B81<>0,M81=\"\"),\"* No olvide ingresar la columna \"&M$76&\"\"&\" (Digite CERO si no tiene).  \",IF(M81>$B81,\"* El Número de Niños, Niñas, Adolescentes y Jóvenes Mejor Niñez no puede superar el Total. \",\"\"))","v":""},null,null,null,null,null,null,0,0,0,0]
["Cuarto básico",{"$f":"SUM(C82:D82)","v":0},null,null,null,null,null,null,null,null,null,null,null,{"$f":"$CA82&CB82&CC82&CD82","v":""},null,null,null,null,null,null,null,null,null,null,null,null,null,null,null,null,null,null,null,null,null,null,null,null,null,null,null,null,null,null,null,null,null,null,null,null,null,null,null,null,null,null,null,null,null,null,null,null,null,null,null,null,null,null,null,null,null,null,null,null,null,null,null,null,{"$f":"IF(AND($B82<>0,J82=\"\"),\"* No olvide ingresar la columna \"&J$76&\"\"&\" (Digite CERO si no tiene). \",IF(J82>$B82,\"* El Número de Pueblos Originarios no puede superar el Total. \",\"\"))","v":""},{"$f":"IF(AND($B82<>0,K82=\"\"),\"* No olvide ingresar la columna \"&K$76&\"\"&\" (Digite CERO si no tiene). \",IF(K82>$B82,\"* El Número de Migrantes no puede superar el Total. \",\"\"))","v":""},{"$f":"IF(AND($B82<>0,L82=\"\"),\"* No olvide ingresar la columna \"&L$76&\"\"&\" (Digite CERO si no tiene).  \",IF(L82>$B82,\"* El Número de El Número de Niños, Niñas, Adolescentes y Jóvenes SENAME no puede superar el Total. \",\"\"))","v":""},{"$f":"IF(AND($B82<>0,M82=\"\"),\"* No olvide ingresar la columna \"&M$76&\"\"&\" (Digite CERO si no tiene).  \",IF(M82>$B82,\"* El Número de Niños, Niñas, Adolescentes y Jóvenes Mejor Niñez no puede superar el Total. \",\"\"))","v":""},null,null,null,null,null,null,0,0,0,0]
["Total de Establecimientos Educacionales"]
["SECCIÓN F: CONTROLES INTEGRALES DE PERSONAS CON CONDICIONES CRÓNICAS (incluidos en Secciones B y C)"]
["TIPO DE CONTROL","TOTAL",null,null,"RANGO ETARIO Y SEXO",null,null,null,null,null,null,null,null,null,null,null,null,null,null,null,null,null,null,null,null,null,null,null,null,null,null,null,"Migrantes","Pueblos Originarios"]
[null,null,null,null,"15 - 19 años",null,"20 - 24 años",null,"25 - 29 años",null,"30 - 34 años",null,"35 - 39 años",null,"40 - 44 años",null,"45 - 49 años",null,"50 - 54 años",null,"55 - 59 años",null,"60 - 64 años",null,"65 - 69 años",null,"70 - 74 años",null,"75 - 79 años",null,"80 y más años"]
[null,"Ambos Sexos","Hombres","Mujeres","Hombres","Mujeres","Hombres","Mujeres","Hombres","Mujeres","Hombres","Mujeres","Hombres","Mujeres","Hombres","Mujeres","Hombres","Mujeres","Hombres","Mujeres","Hombres","Mujeres","Hombres","Mujeres","Hombres","Mujeres","Hombres","Mujeres","Hombres","Mujeres","Hombres","Mujeres"]
["Control integral con riesgo leve (G1)",{"$f":"SUM(C88:D88)","v":0},{"$f":"SUM(E88+G88+I88+K88+M88+O88+Q88+S88+U88+W88+Y88+AA88+AC88+AE88)","v":0},{"$f":"SUM(+F88+H88+J88+L88+N88+P88+R88+T88+V88+X88+Z88+AB88+AD88+AF88)","v":0},null,null,null,null,null,null,null,null,null,null,null,null,null,null,null,null,null,null,null,null,null,null,null,null,null,null,null,null,null,null,{"$f":"$CA88&CB88","v":""},null,null,null,null,null,null,null,null,null,null,null,null,null,null,null,null,null,null,null,null,null,null,null,null,null,null,null,null,null,null,null,null,null,null,null,null,null,null,null,null,null,null,null,{"$f":"IF(AND($B88<>0,AG88=\"\"),\"* No olvide ingresar la columna \"&AG$85&\"\"&\" (Digite CERO si no tiene). \",IF(AG88>$B88,\"* El Número de Migrantes no puede superar el Total Ambos Sexos. \",\"\"))","v":""},{"$f":"IF(AND($B88<>0,AH88=\"\"),\"* No olvide ingresar la columna \"&AH$85&\"\"&\" (Digite CERO si no tiene). \",IF(AH88>$B88,\"* El Número de Pueblos Originarios no puede superar el Total Ambos Sexos. \",\"\"))","v":""},null,null,null,null,null,null,null,null,{"$f":"IF(AND($B88<>0,AG88=\"\"),1,IF(AG88>$B88,1,0))","v":0},{"$f":"IF(AND($B88<>0,AH88=\"\"),1,IF(AH88>$B88,1,0))","v":0}]
["Control integral con riesgo moderado (G2)",0,0,0,null,null,null,null,null,null,null,null,null,null,null,null,null,null,null,null,null,null,null,null,null,null,null,null,null,null,null,null,null,null,{"$f":"$CA89&CB89","v":""},null,null,null,null,null,null,null,null,null,null,null,null,null,null,null,null,null,null,null,null,null,null,null,null,null,null,null,null,null,null,null,null,null,null,null,null,null,null,null,null,null,null,null,{"$f":"IF(AND($B89<>0,AG89=\"\"),\"* No olvide ingresar la columna \"&AG$85&\"\"&\" (Digite CERO si no tiene). \",IF(AG89>$B89,\"* El Número de Migrantes no puede superar el Total Ambos Sexos. \",\"\"))","v":""},{"$f":"IF(AND($B89<>0,AH89=\"\"),\"* No olvide ingresar la columna \"&AH$85&\"\"&\" (Digite CERO si no tiene). \",IF(AH89>$B89,\"* El Número de Pueblos Originarios no puede superar el Total Ambos Sexos. \",\"\"))","v":""},null,null,null,null,null,null,null,null,{"$f":"IF(AND($B89<>0,AG89=\"\"),1,IF(AG89>$B89,1,0))","v":0},0]
["Control integral con riesgo alto (G3)",0,0,0,null,null,null,null,null,null,null,null,null,null,null,null,null,null,null,null,null,null,null,null,null,null,null,null,null,null,null,null,null,null,"",null,null,null,null,null,null,null,null,null,null,null,null,null,null,null,null,null,null,null,null,null,null,null,null,null,null,null,null,null,null,null,null,null,null,null,null,null,null,null,null,null,null,null,"","",null,null,null,null,null,null,null,null,0,0]
["Seguimiento a distancia con riesgo leve (G1)",0,0,0,null,null,null,null,null,null,null,null,null,null,null,null,null,null,null,null,null,null,null,null,null,null,null,null,null,null,null,null,null,null,"",null,null,null,null,null,null,null,null,null,null,null,null,null,null,null,null,null,null,null,null,null,null,null,null,null,null,null,null,null,null,null,null,null,null,null,null,null,null,null,null,null,null,null,"","",null,null,null,null,null,null,null,null,0,0]
["Seguimiento a distancia con riesgo moderado (G2)",0,0,0,null,null,null,null,null,null,null,null,null,null,null,null,null,null,null,null,null,null,null,null,null,null,null,null,null,null,null,null,null,null,"",null,null,null,null,null,null,null,null,null,null,null,null,null,null,null,null,null,null,null,null,null,null,null,null,null,null,null,null,null,null,null,null,null,null,null,null,null,null,null,null,null,null,null,"","",null,null,null,null,null,null,null,null,0,0]
["Seguimiento a distancia con riesgo alto (G3)",0,0,0,null,null,null,null,null,null,null,null,null,null,null,null,null,null,null,null,null,null,null,null,null,null,null,null,null,null,null,null,null,null,"",null,null,null,null,null,null,null,null,null,null,null,null,null,null,null,null,null,null,null,null,null,null,null,null,null,null,null,null,null,null,null,null,null,null,null,null,null,null,null,null,null,null,null,"",{"$f":"IF(AND($B93<>0,AH93=\"\"),\"* No olvide ingresar la columna \"&AH$85&\"\"&\" (Digite CERO si no tiene). \",IF(AH93>$B93,\"* El Número de Pueblos Originarios no puede superar el Total Ambos Sexos. \",\"\"))","v":""},null,null,null,null,null,null,null,null,0,0]
[]
[]
[]
[]
[]
[]
[]
[]
[]
[]
[]
[]
[]
[]
[]
[]
[]
[]
[]
[]
[]
[]
[]
[]
[]
[]
[]
[]
[]
[]
[]
[]
[]
[]
[]
[]
[]
[]
[]
[]
[]
[]
[]
[]
[]
[]
[]
[]
[]
[]
[]
[]
[]
[]
[]
[]
[]
[{"$f":"SUM(C11:C32,C36:C39,C44:C66,C70:C74,F70:F74,B78:B82,B88:B93)","v":0},{"$f":"SUM(CK11:CR93)","v":0}]

{"sheet":"A02","index":2,"n_rows":51,"n_cols":86,"rows_kept":51,"cut":false,"hidden":false,"merged":[[31,26,31,27],[31,28,31,29],[31,30,31,31],[31,32,32,32],[31,33,32,33],[31,14,31,15],[31,16,31,17],[31,18,31,19],[31,20,31,21],[31,22,31,23],[31,24,31,25],[26,30,26,31],[26,32,27,32],[26,33,27,33],[31,0,32,0],[31,1,31,3],[31,4,31,5],[31,6,31,7],[31,8,31,9],[31,10,31,11],[31,12,31,13],[26,18,26,19],[26,20,26,21],[26,22,26,23],[26,24,26,25],[26,26,26,27],[26,28,26,29],[18,33,19,33],[26,0,27,0],[26,1,26,3],[26,4,26,5],[26,6,26,7],[26,8,26,9],[26,10,26,11],[26,12,26,13],[26,14,26,15],[26,16,26,17],[18,22,18,23],[18,24,18,25],[18,26,18,27],[18,28,18,29],[18,30,18,31],[18,32,19,32],[18,10,18,11],[18,12,18,13],[18,14,18,15],[18,16,18,17],[18,18,18,19],[18,20,18,21],[5,0,5,29],[8,0,9,0],[8,1,8,3],[8,4,9,4],[8,5,9,5],[18,0,19,0],[18,1,18,3],[18,4,18,5],[18,6,18,7],[18,8,18,9]]}
["SERVICIO DE SALUD"]
[{"$f":"CONCATENATE(\"COMUNA: \",NOMBRE!B2,\" - \",\"( \",NOMBRE!C2,NOMBRE!D2,NOMBRE!E2,NOMBRE!F2,NOMBRE!G2,\" )\")","v":"COMUNA:  - (  )"}]
[{"$f":"CONCATENATE(\"ESTABLECIMIENTO/ESTRATEGIA: \",NOMBRE!B3,\" - \",\"( \",NOMBRE!C3,NOMBRE!D3,NOMBRE!E3,NOMBRE!F3,NOMBRE!G3,NOMBRE!H3,\" )\")","v":"ESTABLECIMIENTO/ESTRATEGIA:  - (  )"}]
[{"$f":"CONCATENATE(\"MES: \",NOMBRE!B6,\" - \",\"( \",NOMBRE!C6,NOMBRE!D6,\" )\")","v":"MES:  - (  )"}]
[{"$f":"CONCATENATE(\"AÑO: \",NOMBRE!B7)","v":"AÑO: 2024"}]
["REM-A02.   EXAMEN DE MEDICINA PREVENTIVA EN MAYORES DE 15 AÑOS"]
[]
["SECCIÓN A: EMP REALIZADO POR PROFESIONAL"]
["PROFESIONAL","TOTAL",null,null,"Pueblos Originarios","Migrantes"]
[null,"Ambos Sexos","Hombres","Mujeres"]
["TOTAL ",{"$f":"SUM(B12:B17)","v":0},{"$f":"SUM(C12:C17)","v":0},{"$f":"SUM(D12:D17)","v":0},{"$f":"SUM(E12:E17)","v":0},{"$f":"SUM(F12:F17)","v":0}]
["Médico/a",{"$f":"SUM(C12:D12)","v":0},null,null,null,null,{"$f":"$CA12&CB12","v":""},null,null,null,null,null,null,null,null,null,null,null,null,null,null,null,null,null,null,null,null,null,null,null,null,null,null,null,null,null,null,null,null,null,null,null,null,null,null,null,null,null,null,null,null,null,null,null,null,null,null,null,null,null,null,null,null,null,null,null,null,null,null,null,null,null,null,null,null,null,null,null,{"$f":"IF(AND($B12<>0,E12=\"\"),\"* No olvide ingresar la columna \"&E$9&\"\"&\" (Digite CERO si no tiene).  \",IF(E12>$B12,\"* El Número de Pueblos Originarios no puede superar el Total. \",\"\"))","v":""},{"$f":"IF(AND($B12<>0,F12=\"\"),\"* No olvide ingresar la columna \"&F$9&\"\"&\" (Digite CERO si no tiene).  \",IF(F12>$B12,\"* El Número de Migrantes no puede superar el Total. \",\"\"))","v":""},null,null,null,{"$f":"IF(AND($B12<>0,E12=\"\"),1,IF(E12>$B12,1,0))","v":0},{"$f":"IF(AND($B12<>0,F12=\"\"),1,IF(F12>$B12,1,0))","v":0}]
["Enfermera/o",0,null,null,null,null,{"$f":"$CA13&CB13","v":""},null,null,null,null,null,null,null,null,null,null,null,null,null,null,null,null,null,null,null,null,null,null,null,null,null,null,null,null,null,null,null,null,null,null,null,null,null,null,null,null,null,null,null,null,null,null,null,null,null,null,null,null,null,null,null,null,null,null,null,null,null,null,null,null,null,null,null,null,null,null,null,{"$f":"IF(AND($B13<>0,E13=\"\"),\"* No olvide ingresar la columna \"&E$9&\"\"&\" (Digite CERO si no tiene).  \",IF(E13>$B13,\"* El Número de Pueblos Originarios no puede superar el Total. \",\"\"))","v":""},{"$f":"IF(AND($B13<>0,F13=\"\"),\"* No olvide ingresar la columna \"&F$9&\"\"&\" (Digite CERO si no tiene).  \",IF(F13>$B13,\"* El Número de Migrantes no puede superar el Total. \",\"\"))","v":""},null,null,null,{"$f":"IF(AND($B13<>0,E13=\"\"),1,IF(E13>$B13,1,0))","v":0},0]
["Matrona/ón",0,null,null,null,null,"",null,null,null,null,null,null,null,null,null,null,null,null,null,null,null,null,null,null,null,null,null,null,null,null,null,null,null,null,null,null,null,null,null,null,null,null,null,null,null,null,null,null,null,null,null,null,null,null,null,null,null,null,null,null,null,null,null,null,null,null,null,null,null,null,null,null,null,null,null,null,null,"","",null,null,null,0,0]
["Nutricionista",0,null,null,null,null,"",null,null,null,null,null,null,null,null,null,null,null,null,null,null,null,null,null,null,null,null,null,null,null,null,null,null,null,null,null,null,null,null,null,null,null,null,null,null,null,null,null,null,null,null,null,null,null,null,null,null,null,null,null,null,null,null,null,null,null,null,null,null,null,null,null,null,null,null,null,null,null,"","",null,null,null,0,0]
["Otro profesional (capacitados en EMP Y EMPAM)",0,null,null,null,null,"",null,null,null,null,null,null,null,null,null,null,null,null,null,null,null,null,null,null,null,null,null,null,null,null,null,null,null,null,null,null,null,null,null,null,null,null,null,null,null,null,null,null,null,null,null,null,null,null,null,null,null,null,null,null,null,null,null,null,null,null,null,null,null,null,null,null,null,null,null,null,null,"","",null,null,null,0,0]
["Técnico en Enfermería ",0,null,null,null,null,"",null,null,null,null,null,null,null,null,null,null,null,null,null,null,null,null,null,null,null,null,null,null,null,null,null,null,null,null,null,null,null,null,null,null,null,null,null,null,null,null,null,null,null,null,null,null,null,null,null,null,null,null,null,null,null,null,null,null,null,null,null,null,null,null,null,null,null,null,null,null,null,"","",null,null,null,0,0]
["SECCIÓN B: EMP SEGÚN RESULTADO DEL ESTADO NUTRICIONAL"]
["ESTADO NUTRICIONAL","TOTAL",null,null,"15 - 19 años",null,"20 - 24 años",null,"25 - 29 años",null,"30 - 34 años",null,"35 - 39 años",null,"40 - 44 años",null,"45 - 49 años",null,"50 - 54 años",null,"55 - 59 años",null,"60 - 64 años",null,"65 - 69 años",null,"70 - 74 años",null,"75 - 79 años",null,"80 y más años",null,"Pueblos Originarios","Migrantes"]
[null,"Ambos Sexos","Hombres","Mujeres","Hombres","Mujeres","Hombres","Mujeres","Hombres","Mujeres","Hombres","Mujeres","Hombres","Mujeres","Hombres","Mujeres","Hombres","Mujeres","Hombres","Mujeres","Hombres","Mujeres","Hombres","Mujeres","Hombres","Mujeres","Hombres","Mujeres","Hombres","Mujeres","Hombres","Mujeres"]
["TOTAL",{"$f":"SUM(B22:B25)","v":0},{"$f":"SUM(C22:C25)","v":0},{"$f":"SUM(D22:D25)","v":0},{"$f":"SUM(E22:E25)","v":0},0,0,0,0,0,0,0,0,0,0,0,0,0,0,0,0,0,0,0,0,0,0,0,0,0,0,0,{"$f":"SUM(AG22:AG25)","v":0},{"$f":"SUM(AH22:AH25)","v":0},{"$f":"CA21&CB21&CC21","v":""},null,null,null,null,null,null,null,null,null,null,null,null,null,null,null,null,null,null,null,null,null,null,null,null,null,null,null,null,null,null,null,null,null,null,null,null,null,null,null,null,null,null,null,null,{"$f":"IF(C21<>C11,\" * Debe coincidir el Total de EMP según estado nutricional en Hombres, con los EMP realizados en Hombres según Profesional de la Sección A\",\"\")","v":""},{"$f":"IF(D21<>D11,\" * Debe coincidir el Total de EMP según estado nutricional en Mujeres, con los EMP realizados en Mujeres según Profesional de la Sección A\",\"\")","v":""},null,null,null,{"$f":"IF(C21<>C11,1,0)","v":0},{"$f":"IF(D21<>D11,1,0)","v":0}]
["Normal",{"$f":"SUM(C22:D22)","v":0},{"$f":"SUM(E22+G22+I22+K22+M22+O22+Q22+S22+U22+W22+Y22+AA22+AC22+AE22)","v":0},{"$f":"SUM(F22+H22+J22+L22+N22+P22+R22+T22+V22+X22+Z22+AB22+AD22+AF22)","v":0},null,null,null,null,null,null,null,null,null,null,null,null,null,null,null,null,null,null,null,null,null,null,null,null,null,null,null,null,null,null,{"$f":"CA22&CB22&CC22","v":""},null,null,null,null,null,null,null,null,null,null,null,null,null,null,null,null,null,null,null,null,null,null,null,null,null,null,null,null,null,null,null,null,null,null,null,null,null,null,null,null,null,null,null,{"$f":"IF(AND($B22<>0,AG22=\"\"),\"* No olvide ingresar la columna \"&AG$19&\"\"&\" (Digite CERO si no tiene).  \",IF(AG22>$B22,\"* El Número de Pueblos Originarios no puede superar el Total. \",\"\"))","v":""},{"$f":"IF(AND($B22<>0,AH22=\"\"),\"* No olvide ingresar la columna \"&AH$19&\"\"&\" (Digite CERO si no tiene).  \",IF(AH22>$B22,\"* El Número de Migrantes no puede superar el Total. \",\"\"))","v":""},null,null,null,{"$f":"IF(AND($B22<>0,AG22=\"\"),1,IF(AG22>$B22,1,0))","v":0},{"$f":"IF(AND($B22<>0,AH22=\"\"),1,IF(AH22>$B22,1,0))","v":0}]
["Bajo Peso",{"$f":"SUM(C23:D23)","v":0},{"$f":"SUM(E23+G23+I23+K23+M23+O23+Q23+S23+U23+W23+Y23+AA23+AC23+AE23)","v":0},0,null,null,null,null,null,null,null,null,null,null,null,null,null,null,null,null,null,null,null,null,null,null,null,null,null,null,null,null,null,null,"",null,null,null,null,null,null,null,null,null,null,null,null,null,null,null,null,null,null,null,null,null,null,null,null,null,null,null,null,null,null,null,null,null,null,null,null,null,null,null,null,null,null,null,{"$f":"IF(AND($B23<>0,AG23=\"\"),\"* No olvide ingresar la columna \"&AG$19&\"\"&\" (Digite CERO si no tiene).  \",IF(AG23>$B23,\"* El Número de Pueblos Originarios no puede superar el Total. \",\"\"))","v":""},{"$f":"IF(AND($B23<>0,AH23=\"\"),\"* No olvide ingresar la columna \"&AH$19&\"\"&\" (Digite CERO si no tiene).  \",IF(AH23>$B23,\"* El Número de Migrantes no puede superar el Total. \",\"\"))","v":""},null,null,null,{"$f":"IF(AND($B23<>0,AG23=\"\"),1,IF(AG23>$B23,1,0))","v":0},0]
["Sobrepeso",{"$f":"SUM(C24:D24)","v":0},0,0,null,null,null,null,null,null,null,null,null,null,null,null,null,null,null,null,null,null,null,null,null,null,null,null,null,null,null,null,null,null,"",null,null,null,null,null,null,null,null,null,null,null,null,null,null,null,null,null,null,null,null,null,null,null,null,null,null,null,null,null,null,null,null,null,null,null,null,null,null,null,null,null,null,null,"","",null,null,null,0,0]
["Obesos",{"$f":"SUM(C25:D25)","v":0},0,0,null,null,null,null,null,null,null,null,null,null,null,null,null,null,null,null,null,null,null,null,null,null,null,null,null,null,null,null,null,null,"",null,null,null,null,null,null,null,null,null,null,null,null,null,null,null,null,null,null,null,null,null,null,null,null,null,null,null,null,null,null,null,null,null,null,null,null,null,null,null,null,null,null,null,"","",null,null,null,0,0]
["SECCIÓN C: RESULTADOS DE EMP SEGÚN ESTADO DE SALUD"]
["ESTADO DE SALUD","TOTAL",null,null,"15 - 19 años",null,"20 - 24 años",null,"25 - 29 años",null,"30 - 34 años",null,"35 - 39 años",null,"40 - 44 años",null,"45 - 49 años",null,"50 - 54 años",null,"55 - 59 años",null,"60 - 64 años",null,"65 - 69 años",null,"70 - 74 años",null,"75 - 79 años",null,"80 y más años",null,"Pueblos Originarios","Migrantes"]
[null,"Ambos Sexos","Hombres","Mujeres","Hombres","Mujeres","Hombres","Mujeres","Hombres","Mujeres","Hombres","Mujeres","Hombres","Mujeres","Hombres","Mujeres","Hombres","Mujeres","Hombres","Mujeres","Hombres","Mujeres","Hombres","Mujeres","Hombres","Mujeres","Hombres","Mujeres","Hombres","Mujeres","Hombres","Mujeres"]
["Tabaquismo",{"$f":"SUM(C29:D29)","v":0},{"$f":"SUM(E29+G29+I29+K29+M29+O29+Q29+S29+U29+W29+Y29+AA29+AC29+AE29)","v":0},{"$f":"SUM(F29+H29+J29+L29+N29+P29+R29+T29+V29+X29+Z29+AB29+AD29+AF29)","v":0},null,null,null,null,null,null,null,null,null,null,null,null,null,null,null,null,null,null,null,null,null,null,null,null,null,null,null,null,null,null,{"$f":"$CA29&CB29","v":""},null,null,null,null,null,null,null,null,null,null,null,null,null,null,null,null,null,null,null,null,null,null,null,null,null,null,null,null,null,null,null,null,null,null,null,null,null,null,null,null,null,null,null,{"$f":"IF(AND($B29<>0,AG29=\"\"),\"* No olvide ingresar la columna \"&AG$19&\"\"&\" (Digite CERO si no tiene).  \",IF(AG29>$B29,\"* El Número de Pueblos Originarios no puede superar el Total. \",\"\"))","v":""},{"$f":"IF(AND($B29<>0,AH29=\"\"),\"* No olvide ingresar la columna \"&AH$19&\"\"&\" (Digite CERO si no tiene).  \",IF(AH29>$B29,\"* El Número de Migrantes no puede superar el Total. \",\"\"))","v":""},null,null,null,{"$f":"IF(AND($B29<>0,AG29=\"\"),1,IF(AG29>$B29,1,0))","v":0},0]
["Presión arterial elevada (= >140/90 mmHg)",{"$f":"SUM(C30:D30)","v":0},{"$f":"SUM(E30+G30+I30+K30+M30+O30+Q30+S30+U30+W30+Y30+AA30+AC30+AE30)","v":0},{"$f":"SUM(F30+H30+J30+L30+N30+P30+R30+T30+V30+X30+Z30+AB30+AD30+AF30)","v":0},null,null,null,null,null,null,null,null,null,null,null,null,null,null,null,null,null,null,null,null,null,null,null,null,null,null,null,null,null,null,"",null,null,null,null,null,null,null,null,null,null,null,null,null,null,null,null,null,null,null,null,null,null,null,null,null,null,null,null,null,null,null,null,null,null,null,null,null,null,null,null,null,null,null,"","",null,null,null,0,0]
["SECCIÓN D: RESULTADOS DE EMP SEGÚN ESTADO DE SALUD (EXÁMENES DE LABORATORIO)"]
["ESTADO DE SALUD","TOTAL",null,null,"15 - 19 años",null,"20 - 24 años",null,"25 - 29 años",null,"30 - 34 años",null,"35 - 39 años",null,"40 - 44 años",null,"45 - 49 años",null,"50 - 54 años",null,"55 - 59 años",null,"60 - 64 años",null,"65 - 69 años",null,"70 - 74 años",null,"75 - 79 años",null,"80 y más años",null,"Pueblos Originarios","Migrantes"]
[null,"Ambos Sexos","Hombres","Mujeres","Hombres","Mujeres","Hombres","Mujeres","Hombres","Mujeres","Hombres","Mujeres","Hombres","Mujeres","Hombres","Mujeres","Hombres","Mujeres","Hombres","Mujeres","Hombres","Mujeres","Hombres","Mujeres","Hombres","Mujeres","Hombres","Mujeres","Hombres","Mujeres","Hombres","Mujeres"]
["Glicemia alterada (= > a 100 mg/dl)",{"$f":"SUM(C34:D34)","v":0},{"$f":"SUM(E34+G34+I34+K34+M34+O34+Q34+S34+U34+W34+Y34+AA34+AC34+AE34)","v":0},{"$f":"SUM(F34+H34+J34+L34+N34+P34+R34+T34+V34+X34+Z34+AB34+AD34+AF34)","v":0},null,null,null,null,null,null,null,null,null,null,null,null,null,null,null,null,null,null,null,null,null,null,null,null,null,null,null,null,null,null,{"$f":"$CA34&CB34","v":""},null,null,null,null,null,null,null,null,null,null,null,null,null,null,null,null,null,null,null,null,null,null,null,null,null,null,null,null,null,null,null,null,null,null,null,null,null,null,null,null,null,null,null,{"$f":"IF(AND($B34<>0,AG34=\"\"),\"* No olvide ingresar la columna \"&AG$19&\"\"&\" (Digite CERO si no tiene).  \",IF(AG34>$B34,\"* El Número de Pueblos Originarios no puede superar el Total. \",\"\"))","v":""},{"$f":"IF(AND($B34<>0,AH34=\"\"),\"* No olvide ingresar la columna \"&AH$19&\"\"&\" (Digite CERO si no tiene).  \",IF(AH34>$B34,\"* El Número de Migrantes no puede superar el Total. \",\"\"))","v":""},null,null,null,{"$f":"IF(AND($B34<>0,AG34=\"\"),1,IF(AG34>$B34,1,0))","v":0},{"$f":"IF(AND($B34<>0,AH34=\"\"),1,IF(AH34>$B34,1,0))","v":0}]
["Colesterol elevado (= > 200 mg/dl)",{"$f":"SUM(C35:D35)","v":0},{"$f":"SUM(E35+G35+I35+K35+M35+O35+Q35+S35+U35+W35+Y35+AA35+AC35+AE35)","v":0},{"$f":"SUM(F35+H35+J35+L35+N35+P35+R35+T35+V35+X35+Z35+AB35+AD35+AF35)","v":0},null,null,null,null,null,null,null,null,null,null,null,null,null,null,null,null,null,null,null,null,null,null,null,null,null,null,null,null,null,null,{"$f":"$CA35&CB35","v":""},null,null,null,null,null,null,null,null,null,null,null,null,null,null,null,null,null,null,null,null,null,null,null,null,null,null,null,null,null,null,null,null,null,null,null,null,null,null,null,null,null,null,null,{"$f":"IF(AND($B35<>0,AG35=\"\"),\"* No olvide ingresar la columna \"&AG$19&\"\"&\" (Digite CERO si no tiene).  \",IF(AG35>$B35,\"* El Número de Pueblos Originarios no puede superar el Total. \",\"\"))","v":""},{"$f":"IF(AND($B35<>0,AH35=\"\"),\"* No olvide ingresar la columna \"&AH$19&\"\"&\" (Digite CERO si no tiene).  \",IF(AH35>$B35,\"* El Número de Migrantes no puede superar el Total. \",\"\"))","v":""},null,null,null,{"$f":"IF(AND($B35<>0,AG35=\"\"),1,IF(AG35>$B35,1,0))","v":0},{"$f":"IF(AND($B35<>0,AH35=\"\"),1,IF(AH35>$B35,1,0))","v":0}]
[]
[]
[]
[]
[]
[]
[]
[]
[]
[]
[]
[]
[]
[]
[]
[{"$f":"SUM(B12:B17,B22:B25,B29:B30,B34:B35)","v":0},{"$f":"SUM(CF12:CH35)","v":0}]

{"sheet":"A03","index":3,"n_rows":346,"n_cols":94,"rows_kept":346,"cut":false,"hidden":false,"merged":[[272,0,274,0],[275,0,281,0],[282,0,288,0],[289,0,300,0],[301,0,312,0],[313,0,319,0],[262,0,264,0],[265,0,267,0],[269,0,271,0],[320,0,320,1],[322,0,324,0],[322,1,324,1],[322,29,324,29],[322,30,324,30],[323,2,323,4],[323,5,323,6],[323,7,323,8],[323,9,323,10],[323,11,323,13],[323,27,323,28],[323,14,323,15],[323,16,323,17],[323,18,323,19],[323,20,323,22],[323,23,323,24],[323,25,323,26],[322,2,322,10],[322,11,322,19],[322,20,322,28],[269,39,269,46],[269,47,271,47],[269,48,271,48],[270,5,270,6],[270,7,270,8],[270,9,270,10],[270,11,270,12],[270,13,270,14],[270,15,270,16],[270,17,270,18],[270,39,270,40],[270,41,270,42],[270,43,270,44],[270,45,270,46],[270,27,270,28],[270,29,270,30],[270,31,270,32],[270,33,270,34],[270,35,270,36],[270,37,270,38],[269,5,269,38],[270,19,270,20],[270,21,270,22],[270,23,270,24],[270,25,270,26],[254,0,254,1],[255,0,257,0],[259,0,261,1],[259,2,260,4],[259,5,259,14],[260,5,260,6],[260,7,260,8],[260,9,260,10],[260,11,260,12],[260,13,260,14],[260,17,261,17],[259,15,261,15],[269,1,271,1],[269,2,270,4],[248,0,248,1],[249,0,249,1],[250,0,250,1],[251,0,251,1],[252,0,252,1],[253,0,253,1],[246,11,246,12],[246,13,246,14],[246,15,246,16],[246,17,246,18],[246,19,246,20],[246,21,246,22],[241,0,241,1],[242,0,242,1],[243,0,243,1],[244,0,244,12],[245,0,247,1],[245,2,246,4],[245,5,245,22],[246,5,246,6],[246,7,246,8],[246,9,246,10],[236,0,238,1],[236,2,236,4],[237,2,238,2],[237,3,237,4],[239,0,239,1],[240,0,240,1],[215,0,215,1],[216,0,216,1],[217,0,217,1],[218,0,218,1],[219,0,222,0],[223,0,224,0],[226,0,227,1],[226,2,226,3],[226,4,227,4],[209,0,209,1],[210,0,210,1],[211,0,211,1],[213,0,214,1],[213,2,213,3],[213,4,214,4],[213,5,214,5],[207,5,207,6],[207,7,207,8],[202,0,203,0],[204,0,204,1],[206,0,208,1],[206,2,207,4],[206,5,206,14],[206,15,206,17],[206,18,208,18],[206,19,208,19],[207,16,208,16],[207,17,208,17],[207,9,207,10],[207,11,207,12],[207,13,207,14],[207,15,208,15],[199,29,200,30],[199,31,200,32],[199,33,201,33],[199,34,201,34],[200,5,200,6],[200,7,200,8],[200,9,200,10],[200,11,200,12],[200,13,200,14],[200,15,200,16],[200,25,200,26],[200,27,200,28],[195,0,195,1],[196,0,196,1],[197,0,197,1],[199,0,201,1],[199,2,200,4],[199,5,199,28],[200,17,200,18],[200,19,200,20],[200,21,200,22],[200,23,200,24],[186,0,186,1],[187,0,187,1],[188,0,188,1],[189,0,189,1],[192,0,194,1],[192,2,193,4],[183,0,185,1],[183,2,184,4],[183,5,183,16],[184,5,184,6],[184,7,184,8],[184,9,184,10],[184,11,184,12],[184,13,184,14],[184,15,184,16],[192,5,192,20],[193,5,193,6],[193,7,193,8],[193,9,193,10],[193,11,193,12],[193,13,193,14],[193,15,193,16],[193,17,193,18],[193,19,193,20],[174,9,174,10],[174,11,174,12],[174,13,174,14],[176,0,178,0],[179,0,181,0],[182,0,182,14],[164,35,164,36],[164,37,164,38],[166,0,168,0],[169,0,171,0],[173,0,175,0],[173,1,175,1],[173,2,174,4],[173,5,173,14],[174,5,174,6],[174,7,174,8],[164,23,164,24],[164,25,164,26],[164,27,164,28],[164,29,164,30],[164,31,164,32],[164,33,164,34],[163,5,163,38],[164,5,164,6],[164,7,164,8],[164,9,164,10],[164,11,164,12],[164,13,164,14],[164,15,164,16],[164,17,164,18],[164,19,164,20],[164,21,164,22],[150,0,150,1],[151,0,155,0],[156,0,160,0],[161,0,161,1],[163,0,165,1],[163,2,164,4],[120,0,124,0],[125,0,129,0],[130,0,134,0],[135,0,139,0],[140,0,144,0],[145,0,149,0],[118,15,118,16],[118,17,118,18],[118,19,118,20],[118,21,118,22],[118,23,118,24],[118,25,118,26],[113,0,115,0],[117,0,119,0],[117,1,119,1],[117,2,118,4],[117,5,117,26],[118,5,118,6],[118,7,118,8],[118,9,118,10],[118,11,118,12],[118,13,118,14],[107,0,107,1],[108,0,108,1],[109,0,109,1],[110,0,110,1],[111,0,111,1],[112,0,112,1],[105,9,105,10],[105,11,105,12],[105,13,105,14],[105,15,105,16],[105,17,105,18],[105,19,105,20],[99,0,99,1],[100,0,100,1],[101,0,101,1],[102,0,102,15],[103,0,103,16],[104,0,106,1],[104,2,105,4],[104,5,104,20],[105,5,105,6],[105,7,105,8],[94,2,94,4],[94,5,94,6],[94,7,94,8],[96,0,96,1],[97,0,97,1],[98,0,98,1],[76,0,78,0],[76,1,77,1],[88,0,88,1],[89,0,90,0],[91,0,92,0],[94,0,95,1],[68,0,70,0],[68,1,69,3],[68,4,68,7],[68,8,70,8],[68,9,70,9],[69,4,69,5],[69,6,69,7],[61,0,61,1],[62,0,62,1],[63,0,63,1],[64,0,64,1],[65,0,65,1],[66,0,66,1],[60,0,60,1],[43,12,43,13],[43,14,43,15],[50,0,52,0],[50,1,51,3],[50,4,50,7],[50,8,52,8],[50,9,52,9],[51,4,51,5],[51,6,51,7],[42,0,44,0],[42,1,43,3],[42,4,42,15],[43,4,43,5],[43,6,43,7],[43,8,43,9],[43,10,43,11],[19,0,19,1],[20,0,23,0],[24,0,35,0],[36,0,37,0],[58,0,59,1],[58,2,59,2],[58,3,58,9],[58,10,59,10],[58,11,59,11],[10,23,10,24],[12,0,12,1],[13,0,14,0],[5,0,5,24],[9,0,11,1],[9,2,10,4],[9,5,9,24],[10,5,10,6],[10,7,10,8],[10,9,10,10],[10,11,10,12],[10,13,10,14],[10,15,10,16],[226,5,227,5],[228,0,228,1],[229,0,229,1],[230,0,230,1],[231,0,232,0],[233,0,234,0],[10,17,10,18],[10,19,10,20],[10,21,10,22],[17,13,17,14],[17,15,17,16],[16,0,18,0],[16,1,18,1],[16,2,17,4],[16,5,16,16],[38,0,40,0],[16,17,18,17],[16,18,18,18],[17,5,17,6],[17,7,17,8],[17,9,17,10],[17,11,17,12],[42,16,44,16],[42,17,44,17]]}
["SERVICIO DE SALUD"]
[{"$f":"CONCATENATE(\"COMUNA: \",NOMBRE!B2,\" - \",\"( \",NOMBRE!C2,NOMBRE!D2,NOMBRE!E2,NOMBRE!F2,NOMBRE!G2,\" )\")","v":"COMUNA:  - (  )"}]
[{"$f":"CONCATENATE(\"ESTABLECIMIENTO/ESTRATEGIA: \",NOMBRE!B3,\" - \",\"( \",NOMBRE!C3,NOMBRE!D3,NOMBRE!E3,NOMBRE!F3,NOMBRE!G3,NOMBRE!H3,\" )\")","v":"ESTABLECIMIENTO/ESTRATEGIA:  - (  )"}]
[{"$f":"CONCATENATE(\"MES: \",NOMBRE!B6,\" - \",\"( \",NOMBRE!C6,NOMBRE!D6,\" )\")","v":"MES:  - (  )"}]
[{"$f":"CONCATENATE(\"AÑO: \",NOMBRE!B7)","v":"AÑO: 2024"}]
["REM-A03.   APLICACIÓN Y RESULTADOS DE ESCALAS DE EVALUACIÓN "]
[]
["SECCIÓN A: APLICACIÓN DE INSTRUMENTO Y RESULTADO EN EL NIÑO (A)"]
["SECCIÓN A.1: APLICACIÓN Y RESULTADOS DE PAUTA BREVE"]
["EVALUACIONES POR EDAD DEL NIÑO",null,"TOTAL  ",null,null,"RANGO ETARIO Y SEXO"]
[null,null,null,null,null,"Menos de 1 mes",null,"1 mes",null,"2 meses",null,"3 meses",null,"4 meses",null," 5 meses",null,"6 meses",null," 7 - 11 meses",null,"12 - 17 meses",null,"18 - 24 meses"]
[null,null,"Ambos Sexos","Hombres","Mujeres","Hombres","Mujeres","Hombres","Mujeres","Hombres","Mujeres","Hombres","Mujeres","Hombres","Mujeres","Hombres","Mujeres","Hombres","Mujeres","Hombres","Mujeres","Hombres","Mujeres","Hombres","Mujeres"]
["Aplicación Pauta Breve ",null,{"$f":"SUM(D13+E13)","v":0},{"$f":"SUM(F13+H13+J13+L13+N13+P13+R13+T13+V13+X13)","v":0},0]
["Resultados","Normal",{"$f":"SUM(D14+E14)","v":0},0,0]
[null,"Alterado",{"$f":"SUM(D15+E15)","v":0},0,0]
["SECCIÓN A.2: RESULTADOS DE LA APLICACIÓN DE ESCALA DE EVALUACIÓN DEL DESARROLLO PSICOMOTOR"]
["ACTIVIDAD","RESULTADO","TOTAL    ",null,null,"RANGO ETARIO Y SEXO",null,null,null,null,null,null,null,null,null,null,null,"Pueblos Originarios","Migrantes"]
[null,null,null,null,null,"Menos de 7 meses",null,"7 - 11 meses",null,"12 - 17 meses",null,"18 - 23 meses",null,"24 - 47 meses",null,"48 - 59 meses"]
[null,null,"Ambos Sexos","Hombres","Mujeres","Hombres","Mujeres","Hombres","Mujeres","Hombres","Mujeres","Hombres","Mujeres","Hombres","Mujeres","Hombres","Mujeres"]
["Aplicación test de Desarrollo Psicomotor ",null,{"$f":"SUM(D20+E20)","v":0},{"$f":"SUM(F20+H20+J20+L20+N20+P20)","v":0},0,null,null,null,null,null,null,null,null,null,null,null,null,null,null,{"$f":"$CA20&CB20","v":""},null,null,null,null,null,null,null,null,null,null,null,null,null,null,null,null,null,null,null,null,null,null,null,null,null,null,null,null,null,null,null,null,null,null,null,null,null,null,null,null,null,null,null,null,null,null,null,null,null,null,null,null,null,null,null,null,null,null,{"$f":"IF(AND($C20<>0,R20=\"\"),\"* No olvide ingresar la columna \"&R$17&\"\"&\" (Digite CERO si no tiene). \",IF(R20>$C20,\"* El Número de Pueblos Originarios no puede superar el Total. \",\"\"))","v":""},{"$f":"IF(AND($C20<>0,S20=\"\"),\"* No olvide ingresar la columna \"&S$17&\"\"&\" (Digite CERO si no tiene). \",IF(S20>$C20,\"* El Número de Migrantes no puede superar el Total. \",\"\"))","v":""},null,null,null,null,null,null,null,null,{"$f":"IF(AND($C20<>0,R20=\"\"),1,IF(R20>$C20,1,0))","v":0},{"$f":"IF(AND($C20<>0,S20=\"\"),1,IF(S20>$C20,1,0))","v":0}]
["Primera Evaluación ","Normal",0,0,0,null,null,null,null,null,null,null,null,null,null,null,null,null,null,{"$f":"$CA21&CB21","v":""},null,null,null,null,null,null,null,null,null,null,null,null,null,null,null,null,null,null,null,null,null,null,null,null,null,null,null,null,null,null,null,null,null,null,null,null,null,null,null,null,null,null,null,null,null,null,null,null,null,null,null,null,null,null,null,null,null,null,{"$f":"IF(AND($C21<>0,R21=\"\"),\"* No olvide ingresar la columna \"&R$17&\"\"&\" (Digite CERO si no tiene). \",IF(R21>$C21,\"* El Número de Pueblos Originarios no puede superar el Total. \",\"\"))","v":""},{"$f":"IF(AND($C21<>0,S21=\"\"),\"* No olvide ingresar la columna \"&S$17&\"\"&\" (Digite CERO si no tiene). \",IF(S21>$C21,\"* El Número de Migrantes no puede superar el Total. \",\"\"))","v":""},null,null,null,null,null,null,null,null,{"$f":"IF(AND($C21<>0,R21=\"\"),1,IF(R21>$C21,1,0))","v":0},0]
[null,"Normal con Rezago",0,0,0,null,null,null,null,null,null,null,null,null,null,null,null,null,null,"",null,null,null,null,null,null,null,null,null,null,null,null,null,null,null,null,null,null,null,null,null,null,null,null,null,null,null,null,null,null,null,null,null,null,null,null,null,null,null,null,null,null,null,null,null,null,null,null,null,null,null,null,null,null,null,null,null,null,"","",null,null,null,null,null,null,null,null,0,0]
[null,"Riesgo",0,0,0,null,null,null,null,null,null,null,null,null,null,null,null,null,null,"",null,null,null,null,null,null,null,null,null,null,null,null,null,null,null,null,null,null,null,null,null,null,null,null,null,null,null,null,null,null,null,null,null,null,null,null,null,null,null,null,null,null,null,null,null,null,null,null,null,null,null,null,null,null,null,null,null,null,"","",null,null,null,null,null,null,null,null,0,0]
[null,"Retraso",0,0,0,null,null,null,null,null,null,null,null,null,null,null,null,null,null,"",null,null,null,null,null,null,null,null,null,null,null,null,null,null,null,null,null,null,null,null,null,null,null,null,null,null,null,null,null,null,null,null,null,null,null,null,null,null,null,null,null,null,null,null,null,null,null,null,null,null,null,null,null,null,null,null,null,null,"","",null,null,null,null,null,null,null,null,0,0]
["Reevaluación","Normal (desde normal con rezago)",0,0,0,null,null,null,null,null,null,null,null,null,null,null,null,null,null,"",null,null,null,null,null,null,null,null,null,null,null,null,null,null,null,null,null,null,null,null,null,null,null,null,null,null,null,null,null,null,null,null,null,null,null,null,null,null,null,null,null,null,null,null,null,null,null,null,null,null,null,null,null,null,null,null,null,null,"","",null,null,null,null,null,null,null,null,0,0]
[null,"Normal (desde riesgo)",0,0,0,null,null,null,null,null,null,null,null,null,null,null,null,null,null,"",null,null,null,null,null,null,null,null,null,null,null,null,null,null,null,null,null,null,null,null,null,null,null,null,null,null,null,null,null,null,null,null,null,null,null,null,null,null,null,null,null,null,null,null,null,null,null,null,null,null,null,null,null,null,null,null,null,null,"","",null,null,null,null,null,null,null,null,0,0]
[null,"Normal (desde retraso)",0,0,0,null,null,null,null,null,null,null,null,null,null,null,null,null,null,"",null,null,null,null,null,null,null,null,null,null,null,null,null,null,null,null,null,null,null,null,null,null,null,null,null,null,null,null,null,null,null,null,null,null,null,null,null,null,null,null,null,null,null,null,null,null,null,null,null,null,null,null,null,null,null,null,null,null,"","",null,null,null,null,null,null,null,null,0,0]
[null,"Normal Rezago (desde riesgo)",0,0,0,null,null,null,null,null,null,null,null,null,null,null,null,null,null,"",null,null,null,null,null,null,null,null,null,null,null,null,null,null,null,null,null,null,null,null,null,null,null,null,null,null,null,null,null,null,null,null,null,null,null,null,null,null,null,null,null,null,null,null,null,null,null,null,null,null,null,null,null,null,null,null,null,null,"","",null,null,null,null,null,null,null,null,0,0]
[null,"Normal con Rezago (desde retraso)",0,0,0,null,null,null,null,null,null,null,null,null,null,null,null,null,null,"",null,null,null,null,null,null,null,null,null,null,null,null,null,null,null,null,null,null,null,null,null,null,null,null,null,null,null,null,null,null,null,null,null,null,null,null,null,null,null,null,null,null,null,null,null,null,null,null,null,null,null,null,null,null,null,null,null,null,"","",null,null,null,null,null,null,null,null,0,0]
[null,"Riesgo (desde retraso)",{"$f":"SUM(D30:E30)","v":0},0,0,null,null,null,null,null,null,null,null,null,null,null,null,null,null,"",null,null,null,null,null,null,null,null,null,null,null,null,null,null,null,null,null,null,null,null,null,null,null,null,null,null,null,null,null,null,null,null,null,null,null,null,null,null,null,null,null,null,null,null,null,null,null,null,null,null,null,null,null,null,null,null,null,null,"","",null,null,null,null,null,null,null,null,0,0]
[null,"Normal con Rezago (desde normal con rezago)",{"$f":"SUM(D31:E31)","v":0},0,0,null,null,null,null,null,null,null,null,null,null,null,null,null,null,"",null,null,null,null,null,null,null,null,null,null,null,null,null,null,null,null,null,null,null,null,null,null,null,null,null,null,null,null,null,null,null,null,null,null,null,null,null,null,null,null,null,null,null,null,null,null,null,null,null,null,null,null,null,null,null,null,null,null,"","",null,null,null,null,null,null,null,null,0,0]
[null,"Riesgo (desde riesgo)",{"$f":"SUM(D32+E32)","v":0},0,0,null,null,null,null,null,null,null,null,null,null,null,null,null,null,"",null,null,null,null,null,null,null,null,null,null,null,null,null,null,null,null,null,null,null,null,null,null,null,null,null,null,null,null,null,null,null,null,null,null,null,null,null,null,null,null,null,null,null,null,null,null,null,null,null,null,null,null,null,null,null,null,null,null,"","",null,null,null,null,null,null,null,null,0,0]
[null,"Riesgo (desde normal con rezago)",0,0,0,null,null,null,null,null,null,null,null,null,null,null,null,null,null,"",null,null,null,null,null,null,null,null,null,null,null,null,null,null,null,null,null,null,null,null,null,null,null,null,null,null,null,null,null,null,null,null,null,null,null,null,null,null,null,null,null,null,null,null,null,null,null,null,null,null,null,null,null,null,null,null,null,null,"","",null,null,null,null,null,null,null,null,0,0]
[null,"Retraso (desde retraso)",0,0,0,null,null,null,null,null,null,null,null,null,null,null,null,null,null,"",null,null,null,null,null,null,null,null,null,null,null,null,null,null,null,null,null,null,null,null,null,null,null,null,null,null,null,null,null,null,null,null,null,null,null,null,null,null,null,null,null,null,null,null,null,null,null,null,null,null,null,null,null,null,null,null,null,null,"","",null,null,null,null,null,null,null,null,0,0]
[null,"Retraso (desde riesgo)",0,0,0,null,null,null,null,null,null,null,null,null,null,null,null,null,null,"",null,null,null,null,null,null,null,null,null,null,null,null,null,null,null,null,null,null,null,null,null,null,null,null,null,null,null,null,null,null,null,null,null,null,null,null,null,null,null,null,null,null,null,null,null,null,null,null,null,null,null,null,null,null,null,null,null,null,"","",null,null,null,null,null,null,null,null,0,0]
[null,"Retraso (desde normal con rezago)",0,0,0,null,null,null,null,null,null,null,null,null,null,null,null,null,null,"",null,null,null,null,null,null,null,null,null,null,null,null,null,null,null,null,null,null,null,null,null,null,null,null,null,null,null,null,null,null,null,null,null,null,null,null,null,null,null,null,null,null,null,null,null,null,null,null,null,null,null,null,null,null,null,null,null,null,"","",null,null,null,null,null,null,null,null,0,0]
["Derivados a Especialidad","Riesgo",0,0,0,null,null,null,null,null,null,null,null,null,null,null,null,null,null,"",null,null,null,null,null,null,null,null,null,null,null,null,null,null,null,null,null,null,null,null,null,null,null,null,null,null,null,null,null,null,null,null,null,null,null,null,null,null,null,null,null,null,null,null,null,null,null,null,null,null,null,null,null,null,null,null,null,null,"","",null,null,null,null,null,null,null,null,0,0]
[null,"Retraso",0,0,0,null,null,null,null,null,null,null,null,null,null,null,null,null,null,"",null,null,null,null,null,null,null,null,null,null,null,null,null,null,null,null,null,null,null,null,null,null,null,null,null,null,null,null,null,null,null,null,null,null,null,null,null,null,null,null,null,null,null,null,null,null,null,null,null,null,null,null,null,null,null,null,null,null,"","",null,null,null,null,null,null,null,null,0,0]
["Traslado de Establecimiento","Normal con Rezago",0,0,0,null,null,null,null,null,null,null,null,null,null,null,null,null,null,"",null,null,null,null,null,null,null,null,null,null,null,null,null,null,null,null,null,null,null,null,null,null,null,null,null,null,null,null,null,null,null,null,null,null,null,null,null,null,null,null,null,null,null,null,null,null,null,null,null,null,null,null,null,null,null,null,null,null,"","",null,null,null,null,null,null,null,null,0,0]
[null,"Riesgo",0,0,0,null,null,null,null,null,null,null,null,null,null,null,null,null,null,"",null,null,null,null,null,null,null,null,null,null,null,null,null,null,null,null,null,null,null,null,null,null,null,null,null,null,null,null,null,null,null,null,null,null,null,null,null,null,null,null,null,null,null,null,null,null,null,null,null,null,null,null,null,null,null,null,null,null,"","",null,null,null,null,null,null,null,null,0,0]
[null,"Retraso",0,0,0,null,null,null,null,null,null,null,null,null,null,null,null,null,null,"",null,null,null,null,null,null,null,null,null,null,null,null,null,null,null,null,null,null,null,null,null,null,null,null,null,null,null,null,null,null,null,null,null,null,null,null,null,null,null,null,null,null,null,null,null,null,null,null,null,null,null,null,null,null,null,null,null,null,"",{"$f":"IF(AND($C41<>0,S41=\"\"),\"* No olvide ingresar la columna \"&S$17&\"\"&\" (Digite CERO si no tiene). \",IF(S41>$C41,\"* El Número de Migrantes no puede superar el Total. \",\"\"))","v":""},null,null,null,null,null,null,null,null,0,0]
["SECCIÓN A.3: NIÑOS Y NIÑAS CON REZAGO, DÉFICIT O RIESGO BIOPSICOSOCIAL  DERIVADOS A ALGUNA MODALIDAD DE ESTIMULACIÓN EN LA PRIMERA EVALUACIÓN"]
["NIÑO / A","TOTAL    ",null,null,"RANGO ETARIO Y SEXO",null,null,null,null,null,null,null,null,null,null,null,"Pueblos Originarios","Migrantes"]
[null,null,null,null,"Menos de 7 meses",null,"7 - 11 meses",null,"12 - 17 meses",null,"18 - 23 meses",null,"24 - 47 meses",null,"48 - 59 meses"]
[null,"Ambos Sexos","Hombres","Mujeres","Hombres","Mujeres","Hombres","Mujeres","Hombres","Mujeres","Hombres","Mujeres","Hombres","Mujeres","Hombres","Mujeres"]
["Normal con Rezago",{"$f":"SUM(C46+D46)","v":0},{"$f":"SUM(E46+G46+I46+K46+M46+O46)","v":0},0,null,null,null,null,null,null,null,null,null,null,null,null,null,null,{"$f":"$CA46&CB46","v":""},null,null,null,null,null,null,null,null,null,null,null,null,null,null,null,null,null,null,null,null,null,null,null,null,null,null,null,null,null,null,null,null,null,null,null,null,null,null,null,null,null,null,null,null,null,null,null,null,null,null,null,null,null,null,null,null,null,null,null,{"$f":"IF(AND($B46<>0,Q46=\"\"),\"* No olvide ingresar la columna \"&Q$43&\"\"&\" (Digite CERO si no tiene). \",IF(Q46>$B46,\"* El Número de Pueblos Originarios no puede superar el Total. \",\"\"))","v":""},{"$f":"IF(AND($B46<>0,R46=\"\"),\"* No olvide ingresar la columna \"&R$43&\"\"&\" (Digite CERO si no tiene). \",IF(R46>$B46,\"* El Número de Migrantes no puede superar el Total. \",\"\"))","v":""},null,null,null,null,null,null,null,null,{"$f":"IF(AND($B46<>0,Q46=\"\"),1,IF(Q46>$B46,1,0))","v":0},{"$f":"IF(AND($B46<>0,R46=\"\"),1,IF(R46>$B46,1,0))","v":0}]
["Riesgo",{"$f":"SUM(C47+D47)","v":0},0,0,null,null,null,null,null,null,null,null,null,null,null,null,null,null,{"$f":"$CA47&CB47","v":""},null,null,null,null,null,null,null,null,null,null,null,null,null,null,null,null,null,null,null,null,null,null,null,null,null,null,null,null,null,null,null,null,null,null,null,null,null,null,null,null,null,null,null,null,null,null,null,null,null,null,null,null,null,null,null,null,null,null,null,{"$f":"IF(AND($B47<>0,Q47=\"\"),\"* No olvide ingresar la columna \"&Q$43&\"\"&\" (Digite CERO si no tiene). \",IF(Q47>$B47,\"* El Número de Pueblos Originarios no puede superar el Total. \",\"\"))","v":""},{"$f":"IF(AND($B47<>0,R47=\"\"),\"* No olvide ingresar la columna \"&R$43&\"\"&\" (Digite CERO si no tiene). \",IF(R47>$B47,\"* El Número de Migrantes no puede superar el Total. \",\"\"))","v":""},null,null,null,null,null,null,null,null,{"$f":"IF(AND($B47<>0,Q47=\"\"),1,IF(Q47>$B47,1,0))","v":0},{"$f":"IF(AND($B47<>0,R47=\"\"),1,IF(R47>$B47,1,0))","v":0}]
["Retraso",{"$f":"SUM(C48+D48)","v":0},0,0,null,null,null,null,null,null,null,null,null,null,null,null,null,null,{"$f":"$CA48&CB48","v":""},null,null,null,null,null,null,null,null,null,null,null,null,null,null,null,null,null,null,null,null,null,null,null,null,null,null,null,null,null,null,null,null,null,null,null,null,null,null,null,null,null,null,null,null,null,null,null,null,null,null,null,null,null,null,null,null,null,null,null,"","",null,null,null,null,null,null,null,null,0,0]
["Normal con Riesgo Biopsicosocial",{"$f":"SUM(C49:D49)","v":0},0,0,null,null,null,null,null,null,null,null,null,null,null,null,null,null,{"$f":"$CA49&CB49","v":""},null,null,null,null,null,null,null,null,null,null,null,null,null,null,null,null,null,null,null,null,null,null,null,null,null,null,null,null,null,null,null,null,null,null,null,null,null,null,null,null,null,null,null,null,null,null,null,null,null,null,null,null,null,null,null,null,null,null,null,"","",null,null,null,null,null,null,null,null,0,0]
["SECCIÓN A.4: RESULTADOS DE LA APLICACIÓN DE PROTOCOLO NEUROSENSORIAL"]
["RESULTADOS","TOTAL  ",null,null,"RANGO ETARIO Y SEXO",null,null,null,"Pueblos Originarios","Migrantes"]
[null,null,null,null,"1 mes",null,"2 meses"]
[null,"Ambos Sexos","Hombres","Mujeres","Hombres","Mujeres","Hombres","Mujeres"]
["Aplicación de Protocolo Neurosensorial (1-2 meses)",{"$f":"SUM(C54+D54)","v":0},{"$f":"SUM(E54+G54)","v":0},0,{"$f":"SUM(E55:E57)","v":0},0,0,0,0,0]
["Normal",{"$f":"SUM(C55+D55)","v":0},0,0,null,null,null,null,null,null,{"$f":"$CA55&CB55","v":""},null,null,null,null,null,null,null,null,null,null,null,null,null,null,null,null,null,null,null,null,null,null,null,null,null,null,null,null,null,null,null,null,null,null,null,null,null,null,null,null,null,null,null,null,null,null,null,null,null,null,null,null,null,null,null,null,null,null,null,null,null,null,null,null,null,null,null,{"$f":"IF(AND($B55<>0,I55=\"\"),\"* No olvide ingresar la columna \"&I$51&\"\"&\" (Digite CERO si no tiene). \",IF(I55>$B55,\"* El Número de Pueblos Originarios no puede superar el Total. \",\"\"))","v":""},{"$f":"IF(AND($B55<>0,J55=\"\"),\"* No olvide ingresar la columna \"&J$51&\"\"&\" (Digite CERO si no tiene). \",IF(J55>$B55,\"* El Número de Migrantes no puede superar el Total. \",\"\"))","v":""},null,null,null,null,null,null,null,null,{"$f":"IF(AND($B55<>0,I55=\"\"),1,IF(I55>$B55,1,0))","v":0},{"$f":"IF(AND($B55<>0,J55=\"\"),1,IF(J55>$B55,1,0))","v":0}]
["Anormal",{"$f":"SUM(C56+D56)","v":0},0,0,null,null,null,null,null,null,{"$f":"$CA56&CB56","v":""},null,null,null,null,null,null,null,null,null,null,null,null,null,null,null,null,null,null,null,null,null,null,null,null,null,null,null,null,null,null,null,null,null,null,null,null,null,null,null,null,null,null,null,null,null,null,null,null,null,null,null,null,null,null,null,null,null,null,null,null,null,null,null,null,null,null,null,{"$f":"IF(AND($B56<>0,I56=\"\"),\"* No olvide ingresar la columna \"&I$51&\"\"&\" (Digite CERO si no tiene). \",IF(I56>$B56,\"* El Número de Pueblos Originarios no puede superar el Total. \",\"\"))","v":""},{"$f":"IF(AND($B56<>0,J56=\"\"),\"* No olvide ingresar la columna \"&J$51&\"\"&\" (Digite CERO si no tiene). \",IF(J56>$B56,\"* El Número de Migrantes no puede superar el Total. \",\"\"))","v":""},null,null,null,null,null,null,null,null,{"$f":"IF(AND($B56<>0,I56=\"\"),1,IF(I56>$B56,1,0))","v":0},0]
["Muy Anormal",{"$f":"SUM(C57+D57)","v":0},0,0,null,null,null,null,null,null,"",null,null,null,null,null,null,null,null,null,null,null,null,null,null,null,null,null,null,null,null,null,null,null,null,null,null,null,null,null,null,null,null,null,null,null,null,null,null,null,null,null,null,null,null,null,null,null,null,null,null,null,null,null,null,null,null,null,null,null,null,null,null,null,null,null,null,null,"","",null,null,null,null,null,null,null,null,0,0]
["SECCIÓN A.5:  LACTANCIA EN  NIÑOS Y NIÑAS CONTROLADOS"]
["TIPO DE ALIMENTACIÓN",null,"TOTAL","Según Control Programático ",null,null,null,null,null,null,"Pueblos Originarios","Migrantes"]
[null,null,null,"Diada hasta 10 días de vida","Diada entre 11 y 28 días de vida","Del 1° mes","Del 3° mes","Del 6° mes","Del 12° mes","Del 24° mes"]
["Lactancia Materna exclusiva",null,{"$f":"SUM(D61:H61)","v":0},null,null,null,null,null,null,null,null,null,{"$f":"$CA61&CB61","v":""},null,null,null,null,null,null,null,null,null,null,null,null,null,null,null,null,null,null,null,null,null,null,null,null,null,null,null,null,null,null,null,null,null,null,null,null,null,null,null,null,null,null,null,null,null,null,null,null,null,null,null,null,null,null,null,null,null,null,null,null,null,null,null,null,null,{"$f":"IF(AND($C61<>0,K61=\"\"),\"* No olvide ingresar la columna \"&K$59&\"\"&\" (Digite CERO si no tiene). \",IF(K61>$C61,\"* El Número de Pueblos Originarios no puede superar el Total. \",\"\"))","v":""},{"$f":"IF(AND($C61<>0,L61=\"\"),\"* No olvide ingresar la columna \"&L$59&\"\"&\" (Digite CERO si no tiene). \",IF(L61>$C61,\"* El Número de Migrantes no puede superar el Total. \",\"\"))","v":""},null,null,null,null,null,null,null,null,{"$f":"IF(AND($C61<>0,K61=\"\"),1,IF(K61>$C61,1,0))","v":0},{"$f":"IF(AND($C61<>0,L61=\"\"),1,IF(L61>$C61,1,0))","v":0}]
["Lactancia Materna / Formula Láctea",null,{"$f":"SUM(D62:H62)","v":0},null,null,null,null,null,null,null,null,null,{"$f":"$CA62&CB62","v":""},null,null,null,null,null,null,null,null,null,null,null,null,null,null,null,null,null,null,null,null,null,null,null,null,null,null,null,null,null,null,null,null,null,null,null,null,null,null,null,null,null,null,null,null,null,null,null,null,null,null,null,null,null,null,null,null,null,null,null,null,null,null,null,null,null,{"$f":"IF(AND($C62<>0,K62=\"\"),\"* No olvide ingresar la columna \"&K$59&\"\"&\" (Digite CERO si no tiene). \",IF(K62>$C62,\"* El Número de Pueblos Originarios no puede superar el Total. \",\"\"))","v":""},{"$f":"IF(AND($C62<>0,L62=\"\"),\"* No olvide ingresar la columna \"&L$59&\"\"&\" (Digite CERO si no tiene). \",IF(L62>$C62,\"* El Número de Migrantes no puede superar el Total. \",\"\"))","v":""},null,null,null,null,null,null,null,null,{"$f":"IF(AND($C62<>0,K62=\"\"),1,IF(K62>$C62,1,0))","v":0},0]
["Formula Láctea",null,{"$f":"SUM(D63:H63)","v":0},null,null,null,null,null,null,null,null,null,"",null,null,null,null,null,null,null,null,null,null,null,null,null,null,null,null,null,null,null,null,null,null,null,null,null,null,null,null,null,null,null,null,null,null,null,null,null,null,null,null,null,null,null,null,null,null,null,null,null,null,null,null,null,null,null,null,null,null,null,null,null,null,null,null,null,"","",null,null,null,null,null,null,null,null,0,0]
["Lactancia Materna más alimentación complementaria ",null,{"$f":"SUM(H64:J64)","v":0},null,null,null,null,null,null,null,null,null,"",null,null,null,null,null,null,null,null,null,null,null,null,null,null,null,null,null,null,null,null,null,null,null,null,null,null,null,null,null,null,null,null,null,null,null,null,null,null,null,null,null,null,null,null,null,null,null,null,null,null,null,null,null,null,null,null,null,null,null,null,null,null,null,null,null,"","",null,null,null,null,null,null,null,null,0,0]
["Lactancia Materna/ Fórmula Láctea/alimentación complementaria ",null,{"$f":"SUM(H65:J65)","v":0},null,null,null,null,null,null,null,null,null,"",null,null,null,null,null,null,null,null,null,null,null,null,null,null,null,null,null,null,null,null,null,null,null,null,null,null,null,null,null,null,null,null,null,null,null,null,null,null,null,null,null,null,null,null,null,null,null,null,null,null,null,null,null,null,null,null,null,null,null,null,null,null,null,null,null,"","",null,null,null,null,null,null,null,null,0,0]
["Fórmula Láctea Alimentación complementaria ",null,{"$f":"SUM(H66:J66)","v":0},null,null,null,null,null,null,null,null,null,{"$f":"$CA66&CB66","v":""},null,null,null,null,null,null,null,null,null,null,null,null,null,null,null,null,null,null,null,null,null,null,null,null,null,null,null,null,null,null,null,null,null,null,null,null,null,null,null,null,null,null,null,null,null,null,null,null,null,null,null,null,null,null,null,null,null,null,null,null,null,null,null,null,null,{"$f":"IF(AND($C66<>0,K66=\"\"),\"* No olvide ingresar la columna \"&K$59&\"\"&\" (Digite CERO si no tiene). \",IF(K66>$C66,\"* El Número de Pueblos Originarios no puede superar el Total. \",\"\"))","v":""},"",null,null,null,null,null,null,null,null,0,0]
["Número de niños y niñas controlados ",null,{"$f":"SUM(D67:J67)","v":0},null,null,null,null,null,null,null,null,null,"",null,null,null,null,null,null,null,null,null,null,null,null,null,null,null,null,null,null,null,null,null,null,null,null,null,null,null,null,null,null,null,null,null,null,null,null,null,null,null,null,null,null,null,null,null,null,null,null,null,null,null,null,null,null,null,null,null,null,null,null,null,null,null,null,null,"","",null,null,null,null,null,null,null,null,0,0]
["SECCIÓN A.6:  RESULTADOS RADIOGRAFÍA DE PELVIS (CADERA)"]
["RESULTADO","TOTAL  ",null,null,"RANGO ETARIO Y SEXO",null,null,null,"Pueblos Originarios","Migrantes"]
[null,null,null,null,"3 meses",null,"4 meses"]
[null,"Ambos Sexos","Hombres","Mujeres","Hombres","Mujeres","Hombres","Mujeres"]
["Normal",{"$f":"SUM(C72:D72)","v":0},{"$f":"+E72+G72","v":0},0,null,null,null,null,null,null,{"$f":"$CA72&CB72","v":""},null,null,null,null,null,null,null,null,null,null,null,null,null,null,null,null,null,null,null,null,null,null,null,null,null,null,null,null,null,null,null,null,null,null,null,null,null,null,null,null,null,null,null,null,null,null,null,null,null,null,null,null,null,null,null,null,null,null,null,null,null,null,null,null,null,null,null,{"$f":"IF(AND($B72<>0,I72=\"\"),\"* No olvide ingresar la columna \"&I$69&\"\"&\" (Digite CERO si no tiene). \",IF(I72>$B72,\"* El Número de Pueblos Originarios no puede superar el Total. \",\"\"))","v":""},{"$f":"IF(AND($B72<>0,J72=\"\"),\"* No olvide ingresar la columna \"&J$69&\"\"&\" (Digite CERO si no tiene). \",IF(J72>$B72,\"* El Número de Migrantes no puede superar el Total. \",\"\"))","v":""},null,null,null,null,null,null,null,null,{"$f":"IF(AND($B72<>0,I72=\"\"),1,IF(I72>$B72,1,0))","v":0},{"$f":"IF(AND($B72<>0,J72=\"\"),1,IF(J72>$B72,1,0))","v":0}]
["Anormal",{"$f":"SUM(C73:D73)","v":0},0,0,null,null,null,null,null,null,{"$f":"$CA73&CB73","v":""},null,null,null,null,null,null,null,null,null,null,null,null,null,null,null,null,null,null,null,null,null,null,null,null,null,null,null,null,null,null,null,null,null,null,null,null,null,null,null,null,null,null,null,null,null,null,null,null,null,null,null,null,null,null,null,null,null,null,null,null,null,null,null,null,null,null,null,{"$f":"IF(AND($B73<>0,I73=\"\"),\"* No olvide ingresar la columna \"&I$69&\"\"&\" (Digite CERO si no tiene). \",IF(I73>$B73,\"* El Número de Pueblos Originarios no puede superar el Total. \",\"\"))","v":""},{"$f":"IF(AND($B73<>0,J73=\"\"),\"* No olvide ingresar la columna \"&J$69&\"\"&\" (Digite CERO si no tiene). \",IF(J73>$B73,\"* El Número de Migrantes no puede superar el Total. \",\"\"))","v":""},null,null,null,null,null,null,null,null,{"$f":"IF(AND($B73<>0,I73=\"\"),1,IF(I73>$B73,1,0))","v":0},0]
["Inmadura",{"$f":"SUM(C74:D74)","v":0},0,0,null,null,null,null,null,null,"",null,null,null,null,null,null,null,null,null,null,null,null,null,null,null,null,null,null,null,null,null,null,null,null,null,null,null,null,null,null,null,null,null,null,null,null,null,null,null,null,null,null,null,null,null,null,null,null,null,null,null,null,null,null,null,null,null,null,null,null,null,null,null,null,null,null,null,"","",null,null,null,null,null,null,null,null,0,0]
["SECCION B: EVALUACIÓN, APLICACIÓN Y RESULTADOS DE ESCALAS EN  LA MUJER"]
["SECCIÓN B.1: EVALUACIÓN DEL ESTADO NUTRICIONAL A MUJERES CONTROLADAS AL OCTAVO MES POST PARTO"]
["ESTADO NUTRICIONAL","TOTAL"]
[]
[null,{"$f":"SUM(B80:B83)","v":0}]
["Obesa"]
["Sobrepeso"]
["Normal"]
["Bajo peso"]
["SECCIÓN B.2: APLICACIÓN DE ESCALA SEGÚN EVALUACIÓN DE RIESGO PSICOSOCIAL ABREVIADA A GESTANTES"]
["TIPO","Total de Aplicaciones ","Riesgo","Derivadas a equipo de cabecera","Violencia Intrafamiliar"]
["Evaluación al ingreso ",null,null,null,null,{"$f":"CA86&CB86&CC86","v":""},null,null,null,null,null,null,null,null,null,null,null,null,null,null,null,null,null,null,null,null,null,null,null,null,null,null,null,null,null,null,null,null,null,null,null,null,null,null,null,null,null,null,null,null,null,null,null,null,null,null,null,null,null,null,null,null,null,null,null,null,null,null,null,null,null,null,null,null,null,null,null,null,{"$f":"IF(CK86=1,\"* Las Aplicaciones de EPSA con resultado de Riesgo NO DEBE ser MAYOR que el Total de las aplicaciones. \",\"\")","v":""},{"$f":"IF(CL86=1,\"* Las Aplicaciones de EPSA con resultado de Riesgo NO DEBE ser MENOR que las Derivaciones a equipo de cabecera. \",\"\")","v":""},{"$f":"IF(CM86=1,\"* Las Aplicaciones de EPSA asociadas a Violencia Intrafamiliar NO DEBEN ser MAYOR al Total de las aplicaciones. \",\"\")","v":""},null,null,null,null,null,null,null,{"$f":"IF(B86<C86,1,0)","v":0},{"$f":"IF(C86<D86,1,0)","v":0},{"$f":"IF(E86>B86,1,0)","v":0}]
["Evaluación al tercer trimestre ",null,null,null,null,{"$f":"CA87&CB87&CC87","v":""},null,null,null,null,null,null,null,null,null,null,null,null,null,null,null,null,null,null,null,null,null,null,null,null,null,null,null,null,null,null,null,null,null,null,null,null,null,null,null,null,null,null,null,null,null,null,null,null,null,null,null,null,null,null,null,null,null,null,null,null,null,null,null,null,null,null,null,null,null,null,null,null,{"$f":"IF(CK87=1,\"* Las Aplicaciones de EPSA con resultado de Riesgo NO DEBE ser MAYOR que el Total de las aplicaciones. \",\"\")","v":""},{"$f":"IF(CL87=1,\"* Las Aplicaciones de EPSA con resultado de Riesgo NO DEBE ser MENOR que las Derivaciones a equipo de cabecera. \",\"\")","v":""},{"$f":"IF(CM87=1,\"* Las Aplicaciones de EPSA asociadas a Violencia Intrafamiliar NO DEBEN ser MAYOR al Total de las aplicaciones. \",\"\")","v":""},null,null,null,null,null,null,null,{"$f":"IF(B87<C87,1,0)","v":0},{"$f":"IF(C87<D87,1,0)","v":0},{"$f":"IF(E87>B87,1,0)","v":0}]
["SECCIÓN B.3: APLICACIÓN DE ESCALA DE EDIMBURGO A GESTANTES Y MUJERES POST PARTO"]
["CONCEPTO",null,"Total de Aplicaciones","Resultados  \n10 o más ptos. O resultado distinto de 0 en preg 10. (puérperas)","Resultados  \n13 o más ptos. O resultado distinto de 0 en preg 10. (gestantes)","Total de casos alterados derivados a salud mental "]
["Evaluación a Gestantes","Primera evaluación (2º control prenatal)"]
[null,"Reevaluación (con puntaje elevado en la primera evaluación)"]
["Evaluación a mujeres post parto o síntomas de depresión","A los 2 meses"]
[null,"A los 6 meses"]
["SECCIÓN C: RESULTADOS DE LA EVALUACIÓN DEL ESTADO NUTRICIONAL DEL ADOLESCENTE CON CONTROL SALUD INTEGRAL"]
["ESTADO NUTRICIONAL",null,"TOTAL",null,null,"10 - 14 años",null,"15 - 19 años"]
[null,null,"Ambos Sexos","Hombres","Mujeres","Hombres","Mujeres","Hombres","Mujeres"]
["TOTAL",null,{"$f":"SUM(C98:C102)","v":0},0,0,0,0,0,0]
["Normal",null,{"$f":"SUM(D98+E98)","v":0},{"$f":"SUM(F98+H98)","v":0},0]
["Bajo peso",null,{"$f":"SUM(D99+E99)","v":0},0,0]
["Sobrepeso",null,{"$f":"SUM(D100+E100)","v":0},0,0]
["Obesos",null,{"$f":"SUM(D101+E101)","v":0},0,0]
["Obesos severos",null,{"$f":"SUM(D102+E102)","v":0},0,0]
["SECCIÓN D: OTRAS EVALUACIONES, APLICACIONES Y RESULTADOS DE ESCALAS EN TODAS LAS EDADES"]
["SECCIÓN D.1: APLICACIÓN DE TAMIZAJE PARA EVALUAR EL NIVEL DE RIESGO DE CONSUMO DE  ALCOHOL, TABACO Y OTRAS DROGAS"]
["COMPONENTE",null,"TOTAL              ",null,null,"RANGO ETARIO Y SEXO"]
[null,null,null,null,null,"10-14 años",null,"15-19 años",null,"20-24 años",null,"25-44 años",null,"45-64 años",null,"65-69 años",null,"70-79 años",null,"80 y más años"]
[null,null,"Ambos Sexos","Hombres","Mujeres","Hombres","Mujeres","Hombres","Mujeres","Hombres","Mujeres","Hombres","Mujeres","Hombres","Mujeres","Hombres","Mujeres","Hombres","Mujeres","Hombres","Mujeres"]
["Nº de Audit (EMP/EMPAM)",null,{"$f":"SUM(D108+E108)","v":0},{"$f":"+H108+J108+L108+N108+P108+R108+T108","v":0},{"$f":"+I108+K108+M108+O108+Q108+S108+U108","v":0}]
["Nº de Audit aplicado ",null,0,{"$f":"SUM(J109+L109+N109+P109+R109+T109)","v":0},0]
["Nº de Assist (EMP/EMPAM)",null,0,0,0]
["N° de Assist aplicado ",null,0,0,0]
["N° de Craff en control de Salud Integral del Adolescente ",null,0,{"$f":"+F112+H112","v":0},{"$f":"+G112+I112","v":0}]
["N° de Craff aplicado ",null,0,{"$f":"+F113+H113","v":0},{"$f":"+G113+I113","v":0}]
["Resultados de evaluación ","Bajo riesgo",0,{"$f":"SUM(F114+H114+J114+L114+N114+P114+R114+T114)","v":0},0]
[null,"Consumo riesgoso/intermedio ",0,0,0]
[null,"Posible consumo perjudicial o dependencia ",0,0,0]
["SECCIÓN D.2: RESULTADOS DE LA APLICACIÓN DE INSTRUMENTO DE VALORACIÓN DE DESEMPEÑO EN COMUNIDAD (IVADEC-CIF)"]
["ACTIVIDAD","RESULTADO","TOTAL    ",null,null,"RANGO ETARIO Y SEXO"]
[null,null,null,null,null,"6 -11 meses",null,"12 - 23 meses",null,"2 - 4 años",null,"5 - 9 años",null,"10 - 14 años",null,"15 - 19 años",null,"20 - 24 años",null,"25 - 64 años",null,"65 - 69 años",null,"70 - 79 años",null,"80 y más años"]
[null,null,"Ambos Sexos","Hombres","Mujeres","Hombres","Mujeres","Hombres","Mujeres","Hombres","Mujeres","Hombres","Mujeres","Hombres","Mujeres","Hombres","Mujeres","Hombres","Mujeres","Hombres","Mujeres","Hombres","Mujeres","Hombres","Mujeres","Hombres","Mujeres"]
["Origen físico","Sin Discapacidad",{"$f":"SUM(D121+E121)","v":0},{"$f":"SUM(F121+H121+J121+L121+N121+P121+R121+T121+V121+X121+Z121)","v":0},0]
[null,"Discapacidad Leve",0,0,0]
[null,"Discapacidad Moderada",0,0,0]
[null,"Discapacidad Severa",0,0,0]
[null,"Discapacidad Profunda",0,0,0]
["Origen sensorial visual","Sin Discapacidad",0,0,0]
[null,"Discapacidad Leve",0,0,0]
[null,"Discapacidad Moderada",0,0,0]
[null,"Discapacidad Severa",0,0,0]
[null,"Discapacidad Profunda",0,0,0]
["Origen sensorial auditivo","Sin Discapacidad",0,0,0]
[null,"Discapacidad Leve",0,0,0]
[null,"Discapacidad Moderada",0,0,0]
[null,"Discapacidad Severa",0,0,0]
[null,"Discapacidad Profunda",0,0,0]
["Origen mental psíquico ","Sin Discapacidad",0,0,0]
[null,"Discapacidad Leve",0,0,0]
[null,"Discapacidad Moderada",0,0,0]
[null,"Discapacidad Severa",0,0,0]
[null,"Discapacidad Profunda",0,0,0]
["Origen mental intelectual ","Sin Discapacidad",0,0,0]
[null,"Discapacidad Leve",0,0,0]
[null,"Discapacidad Moderada",0,0,0]
[null,"Discapacidad Severa",0,0,0]
[null,"Discapacidad Profunda",0,0,0]
["Origen múltiple ","Sin Discapacidad",0,0,0]
[null,"Discapacidad Leve",0,0,0]
[null,"Discapacidad Moderada",0,0,0]
[null,"Discapacidad Severa",0,0,0]
[null,"Discapacidad Profunda",0,0,0]
["TOTAL DE EVALUACIONES",null,{"$f":"SUM(C121:C150)","v":0},0,0,0,0,0,0,0,0,0,0,0,0,0,0,0,0,0,0,0,0,0,0,0,0]
["Evaluación ingreso","Sin Discapacidad",{"$f":"SUM(D152+E152)","v":0},{"$f":"SUM(F152+H152+J152+L152+N152+P152+R152+T152+V152+X152+Z152)","v":0},0]
[null,"Discapacidad Leve",0,0,0]
[null,"Discapacidad Moderada",0,0,0]
[null,"Discapacidad Severa",0,0,0]
[null,"Discapacidad Profunda",0,0,0]
["Evaluación egreso","Sin Discapacidad",0,0,0]
[null,"Discapacidad Leve",0,0,0]
[null,"Discapacidad Moderada",0,0,0]
[null,"Discapacidad Severa",0,0,0]
[null,"Discapacidad Profunda",0,0,0]
["TOTAL DE EVALUACIONES",null,{"$f":"SUM(C152:C161)","v":0},0,0,0,0,0,0,0,0,0,0,0,0,0,0,0,0,0,0,0,0,0,0,0,0]
["SECCION D.3: APLICACIÓN Y RESULTADO DE PAUTA DE EVALUACIÓN Y SALUD MENTAL"]
["RESULTADOS",null,"TOTAL",null,null,"RANGO ETARIO Y SEXO"]
[null,null,null,null,null,"0 - 4 años",null,"5 - 9 años",null,"10 - 14 años",null,"15 - 19 años",null,"20 - 24 años",null,"25 - 29 años",null,"30 - 34 años",null,"35 - 39 años",null,"40 - 44 años",null,"45 - 49 años",null,"50 - 54 años",null,"55 - 59 años",null,"60 - 64 años",null,"65 - 69 años",null,"70 - 74 años",null,"75 - 79 años",null,"80 y más años"]
[null,null,"Ambos Sexos","Hombres","Mujeres","Hombres","Mujeres","Hombres","Mujeres","Hombres","Mujeres","Hombres","Mujeres","Hombres","Mujeres","Hombres","Mujeres","Hombres","Mujeres","Hombres","Mujeres","Hombres","Mujeres","Hombres","Mujeres","Hombres","Mujeres","Hombres","Mujeres","Hombres","Mujeres","Hombres","Mujeres","Hombres","Mujeres","Hombres","Mujeres","Hombres","Mujeres"]
["Evaluación al ingreso","Bajo",{"$f":"SUM(D167+E167)","v":0},{"$f":"SUM(F167+H167+J167+L167+N167+P167+R167+T167+V167+X167+Z167+AB167+AD167+AF167+AH167+AJ167+AL167)","v":0},0]
[null,"Medio",0,0,0]
[null,"Alto",0,0,0]
["Evaluación al egreso","Bajo",0,0,0]
[null,"Medio",0,0,0]
[null,"Alto",0,0,0]
["SECCIÓN D.4: RESULTADO DE APLICACIÓN DE CONDICIÓN DE FUNCIONALIDAD AL EGRESO PROGRAMA \"MÁS ADULTOS MAYORES AUTOVALENTES\""]
["ACTIVIDAD","RESULTADO","TOTAL",null,null,"RANGO ETARIO Y SEXO"]
[null,null,null,null,null,"60 - 64 años",null,"65 - 69 años",null,"70 - 74 años",null,"75 - 79 años",null,"80 y más años"]
[null,null,"Ambos Sexos","Hombres","Mujeres","Hombres","Mujeres","Hombres","Mujeres","Hombres","Mujeres","Hombres","Mujeres","Hombres","Mujeres"]
["Timed up and Go","Mejora",{"$f":"SUM(D177+E177)","v":0},{"$f":"SUM(F177+H177+J177+L177+N177)","v":0},0]
[null,"Mantiene ",0,0,0]
[null,"Disminuye",0,0,0]
["Cuestionario","Mejora",0,0,0]
[null,"Mantiene ",0,0,0]
[null,"Disminuye",0,0,0]
["SECCIÓN D.5: VARIACIÓN  DE RESULTADO DE APLICACIÓN DEL ÍNDICE DE BARTHEL ENTRE EL INGRESO Y EGRESO HOSPITALARIO"]
["ÍNDICE DE BARTHEL",null,"TOTAL",null,null,"RANGO ETARIO Y SEXO"]
[null,null,null,null,null,"65 - 69 años",null,"70 - 74 años",null,"75 - 79 años",null,"80 - 84 años",null,"85 - 89 años",null,"90 y mas años"]
[null,null,"Ambos Sexos","Hombres","Mujeres","Hombres","Mujeres","Hombres","Mujeres","Hombres","Mujeres","Hombres","Mujeres","Hombres","Mujeres","Hombres","Mujeres"]
["Mejora puntuación índice de Barthel ",null,{"$f":"SUM(D187+E187)","v":0},{"$f":"SUM(F187+H187+J187+L187+N187+P187)","v":0},0]
["Mantiene puntuación índice de Barthel ",null,{"$f":"SUM(D188+E188)","v":0},0,0]
["Disminuye puntuación índice de Barthel ",null,{"$f":"SUM(D189+E189)","v":0},0,0]
["TOTAL",null,{"$f":"SUM(C187:C189)","v":0},0,0,0,0,0,0,0,0,0,0,0,0,0,0]
["*** El resultado que se consigna es la comparación del índice de Barthel aplicado al Egreso de la Hospitalización"]
["SECCIÓN D.6: APLICACIÓN DE ESCALA ZARIT ABREVIADO EN CUIDADORES"]
["ESCALA DE SOBRECARGA DEL CUIDADOR \"ZARIT ABREVIADO\"",null,"TOTAL              ",null,null,"RANGO ETARIO Y SEXO"]
[null,null,null,null,null,"0 - 4 años",null,"5 - 9 años",null,"10 - 14 años",null,"15 - 19 años",null,"20 - 24 años",null,"25 - 44 años",null,"45 - 64 años",null,"65 o más años"]
[null,null,"Ambos Sexos","Hombres","Mujeres","Hombres","Mujeres","Hombres","Mujeres","Hombres","Mujeres","Hombres","Mujeres","Hombres","Mujeres","Hombres","Mujeres","Hombres","Mujeres","Hombres","Mujeres"]
["Cuidador/a paciente con dependencia severa con sobrecarga intensa ",null,{"$f":"SUM(D196+E196)","v":0},{"$f":"SUM(F196+H196+J196+L196+N196+P196+R196+T196)","v":0},0]
["Cuidador/a paciente con dependencia severa sin sobrecarga intensa ",null,{"$f":"SUM(D197+E197)","v":0},0,0]
["Total cuidadores evaluados",null,{"$f":"SUM(D198+E198)","v":0},0,0,{"$f":"SUM(F196:F197)","v":0},0,0,0,0,0,0,0,0,0,0,0,0,0,0,0]
["SECCIÓN D.7: APLICACIÓN Y RESULTADOS DE PAUTA DE EVALUACIÓN CON ENFOQUE DE RIESGO ODONTOLÓGICO (CERO)"]
["PAUTA CERO ",null,"TOTAL",null,null,"RANGO ETARIO Y SEXO",null,null,null,null,null,null,null,null,null,null,null,null,null,null,null,null,null,null,null,null,null,null,null,"Niños, Niñas, Adolescentes y Jóvenes SENAME",null,"Niños, Niñas, Adolescentes y Jóvenes Mejor Niñez",null,"Pueblos Originarios","Migrantes"]
[null,null,null,null,null,"<1 año",null,"1 año",null,"2 años",null,"3 años ",null,"4 años",null,"5 años",null,"6 años",null,"7 años",null,"8 años",null,"9 años",null,"10-14 años",null,"15-19 años"]
[null,null,"Ambos sexos","Hombres","Mujeres","Hombres","Mujeres","Hombres","Mujeres","Hombres","Mujeres","Hombres","Mujeres","Hombres","Mujeres","Hombres","Mujeres","Hombres","Mujeres","Hombres","Mujeres","Hombres","Mujeres","Hombres","Mujeres","Hombres","Mujeres","Hombres","Mujeres","Hombres","Mujeres","Hombres","Mujeres",null,"Mujeres"]
["Evaluación de riesgo ","Bajo riesgo",{"$f":"SUM(D203+E203)","v":0},{"$f":"SUM(F203+H203+J203+L203+N203+P203+R203+T203+V203+X203+Z203+AB203)","v":0},{"$f":"SUM(G203+I203+K203+M203+O203+Q203+S203+U203+W203+Y203+AA203+AC203)","v":0},null,null,null,null,null,null,null,null,null,null,null,null,null,null,null,null,null,null,null,null,null,null,null,null,null,null,null,null,null,null,{"$f":"$CA203&CB203&CC203&CE203&CF203&CD203","v":""},null,null,null,null,null,null,null,null,null,null,null,null,null,null,null,null,null,null,null,null,null,null,null,null,null,null,null,null,null,null,null,null,null,null,null,null,null,null,null,null,null,null,{"$f":"IF(AND($D203<>0,AD203=\"\"),\"* No olvide ingresar la columna \"&AD$200&\"\"&\"  Hombres (Digite CERO si no tiene).  \",IF(AD203>$D203,\"* El Número de Niños, Niñas, Adolescentes y Jóvenes SENAME Hombres no puede superar el Total Hombres. \",\"\"))","v":""},{"$f":"IF(AND($E203<>0,AE203=\"\"),\"* No olvide ingresar la columna Niños, Niñas, Adolescentes y Jóvenes SENAME  Mujeres (Digite CERO si no tiene).  \",IF(AE203>$E203,\"* El Número de Niños, Niñas, Adolescentes y Jóvenes SENAME Mujeres no puede superar el Total Mujeres \",\"\"))","v":""},{"$f":"IF(AND($D203<>0,AF203=\"\"),\"* No olvide ingresar la columna \"&AF$200&\"\"&\" Hombres (Digite CERO si no tiene).  \",IF(AF203>$D203,\"* El Número de Niños, Niñas, Adolescentes y Jóvenes Mejor Niñez Hombres no puede superar el Total Hombres. \",\"\"))","v":""},{"$f":"IF(AND($E203<>0,AG203=\"\"),\"* No olvide ingresar la columna Niños, Niñas, Adolescentes y Jóvenes Mejor niñez Mujeres (Digite CERO si no tiene).  \",IF(AG203>$E203,\"* El Número de Niños, Niñas, Adolescentes y Jóvenes Mejor Niñez Mujeres no puede superar el Total Mujeres. \",\"\"))","v":""},{"$f":"IF(AND($C203<>0,AH203=\"\"),\"* No olvide ingresar la columna \"&AH$200&\"\"&\" (Digite CERO si no tiene).  \",IF(AH203>$C203,\"* El Número de Pueblos Originarios no puede superar el Total. \",\"\"))","v":""},{"$f":"IF(AND($C203<>0,AI203=\"\"),\"* No olvide ingresar la columna \"&AI$200&\"\"&\" (Digite CERO si no tiene).  \",IF(AI203>$C203,\"* El Número de Migrantes no puede superar el Total. \",\"\"))","v":""},null,null,null,null,{"$f":"IF(AND($D203<>0,AD203=\"\"),1,IF(AD203>$D203,1,0))","v":0},{"$f":"IF(AND($E203<>0,AE203=\"\"),1,IF(AE203>$E203,1,0))","v":0},{"$f":"IF(AND($D203<>0,AF203=\"\"),1,IF(AF203>$D203,1,0))","v":0},{"$f":"IF(AND($E203<>0,AG203=\"\"),1,IF(AG203>$E203,1,0))","v":0},{"$f":"IF(AND($C203<>0,AH203=\"\"),1,IF(AH203>$C203,1,0))","v":0},{"$f":"IF(AND($C203<>0,AI203=\"\"),1,IF(AI203>$C203,1,0))","v":0}]
[null,"Alto riesgo",{"$f":"SUM(D204+E204)","v":0},{"$f":"SUM(F204+H204+J204+L204+N204+P204+R204+T204+V204+X204+Z204+AB204)","v":0},{"$f":"SUM(G204+I204+K204+M204+O204+Q204+S204+U204+W204+Y204+AA204+AC204)","v":0},null,null,null,null,null,null,null,null,null,null,null,null,null,null,null,null,null,null,null,null,null,null,null,null,null,null,null,null,null,null,{"$f":"$CA204&CB204&CC204&CE204&CF204&CD204","v":""},null,null,null,null,null,null,null,null,null,null,null,null,null,null,null,null,null,null,null,null,null,null,null,null,null,null,null,null,null,null,null,null,null,null,null,null,null,null,null,null,null,null,{"$f":"IF(AND($D204<>0,AD204=\"\"),\"* No olvide ingresar la columna \"&AD$200&\"\"&\"  Hombres (Digite CERO si no tiene).  \",IF(AD204>$D204,\"* El Número de Niños, Niñas, Adolescentes y Jóvenes SENAME Hombres no puede superar el Total Hombres. \",\"\"))","v":""},{"$f":"IF(AND($E204<>0,AE204=\"\"),\"* No olvide ingresar la columna Niños, Niñas, Adolescentes y Jóvenes SENAME  Mujeres (Digite CERO si no tiene).  \",IF(AE204>$E204,\"* El Número de Niños, Niñas, Adolescentes y Jóvenes SENAME Mujeres no puede superar el Total Mujeres \",\"\"))","v":""},{"$f":"IF(AND($D204<>0,AF204=\"\"),\"* No olvide ingresar la columna \"&AF$200&\"\"&\" Hombres (Digite CERO si no tiene).  \",IF(AF204>$D204,\"* El Número de Niños, Niñas, Adolescentes y Jóvenes Mejor Niñez Hombres no puede superar el Total Hombres. \",\"\"))","v":""},{"$f":"IF(AND($E204<>0,AG204=\"\"),\"* No olvide ingresar la columna Niños, Niñas, Adolescentes y Jóvenes Mejor niñez Mujeres (Digite CERO si no tiene).  \",IF(AG204>$E204,\"* El Número de Niños, Niñas, Adolescentes y Jóvenes Mejor Niñez Mujeres no puede superar el Total Mujeres. \",\"\"))","v":""},{"$f":"IF(AND($C204<>0,AH204=\"\"),\"* No olvide ingresar la columna \"&AH$200&\"\"&\" (Digite CERO si no tiene).  \",IF(AH204>$C204,\"* El Número de Pueblos Originarios no puede superar el Total. \",\"\"))","v":""},{"$f":"IF(AND($C204<>0,AI204=\"\"),\"* No olvide ingresar la columna \"&AI$200&\"\"&\" (Digite CERO si no tiene).  \",IF(AI204>$C204,\"* El Número de Migrantes no puede superar el Total. \",\"\"))","v":""},null,null,null,null,{"$f":"IF(AND($D204<>0,AD204=\"\"),1,IF(AD204>$D204,1,0))","v":0},{"$f":"IF(AND($E204<>0,AE204=\"\"),1,IF(AE204>$E204,1,0))","v":0},{"$f":"IF(AND($D204<>0,AF204=\"\"),1,IF(AF204>$D204,1,0))","v":0},{"$f":"IF(AND($E204<>0,AG204=\"\"),1,IF(AG204>$E204,1,0))","v":0},{"$f":"IF(AND($C204<>0,AH204=\"\"),1,IF(AH204>$C204,1,0))","v":0},{"$f":"IF(AND($C204<>0,AI204=\"\"),1,IF(AI204>$C204,1,0))","v":0}]
["TOTAL",null,{"$f":"SUM(D205+E205)","v":0},{"$f":"SUM(D203+D204)","v":0},0,0,0,0,0,0,0,0,0,0,0,0,0,0,0,0,0,0,0,0,0,0,0,0,0,0,0,0,0,0,0]
["SECCION E: APLICACIÓN DE PAUTA DETECCIÓN DE FACTORES DE RIESGO BIOPSICOSOCIAL INFANTIL"]
["EVALUACIÓN",null,"TOTAL",null,null,"RANGO ETARIO Y SEXO",null,null,null,null,null,null,null,null,null,"Derivación",null,null,"Pueblos Originarios","Migrantes"]
[null,null,null,null,null,"Menor 7 meses",null,"7 - 11 meses",null,"12 - 23 meses",null,"24- 48 meses",null,"5 - 9 años ",null,"Derivadas a equipos de cabecera","Derivada a MADI  0 a  4 años","Derivado a Salud Mental 5 a 9 años"]
[null,null,"Ambos sexos","Hombres","Mujeres","Hombres","Mujeres","Hombres","Mujeres","Hombres","Mujeres","Hombres","Mujeres","Hombres","Mujeres",null,null,null,null,"Mujeres"]
["Total de Aplicaciones Escala de Riesgo Biopsicosocial en Control de Salud Infantil",null,{"$f":"SUM(D210+E210)","v":0},{"$f":"SUM(F210+H210+J210+L210+N210)","v":0},0,null,null,null,null,null,null,null,null,null,null,null,null,null,null,null,{"$f":"$CA210&CB210","v":""},null,null,null,null,null,null,null,null,null,null,null,null,null,null,null,null,null,null,null,null,null,null,null,null,null,null,null,null,null,null,null,null,null,null,null,null,null,null,null,null,null,null,null,null,null,null,null,null,null,null,null,null,null,null,null,null,null,{"$f":"IF(AND($C210<>0,S210=\"\"),\"* No olvide ingresar la columna \"&S$207&\"\"&\" (Digite CERO si no tiene). \",IF(S210>$C210,\"* El Número de Pueblos Originarios no puede superar el Total. \",\"\"))","v":""},{"$f":"IF(AND($C210<>0,T210=\"\"),\"* No olvide ingresar la columna \"&T$207&\"\"&\" (Digite CERO si no tiene). \",IF(T210>$C210,\"* El Número de Migrantes no puede superar el Total. \",\"\"))","v":""},null,null,null,null,null,null,null,null,{"$f":"IF(AND($C210<>0,S210=\"\"),1,IF(S210>$C210,1,0))","v":0},{"$f":"IF(AND($C210<>0,T210=\"\"),1,IF(T210>$C210,1,0))","v":0}]
["Con riesgo",null,{"$f":"SUM(D211+E211)","v":0},0,0,null,null,null,null,null,null,null,null,null,null,null,null,null,null,null,{"$f":"$CA211&CB211","v":""},null,null,null,null,null,null,null,null,null,null,null,null,null,null,null,null,null,null,null,null,null,null,null,null,null,null,null,null,null,null,null,null,null,null,null,null,null,null,null,null,null,null,null,null,null,null,null,null,null,null,null,null,null,null,null,null,null,{"$f":"IF(AND($C211<>0,S211=\"\"),\"* No olvide ingresar la columna \"&S$207&\"\"&\" (Digite CERO si no tiene). \",IF(S211>$C211,\"* El Número de Pueblos Originarios no puede superar el Total. \",\"\"))","v":""},{"$f":"IF(AND($C211<>0,T211=\"\"),\"* No olvide ingresar la columna \"&T$207&\"\"&\" (Digite CERO si no tiene). \",IF(T211>$C211,\"* El Número de Migrantes no puede superar el Total. \",\"\"))","v":""},null,null,null,null,null,null,null,null,{"$f":"IF(AND($C211<>0,S211=\"\"),1,IF(S211>$C211,1,0))","v":0},0]
["Sin riesgo",null,{"$f":"SUM(D212+E212)","v":0},0,0,null,null,null,null,null,null,null,null,null,null,null,null,null,null,null,"",null,null,null,null,null,null,null,null,null,null,null,null,null,null,null,null,null,null,null,null,null,null,null,null,null,null,null,null,null,null,null,null,null,null,null,null,null,null,null,null,null,null,null,null,null,null,null,null,null,null,null,null,null,null,null,null,null,"","",null,null,null,null,null,null,null,null,0,{"$f":"IF(AND($C212<>0,T212=\"\"),1,IF(T212>$C212,1,0))","v":0}]
["SECCIÓN F: TAMIZAJE TRASTORNO ESPECTRO AUTISTA  (MCHAT-RF) "]
["EVALUACIÓN",null,"16 - 30 meses",null,"Pueblos Originarios","Migrantes"]
[null,null,"Hombres","Mujeres"]
["TOTAL",null,{"$f":"SUM(C217:C219)","v":0},{"$f":"SUM(D217:D219)","v":0},{"$f":"SUM(E217:E219)","v":0},{"$f":"SUM(F217:F219)","v":0}]
["Niños/as con Control a los 18 meses",null,null,null,null,null,{"$f":"CA217&CB217&CC217&CD217","v":""},null,null,null,null,null,null,null,null,null,null,null,null,null,null,null,null,null,null,null,null,null,null,null,null,null,null,null,null,null,null,null,null,null,null,null,null,null,null,null,null,null,null,null,null,null,null,null,null,null,null,null,null,null,null,null,null,null,null,null,null,null,null,null,null,null,null,null,null,null,null,null,{"$f":"IF(AND((C217+D217)>0,OR(E217=\"\")),\" * No olvide digitar las columnas Pueblos Originarios. Digite CERO si no tiene.\",\"\")","v":""},{"$f":"IF(AND((C217+D217)>0,OR(F217=\"\")),\" * No olvide digitar las columnas Migrantes. Digite CERO si no tiene.\",\"\")","v":""},{"$f":"IF(E217>(C217+D217),\" * El N° de Pueblos Originarios no puede ser mayor que la suma de Hombres+Mujeres.\",\"\")","v":""},{"$f":"IF(F217>(C217+D217),\" * El N° de Migrantes no puede ser mayor que la suma de hombres+Mujeres.\",\"\")","v":""},null,null,null,null,null,null,{"$f":"IF(AND((C217+D217)>0,OR(E217=\"\")),1,0)","v":0},{"$f":"IF(AND((C217+D217)>0,OR(F217=\"\")),1,0)","v":0},{"$f":"IF(E217>(C217+D217),1,0)","v":0},{"$f":"IF(F217>(C217+D217),1,0)","v":0}]
["Niños/as con alteración de área Lenguaje y/o Social en Control de los 18 meses",null,null,null,null,null,{"$f":"CA218&CB218&CC218&CD218","v":""},null,null,null,null,null,null,null,null,null,null,null,null,null,null,null,null,null,null,null,null,null,null,null,null,null,null,null,null,null,null,null,null,null,null,null,null,null,null,null,null,null,null,null,null,null,null,null,null,null,null,null,null,null,null,null,null,null,null,null,null,null,null,null,null,null,null,null,null,null,null,null,{"$f":"IF(AND((C218+D218)>0,OR(E218=\"\")),\" * No olvide digitar las columnas Pueblos Originarios. Digite CERO si no tiene.\",\"\")","v":""},{"$f":"IF(AND((C218+D218)>0,OR(F218=\"\")),\" * No olvide digitar las columnas Migrantes. Digite CERO si no tiene.\",\"\")","v":""},{"$f":"IF(E218>(C218+D218),\" * El N° de Pueblos Originarios no puede ser mayor que la suma de Hombres+Mujeres.\",\"\")","v":""},{"$f":"IF(F218>(C218+D218),\" * El N° de Migrantes no puede ser mayor que la suma de hombres+Mujeres.\",\"\")","v":""},null,null,null,null,null,null,{"$f":"IF(AND((C218+D218)>0,OR(E218=\"\")),1,0)","v":0},{"$f":"IF(AND((C218+D218)>0,OR(F218=\"\")),1,0)","v":0},{"$f":"IF(E218>(C218+D218),1,0)","v":0},{"$f":"IF(F218>(C218+D218),1,0)","v":0}]
["Niños/as con sospecha del Espectro Autista en otros controles o consultas.",null,null,null,null,null,"",null,null,null,null,null,null,null,null,null,null,null,null,null,null,null,null,null,null,null,null,null,null,null,null,null,null,null,null,null,null,null,null,null,null,null,null,null,null,null,null,null,null,null,null,null,null,null,null,null,null,null,null,null,null,null,null,null,null,null,null,null,null,null,null,null,null,null,null,null,null,null,"","","","",null,null,null,null,null,null,0,0,0,0]
["Resultado M-CHAT R/F 1° parte","Riego Bajo",null,null,null,null,"",null,null,null,null,null,null,null,null,null,null,null,null,null,null,null,null,null,null,null,null,null,null,null,null,null,null,null,null,null,null,null,null,null,null,null,null,null,null,null,null,null,null,null,null,null,null,null,null,null,null,null,null,null,null,null,null,null,null,null,null,null,null,null,null,null,null,null,null,null,null,null,"","","","",null,null,null,null,null,null,0,0,0,0]
[null,"Riesgo medio",null,null,null,null,"",null,null,null,null,null,null,null,null,null,null,null,null,null,null,null,null,null,null,null,null,null,null,null,null,null,null,null,null,null,null,null,null,null,null,null,null,null,null,null,null,null,null,null,null,null,null,null,null,null,null,null,null,null,null,null,null,null,null,null,null,null,null,null,null,null,null,null,null,null,null,null,"","","","",null,null,null,null,null,null,0,0,0,0]
[null,"Riego Alto",null,null,null,null,"",null,null,null,null,null,null,null,null,null,null,null,null,null,null,null,null,null,null,null,null,null,null,null,null,null,null,null,null,null,null,null,null,null,null,null,null,null,null,null,null,null,null,null,null,null,null,null,null,null,null,null,null,null,null,null,null,null,null,null,null,null,null,null,null,null,null,null,null,null,null,null,"","","","",null,null,null,null,null,null,0,0,0,0]
[null,"Riesgo Alto con derivación a especialista",null,null,null,null,"",null,null,null,null,null,null,null,null,null,null,null,null,null,null,null,null,null,null,null,null,null,null,null,null,null,null,null,null,null,null,null,null,null,null,null,null,null,null,null,null,null,null,null,null,null,null,null,null,null,null,null,null,null,null,null,null,null,null,null,null,null,null,null,null,null,null,null,null,null,null,null,"","","","",null,null,null,null,null,null,0,0,0,0]
["Resultado M-CHAT R/F 2° Parte","No requiere derivación",null,null,null,null,"",null,null,null,null,null,null,null,null,null,null,null,null,null,null,null,null,null,null,null,null,null,null,null,null,null,null,null,null,null,null,null,null,null,null,null,null,null,null,null,null,null,null,null,null,null,null,null,null,null,null,null,null,null,null,null,null,null,null,null,null,null,null,null,null,null,null,null,null,null,null,null,"","","","",null,null,null,null,null,null,0,0,0,0]
[null,"Requiere derivación",null,null,null,null,"",null,null,null,null,null,null,null,null,null,null,null,null,null,null,null,null,null,null,null,null,null,null,null,null,null,null,null,null,null,null,null,null,null,null,null,null,null,null,null,null,null,null,null,null,null,null,null,null,null,null,null,null,null,null,null,null,null,null,null,null,null,null,null,null,null,null,null,null,null,null,null,"","","","",null,null,null,null,null,null,0,0,0,0]
["SECCIÓN F1: TAMIZAJE TRASTORNO ESPECTRO AUTISTA  (31 A 59 MESES)"]
["EVALUACIÓN",null,"31-59 meses",null,"Pueblos Originarios","Migrantes"]
[null,null,"Hombres","Mujeres"]
["TOTAL",null,{"$f":"SUM(C230:C231)","v":0},{"$f":"SUM(D230:D231)","v":0},{"$f":"SUM(E230:E231)","v":0},{"$f":"SUM(F230:F231)","v":0}]
["Niños/as evaluados en Control de Salud Integral ",null,null,null,null,null,{"$f":"CA230&CB230&CC230&CD230","v":""},null,null,null,null,null,null,null,null,null,null,null,null,null,null,null,null,null,null,null,null,null,null,null,null,null,null,null,null,null,null,null,null,null,null,null,null,null,null,null,null,null,null,null,null,null,null,null,null,null,null,null,null,null,null,null,null,null,null,null,null,null,null,null,null,null,null,null,null,null,null,null,{"$f":"IF(AND((C230+D230)>0,OR(E230=\"\")),\" * No olvide digitar las columnas Pueblos Originarios. Digite CERO si no tiene.\",\"\")","v":""},{"$f":"IF(AND((C230+D230)>0,OR(F230=\"\")),\" * No olvide digitar las columnas Migrantes. Digite CERO si no tiene.\",\"\")","v":""},{"$f":"IF(E230>(C230+D230),\" * El N° de Pueblos Originarios no puede ser mayor que la suma de Hombres+Mujeres.\",\"\")","v":""},{"$f":"IF(F230>(C230+D230),\" * El N° de Migrantes no puede ser mayor que la suma de hombres+Mujeres.\",\"\")","v":""},null,null,null,null,null,null,{"$f":"IF(AND((C230+D230)>0,OR(E230=\"\")),1,0)","v":0},{"$f":"IF(AND((C230+D230)>0,OR(F230=\"\")),1,0)","v":0},{"$f":"IF(E230>(C230+D230),1,0)","v":0},{"$f":"IF(F230>(C230+D230),1,0)","v":0}]
["Niños/as con sospecha del Espectro Autista en otros controles o consultas",null,null,null,null,null,"",null,null,null,null,null,null,null,null,null,null,null,null,null,null,null,null,null,null,null,null,null,null,null,null,null,null,null,null,null,null,null,null,null,null,null,null,null,null,null,null,null,null,null,null,null,null,null,null,null,null,null,null,null,null,null,null,null,null,null,null,null,null,null,null,null,null,null,null,null,null,null,{"$f":"IF(AND((C231+D231)>0,OR(E231=\"\")),\" * No olvide digitar las columnas Pueblos Originarios. Digite CERO si no tiene.\",\"\")","v":""},{"$f":"IF(AND((C231+D231)>0,OR(F231=\"\")),\" * No olvide digitar las columnas Migrantes. Digite CERO si no tiene.\",\"\")","v":""},{"$f":"IF(E231>(C231+D231),\" * El N° de Pueblos Originarios no puede ser mayor que la suma de Hombres+Mujeres.\",\"\")","v":""},{"$f":"IF(F231>(C231+D231),\" * El N° de Migrantes no puede ser mayor que la suma de hombres+Mujeres.\",\"\")","v":""},null,null,null,null,null,null,0,0,0,0]
["Sospecha de TEA según pauta de señales de alerta","Sí",null,null,null,null,"",null,null,null,null,null,null,null,null,null,null,null,null,null,null,null,null,null,null,null,null,null,null,null,null,null,null,null,null,null,null,null,null,null,null,null,null,null,null,null,null,null,null,null,null,null,null,null,null,null,null,null,null,null,null,null,null,null,null,null,null,null,null,null,null,null,null,null,null,null,null,null,"","","","",null,null,null,null,null,null,0,0,0,0]
[null,"No",null,null,null,null,"",null,null,null,null,null,null,null,null,null,null,null,null,null,null,null,null,null,null,null,null,null,null,null,null,null,null,null,null,null,null,null,null,null,null,null,null,null,null,null,null,null,null,null,null,null,null,null,null,null,null,null,null,null,null,null,null,null,null,null,null,null,null,null,null,null,null,null,null,null,null,null,"","","","",null,null,null,null,null,null,0,0,0,0]
["Derivación ","Si",null,null,null,null,"",null,null,null,null,null,null,null,null,null,null,null,null,null,null,null,null,null,null,null,null,null,null,null,null,null,null,null,null,null,null,null,null,null,null,null,null,null,null,null,null,null,null,null,null,null,null,null,null,null,null,null,null,null,null,null,null,null,null,null,null,null,null,null,null,null,null,null,null,null,null,null,"","","","",null,null,null,null,null,null,0,0,0,0]
[null,"No",null,null,null,null,"",null,null,null,null,null,null,null,null,null,null,null,null,null,null,null,null,null,null,null,null,null,null,null,null,null,null,null,null,null,null,null,null,null,null,null,null,null,null,null,null,null,null,null,null,null,null,null,null,null,null,null,null,null,null,null,null,null,null,null,null,null,null,null,null,null,null,null,null,null,null,null,"","","","",null,null,null,null,null,null,0,0,0,0]
["SECCIÓN G: APLICACIÓN ESCALA MRS EN MUJERES EN EDAD DE CLIMATERIO"]
["\nTOTAL DE APLICACIONES SEGÚN AREA DE AFECTACIÓN \n",null,"Momento y condiciones de  aplicación "]
[null,null,"Ingreso ","MRS Control"]
[null,null,null,"Control sin THM","Control con THM"]
["Total aplicaciones"]
["Total MRS alto "]
["Afectación predominio somático "]
["Afectación predominio psicológico "]
["Afectación predominio urogenital "]
["SECCIÓN H: APLICACIÓN DE TAMIZAJE PARA EVALUAR RIESGO DE TRASTORNOS O PROBLEMAS DE SALUD MENTAL EN APS"]
["COMPONENTE",null,"TOTAL              ",null,null,"RANGO ETARIO Y SEXO"]
[null,null,null,null,null,"5 - 9 años",null,"10 - 14 años",null,"15 - 19 años",null,"20 - 24 años",null,"25 - 44 años",null,"45 - 64 años",null,"65 - 69 años",null,"70 - 79 años",null,"80 y más años"]
[null,null,"Ambos Sexos","Hombres","Mujeres","Hombres","Mujeres","Hombres","Mujeres","Hombres","Mujeres","Hombres","Mujeres","Hombres","Mujeres","Hombres","Mujeres","Hombres","Mujeres","Hombres","Mujeres","Hombres","Mujeres"]
["Nº de cuestionario PSC-17",null,{"$f":"SUM(D249+E249)","v":0},{"$f":"+F249","v":0},{"$f":"+G249","v":0}]
["Nº de cuestionario PSC-y-17",null,0,{"$f":"+H250","v":0},{"$f":"+I250","v":0}]
["N° de cuestionario PHQ-9 modificado para adolescentes ",null,0,{"$f":"+J251","v":0},{"$f":"+K251","v":0}]
["N° de cuestionario PHQ-9 para adultos ",null,0,{"$f":"+L252+N252+P252","v":0},{"$f":"+M252+O252+Q252","v":0}]
["N° de escala CAPE-P15",null,{"$f":"SUM(D253+E253)","v":0},{"$f":"+H253+J253+L253","v":0},{"$f":"+I253+K253+M253","v":0}]
["Escala de Columbia ",null,{"$f":"SUM(D254+E254)","v":0},{"$f":"+H254+J254+L254+N254+P254+R254+T254+V254","v":0},{"$f":"+I254+K254+M254+O254+Q254+S254+U254+W254","v":0}]
["N° de escala de depresión geriátrica de Yesavage GDS-15",null,{"$f":"SUM(D255+E255)","v":0},{"$f":"+R255+T255+V255+P255","v":0},{"$f":"+S255+U255+W255+Q255","v":0}]
["Resultados de evaluación ","Bajo riesgo",0,{"$f":"F256+H256+J256+L256+N256+P256+R256+T256+V256","v":0},{"$f":"G256+I256+K256+M256+O256+Q256+S256+U256+W256","v":0}]
[null,"Riesgo medio",0,0,{"$f":"G257+I257+K257+M257+O257+Q257+S257+U257+W257","v":0}]
[null,"Alto riesgo",0,0,{"$f":"G258+I258+K258+M258+O258+Q258+S258+U258+W258","v":0}]
["SECCIÓN I: APLICACIÓN Y RESULTADO DE PAUTA EVALUACIÓN PROGRAMA ACOMPAÑAMIENTO PSICOSOCIAL EN APS"]
["RESULTADOS",null,"TOTAL",null,null,"RANGO ETARIO Y SEXO",null,null,null,null,null,null,null,null,null,"Derivación efectiva "]
[null,null,null,null,null,"0 - 4 años",null,"5 - 9 años",null,"10 - 14 años",null,"15 - 19 años",null,"20 - 24 años"]
[null,null,"Ambos Sexos","Hombres","Mujeres","Hombres","Mujeres","Hombres","Mujeres","Hombres","Mujeres","Hombres","Mujeres","Hombres","Mujeres"]
["Evaluación al ingreso","Bajo ",{"$f":"SUM(D263:E263)","v":0},{"$f":"+F263+H263+J263+L263+N263","v":0},0]
[null,"Medio",0,0,0]
[null,"Alto",0,0,0]
["Evaluación al egreso","Bajo ",0,0,0]
[null,"Medio",0,0,0]
[null,"Alto",0,0,0]
["SECCIÓN J: ATENCIONES REALIZADAS POR PROFESIONALES EN EL PROCESO DE EVALUACIÓN INTEGRAL DE DAÑO (PRAIS)"]
["ACTIVIDAD","PROFESIONAL","TOTAL               ",null,null,"RANGO ETARIO Y SEXO",null,null,null,null,null,null,null,null,null,null,null,null,null,null,null,null,null,null,null,null,null,null,null,null,null,null,null,null,null,null,null,null,null,"ORIGEN DE SOLICITUD",null,null,null,null,null,null,null,"Niños, Niñas, Adolescentes y Jóvenes Población SENAME","Pueblos Originarios"]
[null,null,null,null,null,"0 - 4 años",null,"5 - 9 años",null,"10 - 14 años",null,"15 - 19 años",null,"20 - 24 años",null,"25 - 29 años",null,"30 - 34 años",null,"35 - 39 años",null,"40 - 44 años",null,"45 - 49 años",null,"50 - 54 años",null,"55 - 59 años",null,"60 - 64 años",null,"65 - 69 años",null,"70 - 74 años",null,"75 - 79 años",null,"80 y más años",null,"Total",null,"En consulta de ingreso a equipo PRAIS",null,"Demanda de usuario ",null,"Solicitud de Tribunal "]
[null,null,"Ambos Sexos","Hombres","Mujeres","Hombres","Mujeres","Hombres","Mujeres","Hombres","Mujeres","Hombres","Mujeres","Hombres","Mujeres","Hombres","Mujeres","Hombres","Mujeres","Hombres","Mujeres","Hombres","Mujeres","Hombres","Mujeres","Hombres","Mujeres","Hombres","Mujeres","Hombres","Mujeres","Hombres","Mujeres","Hombres","Mujeres","Hombres","Mujeres","Hombres","Mujeres","Hombres","Mujeres","Hombres","Mujeres","Hombres","Mujeres","Hombres","Mujeres"]
["Primera sesión \n\n(Usuarios atendidos por profesional)","Trabajador/a Social",{"$f":"SUM(D273,E273)","v":0},{"$f":"SUM(F273,H273,J273,L273,N273,P273,R273,T273,V273,X273,Z273,AB273,AD273,AF273,AH273,AJ273,AL273)","v":0},0,null,null,null,null,null,null,null,null,null,null,null,null,null,null,null,null,null,null,null,null,null,null,null,null,null,null,null,null,null,null,null,null,null,null,null,null,null,null,null,null,null,null,null,null,{"$f":"$CA273&CB273","v":""},null,null,null,null,null,null,null,null,null,null,null,null,null,null,null,null,null,null,null,null,null,null,null,null,null,null,null,null,{"$f":"IF(AND($C273<>0,AV273=\"\"),\"* No olvide ingresar la columna \"&AV$270&\"\"&\" (Digite CERO si no tiene).  \",IF(AV273>$C273,\"* El Número de Niños, Niñas, Adolescentes y Jóvenes SENAME no puede superar el Total. \",\"\"))","v":""},{"$f":"IF(AND($C273<>0,AW273=\"\"),\"* No olvide ingresar la columna \"&AW$270&\"\"&\" (Digite CERO si no tiene).  \",IF(AW273>$C273,\"* El Número de Pueblos Originarios no puede superar el Total. \",\"\"))","v":""},null,null,null,null,null,null,null,null,{"$f":"IF(AND($C273<>0,AV273=\"\"),1,IF(AV273>$C273,1,0))","v":0},{"$f":"IF(AND($C273<>0,AW273=\"\"),1,IF(AW273>$C273,1,0))","v":0}]
[null,"Psicólogo/a",0,0,0,null,null,null,null,null,null,null,null,null,null,null,null,null,null,null,null,null,null,null,null,null,null,null,null,null,null,null,null,null,null,null,null,null,null,null,null,null,null,null,null,null,null,null,null,{"$f":"$CA274&CB274","v":""},null,null,null,null,null,null,null,null,null,null,null,null,null,null,null,null,null,null,null,null,null,null,null,null,null,null,null,null,{"$f":"IF(AND($C274<>0,AV274=\"\"),\"* No olvide ingresar la columna \"&AV$270&\"\"&\" (Digite CERO si no tiene).  \",IF(AV274>$C274,\"* El Número de Niños, Niñas, Adolescentes y Jóvenes SENAME no puede superar el Total. \",\"\"))","v":""},{"$f":"IF(AND($C274<>0,AW274=\"\"),\"* No olvide ingresar la columna \"&AW$270&\"\"&\" (Digite CERO si no tiene).  \",IF(AW274>$C274,\"* El Número de Pueblos Originarios no puede superar el Total. \",\"\"))","v":""},null,null,null,null,null,null,null,null,{"$f":"IF(AND($C274<>0,AV274=\"\"),1,IF(AV274>$C274,1,0))","v":0},{"$f":"IF(AND($C274<>0,AW274=\"\"),1,IF(AW274>$C274,1,0))","v":0}]
[null,"Total sesión",0,0,0,{"$f":"SUM(F273:F274)","v":0},0,0,0,0,0,0,0,0,0,0,0,0,0,0,0,0,0,0,0,0,0,0,0,0,0,0,0,0,0,0,0,0,0,0,0,0,0,0,0,0,0,0,0]
["Segunda sesión \n\n(Profesionales que realizan 2 de 4 evaluaciones, las que pueden ser; Social, Psicológica, Médica y/o Psiquiátrica)","Trabajador/a Social",0,0,0]
[null,"Psicólogo/a",0,0,0]
[null,"Médico/a General",0,0,0]
[null,"Médico/a Psiquiatra ",0,0,0]
[null,"Médico/a especialidad-subespecialidad ",0,0,0]
[null,"Otro profesional",0,0,0]
[null,"Total sesión",0,0,0,{"$f":"SUM(F276:F281)","v":0},0,0,0,0,0,0,0,0,0,0,0,0,0,0,0,0,0,0,0,0,0,0,0,0,0,0,0,0,0,0,0,0,0]
["Tercera sesión\n\n(Profesionales que realizan las 2 evaluaciones restantes, respecto a las realizadas en la 3° sesión, pudiendo ser; Social, Psicológica, Médica y/o Psiquiátrica)","Trabajador/a Social",0,0,0]
[null,"Psicólogo/a",0,0,0]
[null,"Médico/a General",0,0,0]
[null,"Médico/a Psiquiatra ",0,0,0]
[null,"Médico/a especialidad-subespecialidad ",0,0,0]
[null,"Otro profesional",0,0,0]
[null,"Total sesión",0,0,0,{"$f":"SUM(F283:F288)","v":0},0,0,0,0,0,0,0,0,0,0,0,0,0,0,0,0,0,0,0,0,0,0,0,0,0,0,0,0,0,0,0,0,0]
["Cuarta sesión \n\n(Profesional participante en redacción de informe por cada caso) ","Trabajador/a Social",0,0,0]
[null,"Psicólogo/a",0,0,0]
[null,"Médico/a General",0,0,0]
[null,"Médico/a Psiquiatra ",0,0,0]
[null,"Médico/a especialidad-subespecialidad ",0,0,0]
[null,"Enfermera/o",0,0,0]
[null,"Kinesiólogo/a",0,0,0]
[null,"Terapeuta Ocupacional",0,0,0]
[null,"Técnico en Enfermería ",0,0,0]
[null,"Gestor Comunitario",0,0,0]
[null,"Otro profesional",0,0,0]
[null,"Total sesión",0,0,0,{"$f":"SUM(F290:F300)","v":0},0,0,0,0,0,0,0,0,0,0,0,0,0,0,0,0,0,0,0,0,0,0,0,0,0,0,0,0,0,0,0,0,0]
["Quinta sesión \n\n(Profesional participante en entrega de informe por cada caso) ","Trabajador/a Social",0,0,0]
[null,"Psicólogo/a",0,0,0]
[null,"Médico/a General",0,0,0]
[null,"Médico/a Psiquiatra ",0,{"$f":"SUM(F305,H305,J305,L305,N305,P305,R305,T305,V305,X305,Z305,AB305,AD305,AF305,AH305,AJ305,AL305)","v":0},0]
[null,"Médico/a especialidad-subespecialidad ",0,0,0]
[null,"Enfermera/o",0,0,0]
[null,"Kinesiólogo/a",0,0,0]
[null,"Terapeuta Ocupacional",0,0,0]
[null,"Técnico en Enfermería ",0,0,0]
[null,"Gestor Comunitario",0,0,0]
[null,"Otro profesional",0,0,0]
[null,"Total sesión",0,0,0,{"$f":"SUM(F302:F312)","v":0},0,0,0,0,0,0,0,0,0,0,0,0,0,0,0,0,0,0,0,0,0,0,0,0,0,0,0,0,0,0,0,0,0]
["Sexta sesión \n\n(Profesional que realiza acompañamiento, representación jurídica y/o testificación en tribunal por cada caso)","Trabajador/a Social",0,0,0]
[null,"Psicólogo/a",0,0,0]
[null,"Médico/a General",0,0,0]
[null,"Médico/a Psiquiatra ",0,0,0]
[null,"Médico/a especialidad-subespecialidad ",0,0,0]
[null,"Otro profesional",0,0,0]
[null,"Total sesión",0,0,0,{"$f":"SUM(F314:F319)","v":0},0,0,0,0,0,0,0,0,0,0,0,0,0,0,0,0,0,0,0,0,0,0,0,0,0,0,0,0,0,0,0,0,0]
["TOTAL DE ATENCIONES",null,0,0,0,{"$f":"SUM(F275,F282,F289,F301,F313,F320)","v":0},0,0,0,0,0,0,0,0,0,0,0,0,0,0,0,0,0,0,0,0,0,0,0,0,0,0,0,0,0,0,0,0,0,{"$f":"SUM(AN275)","v":0},0,0,0,0,0,0,0,0,0]
["SECCION K: ATENCIONES EN MODALIDADES DE APOYO AL DESARROLLO INFANTIL (MADIS) EN APS"]
["ACTIVIDAD"," Total de atenciones niños(as) en modalidades de apoyo","Sala Estimulación",null,null,null,null,null,null,null,null,"Atención Domiciliaria",null,null,null,null,null,null,null,null,"Servicio Itinerante",null,null,null,null,null,null,null,null,"Pueblos Originarios","Migrantes"]
[null,null,"TOTAL",null,null,"0-11 meses",null,"12-23 meses",null,"24-59 meses",null,"TOTAL",null,null,"0-11 meses",null,"12-23 meses",null,"24-59 meses",null,"TOTAL",null,null,"0-11 meses",null,"12-23 meses",null,"24-59 meses"]
[null,null,"Ambos Sexos ","Hombres","Mujeres","Hombres","Mujeres","Hombres","Mujeres","Hombres","Mujeres","Ambos Sexos ","Hombres","Mujeres","Hombres","Mujeres","Hombres","Mujeres","Hombres","Mujeres","Ambos Sexos ","Hombres","Mujeres","Hombres","Mujeres","Hombres","Mujeres","Hombres","Mujeres"]
["Atenciones individuales de seguimiento a niñas/os categorizados NORMAL CON REZAGO",{"$f":"SUM(C326+L326+U326)","v":0},{"$f":"SUM(D326:E326)","v":0},{"$f":"SUM(F326+H326+J326)","v":0},{"$f":"SUM(G326+I326+K326)","v":0},null,null,null,null,null,null,{"$f":"SUM(M326:N326)","v":0},{"$f":"SUM(O326+Q326+S326)","v":0},{"$f":"SUM(P326+R326+T326)","v":0},null,null,null,null,null,null,{"$f":"SUM(V326:W326)","v":0},{"$f":"SUM(X326+Z326+AB326)","v":0},{"$f":"SUM(Y326+AA326+AC326)","v":0},null,null,null,null,null,null,null,null,{"$f":"$CA326&CB326","v":""},null,null,null,null,null,null,null,null,null,null,null,null,null,null,null,null,null,null,null,null,null,null,null,null,null,null,null,null,null,null,null,null,null,null,null,null,null,null,null,null,null,null,null,null,null,null,{"$f":"IF(AND($B326<>0,AD326=\"\"),\"* No olvide ingresar la columna \"&AD$323&\"\"&\" (Digite CERO si no tiene). \",IF(AD326>$B326,\"* El Número de Pueblos Originarios no puede superar el Total. \",\"\"))","v":""},{"$f":"IF(AND($B326<>0,AE326=\"\"),\"* No olvide ingresar la columna \"&AE$323&\"\"&\" (Digite CERO si no tiene). \",IF(AE326>$B326,\"* El Número de Migrantes no puede superar el Total. \",\"\"))","v":""},null,null,null,null,null,null,null,null,{"$f":"IF(AND($B326<>0,AD326=\"\"),1,IF(AD326>$B326,1,0))","v":0},{"$f":"IF(AND($B326<>0,AE326=\"\"),1,IF(AE326>$B326,1,0))","v":0}]
["Atenciones grupales de seguimiento a niñas/os categorizados NORMAL CON REZAGO",{"$f":"SUM(C327+U327)","v":0},{"$f":"SUM(D327:E327)","v":0},{"$f":"SUM(F327+H327+J327)","v":0},0,null,null,null,null,null,null,null,null,null,null,null,null,null,null,null,{"$f":"SUM(V327:W327)","v":0},{"$f":"SUM(X327+Z327+AB327)","v":0},0,null,null,null,null,null,null,null,null,{"$f":"$CA327&CB327","v":""},null,null,null,null,null,null,null,null,null,null,null,null,null,null,null,null,null,null,null,null,null,null,null,null,null,null,null,null,null,null,null,null,null,null,null,null,null,null,null,null,null,null,null,null,null,null,{"$f":"IF(AND($B327<>0,AD327=\"\"),\"* No olvide ingresar la columna \"&AD$323&\"\"&\" (Digite CERO si no tiene). \",IF(AD327>$B327,\"* El Número de Pueblos Originarios no puede superar el Total. \",\"\"))","v":""},{"$f":"IF(AND($B327<>0,AE327=\"\"),\"* No olvide ingresar la columna \"&AE$323&\"\"&\" (Digite CERO si no tiene). \",IF(AE327>$B327,\"* El Número de Migrantes no puede superar el Total. \",\"\"))","v":""},null,null,null,null,null,null,null,null,{"$f":"IF(AND($B327<>0,AD327=\"\"),1,IF(AD327>$B327,1,0))","v":0},0]
["Atenciones individuales de seguimiento a niñas/os categorizados con RIESGO",{"$f":"SUM(C328+L328+U328)","v":0},0,0,0,null,null,null,null,null,null,{"$f":"SUM(M328:N328)","v":0},{"$f":"SUM(O328+Q328+S328)","v":0},{"$f":"SUM(P328+R328+T328)","v":0},null,null,null,null,null,null,0,0,0,null,null,null,null,null,null,null,null,"",null,null,null,null,null,null,null,null,null,null,null,null,null,null,null,null,null,null,null,null,null,null,null,null,null,null,null,null,null,null,null,null,null,null,null,null,null,null,null,null,null,null,null,null,null,null,"","",null,null,null,null,null,null,null,null,0,0]
["Atenciones grupales de seguimiento a niñas/os categorizados con RIESGO",{"$f":"SUM(C329+U329)","v":0},0,0,0,null,null,null,null,null,null,null,null,null,null,null,null,null,null,null,0,0,0,null,null,null,null,null,null,null,null,"",null,null,null,null,null,null,null,null,null,null,null,null,null,null,null,null,null,null,null,null,null,null,null,null,null,null,null,null,null,null,null,null,null,null,null,null,null,null,null,null,null,null,null,null,null,null,"","",null,null,null,null,null,null,null,null,0,0]
["Atenciones individuales de seguimiento a niñas/os categorizados con RETRASO",0,0,0,0,null,null,null,null,null,null,{"$f":"SUM(M330:N330)","v":0},{"$f":"SUM(O330+Q330+S330)","v":0},{"$f":"SUM(P330+R330+T330)","v":0},null,null,null,null,null,null,0,0,0,null,null,null,null,null,null,null,null,"",null,null,null,null,null,null,null,null,null,null,null,null,null,null,null,null,null,null,null,null,null,null,null,null,null,null,null,null,null,null,null,null,null,null,null,null,null,null,null,null,null,null,null,null,null,null,"","",null,null,null,null,null,null,null,null,0,0]
["Atenciones grupales de seguimiento a niñas/os categorizados con RETRASO",{"$f":"SUM(C331+U331)","v":0},0,0,0,null,null,null,null,null,null,null,null,null,null,null,null,null,null,null,0,0,0,null,null,null,null,null,null,null,null,"",null,null,null,null,null,null,null,null,null,null,null,null,null,null,null,null,null,null,null,null,null,null,null,null,null,null,null,null,null,null,null,null,null,null,null,null,null,null,null,null,null,null,null,null,null,null,"","",null,null,null,null,null,null,null,null,0,0]
["Atenciones individuales de seguimiento a niñas/os categorizados NORMAL CON RIESGO BIOPSICOSOCIAL",0,0,0,0,null,null,null,null,null,null,{"$f":"SUM(M332:N332)","v":0},{"$f":"SUM(O332+Q332+S332)","v":0},{"$f":"SUM(P332+R332+T332)","v":0},null,null,null,null,null,null,0,0,0,null,null,null,null,null,null,null,null,"",null,null,null,null,null,null,null,null,null,null,null,null,null,null,null,null,null,null,null,null,null,null,null,null,null,null,null,null,null,null,null,null,null,null,null,null,null,null,null,null,null,null,null,null,null,null,"","",null,null,null,null,null,null,null,null,0,0]
["Atenciones grupales de seguimiento a niñas/os categorizados NORMAL CON RIESGO BIOPSICOSOCIAL",{"$f":"SUM(C333+U333)","v":0},0,0,0,null,null,null,null,null,null,null,null,null,null,null,null,null,null,null,0,0,0,null,null,null,null,null,null,null,null,"",null,null,null,null,null,null,null,null,null,null,null,null,null,null,null,null,null,null,null,null,null,null,null,null,null,null,null,null,null,null,null,null,null,null,null,null,null,null,null,null,null,null,null,null,null,null,"","",null,null,null,null,null,null,null,null,0,0]
[]
[]
[]
[]
[]
[]
[]
[]
[]
[]
[]
[]
[{"$f":"SUM(C13:C15,C20:C41,B46:B49,B54:B57,C61:C67,B72:B74,B80:B83,B86:E87,C90:F93,C97:C102,C108:C116,C121:C162,C167:C172,C177:C182,C187:C190,C196:C198,C203:C205,C210:C212,C217:F225,C230:F235,C240:E244,C249:C258,C263:C268,C273:C321,B326:C333)","v":0},{"$f":"SUM(CK20:CP333)","v":0}]

{"sheet":"A04","index":4,"n_rows":200,"n_cols":77,"rows_kept":200,"cut":false,"hidden":false,"merged":[[5,0,5,22],[8,0,10,0],[8,1,9,3],[8,4,8,39],[8,40,10,40],[8,41,10,41],[9,18,9,19],[9,20,9,21],[9,22,9,23],[9,24,9,25],[8,42,10,42],[8,43,10,43],[8,44,10,44],[9,4,9,5],[9,6,9,7],[9,8,9,9],[9,10,9,11],[9,12,9,13],[9,14,9,15],[9,16,9,17],[9,38,9,39],[9,26,9,27],[9,28,9,29],[9,30,9,31],[9,32,9,33],[9,34,9,35],[9,36,9,37],[27,42,29,42],[27,43,29,43],[27,44,29,44],[28,4,28,5],[28,6,28,7],[28,8,28,9],[28,10,28,11],[28,12,28,13],[28,14,28,15],[28,16,28,17],[27,4,27,39],[27,40,29,40],[27,41,29,41],[28,18,28,19],[28,20,28,21],[28,22,28,23],[28,24,28,25],[52,22,54,22],[52,23,54,23],[53,4,54,4],[53,5,54,5],[53,6,54,6],[53,7,54,7],[53,8,54,8],[28,38,28,39],[47,0,48,0],[47,1,48,1],[47,2,47,5],[47,6,47,9],[47,10,48,10],[47,11,48,11],[47,12,48,12],[28,26,28,27],[28,28,28,29],[28,30,28,31],[28,32,28,33],[28,34,28,35],[28,36,28,37],[53,21,54,21],[27,0,29,0],[27,1,28,3],[76,0,77,0],[76,1,77,1],[76,2,76,18],[76,19,77,19],[76,20,77,20],[53,15,54,15],[53,16,54,16],[53,17,54,17],[53,18,54,18],[53,19,54,19],[53,20,54,20],[53,9,54,9],[53,10,54,10],[53,11,54,11],[53,12,54,12],[53,13,54,13],[53,14,54,14],[52,0,54,0],[52,1,53,3],[52,4,52,21],[79,0,79,6],[80,0,82,0],[80,1,82,1],[80,2,81,4],[80,5,80,34],[80,35,82,35],[81,17,81,18],[81,19,81,20],[81,21,81,22],[81,23,81,24],[81,31,81,32],[81,33,81,34],[80,36,82,36],[80,37,82,37],[80,38,82,38],[80,39,82,39],[81,5,81,6],[81,7,81,8],[81,9,81,10],[81,11,81,12],[81,13,81,14],[81,15,81,16],[88,0,89,0],[88,1,89,1],[88,2,89,2],[88,3,89,3],[88,4,89,4],[88,5,89,5],[81,25,81,26],[81,27,81,28],[81,29,81,30],[84,0,85,0],[101,6,102,7],[101,8,102,9],[101,10,103,10],[101,11,102,13],[101,14,102,15],[101,16,102,17],[90,0,90,5],[96,0,96,5],[100,0,100,5],[101,0,103,0],[101,1,102,3],[101,4,102,5],[109,0,110,0],[109,1,110,1],[109,2,109,11],[109,12,110,12],[115,0,117,0],[115,1,116,3],[115,4,115,39],[116,16,116,17],[116,18,116,19],[116,20,116,21],[115,40,117,40],[115,41,117,41],[115,42,117,42],[115,43,117,43],[116,4,116,5],[116,6,116,7],[116,8,116,9],[116,10,116,11],[116,12,116,13],[116,14,116,15],[116,34,116,35],[116,36,116,37],[116,38,116,39],[116,28,116,29],[116,30,116,31],[116,32,116,33],[122,0,123,1],[122,2,123,2],[122,3,122,7],[122,8,123,8],[122,9,123,9],[122,10,123,10],[116,22,116,23],[116,24,116,25],[116,26,116,27],[134,39,136,39],[134,40,136,40],[135,5,135,6],[135,7,135,8],[135,9,135,10],[135,11,135,12],[135,13,135,14],[124,0,126,0],[127,0,128,0],[129,0,132,0],[134,0,136,0],[134,1,136,1],[134,2,136,2],[135,31,135,32],[135,33,135,34],[135,35,135,36],[135,37,135,38],[135,15,135,16],[135,17,135,18],[135,19,135,20],[135,21,135,22],[135,23,135,24],[135,25,135,26],[152,20,153,20],[137,0,144,0],[145,0,150,0],[152,0,153,0],[152,1,153,1],[152,2,152,18],[152,19,153,19],[135,27,135,28],[135,29,135,30],[134,3,136,3],[134,4,136,4],[134,5,134,38]]}
["SERVICIO DE SALUD"]
[{"$f":"CONCATENATE(\"COMUNA: \",NOMBRE!B2,\" - \",\"( \",NOMBRE!C2,NOMBRE!D2,NOMBRE!E2,NOMBRE!F2,NOMBRE!G2,\" )\")","v":"COMUNA:  - (  )"}]
[{"$f":"CONCATENATE(\"ESTABLECIMIENTO/ESTRATEGIA: \",NOMBRE!B3,\" - \",\"( \",NOMBRE!C3,NOMBRE!D3,NOMBRE!E3,NOMBRE!F3,NOMBRE!G3,NOMBRE!H3,\" )\")","v":"ESTABLECIMIENTO/ESTRATEGIA:  - (  )"}]
[{"$f":"CONCATENATE(\"MES: \",NOMBRE!B6,\" - \",\"( \",NOMBRE!C6,NOMBRE!D6,\" )\")","v":"MES:  - (  )"}]
[{"$f":"CONCATENATE(\"AÑO: \",NOMBRE!B7)","v":"AÑO: 2024"}]
["REM-A04.   CONSULTAS Y OTRAS ATENCIONES EN LA RED"]
[]
["SECCIÓN A: CONSULTAS MÉDICAS "]
["TIPO DE CONSULTA","TOTAL      ",null,null,"RANGO ETARIO Y SEXO",null,null,null,null,null,null,null,null,null,null,null,null,null,null,null,null,null,null,null,null,null,null,null,null,null,null,null,null,null,null,null,null,null,null,null,"Pueblos Originarios","Migrantes","Niños, Niñas, Adolescentes y Jóvenes SENAME","Niños, Niñas, Adolescentes y Jóvenes Mejor Niñez","Por Campaña de Invierno"]
[null,null,null,null,"Menos de 1 año",null,"1 - 4 años",null,"5 - 9 años",null,"10 - 14 años",null,"15 - 19 años",null,"20 - 24 años",null,"25 - 29 años",null,"30 - 34 años",null,"35 - 39 años",null,"40 - 44 años",null,"45 - 49 años",null,"50 - 54 años",null,"55 - 59 años",null,"60 - 64 años",null,"65 - 69 años",null,"70 - 74 años",null,"75 - 79 años",null,"80 y mas años"]
[null,"Ambos Sexos","Hombres","Mujeres","Hombres","Mujeres","Hombres","Mujeres","Hombres","Mujeres","Hombres","Mujeres","Hombres","Mujeres","Hombres","Mujeres","Hombres","Mujeres","Hombres","Mujeres","Hombres","Mujeres","Hombres","Mujeres","Hombres","Mujeres","Hombres","Mujeres","Hombres","Mujeres","Hombres","Mujeres","Hombres","Mujeres","Hombres","Mujeres","Hombres","Mujeres","Hombres","Mujeres"]
["TOTAL",{"$f":"SUM(B13:B26)","v":0},{"$f":"SUM(C13:C26)","v":0},{"$f":"SUM(D13:D26)","v":0},{"$f":"SUM(E13:E26)","v":0},{"$f":"SUM(F13:F26)","v":0},{"$f":"SUM(G13:G26)","v":0},0,0,0,0,0,0,0,0,0,0,0,0,0,{"$f":"SUM(U13:U26)","v":0},{"$f":"SUM(V13:V26)","v":0},0,0,0,0,0,0,0,0,0,0,0,0,0,0,0,0,0,0,{"$f":"SUM(AO13:AO26)","v":0},{"$f":"SUM(AP13:AP26)","v":0},{"$f":"SUM(AQ13:AQ26)","v":0},{"$f":"SUM(AR13:AR26)","v":0},{"$f":"SUM(AS13:AS26)","v":0}]
["IRA Alta",{"$f":"SUM(C13:D13)","v":0},{"$f":"SUM(E13+G13+I13+K13+M13+O13+Q13+S13+U13+W13+Y13+AA13+AC13+AE13+AG13+AI13+AK13+AM13)","v":0},{"$f":"SUM(F13+H13+J13+L13+N13+P13+R13+T13+V13+X13+Z13+AB13+AD13+AF13+AH13+AJ13+AL13+AN13)","v":0},null,null,null,null,null,null,null,null,null,null,null,null,null,null,null,null,null,null,null,null,null,null,null,null,null,null,null,null,null,null,null,null,null,null,null,null,null,null,null,null,null,{"$f":"BO13&BP13&BQ13&BR13&BS13","v":""},null,null,null,null,null,null,null,null,null,null,null,null,null,null,null,null,null,null,null,null,{"$f":"IF(AND(B13>0,AO13=\"\"),\" * No olvide digitar la variable Pueblos originarios. Digite Cero si no tiene.\",IF(AO13>B13,\" *  La variable Pueblos originarios No puede ser mayor al Total.\",\"\"))","v":""},{"$f":"IF(AND(B13>0,AP13=\"\"),\" * No olvide digitar la variable Migrantes. Digite Cero si no tiene.\",IF(AP13>B13,\" *  La variable Migrantes No puede ser mayor al Total.\",\"\"))","v":""},{"$f":"IF(AND(B13>0,AQ13=\"\"),\" * No olvide digitar la variable Niños, niñas, adolescentes y jóvenes SENAME. Digite Cero si no tiene.\",IF(AQ13>B13,\" *  La variable Niños, niñas, adolescentes y jóvenes SENAME No puede ser mayor al Total.\",\"\"))","v":""},{"$f":"IF(AND(B13>0,AR13=\"\"),\" * No olvide digitar la variable Niños, niñas, adolescentes y jóvenes Mejor niñez. Digite Cero si no tiene.\",IF(AR13>B13,\" *  La variable Niños, niñas, adolescentes y jóvenes Mejor Niñez No puede ser mayor al Total.\",\"\"))","v":""},{"$f":"IF(AND(B13>0,AS13=\"\"),\" * No olvide digitar la variable Por campaña de invierno. Digite Cero si no tiene.\",IF(AS13>B13,\" *  La variable Por campaña de invierno No puede ser mayor al Total.\",\"\"))","v":""},null,{"$f":"IF(AND(B13>0,AO13=\"\"),1,IF(AO13>B13,1,0))","v":0},{"$f":"IF(AND(B13>0,AP13=\"\"),1,IF(AP13>B13,1,0))","v":0},{"$f":"IF(AND(B13>0,AQ13=\"\"),1,IF(AQ13>B13,1,0))","v":0},{"$f":"IF(AND(B13>0,AR13=\"\"),1,IF(AR13>B13,1,0))","v":0},{"$f":"IF(AND(B13>0,AS13=\"\"),1,IF(AS13>B13,1,0))","v":0}]
["Síndrome Bronquial Obstructivo ",{"$f":"SUM(C14:D14)","v":0},{"$f":"SUM(E14+G14+I14)","v":0},{"$f":"SUM(F14+H14+J14)","v":0},null,null,null,null,null,null,null,null,null,null,null,null,null,null,null,null,null,null,null,null,null,null,null,null,null,null,null,null,null,null,null,null,null,null,null,null,null,null,null,null,null,{"$f":"BO14&BP14&BQ14&BR14&BS14","v":""},null,null,null,null,null,null,null,null,null,null,null,null,null,null,null,null,null,null,null,null,{"$f":"IF(AND(B14>0,AO14=\"\"),\" * No olvide digitar la variable Pueblos originarios. Digite Cero si no tiene.\",IF(AO14>B14,\" *  La variable Pueblos originarios No puede ser mayor al Total.\",\"\"))","v":""},{"$f":"IF(AND(B14>0,AP14=\"\"),\" * No olvide digitar la variable Migrantes. Digite Cero si no tiene.\",IF(AP14>B14,\" *  La variable Migrantes No puede ser mayor al Total.\",\"\"))","v":""},{"$f":"IF(AND(B14>0,AQ14=\"\"),\" * No olvide digitar la variable Niños, niñas, adolescentes y jóvenes SENAME. Digite Cero si no tiene.\",IF(AQ14>B14,\" *  La variable Niños, niñas, adolescentes y jóvenes SENAME No puede ser mayor al Total.\",\"\"))","v":""},{"$f":"IF(AND(B14>0,AR14=\"\"),\" * No olvide digitar la variable Niños, niñas, adolescentes y jóvenes Mejor niñez. Digite Cero si no tiene.\",IF(AR14>B14,\" *  La variable Niños, niñas, adolescentes y jóvenes Mejor Niñez No puede ser mayor al Total.\",\"\"))","v":""},{"$f":"IF(AND(B14>0,AS14=\"\"),\" * No olvide digitar la variable Por campaña de invierno. Digite Cero si no tiene.\",IF(AS14>B14,\" *  La variable Por campaña de invierno No puede ser mayor al Total.\",\"\"))","v":""},null,{"$f":"IF(AND(B14>0,AO14=\"\"),1,IF(AO14>B14,1,0))","v":0},{"$f":"IF(AND(B14>0,AP14=\"\"),1,IF(AP14>B14,1,0))","v":0},{"$f":"IF(AND(B14>0,AQ14=\"\"),1,IF(AQ14>B14,1,0))","v":0},{"$f":"IF(AND(B14>0,AR14=\"\"),1,IF(AR14>B14,1,0))","v":0},{"$f":"IF(AND(B14>0,AS14=\"\"),1,IF(AS14>B14,1,0))","v":0}]
["Neumonía ",0,{"$f":"SUM(E15+G15+I15+K15+M15+O15+Q15+S15+U15+W15+Y15+AA15+AC15+AE15+AG15+AI15+AK15+AM15)","v":0},{"$f":"SUM(F15+H15+J15+L15+N15+P15+R15+T15+V15+X15+Z15+AB15+AD15+AF15+AH15+AJ15+AL15+AN15)","v":0},null,null,null,null,null,null,null,null,null,null,null,null,null,null,null,null,null,null,null,null,null,null,null,null,null,null,null,null,null,null,null,null,null,null,null,null,null,null,null,null,null,"",null,null,null,null,null,null,null,null,null,null,null,null,null,null,null,null,null,null,null,null,"","","","","",null,0,0,0,0,0]
["Exacerbación Asma ",0,{"$f":"SUM(I16+K16+M16+O16+Q16+S16+U16+W16+Y16+AA16+AC16+AE16+AG16+AI16+AK16+AM16)","v":0},{"$f":"SUM(J16+L16+N16+P16+R16+T16+V16+X16+Z16+AB16+AD16+AF16+AH16+AJ16+AL16+AN16)","v":0},null,null,null,null,null,null,null,null,null,null,null,null,null,null,null,null,null,null,null,null,null,null,null,null,null,null,null,null,null,null,null,null,null,null,null,null,null,null,null,null,null,"",null,null,null,null,null,null,null,null,null,null,null,null,null,null,null,null,null,null,null,null,"","",{"$f":"IF(AND(B16>0,AQ16=\"\"),\" * No olvide digitar la variable Niños, niñas, adolescentes y jóvenes SENAME. Digite Cero si no tiene.\",IF(AQ16>B16,\" *  La variable Niños, niñas, adolescentes y jóvenes SENAME No puede ser mayor al Total.\",\"\"))","v":""},"","",null,0,0,0,0,0]
["Enfermedad Pulmonar Obstructiva Crónica ",0,{"$f":"SUM(U17+W17+Y17+AA17+AC17+AE17+AG17+AI17+AK17+AM17)","v":0},{"$f":"SUM(V17+X17+Z17+AB17+AD17+AF17+AH17+AJ17+AL17+AN17)","v":0},null,null,null,null,null,null,null,null,null,null,null,null,null,null,null,null,null,null,null,null,null,null,null,null,null,null,null,null,null,null,null,null,null,null,null,null,null,null,null,null,null,"",null,null,null,null,null,null,null,null,null,null,null,null,null,null,null,null,null,null,null,null,"","",{"$f":"IF(AND(B17>0,AQ17=\"\"),\" * No olvide digitar la variable Niños, niñas, adolescentes y jóvenes SENAME. Digite Cero si no tiene.\",IF(AQ17>B17,\" *  La variable Niños, niñas, adolescentes y jóvenes SENAME No puede ser mayor al Total.\",\"\"))","v":""},"","",null,0,0,{"$f":"IF(AND(B17>0,AQ17=\"\"),1,IF(AQ17>B17,1,0))","v":0},{"$f":"IF(AND(B17>0,AR17=\"\"),1,IF(AR17>B17,1,0))","v":0},0]
["Otras respiratorias ",0,{"$f":"SUM(E18+G18+I18+K18+M18+O18+Q18+S18+U18+W18+Y18+AA18+AC18+AE18+AG18+AI18+AK18+AM18)","v":0},{"$f":"SUM(F18+H18+J18+L18+N18+P18+R18+T18+V18+X18+Z18+AB18+AD18+AF18+AH18+AJ18+AL18+AN18)","v":0},null,null,null,null,null,null,null,null,null,null,null,null,null,null,null,null,null,null,null,null,null,null,null,null,null,null,null,null,null,null,null,null,null,null,null,null,null,null,null,null,null,"",null,null,null,null,null,null,null,null,null,null,null,null,null,null,null,null,null,null,null,null,"","","","","",null,0,0,0,0,0]
["Obstétrica ",{"$f":"SUM(C19:D19)","v":0},null,{"$f":"SUM(L19+N19+P19+R19+T19+V19+X19+Z19+AB19+AD19+AF19)","v":0},null,null,null,null,null,null,null,null,null,null,null,null,null,null,null,null,null,null,null,null,null,null,null,null,null,null,null,null,null,null,null,null,null,null,null,null,null,null,null,null,null,"",null,null,null,null,null,null,null,null,null,null,null,null,null,null,null,null,null,null,null,null,"","","","","",null,0,0,0,0,0]
["Ginecológica ",{"$f":"SUM(C20:D20)","v":0},null,{"$f":"SUM(F20+H20+J20+L20+N20+P20+R20+T20+V20+X20+Z20+AB20+AD20+AF20+AH20+AJ20+AL20+AN20)","v":0},null,null,null,null,null,null,null,null,null,null,null,null,null,null,null,null,null,null,null,null,null,null,null,null,null,null,null,null,null,null,null,null,null,null,null,null,null,null,null,null,null,"",null,null,null,null,null,null,null,null,null,null,null,null,null,null,null,null,null,null,null,null,"","","","","",null,0,0,0,0,0]
["Ginecológica por Infertilidad ",0,{"$f":"SUM(O21+Q21+S21+U21+W21+Y21+AA21)","v":0},{"$f":"SUM(P21+R21+T21+V21+X21+Z21+AB21)","v":0},null,null,null,null,null,null,null,null,null,null,null,null,null,null,null,null,null,null,null,null,null,null,null,null,null,null,null,null,null,null,null,null,null,null,null,null,null,null,null,null,null,"",null,null,null,null,null,null,null,null,null,null,null,null,null,null,null,null,null,null,null,null,"","","","","",null,0,0,0,0,0]
["Infección Transmisión Sexual ",0,{"$f":"SUM(E22+G22+I22+K22+M22+O22+Q22+S22+U22+W22+Y22+AA22+AC22+AE22+AG22+AI22+AK22+AM22)","v":0},{"$f":"SUM(F22+H22+J22+L22+N22+P22+R22+T22+V22+X22+Z22+AB22+AD22+AF22+AH22+AJ22+AL22+AN22)","v":0},null,null,null,null,null,null,null,null,null,null,null,null,null,null,null,null,null,null,null,null,null,null,null,null,null,null,null,null,null,null,null,null,null,null,null,null,null,null,null,null,null,"",null,null,null,null,null,null,null,null,null,null,null,null,null,null,null,null,null,null,null,null,"","","","","",null,0,0,0,0,0]
["VIH-SIDA",0,{"$f":"SUM(E23+G23+I23+K23+M23+O23+Q23+S23+U23+W23+Y23+AA23+AC23+AE23+AG23+AI23+AK23+AM23)","v":0},{"$f":"SUM(F23+H23+J23+L23+N23+P23+R23+T23+V23+X23+Z23+AB23+AD23+AF23+AH23+AJ23+AL23+AN23)","v":0},null,null,null,null,null,null,null,null,null,null,null,null,null,null,null,null,null,null,null,null,null,null,null,null,null,null,null,null,null,null,null,null,null,null,null,null,null,null,null,null,null,"",null,null,null,null,null,null,null,null,null,null,null,null,null,null,null,null,null,null,null,null,"","","","","",null,0,0,0,0,0]
["Salud Mental",0,{"$f":"SUM(G24+I24+K24+M24+O24+Q24+S24+U24+W24+Y24+AA24+AC24+AE24+AG24+AI24+AK24+AM24)","v":0},{"$f":"SUM(H24+J24+L24+N24+P24+R24+T24+V24+X24+Z24+AB24+AD24+AF24+AH24+AJ24+AL24+AN24)","v":0},null,null,null,null,null,null,null,null,null,null,null,null,null,null,null,null,null,null,null,null,null,null,null,null,null,null,null,null,null,null,null,null,null,null,null,null,null,null,null,null,null,"",null,null,null,null,null,null,null,null,null,null,null,null,null,null,null,null,null,null,null,null,"","","","","",null,0,0,0,0,0]
["Cardiovascular",0,{"$f":"SUM(M25+O25+Q25+S25+U25+W25+Y25+AA25+AC25+AE25+AG25+AI25+AK25+AM25)","v":0},{"$f":"SUM(N25+P25+R25+T25+V25+X25+Z25+AB25+AD25+AF25+AH25+AJ25+AL25+AN25)","v":0},null,null,null,null,null,null,null,null,null,null,null,null,null,null,null,null,null,null,null,null,null,null,null,null,null,null,null,null,null,null,null,null,null,null,null,null,null,null,null,null,null,"",null,null,null,null,null,null,null,null,null,null,null,null,null,null,null,null,null,null,null,null,"","","","","",null,0,0,0,0,0]
["Otras Morbilidades",0,{"$f":"SUM(E26+G26+I26+K26+M26+O26+Q26+S26+U26+W26+Y26+AA26+AC26+AE26+AG26+AI26+AK26+AM26)","v":0},{"$f":"SUM(F26+H26+J26+L26+N26+P26+R26+T26+V26+X26+Z26+AB26+AD26+AF26+AH26+AJ26+AL26+AN26)","v":0},null,null,null,null,null,null,null,null,null,null,null,null,null,null,null,null,null,null,null,null,null,null,null,null,null,null,null,null,null,null,null,null,null,null,null,null,null,null,null,null,null,"",null,null,null,null,null,null,null,null,null,null,null,null,null,null,null,null,null,null,null,null,"","","","","",null,0,0,0,0,0]
["SECCIÓN B: CONSULTAS DE PROFESIONALES NO MÉDICOS ",null,null,null,null,null," "]
["PROFESIONAL","TOTAL      ",null,null,"RANGO ETARIO Y SEXO",null,null,null,null,null,null,null,null,null,null,null,null,null,null,null,null,null,null,null,null,null,null,null,null,null,null,null,null,null,null,null,null,null,null,null,"Pueblos Originarios","Migrantes","Espacios Amigables","Niños, Niñas, Adolescentes y Jóvenes SENAME","Niños, Niñas, Adolescentes y Jóvenes Mejor Niñez"]
[null,null,null,null,"Menos de 1 año",null,"1 - 4 años",null,"5 - 9 años",null,"10 - 14 años",null,"15 - 19 años",null,"20 - 24 años",null,"25 - 29 años",null,"30 - 34 años",null,"35 - 39 años",null,"40 - 44 años",null,"45 - 49 años",null,"50 - 54 años",null,"55 - 59 años",null,"60 - 64 años",null,"65 - 69 años",null,"70 - 74 años",null,"75 - 79 años",null,"80 y mas años"]
[null,"Ambos Sexos","Hombres","Mujeres","Hombres","Mujeres","Hombres","Mujeres","Hombres","Mujeres","Hombres","Mujeres","Hombres","Mujeres","Hombres","Mujeres","Hombres","Mujeres","Hombres","Mujeres","Hombres","Mujeres","Hombres","Mujeres","Hombres","Mujeres","Hombres","Mujeres","Hombres","Mujeres","Hombres","Mujeres","Hombres","Mujeres","Hombres","Mujeres","Hombres","Mujeres","Hombres","Mujeres"]
["Enfermera/o",{"$f":"SUM(C31:D31)","v":0},{"$f":"SUM(E31+G31+I31+K31+M31+O31+Q31+S31+U31+W31+Y31+AA31+AC31+AE31+AG31+AI31+AK31+AM31)","v":0},0,null,null,null,null,null,null,null,null,null,null,null,null,null,null,null,null,null,null,null,null,null,null,null,null,null,null,null,null,null,null,null,null,null,null,null,null,null,null,null,null,null,{"$f":"BO31&BP31&BQ31&BR31&BS31","v":""},null,null,null,null,null,null,null,null,null,null,null,null,null,null,null,null,null,null,null,null,{"$f":"IF(AND(B31>0,AO31=\"\"),\" * No olvide digitar la variable Pueblos originarios. Digite Cero si no tiene.\",IF(AO31>B31,\" * La variable Pueblos originarios No puede ser mayor al Total.\",\"\"))","v":""},{"$f":"IF(AND(B31>0,AP31=\"\"),\" * No olvide digitar la variable Migrantes. Digite Cero si no tiene.\",IF(AP31>B31,\" * La variable Migrantes No puede ser mayor al Total.\",\"\"))","v":""},{"$f":"IF(AND(B31>0,AQ31=\"\"),\" * No olvide digitar la variable Espacios Amigables. Digite Cero si no tiene.\",IF(AQ31>B31,\" * La variable Espacios Amigables No puede ser mayor al Total.\",\"\"))","v":""},{"$f":"IF(AND(B31>0,AR31=\"\"),\" * No olvide digitar la variable Niños, Niñas, Adolescentes y Jóvenes SENAME. Digite Cero si no tiene.\",IF(AR31>B31,\" * La variable Niños, Niñas, Adolescentes y Jóvenes SENAME No puede ser mayor al Total.\",\"\"))","v":""},{"$f":"IF(AND(B31>0,AS31=\"\"),\" * No olvide digitar la variable Niños, Niñas, Adolescentes y Jóvenes Mejor Niñez. Digite Cero si no tiene.\",IF(AS31>B31,\" * La variable Niños, Niñas, Adolescentes y Jóvenes Mejor Niñez No puede ser mayor al Total.\",\"\"))","v":""},null,{"$f":"IF(AND(B31>0,AO31=\"\"),1,IF(AO31>B31,1,0))","v":0},{"$f":"IF(AND(B31>0,AP31=\"\"),1,IF(AP31>B31,1,0))","v":0},{"$f":"IF(AND(B31>0,AQ31=\"\"),1,IF(AQ31>B31,1,0))","v":0},{"$f":"IF(AND(B31>0,AR31=\"\"),1,IF(AR31>B31,1,0))","v":0},{"$f":"IF(AND(B31>0,AS31=\"\"),1,IF(AS31>B31,1,0))","v":0}]
["Matrona/ón (Morb. Ginecológica)",0,0,0,null,null,null,null,null,null,null,null,null,null,null,null,null,null,null,null,null,null,null,null,null,null,null,null,null,null,null,null,null,null,null,null,null,null,null,null,null,null,null,null,null,{"$f":"BO32&BP32&BQ32&BR32&BS32","v":""},null,null,null,null,null,null,null,null,null,null,null,null,null,null,null,null,null,null,null,null,{"$f":"IF(AND(B32>0,AO32=\"\"),\" * No olvide digitar la variable Pueblos originarios. Digite Cero si no tiene.\",IF(AO32>B32,\" * La variable Pueblos originarios No puede ser mayor al Total.\",\"\"))","v":""},{"$f":"IF(AND(B32>0,AP32=\"\"),\" * No olvide digitar la variable Migrantes. Digite Cero si no tiene.\",IF(AP32>B32,\" * La variable Migrantes No puede ser mayor al Total.\",\"\"))","v":""},{"$f":"IF(AND(B32>0,AQ32=\"\"),\" * No olvide digitar la variable Espacios Amigables. Digite Cero si no tiene.\",IF(AQ32>B32,\" * La variable Espacios Amigables No puede ser mayor al Total.\",\"\"))","v":""},{"$f":"IF(AND(B32>0,AR32=\"\"),\" * No olvide digitar la variable Niños, Niñas, Adolescentes y Jóvenes SENAME. Digite Cero si no tiene.\",IF(AR32>B32,\" * La variable Niños, Niñas, Adolescentes y Jóvenes SENAME No puede ser mayor al Total.\",\"\"))","v":""},{"$f":"IF(AND(B32>0,AS32=\"\"),\" * No olvide digitar la variable Niños, Niñas, Adolescentes y Jóvenes Mejor Niñez. Digite Cero si no tiene.\",IF(AS32>B32,\" * La variable Niños, Niñas, Adolescentes y Jóvenes Mejor Niñez No puede ser mayor al Total.\",\"\"))","v":""},null,{"$f":"IF(AND(B32>0,AO32=\"\"),1,IF(AO32>B32,1,0))","v":0},{"$f":"IF(AND(B32>0,AP32=\"\"),1,IF(AP32>B32,1,0))","v":0},{"$f":"IF(AND(B32>0,AQ32=\"\"),1,IF(AQ32>B32,1,0))","v":0},{"$f":"IF(AND(B32>0,AR32=\"\"),1,IF(AR32>B32,1,0))","v":0},{"$f":"IF(AND(B32>0,AS32=\"\"),1,IF(AS32>B32,1,0))","v":0}]
["Matrona/ón (ITS)",0,0,0,null,null,null,null,null,null,null,null,null,null,null,null,null,null,null,null,null,null,null,null,null,null,null,null,null,null,null,null,null,null,null,null,null,null,null,null,null,null,null,null,null,"",null,null,null,null,null,null,null,null,null,null,null,null,null,null,null,null,null,null,null,null,"","","","","",null,0,0,0,0,0]
["Matrona/ón (Infertilidad) ",0,{"$f":"SUM(O34+Q34+S34+U34+W34+Y34+AA34)","v":0},{"$f":"SUM(P34+R34+T34+V34+X34+Z34+AB34)","v":0},null,null,null,null,null,null,null,null,null,null,null,null,null,null,null,null,null,null,null,null,null,null,null,null,null,null,null,null,null,null,null,null,null,null,null,null,null,null,null,null,null,"",null,null,null,null,null,null,null,null,null,null,null,null,null,null,null,null,null,null,null,null,"","",{"$f":"IF(AND(B34>0,AQ34=\"\"),\" * No olvide digitar la variable Espacios Amigables. Digite Cero si no tiene.\",IF(AQ34>B34,\" * La variable Espacios Amigables No puede ser mayor al Total.\",\"\"))","v":""},{"$f":"IF(AND(B34>0,AR34=\"\"),\" * No olvide digitar la variable Niños, Niñas, Adolescentes y Jóvenes SENAME. Digite Cero si no tiene.\",IF(AR34>B34,\" * La variable Niños, Niñas, Adolescentes y Jóvenes SENAME No puede ser mayor al Total.\",\"\"))","v":""},{"$f":"IF(AND(B34>0,AS34=\"\"),\" * No olvide digitar la variable Niños, Niñas, Adolescentes y Jóvenes Mejor Niñez. Digite Cero si no tiene.\",IF(AS34>B34,\" * La variable Niños, Niñas, Adolescentes y Jóvenes Mejor Niñez No puede ser mayor al Total.\",\"\"))","v":""},null,0,0,{"$f":"IF(AND(B34>0,AQ34=\"\"),1,IF(AQ34>B34,1,0))","v":0},{"$f":"IF(AND(B34>0,AR34=\"\"),1,IF(AR34>B34,1,0))","v":0},{"$f":"IF(AND(B34>0,AS34=\"\"),1,IF(AS34>B34,1,0))","v":0}]
["Matrona/ón (Otras consultas) ",{"$f":"SUM(C35:D35)","v":0},{"$f":"SUM(E35+G35+I35+K35+M35+O35+Q35+S35+U35+W35+Y35+AA35+AC35+AE35+AG35+AI35+AK35+AM35)","v":0},{"$f":"SUM(F35+H35+J35+L35+N35+P35+R35+T35+V35+X35+Z35+AB35+AD35+AF35+AH35+AJ35+AL35+AN35)","v":0},null,null,null,null,null,null,null,null,null,null,null,null,null,null,null,null,null,null,null,null,null,null,null,null,null,null,null,null,null,null,null,null,null,null,null,null,null,null,null,null,null,"",null,null,null,null,null,null,null,null,null,null,null,null,null,null,null,null,null,null,null,null,"","","","","",null,0,0,0,0,0]
["Matrona/ón (Salud sexual) ",{"$f":"SUM(C36:D36)","v":0},{"$f":"SUM(K36+M36+O36+Q36+S36+U36+W36+Y36+AA36+AC36+AE36+AG36+AI36+AK36+AM36)","v":0},{"$f":"SUM(L36+N36+P36+R36+T36+V36+X36+Z36+AB36+AD36+AF36+AH36+AJ36+AL36+AN36)","v":0},null,null,null,null,null,null,null,null,null,null,null,null,null,null,null,null,null,null,null,null,null,null,null,null,null,null,null,null,null,null,null,null,null,null,null,null,null,null,null,null,null,"",null,null,null,null,null,null,null,null,null,null,null,null,null,null,null,null,null,null,null,null,"","","","","",null,0,0,0,0,0]
["Matrona/ón (Piso pélvico) ",{"$f":"SUM(C37:D37)","v":0},{"$f":"SUM(K37+M37+O37+Q37+S37+U37+W37+Y37+AA37+AC37+AE37+AG37+AI37+AK37+AM37)","v":0},{"$f":"SUM(L37+N37+P37+R37+T37+V37+X37+Z37+AB37+AD37+AF37+AH37+AJ37+AL37+AN37)","v":0},null,null,null,null,null,null,null,null,null,null,null,null,null,null,null,null,null,null,null,null,null,null,null,null,null,null,null,null,null,null,null,null,null,null,null,null,null,null,null,null,null,"",null,null,null,null,null,null,null,null,null,null,null,null,null,null,null,null,null,null,null,null,"","","","","",null,0,0,0,0,0]
["Nutricionista (Otras consultas) ",0,{"$f":"SUM(E38+G38+I38+K38+M38+O38+Q38+S38+U38+W38+Y38+AA38+AC38+AE38+AG38+AI38+AK38+AM38)","v":0},0,null,null,null,null,null,null,null,null,null,null,null,null,null,null,null,null,null,null,null,null,null,null,null,null,null,null,null,null,null,null,null,null,null,null,null,null,null,null,null,null,null,"",null,null,null,null,null,null,null,null,null,null,null,null,null,null,null,null,null,null,null,null,"","","","","",null,0,0,0,0,0]
["Nutricionista malnutrición por exceso ",{"$f":"SUM(C39:D39)","v":0},{"$f":"SUM(E39+G39+I39+K39+M39+O39+Q39+S39+U39+W39+Y39+AA39+AC39+AE39+AG39+AI39+AK39+AM39)","v":0},{"$f":"SUM(F39+H39+J39+L39+N39+P39+R39+T39+V39+X39+Z39+AB39+AD39+AF39+AH39+AJ39+AL39+AN39)","v":0},null,null,null,null,null,null,null,null,null,null,null,null,null,null,null,null,null,null,null,null,null,null,null,null,null,null,null,null,null,null,null,null,null,null,null,null,null,null,null,null,null,"",null,null,null,null,null,null,null,null,null,null,null,null,null,null,null,null,null,null,null,null,"","","","","",null,0,0,0,0,0]
["Nutricionista malnutrición por déficit ",{"$f":"SUM(C40:D40)","v":0},{"$f":"SUM(E40+G40+I40+K40+M40+O40+Q40+S40+U40+W40+Y40+AA40+AC40+AE40+AG40+AI40+AK40+AM40)","v":0},{"$f":"SUM(F40+H40+J40+L40+N40+P40+R40+T40+V40+X40+Z40+AB40+AD40+AF40+AH40+AJ40+AL40+AN40)","v":0},null,null,null,null,null,null,null,null,null,null,null,null,null,null,null,null,null,null,null,null,null,null,null,null,null,null,null,null,null,null,null,null,null,null,null,null,null,null,null,null,null,"",null,null,null,null,null,null,null,null,null,null,null,null,null,null,null,null,null,null,null,null,"","","","","",null,0,0,0,0,0]
["Psicólogo/a ",0,0,0,null,null,null,null,null,null,null,null,null,null,null,null,null,null,null,null,null,null,null,null,null,null,null,null,null,null,null,null,null,null,null,null,null,null,null,null,null,null,null,null,null,"",null,null,null,null,null,null,null,null,null,null,null,null,null,null,null,null,null,null,null,null,"","","","","",null,0,0,0,0,0]
["Fonoaudiólogo/a",0,0,0,null,null,null,null,null,null,null,null,null,null,null,null,null,null,null,null,null,null,null,null,null,null,null,null,null,null,null,null,null,null,null,null,null,null,null,null,null,null,null,null,null,"",null,null,null,null,null,null,null,null,null,null,null,null,null,null,null,null,null,null,null,null,"","","","","",null,0,0,0,0,0]
["Terapeuta Ocupacional ",0,0,0,null,null,null,null,null,null,null,null,null,null,null,null,null,null,null,null,null,null,null,null,null,null,null,null,null,null,null,null,null,null,null,null,null,null,null,null,null,null,null,null,null,"",null,null,null,null,null,null,null,null,null,null,null,null,null,null,null,null,null,null,null,null,"","","","","",null,0,0,0,0,0]
["Tecnólogo/a Médico/a  (Excluye UAPO)",0,0,0,null,null,null,null,null,null,null,null,null,null,null,null,null,null,null,null,null,null,null,null,null,null,null,null,null,null,null,null,null,null,null,null,null,null,null,null,null,null,null,null,null,"",null,null,null,null,null,null,null,null,null,null,null,null,null,null,null,null,null,null,null,null,"","","","","",null,0,0,0,0,0]
["Trabajador/a Social (Excluye Salud Mental) ",0,0,0,null,null,null,null,null,null,null,null,null,null,null,null,null,null,null,null,null,null,null,null,null,null,null,null,null,null,null,null,null,null,null,null,null,null,null,null,null,null,null,null,null,"",null,null,null,null,null,null,null,null,null,null,null,null,null,null,null,null,null,null,null,null,"","","","","",null,0,0,0,0,0]
["Educadora de Párvulos",{"$f":"SUM(C46:D46)","v":0},{"$f":"SUM(E46+G46+I46+K46+M46+O46+Q46+S46+U46+W46+Y46+AA46+AC46+AE46+AG46+AI46+AK46+AM46)","v":0},0,null,null,null,null,null,null,null,null,null,null,null,null,null,null,null,null,null,null,null,null,null,null,null,null,null,null,null,null,null,null,null,null,null,null,null,null,null,null,null,null,null,"",null,null,null,null,null,null,null,null,null,null,null,null,null,null,null,null,null,null,null,null,"","","","","",null,0,0,0,0,0]
["SECCIÓN C: CONSULTAS ANTICONCEPCIÓN DE EMERGENCIA (Incluidas en Sección A o B, respectivamente.)"]
["PROFESIONAL","TOTAL      ","Con entrega anticoncepción emergencia",null,null,null,"Sin entrega anticoncepción emergencia",null,null,null,"Pueblos Originarios","Migrantes","Espacios Amigables/ Adolescentes"]
[null,null,"10 - 14 años","15 - 19 años","20 - 24 años","25 y más años","10 - 14 años","15 - 19 años","20 - 24 años","25 y más años"]
["Médico/a",{"$f":"SUM(C50:J50)","v":0},null,null,null,null,null,null,null,null,null,null,null,{"$f":"BO50&BP50&BQ50","v":""},null,null,null,null,null,null,null,null,null,null,null,null,null,null,null,null,null,null,null,null,null,null,null,null,null,null,null,null,null,null,null,null,null,null,null,null,null,null,null,null,null,null,null,null,null,null,null,null,null,null,null,null,{"$f":"IF(AND(B50>0,K50=\"\"),\"  * No olvide digitar la variable Pueblos originarios. Digite Cero si no tiene.\",IF(K50>B50,\"  * La variable Pueblos originarios No puede ser mayor al Total.\",\"\"))","v":""},{"$f":"IF(AND(B50>0,L50=\"\"),\"  * No olvide digitar la variable Migrantes. Digite Cero si no tiene.\",IF(L50>B50,\"  * La variable Migrantes No puede ser mayor al Total.\",\"\"))","v":""},{"$f":"IF(AND(B50>0,M50=\"\"),\"  * No olvide digitar la variable Espacios Amigables/Adolescentes. Digite Cero si no tiene.\",IF(M50>B50,\"  * La variable Espacios Amigables/Adolescentes No puede ser mayor al Total.\",\"\"))","v":""},null,null,null,{"$f":"IF(AND(B50>0,K50=\"\"),1,IF(K50>B50,1,0))","v":0},{"$f":"IF(AND(B50>0,L50=\"\"),1,IF(L50>B50,1,0))","v":0},{"$f":"IF(AND(B50>0,M50=\"\"),1,IF(M50>B50,1,0))","v":0}]
["Matrona/ón",{"$f":"SUM(C51:J51)","v":0},null,null,null,null,null,null,null,null,null,null,null,{"$f":"BO51&BP51&BQ51","v":""},null,null,null,null,null,null,null,null,null,null,null,null,null,null,null,null,null,null,null,null,null,null,null,null,null,null,null,null,null,null,null,null,null,null,null,null,null,null,null,null,null,null,null,null,null,null,null,null,null,null,null,null,{"$f":"IF(AND(B51>0,K51=\"\"),\"  * No olvide digitar la variable Pueblos originarios. Digite Cero si no tiene.\",IF(K51>B51,\"  * La variable Pueblos originarios No puede ser mayor al Total.\",\"\"))","v":""},{"$f":"IF(AND(B51>0,L51=\"\"),\"  * No olvide digitar la variable Migrantes. Digite Cero si no tiene.\",IF(L51>B51,\"  * La variable Migrantes No puede ser mayor al Total.\",\"\"))","v":""},{"$f":"IF(AND(B51>0,M51=\"\"),\"  * No olvide digitar la variable Espacios Amigables/Adolescentes. Digite Cero si no tiene.\",IF(M51>B51,\"  * La variable Espacios Amigables/Adolescentes No puede ser mayor al Total.\",\"\"))","v":""},null,null,null,{"$f":"IF(AND(B51>0,K51=\"\"),1,IF(K51>B51,1,0))","v":0},{"$f":"IF(AND(B51>0,L51=\"\"),1,IF(L51>B51,1,0))","v":0},{"$f":"IF(AND(B51>0,M51=\"\"),1,IF(M51>B51,1,0))","v":0}]
["SECCIÓN D: CONSULTAS EN HORARIO CONTINUADO (Incluidas en las consultas de morbilidad de sección A o B)"]
["TIPO JORNADA","TOTAL",null,null,"RANGO ETARIO",null,null,null,null,null,null,null,null,null,null,null,null,null,null,null,null,null,"Pueblos Originarios","Migrantes"]
[null,null,null,null,"Menos de 1 año","1 - 4 años","5 - 9 años","10 - 14 años","15 - 19 años","20 - 24 años","25 - 29 años","30 - 34 años","35 - 39 años","40 - 44 años","45 - 49 años","50 - 54 años","55 - 59 años","60 - 64 años","65 - 69 años","70 - 74 años","75 - 79 años","80 y mas años"]
[null,"Ambos Sexos","Hombres","Mujeres"]
["Horario continuado ",{"$f":"SUM(B57:B58)","v":0},{"$f":"SUM(C57:C58)","v":0},{"$f":"SUM(D57:D58)","v":0},0,0,0,0,0,0,0,0,0,0,0,0,0,0,0,0,0,0,{"$f":"SUM(W57:W58)","v":0},{"$f":"SUM(X57:X58)","v":0}]
["Médico/a",{"$f":"SUM(C57:D57)","v":0},null,null,null,null,null,null,null,null,null,null,null,null,null,null,null,null,null,null,null,null,null,null,{"$f":"BO57&BP57&BQ57","v":""},null,null,null,null,null,null,null,null,null,null,null,null,null,null,null,null,null,null,null,null,null,null,null,null,null,null,null,null,null,null,null,null,null,null,null,null,null,null,null,null,null,{"$f":"IF(AND(B57>0,W57=\"\"),\" * No olvide digitar la variable Pueblos originarios. Digite Cero si no tiene.\",IF(W57>B57,\"  * La variable Pueblos originarios No puede ser mayor al Total.\",\"\"))","v":""},{"$f":"IF(AND(B57>0,X57=\"\"),\" * No olvide digitar la variable Migrantes. Digite Cero si no tiene.\",IF(X57>B57,\"  * La variable Migrantes No puede ser mayor al Total.\",\"\"))","v":""},{"$f":"IF((C57+D57)<>SUM(E57:V57),\" * Los datos desglosados por edad debe ser igual al total de ambos sexos.\",\"\")","v":""},null,null,null,{"$f":"IF(AND(B57>0,W57=\"\"),1,IF(W57>B57,1,0))","v":0},{"$f":"IF(AND(B57>0,X57=\"\"),1,IF(X57>B57,1,0))","v":0},{"$f":"IF((C57+D57)<>SUM(E57:V57),1,0)","v":0}]
["Otros Profesionales ",{"$f":"SUM(C58:D58)","v":0},null,null,null,null,null,null,null,null,null,null,null,null,null,null,null,null,null,null,null,null,null,null,{"$f":"BO58&BP58&BQ58","v":""},null,null,null,null,null,null,null,null,null,null,null,null,null,null,null,null,null,null,null,null,null,null,null,null,null,null,null,null,null,null,null,null,null,null,null,null,null,null,null,null,null,{"$f":"IF(AND(B58>0,W58=\"\"),\" * No olvide digitar la variable Pueblos originarios. Digite Cero si no tiene.\",IF(W58>B58,\"  * La variable Pueblos originarios No puede ser mayor al Total.\",\"\"))","v":""},{"$f":"IF(AND(B58>0,X58=\"\"),\" * No olvide digitar la variable Migrantes. Digite Cero si no tiene.\",IF(X58>B58,\"  * La variable Migrantes No puede ser mayor al Total.\",\"\"))","v":""},{"$f":"IF((C58+D58)<>SUM(E58:V58),\" * Los datos desglosados por edad debe ser igual al total de ambos sexos.\",\"\")","v":""},null,null,null,{"$f":"IF(AND(B58>0,W58=\"\"),1,IF(W58>B58,1,0))","v":0},{"$f":"IF(AND(B58>0,X58=\"\"),1,IF(X58>B58,1,0))","v":0},{"$f":"IF((C58+D58)<>SUM(E58:V58),1,0)","v":0}]
["Sábado, Domingo o festivo ",{"$f":"SUM(B60:B61)","v":0},{"$f":"SUM(C60:C61)","v":0},{"$f":"SUM(D60:D61)","v":0},0,0,0,0,0,0,0,0,0,0,0,0,0,0,0,0,0,0,{"$f":"SUM(W60:W61)","v":0},{"$f":"SUM(X60:X61)","v":0}]
["Médico/a",{"$f":"SUM(C60:D60)","v":0},null,null,null,null,null,null,null,null,null,null,null,null,null,null,null,null,null,null,null,null,null,null,{"$f":"BO60&BP60&BQ60","v":""},null,null,null,null,null,null,null,null,null,null,null,null,null,null,null,null,null,null,null,null,null,null,null,null,null,null,null,null,null,null,null,null,null,null,null,null,null,null,null,null,null,{"$f":"IF(AND(B60>0,W60=\"\"),\" * No olvide digitar la variable Pueblos originarios. Digite Cero si no tiene.\",IF(W60>B60,\"  * La variable Pueblos originarios No puede ser mayor al Total.\",\"\"))","v":""},{"$f":"IF(AND(B60>0,X60=\"\"),\" * No olvide digitar la variable Migrantes. Digite Cero si no tiene.\",IF(X60>B60,\"  * La variable Migrantes No puede ser mayor al Total.\",\"\"))","v":""},{"$f":"IF((C60+D60)<>SUM(E60:V60),\" * Los datos desglosados por edad debe ser igual al total de ambos sexos.\",\"\")","v":""},null,null,null,{"$f":"IF(AND(B60>0,W60=\"\"),1,IF(W60>B60,1,0))","v":0},{"$f":"IF(AND(B60>0,X60=\"\"),1,IF(X60>B60,1,0))","v":0},{"$f":"IF((C60+D60)<>SUM(E60:V60),1,0)","v":0}]
["Otros Profesionales ",{"$f":"SUM(C61:D61)","v":0},null,null,null,null,null,null,null,null,null,null,null,null,null,null,null,null,null,null,null,null,null,null,"",null,null,null,null,null,null,null,null,null,null,null,null,null,null,null,null,null,null,null,null,null,null,null,null,null,null,null,null,null,null,null,null,null,null,null,null,null,null,null,null,null,"","",{"$f":"IF((C61+D61)<>SUM(E61:V61),\" * Los datos desglosados por edad debe ser igual al total de ambos sexos.\",\"\")","v":""},null,null,null,0,0,0]
["SECCIÓN E: CONSULTA  ABREVIADA"]
["PROFESIONAL","TOTAL"]
["Médico/a"]
["Matrona/ón"]
["SECCIÓN F: CONSULTA ABREVIADA PROFESIONALES NO MÉDICOS PRAIS"]
["PROFESIONAL","TOTAL"]
["Trabajador/a Social "]
["Psicólogo/a"]
["Enfermera/o"]
["Kinesiólogo/a"]
["Terapeuta Ocupacional "]
["Técnico en Enfermería "]
["Gestor Comunitario"]
["Otro Profesional"]
["SECCIÓN G: ATENCIONES DE SANADORES INDÍGENA"]
["COMPONENTE","TOTAL","RANGO ETARIO",null,null,null,null,null,null,null,null,null,null,null,null,null,null,null,null,"Pueblos Originarios","Pueblos No Originarios"]
[null,null,"0 - 4 años","5 - 9  años","10 - 14 años","15 - 19 años","20 - 24 años","25 - 29 años","30 - 34 años","35 - 39 años","40 - 44 años","45 - 49 años","50 - 54 años","55 - 59 años","60 - 64 años","65 - 69 años","70 - 74 años","75 - 79 años","80 y mas años"]
["Atenciones por sanadores de Medicina Indígena ",{"$f":"SUM(C79:S79)","v":0},null,null,null,null,null,null,null,null,null,null,null,null,null,null,null,null,null,null,null,{"$f":"BO79&BP79","v":""},null,null,null,null,null,null,null,null,null,null,null,null,null,null,null,null,null,null,null,null,null,null,null,null,null,null,null,null,null,null,null,null,null,null,null,null,null,null,null,null,null,null,null,null,{"$f":"IF(AND(B79>0,T79=\"\"),\"  * No olvide digitar la variable Pueblos originarios. Digite Cero si no tiene.\",IF(T79>B79,\"  * La variable Pueblos originarios No puede ser mayor al Total.\",\"\"))","v":""},{"$f":"IF(AND(B79>0,U79=\"\"),\"  * No olvide digitar la variable Pueblos No originarios. Digite Cero si no tiene.\",IF(U79>B79,\"  * La variable Pueblos No originarios No puede ser mayor al Total.\",\"\"))","v":""},null,null,null,null,{"$f":"IF(AND(B79>0,T79=\"\"),1,IF(T79>B79,1,0))","v":0},{"$f":"IF(AND(B79>0,U79=\"\"),1,IF(U79>B79,1,0))","v":0}]
["SECCIÓN H: INTERVENCIÓN INDIVIDUAL DEL USUARIO EN PROGRAMA ELIGE VIDA SANA"]
["PROFESIONAL","PRESTACIÓN","TOTAL",null,null,"RANGO ETARIO Y SEXO",null,null,null,null,null,null,null,null,null,null,null,null,null,null,null,null,null,null,null,null,null,null,null,null,null,null,null,null,null,"Gestantes","Post Parto","Pueblos Originarios","Migrantes","Espacios Amigables/ Adolescentes"]
[null,null,null,null,null,"Menos de 2 años",null,"2 - 4 años",null,"5 - 9 años",null,"10 - 14 años",null,"15 - 18 años",null,"19 años",null,"20 - 24 años",null,"25 - 29 años",null,"30 - 34 años",null,"35 - 39 años",null,"40 - 44 años",null,"45 - 49 años",null,"50 - 54 años",null,"55 - 59 años",null,"60 - 64 años"]
[null,null,"Ambos Sexos","Hombres","Mujeres","Hombres","Mujeres","Hombres","Mujeres","Hombres","Mujeres","Hombres","Mujeres","Hombres","Mujeres","Hombres","Mujeres","Hombres","Mujeres","Hombres","Mujeres","Hombres","Mujeres","Hombres","Mujeres","Hombres","Mujeres","Hombres","Mujeres","Hombres","Mujeres","Hombres","Mujeres","Hombres","Mujeres"]
["Profesional de la actividad física ","Evaluación ",{"$f":"SUM(D84:E84)","v":0},{"$f":"SUM(F84,H84,J84,L84,N84,P84,R84,T84,V84,X84,Z84,AB84,AD84,AF84,AH84)","v":0},{"$f":"SUM(G84,I84,K84,M84,O84,Q84,S84,U84,W84,Y84,AA84,AC84,AE84,AG84,AI84)","v":0},null,null,null,null,null,null,null,null,null,null,null,null,null,null,null,null,null,null,null,null,null,null,null,null,null,null,null,null,null,null,null,null,null,null,null,{"$f":"BO84&BP84&BQ84&BR84&BS84","v":""},null,null,null,null,null,null,null,null,null,null,null,null,null,null,null,null,null,null,null,null,null,null,null,null,null,{"$f":"IF(AND(E84>0,AJ84=\"\"),\" *  No olvide digitar la variable Gestantes. Digite Cero si no tiene.\",IF(AJ84>E84,\"  * La variable Gestantes No puede ser mayor al Total Mujeres.\",\"\"))","v":""},{"$f":"IF(AND(E84>0,AK84=\"\"),\" *  No olvide digitar la variable Postparto. Digite Cero si no tiene.\",IF(AK84>E84,\"  * La variable Postparto No puede ser mayor al Total Mujeres.\",\"\"))","v":""},{"$f":"IF(AND(C84>0,AL84=\"\"),\" *  No olvide digitar la variable Pueblos originarios. Digite Cero si no tiene.\",IF(AL84>C84,\"  * La variable Pueblos originarios No puede ser mayor al Total.\",\"\"))","v":""},{"$f":"IF(AND(C84>0,AM84=\"\"),\" *  No olvide digitar la variable Migrantes. Digite Cero si no tiene.\",IF(AM84>C84,\"  * La variable Migrantes No puede ser mayor al Total.\",\"\"))","v":""},{"$f":"IF(AND(C84>0,AN84=\"\"),\" *  No olvide digitar la variable Espacios Amigables/adolescentes. Digite Cero si no tiene.\",IF(AN84>C84,\"  * La variable Espacios Amigables/adolescentes No puede ser mayor al Total.\",\"\"))","v":""},null,{"$f":"IF(AND(E84>0,AJ84=\"\"),1,IF(AJ84>E84,1,0))","v":0},{"$f":"IF(AND(E84>0,AK84=\"\"),1,IF(AK84>E84,1,0))","v":0},{"$f":"IF(AND(C84>0,AL84=\"\"),1,IF(AL84>C84,1,0))","v":0},{"$f":"IF(AND(C84>0,AM84=\"\"),1,IF(AM84>C84,1,0))","v":0},{"$f":"IF(AND(C84>0,AN84=\"\"),1,IF(AN84>C84,1,0))","v":0}]
["Nutricionista ","Consulta Nutricional ",{"$f":"SUM(D85:E85)","v":0},{"$f":"SUM(F85,H85,J85,L85,N85,P85,R85,T85,V85,X85,Z85,AB85,AD85,AF85,AH85)","v":0},0,null,null,null,null,null,null,null,null,null,null,null,null,null,null,null,null,null,null,null,null,null,null,null,null,null,null,null,null,null,null,null,null,null,null,null,{"$f":"BO85&BP85&BQ85&BR85&BS85","v":""},null,null,null,null,null,null,null,null,null,null,null,null,null,null,null,null,null,null,null,null,null,null,null,null,null,{"$f":"IF(AND(E85>0,AJ85=\"\"),\" *  No olvide digitar la variable Gestantes. Digite Cero si no tiene.\",IF(AJ85>E85,\"  * La variable Gestantes No puede ser mayor al Total Mujeres.\",\"\"))","v":""},{"$f":"IF(AND(E85>0,AK85=\"\"),\" *  No olvide digitar la variable Postparto. Digite Cero si no tiene.\",IF(AK85>E85,\"  * La variable Postparto No puede ser mayor al Total Mujeres.\",\"\"))","v":""},{"$f":"IF(AND(C85>0,AL85=\"\"),\" *  No olvide digitar la variable Pueblos originarios. Digite Cero si no tiene.\",IF(AL85>C85,\"  * La variable Pueblos originarios No puede ser mayor al Total.\",\"\"))","v":""},{"$f":"IF(AND(C85>0,AM85=\"\"),\" *  No olvide digitar la variable Migrantes. Digite Cero si no tiene.\",IF(AM85>C85,\"  * La variable Migrantes No puede ser mayor al Total.\",\"\"))","v":""},{"$f":"IF(AND(C85>0,AN85=\"\"),\" *  No olvide digitar la variable Espacios Amigables/adolescentes. Digite Cero si no tiene.\",IF(AN85>C85,\"  * La variable Espacios Amigables/adolescentes No puede ser mayor al Total.\",\"\"))","v":""},null,{"$f":"IF(AND(E85>0,AJ85=\"\"),1,IF(AJ85>E85,1,0))","v":0},{"$f":"IF(AND(E85>0,AK85=\"\"),1,IF(AK85>E85,1,0))","v":0},{"$f":"IF(AND(C85>0,AL85=\"\"),1,IF(AL85>C85,1,0))","v":0},{"$f":"IF(AND(C85>0,AM85=\"\"),1,IF(AM85>C85,1,0))","v":0},{"$f":"IF(AND(C85>0,AN85=\"\"),1,IF(AN85>C85,1,0))","v":0}]
[null,"Consulta Nutricional de seguimiento ",{"$f":"SUM(D86:E86)","v":0},0,0,null,null,null,null,null,null,null,null,null,null,null,null,null,null,null,null,null,null,null,null,null,null,null,null,null,null,null,null,null,null,null,null,null,null,null,"",null,null,null,null,null,null,null,null,null,null,null,null,null,null,null,null,null,null,null,null,null,null,null,null,null,"","","","","",null,0,0,0,0,0]
["Psicólogo/a ","Consulta ",{"$f":"SUM(D87:E87)","v":0},0,0,null,null,null,null,null,null,null,null,null,null,null,null,null,null,null,null,null,null,null,null,null,null,null,null,null,null,null,null,null,null,null,null,null,null,null,"",null,null,null,null,null,null,null,null,null,null,null,null,null,null,null,null,null,null,null,null,null,null,null,null,null,"","","","","",null,0,0,0,0,0]
["SECCIÓN I: SERVICIOS FARMACÉUTICOS"]
["COMPONENTE","TOTAL","Atención abierta","Atención cerrada","Servicios Farmacéuticos realizados en establecimientos de salud ","Servicios Farmacéuticos realizados en domicilio "]
[]
["Atención Farmacéutica "]
["Revisión de la medicación sin entrevista ",{"$f":"SUM(C92:D92)","v":0}]
["Revisión de la mediación con entrevista ",{"$f":"SUM(C93:D93)","v":0}]
["Conciliación farmacéutica ",{"$f":"SUM(C94:D94)","v":0}]
["Educación farmacéutica ",{"$f":"SUM(C95:D95)","v":0}]
["Seguimiento Farmacoterapéutico ",{"$f":"SUM(C96:D96)","v":0}]
["Farmacovigilancia "]
["Reporte reacción adversa a medicamentos ",{"$f":"SUM(C98:D98)","v":0}]
["Reporte falla de calidad ",{"$f":"SUM(C99:D99)","v":0}]
["Reporte de eventos adversos asociados a medicamentos ",{"$f":"SUM(C100:D100)","v":0}]
["SECCIÓN J: DESPACHO DE RECETAS DE PACIENTES AMBULATORIOS"]
["TIPO DE RECETA","Recetas Despachadas",null,null,"Lugar de entrega",null,"Prescripciones",null,"Coordinación Territorial ",null,"Recetas despachadas con oportunidad (Entregado el mismo día)","Recetas despachadas a pacientes del Programa de Salud Cardiovascular ",null,null,"Prescripciones a pacientes del Programa de Salud Cardiovascular ",null,"Unidades de Urgencia/Emergencia"]
[]
[null,"DESPACHO TOTAL","Despacho Completo","Despacho Parcial ","En Centro de Salud","En Domicilio","Emitidas","Rechazadas","En Centro de Salud","En Domicilio",null,"Despacho Completo y Oportuno","Despacho Completo","Despacho\nParcial","Emitidas","Rechazadas","Recetas despachadas","Prescripciones despachadas"]
["Crónica",{"$f":"SUM(C105:D105)","v":0}]
["Morbilidad",{"$f":"SUM(C106:D106)","v":0}]
["Bajo control legal",{"$f":"SUM(C107:D107)","v":0}]
["TOTAL",{"$f":"SUM(C108:D108)","v":0},{"$f":"SUM(C105:C107)","v":0},0,0,0,0,0,0,0,0,{"$f":"SUM(L105)","v":0},{"$f":"+M105","v":0},{"$f":"+N105","v":0},{"$f":"+O105","v":0},{"$f":"+P105","v":0},{"$f":"SUM(Q106:Q107)","v":0},{"$f":"SUM(R106:R107)","v":0}]
["SECCIÓN K: RONDAS POR TIPO Y PROFESIONAL"]
["TIPO DE RONDA","Nº Rondas","Total de profesionales que participaron en Rondas, según tipo de Profesional ",null,null,null,null,null,null,null,null,null,"Compra de Servicio - Nº Traslados profesionales en Ronda"]
[null,null,"Médico/a","Odontólogo","Enfermera/o","Matrona/ón","Nutricionista","Técnico en Enfermería ","Trabajador Social","Psicólogo","Químico Farmacéutico","Otros"]
["Terrestre"]
["Aérea"]
["Marítima"]
["SECCIÓN L: CLASIFICACIÓN DE CONSULTA NUTRICIONAL POR GRUPO DE EDAD (Incluidas en sección B)"]
["CLASIFICACIÓN","TOTAL      ",null,null,"RANGO ETARIO Y SEXO",null,null,null,null,null,null,null,null,null,null,null,null,null,null,null,null,null,null,null,null,null,null,null,null,null,null,null,null,null,null,null,null,null,null,null,"Beneficiarios","Embarazadas","Niños, Niñas, Adolescentes y Jóvenes SENAME","Niños, Niñas, Adolescentes y Jóvenes Mejor Niñez"]
[null,null,null,null,"Menos de 1 año",null,"1 - 4 años",null,"5 - 9 años",null,"10 - 14 años",null,"15 - 19 años",null,"20 - 24 años",null,"25 - 29 años",null,"30 - 34 años",null,"35 - 39 años",null,"40 - 44 años",null,"45 - 49 años",null,"50 - 54 años",null,"55 - 59 años",null,"60 - 64 años",null,"65 - 69 años",null,"70 - 74 años",null,"75 - 79 años",null,"80 y mas años"]
[null,"Ambos Sexos","Hombres","Mujeres","Hombres","Mujeres","Hombres","Mujeres","Hombres","Mujeres","Hombres","Mujeres","Hombres","Mujeres","Hombres","Mujeres","Hombres","Mujeres","Hombres","Mujeres","Hombres","Mujeres","Hombres","Mujeres","Hombres","Mujeres","Hombres","Mujeres","Hombres","Mujeres","Hombres","Mujeres","Hombres","Mujeres","Hombres","Mujeres","Hombres","Mujeres","Hombres","Mujeres"]
["Mal nutrición por riesgo a desnutrir/riesgo bajo peso ",{"$f":"SUM(C119:D119)","v":0},{"$f":"SUM(E119+G119+I119+K119+M119+O119+Q119+S119+U119+W119+Y119+AA119+AC119+AE119+AG119+AI119+AK119+AM119)","v":0},{"$f":"SUM(F119+H119+J119+L119+N119+P119+R119+T119+V119+X119+Z119+AB119+AD119+AF119+AH119+AJ119+AL119+AN119)","v":0},null,null,null,null,null,null,null,null,null,null,null,null,null,null,null,null,null,null,null,null,null,null,null,null,null,null,null,null,null,null,null,null,null,null,null,null,null,null,null,null,{"$f":"BO119&BP119&BQ119&BR119&BS119","v":""},null,null,null,null,null,null,null,null,null,null,null,null,null,null,null,null,null,null,null,null,null,{"$f":"IF(AND(B119>0,AO119=\"\"),\" * No olvide digitar la variable Beneficiarios. Digite Cero si no tiene.\",IF(AO119>B119,\"  * La variable Beneficiarios No puede ser mayor al Total.\",\"\"))","v":""},{"$f":"IF(AND(D119>0,AP119=\"\"),\" * No olvide digitar la variable Embarazadas. Digite Cero si no tiene.\",IF(AP119>D119,\"  * La variable Embarazadas No puede ser mayor al Total Mujeres.\",\"\"))","v":""},{"$f":"IF(AND(B119>0,AQ119=\"\"),\" * No olvide digitar la variable Niños, Niñas, adolescentes y jóvenes SENAME. Digite Cero si no tiene.\",IF(AQ119>B119,\"  * La variable Niños, Niñas, adolescentes y jóvenes SENAME No puede ser mayor al Total.\",\"\"))","v":""},{"$f":"IF(AND(B119>0,AR119=\"\"),\" * No olvide digitar la variable Niños, Niñas, adolescentes y jóvenes Mejor niñez. Digite Cero si no tiene.\",IF(AR119>B119,\"  * La variable Niños, Niñas, adolescentes y jóvenes Mejor Niñez No puede ser mayor al Total.\",\"\"))","v":""},null,null,{"$f":"IF(AND(B119>0,AO119=\"\"),1,IF(AO119>B119,1,0))","v":0},{"$f":"IF(AND(D119>0,AP119=\"\"),1,IF(AP119>D119,1,0))","v":0},{"$f":"IF(AND(B119>0,AQ119=\"\"),1,IF(AQ119>B119,1,0))","v":0},{"$f":"IF(AND(B119>0,AR119=\"\"),1,IF(AR119>B119,1,0))","v":0}]
["Mal nutrición por riesgo obesidad sobrepeso ",{"$f":"SUM(C120:D120)","v":0},0,0,null,null,null,null,null,null,null,null,null,null,null,null,null,null,null,null,null,null,null,null,null,null,null,null,null,null,null,null,null,null,null,null,null,null,null,null,null,null,null,null,{"$f":"BO120&BP120&BQ120&BR120&BS120","v":""},null,null,null,null,null,null,null,null,null,null,null,null,null,null,null,null,null,null,null,null,null,{"$f":"IF(AND(B120>0,AO120=\"\"),\" * No olvide digitar la variable Beneficiarios. Digite Cero si no tiene.\",IF(AO120>B120,\"  * La variable Beneficiarios No puede ser mayor al Total.\",\"\"))","v":""},{"$f":"IF(AND(D120>0,AP120=\"\"),\" * No olvide digitar la variable Embarazadas. Digite Cero si no tiene.\",IF(AP120>D120,\"  * La variable Embarazadas No puede ser mayor al Total Mujeres.\",\"\"))","v":""},{"$f":"IF(AND(B120>0,AQ120=\"\"),\" * No olvide digitar la variable Niños, Niñas, adolescentes y jóvenes SENAME. Digite Cero si no tiene.\",IF(AQ120>B120,\"  * La variable Niños, Niñas, adolescentes y jóvenes SENAME No puede ser mayor al Total.\",\"\"))","v":""},{"$f":"IF(AND(B120>0,AR120=\"\"),\" * No olvide digitar la variable Niños, Niñas, adolescentes y jóvenes Mejor niñez. Digite Cero si no tiene.\",IF(AR120>B120,\"  * La variable Niños, Niñas, adolescentes y jóvenes Mejor Niñez No puede ser mayor al Total.\",\"\"))","v":""},null,null,{"$f":"IF(AND(B120>0,AO120=\"\"),1,IF(AO120>B120,1,0))","v":0},{"$f":"IF(AND(D120>0,AP120=\"\"),1,IF(AP120>D120,1,0))","v":0},{"$f":"IF(AND(B120>0,AQ120=\"\"),1,IF(AQ120>B120,1,0))","v":0},{"$f":"IF(AND(B120>0,AR120=\"\"),1,IF(AR120>B120,1,0))","v":0}]
["Estado nutricional normal ",{"$f":"SUM(C121:D121)","v":0},0,0,null,null,null,null,null,null,null,null,null,null,null,null,null,null,null,null,null,null,null,null,null,null,null,null,null,null,null,null,null,null,null,null,null,null,null,null,null,null,null,null,"",null,null,null,null,null,null,null,null,null,null,null,null,null,null,null,null,null,null,null,null,null,"","","","",null,null,0,0,0,0]
["SECCIÓN M: CONSULTA DE LACTANCIA EN NIÑOS Y NIÑAS CONTROLADOS"]
["TIPOS DE CONSULTA",null,"TOTAL","RANGO ETARIO",null,null,null,null,"Gestantes","Pueblos Originarios","Migrantes"]
[null,null,null," De 0 a 29 días","De 1 mes a 2 meses 29 días","De 3 meses a 5 meses 29 días","De 6 meses a 11 meses 29 días","De 1 a 2 años"]
["Consulta de Lactancia","Consulta Lactancia Materna de alerta ",{"$f":"SUM(D125:H125)","v":0},null,null,null,null,null,null,null,null,{"$f":"BO125&BP125&BQ125","v":""},null,null,null,null,null,null,null,null,null,null,null,null,null,null,null,null,null,null,null,null,null,null,null,null,null,null,null,null,null,null,null,null,null,null,null,null,null,null,null,null,null,null,null,null,null,null,null,null,null,null,null,null,null,null,null,{"$f":"IF(AND(C125>0,J125=\"\"),\" * No olvide digitar la variable Pueblos originarios. Digite Cero si no tiene.\",IF(J125>C125,\" * La variable Pueblos originarios No puede ser mayor al Total.\",\"\"))","v":""},{"$f":"IF(AND(C125>0,K125=\"\"),\" * No olvide digitar la variable Migrantes. Digite Cero si no tiene.\",IF(K125>C125,\" * La variable Migrantes No puede ser mayor al Total.\",\"\"))","v":""},null,null,null,null,{"$f":"IF(AND(C125>0,J125=\"\"),1,IF(J125>C125,1,0))","v":0},{"$f":"IF(AND(C125>0,K125=\"\"),1,IF(K125>C125,1,0))","v":0}]
[null,"Consulta de Lactancia Materna de seguimiento ",{"$f":"SUM(D126:H126)","v":0},null,null,null,null,null,null,null,null,{"$f":"BO126&BP126&BQ126","v":""},null,null,null,null,null,null,null,null,null,null,null,null,null,null,null,null,null,null,null,null,null,null,null,null,null,null,null,null,null,null,null,null,null,null,null,null,null,null,null,null,null,null,null,null,null,null,null,null,null,null,null,null,null,null,null,{"$f":"IF(AND(C126>0,J126=\"\"),\" * No olvide digitar la variable Pueblos originarios. Digite Cero si no tiene.\",IF(J126>C126,\" * La variable Pueblos originarios No puede ser mayor al Total.\",\"\"))","v":""},{"$f":"IF(AND(C126>0,K126=\"\"),\" * No olvide digitar la variable Migrantes. Digite Cero si no tiene.\",IF(K126>C126,\" * La variable Migrantes No puede ser mayor al Total.\",\"\"))","v":""},null,null,null,null,{"$f":"IF(AND(C126>0,J126=\"\"),1,IF(J126>C126,1,0))","v":0},{"$f":"IF(AND(C126>0,K126=\"\"),1,IF(K126>C126,1,0))","v":0}]
[null,"Otras consultas de Lactancia Materna ",{"$f":"SUM(D127:H127)","v":0},null,null,null,null,null,null,null,null,"",null,null,null,null,null,null,null,null,null,null,null,null,null,null,null,null,null,null,null,null,null,null,null,null,null,null,null,null,null,null,null,null,null,null,null,null,null,null,null,null,null,null,null,null,null,null,null,null,null,null,null,null,null,null,null,"","",null,null,null,null,0,0]
["Consejería de Lactancia","Consejería prenatal en Lactancia Materna ",{"$f":"SUM(I128)","v":0},null,null,null,null,null,null,null,null,"",null,null,null,null,null,null,null,null,null,null,null,null,null,null,null,null,null,null,null,null,null,null,null,null,null,null,null,null,null,null,null,null,null,null,null,null,null,null,null,null,null,null,null,null,null,null,null,null,null,null,null,null,null,null,{"$f":"IF(AND(C128>0,I128=\"\"),\" * No olvide digitar la variable Gestantes. Digite Cero si no tiene.\",IF(I128>C128,\"  * La variable Pueblos Gestantes No puede ser mayor al Total.\",\"\"))","v":""},"","",null,null,null,{"$f":"IF(AND(C128>0,I128=\"\"),1,IF(I128>C128,1,0))","v":0},0,0]
[null,"Consejería posnatal en Lactancia Materna ",{"$f":"SUM(D129:H129)","v":0},null,null,null,null,null,null,null,null,"",null,null,null,null,null,null,null,null,null,null,null,null,null,null,null,null,null,null,null,null,null,null,null,null,null,null,null,null,null,null,null,null,null,null,null,null,null,null,null,null,null,null,null,null,null,null,null,null,null,null,null,null,null,null,null,"","",null,null,null,null,0,0]
["Consulta de Lactancia por profesional ","Médico/a",{"$f":"SUM(D130:I130)","v":0},null,null,null,null,null,null,null,null,{"$f":"BO130&BP130&BQ130","v":""},null,null,null,null,null,null,null,null,null,null,null,null,null,null,null,null,null,null,null,null,null,null,null,null,null,null,null,null,null,null,null,null,null,null,null,null,null,null,null,null,null,null,null,null,null,null,null,null,null,null,null,null,null,null,{"$f":"IF(AND(C130>0,I130=\"\"),\" * No olvide digitar la variable Gestantes. Digite Cero si no tiene.\",IF(I130>C130,\" * La variable Gestantes No puede ser mayor al Total.\",\"\"))","v":""},"","",{"$f":"IF(AND(C130>0,I130=\"\"),\" * No olvide digitar la variable Gestantes. Digite Cero si no tiene.\",IF(I130>C130,\" * La variable Gestantes No puede ser mayor al Total.\",\"\"))","v":""},null,null,null,0,0,{"$f":"IF(AND(C130>0,I130=\"\"),1,IF(I130>C130,1,0))","v":0}]
[null,"Matrona/ón",{"$f":"SUM(D131:I131)","v":0},null,null,null,null,null,null,null,null,{"$f":"BO131&BP131&BQ131","v":""},null,null,null,null,null,null,null,null,null,null,null,null,null,null,null,null,null,null,null,null,null,null,null,null,null,null,null,null,null,null,null,null,null,null,null,null,null,null,null,null,null,null,null,null,null,null,null,null,null,null,null,null,null,null,{"$f":"IF(AND(C131>0,I131=\"\"),\" * No olvide digitar la variable Gestantes. Digite Cero si no tiene.\",IF(I131>C131,\" * La variable Gestantes No puede ser mayor al Total.\",\"\"))","v":""},"","",null,null,null,null,0,0,{"$f":"IF(AND(C131>0,I131=\"\"),1,IF(I131>C131,1,0))","v":0}]
[null,"Enfermera/o",{"$f":"SUM(D132:I132)","v":0},null,null,null,null,null,null,null,null,"",null,null,null,null,null,null,null,null,null,null,null,null,null,null,null,null,null,null,null,null,null,null,null,null,null,null,null,null,null,null,null,null,null,null,null,null,null,null,null,null,null,null,null,null,null,null,null,null,null,null,null,null,null,null,"","","",null,null,null,null,0,0,0]
[null,"Nutricionista ",{"$f":"SUM(D133:I133)","v":0},null,null,null,null,null,null,null,null,"",null,null,null,null,null,null,null,null,null,null,null,null,null,null,null,null,null,null,null,null,null,null,null,null,null,null,null,null,null,null,null,null,null,null,null,null,null,null,null,null,null,null,null,null,null,null,null,null,null,null,null,null,null,null,"","","",null,null,null,null,0,0,0]
["SECCION N: ATENCIONES AMBULATORIAS POR  EL PROGRAMA TUBERCULOSIS"]
["PROFESIONAL","TIPOS DE ATENCION","Ambos Sexos","Hombres","Mujeres","RANGO ETARIO Y SEXO",null,null,null,null,null,null,null,null,null,null,null,null,null,null,null,null,null,null,null,null,null,null,null,null,null,null,null,null,null,null,null,null,null,"Pueblos Originarios","Migrantes"]
[null,null,null,null,null,"0 - 4 años",null,"5 - 9 años",null,"10 - 14 años",null,"15 - 19 años",null,"20 - 24 años",null,"25 - 29 años",null,"30 - 34 años",null,"35 - 39 años",null,"40 - 44 años",null,"45 - 49 años",null,"50 - 54 años",null,"55 - 59 años",null,"60 - 64 años",null,"65 - 69 años",null,"70 - 74 años",null,"75 - 79 años",null,"80 y más años"]
[null,null,null,null,null,"Hombres ","Mujeres","Hombres ","Mujeres","Hombres ","Mujeres","Hombres ","Mujeres","Hombres ","Mujeres","Hombres ","Mujeres","Hombres ","Mujeres","Hombres ","Mujeres","Hombres ","Mujeres","Hombres ","Mujeres","Hombres ","Mujeres","Hombres ","Mujeres","Hombres ","Mujeres","Hombres ","Mujeres","Hombres ","Mujeres","Hombres ","Mujeres","Hombres ","Mujeres"]
["Médico/a","Ingreso tratamiento",{"$f":"SUM(D138:E138)","v":0},{"$f":"+F138+H138+J138+L138+N138+P138+R138+T138+V138+X138+Z138+AB138+AD138+AF138+AH138+AJ138+AL138","v":0},{"$f":"+G138+I138+K138+M138+O138+Q138+S138+U138+W138+Y138+AA138+AC138+AE138+AG138+AI138+AK138+AM138","v":0},null,null,null,null,null,null,null,null,null,null,null,null,null,null,null,null,null,null,null,null,null,null,null,null,null,null,null,null,null,null,null,null,null,null,null,null,{"$f":"BO138&BP138","v":""},null,null,null,null,null,null,null,null,null,null,null,null,null,null,null,null,null,null,null,null,null,null,null,null,{"$f":"IF(AND(C138>0,AN138=\"\"),\"  * No olvide digitar la variable Pueblos originarios. Digite Cero si no tiene.\",IF(AN138>C138,\"  * La variable Pueblos originarios No puede ser mayor al Total.\",\"\"))","v":""},{"$f":"IF(AND(C138>0,AO138=\"\"),\"  * No olvide digitar la variable Migrantes. Digite Cero si no tiene.\",IF(AO138>C138,\"  * La variable Migrantes No puede ser mayor al Total.\",\"\"))","v":""},null,null,null,null,{"$f":"IF(AND(C138>0,AN138=\"\"),1,IF(AN138>C138,1,0))","v":0},{"$f":"IF(AND(C138>0,AO138=\"\"),1,IF(AO138>C138,1,0))","v":0}]
[null,"Ingreso Quimioprofilaxis ",{"$f":"SUM(D139:E139)","v":0},{"$f":"+F139+H139+J139+L139+N139+P139+R139+T139+V139+X139+Z139+AB139+AD139+AF139+AH139+AJ139+AL139","v":0},0,null,null,null,null,null,null,null,null,null,null,null,null,null,null,null,null,null,null,null,null,null,null,null,null,null,null,null,null,null,null,null,null,null,null,null,null,{"$f":"BO139&BP139","v":""},null,null,null,null,null,null,null,null,null,null,null,null,null,null,null,null,null,null,null,null,null,null,null,null,{"$f":"IF(AND(C139>0,AN139=\"\"),\"  * No olvide digitar la variable Pueblos originarios. Digite Cero si no tiene.\",IF(AN139>C139,\"  * La variable Pueblos originarios No puede ser mayor al Total.\",\"\"))","v":""},{"$f":"IF(AND(C139>0,AO139=\"\"),\"  * No olvide digitar la variable Migrantes. Digite Cero si no tiene.\",IF(AO139>C139,\"  * La variable Migrantes No puede ser mayor al Total.\",\"\"))","v":""},null,null,null,null,{"$f":"IF(AND(C139>0,AN139=\"\"),1,IF(AN139>C139,1,0))","v":0},{"$f":"IF(AND(C139>0,AO139=\"\"),1,IF(AO139>C139,1,0))","v":0}]
[null,"Control mensual",{"$f":"SUM(D140:E140)","v":0},0,0,null,null,null,null,null,null,null,null,null,null,null,null,null,null,null,null,null,null,null,null,null,null,null,null,null,null,null,null,null,null,null,null,null,null,null,null,"",null,null,null,null,null,null,null,null,null,null,null,null,null,null,null,null,null,null,null,null,null,null,null,null,"","",null,null,null,null,0,0]
[null,"Control de seguimiento",{"$f":"SUM(D141:E141)","v":0},0,0,null,null,null,null,null,null,null,null,null,null,null,null,null,null,null,null,null,null,null,null,null,null,null,null,null,null,null,null,null,null,null,null,null,null,null,null,"",null,null,null,null,null,null,null,null,null,null,null,null,null,null,null,null,null,null,null,null,null,null,null,null,"","",null,null,null,null,0,0]
[null,"Consultas espontáneas ",0,0,0,null,null,null,null,null,null,null,null,null,null,null,null,null,null,null,null,null,null,null,null,null,null,null,null,null,null,null,null,null,null,null,null,null,null,null,null,"",null,null,null,null,null,null,null,null,null,null,null,null,null,null,null,null,null,null,null,null,null,null,null,null,"","",null,null,null,null,0,0]
[null,"Rescate",0,0,0,null,null,null,null,null,null,null,null,null,null,null,null,null,null,null,null,null,null,null,null,null,null,null,null,null,null,null,null,null,null,null,null,null,null,null,null,"",null,null,null,null,null,null,null,null,null,null,null,null,null,null,null,null,null,null,null,null,null,null,null,null,"","",null,null,null,null,0,0]
[null,"Control de los contactos",0,0,0,null,null,null,null,null,null,null,null,null,null,null,null,null,null,null,null,null,null,null,null,null,null,null,null,null,null,null,null,null,null,null,null,null,null,null,null,"",null,null,null,null,null,null,null,null,null,null,null,null,null,null,null,null,null,null,null,null,null,null,null,null,"","",null,null,null,null,0,0]
[null,"Atención domiciliaria",0,0,0,null,null,null,null,null,null,null,null,null,null,null,null,null,null,null,null,null,null,null,null,null,null,null,null,null,null,null,null,null,null,null,null,null,null,null,null,"",null,null,null,null,null,null,null,null,null,null,null,null,null,null,null,null,null,null,null,null,null,null,null,null,"","",null,null,null,null,0,0]
["Enfermera/o","Ingreso tratamiento",0,0,0,null,null,null,null,null,null,null,null,null,null,null,null,null,null,null,null,null,null,null,null,null,null,null,null,null,null,null,null,null,null,null,null,null,null,null,null,"",null,null,null,null,null,null,null,null,null,null,null,null,null,null,null,null,null,null,null,null,null,null,null,null,"","",null,null,null,null,0,0]
[null,"Control mensual",0,0,{"$f":"+G147+I147+K147+M147+O147+Q147+S147+U147+W147+Y147+AA147+AC147+AE147+AG147+AI147+AK147+AM147","v":0},null,null,null,null,null,null,null,null,null,null,null,null,null,null,null,null,null,null,null,null,null,null,null,null,null,null,null,null,null,null,null,null,null,null,null,null,"",null,null,null,null,null,null,null,null,null,null,null,null,null,null,null,null,null,null,null,null,null,null,null,null,"","",null,null,null,null,0,0]
[null,"Control de seguimiento",{"$f":"SUM(D148:E148)","v":0},0,0,null,null,null,null,null,null,null,null,null,null,null,null,null,null,null,null,null,null,null,null,null,null,null,null,null,null,null,null,null,null,null,null,null,null,null,null,"",null,null,null,null,null,null,null,null,null,null,null,null,null,null,null,null,null,null,null,null,null,null,null,null,"","",null,null,null,null,0,0]
[null,"Consultas espontáneas ",0,{"$f":"+F149+H149+J149+L149+N149+P149+R149+T149+V149+X149+Z149+AB149+AD149+AF149+AH149+AJ149+AL149","v":0},0,null,null,null,null,null,null,null,null,null,null,null,null,null,null,null,null,null,null,null,null,null,null,null,null,null,null,null,null,null,null,null,null,null,null,null,null,"",null,null,null,null,null,null,null,null,null,null,null,null,null,null,null,null,null,null,null,null,null,null,null,null,"","",null,null,null,null,0,0]
[null,"Rescate",0,0,0,null,null,null,null,null,null,null,null,null,null,null,null,null,null,null,null,null,null,null,null,null,null,null,null,null,null,null,null,null,null,null,null,null,null,null,null,"",null,null,null,null,null,null,null,null,null,null,null,null,null,null,null,null,null,null,null,null,null,null,null,null,"","",null,null,null,null,0,0]
[null,"Atención domiciliaria",0,0,0,null,null,null,null,null,null,null,null,null,null,null,null,null,null,null,null,null,null,null,null,null,null,null,null,null,null,null,null,null,null,null,null,null,null,null,null,"",null,null,null,null,null,null,null,null,null,null,null,null,null,null,null,null,null,null,null,null,null,null,null,null,"","",null,null,null,null,0,0]
["SECCION O: EXÁMENES BACTERIOLOGICOS PROCESADOS"]
["TIPO DE MUESTRA","TOTAL","RANGO ETARIO",null,null,null,null,null,null,null,null,null,null,null,null,null,null,null,null,"Pueblos Originarios","Migrantes"]
[null,null,"0 - 4 años","5 - 9 años","10-14 años","15 - 19 años","20-24 años","25 - 29 años","30-34 años","35 - 39 años","40-44 años","45 - 49 años","50-54 años ","55 - 59 años","60 - 64 años","65 - 69 años","70 - 74 años","75 - 79 años","80 y más años"]
["Muestras procesadas para diagnóstico de Tuberculosis Pulmonar mediante bacteriología ",{"$f":"SUM(C155:S155)","v":0},null,null,null,null,null,null,null,null,null,null,null,null,null,null,null,null,null,null,null,{"$f":"BO155&BP155","v":""},null,null,null,null,null,null,null,null,null,null,null,null,null,null,null,null,null,null,null,null,null,null,null,null,null,null,null,null,null,null,null,null,null,null,null,null,null,null,null,null,null,null,null,null,{"$f":"IF(AND(B155>0,T155=\"\"),\"  * No olvide digitar la variable Pueblos originarios. Digite Cero si no tiene.\",IF(T155>B155,\" * La variable Pueblos originarios No puede ser mayor al Total.\",\"\"))","v":""},{"$f":"IF(AND(B155>0,U155=\"\"),\"  * No olvide digitar la variable Migrantes. Digite Cero si no tiene.\",IF(U155>B155,\" * La variable Migrantes No puede ser mayor al Total.\",\"\"))","v":""},null,null,null,null,{"$f":"IF(AND(B155>0,T155=\"\"),1,IF(T155>B155,1,0))","v":0},{"$f":"IF(AND(B155>0,U155=\"\"),1,IF(U155>B155,1,0))","v":0}]
[]
[]
[]
[]
[]
[]
[]
[]
[]
[]
[]
[]
[]
[]
[]
[]
[]
[]
[]
[]
[]
[]
[]
[]
[]
[]
[]
[]
[]
[]
[]
[]
[]
[]
[]
[]
[]
[]
[]
[]
[]
[]
[]
[]
[{"$f":"SUM(B12:B26,B31:B46,B50:B51,B56:B61,B64:B65,B68:B75,B79,C84:C87,B92:B96,B98:B100,B108:R108,B112:M114,B119:B121,C125:C133,C138:C151,B155)","v":0},{"$f":"SUM(BU13:BY155)","v":0}]

{"sheet":"A05","index":5,"n_rows":400,"n_cols":89,"rows_kept":400,"cut":false,"hidden":false,"merged":[[332,19,333,20],[157,16,158,16],[157,17,158,17],[183,13,183,14],[183,15,183,16],[183,17,183,18],[183,19,183,20],[183,21,183,22],[183,23,183,24],[170,15,171,15],[170,16,171,16],[170,13,170,14],[94,29,96,29],[94,30,96,30],[95,11,95,12],[95,13,95,14],[95,15,95,16],[95,17,95,18],[95,19,95,20],[95,21,95,22],[95,23,95,26],[95,27,95,28],[94,23,94,28],[17,0,17,1],[8,16,9,16],[8,17,9,17],[10,0,10,1],[11,0,11,1],[12,0,12,1],[13,0,13,1],[24,0,24,1],[95,9,95,10],[95,7,95,8],[95,5,95,6],[94,17,94,22],[94,2,95,4],[94,0,96,1],[94,5,94,10],[94,11,94,16],[18,0,18,1],[19,0,19,1],[20,0,20,1],[21,0,21,1],[22,0,22,1],[23,0,23,1],[25,0,25,1],[26,0,26,1],[5,0,5,15],[8,0,9,1],[8,2,9,2],[8,3,8,12],[8,13,9,13],[8,14,9,14],[8,15,9,15],[15,0,16,1],[15,2,16,2],[15,3,16,3],[15,4,16,4],[15,5,16,5],[86,29,88,29],[86,30,88,30],[87,21,87,22],[87,23,87,26],[30,0,30,1],[32,0,33,1],[32,2,33,2],[32,3,32,15],[32,16,33,16],[32,17,33,17],[32,18,33,18],[32,19,33,19],[32,20,33,20],[56,17,57,17],[58,0,58,1],[59,0,59,1],[60,0,60,1],[61,0,67,0],[68,0,69,0],[52,0,53,0],[54,0,54,1],[56,0,57,1],[56,2,57,2],[56,3,56,15],[27,0,27,1],[28,0,28,1],[29,0,29,1],[37,0,43,0],[44,0,45,0],[46,0,47,0],[48,0,48,1],[49,0,49,1],[50,0,51,0],[34,0,34,1],[35,0,35,1],[36,0,36,1],[56,16,57,16],[83,0,83,1],[84,0,84,1],[86,0,88,1],[86,2,87,4],[70,0,71,0],[72,0,72,1],[73,0,73,1],[74,0,75,0],[76,0,77,0],[78,0,78,1],[87,15,87,16],[87,17,87,18],[87,19,87,20],[86,5,86,10],[86,11,86,16],[86,17,86,22],[86,23,86,26],[86,27,87,28],[89,0,89,1],[87,5,87,6],[87,7,87,8],[87,9,87,10],[87,11,87,12],[87,13,87,14],[90,0,90,1],[91,0,91,1],[92,0,92,1],[102,5,102,12],[103,5,103,6],[103,7,103,8],[103,9,103,10],[103,11,103,12],[105,0,105,1],[100,0,100,1],[99,0,99,1],[98,0,98,1],[97,0,97,1],[106,0,106,1],[107,0,107,1],[108,0,108,1],[110,0,112,1],[110,2,111,4],[102,0,104,1],[102,2,103,4],[110,5,110,32],[110,33,112,33],[110,34,112,34],[111,5,111,6],[111,7,111,8],[111,9,111,10],[111,11,111,12],[111,13,111,14],[111,15,111,16],[111,17,111,18],[111,31,111,32],[111,19,111,20],[111,21,111,22],[111,23,111,24],[111,25,111,26],[111,27,111,28],[111,29,111,30],[113,0,113,1],[114,0,120,0],[121,0,121,1],[123,0,125,1],[123,2,124,4],[123,5,123,32],[124,19,124,20],[124,21,124,22],[124,23,124,24],[123,33,123,36],[123,37,125,37],[123,38,125,38],[124,5,124,6],[124,7,124,8],[124,9,124,10],[124,11,124,12],[124,13,124,14],[124,15,124,16],[124,17,124,18],[124,35,125,35],[124,36,125,36],[126,0,126,1],[127,0,133,0],[135,0,137,1],[135,2,136,4],[135,5,135,38],[136,19,136,20],[136,21,136,22],[136,23,136,24],[124,25,124,26],[124,27,124,28],[124,29,124,30],[124,31,124,32],[124,33,125,33],[124,34,125,34],[135,39,135,41],[135,42,137,42],[135,43,137,43],[136,5,136,6],[136,7,136,8],[136,9,136,10],[136,11,136,12],[136,13,136,14],[136,15,136,16],[136,17,136,18],[136,37,136,38],[136,39,137,39],[136,40,137,40],[136,41,137,41],[138,0,138,1],[139,0,139,1],[136,25,136,26],[136,27,136,28],[136,29,136,30],[136,31,136,32],[136,33,136,34],[136,35,136,36],[144,9,144,10],[144,11,144,12],[144,13,145,13],[144,14,145,14],[146,0,148,0],[149,0,149,1],[140,0,141,0],[142,0,142,1],[144,0,145,1],[144,2,144,4],[144,5,144,6],[144,7,144,8],[157,13,157,15],[150,0,153,0],[154,0,154,1],[155,0,155,1],[157,0,158,1],[157,2,157,4],[157,5,157,6],[159,0,161,0],[162,0,162,1],[163,0,166,0],[167,0,167,1],[168,0,168,1],[170,0,171,1],[157,7,157,8],[157,9,157,10],[157,11,157,12],[172,0,175,0],[176,0,179,0],[183,0,184,1],[183,2,183,4],[183,5,183,6],[183,7,183,8],[183,9,183,10],[183,11,183,12],[170,2,170,4],[170,5,170,6],[170,7,170,8],[170,9,170,10],[170,11,170,12],[190,0,191,0],[193,0,200,0],[201,0,205,0],[206,0,209,0],[210,0,214,0],[215,0,217,0],[183,45,183,46],[183,47,183,48],[185,0,185,1],[186,0,186,1],[187,0,188,0],[189,0,189,1],[183,37,183,38],[183,39,184,39],[183,40,184,40],[183,41,183,42],[183,43,184,43],[183,44,184,44],[183,25,183,26],[183,27,183,28],[183,29,183,30],[183,31,183,32],[183,33,183,34],[183,35,183,36],[228,0,228,1],[229,0,229,1],[231,0,232,1],[231,2,231,4],[231,5,231,6],[231,7,231,8],[218,0,218,1],[219,0,219,1],[220,0,220,1],[221,0,221,1],[222,0,222,1],[223,0,227,0],[231,48,232,48],[231,49,232,49],[233,0,233,1],[231,33,231,34],[231,35,231,36],[231,37,231,38],[231,39,231,41],[231,42,232,42],[231,43,232,43],[231,21,231,22],[231,23,231,24],[231,25,231,26],[231,27,231,28],[231,29,231,30],[231,31,231,32],[231,9,231,10],[231,11,231,12],[231,13,231,14],[231,15,231,16],[231,17,231,18],[231,19,231,20],[234,0,234,1],[235,0,236,0],[237,0,237,1],[238,0,239,0],[241,0,248,0],[249,0,253,0],[231,44,231,45],[231,46,232,46],[231,47,232,47],[269,0,269,1],[270,0,270,1],[271,0,275,0],[276,0,276,1],[277,0,277,1],[279,0,281,0],[279,1,281,1],[254,0,257,0],[258,0,262,0],[263,0,265,0],[266,0,266,1],[267,0,267,1],[268,0,268,1],[279,2,280,4],[279,5,279,36],[279,37,281,37],[279,38,281,38],[279,39,281,39],[279,40,281,40],[280,5,280,6],[280,7,280,8],[280,9,280,10],[280,11,280,12],[280,25,280,26],[280,27,280,28],[280,29,280,30],[280,31,280,32],[280,33,280,34],[280,35,280,36],[280,13,280,14],[280,15,280,16],[280,17,280,18],[280,19,280,20],[280,21,280,22],[280,23,280,24],[282,0,283,0],[284,0,285,0],[287,0,289,1],[287,2,288,4],[287,5,287,38],[287,39,287,41],[288,15,288,16],[288,17,288,18],[288,19,288,20],[288,21,288,22],[287,42,288,43],[287,44,289,44],[287,45,289,45],[287,46,289,46],[287,47,289,47],[288,5,288,6],[288,7,288,8],[288,9,288,10],[288,11,288,12],[288,13,288,14],[288,35,288,36],[288,37,288,38],[288,39,289,39],[288,40,289,40],[288,41,289,41],[290,0,290,1],[288,23,288,24],[288,25,288,26],[288,27,288,28],[288,29,288,30],[288,31,288,32],[288,33,288,34],[291,0,299,0],[300,0,308,0],[310,46,312,46],[310,47,312,47],[310,48,312,48],[311,5,311,6],[311,7,311,8],[311,9,311,10],[311,11,311,12],[311,13,311,14],[311,15,311,16],[311,37,311,38],[311,39,311,40],[311,41,311,42],[310,5,310,42],[310,43,311,44],[311,17,311,18],[311,19,311,20],[311,21,311,22],[311,23,311,24],[310,45,312,45],[313,0,314,0],[315,0,315,1],[316,0,316,1],[311,25,311,26],[311,27,311,28],[311,29,311,30],[311,31,311,32],[311,33,311,34],[311,35,311,36],[310,0,312,1],[310,2,311,4],[317,0,317,1],[318,0,318,1],[319,0,323,0],[325,0,327,1],[325,2,326,4],[325,5,325,32],[326,19,326,20],[326,21,326,22],[326,23,326,24],[326,25,326,26],[326,27,326,28],[326,29,326,30],[326,31,326,32],[325,33,326,34],[325,35,327,35],[325,36,327,36],[326,5,326,6],[326,7,326,8],[326,9,326,10],[326,11,326,12],[326,13,326,14],[326,15,326,16],[326,17,326,18],[338,5,338,32],[338,33,340,33],[339,19,339,20],[339,21,339,22],[339,23,339,24],[339,25,339,26],[339,29,339,30],[339,31,339,32],[328,0,328,1],[329,0,329,1],[330,0,330,1],[333,12,333,13],[332,15,334,15],[332,0,334,0],[332,1,333,3],[332,4,332,12],[332,18,334,18],[333,4,333,5],[333,6,333,7],[333,8,333,9],[333,10,333,11],[332,16,334,16],[332,14,334,14],[332,17,334,17],[341,0,343,0],[344,0,346,0],[347,0,350,0],[353,0,355,0],[353,1,355,1],[353,2,354,4],[339,27,339,28],[353,5,353,38],[339,35,340,35],[339,36,340,36],[339,37,340,37],[338,34,340,34],[338,35,338,37],[338,38,340,38],[339,5,339,6],[339,7,339,8],[339,9,339,10],[339,11,339,12],[339,13,339,14],[339,15,339,16],[339,17,339,18],[338,0,340,0],[338,1,340,1],[338,2,339,4],[353,39,355,39],[353,40,355,40],[354,5,354,6],[354,7,354,8],[354,9,354,10],[354,11,354,12],[354,13,354,14],[354,15,354,16],[354,17,354,18],[354,37,354,38],[354,31,354,32],[354,33,354,34],[354,35,354,36],[356,0,358,0],[359,0,359,1],[354,19,354,20],[354,21,354,22],[354,23,354,24],[354,25,354,26],[354,27,354,28],[354,29,354,30],[361,15,363,15],[362,2,363,2],[362,3,363,3],[362,4,363,4],[362,5,363,5],[362,6,362,9],[362,10,363,10],[362,11,363,11],[362,12,363,12],[362,13,363,13],[362,14,363,14],[361,0,363,0],[361,1,363,1],[361,2,361,9],[361,10,361,14]]}
["SERVICIO DE SALUD"]
[{"$f":"CONCATENATE(\"COMUNA: \",NOMBRE!B2,\" - \",\"( \",NOMBRE!C2,NOMBRE!D2,NOMBRE!E2,NOMBRE!F2,NOMBRE!G2,\" )\")","v":"COMUNA:  - (  )"}]
[{"$f":"CONCATENATE(\"ESTABLECIMIENTO/ESTRATEGIA: \",NOMBRE!B3,\" - \",\"( \",NOMBRE!C3,NOMBRE!D3,NOMBRE!E3,NOMBRE!F3,NOMBRE!G3,NOMBRE!H3,\" )\")","v":"ESTABLECIMIENTO/ESTRATEGIA:  - (  )"}]
[{"$f":"CONCATENATE(\"MES: \",NOMBRE!B6,\" - \",\"( \",NOMBRE!C6,NOMBRE!D6,\" )\")","v":"MES:  - (  )"}]
[{"$f":"CONCATENATE(\"AÑO: \",NOMBRE!B7)","v":"AÑO: 2024"}]
["REM-A05.   INGRESOS Y EGRESOS POR CONDICIÓN Y PROBLEMAS DE SALUD"]
[]
["SECCIÓN A: INGRESOS DE GESTANTES A PROGRAMA PRENATAL"]
["CONDICIÓN",null,"TOTAL      ","RANGO ETARIO",null,null,null,null,null,null,null,null,null,"Víctima de Violencia de Género","Pueblos Originarios","Migrantes","Ingresos por Traslado","Ingresos con Control Precoz Extrasistema"]
[null,null,null,"Menos\nde 15 años","15 - 19 años","20 - 24 años","25 - 29 años","30 - 34 años","35 - 39 años","40 - 44 años","45 - 49 años","50 - 54 años","55 y más años"]
["Gestantes Ingresadas",null,{"$f":"SUM(D11:M11)","v":0},null,null,null,null,null,null,null,null,null,null,null,null,null,null,null,{"$f":"BQ11&BR11&BS11&BT11&BU11&BV11&BW11&BX11","v":""},null,null,null,null,null,null,null,null,null,null,null,null,null,null,null,null,null,null,null,null,null,null,null,null,null,null,null,null,null,null,null,null,null,null,null,null,null,null,null,null,null,null,null,null,null,null,null,null,null,{"$f":"IF(AND(C11>0,N11=\"\"),\"  * No olvide digitar la variable Víctima de violencia de género. Digite Cero si no tiene.\",IF(N11>C11,\"  * La variable Víctima de violencia de género No puede ser mayor al Total.\",\"\"))","v":""},{"$f":"IF(AND(C11>0,O11=\"\"),\"  * No olvide digitar la variable Pueblos Originarios. Digite Cero si no tiene.\",IF(O11>C11,\"  * La variable Pueblos Originarios de género No puede ser mayor al Total.\",\"\"))","v":""},{"$f":"IF(AND(C11>0,P11=\"\"),\"  * No olvide digitar la variable Migrantes. Digite Cero si no tiene.\",IF(P11>C11,\"  * La variable Migrantes No puede ser mayor al Total.\",\"\"))","v":""},{"$f":"IF(AND(C11>0,Q11=\"\"),\"  * No olvide digitar la variable Ingresos por traslados. Digite Cero si no tiene.\",IF(Q11>C11,\"  * La variable Ingresos por traslados No puede ser mayor al Total.\",\"\"))","v":""},{"$f":"IF(AND(C11>0,R11=\"\"),\"  * No olvide digitar la variable Ingresos con control precoz extrasistema. Digite Cero si no tiene.\",IF(R11>C11,\"  * La variable  Ingresos con control precoz extrasistema No puede ser mayor al Total.\",\"\"))","v":""},null,null,null,null,null,null,{"$f":"IF(AND(C11>0,N11=\"\"),1,IF(N11>C11,1,0))","v":0},{"$f":"IF(AND(C11>0,O11=\"\"),1,IF(O11>C11,1,0))","v":0},{"$f":"IF(AND(C11>0,P11=\"\"),1,IF(P11>C11,1,0))","v":0},{"$f":"IF(AND(C11>0,Q11=\"\"),1,IF(Q11>C11,1,0))","v":0},{"$f":"IF(AND(C11>0,R11=\"\"),1,IF(R11>C11,1,0))","v":0}]
["Primigestas Ingresadas",null,{"$f":"SUM(D12:M12)","v":0},null,null,null,null,null,null,null,null,null,null,null,null,null,null,null,{"$f":"BQ12&BR12&BS12&BT12&BU12&BV12&BW12&BX12","v":""},null,null,null,null,null,null,null,null,null,null,null,null,null,null,null,null,null,null,null,null,null,null,null,null,null,null,null,null,null,null,null,null,null,null,null,null,null,null,null,null,null,null,null,null,null,null,null,null,null,{"$f":"IF(AND(C12>0,N12=\"\"),\"  * No olvide digitar la variable Víctima de violencia de género. Digite Cero si no tiene.\",IF(N12>C12,\"  * La variable Víctima de violencia de género No puede ser mayor al Total.\",\"\"))","v":""},{"$f":"IF(AND(C12>0,O12=\"\"),\"  * No olvide digitar la variable Pueblos Originarios. Digite Cero si no tiene.\",IF(O12>C12,\"  * La variable Pueblos Originarios de género No puede ser mayor al Total.\",\"\"))","v":""},{"$f":"IF(AND(C12>0,P12=\"\"),\"  * No olvide digitar la variable Migrantes. Digite Cero si no tiene.\",IF(P12>C12,\"  * La variable Migrantes No puede ser mayor al Total.\",\"\"))","v":""},{"$f":"IF(AND(C12>0,Q12=\"\"),\"  * No olvide digitar la variable Ingresos por traslados. Digite Cero si no tiene.\",IF(Q12>C12,\"  * La variable Ingresos por traslados No puede ser mayor al Total.\",\"\"))","v":""},{"$f":"IF(AND(C12>0,R12=\"\"),\"  * No olvide digitar la variable Ingresos con control precoz extrasistema. Digite Cero si no tiene.\",IF(R12>C12,\"  * La variable  Ingresos con control precoz extrasistema No puede ser mayor al Total.\",\"\"))","v":""},null,null,null,null,null,null,{"$f":"IF(AND(C12>0,N12=\"\"),1,IF(N12>C12,1,0))","v":0},{"$f":"IF(AND(C12>0,O12=\"\"),1,IF(O12>C12,1,0))","v":0},{"$f":"IF(AND(C12>0,P12=\"\"),1,IF(P12>C12,1,0))","v":0},{"$f":"IF(AND(C12>0,Q12=\"\"),1,IF(Q12>C12,1,0))","v":0},{"$f":"IF(AND(C12>0,R12=\"\"),1,IF(R12>C12,1,0))","v":0}]
["Gestantes Ingresadas antes de las 14 Semanas",null,{"$f":"SUM(D13:M13)","v":0},null,null,null,null,null,null,null,null,null,null,null,null,null,null,null,"",null,null,null,null,null,null,null,null,null,null,null,null,null,null,null,null,null,null,null,null,null,null,null,null,null,null,null,null,null,null,null,null,null,null,null,null,null,null,null,null,null,null,null,null,null,null,null,null,null,"","","","","",null,null,null,null,null,null,0,0,0,0,0]
["Gestantes con Embarazo no Planificado",null,{"$f":"SUM(D14:M14)","v":0},null,null,null,null,null,null,null,null,null,null,null,null,null,null,null,"",null,null,null,null,null,null,null,null,null,null,null,null,null,null,null,null,null,null,null,null,null,null,null,null,null,null,null,null,null,null,null,null,null,null,null,null,null,null,null,null,null,null,null,null,null,null,null,null,null,"","","","","",null,null,null,null,null,null,0,0,0,0,0]
["SECCIÓN B: INGRESO DE GESTANTES CON PATOLOGÍA DE ALTO RIESGO OBSTÉTRICO A LA UNIDAD DE ARO  (Nivel Secundario)"]
["PATOLOGÍA",null,"Nº de Ingreso a ARO","Víctima de violencia de género","Pueblos Originarios","Migrantes"]
[]
["Nº de Gestantes Ingresadas",null,null,null,null,null,{"$f":"BQ18&BR18&BS18","v":""},null,null,null,null,null,null,null,null,null,null,null,null,null,null,null,null,null,null,null,null,null,null,null,null,null,null,null,null,null,null,null,null,null,null,null,null,null,null,null,null,null,null,null,null,null,null,null,null,null,null,null,null,null,null,null,null,null,null,null,null,null,{"$f":"IF(AND(C18>0,D18=\"\"),\"  * No olvide digitar la variable \"&$D$16&\"\"&\". Digite Cero si no tiene.\",IF(D18>C18,\"  ** La variable Víctima de violencia de género No puede ser mayor al \"&$C$16&\"\"&\" .\",\"\"))","v":""},{"$f":"IF(AND(C18>0,E18=\"\"),\"  * No olvide digitar la \"&$E$16&\"\"&\" . Digite Cero si no tiene.\",IF(E18>C18,\"  * La variable Pueblos originarios No puede ser mayor al  \"&$C$16&\"\"&\" .\",\"\"))","v":""},{"$f":"IF(AND(C18>0,F18=\"\"),\"  * No olvide digitar la \"&$F$16&\"\"&\" . Digite Cero si no tiene.\",IF(F18>C18,\"  * La variable Migrantes No puede ser mayor al  \"&$C$16&\"\"&\" .\",\"\"))","v":""},null,null,null,null,null,null,null,null,{"$f":"IF(AND(C18>0,D18=\"\"),1,IF(D18>C18,1,0))","v":0},{"$f":"IF(AND(C18>0,E18=\"\"),1,IF(E18>C18,1,0))","v":0},{"$f":"IF(AND(C18>0,F18=\"\"),1,IF(F18>C18,1,0))","v":0}]
["Preeclampsia (PE)",null,null,null,null,null,{"$f":"BQ19&BR19&BS19","v":""},null,null,null,null,null,null,null,null,null,null,null,null,null,null,null,null,null,null,null,null,null,null,null,null,null,null,null,null,null,null,null,null,null,null,null,null,null,null,null,null,null,null,null,null,null,null,null,null,null,null,null,null,null,null,null,null,null,null,null,null,null,{"$f":"IF(AND(C19>0,D19=\"\"),\"  * No olvide digitar la variable \"&$D$16&\"\"&\". Digite Cero si no tiene.\",IF(D19>C19,\"  ** La variable Víctima de violencia de género No puede ser mayor al \"&$C$16&\"\"&\" .\",\"\"))","v":""},{"$f":"IF(AND(C19>0,E19=\"\"),\"  * No olvide digitar la \"&$E$16&\"\"&\" . Digite Cero si no tiene.\",IF(E19>C19,\"  * La variable Pueblos originarios No puede ser mayor al  \"&$C$16&\"\"&\" .\",\"\"))","v":""},{"$f":"IF(AND(C19>0,F19=\"\"),\"  * No olvide digitar la \"&$F$16&\"\"&\" . Digite Cero si no tiene.\",IF(F19>C19,\"  * La variable Migrantes No puede ser mayor al  \"&$C$16&\"\"&\" .\",\"\"))","v":""},null,null,null,null,null,null,null,null,{"$f":"IF(AND(C19>0,D19=\"\"),1,IF(D19>C19,1,0))","v":0},{"$f":"IF(AND(C19>0,E19=\"\"),1,IF(E19>C19,1,0))","v":0},{"$f":"IF(AND(C19>0,F19=\"\"),1,IF(F19>C19,1,0))","v":0}]
["Síndrome Hipertensivo del Embarazo (SHE)",null,null,null,null,null,"",null,null,null,null,null,null,null,null,null,null,null,null,null,null,null,null,null,null,null,null,null,null,null,null,null,null,null,null,null,null,null,null,null,null,null,null,null,null,null,null,null,null,null,null,null,null,null,null,null,null,null,null,null,null,null,null,null,null,null,null,null,"","","",null,null,null,null,null,null,null,null,0,0,0]
["Factores de Riesgo y Condicionantes de Parto Prematuro",null,null,null,null,null,"",null,null,null,null,null,null,null,null,null,null,null,null,null,null,null,null,null,null,null,null,null,null,null,null,null,null,null,null,null,null,null,null,null,null,null,null,null,null,null,null,null,null,null,null,null,null,null,null,null,null,null,null,null,null,null,null,null,null,null,null,null,"","","",null,null,null,null,null,null,null,null,0,0,0]
["Retardo Crecimiento Intrauterino (RCIU)",null,null,null,null,null,"",null,null,null,null,null,null,null,null,null,null,null,null,null,null,null,null,null,null,null,null,null,null,null,null,null,null,null,null,null,null,null,null,null,null,null,null,null,null,null,null,null,null,null,null,null,null,null,null,null,null,null,null,null,null,null,null,null,null,null,null,null,"","","",null,null,null,null,null,null,null,null,0,0,0]
["SÍFILIS",null,null,null,null,null,"",null,null,null,null,null,null,null,null,null,null,null,null,null,null,null,null,null,null,null,null,null,null,null,null,null,null,null,null,null,null,null,null,null,null,null,null,null,null,null,null,null,null,null,null,null,null,null,null,null,null,null,null,null,null,null,null,null,null,null,null,null,"","","",null,null,null,null,null,null,null,null,0,0,0]
["VIH",null,null,null,null,null,"",null,null,null,null,null,null,null,null,null,null,null,null,null,null,null,null,null,null,null,null,null,null,null,null,null,null,null,null,null,null,null,null,null,null,null,null,null,null,null,null,null,null,null,null,null,null,null,null,null,null,null,null,null,null,null,null,null,null,null,null,null,{"$f":"IF(AND(C24>0,D24=\"\"),\"  * No olvide digitar la variable \"&$D$16&\"\"&\". Digite Cero si no tiene.\",IF(D24>C24,\"  ** La variable Víctima de violencia de género No puede ser mayor al \"&$C$16&\"\"&\" .\",\"\"))","v":""},"","",null,null,null,null,null,null,null,null,0,0,0]
["Diabetes",null,null,null,null,null,"",null,null,null,null,null,null,null,null,null,null,null,null,null,null,null,null,null,null,null,null,null,null,null,null,null,null,null,null,null,null,null,null,null,null,null,null,null,null,null,null,null,null,null,null,null,null,null,null,null,null,null,null,null,null,null,null,null,null,null,null,null,"","","",null,null,null,null,null,null,null,null,0,0,0]
["Cesárea Anterior",null,null,null,null,null,"",null,null,null,null,null,null,null,null,null,null,null,null,null,null,null,null,null,null,null,null,null,null,null,null,null,null,null,null,null,null,null,null,null,null,null,null,null,null,null,null,null,null,null,null,null,null,null,null,null,null,null,null,null,null,null,null,null,null,null,null,null,"","","",null,null,null,null,null,null,null,null,0,0,0]
["Malformación Congénita",null,null,null,null,null,"",null,null,null,null,null,null,null,null,null,null,null,null,null,null,null,null,null,null,null,null,null,null,null,null,null,null,null,null,null,null,null,null,null,null,null,null,null,null,null,null,null,null,null,null,null,null,null,null,null,null,null,null,null,null,null,null,null,null,null,null,null,"","","",null,null,null,null,null,null,null,null,0,0,0]
["Hipotiroidismo",null,null,null,null,null,"",null,null,null,null,null,null,null,null,null,null,null,null,null,null,null,null,null,null,null,null,null,null,null,null,null,null,null,null,null,null,null,null,null,null,null,null,null,null,null,null,null,null,null,null,null,null,null,null,null,null,null,null,null,null,null,null,null,null,null,null,null,"","","",null,null,null,null,null,null,null,null,0,0,0]
["Diabetes Gestacional",null,null,null,null,null,"",null,null,null,null,null,null,null,null,null,null,null,null,null,null,null,null,null,null,null,null,null,null,null,null,null,null,null,null,null,null,null,null,null,null,null,null,null,null,null,null,null,null,null,null,null,null,null,null,null,null,null,null,null,null,null,null,null,null,null,null,null,"","","",null,null,null,null,null,null,null,null,0,0,0]
["Hipertensión Crónica",null,null,null,null,null,"",null,null,null,null,null,null,null,null,null,null,null,null,null,null,null,null,null,null,null,null,null,null,null,null,null,null,null,null,null,null,null,null,null,null,null,null,null,null,null,null,null,null,null,null,null,null,null,null,null,null,null,null,null,null,null,null,null,null,null,null,null,"","","",null,null,null,null,null,null,null,null,0,0,0]
["Otras Patologías del Embarazo",null,null,null,null,null,"",null,null,null,null,null,null,null,null,null,null,null,null,null,null,null,null,null,null,null,null,null,null,null,null,null,null,null,null,null,null,null,null,null,null,null,null,null,null,null,null,null,null,null,null,null,null,null,null,null,null,null,null,null,null,null,null,null,null,null,null,null,"","","",null,null,null,null,null,null,null,null,0,0,0]
["SECCIÓN C: INGRESOS A PROGRAMA DE REGULACIÓN DE FERTILIDAD Y SALUD SEXUAL"]
["MÉTODOS",null,"TOTAL      ","RANGO ETARIO",null,null,null,null,null,null,null,null,null,null,null,null,"Espacios Amigables/ Adolescentes","Ingreso por cambio de Método Anticonceptivo","Pueblos Originarios","Migrantes","Inicio precoz de MAC nivel secundario y terciario"]
[null,null,null,"Menos\nde 15 años","15 - 19 años","20 - 24 años","25 - 29 años","30 - 34 años","35 - 39 años","40 - 44 años","45 - 49 años","50 - 54 años","55 - 59 años","60 - 64 años","65 - 69 años","70 y más años"]
["TOTAL REGULACIÓN DE FERTILIDAD",null,{"$f":"SUM(D35:P35)","v":0},{"$f":"SUM(D36:D48)","v":0},{"$f":"SUM(E36:E48)","v":0},{"$f":"SUM(F36:F48)","v":0},0,0,0,0,0,0,{"$f":"SUM(M36:M48)","v":0},{"$f":"SUM(N51:N55)","v":0},{"$f":"SUM(O51:O55)","v":0},0,{"$f":"SUM(Q36:Q48)","v":0},{"$f":"SUM(R36:R48)","v":0},{"$f":"SUM(S36:S48)","v":0},0,0]
["D.I.U. T con Cobre",null,{"$f":"SUM(D36:M36)","v":0},null,null,null,null,null,null,null,null,null,null,null,null,null,null,null,null,null,null,{"$f":"BQ36&BR36&BS36&BT36&BU36","v":""},null,null,null,null,null,null,null,null,null,null,null,null,null,null,null,null,null,null,null,null,null,null,null,null,null,null,null,null,null,null,null,null,null,null,null,null,null,null,null,null,null,null,null,null,null,null,{"$f":"IF(AND(C36>0,Q36=\"\"),\" * No olvide digitar la variable \"&$Q$33&\"\"&\". Digite Cero si no tiene.\",IF(Q36>C36,\" * La variable \"&$Q$33&\"\"&\" no  puede ser mayor al Total.\",\"\"))","v":""},{"$f":"IF(AND(C36>0,R36=\"\"),\" * No olvide digitar la variable \"&$R$33&\"\"&\". Digite Cero si no tiene.\",\"\")","v":""},{"$f":"IF(AND($C36>0,S36=\"\"),\" * No olvide digitar la variable \"&$S$33&\"\"&\". Digite Cero si no tiene.\",IF(S36>C36,\" * La variable \"&$S$33&\"\"&\" no  puede ser mayor al Total.\",\"\"))","v":""},{"$f":"IF(AND($C36>0,T36=\"\"),\" * No olvide digitar la variable \"&$T$33&\"\"&\". Digite Cero si no tiene.\",IF(T36>$C36,\" * La variable \"&$T$33&\"\"&\" no  puede ser mayor al Total.\",\"\"))","v":""},{"$f":"IF(AND($C36>0,U36=\"\"),\" * No olvide digitar la variable \"&$U$33&\"\"&\". Digite Cero si no tiene.\",IF(U36>$C36,\" * La variable \"&$U$33&\"\"&\" no  puede ser mayor al Total.\",\"\"))","v":""},null,null,null,null,null,null,{"$f":"IF(AND(C36>0,Q36=\"\"),1,IF(Q36>C36,1,0))","v":0},{"$f":"IF(AND(C36>0,R36=\"\"),1,IF(R36>C36,0,0))","v":0},{"$f":"IF(AND(C36>0,S36=\"\"),1,IF(S36>C36,1,0))","v":0},{"$f":"IF(AND(C36>0,T36=\"\"),1,IF(T36>C36,1,0))","v":0},null,{"$f":"IF(AND(C36>0,U36=\"\"),1,IF(U36>C36,1,0))","v":0}]
["D.I.U. con Levonorgestrel",null,{"$f":"SUM(D37:M37)","v":0},null,null,null,null,null,null,null,null,null,null,null,null,null,null,null,null,null,null,{"$f":"BQ37&BR37&BS37&BT37&BU37","v":""},null,null,null,null,null,null,null,null,null,null,null,null,null,null,null,null,null,null,null,null,null,null,null,null,null,null,null,null,null,null,null,null,null,null,null,null,null,null,null,null,null,null,null,null,null,null,{"$f":"IF(AND(C37>0,Q37=\"\"),\" * No olvide digitar la variable \"&$Q$33&\"\"&\". Digite Cero si no tiene.\",IF(Q37>C37,\" * La variable \"&$Q$33&\"\"&\" no  puede ser mayor al Total.\",\"\"))","v":""},{"$f":"IF(AND(C37>0,R37=\"\"),\" * No olvide digitar la variable \"&$R$33&\"\"&\". Digite Cero si no tiene.\",\"\")","v":""},{"$f":"IF(AND($C37>0,S37=\"\"),\" * No olvide digitar la variable \"&$S$33&\"\"&\". Digite Cero si no tiene.\",IF(S37>C37,\" * La variable \"&$S$33&\"\"&\" no  puede ser mayor al Total.\",\"\"))","v":""},{"$f":"IF(AND($C37>0,T37=\"\"),\" * No olvide digitar la variable \"&$T$33&\"\"&\". Digite Cero si no tiene.\",IF(T37>$C37,\" * La variable \"&$T$33&\"\"&\" no  puede ser mayor al Total.\",\"\"))","v":""},{"$f":"IF(AND($C37>0,U37=\"\"),\" * No olvide digitar la variable \"&$U$33&\"\"&\". Digite Cero si no tiene.\",IF(U37>$C37,\" * La variable \"&$U$33&\"\"&\" no  puede ser mayor al Total.\",\"\"))","v":""},null,null,null,null,null,null,{"$f":"IF(AND(C37>0,Q37=\"\"),1,IF(Q37>C37,1,0))","v":0},{"$f":"IF(AND(C37>0,R37=\"\"),1,IF(R37>C37,0,0))","v":0},0,0,null,0]
["Hormonal","Oral Combinado",0,null,null,null,null,null,null,null,null,null,null,null,null,null,null,null,null,null,null,"",null,null,null,null,null,null,null,null,null,null,null,null,null,null,null,null,null,null,null,null,null,null,null,null,null,null,null,null,null,null,null,null,null,null,null,null,null,null,null,null,null,null,null,null,null,null,"",{"$f":"IF(AND(C38>0,R38=\"\"),\" * No olvide digitar la variable \"&$R$33&\"\"&\". Digite Cero si no tiene.\",\"\")","v":""},"","","",null,null,null,null,null,null,0,0,0,0,null,0]
[null,"Oral Progestágeno",0,null,null,null,null,null,null,null,null,null,null,null,null,null,null,null,null,null,null,"",null,null,null,null,null,null,null,null,null,null,null,null,null,null,null,null,null,null,null,null,null,null,null,null,null,null,null,null,null,null,null,null,null,null,null,null,null,null,null,null,null,null,null,null,null,null,"",{"$f":"IF(AND(C39>0,R39=\"\"),\" * No olvide digitar la variable \"&$R$33&\"\"&\". Digite Cero si no tiene.\",\"\")","v":""},"","","",null,null,null,null,null,null,0,0,0,0,null,0]
[null,"Inyectable Combinado",0,null,null,null,null,null,null,null,null,null,null,null,null,null,null,null,null,null,null,"",null,null,null,null,null,null,null,null,null,null,null,null,null,null,null,null,null,null,null,null,null,null,null,null,null,null,null,null,null,null,null,null,null,null,null,null,null,null,null,null,null,null,null,null,null,null,"","","","","",null,null,null,null,null,null,0,0,0,0,null,0]
[null,"Inyectable Progestágeno",0,null,null,null,null,null,null,null,null,null,null,null,null,null,null,null,null,null,null,"",null,null,null,null,null,null,null,null,null,null,null,null,null,null,null,null,null,null,null,null,null,null,null,null,null,null,null,null,null,null,null,null,null,null,null,null,null,null,null,null,null,null,null,null,null,null,"","","","","",null,null,null,null,null,null,0,0,0,0,null,0]
[null,"Implante Etonogestrel (3 años)",0,null,null,null,null,null,null,null,null,null,null,null,null,null,null,null,null,null,null,"",null,null,null,null,null,null,null,null,null,null,null,null,null,null,null,null,null,null,null,null,null,null,null,null,null,null,null,null,null,null,null,null,null,null,null,null,null,null,null,null,null,null,null,null,null,null,"","","","","",null,null,null,null,null,null,0,0,0,0,null,0]
[null,"Implante Levonorgestrel (5 años)",0,null,null,null,null,null,null,null,null,null,null,null,null,null,null,null,null,null,null,"",null,null,null,null,null,null,null,null,null,null,null,null,null,null,null,null,null,null,null,null,null,null,null,null,null,null,null,null,null,null,null,null,null,null,null,null,null,null,null,null,null,null,null,null,null,null,"","","","","",null,null,null,null,null,null,0,0,0,0,null,0]
[null,"Anillo Vaginal",{"$f":"SUM(D44:M44)","v":0},null,null,null,null,null,null,null,null,null,null,null,null,null,null,null,null,null,null,"",null,null,null,null,null,null,null,null,null,null,null,null,null,null,null,null,null,null,null,null,null,null,null,null,null,null,null,null,null,null,null,null,null,null,null,null,null,null,null,null,null,null,null,null,null,null,"","","","","",null,null,null,null,null,null,0,0,0,0,null,0]
[" Sólo preservativo MAC                                                                                                                                                                                                                                             ","Mujer",0,null,null,null,null,null,null,null,null,null,null,null,null,null,null,null,null,null,null,"",null,null,null,null,null,null,null,null,null,null,null,null,null,null,null,null,null,null,null,null,null,null,null,null,null,null,null,null,null,null,null,null,null,null,null,null,null,null,null,null,null,null,null,null,null,null,"","","","","",null,null,null,null,null,null,0,0,0,0,null,0]
[null,"Hombres",0,null,null,null,null,null,null,null,null,null,null,null,null,null,null,null,null,null,null,"",null,null,null,null,null,null,null,null,null,null,null,null,null,null,null,null,null,null,null,null,null,null,null,null,null,null,null,null,null,null,null,null,null,null,null,null,null,null,null,null,null,null,null,null,null,null,"","","","","",null,null,null,null,null,null,0,0,0,0,null,0]
["Esterilización Quirúrgica","Mujer",{"$f":"SUM(D47:M47)","v":0},null,null,null,null,null,null,null,null,null,null,null,null,null,null,null,null,null,null,"",null,null,null,null,null,null,null,null,null,null,null,null,null,null,null,null,null,null,null,null,null,null,null,null,null,null,null,null,null,null,null,null,null,null,null,null,null,null,null,null,null,null,null,null,null,null,"","","","","",null,null,null,null,null,null,0,0,0,0,null,0]
[null,"Hombres",{"$f":"SUM(D48:M48)","v":0},null,null,null,null,null,null,null,null,null,null,null,null,null,null,null,null,null,null,"",null,null,null,null,null,null,null,null,null,null,null,null,null,null,null,null,null,null,null,null,null,null,null,null,null,null,null,null,null,null,null,null,null,null,null,null,null,null,null,null,null,null,null,null,null,null,"","","","","",null,null,null,null,null,null,0,0,0,0,null,0]
[" Método de Regulación de Fertilidad más Preservativos",null,0,null,null,null,null,null,null,null,null,null,null,null,null,null,null,null,null,null,null,"",null,null,null,null,null,null,null,null,null,null,null,null,null,null,null,null,null,null,null,null,null,null,null,null,null,null,null,null,null,null,null,null,null,null,null,null,null,null,null,null,null,null,null,null,null,null,"","","","","",null,null,null,null,null,null,0,0,0,0,null,0]
["Gestantes que reciben preservativo",null,0,null,null,null,null,null,null,null,null,null,null,null,null,null,null,null,null,null,null,"",null,null,null,null,null,null,null,null,null,null,null,null,null,null,null,null,null,null,null,null,null,null,null,null,null,null,null,null,null,null,null,null,null,null,null,null,null,null,null,null,null,null,null,null,null,null,"","","","","",null,null,null,null,null,null,0,0,0,0,null,0]
["Preservativo/Practica Sexual Segura","Mujer",{"$f":"SUM(D51:P51)","v":0},null,null,null,null,null,null,null,null,null,null,null,null,null,null,null,null,null,null,"",null,null,null,null,null,null,null,null,null,null,null,null,null,null,null,null,null,null,null,null,null,null,null,null,null,null,null,null,null,null,null,null,null,null,null,null,null,null,null,null,null,null,null,null,null,null,"","","","","",null,null,null,null,null,null,0,0,0,0,null,0]
[null,"Hombres",{"$f":"SUM(D52:P52)","v":0},null,null,null,null,null,null,null,null,null,null,null,null,null,null,null,null,null,null,"",null,null,null,null,null,null,null,null,null,null,null,null,null,null,null,null,null,null,null,null,null,null,null,null,null,null,null,null,null,null,null,null,null,null,null,null,null,null,null,null,null,null,null,null,null,null,"","","","","",null,null,null,null,null,null,0,0,0,0,null,0]
["Lubricantes","Mujer",{"$f":"SUM(D53:P53)","v":0},null,null,null,null,null,null,null,null,null,null,null,null,null,null,null,null,null,null,"",null,null,null,null,null,null,null,null,null,null,null,null,null,null,null,null,null,null,null,null,null,null,null,null,null,null,null,null,null,null,null,null,null,null,null,null,null,null,null,null,null,null,null,null,null,null,"","","","","",null,null,null,null,null,null,0,0,0,0,null,0]
[null,"Hombres",{"$f":"SUM(D54:P54)","v":0},null,null,null,null,null,null,null,null,null,null,null,null,null,null,null,null,null,null,"",null,null,null,null,null,null,null,null,null,null,null,null,null,null,null,null,null,null,null,null,null,null,null,null,null,null,null,null,null,null,null,null,null,null,null,null,null,null,null,null,null,null,null,null,null,null,"","","","","",null,null,null,null,null,null,0,0,0,0,null,0]
["Condón Femenino",null,{"$f":"SUM(D55:P55)","v":0},null,null,null,null,null,null,null,null,null,null,null,null,null,null,null,null,null,null,"",null,null,null,null,null,null,null,null,null,null,null,null,null,null,null,null,null,null,null,null,null,null,null,null,null,null,null,null,null,null,null,null,null,null,null,null,null,null,null,null,null,null,null,null,null,null,"","","","","",null,null,null,null,null,null,0,0,0,0,null,0]
["SECCIÓN C1: EGRESOS DE PROGRAMA DE REGULACIÓN DE FERTILIDAD Y SALUD SEXUAL"]
["MÉTODOS",null,"TOTAL      ","RANGO ETARIO",null,null,null,null,null,null,null,null,null,null,null,null,"Pueblos Originarios","Migrantes"]
[null,null,null,"Menos\nde 15 años","15 - 19 años","20 - 24 años","25 - 29 años","30 - 34 años","35 - 39 años","40 - 44 años","45 - 49 años","50 - 54 años","55 - 59 años","60 - 64 años","65 - 69 años","70 y más años"]
["TOTAL REGULACIÓN DE FERTILIDAD",null,{"$f":"SUM(D59:P59)","v":0},{"$f":"SUM(D60:D72)","v":0},{"$f":"SUM(E60:E72)","v":0},{"$f":"SUM(F60:F72)","v":0},0,0,0,0,0,0,0,{"$f":"SUM(N75:N79)","v":0},{"$f":"SUM(O75:O79)","v":0},0,{"$f":"SUM(Q60:Q72)","v":0},{"$f":"SUM(R60:R72)","v":0}]
["D.I.U. T con Cobre",null,{"$f":"SUM(D60:M60)","v":0},null,null,null,null,null,null,null,null,null,null,null,null,null,null,null,{"$f":"BQ60&BR60","v":""},null,null,null,null,null,null,null,null,null,null,null,null,null,null,null,null,null,null,null,null,null,null,null,null,null,null,null,null,null,null,null,null,null,null,null,null,null,null,null,null,null,null,null,null,null,null,null,null,null,{"$f":"IF(AND(C60>0,Q60=\"\"),\" *   No olvide digitar la variable \"&$Q$57&\"\"&\". Digite Cero si no tiene.\",IF(Q60>C60,\"  * La variable  \"&$Q$57&\"\"&\" No puede ser mayor al Total.\",\"\"))","v":""},{"$f":"IF(AND(C60>0,R60=\"\"),\" *   No olvide digitar la variable  \"&$R$57&\"\"&\". Digite Cero si no tiene.\",IF(R60>C60,\"  * La variable  \"&$R$57&\"\"&\" No puede ser mayor al Total.\",\"\"))","v":""},null,null,null,null,null,null,null,null,null,{"$f":"IF(AND(C60>0,Q60=\"\"),1,IF(Q60>C60,1,0))","v":0},{"$f":"IF(AND(C60>0,R60=\"\"),1,IF(R60>C60,1,0))","v":0}]
["D.I.U. con Levonorgestrel",null,{"$f":"SUM(D61:M61)","v":0},null,null,null,null,null,null,null,null,null,null,null,null,null,null,null,{"$f":"BQ61&BR61","v":""},null,null,null,null,null,null,null,null,null,null,null,null,null,null,null,null,null,null,null,null,null,null,null,null,null,null,null,null,null,null,null,null,null,null,null,null,null,null,null,null,null,null,null,null,null,null,null,null,null,{"$f":"IF(AND(C61>0,Q61=\"\"),\" *   No olvide digitar la variable \"&$Q$57&\"\"&\". Digite Cero si no tiene.\",IF(Q61>C61,\"  * La variable  \"&$Q$57&\"\"&\" No puede ser mayor al Total.\",\"\"))","v":""},{"$f":"IF(AND(C61>0,R61=\"\"),\" *   No olvide digitar la variable  \"&$R$57&\"\"&\". Digite Cero si no tiene.\",IF(R61>C61,\"  * La variable  \"&$R$57&\"\"&\" No puede ser mayor al Total.\",\"\"))","v":""},null,null,null,null,null,null,null,null,null,{"$f":"IF(AND(C61>0,Q61=\"\"),1,IF(Q61>C61,1,0))","v":0},{"$f":"IF(AND(C61>0,R61=\"\"),1,IF(R61>C61,1,0))","v":0}]
["Hormonal","Oral Combinado",{"$f":"SUM(D62:M62)","v":0},null,null,null,null,null,null,null,null,null,null,null,null,null,null,null,"",null,null,null,null,null,null,null,null,null,null,null,null,null,null,null,null,null,null,null,null,null,null,null,null,null,null,null,null,null,null,null,null,null,null,null,null,null,null,null,null,null,null,null,null,null,null,null,null,null,"","",null,null,null,null,null,null,null,null,null,0,0]
[null,"Oral Progestágeno",0,null,null,null,null,null,null,null,null,null,null,null,null,null,null,null,"",null,null,null,null,null,null,null,null,null,null,null,null,null,null,null,null,null,null,null,null,null,null,null,null,null,null,null,null,null,null,null,null,null,null,null,null,null,null,null,null,null,null,null,null,null,null,null,null,null,{"$f":"IF(AND(C63>0,Q63=\"\"),\" *   No olvide digitar la variable \"&$Q$57&\"\"&\". Digite Cero si no tiene.\",IF(Q63>C63,\"  * La variable  \"&$Q$57&\"\"&\" No puede ser mayor al Total.\",\"\"))","v":""},"",null,null,null,null,null,null,null,null,null,0,0]
[null,"Inyectable Combinado",0,null,null,null,null,null,null,null,null,null,null,null,null,null,null,null,"",null,null,null,null,null,null,null,null,null,null,null,null,null,null,null,null,null,null,null,null,null,null,null,null,null,null,null,null,null,null,null,null,null,null,null,null,null,null,null,null,null,null,null,null,null,null,null,null,null,"","",null,null,null,null,null,null,null,null,null,0,0]
[null,"Inyectable Progestágeno",0,null,null,null,null,null,null,null,null,null,null,null,null,null,null,null,"",null,null,null,null,null,null,null,null,null,null,null,null,null,null,null,null,null,null,null,null,null,null,null,null,null,null,null,null,null,null,null,null,null,null,null,null,null,null,null,null,null,null,null,null,null,null,null,null,null,"","",null,null,null,null,null,null,null,null,null,0,0]
[null,"Implante Etonogestrel (3 años)",0,null,null,null,null,null,null,null,null,null,null,null,null,null,null,null,"",null,null,null,null,null,null,null,null,null,null,null,null,null,null,null,null,null,null,null,null,null,null,null,null,null,null,null,null,null,null,null,null,null,null,null,null,null,null,null,null,null,null,null,null,null,null,null,null,null,"","",null,null,null,null,null,null,null,null,null,0,0]
[null,"Implante Levonorgestrel (5 años)",0,null,null,null,null,null,null,null,null,null,null,null,null,null,null,null,"",null,null,null,null,null,null,null,null,null,null,null,null,null,null,null,null,null,null,null,null,null,null,null,null,null,null,null,null,null,null,null,null,null,null,null,null,null,null,null,null,null,null,null,null,null,null,null,null,null,"","",null,null,null,null,null,null,null,null,null,0,0]
[null,"Anillo Vaginal",{"$f":"SUM(D68:M68)","v":0},null,null,null,null,null,null,null,null,null,null,null,null,null,null,null,"",null,null,null,null,null,null,null,null,null,null,null,null,null,null,null,null,null,null,null,null,null,null,null,null,null,null,null,null,null,null,null,null,null,null,null,null,null,null,null,null,null,null,null,null,null,null,null,null,null,"","",null,null,null,null,null,null,null,null,null,0,0]
[" Sólo preservativo MAC                                                                                                                                                                                                                                             ","Mujer",0,null,null,null,null,null,null,null,null,null,null,null,null,null,null,null,"",null,null,null,null,null,null,null,null,null,null,null,null,null,null,null,null,null,null,null,null,null,null,null,null,null,null,null,null,null,null,null,null,null,null,null,null,null,null,null,null,null,null,null,null,null,null,null,null,null,"","",null,null,null,null,null,null,null,null,null,0,0]
[null,"Hombres",0,null,null,null,null,null,null,null,null,null,null,null,null,null,null,null,"",null,null,null,null,null,null,null,null,null,null,null,null,null,null,null,null,null,null,null,null,null,null,null,null,null,null,null,null,null,null,null,null,null,null,null,null,null,null,null,null,null,null,null,null,null,null,null,null,null,"","",null,null,null,null,null,null,null,null,null,0,0]
["Esterilización Quirúrgica","Mujer",0,null,null,null,null,null,null,null,null,null,null,null,null,null,null,null,"",null,null,null,null,null,null,null,null,null,null,null,null,null,null,null,null,null,null,null,null,null,null,null,null,null,null,null,null,null,null,null,null,null,null,null,null,null,null,null,null,null,null,null,null,null,null,null,null,null,"","",null,null,null,null,null,null,null,null,null,0,0]
[null,"Hombres",0,null,null,null,null,null,null,null,null,null,null,null,null,null,null,null,"",null,null,null,null,null,null,null,null,null,null,null,null,null,null,null,null,null,null,null,null,null,null,null,null,null,null,null,null,null,null,null,null,null,null,null,null,null,null,null,null,null,null,null,null,null,null,null,null,null,"","",null,null,null,null,null,null,null,null,null,0,0]
["Método de Regulación de Fertilidad más Preservativos",null,0,null,null,null,null,null,null,null,null,null,null,null,null,null,null,null,"",null,null,null,null,null,null,null,null,null,null,null,null,null,null,null,null,null,null,null,null,null,null,null,null,null,null,null,null,null,null,null,null,null,null,null,null,null,null,null,null,null,null,null,null,null,null,null,null,null,"","",null,null,null,null,null,null,null,null,null,0,0]
["Gestantes que reciben preservativo",null,0,null,null,null,null,null,null,null,null,null,null,null,null,null,null,null,"",null,null,null,null,null,null,null,null,null,null,null,null,null,null,null,null,null,null,null,null,null,null,null,null,null,null,null,null,null,null,null,null,null,null,null,null,null,null,null,null,null,null,null,null,null,null,null,null,null,"","",null,null,null,null,null,null,null,null,null,0,0]
["Preservativo/Practica Sexual Segura","Mujer",{"$f":"SUM(D75:P75)","v":0},null,null,null,null,null,null,null,null,null,null,null,null,null,null,null,"",null,null,null,null,null,null,null,null,null,null,null,null,null,null,null,null,null,null,null,null,null,null,null,null,null,null,null,null,null,null,null,null,null,null,null,null,null,null,null,null,null,null,null,null,null,null,null,null,null,"","",null,null,null,null,null,null,null,null,null,0,0]
[null,"Hombres",{"$f":"SUM(D76:P76)","v":0},null,null,null,null,null,null,null,null,null,null,null,null,null,null,null,"",null,null,null,null,null,null,null,null,null,null,null,null,null,null,null,null,null,null,null,null,null,null,null,null,null,null,null,null,null,null,null,null,null,null,null,null,null,null,null,null,null,null,null,null,null,null,null,null,null,"","",null,null,null,null,null,null,null,null,null,0,0]
["Lubricantes","Mujer",{"$f":"SUM(D77:P77)","v":0},null,null,null,null,null,null,null,null,null,null,null,null,null,null,null,"",null,null,null,null,null,null,null,null,null,null,null,null,null,null,null,null,null,null,null,null,null,null,null,null,null,null,null,null,null,null,null,null,null,null,null,null,null,null,null,null,null,null,null,null,null,null,null,null,null,"","",null,null,null,null,null,null,null,null,null,0,0]
[null,"Hombres",{"$f":"SUM(D78:P78)","v":0},null,null,null,null,null,null,null,null,null,null,null,null,null,null,null,"",null,null,null,null,null,null,null,null,null,null,null,null,null,null,null,null,null,null,null,null,null,null,null,null,null,null,null,null,null,null,null,null,null,null,null,null,null,null,null,null,null,null,null,null,null,null,null,null,null,"","",null,null,null,null,null,null,null,null,null,0,0]
["Condón Femenino",null,{"$f":"SUM(D79:P79)","v":0},null,null,null,null,null,null,null,null,null,null,null,null,null,null,null,"",null,null,null,null,null,null,null,null,null,null,null,null,null,null,null,null,null,null,null,null,null,null,null,null,null,null,null,null,null,null,null,null,null,null,null,null,null,null,null,null,null,null,null,null,null,null,null,null,null,"","",null,null,null,null,null,null,null,null,null,0,0]
["SECCIÓN D: INGRESOS A PROGRAMA CONTROL DE CLIMATERIO "]
["CONCEPTO","TOTAL"]
["Ingresos"]
["SECCIÓN E:  INGRESOS  A CONTROL DE SALUD DE RECIÉN NACIDOS"]
["EDAD",null,"TOTAL","Niños","Niñas"]
["Menores de 28 días ",null,{"$f":"SUM(D85:E85)","v":0}]
["SECCIÓN F:  INGRESOS Y EGRESOS A SALA DE ESTIMULACIÓN, SERVICIO ITINERANTE Y ATENCIÓN DOMICILIARIA "]
["NIÑO / A (CON) ",null,"TOTAL    ",null,null,"Sala de Estimulación",null,null,null,null,null,"Servicio Itinerante en Centro de Salud",null,null,null,null,null,"Atención Domiciliaria",null,null,null,null,null,"Egresos",null,null,null,"Resultados de La Reevaluación Post Egreso",null,"Pueblos Originarios","Migrantes"]
[null,null,null,null,null,"0-11 meses",null,"12-23 meses",null,"24- 59 meses",null,"0-11 meses",null,"12-23 meses",null,"24-59 meses",null,"0-11 meses",null,"12-23 meses",null,"24-59 meses",null,"Motivo Egreso"]
[null,null,"Ambos Sexos","Hombres","Mujeres","Hombres","Mujeres","Hombres","Mujeres","Hombres","Mujeres","Hombres","Mujeres","Hombres","Mujeres","Hombres","Mujeres","Hombres","Mujeres","Hombres","Mujeres","Hombres","Mujeres","Cumplimiento de tratamiento","Derivación a Especialidad","Otros","Inasistente","Recuperado","No Recuperado"]
["Normal con Rezago",null,{"$f":"SUM(D90:E90)","v":0},{"$f":"SUM(F90+H90+J90+L90+N90+P90+R90+T90+V90)","v":0},{"$f":"SUM(G90+I90+K90+M90+O90+Q90+S90+U90+W90)","v":0},null,null,null,null,null,null,null,null,null,null,null,null,null,null,null,null,null,null,null,null,null,null,null,null,null,null,{"$f":"BQ90&BR90","v":""},null,null,null,null,null,null,null,null,null,null,null,null,null,null,null,null,null,null,null,null,null,null,null,null,null,null,null,null,null,null,null,null,null,null,null,null,{"$f":"IF(AND(C90>0,AD90=\"\"),\"  * No olvide digitar la variable Pueblos originarios. Digite Cero si no tiene.\",IF(AD90>C90,\"  * La variable Pueblos originarios No puede ser mayor al Total.\",\"\"))","v":""},{"$f":"IF(AND(C90>0,AE90=\"\"),\"  * No olvide digitar la variable Migrantes. Digite Cero si no tiene.\",IF(AE90>C90,\"  * La variable Migrantes No puede ser mayor al Total.\",\"\"))","v":""},null,null,null,null,null,null,null,null,null,{"$f":"IF(AND(C90>0,AD90=\"\"),1,IF(AD90>C90,1,0))","v":0},{"$f":"IF(AND(C90>0,AE90=\"\"),1,IF(AE90>C90,1,0))","v":0}]
["Riesgo",null,{"$f":"SUM(D91:E91)","v":0},{"$f":"SUM(F91+H91+J91+L91+N91+P91+R91+T91+V91)","v":0},0,null,null,null,null,null,null,null,null,null,null,null,null,null,null,null,null,null,null,null,null,null,null,null,null,null,null,{"$f":"BQ91&BR91","v":""},null,null,null,null,null,null,null,null,null,null,null,null,null,null,null,null,null,null,null,null,null,null,null,null,null,null,null,null,null,null,null,null,null,null,null,null,{"$f":"IF(AND(C91>0,AD91=\"\"),\"  * No olvide digitar la variable Pueblos originarios. Digite Cero si no tiene.\",IF(AD91>C91,\"  * La variable Pueblos originarios No puede ser mayor al Total.\",\"\"))","v":""},{"$f":"IF(AND(C91>0,AE91=\"\"),\"  * No olvide digitar la variable Migrantes. Digite Cero si no tiene.\",IF(AE91>C91,\"  * La variable Migrantes No puede ser mayor al Total.\",\"\"))","v":""},null,null,null,null,null,null,null,null,null,{"$f":"IF(AND(C91>0,AD91=\"\"),1,IF(AD91>C91,1,0))","v":0},{"$f":"IF(AND(C91>0,AE91=\"\"),1,IF(AE91>C91,1,0))","v":0}]
["Retraso",null,{"$f":"SUM(D92:E92)","v":0},0,0,null,null,null,null,null,null,null,null,null,null,null,null,null,null,null,null,null,null,null,null,null,null,null,null,null,null,"",null,null,null,null,null,null,null,null,null,null,null,null,null,null,null,null,null,null,null,null,null,null,null,null,null,null,null,null,null,null,null,null,null,null,null,null,"","",null,null,null,null,null,null,null,null,null,0,0]
["Normal con Riesgo Biopsicosocial",null,{"$f":"SUM(D93:E93)","v":0},0,0,null,null,null,null,null,null,null,null,null,null,null,null,null,null,null,null,null,null,null,null,null,null,null,null,null,null,"",null,null,null,null,null,null,null,null,null,null,null,null,null,null,null,null,null,null,null,null,null,null,null,null,null,null,null,null,null,null,null,null,null,null,null,null,"","",null,null,null,null,null,null,null,null,null,0,0]
["SECCIÓN F.1: REINGRESOS Y EGRESOS POR SEGUNDA VEZ A SALA DE ESTIMULACIÓN, SERVICIO ITINERANTE Y ATENCIÓN DOMICILIARIA"]
["NIÑO / A (CON) ",null,"TOTAL    ",null,null,"Sala de estimulación",null,null,null,null,null,"Servicio Itinerante",null,null,null,null,null,"Atención domiciliaria",null,null,null,null,null,"Egresos por Segunda Vez y Resultados de la Reevaluación Post Egreso",null,null,null,null,null,"Pueblos Originarios","Migrantes"]
[null,null,null,null,null,"0-11 meses",null,"12-23 meses",null,"24-59 meses",null,"0-11 meses",null,"12-23 meses",null,"24- 59 meses",null,"0-11 meses",null,"12-23 meses",null,"24- 59 meses",null,"Motivo Egreso",null,null,null,"Resultado de Reevaluación"]
[null,null,"Ambos Sexos","Hombres","Mujeres","Hombres","Mujeres","Hombres","Mujeres","Hombres","Mujeres","Hombres","Mujeres","Hombres","Mujeres","Hombres","Mujeres","Hombres","Mujeres","Hombres","Mujeres","Hombres","Mujeres","Cumplimien-to de tratamiento","Derivación a Especialidad","Otros","Inasistente","Recuperado","No Recuperado"]
["Normal con Rezago",null,{"$f":"SUM(D98:E98)","v":0},{"$f":"SUM(F98+H98+J98+L98+N98+P98+R98+T98+V98)","v":0},{"$f":"SUM(G98+I98+K98+M98+O98+Q98+S98+U98+W98)","v":0},null,null,null,null,null,null,null,null,null,null,null,null,null,null,null,null,null,null,null,null,null,null,null,null,null,null,{"$f":"BQ98&BR98","v":""},null,null,null,null,null,null,null,null,null,null,null,null,null,null,null,null,null,null,null,null,null,null,null,null,null,null,null,null,null,null,null,null,null,null,null,null,{"$f":"IF(AND(C98>0,AD98=\"\"),\" * No olvide digitar la variable Pueblos originarios. Digite Cero si no tiene.\",IF(AD98>C98,\"  * La variable Pueblos originarios No puede ser mayor al Total.\",\"\"))","v":""},{"$f":"IF(AND(C98>0,AE98=\"\"),\" * No olvide digitar la variable Migrantes. Digite Cero si no tiene.\",IF(AE98>C98,\"  * La variable Migrantes No puede ser mayor al Total.\",\"\"))","v":""},null,null,null,null,null,null,null,null,null,{"$f":"IF(AND(C98>0,AD98=\"\"),1,IF(AD98>C98,1,0))","v":0},{"$f":"IF(AND(C98>0,AE98=\"\"),1,IF(AE98>C98,1,0))","v":0}]
["Riesgo",null,{"$f":"SUM(D99:E99)","v":0},{"$f":"SUM(F99+H99+J99+L99+N99+P99+R99+T99+V99)","v":0},0,null,null,null,null,null,null,null,null,null,null,null,null,null,null,null,null,null,null,null,null,null,null,null,null,null,null,{"$f":"BQ99&BR99","v":""},null,null,null,null,null,null,null,null,null,null,null,null,null,null,null,null,null,null,null,null,null,null,null,null,null,null,null,null,null,null,null,null,null,null,null,null,{"$f":"IF(AND(C99>0,AD99=\"\"),\" * No olvide digitar la variable Pueblos originarios. Digite Cero si no tiene.\",IF(AD99>C99,\"  * La variable Pueblos originarios No puede ser mayor al Total.\",\"\"))","v":""},{"$f":"IF(AND(C99>0,AE99=\"\"),\" * No olvide digitar la variable Migrantes. Digite Cero si no tiene.\",IF(AE99>C99,\"  * La variable Migrantes No puede ser mayor al Total.\",\"\"))","v":""},null,null,null,null,null,null,null,null,null,{"$f":"IF(AND(C99>0,AD99=\"\"),1,IF(AD99>C99,1,0))","v":0},{"$f":"IF(AND(C99>0,AE99=\"\"),1,IF(AE99>C99,1,0))","v":0}]
["Retraso",null,{"$f":"SUM(D100:E100)","v":0},0,0,null,null,null,null,null,null,null,null,null,null,null,null,null,null,null,null,null,null,null,null,null,null,null,null,null,null,"",null,null,null,null,null,null,null,null,null,null,null,null,null,null,null,null,null,null,null,null,null,null,null,null,null,null,null,null,null,null,null,null,null,null,null,null,"","",null,null,null,null,null,null,null,null,null,0,0]
["Normal con Riesgo Biopsicosocial",null,{"$f":"SUM(D101:E101)","v":0},0,0,null,null,null,null,null,null,null,null,null,null,null,null,null,null,null,null,null,null,null,null,null,null,null,null,null,null,"",null,null,null,null,null,null,null,null,null,null,null,null,null,null,null,null,null,null,null,null,null,null,null,null,null,null,null,null,null,null,null,null,null,null,null,null,"","",null,null,null,null,null,null,null,null,null,0,0]
["SECCIÓN G: INGRESO DE NIÑOS, NIÑAS Y ADOLESCENTES CON NECESIDADES ESPECIALES  A CONTROL DE SALUD EN APS"]
["NANEAS",null,"TOTAL",null,null,"RANGO ETARIO Y SEXO"]
[null,null,null,null,null," 0 - 4 años",null," 5 - 9 años",null," 10 -14 años",null,"15 - 19 años"]
[null,null,"Ambos Sexos","Hombres","Mujeres","Hombres","Mujeres","Hombres","Mujeres","Hombres","Mujeres","Hombres","Mujeres"]
["Total Ingresos",null,{"$f":"SUM(D106:E106)","v":0},{"$f":"+F106+H106+J106+L106","v":0},0,{"$f":"SUM(F107:F109)","v":0},{"$f":"SUM(G107:G109)","v":0},0,0,0,0,0,0]
["Baja Complejidad",null,{"$f":"SUM(D107:E107)","v":0},0,0]
["Mediana Complejidad",null,{"$f":"SUM(D108:E108)","v":0},0,0]
["Alta Complejidad",null,{"$f":"SUM(D109:E109)","v":0},0,0]
["SECCIÓN H: INGRESOS AL PSCV"]
["CONCEPTO",null,"TOTAL",null,null,"RANGO ETARIO Y SEXO",null,null,null,null,null,null,null,null,null,null,null,null,null,null,null,null,null,null,null,null,null,null,null,null,null,null,null,"Pueblos Originarios","Migrantes"]
[null,null,null,null,null,"15 - 19 años",null,"20 - 24 años",null,"25 - 29 años",null,"30 - 34 años",null,"35 - 39 años",null,"40 - 44 años",null,"45 - 49 años",null,"50 - 54 años",null,"55 - 59 años",null,"60 - 64 años",null,"65 - 69 años",null,"70 - 74 años",null,"75 - 79 años",null,"80 y más años"]
[null,null,"Ambos Sexos","Hombres","Mujeres","Hombres","Mujeres","Hombres","Mujeres","Hombres","Mujeres","Hombres","Mujeres","Hombres","Mujeres","Hombres","Mujeres","Hombres","Mujeres","Hombres","Mujeres","Hombres","Mujeres","Hombres","Mujeres","Hombres","Mujeres","Hombres","Mujeres","Hombres","Mujeres","Hombres","Mujeres"]
["Ingresos al PSCV",null,{"$f":"SUM(D114:E114)","v":0},{"$f":"SUM(F114+H114+J114+L114+N114+P114+R114+T114+V114+X114+Z114+AB114+AD114+AF114)","v":0},{"$f":"SUM(+G114+I114+K114+M114+O114+Q114+S114+U114+W114+Y114+AA114+AC114+AE114+AG114)","v":0},null,null,null,null,null,null,null,null,null,null,null,null,null,null,null,null,null,null,null,null,null,null,null,null,null,null,null,null,null,null,{"$f":"BQ114&BR114","v":""},null,null,null,null,null,null,null,null,null,null,null,null,null,null,null,null,null,null,null,null,null,null,null,null,null,null,null,null,null,null,null,null,{"$f":"IF(AND(C114>0,AH114=\"\"),\" * No olvide digitar la variable Pueblos originarios. Digite Cero si no tiene.\",IF(AH114>C114,\"* La variable Pueblos originarios No puede ser mayor al Total.\",\"\"))","v":""},{"$f":"IF(AND(C114>0,AI114=\"\"),\" * No olvide digitar la variable Migrantes. Digite Cero si no tiene.\",IF(AI114>C114,\"* La variable Migrantes No puede ser mayor al Total.\",\"\"))","v":""},null,null,null,null,null,null,null,null,null,{"$f":"IF(AND(C114>0,AH114=\"\"),1,IF(AH114>C114,1,0))","v":0},{"$f":"IF(AND(C114>0,AI114=\"\"),1,IF(AI114>C114,1,0))","v":0}]
["Programa de Salud Cardiovascular","Hipertensión Arterial",{"$f":"SUM(D115:E115)","v":0},{"$f":"SUM(F115+H115+J115+L115+N115+P115+R115+T115+V115+X115+Z115+AB115+AD115+AF115)","v":0},{"$f":"SUM(+G115+I115+K115+M115+O115+Q115+S115+U115+W115+Y115+AA115+AC115+AE115+AG115)","v":0},null,null,null,null,null,null,null,null,null,null,null,null,null,null,null,null,null,null,null,null,null,null,null,null,null,null,null,null,null,null,{"$f":"BQ115&BR115","v":""},null,null,null,null,null,null,null,null,null,null,null,null,null,null,null,null,null,null,null,null,null,null,null,null,null,null,null,null,null,null,null,null,{"$f":"IF(AND(C115>0,AH115=\"\"),\" * No olvide digitar la variable Pueblos originarios. Digite Cero si no tiene.\",IF(AH115>C115,\"* La variable Pueblos originarios No puede ser mayor al Total.\",\"\"))","v":""},{"$f":"IF(AND(C115>0,AI115=\"\"),\" * No olvide digitar la variable Migrantes. Digite Cero si no tiene.\",IF(AI115>C115,\"* La variable Migrantes No puede ser mayor al Total.\",\"\"))","v":""},null,null,null,null,null,null,null,null,null,{"$f":"IF(AND(C115>0,AH115=\"\"),1,IF(AH115>C115,1,0))","v":0},{"$f":"IF(AND(C115>0,AI115=\"\"),1,IF(AI115>C115,1,0))","v":0}]
[null,"Diabetes Mellitus",0,0,{"$f":"SUM(+G116+I116+K116+M116+O116+Q116+S116+U116+W116+Y116+AA116+AC116+AE116+AG116)","v":0},null,null,null,null,null,null,null,null,null,null,null,null,null,null,null,null,null,null,null,null,null,null,null,null,null,null,null,null,null,null,"",null,null,null,null,null,null,null,null,null,null,null,null,null,null,null,null,null,null,null,null,null,null,null,null,null,null,null,null,null,null,null,null,"","",null,null,null,null,null,null,null,null,null,0,0]
[null,"Dislipidemia",0,0,{"$f":"SUM(+G117+I117+K117+M117+O117+Q117+S117+U117+W117+Y117+AA117+AC117+AE117+AG117)","v":0},null,null,null,null,null,null,null,null,null,null,null,null,null,null,null,null,null,null,null,null,null,null,null,null,null,null,null,null,null,null,"",null,null,null,null,null,null,null,null,null,null,null,null,null,null,null,null,null,null,null,null,null,null,null,null,null,null,null,null,null,null,null,null,"","",null,null,null,null,null,null,null,null,null,0,0]
[null,"Antecedentes Enf. Cardiovascular (F.Ventricular-IAM)",0,0,0,null,null,null,null,null,null,null,null,null,null,null,null,null,null,null,null,null,null,null,null,null,null,null,null,null,null,null,null,null,null,"",null,null,null,null,null,null,null,null,null,null,null,null,null,null,null,null,null,null,null,null,null,null,null,null,null,null,null,null,null,null,null,null,"","",null,null,null,null,null,null,null,null,null,0,0]
[null,"Antecedentes Enf. Cerebrovascular (ACV)",0,0,0,null,null,null,null,null,null,null,null,null,null,null,null,null,null,null,null,null,null,null,null,null,null,null,null,null,null,null,null,null,null,"",null,null,null,null,null,null,null,null,null,null,null,null,null,null,null,null,null,null,null,null,null,null,null,null,null,null,null,null,null,null,null,null,"","",null,null,null,null,null,null,null,null,null,0,0]
[null,"Enfermedad Renal Crónica",0,0,0,null,null,null,null,null,null,null,null,null,null,null,null,null,null,null,null,null,null,null,null,null,null,null,null,null,null,null,null,null,null,"",null,null,null,null,null,null,null,null,null,null,null,null,null,null,null,null,null,null,null,null,null,null,null,null,null,null,null,null,null,null,null,null,"","",null,null,null,null,null,null,null,null,null,0,0]
[null,"Tabaquismo",0,0,0,null,null,null,null,null,null,null,null,null,null,null,null,null,null,null,null,null,null,null,null,null,null,null,null,null,null,null,null,null,null,"",null,null,null,null,null,null,null,null,null,null,null,null,null,null,null,null,null,null,null,null,null,null,null,null,null,null,null,null,null,null,null,null,"","",null,null,null,null,null,null,null,null,null,0,0]
["Protocolo HEARTS",null,0,0,0,null,null,null,null,null,null,null,null,null,null,null,null,null,null,null,null,null,null,null,null,null,null,null,null,null,null,null,null,null,null,"",null,null,null,null,null,null,null,null,null,null,null,null,null,null,null,null,null,null,null,null,null,null,null,null,null,null,null,null,null,null,null,null,"","",null,null,null,null,null,null,null,null,null,0,0]
["SECCIÓN I: EGRESOS  DEL PSCV"]
["CONCEPTO",null,"TOTAL",null,null,"RANGO ETARIO Y SEXO",null,null,null,null,null,null,null,null,null,null,null,null,null,null,null,null,null,null,null,null,null,null,null,null,null,null,null,"CAUSAL DE EGRESO",null,null,null,"Pueblos Originarios","Migrantes"]
[null,null,null,null,null,"15 - 19 años",null,"20 - 24 años",null,"25 - 29 años",null,"30 - 34 años",null,"35 - 39 años",null,"40 - 44 años",null,"45 - 49 años",null,"50 - 54 años",null,"55 - 59 años",null,"60 - 64 años",null,"65 - 69 años",null,"70 - 74 años",null,"75 - 79 años",null,"80 y más años",null,"Abandono","Traslado","Fallecimiento","No cumple criterio de inclusión"]
[null,null,"Ambos Sexos","Hombres","Mujeres","Hombres","Mujeres","Hombres","Mujeres","Hombres","Mujeres","Hombres","Mujeres","Hombres","Mujeres","Hombres","Mujeres","Hombres","Mujeres","Hombres","Mujeres","Hombres","Mujeres","Hombres","Mujeres","Hombres","Mujeres","Hombres","Mujeres","Hombres","Mujeres","Hombres","Mujeres"]
["Egresos del PSCV",null,{"$f":"SUM(D127:E127)","v":0},{"$f":"SUM(F127+H127+J127+L127+N127+P127+R127+T127+V127+X127+Z127+AB127+AD127+AF127)","v":0},{"$f":"SUM(G127+I127+K127+M127+O127+Q127+S127+U127+W127+Y127+AA127+AC127+AE127+AG127)","v":0},null,null,null,null,null,null,null,null,null,null,null,null,null,null,null,null,null,null,null,null,null,null,null,null,null,null,null,null,null,null,null,null,null,null,{"$f":"BQ127&BR127&BS127","v":""},null,null,null,null,null,null,null,null,null,null,null,null,null,null,null,null,null,null,null,null,null,null,null,null,null,null,null,null,{"$f":"IF(AND(C127>0,AL127=\"\"),\"  * No olvide digitar la variable Pueblos originarios. Digite Cero si no tiene.\",IF(AL127>C127,\"  * La variable Pueblos originarios No puede ser mayor al Total.\",\"\"))","v":""},{"$f":"IF(AND(C127>0,AM127=\"\"),\"  * No olvide digitar la variable Migrantes. Digite Cero si no tiene.\",IF(AM127>C127,\"  * La variable Migrantes No puede ser mayor al Total.\",\"\"))","v":""},{"$f":"IF(OR(AH127+AI127+AJ127+AK127>C127,),\" ** La suma de Causal de Egresos no deben ser mayor que el total Ambos Sexos\",\"\")","v":""},null,null,null,null,null,null,null,null,{"$f":"IF(AND(C127>0,AL127=\"\"),1,IF(AL127>C127,1,0))","v":0},{"$f":"IF(AND(C127>0,AM127=\"\"),1,IF(AM127>C127,1,0))","v":0},{"$f":"IF((AH127+AI127+AJ127+AK127)>C127,1,0)","v":0}]
["Programa de Salud Cardiovascular","Hipertensión Arterial",{"$f":"SUM(D128:E128)","v":0},{"$f":"SUM(F128+H128+J128+L128+N128+P128+R128+T128+V128+X128+Z128+AB128+AD128+AF128)","v":0},0,null,null,null,null,null,null,null,null,null,null,null,null,null,null,null,null,null,null,null,null,null,null,null,null,null,null,null,null,null,null,null,null,null,null,{"$f":"BQ128&BR128&BS128","v":""},null,null,null,null,null,null,null,null,null,null,null,null,null,null,null,null,null,null,null,null,null,null,null,null,null,null,null,null,{"$f":"IF(AND(C128>0,AL128=\"\"),\"  * No olvide digitar la variable Pueblos originarios. Digite Cero si no tiene.\",IF(AL128>C128,\"  * La variable Pueblos originarios No puede ser mayor al Total.\",\"\"))","v":""},{"$f":"IF(AND(C128>0,AM128=\"\"),\"  * No olvide digitar la variable Migrantes. Digite Cero si no tiene.\",IF(AM128>C128,\"  * La variable Migrantes No puede ser mayor al Total.\",\"\"))","v":""},{"$f":"IF(OR(AH128+AI128+AJ128+AK128>C128,),\" ** La suma de Causal de Egresos no deben ser mayor que el total Ambos Sexos\",\"\")","v":""},null,null,null,null,null,null,null,null,{"$f":"IF(AND(C128>0,AL128=\"\"),1,IF(AL128>C128,1,0))","v":0},{"$f":"IF(AND(C128>0,AM128=\"\"),1,IF(AM128>C128,1,0))","v":0},{"$f":"IF((AH128+AI128+AJ128+AK128)>C128,1,0)","v":0}]
[null,"Diabetes Mellitus",0,0,0,null,null,null,null,null,null,null,null,null,null,null,null,null,null,null,null,null,null,null,null,null,null,null,null,null,null,null,null,null,null,null,null,null,null,"",null,null,null,null,null,null,null,null,null,null,null,null,null,null,null,null,null,null,null,null,null,null,null,null,null,null,null,null,"","","",null,null,null,null,null,null,null,null,0,0,0]
[null,"Dislipidemia",0,0,0,null,null,null,null,null,null,null,null,null,null,null,null,null,null,null,null,null,null,null,null,null,null,null,null,null,null,null,null,null,null,null,null,null,null,"",null,null,null,null,null,null,null,null,null,null,null,null,null,null,null,null,null,null,null,null,null,null,null,null,null,null,null,null,"","","",null,null,null,null,null,null,null,null,0,0,0]
[null,"Antecedentes Enf. Cardiovascular (F.Ventricular-IAM)",0,0,0,null,null,null,null,null,null,null,null,null,null,null,null,null,null,null,null,null,null,null,null,null,null,null,null,null,null,null,null,null,null,null,null,null,null,"",null,null,null,null,null,null,null,null,null,null,null,null,null,null,null,null,null,null,null,null,null,null,null,null,null,null,null,null,"","","",null,null,null,null,null,null,null,null,0,0,0]
[null,"Antecedentes Enf. Cerebrovascular (ACV)",0,0,0,null,null,null,null,null,null,null,null,null,null,null,null,null,null,null,null,null,null,null,null,null,null,null,null,null,null,null,null,null,null,null,null,null,null,"",null,null,null,null,null,null,null,null,null,null,null,null,null,null,null,null,null,null,null,null,null,null,null,null,null,null,null,null,"","","",null,null,null,null,null,null,null,null,0,0,0]
[null,"Enfermedad Renal Crónica",0,0,0,null,null,null,null,null,null,null,null,null,null,null,null,null,null,null,null,null,null,null,null,null,null,null,null,null,null,null,null,null,null,null,null,null,null,{"$f":"BQ133&BR133&BS133","v":""},null,null,null,null,null,null,null,null,null,null,null,null,null,null,null,null,null,null,null,null,null,null,null,null,null,null,null,null,"","","",null,null,null,null,null,null,null,null,0,0,0]
[null,"Tabaquismo",0,0,0,null,null,null,null,null,null,null,null,null,null,null,null,null,null,null,null,null,null,null,null,null,null,null,null,null,null,null,null,null,null,null,null,null,null,"",null,null,null,null,null,null,null,null,null,null,null,null,null,null,null,null,null,null,null,null,null,null,null,null,null,null,null,null,"","","",null,null,null,null,null,null,null,null,0,0,0]
["SECCIÓN J: INGRESOS Y EGRESOS AL PROGRAMA DE PACIENTES CON DEPENDENCIA LEVE, MODERADA Y SEVERA "]
["CONCEPTO",null,"TOTAL",null,null,"RANGO ETARIO Y SEXO",null,null,null,null,null,null,null,null,null,null,null,null,null,null,null,null,null,null,null,null,null,null,null,null,null,null,null,null,null,null,null,null,null,"CAUSAL DE EGRESO",null,null,"Pueblos Originarios","Migrantes"]
[null,null,null,null,null," 0 - 4 años",null," 5 - 9 años",null," 10 - 14 años",null,"15 - 19 años",null,"20 - 24 años",null,"25 - 29 años",null,"30 - 34 años",null,"35 - 39 años",null,"40 - 44 años",null,"45 - 49 años",null,"50 - 54 años",null,"55 - 59 años",null,"60 - 64 años",null,"65 - 69 años",null,"70 - 74 años",null,"75 - 79 años",null,"80 y más años",null,"Altas","Abandono/\nTraslado","Fallecimiento"]
[null,null,"Ambos Sexos","Hombres","Mujeres","Hombres","Mujeres","Hombres","Mujeres","Hombres","Mujeres","Hombres","Mujeres","Hombres","Mujeres","Hombres","Mujeres","Hombres","Mujeres","Hombres","Mujeres","Hombres","Mujeres","Hombres","Mujeres","Hombres","Mujeres","Hombres","Mujeres","Hombres","Mujeres","Hombres","Mujeres","Hombres","Mujeres","Hombres","Mujeres","Hombres","Mujeres"]
["Dependencia Leve",null,{"$f":"SUM(D139:E139)","v":0},{"$f":"SUM(F139+H139+J139+L139+N139+P139+R139+T139+V139+X139+Z139+AB139+AD139+AF139+AH139+AJ139+AL139)","v":0},{"$f":"SUM(G139+I139+K139+M139+O139+Q139+S139+U139+W139+Y139+AA139+AC139+AE139+AG139+AI139+AK139+AM139)","v":0},null,null,null,null,null,null,null,null,null,null,null,null,null,null,null,null,null,null,null,null,null,null,null,null,null,null,null,null,null,null,null,null,null,null,null,null,null,null,null,{"$f":"BQ139&BR139","v":""},null,null,null,null,null,null,null,null,null,null,null,null,null,null,null,null,null,null,null,null,null,null,null,{"$f":"IF(AND(C139>0,AQ139=\"\"),\"  * No olvide digitar la variable Pueblos originarios. Digite Cero si no tiene.\",IF(AQ139>C139,\"  * La variable Pueblos originarios No puede ser mayor al Total.\",\"\"))","v":""},{"$f":"IF(AND(C139>0,AR139=\"\"),\"  * No olvide digitar la variable Migrantes. Digite Cero si no tiene.\",IF(AR139>C139,\"  * La variable Migrantes No puede ser mayor al Total.\",\"\"))","v":""},null,null,null,null,null,null,null,null,null,{"$f":"IF(AND(C139>0,AQ139=\"\"),1,IF(AQ139>C139,1,0))","v":0},{"$f":"IF(AND(C139>0,AR139=\"\"),1,IF(AR139>C139,1,0))","v":0}]
["Dependencia Moderada",null,{"$f":"SUM(D140:E140)","v":0},{"$f":"SUM(F140+H140+J140+L140+N140+P140+R140+T140+V140+X140+Z140+AB140+AD140+AF140+AH140+AJ140+AL140)","v":0},{"$f":"SUM(G140+I140+K140+M140+O140+Q140+S140+U140+W140+Y140+AA140+AC140+AE140+AG140+AI140+AK140+AM140)","v":0},null,null,null,null,null,null,null,null,null,null,null,null,null,null,null,null,null,null,null,null,null,null,null,null,null,null,null,null,null,null,null,null,null,null,null,null,null,null,null,{"$f":"BQ140&BR140","v":""},null,null,null,null,null,null,null,null,null,null,null,null,null,null,null,null,null,null,null,null,null,null,null,{"$f":"IF(AND(C140>0,AQ140=\"\"),\"  * No olvide digitar la variable Pueblos originarios. Digite Cero si no tiene.\",IF(AQ140>C140,\"  * La variable Pueblos originarios No puede ser mayor al Total.\",\"\"))","v":""},{"$f":"IF(AND(C140>0,AR140=\"\"),\"  * No olvide digitar la variable Migrantes. Digite Cero si no tiene.\",IF(AR140>C140,\"  * La variable Migrantes No puede ser mayor al Total.\",\"\"))","v":""},null,null,null,null,null,null,null,null,null,{"$f":"IF(AND(C140>0,AQ140=\"\"),1,IF(AQ140>C140,1,0))","v":0},{"$f":"IF(AND(C140>0,AR140=\"\"),1,IF(AR140>C140,1,0))","v":0}]
["Dependencia Severa  ","Oncológico",{"$f":"SUM(D141:E141)","v":0},0,0,null,null,null,null,null,null,null,null,null,null,null,null,null,null,null,null,null,null,null,null,null,null,null,null,null,null,null,null,null,null,null,null,null,null,null,null,null,null,null,"",null,null,null,null,null,null,null,null,null,null,null,null,null,null,null,null,null,null,null,null,null,null,null,"","",null,null,null,null,null,null,null,null,null,0,0]
[null,"No Oncológico",{"$f":"SUM(D142:E142)","v":0},{"$f":"SUM(F142+H142+J142+L142+N142+P142+R142+T142+V142+X142+Z142+AB142+AD142+AF142+AH142+AJ142+AL142)","v":0},0,null,null,null,null,null,null,null,null,null,null,null,null,null,null,null,null,null,null,null,null,null,null,null,null,null,null,null,null,null,null,null,null,null,null,null,null,null,null,null,"",null,null,null,null,null,null,null,null,null,null,null,null,null,null,null,null,null,null,null,null,null,null,null,"","",null,null,null,null,null,null,null,null,null,0,0]
["Dependencia severa con escaras",null,{"$f":"SUM(D143:E143)","v":0},0,{"$f":"SUM(G143+I143+K143+M143+O143+Q143+S143+U143+W143+Y143+AA143+AC143+AE143+AG143+AI143+AK143+AM143)","v":0},null,null,null,null,null,null,null,null,null,null,null,null,null,null,null,null,null,null,null,null,null,null,null,null,null,null,null,null,null,null,null,null,null,null,null,null,null,null,null,"",null,null,null,null,null,null,null,null,null,null,null,null,null,null,null,null,null,null,null,null,null,null,null,"","",null,null,null,null,null,null,null,null,null,0,0]
["SECCIÓN K: INGRESOS AL PROGRAMA DEL ADULTO MAYOR SEGÚN CONDICIÓN DE FUNCIONALIDAD Y DEPENDENCIA"]
["CONDICIÓN",null,"TOTAL",null,null,"65 - 69 años",null,"70 - 74 años",null,"75 - 79 años",null,"80 y más años",null,"Pueblos Originarios","Migrantes"]
[null,null,"Ambos Sexos","Hombres","Mujeres","Hombres","Mujeres","Hombres","Mujeres","Hombres","Mujeres","Hombres","Mujeres"]
["EMPAM","Autovalente sin Riesgo",{"$f":"SUM(D147:E147)","v":0},{"$f":"SUM(F147+H147+J147+L147)","v":0},0,null,null,null,null,null,null,null,null,null,null,{"$f":"BQ147&BR147","v":""},null,null,null,null,null,null,null,null,null,null,null,null,null,null,null,null,null,null,null,null,null,null,null,null,null,null,null,null,null,null,null,null,null,null,null,null,null,null,null,null,null,null,null,null,null,null,null,null,null,null,null,null,{"$f":"IF(AND(C147>0,N147=\"\"),\"  * No olvide digitar la variable Pueblos originarios. Digite Cero si no tiene.\",IF(N147>C147,\"  * La variable Pueblos originarios No puede ser mayor al Total.\",\"\"))","v":""},{"$f":"IF(AND(C147>0,O147=\"\"),\"  * No olvide digitar la variable Migrantes. Digite Cero si no tiene.\",IF(O147>C147,\"  * La variable Pueblos Migrantes No puede ser mayor al Total.\",\"\"))","v":""},null,null,null,null,null,null,null,null,null,{"$f":"IF(AND(C147>0,N147=\"\"),1,IF(N147>C147,1,0))","v":0},{"$f":"IF(AND(C147>0,O147=\"\"),1,IF(O147>C147,1,0))","v":0}]
[null,"Autovalente con Riesgo",{"$f":"SUM(D148:E148)","v":0},0,0,null,null,null,null,null,null,null,null,null,null,{"$f":"BQ148&BR148","v":""},null,null,null,null,null,null,null,null,null,null,null,null,null,null,null,null,null,null,null,null,null,null,null,null,null,null,null,null,null,null,null,null,null,null,null,null,null,null,null,null,null,null,null,null,null,null,null,null,null,null,null,null,{"$f":"IF(AND(C148>0,N148=\"\"),\"  * No olvide digitar la variable Pueblos originarios. Digite Cero si no tiene.\",IF(N148>C148,\"  * La variable Pueblos originarios No puede ser mayor al Total.\",\"\"))","v":""},{"$f":"IF(AND(C148>0,O148=\"\"),\"  * No olvide digitar la variable Migrantes. Digite Cero si no tiene.\",IF(O148>C148,\"  * La variable Pueblos Migrantes No puede ser mayor al Total.\",\"\"))","v":""},null,null,null,null,null,null,null,null,null,{"$f":"IF(AND(C148>0,N148=\"\"),1,IF(N148>C148,1,0))","v":0},{"$f":"IF(AND(C148>0,O148=\"\"),1,IF(O148>C148,1,0))","v":0}]
[null,"Riesgo de Dependencia",{"$f":"SUM(D149:E149)","v":0},0,0,null,null,null,null,null,null,null,null,null,null,"",null,null,null,null,null,null,null,null,null,null,null,null,null,null,null,null,null,null,null,null,null,null,null,null,null,null,null,null,null,null,null,null,null,null,null,null,null,null,null,null,null,null,null,null,null,null,null,null,null,null,null,null,"","",null,null,null,null,null,null,null,null,null,0,0]
["SUBTOTAL",null,{"$f":"SUM(C147:C149)","v":0},{"$f":"SUM(D147:D149)","v":0},{"$f":"SUM(E147:E149)","v":0},{"$f":"SUM(F147:F149)","v":0},{"$f":"SUM(G147:G149)","v":0},0,0,0,0,0,0,{"$f":"SUM(N147:N149)","v":0},{"$f":"SUM(O147:O149)","v":0}]
["BARTHEL","Dependiente Leve",{"$f":"SUM(D151:E151)","v":0},{"$f":"SUM(F151+H151+J151+L151)","v":0},0,null,null,null,null,null,null,null,null,null,null,{"$f":"BQ151&BR151","v":""},null,null,null,null,null,null,null,null,null,null,null,null,null,null,null,null,null,null,null,null,null,null,null,null,null,null,null,null,null,null,null,null,null,null,null,null,null,null,null,null,null,null,null,null,null,null,null,null,null,null,null,null,"","",null,null,null,null,null,null,null,null,null,0,0]
[null,"Dependiente Moderado",{"$f":"SUM(D152:E152)","v":0},0,0,null,null,null,null,null,null,null,null,null,null,{"$f":"BQ152&BR152","v":""},null,null,null,null,null,null,null,null,null,null,null,null,null,null,null,null,null,null,null,null,null,null,null,null,null,null,null,null,null,null,null,null,null,null,null,null,null,null,null,null,null,null,null,null,null,null,null,null,null,null,null,null,"","",null,null,null,null,null,null,null,null,null,0,0]
[null,"Dependiente Grave",{"$f":"SUM(D153:E153)","v":0},0,0,null,null,null,null,null,null,null,null,null,null,"",null,null,null,null,null,null,null,null,null,null,null,null,null,null,null,null,null,null,null,null,null,null,null,null,null,null,null,null,null,null,null,null,null,null,null,null,null,null,null,null,null,null,null,null,null,null,null,null,null,null,null,null,"","",null,null,null,null,null,null,null,null,null,0,0]
[null,"Dependiente Total",{"$f":"SUM(D154:E154)","v":0},0,0,null,null,null,null,null,null,null,null,null,null,"",null,null,null,null,null,null,null,null,null,null,null,null,null,null,null,null,null,null,null,null,null,null,null,null,null,null,null,null,null,null,null,null,null,null,null,null,null,null,null,null,null,null,null,null,null,null,null,null,null,null,null,null,"","",null,null,null,null,null,null,null,null,null,0,0]
["SUBTOTAL",null,{"$f":"SUM(C151:C154)","v":0},{"$f":"SUM(D151:D154)","v":0},{"$f":"SUM(E151:E154)","v":0},{"$f":"SUM(F151:F154)","v":0},{"$f":"SUM(G151:G154)","v":0},0,0,0,0,0,0,{"$f":"SUM(N151:N154)","v":0},{"$f":"SUM(O151:O154)","v":0}]
["TOTAL  ",null,{"$f":"SUM(C150+C155)","v":0},{"$f":"SUM(D150+D155)","v":0},{"$f":"SUM(E150+E155)","v":0},{"$f":"SUM(F150+F155)","v":0},{"$f":"SUM(G150+G155)","v":0},{"$f":"SUM(H150+H155)","v":0},0,0,0,0,0,{"$f":"SUM(N150+N155)","v":0},{"$f":"SUM(O150+O155)","v":0}]
["SECCIÓN L: EGRESOS DEL PROGRAMA DEL ADULTO MAYOR SEGÚN CONDICIÓN DE FUNCIONALIDAD Y DEPENDENCIA"]
["CONDICIÓN",null,"TOTAL",null,null,"65 - 69 años",null,"70 - 74 años",null,"75 - 79 años",null,"80 y más años",null,"CAUSAL DE EGRESO",null,null,"Pueblos Originarios","Migrantes"]
[null,null,"Ambos Sexos","Hombres","Mujeres","Hombres","Mujeres","Hombres","Mujeres","Hombres","Mujeres","Hombres","Mujeres","Abandono","Traslado","Fallecimiento"]
["EMPAM","Autovalente sin Riesgo",{"$f":"SUM(D160:E160)","v":0},{"$f":"SUM(F160+H160+J160+L160)","v":0},0,null,null,null,null,null,null,null,null,null,null,null,null,null,{"$f":"BQ160&BR160&BS160","v":""},null,null,null,null,null,null,null,null,null,null,null,null,null,null,null,null,null,null,null,null,null,null,null,null,null,null,null,null,null,null,null,null,null,null,null,null,null,null,null,null,null,null,null,null,null,null,null,null,null,{"$f":"IF(AND(C160>0,Q160=\"\"),\"   * No olvide digitar la variable Pueblos originarios. Digite Cero si no tiene.\",IF(Q160>C160,\" *  La variable Pueblos originarios No puede ser mayor al Total.\",\"\"))","v":""},{"$f":"IF(AND(C160>0,R160=\"\"),\"   * No olvide digitar la variable Migrantes. Digite Cero si no tiene.\",IF(R160>C160,\" *  La variable Migrantes No puede ser mayor al Total.\",\"\"))","v":""},null,null,null,null,null,null,null,null,null,{"$f":"IF(AND(C160>0,Q160=\"\"),1,IF(Q160>C160,1,0))","v":0},{"$f":"IF(AND(C160>0,R160=\"\"),1,IF(R160>C160,1,0))","v":0}]
[null,"Autovalente con Riesgo",{"$f":"SUM(D161:E161)","v":0},0,0,null,null,null,null,null,null,null,null,null,null,null,null,null,{"$f":"BQ161&BR161&BS161","v":""},null,null,null,null,null,null,null,null,null,null,null,null,null,null,null,null,null,null,null,null,null,null,null,null,null,null,null,null,null,null,null,null,null,null,null,null,null,null,null,null,null,null,null,null,null,null,null,null,null,{"$f":"IF(AND(C161>0,Q161=\"\"),\"   * No olvide digitar la variable Pueblos originarios. Digite Cero si no tiene.\",IF(Q161>C161,\" *  La variable Pueblos originarios No puede ser mayor al Total.\",\"\"))","v":""},{"$f":"IF(AND(C161>0,R161=\"\"),\"   * No olvide digitar la variable Migrantes. Digite Cero si no tiene.\",IF(R161>C161,\" *  La variable Migrantes No puede ser mayor al Total.\",\"\"))","v":""},null,null,null,null,null,null,null,null,null,{"$f":"IF(AND(C161>0,Q161=\"\"),1,IF(Q161>C161,1,0))","v":0},{"$f":"IF(AND(C161>0,R161=\"\"),1,IF(R161>C161,1,0))","v":0}]
[null,"Riesgo de Dependencia",{"$f":"SUM(D162:E162)","v":0},0,0,null,null,null,null,null,null,null,null,null,null,null,null,null,"",null,null,null,null,null,null,null,null,null,null,null,null,null,null,null,null,null,null,null,null,null,null,null,null,null,null,null,null,null,null,null,null,null,null,null,null,null,null,null,null,null,null,null,null,null,null,null,null,null,"","",null,null,null,null,null,null,null,null,null,0,0]
["SUBTOTAL",null,{"$f":"SUM(C160:C162)","v":0},{"$f":"SUM(D160:D162)","v":0},{"$f":"SUM(E160:E162)","v":0},{"$f":"SUM(F160:F162)","v":0},{"$f":"SUM(G160:G162)","v":0},0,0,0,0,0,0,0,0,0,{"$f":"SUM(Q160:Q162)","v":0},{"$f":"SUM(R160:R162)","v":0}]
["BARTHEL","Dependiente Leve",{"$f":"SUM(D164:E164)","v":0},{"$f":"SUM(F164+H164+J164+L164)","v":0},{"$f":"SUM(G164+I164+K164+M164)","v":0},null,null,null,null,null,null,null,null,null,null,null,null,null,"",null,null,null,null,null,null,null,null,null,null,null,null,null,null,null,null,null,null,null,null,null,null,null,null,null,null,null,null,null,null,null,null,null,null,null,null,null,null,null,null,null,null,null,null,null,null,null,null,null,"","",null,null,null,null,null,null,null,null,null,0,0]
[null,"Dependiente Moderado",{"$f":"SUM(D165:E165)","v":0},{"$f":"SUM(F165+H165+J165+L165)","v":0},0,null,null,null,null,null,null,null,null,null,null,null,null,null,"",null,null,null,null,null,null,null,null,null,null,null,null,null,null,null,null,null,null,null,null,null,null,null,null,null,null,null,null,null,null,null,null,null,null,null,null,null,null,null,null,null,null,null,null,null,null,null,null,null,"","",null,null,null,null,null,null,null,null,null,0,0]
[null,"Dependiente Grave",{"$f":"SUM(D166:E166)","v":0},0,0,null,null,null,null,null,null,null,null,null,null,null,null,null,"",null,null,null,null,null,null,null,null,null,null,null,null,null,null,null,null,null,null,null,null,null,null,null,null,null,null,null,null,null,null,null,null,null,null,null,null,null,null,null,null,null,null,null,null,null,null,null,null,null,"","",null,null,null,null,null,null,null,null,null,0,0]
[null,"Dependiente Total",{"$f":"SUM(D167:E167)","v":0},0,0,null,null,null,null,null,null,null,null,null,null,null,null,null,"",null,null,null,null,null,null,null,null,null,null,null,null,null,null,null,null,null,null,null,null,null,null,null,null,null,null,null,null,null,null,null,null,null,null,null,null,null,null,null,null,null,null,null,null,null,null,null,null,null,"","",null,null,null,null,null,null,null,null,null,0,0]
["SUBTOTAL",null,{"$f":"SUM(C164:C167)","v":0},{"$f":"SUM(D164:D167)","v":0},{"$f":"SUM(E164:E167)","v":0},{"$f":"SUM(F164:F167)","v":0},{"$f":"SUM(G164:G167)","v":0},0,0,0,0,0,0,0,0,0,{"$f":"SUM(Q164:Q167)","v":0},{"$f":"SUM(R164:R167)","v":0}]
["TOTAL  ",null,{"$f":"SUM(C163+C168)","v":0},{"$f":"SUM(D163+D168)","v":0},0,0,0,0,0,0,0,0,0,0,0,0,{"$f":"SUM(Q163+Q168)","v":0},{"$f":"SUM(R163+R168)","v":0}]
["SECCIÓN M: INGRESOS Y EGRESOS DEL  PROGRAMA MÁS ADULTOS MAYORES AUTOVALENTES"]
["CONDICIÓN",null,"TOTAL",null,null,"60 - 64 años",null,"65 - 69 años",null,"70 - 74 años",null,"75 - 79 años",null,"80 y más años",null,"Pueblos Originarios","Migrantes"]
[null,null,"Ambos Sexos","Hombres","Mujeres","Hombres","Mujeres","Hombres","Mujeres","Hombres","Mujeres","Hombres","Mujeres","Hombres","Mujeres"]
["Ingreso","Autovalente sin Riesgo",{"$f":"SUM(D173+E173)","v":0},{"$f":"SUM(F173+H173+J173+L173+N173)","v":0},{"$f":"SUM(G173+I173+K173+M173+O173)","v":0},null,null,null,null,null,null,null,null,null,null,null,null,{"$f":"BQ173&BR173","v":""},null,null,null,null,null,null,null,null,null,null,null,null,null,null,null,null,null,null,null,null,null,null,null,null,null,null,null,null,null,null,null,null,null,null,null,null,null,null,null,null,null,null,null,null,null,null,null,null,null,null,{"$f":"IF(AND(C173>0,P173=\"\"),\"   * No olvide digitar la variable Pueblos originarios. Digite Cero si no tiene.\",IF(P173>C173,\" *  La variable Pueblos originarios No puede ser mayor al Total.\",\"\"))","v":""},{"$f":"IF(AND(C173>0,Q173=\"\"),\"   * No olvide digitar la variable Migrantes. Digite Cero si no tiene.\",IF(Q173>C173,\" *  La variable Migrantes No puede ser mayor al Total.\",\"\"))","v":""},null,null,null,null,null,null,null,null,null,{"$f":"IF(AND(C173>0,P173=\"\"),1,IF(P173>C173,1,0))","v":0},{"$f":"IF(AND(C173>0,Q173=\"\"),1,IF(Q173>C173,1,0))","v":0}]
[null,"Autovalente con Riesgo",{"$f":"SUM(D174+E174)","v":0},{"$f":"SUM(H174+J174+L174+N174)","v":0},{"$f":"SUM(I174+K174+M174+O174)","v":0},null,null,null,null,null,null,null,null,null,null,null,null,{"$f":"BQ174&BR174","v":""},null,null,null,null,null,null,null,null,null,null,null,null,null,null,null,null,null,null,null,null,null,null,null,null,null,null,null,null,null,null,null,null,null,null,null,null,null,null,null,null,null,null,null,null,null,null,null,null,null,null,{"$f":"IF(AND(C174>0,P174=\"\"),\"   * No olvide digitar la variable Pueblos originarios. Digite Cero si no tiene.\",IF(P174>C174,\" *  La variable Pueblos originarios No puede ser mayor al Total.\",\"\"))","v":""},{"$f":"IF(AND(C174>0,Q174=\"\"),\"   * No olvide digitar la variable Migrantes. Digite Cero si no tiene.\",IF(Q174>C174,\" *  La variable Migrantes No puede ser mayor al Total.\",\"\"))","v":""},null,null,null,null,null,null,null,null,null,{"$f":"IF(AND(C174>0,P174=\"\"),1,IF(P174>C174,1,0))","v":0},{"$f":"IF(AND(C174>0,Q174=\"\"),1,IF(Q174>C174,1,0))","v":0}]
[null,"Riesgo de Dependencia",{"$f":"SUM(D175+E175)","v":0},{"$f":"SUM(H175+J175+L175+N175)","v":0},{"$f":"SUM(I175+K175+M175+O175)","v":0},null,null,null,null,null,null,null,null,null,null,null,null,"",null,null,null,null,null,null,null,null,null,null,null,null,null,null,null,null,null,null,null,null,null,null,null,null,null,null,null,null,null,null,null,null,null,null,null,null,null,null,null,null,null,null,null,null,null,null,null,null,null,null,"","",null,null,null,null,null,null,null,null,null,0,0]
[null,"TOTAL INGRESOS",{"$f":"SUM(C173:C175)","v":0},{"$f":"SUM(D173:D175)","v":0},{"$f":"SUM(E173:E175)","v":0},{"$f":"SUM(F173:F175)","v":0},{"$f":"SUM(G173:G175)","v":0},0,0,0,0,0,0,0,0,{"$f":"SUM(P173:P175)","v":0},{"$f":"SUM(Q173:Q175)","v":0}]
["Egreso","Completa Ciclo",{"$f":"SUM(D177+E177)","v":0},{"$f":"SUM(F177+H177+J177+L177+N177)","v":0},{"$f":"SUM(G177+I177+K177+M177+O177)","v":0},null,null,null,null,null,null,null,null,null,null,null,null,"",null,null,null,null,null,null,null,null,null,null,null,null,null,null,null,null,null,null,null,null,null,null,null,null,null,null,null,null,null,null,null,null,null,null,null,null,null,null,null,null,null,null,null,null,null,null,null,null,null,null,"","",null,null,null,null,null,null,null,null,null,0,0]
[null,"Abandono",{"$f":"SUM(D178+E178)","v":0},{"$f":"SUM(F178+H178+J178+L178+N178)","v":0},0,null,null,null,null,null,null,null,null,null,null,null,null,"",null,null,null,null,null,null,null,null,null,null,null,null,null,null,null,null,null,null,null,null,null,null,null,null,null,null,null,null,null,null,null,null,null,null,null,null,null,null,null,null,null,null,null,null,null,null,null,null,null,null,"","",null,null,null,null,null,null,null,null,null,{"$f":"IF(AND(C178>0,P178=\"\"),1,IF(P178>C178,1,0))","v":0},0]
[null,"Traslado",{"$f":"SUM(D179+E179)","v":0},0,0,null,null,null,null,null,null,null,null,null,null,null,null,"",null,null,null,null,null,null,null,null,null,null,null,null,null,null,null,null,null,null,null,null,null,null,null,null,null,null,null,null,null,null,null,null,null,null,null,null,null,null,null,null,null,null,null,null,null,null,null,null,null,null,"","",null,null,null,null,null,null,null,null,null,0,0]
[null,"Fallecimiento",{"$f":"SUM(D180+E180)","v":0},0,0,null,null,null,null,null,null,null,null,null,null,null,null,"",null,null,null,null,null,null,null,null,null,null,null,null,null,null,null,null,null,null,null,null,null,null,null,null,null,null,null,null,null,null,null,null,null,null,null,null,null,null,null,null,null,null,null,null,null,null,null,null,null,null,"","",null,null,null,null,null,null,null,null,null,0,0]
["* Los pacientes de 60 a 64 años, no debe desagregarse por condición de funcionalidad, por ello sólo se registran en la primera fila (Autovalente sin riesgo)."]
["** Para la desagregación por funcionalidad se contabiliza desde 65 y mas años. Sólo para el cálculo del total de los ingresos se contabiliza el rango de 60 - 64 años."]
["SECCIÓN N: INGRESOS AL PROGRAMA DE SALUD  MENTAL EN APS /ESPECIALIDAD"]
["MOTIVO DE INGRESO",null,"TOTAL",null,null,"0 - 4 años",null,"5 - 9 años",null,"10 - 14 años",null,"15 - 19 años",null,"20 - 24 años",null,"25 - 29 años",null,"30 - 34 años",null,"35 - 39 años",null,"40 - 44 años",null,"45 - 49 años",null,"50 - 54 años",null,"55 - 59 años",null,"60 - 64 años",null,"65 - 69 años",null,"70 - 74 años",null,"75 - 79 años",null,"80 y más años",null,"Gestantes","Madre de hijo menor de 5 años ","Pueblos Originarios",null,"Niños, Niñas, Adolescentes y Jóvenes  SENAME","Niños, Niñas, Adolescentes y Jóvenes  Mejor Niñez","Migrantes",null,"TRANS","TRANS Femenino/\nMasculino"]
[null,null,"Ambos Sexos","Hombres","Mujeres","Hombres","Mujeres","Hombres","Mujeres","Hombres","Mujeres","Hombres","Mujeres","Hombres","Mujeres","Hombres","Mujeres","Hombres","Mujeres","Hombres","Mujeres","Hombres","Mujeres","Hombres","Mujeres","Hombres","Mujeres","Hombres","Mujeres","Hombres","Mujeres","Hombres","Mujeres","Hombres","Mujeres","Hombres","Mujeres","Hombres","Mujeres",null,null,"Hombres","Mujeres",null,null,"Hombres","Mujeres","Masculino","Femenino"]
["INGRESOS AL PROGRAMA",null,{"$f":"SUM(D186+E186)","v":0},{"$f":"SUM(F186+H186+J186+L186+N186+P186+R186+T186+V186+X186+Z186+AB186+AD186+AF186+AH186+AJ186+AL186)","v":0},{"$f":"SUM(G186+I186+K186+M186+O186+Q186+S186+U186+W186+Y186+AA186+AC186+AE186+AG186+AI186+AK186+AM186)","v":0},null,null,null,null,null,null,null,null,null,null,null,null,null,null,null,null,null,null,null,null,null,null,null,null,null,null,null,null,null,null,null,null,null,null,null,null,null,null,null,null,null,null,null,null,{"$f":"BQ186&BR186&BS186&BT186&BU186&BV186&BW186&BX186&BY186&BZ186","v":""},null,null,null,null,null,null,null,null,null,null,null,null,null,null,null,null,null,null,{"$f":"IF(AND(E186>0,AN186=\"\"), \"* No olvide digitar la variable Gestantes. Digite Cero si no tiene.\",IF(AN186>E186,\"  * La variable Gestantes No puede ser mayor al Total Mujeres.\",\"\"))","v":""},{"$f":"IF(AND(E186>0,AO186=\"\"), \"* No olvide digitar la variable Madre de hijo menor de 5 años. Digite Cero si no tiene.\",IF(AO186>E186,\"  * La variable Madre de hijo menor de 5 años No puede ser mayor al Total de Mujeres.\",\"\"))","v":""},{"$f":"IF(AND(D186>0,OR(AP186=\"\")), \"* No olvide digitar la variable Pueblos originarios - Hombres. Digite Cero si no tiene.\",IF((AP186)>D186,\"  * La variable Pueblos originarios - Hombres No puede ser mayor al Total.\",\"\"))","v":""},{"$f":"IF(AND(E186>0,OR(AQ186=\"\")), \"* No olvide digitar la variable Pueblos originarios - Mujeres. Digite Cero si no tiene.\",IF((AQ186)>E186,\"  * La variable Pueblos originarios - Mujeres No puede ser mayor al Total.\",\"\"))","v":""},{"$f":"IF(AND(C186>0,AR186=\"\"), \"* No olvide digitar la variable Niños, niñas, adolescentes y jóvenes SENAME. Digite Cero si no tiene.\",IF(AR186>C186,\"  * La variable Niños, niñas, adolescentes y jóvenes SENAME No puede ser mayor al Total.\",\"\"))","v":""},{"$f":"IF(AND(C186>0,AS186=\"\"), \"* No olvide digitar la variable Niños, niñas, adolescentes y jóvenes Mejor Niñez. Digite Cero si no tiene.\",IF(AS186>C186,\"  * La variable Niños, niñas, adolescentes y jóvenes Mejor Niñez No puede ser mayor al Total.\",\"\"))","v":""},{"$f":"IF(AND(D186>0,OR(AT186=\"\")), \"* No olvide digitar la variable Migrantes - Hombres. Digite Cero si no tiene.\",IF((AT186+AT186)>D186,\"  * La variable Migrantes - Hombres No puede ser mayor al Total.\",\"\"))","v":""},{"$f":"IF(AND(E186>0,OR(AU186=\"\")), \"* No olvide digitar la variable Migrantes - Mujeres. Digite Cero si no tiene.\",IF((AU186)>E186,\"  * La variable Migrantes - Mujeres No puede ser mayor al Total.\",\"\"))","v":""},{"$f":"IF(AND(D186>0,OR(AW186=\"\")), \"* No olvide digitar la variable Trans (Femenino). Digite Cero si no tiene.\",IF((AW186)>D186,\"  * La variable Trans (Femenino) No puede ser mayor al Total Hombres.\",\"\"))","v":""},{"$f":"IF(AND(E186>0,OR(AV186=\"\")), \"* No olvide digitar la variable Trans (Masculino). Digite Cero si no tiene.\",IF((AV186)>E186,\"  * La variable Trans (Masculino) No puede ser mayor al Total Mujeres.\",\"\"))","v":""},null,{"$f":"IF(AND(E186>0,AN186=\"\"),1,IF(AN186>E186,1,0))","v":0},{"$f":"IF(AND(E186>0,AO186=\"\"),1,IF(AO186>E186,1,0))","v":0},{"$f":"IF(AND(D186>0,OR(AP186=\"\")),1,IF((AP186)>D186,1,0))","v":0},{"$f":"IF(AND(E186>0,OR(AQ186=\"\")),1,IF((AQ186)>E186,1,0))","v":0},{"$f":"IF(AND(C186>0,AR186=\"\"),1,IF(AR186>C186,1,0))","v":0},{"$f":"IF(AND(C186>0,AS186=\"\"),1,IF(AS186>C186,1,0))","v":0},{"$f":"IF(AND(D186>0,OR(AT186=\"\")),1,IF((AT186)>D186,1,0))","v":0},{"$f":"IF(AND(E186>0,OR(AU186=\"\")),1,IF((AU186)>E186,1,0))","v":0},{"$f":"IF(AND(D186>0,OR(AW186=\"\")),1,IF((AW186)>D186,1,0))","v":0},{"$f":"IF(AND(E186>0,OR(AV186=\"\")),1,IF((AV186)>E186,1,0))","v":0}]
["FACTORES DE RIESGO Y CONDICIONANTES DE LA SALUD MENTAL"]
["Violencia","Victima",{"$f":"SUM(D188+E188)","v":0},{"$f":"SUM(F188+H188+J188+L188+N188+P188+R188+T188+V188+X188+Z188+AB188+AD188+AF188+AH188+AJ188+AL188)","v":0},0,null,null,null,null,null,null,null,null,null,null,null,null,null,null,null,null,null,null,null,null,null,null,null,null,null,null,null,null,null,null,null,null,null,null,null,null,null,null,null,null,null,null,null,null,{"$f":"BQ188&BR188&BS188&BT188&BU188&BV188&BW188&BX188&BY188&BZ188","v":""},null,null,null,null,null,null,null,null,null,null,null,null,null,null,null,null,null,null,{"$f":"IF(AND(E188>0,AN188=\"\"), \"* No olvide digitar la variable Gestantes. Digite Cero si no tiene.\",IF(AN188>E188,\"  * La  variable Gestantes No puede ser mayor al Total Mujeres.\",\"\"))","v":""},{"$f":"IF(AND(E188>0,AO188=\"\"), \"* No olvide digitar la variable Madre de hijo menor de 5 años. Digite Cero si no tiene.\",IF(AO188>E188,\"  * La variable Madre de hijo menor de 5 años No puede ser mayor al Total Mujeres.\",\"\"))","v":""},{"$f":"IF(AND(D188>0,OR(AP188=\"\")), \"* No olvide digitar la variable Pueblos originarios - Hombres. Digite Cero si no tiene.\",IF((AP188)>D188,\"  * La variable Pueblos originarios - Hombres No puede ser mayor al Total.\",\"\"))","v":""},{"$f":"IF(AND(E188>0,OR(AQ188=\"\")), \"* No olvide digitar la variable Pueblos originarios - Mujeres. Digite Cero si no tiene.\",IF((AQ188)>E188,\"  * La variable Pueblos originarios - Mujeres No puede ser mayor al Total.\",\"\"))","v":""},{"$f":"IF(AND(C188>0,AR188=\"\"), \"* No olvide digitar la variable Niños, niñas, adolescentes y jóvenes SENAME. Digite Cero si no tiene.\",IF(AR188>C188,\"  * La variable Niños, niñas, adolescentes y jóvenes SENAME No puede ser mayor al Total.\",\"\"))","v":""},{"$f":"IF(AND(C188>0,AS188=\"\"), \"* No olvide digitar la variable Niños, niñas, adolescentes y jóvenes Mejor Niñez. Digite Cero si no tiene.\",IF(AS188>C188,\"  * La variable Niños, niñas, adolescentes y jóvenes Mejor Niñez No puede ser mayor al Total.\",\"\"))","v":""},{"$f":"IF(AND(D188>0,OR(AT188=\"\")), \"* No olvide digitar la variable Migrantes - Hombres. Digite Cero si no tiene.\",IF((AT188+AT188)>D188,\"  * La variable Migrantes - Hombres No puede ser mayor al Total.\",\"\"))","v":""},{"$f":"IF(AND(E188>0,OR(AU188=\"\")), \"* No olvide digitar la variable Migrantes - Mujeres. Digite Cero si no tiene.\",IF((AU188)>E188,\"  * La variable Migrantes - Mujeres No puede ser mayor al Total.\",\"\"))","v":""},{"$f":"IF(AND(D188>0,OR(AW188=\"\")), \"* No olvide digitar la variable Trans (Femenino). Digite Cero si no tiene.\",IF((AW188)>D188,\"  * La variable Trans (Femenino) No puede ser mayor al Total Hombres.\",\"\"))","v":""},{"$f":"IF(AND(E188>0,OR(AV188=\"\")), \"* No olvide digitar la variable Trans (Masculino). Digite Cero si no tiene.\",IF((AV188)>E188,\"  * La variable Trans (Masculino) No puede ser mayor al Total Mujeres.\",\"\"))","v":""},null,{"$f":"IF(AND(E188>0,AN188=\"\"),1,IF(AN188>E188,1,0))","v":0},{"$f":"IF(AND(E188>0,AO188=\"\"),1,IF(AO188>E188,1,0))","v":0},{"$f":"IF(AND(D188>0,OR(AP188=\"\")),1,IF((AP188)>D188,1,0))","v":0},{"$f":"IF(AND(E188>0,OR(AQ188=\"\")),1,IF((AQ188)>E188,1,0))","v":0},{"$f":"IF(AND(C188>0,AR188=\"\"),1,IF(AR188>C188,1,0))","v":0},{"$f":"IF(AND(C188>0,AS188=\"\"),1,IF(AS188>C188,1,0))","v":0},{"$f":"IF(AND(D188>0,OR(AT188=\"\")),1,IF((AT188)>D188,1,0))","v":0},{"$f":"IF(AND(E188>0,OR(AU188=\"\")),1,IF((AU188)>E188,1,0))","v":0},{"$f":"IF(AND(D188>0,OR(AW188=\"\")),1,IF((AW188)>D188,1,0))","v":0},{"$f":"IF(AND(E188>0,OR(AV188=\"\")),1,IF((AV188)>E188,1,0))","v":0}]
[null,"Agresor / a",{"$f":"SUM(D189+E189)","v":0},0,0,null,null,null,null,null,null,null,null,null,null,null,null,null,null,null,null,null,null,null,null,null,null,null,null,null,null,null,null,null,null,null,null,null,null,null,null,null,null,null,null,null,null,null,null,"",null,null,null,null,null,null,null,null,null,null,null,null,null,null,null,null,null,null,{"$f":"IF(AND(E189>0,AN189=\"\"), \"* No olvide digitar la variable Gestantes. Digite Cero si no tiene.\",IF(AN189>E189,\"  * La  variable Gestantes No puede ser mayor al Total Mujeres.\",\"\"))","v":""},{"$f":"IF(AND(E189>0,AO189=\"\"), \"* No olvide digitar la variable Madre de hijo menor de 5 años. Digite Cero si no tiene.\",IF(AO189>E189,\"  * La variable Madre de hijo menor de 5 años No puede ser mayor al Total Mujeres.\",\"\"))","v":""},{"$f":"IF(AND(D189>0,OR(AP189=\"\")), \"* No olvide digitar la variable Pueblos originarios - Hombres. Digite Cero si no tiene.\",IF((AP189)>D189,\"  * La variable Pueblos originarios - Hombres No puede ser mayor al Total.\",\"\"))","v":""},"","","","","",{"$f":"IF(AND(D189>0,OR(AW189=\"\")), \"* No olvide digitar la variable Trans (Femenino). Digite Cero si no tiene.\",IF((AW189)>D189,\"  * La variable Trans (Femenino) No puede ser mayor al Total Hombres.\",\"\"))","v":""},"",null,0,0,0,0,0,0,0,0,0,0]
["Abuso sexual",null,{"$f":"SUM(D190+E190)","v":0},0,0,null,null,null,null,null,null,null,null,null,null,null,null,null,null,null,null,null,null,null,null,null,null,null,null,null,null,null,null,null,null,null,null,null,null,null,null,null,null,null,null,null,null,null,null,"",null,null,null,null,null,null,null,null,null,null,null,null,null,null,null,null,null,null,"","","","","","","","","","",null,0,0,0,0,0,0,0,0,0,0]
["Suicidio","Ideación",0,{"$f":"SUM(H191+J191+L191+N191+P191+R191+T191+V191+X191+Z191+AB191+AD191+AF191+AH191+AJ191+AL191)","v":0},{"$f":"SUM(I191+K191+M191+O191+Q191+S191+U191+W191+Y191+AA191+AC191+AE191+AG191+AI191+AK191+AM191)","v":0},null,null,null,null,null,null,null,null,null,null,null,null,null,null,null,null,null,null,null,null,null,null,null,null,null,null,null,null,null,null,null,null,null,null,null,null,null,null,null,null,null,null,null,null,"",null,null,null,null,null,null,null,null,null,null,null,null,null,null,null,null,null,null,"","","","","","","","","","",null,0,0,0,0,0,0,0,0,0,0]
[null,"Intento",0,{"$f":"SUM(H192+J192+L192+N192+P192+R192+T192+V192+X192+Z192+AB192+AD192+AF192+AH192+AJ192+AL192)","v":0},{"$f":"SUM(I192+K192+M192+O192+Q192+S192+U192+W192+Y192+AA192+AC192+AE192+AG192+AI192+AK192+AM192)","v":0},null,null,null,null,null,null,null,null,null,null,null,null,null,null,null,null,null,null,null,null,null,null,null,null,null,null,null,null,null,null,null,null,null,null,null,null,null,null,null,null,null,null,null,null,"",null,null,null,null,null,null,null,null,null,null,null,null,null,null,null,null,null,null,"","","","","","","","","","",null,0,0,0,0,0,0,0,0,0,0]
["PERSONAS CON DIAGNÓSTICOS DE TRASTORNOS MENTALES ",null,0,0,0,null,null,null,null,null,null,null,null,null,null,null,null,null,null,null,null,null,null,null,null,null,null,null,null,null,null,null,null,null,null,null,null,null,null,null,null,null,null,null,null,null,null,null,null,"",null,null,null,null,null,null,null,null,null,null,null,null,null,null,null,null,null,null,"","","","","","","","","","",null,0,0,0,0,0,0,0,0,0,0]
["Trastornos del Humor\n(Afectivos)","Depresión Leve",0,0,0,null,null,null,null,null,null,null,null,null,null,null,null,null,null,null,null,null,null,null,null,null,null,null,null,null,null,null,null,null,null,null,null,null,null,null,null,null,null,null,null,null,null,null,null,"",null,null,null,null,null,null,null,null,null,null,null,null,null,null,null,null,null,null,"","","","","","","","","","",null,0,0,0,0,0,0,0,0,0,0]
[null,"Depresión Moderada",0,0,0,null,null,null,null,null,null,null,null,null,null,null,null,null,null,null,null,null,null,null,null,null,null,null,null,null,null,null,null,null,null,null,null,null,null,null,null,null,null,null,null,null,null,null,null,"",null,null,null,null,null,null,null,null,null,null,null,null,null,null,null,null,null,null,"","","","","","","","","","",null,0,0,0,0,0,0,0,0,0,0]
[null,"Depresión Grave",0,0,0,null,null,null,null,null,null,null,null,null,null,null,null,null,null,null,null,null,null,null,null,null,null,null,null,null,null,null,null,null,null,null,null,null,null,null,null,null,null,null,null,null,null,null,null,"",null,null,null,null,null,null,null,null,null,null,null,null,null,null,null,null,null,null,"","","","","","","","","","",null,0,0,0,0,0,0,0,0,0,0]
[null,"Depresión Post Parto",0,null,{"$f":"SUM(K197+M197+O197+Q197+S197+U197+W197+Y197+AA197+AC197+AE197+AG197+AI197+AK197+AM197)","v":0},null,null,null,null,null,null,null,null,null,null,null,null,null,null,null,null,null,null,null,null,null,null,null,null,null,null,null,null,null,null,null,null,null,null,null,null,null,null,null,null,null,null,null,null,"",null,null,null,null,null,null,null,null,null,null,null,null,null,null,null,null,null,null,"","",null,{"$f":"IF(AND(E197>0,OR(AQ197=\"\")), \"* No olvide digitar la variable Pueblos originarios - Mujeres. Digite Cero si no tiene.\",IF((AQ197)>E197,\"  * La variable Pueblos originarios - Mujeres No puede ser mayor al Total.\",\"\"))","v":""},{"$f":"IF(AND(C197>0,AR197=\"\"), \"* No olvide digitar la variable Niños, niñas, adolescentes y jóvenes SENAME. Digite Cero si no tiene.\",IF(AR197>C197,\"  * La variable Niños, niñas, adolescentes y jóvenes SENAME No puede ser mayor al Total.\",\"\"))","v":""},{"$f":"IF(AND(C197>0,AS197=\"\"), \"* No olvide digitar la variable Niños, niñas, adolescentes y jóvenes Mejor Niñez. Digite Cero si no tiene.\",IF(AS197>C197,\"  * La variable Niños, niñas, adolescentes y jóvenes Mejor Niñez No puede ser mayor al Total.\",\"\"))","v":""},null,{"$f":"IF(AND(E197>0,OR(AU197=\"\")), \"* No olvide digitar la variable Migrantes - Mujeres. Digite Cero si no tiene.\",IF((AU197)>E197,\"  * La variable Migrantes - Mujeres No puede ser mayor al Total.\",\"\"))","v":""},null,{"$f":"IF(AND(E197>0,OR(AV197=\"\")), \"* No olvide digitar la variable Trans (Masculino). Digite Cero si no tiene.\",IF((AV197)>E197,\"  * La variable Trans (Masculino) No puede ser mayor al Total Mujeres.\",\"\"))","v":""},null,0,{"$f":"IF(AND(E197>0,AO197=\"\"),1,IF(AO197>E197,1,0))","v":0},null,0,0,0,null,0,null,0]
[null,"Trastorno Bipolar",0,{"$f":"SUM(F198+H198+J198+L198+N198+P198+R198+T198+V198+X198+Z198+AB198+AD198+AF198+AH198+AJ198+AL198)","v":0},0,null,null,null,null,null,null,null,null,null,null,null,null,null,null,null,null,null,null,null,null,null,null,null,null,null,null,null,null,null,null,null,null,null,null,null,null,null,null,null,null,null,null,null,null,"",null,null,null,null,null,null,null,null,null,null,null,null,null,null,null,null,null,null,"","",{"$f":"IF(AND(D198>0,OR(AP198=\"\")), \"* No olvide digitar la variable Pueblos originarios - Hombres. Digite Cero si no tiene.\",IF((AP198)>D198,\"  * La variable Pueblos originarios - Hombres No puede ser mayor al Total.\",\"\"))","v":""},{"$f":"IF(AND(E198>0,OR(AQ198=\"\")), \"* No olvide digitar la variable Pueblos originarios - Mujeres. Digite Cero si no tiene.\",IF((AQ198)>E198,\"  * La variable Pueblos originarios - Mujeres No puede ser mayor al Total.\",\"\"))","v":""},{"$f":"IF(AND(C198>0,AR198=\"\"), \"* No olvide digitar la variable Niños, niñas, adolescentes y jóvenes SENAME. Digite Cero si no tiene.\",IF(AR198>C198,\"  * La variable Niños, niñas, adolescentes y jóvenes SENAME No puede ser mayor al Total.\",\"\"))","v":""},{"$f":"IF(AND(C198>0,AS198=\"\"), \"* No olvide digitar la variable Niños, niñas, adolescentes y jóvenes Mejor Niñez. Digite Cero si no tiene.\",IF(AS198>C198,\"  * La variable Niños, niñas, adolescentes y jóvenes Mejor Niñez No puede ser mayor al Total.\",\"\"))","v":""},{"$f":"IF(AND(D198>0,OR(AT198=\"\")), \"* No olvide digitar la variable Migrantes - Hombres. Digite Cero si no tiene.\",IF((AT198+AT198)>D198,\"  * La variable Migrantes - Hombres No puede ser mayor al Total.\",\"\"))","v":""},{"$f":"IF(AND(E198>0,OR(AU198=\"\")), \"* No olvide digitar la variable Migrantes - Mujeres. Digite Cero si no tiene.\",IF((AU198)>E198,\"  * La variable Migrantes - Mujeres No puede ser mayor al Total.\",\"\"))","v":""},"",{"$f":"IF(AND(E198>0,OR(AV198=\"\")), \"* No olvide digitar la variable Trans (Masculino). Digite Cero si no tiene.\",IF((AV198)>E198,\"  * La variable Trans (Masculino) No puede ser mayor al Total Mujeres.\",\"\"))","v":""},null,0,0,0,0,0,0,0,0,0,0]
[null,"Depresión Refractaria",0,0,0,null,null,null,null,null,null,null,null,null,null,null,null,null,null,null,null,null,null,null,null,null,null,null,null,null,null,null,null,null,null,null,null,null,null,null,null,null,null,null,null,null,null,null,null,"",null,null,null,null,null,null,null,null,null,null,null,null,null,null,null,null,null,null,"","","","","","","","","","",null,0,0,0,0,0,0,0,0,0,0]
[null,"Depresión Grave Con Psicosis",0,0,0,null,null,null,null,null,null,null,null,null,null,null,null,null,null,null,null,null,null,null,null,null,null,null,null,null,null,null,null,null,null,null,null,null,null,null,null,null,null,null,null,null,null,null,null,{"$f":"BQ200&BR200&BS200&BT200&BU200&BV200&BW200&BX200&BY200&BZ200","v":""},null,null,null,null,null,null,null,null,null,null,null,null,null,null,null,null,null,null,"","","","","","","","","","",null,0,0,0,0,0,0,0,0,0,0]
[null,"Depresión con Alto Riesgo Suicida",0,0,0,null,null,null,null,null,null,null,null,null,null,null,null,null,null,null,null,null,null,null,null,null,null,null,null,null,null,null,null,null,null,null,null,null,null,null,null,null,null,null,null,null,null,null,null,"",null,null,null,null,null,null,null,null,null,null,null,null,null,null,null,null,null,null,"","","","","","","","","","",null,0,0,0,0,0,0,0,0,0,0]
["Trastornos Mentales y del Comportamiento Debido a Consumo Sustancias Psicotrópicas","Consumo Perjudicial de Alcohol",0,0,0,null,null,null,null,null,null,null,null,null,null,null,null,null,null,null,null,null,null,null,null,null,null,null,null,null,null,null,null,null,null,null,null,null,null,null,null,null,null,null,null,null,null,null,null,"",null,null,null,null,null,null,null,null,null,null,null,null,null,null,null,null,null,null,"","","","","","","","","","",null,0,0,0,0,0,0,0,0,0,0]
[null,"Consumo Dependiente del Alcohol",0,{"$f":"SUM(F203+H203+J203+L203+N203+P203+R203+T203+V203+X203+Z203+AB203+AD203+AF203+AH203+AJ203+AL203)","v":0},0,null,null,null,null,null,null,null,null,null,null,null,null,null,null,null,null,null,null,null,null,null,null,null,null,null,null,null,null,null,null,null,null,null,null,null,null,null,null,null,null,null,null,null,null,"",null,null,null,null,null,null,null,null,null,null,null,null,null,null,null,null,null,null,"","","","","","","","","","",null,0,0,0,0,0,0,0,0,0,0]
[null,"Consumo Perjudicial de Drogas",0,{"$f":"SUM(F204+H204+J204+L204+N204+P204+R204+T204+V204+X204+Z204+AB204+AD204+AF204+AH204+AJ204+AL204)","v":0},{"$f":"SUM(G204+I204+K204+M204+O204+Q204+S204+U204+W204+Y204+AA204+AC204+AE204+AG204+AI204+AK204+AM204)","v":0},null,null,null,null,null,null,null,null,null,null,null,null,null,null,null,null,null,null,null,null,null,null,null,null,null,null,null,null,null,null,null,null,null,null,null,null,null,null,null,null,null,null,null,null,"",null,null,null,null,null,null,null,null,null,null,null,null,null,null,null,null,null,null,"","","","","","","","","","",null,0,0,0,0,0,0,0,0,0,0]
[null,"Consumo Dependiente de Drogas",0,{"$f":"SUM(F205+H205+J205+L205+N205+P205+R205+T205+V205+X205+Z205+AB205+AD205+AF205+AH205+AJ205+AL205)","v":0},{"$f":"SUM(G205+I205+K205+M205+O205+Q205+S205+U205+W205+Y205+AA205+AC205+AE205+AG205+AI205+AK205+AM205)","v":0},null,null,null,null,null,null,null,null,null,null,null,null,null,null,null,null,null,null,null,null,null,null,null,null,null,null,null,null,null,null,null,null,null,null,null,null,null,null,null,null,null,null,null,null,"",null,null,null,null,null,null,null,null,null,null,null,null,null,null,null,null,null,null,"","","","","","","","","","",null,0,0,0,0,0,0,0,0,0,0]
[null,"Consumo de Drogas y Alcohol",0,{"$f":"SUM(F206+H206+J206+L206+N206+P206+R206+T206+V206+X206+Z206+AB206+AD206+AF206+AH206+AJ206+AL206)","v":0},0,null,null,null,null,null,null,null,null,null,null,null,null,null,null,null,null,null,null,null,null,null,null,null,null,null,null,null,null,null,null,null,null,null,null,null,null,null,null,null,null,null,null,null,null,"",null,null,null,null,null,null,null,null,null,null,null,null,null,null,null,null,null,null,"","","","","","","","","","",null,0,0,0,0,0,0,0,0,0,0]
["Trastornos del Comportamiento y de Las Emociones de Comienzo Habitual en la Infancia y Adolescencia","Trastorno Hipercinéticos",0,{"$f":"SUM(F207+H207+J207+L207+N207)","v":0},{"$f":"SUM(G207+I207+K207+M207+O207)","v":0},null,null,null,null,null,null,null,null,null,null,null,null,null,null,null,null,null,null,null,null,null,null,null,null,null,null,null,null,null,null,null,null,null,null,null,null,null,null,null,null,null,null,null,null,"",null,null,null,null,null,null,null,null,null,null,null,null,null,null,null,null,null,null,"",null,{"$f":"IF(AND(D207>0,OR(AP207=\"\")), \"* No olvide digitar la variable Pueblos originarios - Hombres. Digite Cero si no tiene.\",IF((AP207)>D207,\"  * La variable Pueblos originarios - Hombres No puede ser mayor al Total.\",\"\"))","v":""},{"$f":"IF(AND(E207>0,OR(AQ207=\"\")), \"* No olvide digitar la variable Pueblos originarios - Mujeres. Digite Cero si no tiene.\",IF((AQ207)>E207,\"  * La variable Pueblos originarios - Mujeres No puede ser mayor al Total.\",\"\"))","v":""},{"$f":"IF(AND(C207>0,AR207=\"\"), \"* No olvide digitar la variable Niños, niñas, adolescentes y jóvenes SENAME. Digite Cero si no tiene.\",IF(AR207>C207,\"  * La variable Niños, niñas, adolescentes y jóvenes SENAME No puede ser mayor al Total.\",\"\"))","v":""},{"$f":"IF(AND(C207>0,AS207=\"\"), \"* No olvide digitar la variable Niños, niñas, adolescentes y jóvenes Mejor Niñez. Digite Cero si no tiene.\",IF(AS207>C207,\"  * La variable Niños, niñas, adolescentes y jóvenes Mejor Niñez No puede ser mayor al Total.\",\"\"))","v":""},{"$f":"IF(AND(D207>0,OR(AT207=\"\")), \"* No olvide digitar la variable Migrantes - Hombres. Digite Cero si no tiene.\",IF((AT207+AT207)>D207,\"  * La variable Migrantes - Hombres No puede ser mayor al Total.\",\"\"))","v":""},{"$f":"IF(AND(E207>0,OR(AU207=\"\")), \"* No olvide digitar la variable Migrantes - Mujeres. Digite Cero si no tiene.\",IF((AU207)>E207,\"  * La variable Migrantes - Mujeres No puede ser mayor al Total.\",\"\"))","v":""},"",{"$f":"IF(AND(E207>0,OR(AV207=\"\")), \"* No olvide digitar la variable Trans (Masculino). Digite Cero si no tiene.\",IF((AV207)>E207,\"  * La variable Trans (Masculino) No puede ser mayor al Total Mujeres.\",\"\"))","v":""},null,0,null,0,0,0,0,0,0,0,0]
[null,"Trastorno Disocial Desafiante y Oposicionista",0,{"$f":"SUM(F208+H208+J208+L208+N208)","v":0},0,null,null,null,null,null,null,null,null,null,null,null,null,null,null,null,null,null,null,null,null,null,null,null,null,null,null,null,null,null,null,null,null,null,null,null,null,null,null,null,null,null,null,null,null,"",null,null,null,null,null,null,null,null,null,null,null,null,null,null,null,null,null,null,"",null,"","","","","","","","",null,0,null,0,0,0,0,0,0,0,0]
[null,"Trastorno de Ansiedad de Separación en la Infancia",0,0,0,null,null,null,null,null,null,null,null,null,null,null,null,null,null,null,null,null,null,null,null,null,null,null,null,null,null,null,null,null,null,null,null,null,null,null,null,null,null,null,null,null,null,null,null,"",null,null,null,null,null,null,null,null,null,null,null,null,null,null,null,null,null,null,"",null,"","","","","","","","",null,0,null,0,0,0,0,0,0,0,0]
[null,"Otros Trastornos del Comportamiento y de las Emociones de Comienzo Habitual en La Infancia y Adolescencia",0,0,0,null,null,null,null,null,null,null,null,null,null,null,null,null,null,null,null,null,null,null,null,null,null,null,null,null,null,null,null,null,null,null,null,null,null,null,null,null,null,null,null,null,null,null,null,"",null,null,null,null,null,null,null,null,null,null,null,null,null,null,null,null,null,null,"",null,"","","","","","","","",null,0,null,0,0,0,0,0,0,0,0]
["Trastornos de Ansiedad","Trastorno de Estrés Post Traumático",0,{"$f":"SUM(F211+H211+J211+L211+N211+P211+R211+T211+V211+X211+Z211+AB211+AD211+AF211+AH211+AJ211+AL211)","v":0},0,null,null,null,null,null,null,null,null,null,null,null,null,null,null,null,null,null,null,null,null,null,null,null,null,null,null,null,null,null,null,null,null,null,null,null,null,null,null,null,null,null,null,null,null,"",null,null,null,null,null,null,null,null,null,null,null,null,null,null,null,null,null,null,"",{"$f":"IF(AND(E211>0,AO211=\"\"), \"* No olvide digitar la variable Madre de hijo menor de 5 años. Digite Cero si no tiene.\",IF(AO211>E211,\"  * La variable Madre de hijo menor de 5 años No puede ser mayor al Total Mujeres.\",\"\"))","v":""},{"$f":"IF(AND(D211>0,OR(AP211=\"\")), \"* No olvide digitar la variable Pueblos originarios - Hombres. Digite Cero si no tiene.\",IF((AP211)>D211,\"  * La variable Pueblos originarios - Hombres No puede ser mayor al Total.\",\"\"))","v":""},{"$f":"IF(AND(E211>0,OR(AQ211=\"\")), \"* No olvide digitar la variable Pueblos originarios - Mujeres. Digite Cero si no tiene.\",IF((AQ211)>E211,\"  * La variable Pueblos originarios - Mujeres No puede ser mayor al Total.\",\"\"))","v":""},{"$f":"IF(AND(C211>0,AR211=\"\"), \"* No olvide digitar la variable Niños, niñas, adolescentes y jóvenes SENAME. Digite Cero si no tiene.\",IF(AR211>C211,\"  * La variable Niños, niñas, adolescentes y jóvenes SENAME No puede ser mayor al Total.\",\"\"))","v":""},{"$f":"IF(AND(C211>0,AS211=\"\"), \"* No olvide digitar la variable Niños, niñas, adolescentes y jóvenes Mejor Niñez. Digite Cero si no tiene.\",IF(AS211>C211,\"  * La variable Niños, niñas, adolescentes y jóvenes Mejor Niñez No puede ser mayor al Total.\",\"\"))","v":""},{"$f":"IF(AND(D211>0,OR(AT211=\"\")), \"* No olvide digitar la variable Migrantes - Hombres. Digite Cero si no tiene.\",IF((AT211+AT211)>D211,\"  * La variable Migrantes - Hombres No puede ser mayor al Total.\",\"\"))","v":""},{"$f":"IF(AND(E211>0,OR(AU211=\"\")), \"* No olvide digitar la variable Migrantes - Mujeres. Digite Cero si no tiene.\",IF((AU211)>E211,\"  * La variable Migrantes - Mujeres No puede ser mayor al Total.\",\"\"))","v":""},"",{"$f":"IF(AND(E211>0,OR(AV211=\"\")), \"* No olvide digitar la variable Trans (Masculino). Digite Cero si no tiene.\",IF((AV211)>E211,\"  * La variable Trans (Masculino) No puede ser mayor al Total Mujeres.\",\"\"))","v":""},null,0,0,0,0,0,0,0,0,0,0]
[null,"Trastorno de Pánico  ",0,0,0,null,null,null,null,null,null,null,null,null,null,null,null,null,null,null,null,null,null,null,null,null,null,null,null,null,null,null,null,null,null,null,null,null,null,null,null,null,null,null,null,null,null,null,null,"",null,null,null,null,null,null,null,null,null,null,null,null,null,null,null,null,null,null,{"$f":"IF(AND(E212>0,AN212=\"\"), \"* No olvide digitar la variable Gestantes. Digite Cero si no tiene.\",IF(AN212>E212,\"  * La  variable Gestantes No puede ser mayor al Total Mujeres.\",\"\"))","v":""},{"$f":"IF(AND(E212>0,AO212=\"\"), \"* No olvide digitar la variable Madre de hijo menor de 5 años. Digite Cero si no tiene.\",IF(AO212>E212,\"  * La variable Madre de hijo menor de 5 años No puede ser mayor al Total Mujeres.\",\"\"))","v":""},"","","","","","","","",null,0,0,0,0,0,0,0,0,0,0]
[null,"Fobias Sociales",0,0,0,null,null,null,null,null,null,null,null,null,null,null,null,null,null,null,null,null,null,null,null,null,null,null,null,null,null,null,null,null,null,null,null,null,null,null,null,null,null,null,null,null,null,null,null,"",null,null,null,null,null,null,null,null,null,null,null,null,null,null,null,null,null,null,"","","","","","","","","","",null,0,0,0,0,0,0,0,0,0,0]
[null,"Trastornos de Ansiedad Generalizada",0,0,0,null,null,null,null,null,null,null,null,null,null,null,null,null,null,null,null,null,null,null,null,null,null,null,null,null,null,null,null,null,null,null,null,null,null,null,null,null,null,null,null,null,null,null,null,"",null,null,null,null,null,null,null,null,null,null,null,null,null,null,null,null,null,null,"","","","","","","","","","",null,0,0,0,0,0,0,0,0,0,0]
[null,"Otros Trastornos de Ansiedad",0,0,0,null,null,null,null,null,null,null,null,null,null,null,null,null,null,null,null,null,null,null,null,null,null,null,null,null,null,null,null,null,null,null,null,null,null,null,null,null,null,null,null,null,null,null,null,"",null,null,null,null,null,null,null,null,null,null,null,null,null,null,null,null,null,null,"","","","","","","","","","",null,0,0,0,0,0,0,0,0,0,0]
["\nDemencias (Incluye Alzheimer)","Leve",0,0,0,null,null,null,null,null,null,null,null,null,null,null,null,null,null,null,null,null,null,null,null,null,null,null,null,null,null,null,null,null,null,null,null,null,null,null,null,null,null,null,null,null,null,null,null,"",null,null,null,null,null,null,null,null,null,null,null,null,null,null,null,null,null,null,null,null,"","","","","","","",{"$f":"IF(AND(E216>0,OR(AV216=\"\")), \"* No olvide digitar la variable Trans (Masculino). Digite Cero si no tiene.\",IF((AV216)>E216,\"  * La variable Trans (Masculino) No puede ser mayor al Total Mujeres.\",\"\"))","v":""},null,null,null,0,0,0,0,0,0,0,0]
[null,"Moderado",0,{"$f":"SUM(F217+H217+J217+L217+N217+P217+R217+T217+V217+X217+Z217+AB217+AD217+AF217+AH217+AJ217+AL217)","v":0},0,null,null,null,null,null,null,null,null,null,null,null,null,null,null,null,null,null,null,null,null,null,null,null,null,null,null,null,null,null,null,null,null,null,null,null,null,null,null,null,null,null,null,null,null,"",null,null,null,null,null,null,null,null,null,null,null,null,null,null,null,null,null,null,null,null,"","","","","","","","",null,null,null,0,0,0,0,0,0,0,0]
[null,"Avanzado",0,0,0,null,null,null,null,null,null,null,null,null,null,null,null,null,null,null,null,null,null,null,null,null,null,null,null,null,null,null,null,null,null,null,null,null,null,null,null,null,null,null,null,null,null,null,null,"",null,null,null,null,null,null,null,null,null,null,null,null,null,null,null,null,null,null,null,null,"","","","","","","","",null,null,null,0,0,0,0,0,0,0,0]
["Esquizofrenia",null,{"$f":"SUM(D219+E219)","v":0},{"$f":"SUM(F219+H219+J219+L219+N219+P219+R219+T219+V219+X219+Z219+AB219+AD219+AF219+AH219+AJ219+AL219)","v":0},{"$f":"SUM(G219+I219+K219+M219+O219+Q219+S219+U219+W219+Y219+AA219+AC219+AE219+AG219+AI219+AK219+AM219)","v":0},null,null,null,null,null,null,null,null,null,null,null,null,null,null,null,null,null,null,null,null,null,null,null,null,null,null,null,null,null,null,null,null,null,null,null,null,null,null,null,null,null,null,null,null,"",null,null,null,null,null,null,null,null,null,null,null,null,null,null,null,null,null,null,{"$f":"IF(AND(E219>0,AN219=\"\"), \"* No olvide digitar la variable Gestantes. Digite Cero si no tiene.\",IF(AN219>E219,\"  * La  variable Gestantes No puede ser mayor al Total Mujeres.\",\"\"))","v":""},{"$f":"IF(AND(E219>0,AO219=\"\"), \"* No olvide digitar la variable Madre de hijo menor de 5 años. Digite Cero si no tiene.\",IF(AO219>E219,\"  * La variable Madre de hijo menor de 5 años No puede ser mayor al Total Mujeres.\",\"\"))","v":""},{"$f":"IF(AND(D219>0,OR(AP219=\"\")), \"* No olvide digitar la variable Pueblos originarios - Hombres. Digite Cero si no tiene.\",IF((AP219)>D219,\"  * La variable Pueblos originarios - Hombres No puede ser mayor al Total.\",\"\"))","v":""},{"$f":"IF(AND(E219>0,OR(AQ219=\"\")), \"* No olvide digitar la variable Pueblos originarios - Mujeres. Digite Cero si no tiene.\",IF((AQ219)>E219,\"  * La variable Pueblos originarios - Mujeres No puede ser mayor al Total.\",\"\"))","v":""},{"$f":"IF(AND(C219>0,AR219=\"\"), \"* No olvide digitar la variable Niños, niñas, adolescentes y jóvenes SENAME. Digite Cero si no tiene.\",IF(AR219>C219,\"  * La variable Niños, niñas, adolescentes y jóvenes SENAME No puede ser mayor al Total.\",\"\"))","v":""},{"$f":"IF(AND(C219>0,AS219=\"\"), \"* No olvide digitar la variable Niños, niñas, adolescentes y jóvenes Mejor Niñez. Digite Cero si no tiene.\",IF(AS219>C219,\"  * La variable Niños, niñas, adolescentes y jóvenes Mejor Niñez No puede ser mayor al Total.\",\"\"))","v":""},{"$f":"IF(AND(D219>0,OR(AT219=\"\")), \"* No olvide digitar la variable Migrantes - Hombres. Digite Cero si no tiene.\",IF((AT219+AT219)>D219,\"  * La variable Migrantes - Hombres No puede ser mayor al Total.\",\"\"))","v":""},{"$f":"IF(AND(E219>0,OR(AU219=\"\")), \"* No olvide digitar la variable Migrantes - Mujeres. Digite Cero si no tiene.\",IF((AU219)>E219,\"  * La variable Migrantes - Mujeres No puede ser mayor al Total.\",\"\"))","v":""},"",{"$f":"IF(AND(E219>0,OR(AV219=\"\")), \"* No olvide digitar la variable Trans (Masculino). Digite Cero si no tiene.\",IF((AV219)>E219,\"  * La variable Trans (Masculino) No puede ser mayor al Total Mujeres.\",\"\"))","v":""},null,0,0,0,0,0,0,0,0,0,0]
["Trastorno Adaptativo",null,{"$f":"SUM(D220+E220)","v":0},{"$f":"SUM(F220+H220+J220+L220+N220+P220+R220+T220+V220+X220+Z220+AB220+AD220+AF220+AH220+AJ220+AL220)","v":0},{"$f":"SUM(G220+I220+K220+M220+O220+Q220+S220+U220+W220+Y220+AA220+AC220+AE220+AG220+AI220+AK220+AM220)","v":0},null,null,null,null,null,null,null,null,null,null,null,null,null,null,null,null,null,null,null,null,null,null,null,null,null,null,null,null,null,null,null,null,null,null,null,null,null,null,null,null,null,null,null,null,"",null,null,null,null,null,null,null,null,null,null,null,null,null,null,null,null,null,null,"",{"$f":"IF(AND(E220>0,AO220=\"\"), \"* No olvide digitar la variable Madre de hijo menor de 5 años. Digite Cero si no tiene.\",IF(AO220>E220,\"  * La variable Madre de hijo menor de 5 años No puede ser mayor al Total Mujeres.\",\"\"))","v":""},"","","","","","","","",null,0,0,0,0,0,0,0,0,0,0]
["Trastornos de la Conducta Alimentaria",null,0,0,0,null,null,null,null,null,null,null,null,null,null,null,null,null,null,null,null,null,null,null,null,null,null,null,null,null,null,null,null,null,null,null,null,null,null,null,null,null,null,null,null,null,null,null,null,"",null,null,null,null,null,null,null,null,null,null,null,null,null,null,null,null,null,null,"","","","","","","","","","",null,0,0,0,0,0,0,0,0,0,0]
["Retraso Mental",null,0,0,0,null,null,null,null,null,null,null,null,null,null,null,null,null,null,null,null,null,null,null,null,null,null,null,null,null,null,null,null,null,null,null,null,null,null,null,null,null,null,null,null,null,null,null,null,"",null,null,null,null,null,null,null,null,null,null,null,null,null,null,null,null,null,null,"","","","","","","","","","",null,0,0,0,0,0,0,0,0,0,0]
["Trastorno de Personalidad",null,0,0,0,null,null,null,null,null,null,null,null,null,null,null,null,null,null,null,null,null,null,null,null,null,null,null,null,null,null,null,null,null,null,null,null,null,null,null,null,null,null,null,null,null,null,null,null,"",null,null,null,null,null,null,null,null,null,null,null,null,null,null,null,null,null,null,"","","","","","","","","","",null,0,0,0,0,0,0,0,0,0,0]
["Trastorno Generalizados del Desarrollo","Autismo",0,0,0,null,null,null,null,null,null,null,null,null,null,null,null,null,null,null,null,null,null,null,null,null,null,null,null,null,null,null,null,null,null,null,null,null,null,null,null,null,null,null,null,null,null,null,null,"",null,null,null,null,null,null,null,null,null,null,null,null,null,null,null,null,null,null,"","","","","","","","","","",null,0,0,0,0,0,0,0,0,0,0]
[null,"Asperger",0,0,0,null,null,null,null,null,null,null,null,null,null,null,null,null,null,null,null,null,null,null,null,null,null,null,null,null,null,null,null,null,null,null,null,null,null,null,null,null,null,null,null,null,null,null,null,"",null,null,null,null,null,null,null,null,null,null,null,null,null,null,null,null,null,null,"","","","","","","","","","",null,0,0,0,0,0,0,0,0,0,0]
[null,"Síndrome de Rett",0,0,0,null,null,null,null,null,null,null,null,null,null,null,null,null,null,null,null,null,null,null,null,null,null,null,null,null,null,null,null,null,null,null,null,null,null,null,null,null,null,null,null,null,null,null,null,"",null,null,null,null,null,null,null,null,null,null,null,null,null,null,null,null,null,null,"","","","","","","","","","",null,0,0,0,0,0,0,0,0,0,0]
[null,"Trastorno Desintegrativo de la Infancia",0,0,0,null,null,null,null,null,null,null,null,null,null,null,null,null,null,null,null,null,null,null,null,null,null,null,null,null,null,null,null,null,null,null,null,null,null,null,null,null,null,null,null,null,null,null,null,"",null,null,null,null,null,null,null,null,null,null,null,null,null,null,null,null,null,null,"","","","","","","","","","",null,0,0,0,0,0,0,0,0,0,0]
[null,"Trastorno Generalizado del Desarrollo no Específico",0,0,0,null,null,null,null,null,null,null,null,null,null,null,null,null,null,null,null,null,null,null,null,null,null,null,null,null,null,null,null,null,null,null,null,null,null,null,null,null,null,null,null,null,null,null,null,"",null,null,null,null,null,null,null,null,null,null,null,null,null,null,null,null,null,null,"","","","","","","","","","",null,0,0,0,0,0,0,0,0,0,0]
["Epilepsia",null,0,0,0,null,null,null,null,null,null,null,null,null,null,null,null,null,null,null,null,null,null,null,null,null,null,null,null,null,null,null,null,null,null,null,null,null,null,null,null,null,null,null,null,null,null,null,null,"",null,null,null,null,null,null,null,null,null,null,null,null,null,null,null,null,null,null,"","","","","","","","","","",null,0,0,0,0,0,0,0,0,0,0]
["Otras",null,0,0,0,null,null,null,null,null,null,null,null,null,null,null,null,null,null,null,null,null,null,null,null,null,null,null,null,null,null,null,null,null,null,null,null,null,null,null,null,null,null,null,null,null,null,null,null,"",null,null,null,null,null,null,null,null,null,null,null,null,null,null,null,null,null,null,"","","","","","","","","","",null,0,0,0,0,0,0,0,0,0,0]
["SECCIÓN O: EGRESOS DEL PROGRAMA DE SALUD  MENTAL POR ALTAS CLÍNICAS EN APS /ESPECIALIDAD"]
["MOTIVO DE EGRESO",null,"TOTAL",null,null,"0 - 4 años",null,"5 - 9 años",null,"10 - 14 años",null,"15 - 19 años",null,"20 - 24 años",null,"25 - 29 años",null,"30 - 34 años",null,"35 - 39 años",null,"40 - 44 años",null,"45 - 49 años",null,"50 - 54 años",null,"55 - 59 años",null,"60 - 64 años",null,"65 - 69 años",null,"70 - 74 años",null,"75 - 79 años",null,"80 y más años",null,"EGRESOS",null,null,"Gestantes","Madre de hijo menor de 5 años ","Pueblos Originarios",null,"Niños, Niñas, Adolescentes y Jóvenes  SENAME","Niños, Niñas, Adolescentes y Jóvenes Mejor Niñez","Migrantes","TRANS Masculino/\nFemenino"]
[null,null,"Ambos Sexos","Hombres","Mujeres","Hombres","Mujeres","Hombres","Mujeres","Hombres","Mujeres","Hombres","Mujeres","Hombres","Mujeres","Hombres","Mujeres","Hombres","Mujeres","Hombres","Mujeres","Hombres","Mujeres","Hombres","Mujeres","Hombres","Mujeres","Hombres","Mujeres","Hombres","Mujeres","Hombres","Mujeres","Hombres","Mujeres","Hombres","Mujeres","Hombres","Mujeres","Abandono","Fallecimiento","Traslado o Derivación",null,null,"Hombres","Mujeres"]
["EGRESOS DEL PROGRAMA",null,{"$f":"SUM(D234+E234)","v":0},{"$f":"SUM(F234+H234+J234+L234+N234+P234+R234+T234+V234+X234+Z234+AB234+AD234+AF234+AH234+AJ234+AL234)","v":0},{"$f":"SUM(G234+I234+K234+M234+O234+Q234+S234+U234+W234+Y234+AA234+AC234+AE234+AG234+AI234+AK234+AM234)","v":0},null,null,null,null,null,null,null,null,null,null,null,null,null,null,null,null,null,null,null,null,null,null,null,null,null,null,null,null,null,null,null,null,null,null,null,null,null,null,null,null,null,null,null,null,null,{"$f":"BQ234&BR234&BS234&BT234&BU234&BV234&BW234&BX234&BY234","v":""},null,null,null,null,null,null,null,null,null,null,null,null,null,null,null,null,null,null,{"$f":"IF(AND(E234>0,AQ234=\"\"), \"* No olvide digitar la variable Gestantes. Digite Cero si no tiene.\",IF(AQ234>E234,\"  * La variable Gestantes No puede ser mayor al Total Mujeres.\",\"\"))","v":""},{"$f":"IF(AND(E234>0,AR234=\"\"), \"* No olvide digitar la variable Madre de hijo menor de 5 años. Digite Cero si no tiene.\",IF(AR234>E234,\"  * La variable Madre de hijo menor de 5 años No puede ser mayor al Total Mujeres.\",\"\"))","v":""},{"$f":"IF(AND(D234>0,OR(AS234=\"\")), \"* No olvide digitar la variable Pueblos originarios Hombres. Digite Cero si no tiene.\",IF(AS234>D234,\"  * La variable Pueblos originarios Hombres No puede ser mayor al Total Hombres.\",\"\"))","v":""},{"$f":"IF(AND(E234>0,OR(AT234=\"\")), \"* No olvide digitar la variable Pueblos originarios Mujeres. Digite Cero si no tiene.\",IF(AT234>E234,\"  * La variable Pueblos originarios Mujeres No puede ser mayor al Total Mujeres.\",\"\"))","v":""},{"$f":"IF(AND(C234>0,AU234=\"\"), \"* No olvide digitar la variable Niños, niñas, adolescentes y jóvenes SENAME. Digite Cero si no tiene.\",IF(AU234>C234,\"  * La variable Niños, niñas, adolescentes y jóvenes SENAME No puede ser mayor al Total.\",\"\"))","v":""},{"$f":"IF(AND(C234>0,AV234=\"\"), \"* No olvide digitar la variable Niños, niñas, adolescentes y jóvenes Mejor Niñez. Digite Cero si no tiene.\",IF(AV234>C234,\"  * La variable Niños, niñas, adolescentes y jóvenes Mejor Niñez No puede ser mayor al Total.\",\"\"))","v":""},{"$f":"IF(AND(C234>0,AW234=\"\"), \"* No olvide digitar la variable Migrantes. Digite Cero si no tiene.\",IF(AW234>C234,\"  * La variable Migrantes No puede ser mayor al Total.\",\"\"))","v":""},{"$f":"IF(AND(C234>0,AX234=\"\"), \"* No olvide digitar la variable Trans (Masculino/ Femenino). Digite Cero si no tiene.\",IF(AX234>C234,\"  * La variable Trans (Masculino/Femenino) No puede ser mayor al Total Ambos Sexos.\",\"\"))","v":""},null,null,{"$f":"IF(AND(E234>0,AQ234=\"\"),1,IF(AQ234>E234,1,0))","v":0},{"$f":"IF(AND(E234>0,AR234=\"\"),1,IF(AR234>E234,1,0))","v":0},{"$f":"IF(AND(D234>0,OR(AS234=\"\")),1,IF(AS234>D234,1,0))","v":0},{"$f":"IF(AND(E234>0,OR(AT234=\"\")),1,IF(AT234>E234,1,0))","v":0},{"$f":"IF(AND(C234>0,AU234=\"\"),1,IF(AU234>C234,1,0))","v":0},{"$f":"IF(AND(C234>0,AV234=\"\"),1,IF(AV234>C234,1,0))","v":0},{"$f":"IF(AND(C234>0,AW234=\"\"),1,IF(AW234>C234,1,0))","v":0},{"$f":"IF(AND(C234>0,AX234=\"\"),1,IF(AX234>C234,1,0))","v":0}]
["FACTORES DE RIESGO Y CONDICIONANTES DE LA SALUD MENTAL"]
["Violencia","Victima",{"$f":"SUM(D236+E236)","v":0},{"$f":"SUM(F236+H236+J236+L236+N236+P236+R236+T236+V236+X236+Z236+AB236+AD236+AF236+AH236+AJ236+AL236)","v":0},0,null,null,null,null,null,null,null,null,null,null,null,null,null,null,null,null,null,null,null,null,null,null,null,null,null,null,null,null,null,null,null,null,null,null,null,null,null,null,null,null,null,null,null,null,null,{"$f":"BQ236&BR236&BS236&BT236&BU236&BV236&BW236&BX236&BY236","v":""},null,null,null,null,null,null,null,null,null,null,null,null,null,null,null,null,null,null,{"$f":"IF(AND(E236>0,AQ236=\"\"), \"* No olvide digitar la variable Gestantes. Digite Cero si no tiene.\",IF(AQ236>E236,\"  * La variable Gestantes No puede ser mayor al Total.\",\"\"))","v":""},{"$f":"IF(AND(E236>0,AR236=\"\"), \"* No olvide digitar la variable Madre de hijo menor de 5 años. Digite Cero si no tiene.\",IF(AR236>E236,\"  * La variable Madre de hijo menor de 5 años No puede ser mayor al Total.\",\"\"))","v":""},{"$f":"IF(AND(D236>0,OR(AS236=\"\")), \"* No olvide digitar la variable Pueblos originarios Hombres. Digite Cero si no tiene.\",IF(AS236>D236,\"  * La variable Pueblos originarios Hombres No puede ser mayor al Total Hombres.\",\"\"))","v":""},{"$f":"IF(AND(E236>0,OR(AT236=\"\")), \"* No olvide digitar la variable Pueblos originarios Mujeres. Digite Cero si no tiene.\",IF(AT236>E236,\"  * La variable Pueblos originarios Mujeres No puede ser mayor al Total Mujeres.\",\"\"))","v":""},{"$f":"IF(AND(C236>0,AU236=\"\"), \"* No olvide digitar la variable Niños, niñas, adolescentes y jóvenes SENAME. Digite Cero si no tiene.\",IF(AU236>C236,\"  * La variable Niños, niñas, adolescentes y jóvenes SENAME No puede ser mayor al Total.\",\"\"))","v":""},{"$f":"IF(AND(C236>0,AV236=\"\"), \"* No olvide digitar la variable Niños, niñas, adolescentes y jóvenes Mejor Niñez. Digite Cero si no tiene.\",IF(AV236>C236,\"  * La variable Niños, niñas, adolescentes y jóvenes Mejor Niñez No puede ser mayor al Total.\",\"\"))","v":""},{"$f":"IF(AND(C236>0,AW236=\"\"), \"* No olvide digitar la variable Migrantes. Digite Cero si no tiene.\",IF(AW236>C236,\"  * La variable Migrantes No puede ser mayor al Total.\",\"\"))","v":""},{"$f":"IF(AND(C236>0,AX236=\"\"), \"* No olvide digitar la variable Trans (Masculino/ Femenino). Digite Cero si no tiene.\",IF(AX236>C236,\"  * La variable Trans (Masculino/Femenino) No puede ser mayor al Total Ambos Sexos.\",\"\"))","v":""},null,null,{"$f":"IF(AND(E236>0,AQ236=\"\"),1,IF(AQ236>E236,1,0))","v":0},{"$f":"IF(AND(E236>0,AR236=\"\"),1,IF(AR236>E236,1,0))","v":0},{"$f":"IF(AND(D236>0,OR(AS236=\"\")),1,IF(AS236>D236,1,0))","v":0},{"$f":"IF(AND(E236>0,OR(AT236=\"\")),1,IF(AT236>E236,1,0))","v":0},{"$f":"IF(AND(C236>0,AU236=\"\"),1,IF(AU236>C236,1,0))","v":0},{"$f":"IF(AND(C236>0,AV236=\"\"),1,IF(AV236>C236,1,0))","v":0},{"$f":"IF(AND(C236>0,AW236=\"\"),1,IF(AW236>C236,1,0))","v":0},{"$f":"IF(AND(C236>0,AX236=\"\"),1,IF(AX236>C236,1,0))","v":0}]
[null,"Agresor / a",{"$f":"SUM(D237+E237)","v":0},0,0,null,null,null,null,null,null,null,null,null,null,null,null,null,null,null,null,null,null,null,null,null,null,null,null,null,null,null,null,null,null,null,null,null,null,null,null,null,null,null,null,null,null,null,null,null,{"$f":"BQ237&BR237&BS237&BT237&BU237&BV237&BW237&BX237&BY237","v":""},null,null,null,null,null,null,null,null,null,null,null,null,null,null,null,null,null,null,{"$f":"IF(AND(E237>0,AQ237=\"\"), \"* No olvide digitar la variable Gestantes. Digite Cero si no tiene.\",IF(AQ237>E237,\"  * La variable Gestantes No puede ser mayor al Total.\",\"\"))","v":""},"","","","","","","",null,null,0,0,0,0,0,0,0,0]
["Abuso sexual",null,{"$f":"SUM(D238+E238)","v":0},0,0,null,null,null,null,null,null,null,null,null,null,null,null,null,null,null,null,null,null,null,null,null,null,null,null,null,null,null,null,null,null,null,null,null,null,null,null,null,null,null,null,null,null,null,null,null,"",null,null,null,null,null,null,null,null,null,null,null,null,null,null,null,null,null,null,"","","","","","","","",null,null,0,0,0,0,0,0,0,0]
["Suicidio","Ideación",0,{"$f":"SUM(H239+J239+L239+N239+P239+R239+T239+V239+X239+Z239+AB239+AD239+AF239+AH239+AJ239+AL239)","v":0},{"$f":"SUM(I239+K239+M239+O239+Q239+S239+U239+W239+Y239+AA239+AC239+AE239+AG239+AI239+AK239+AM239)","v":0},null,null,null,null,null,null,null,null,null,null,null,null,null,null,null,null,null,null,null,null,null,null,null,null,null,null,null,null,null,null,null,null,null,null,null,null,null,null,null,null,null,null,null,null,null,"",null,null,null,null,null,null,null,null,null,null,null,null,null,null,null,null,null,null,"","","","","","","","",null,null,0,0,0,0,0,0,0,0]
[null,"Intento",0,{"$f":"SUM(H240+J240+L240+N240+P240+R240+T240+V240+X240+Z240+AB240+AD240+AF240+AH240+AJ240+AL240)","v":0},{"$f":"SUM(I240+K240+M240+O240+Q240+S240+U240+W240+Y240+AA240+AC240+AE240+AG240+AI240+AK240+AM240)","v":0},null,null,null,null,null,null,null,null,null,null,null,null,null,null,null,null,null,null,null,null,null,null,null,null,null,null,null,null,null,null,null,null,null,null,null,null,null,null,null,null,null,null,null,null,null,"",null,null,null,null,null,null,null,null,null,null,null,null,null,null,null,null,null,null,"","","","","","","","",null,null,0,0,0,0,0,0,0,0]
["PERSONAS CON DIAGNÓSTICOS DE TRASTORNOS MENTALES ",null,0,0,0,null,null,null,null,null,null,null,null,null,null,null,null,null,null,null,null,null,null,null,null,null,null,null,null,null,null,null,null,null,null,null,null,null,null,null,null,null,null,null,null,null,null,null,null,null,"",null,null,null,null,null,null,null,null,null,null,null,null,null,null,null,null,null,null,"","","","","","","","",null,null,0,0,0,0,0,0,0,0]
["Trastornos del Humor\n(Afectivos)","Depresión Leve",0,0,0,null,null,null,null,null,null,null,null,null,null,null,null,null,null,null,null,null,null,null,null,null,null,null,null,null,null,null,null,null,null,null,null,null,null,null,null,null,null,null,null,null,null,null,null,null,"",null,null,null,null,null,null,null,null,null,null,null,null,null,null,null,null,null,null,"","","","","","","","",null,null,0,0,0,0,0,0,0,0]
[null,"Depresión Moderada",0,0,0,null,null,null,null,null,null,null,null,null,null,null,null,null,null,null,null,null,null,null,null,null,null,null,null,null,null,null,null,null,null,null,null,null,null,null,null,null,null,null,null,null,null,null,null,null,"",null,null,null,null,null,null,null,null,null,null,null,null,null,null,null,null,null,null,"","","","","","","","",null,null,0,0,0,0,0,0,0,0]
[null,"Depresión Grave",0,0,{"$f":"SUM(G244+I244+K244+M244+O244+Q244+S244+U244+W244+Y244+AA244+AC244+AE244+AG244+AI244+AK244+AM244)","v":0},null,null,null,null,null,null,null,null,null,null,null,null,null,null,null,null,null,null,null,null,null,null,null,null,null,null,null,null,null,null,null,null,null,null,null,null,null,null,null,null,null,null,null,null,null,"",null,null,null,null,null,null,null,null,null,null,null,null,null,null,null,null,null,null,"","","","","","","",{"$f":"IF(AND(C244>0,AX244=\"\"), \"* No olvide digitar la variable Trans (Masculino/ Femenino). Digite Cero si no tiene.\",IF(AX244>C244,\"  * La variable Trans (Masculino/Femenino) No puede ser mayor al Total Ambos Sexos.\",\"\"))","v":""},null,null,0,0,0,0,0,0,0,0]
[null,"Depresión Post Parto",0,null,{"$f":"SUM(K245+M245+O245+Q245+S245+U245+W245+Y245+AA245+AC245+AE245+AG245+AI245+AK245+AM245)","v":0},null,null,null,null,null,null,null,null,null,null,null,null,null,null,null,null,null,null,null,null,null,null,null,null,null,null,null,null,null,null,null,null,null,null,null,null,null,null,null,null,null,null,null,null,null,"",null,null,null,null,null,null,null,null,null,null,null,null,null,null,null,null,null,null,"","",null,"","","","","",null,null,0,0,0,0,0,0,0,0]
[null,"Trastorno Bipolar",0,{"$f":"SUM(F246+H246+J246+L246+N246+P246+R246+T246+V246+X246+Z246+AB246+AD246+AF246+AH246+AJ246+AL246)","v":0},0,null,null,null,null,null,null,null,null,null,null,null,null,null,null,null,null,null,null,null,null,null,null,null,null,null,null,null,null,null,null,null,null,null,null,null,null,null,null,null,null,null,null,null,null,null,"",null,null,null,null,null,null,null,null,null,null,null,null,null,null,null,null,null,null,"","","","","","","","",null,null,0,0,0,0,0,0,0,0]
[null,"Depresión Refractaria",0,0,0,null,null,null,null,null,null,null,null,null,null,null,null,null,null,null,null,null,null,null,null,null,null,null,null,null,null,null,null,null,null,null,null,null,null,null,null,null,null,null,null,null,null,null,null,null,"",null,null,null,null,null,null,null,null,null,null,null,null,null,null,null,null,null,null,"","","","","","","","",null,null,0,0,0,0,0,0,0,0]
[null,"Depresión Grave con Psicosis",0,0,0,null,null,null,null,null,null,null,null,null,null,null,null,null,null,null,null,null,null,null,null,null,null,null,null,null,null,null,null,null,null,null,null,null,null,null,null,null,null,null,null,null,null,null,null,null,"",null,null,null,null,null,null,null,null,null,null,null,null,null,null,null,null,null,null,"","","","","","","","",null,null,0,0,0,0,0,0,0,0]
[null,"Depresión con Alto Riesgo Suicida",0,0,0,null,null,null,null,null,null,null,null,null,null,null,null,null,null,null,null,null,null,null,null,null,null,null,null,null,null,null,null,null,null,null,null,null,null,null,null,null,null,null,null,null,null,null,null,null,"",null,null,null,null,null,null,null,null,null,null,null,null,null,null,null,null,null,null,"","","","","","","","",null,null,0,0,0,0,0,0,0,0]
["Trastornos Mentales y del Comportamiento Debido a Consumo Sustancias Psicotrópicas","Consumo Perjudicial de Alcohol",0,0,0,null,null,null,null,null,null,null,null,null,null,null,null,null,null,null,null,null,null,null,null,null,null,null,null,null,null,null,null,null,null,null,null,null,null,null,null,null,null,null,null,null,null,null,null,null,{"$f":"BQ250&BR250&BS250&BT250&BU250&BV250&BW250&BX250&BY250","v":""},null,null,null,null,null,null,null,null,null,null,null,null,null,null,null,null,null,null,"","","","","","","","",null,null,0,0,0,0,0,0,0,0]
[null,"Consumo Dependiente del Alcohol",0,0,{"$f":"SUM(G251+I251+K251+M251+O251+Q251+S251+U251+W251+Y251+AA251+AC251+AE251+AG251+AI251+AK251+AM251)","v":0},null,null,null,null,null,null,null,null,null,null,null,null,null,null,null,null,null,null,null,null,null,null,null,null,null,null,null,null,null,null,null,null,null,null,null,null,null,null,null,null,null,null,null,null,null,"",null,null,null,null,null,null,null,null,null,null,null,null,null,null,null,null,null,null,"","","","","","","","",null,null,0,0,0,0,0,0,0,0]
[null,"Consumo Perjudicial de Drogas",{"$f":"SUM(D252+E252)","v":0},{"$f":"SUM(F252+H252+J252+L252+N252+P252+R252+T252+V252+X252+Z252+AB252+AD252+AF252+AH252+AJ252+AL252)","v":0},{"$f":"SUM(G252+I252+K252+M252+O252+Q252+S252+U252+W252+Y252+AA252+AC252+AE252+AG252+AI252+AK252+AM252)","v":0},null,null,null,null,null,null,null,null,null,null,null,null,null,null,null,null,null,null,null,null,null,null,null,null,null,null,null,null,null,null,null,null,null,null,null,null,null,null,null,null,null,null,null,null,null,"",null,null,null,null,null,null,null,null,null,null,null,null,null,null,null,null,null,null,"","","","","","","","",null,null,0,0,0,0,0,0,0,0]
[null,"Consumo Dependiente de Drogas",{"$f":"SUM(D253+E253)","v":0},{"$f":"SUM(F253+H253+J253+L253+N253+P253+R253+T253+V253+X253+Z253+AB253+AD253+AF253+AH253+AJ253+AL253)","v":0},{"$f":"SUM(G253+I253+K253+M253+O253+Q253+S253+U253+W253+Y253+AA253+AC253+AE253+AG253+AI253+AK253+AM253)","v":0},null,null,null,null,null,null,null,null,null,null,null,null,null,null,null,null,null,null,null,null,null,null,null,null,null,null,null,null,null,null,null,null,null,null,null,null,null,null,null,null,null,null,null,null,null,"",null,null,null,null,null,null,null,null,null,null,null,null,null,null,null,null,null,null,"","","","","","","","",null,null,0,0,0,0,0,0,0,0]
[null,"Consumo de Drogas y Alcohol",0,0,0,null,null,null,null,null,null,null,null,null,null,null,null,null,null,null,null,null,null,null,null,null,null,null,null,null,null,null,null,null,null,null,null,null,null,null,null,null,null,null,null,null,null,null,null,null,"",null,null,null,null,null,null,null,null,null,null,null,null,null,null,null,null,null,null,"","","","","","","","",null,null,0,0,0,0,0,0,0,0]
["Trastornos del Comportamiento y de las Emociones de Comienzo Habitual en la Infancia y Adolescencia","Trastorno Hipercinéticos",0,{"$f":"SUM(F255+H255+J255+L255+N255)","v":0},{"$f":"SUM(G255+I255+K255+M255+O255)","v":0},null,null,null,null,null,null,null,null,null,null,null,null,null,null,null,null,null,null,null,null,null,null,null,null,null,null,null,null,null,null,null,null,null,null,null,null,null,null,null,null,null,null,null,null,null,"",null,null,null,null,null,null,null,null,null,null,null,null,null,null,null,null,null,null,{"$f":"IF(AND(E255>0,AQ255=\"\"), \"* No olvide digitar la variable Gestantes. Digite Cero si no tiene.\",IF(AQ255>E255,\"  * La variable Gestantes No puede ser mayor al Total.\",\"\"))","v":""},null,"","","","","","",null,null,0,null,0,0,0,0,0,0]
[null,"Trastorno Disocial Desafiante y Oposicionista",0,{"$f":"SUM(F256+H256+J256+L256+N256)","v":0},0,null,null,null,null,null,null,null,null,null,null,null,null,null,null,null,null,null,null,null,null,null,null,null,null,null,null,null,null,null,null,null,null,null,null,null,null,null,null,null,null,null,null,null,null,null,"",null,null,null,null,null,null,null,null,null,null,null,null,null,null,null,null,null,null,"",null,"","","","","","",null,null,0,null,0,0,0,0,0,0]
[null,"Trastorno de Ansiedad de Separación en la Infancia",0,0,0,null,null,null,null,null,null,null,null,null,null,null,null,null,null,null,null,null,null,null,null,null,null,null,null,null,null,null,null,null,null,null,null,null,null,null,null,null,null,null,null,null,null,null,null,null,"",null,null,null,null,null,null,null,null,null,null,null,null,null,null,null,null,null,null,"",null,"","","","","","",null,null,0,null,0,0,0,0,0,0]
[null,"Otros Trastornos del Comportamiento y de las Emociones de Comienzo Habitual en La Infancia y Adolescencia",0,0,0,null,null,null,null,null,null,null,null,null,null,null,null,null,null,null,null,null,null,null,null,null,null,null,null,null,null,null,null,null,null,null,null,null,null,null,null,null,null,null,null,null,null,null,null,null,"",null,null,null,null,null,null,null,null,null,null,null,null,null,null,null,null,null,null,"",null,"","","","","","",null,null,0,null,0,0,0,0,0,0]
["\nTrastornos de Ansiedad","Trastorno de Estrés Post Traumático",0,{"$f":"SUM(F259+H259+J259+L259+N259+P259+R259+T259+V259+X259+Z259+AB259+AD259+AF259+AH259+AJ259+AL259)","v":0},{"$f":"SUM(G259+I259+K259+M259+O259+Q259+S259+U259+W259+Y259+AA259+AC259+AE259+AG259+AI259+AK259+AM259)","v":0},null,null,null,null,null,null,null,null,null,null,null,null,null,null,null,null,null,null,null,null,null,null,null,null,null,null,null,null,null,null,null,null,null,null,null,null,null,null,null,null,null,null,null,null,null,"",null,null,null,null,null,null,null,null,null,null,null,null,null,null,null,null,null,null,"","","","","","","","",null,null,0,0,0,0,0,0,0,0]
[null,"Trastorno de Pánico  ",0,0,0,null,null,null,null,null,null,null,null,null,null,null,null,null,null,null,null,null,null,null,null,null,null,null,null,null,null,null,null,null,null,null,null,null,null,null,null,null,null,null,null,null,null,null,null,null,"",null,null,null,null,null,null,null,null,null,null,null,null,null,null,null,null,null,null,"","","","","","","","",null,null,0,0,0,0,0,0,0,0]
[null,"Fobias Sociales",0,0,0,null,null,null,null,null,null,null,null,null,null,null,null,null,null,null,null,null,null,null,null,null,null,null,null,null,null,null,null,null,null,null,null,null,null,null,null,null,null,null,null,null,null,null,null,null,"",null,null,null,null,null,null,null,null,null,null,null,null,null,null,null,null,null,null,"","","","","","","","",null,null,0,0,0,0,0,0,0,0]
[null,"Trastornos de Ansiedad Generalizada",0,0,0,null,null,null,null,null,null,null,null,null,null,null,null,null,null,null,null,null,null,null,null,null,null,null,null,null,null,null,null,null,null,null,null,null,null,null,null,null,null,null,null,null,null,null,null,null,"",null,null,null,null,null,null,null,null,null,null,null,null,null,null,null,null,null,null,"","","","","","","","",null,null,0,0,0,0,0,0,0,0]
[null,"Otros Trastornos de Ansiedad",0,0,0,null,null,null,null,null,null,null,null,null,null,null,null,null,null,null,null,null,null,null,null,null,null,null,null,null,null,null,null,null,null,null,null,null,null,null,null,null,null,null,null,null,null,null,null,null,"",null,null,null,null,null,null,null,null,null,null,null,null,null,null,null,null,null,null,"","","","","","","","",null,null,0,0,0,0,0,0,0,0]
["\nDemencias (Incluye Alzheimer)","Leve",0,0,0,null,null,null,null,null,null,null,null,null,null,null,null,null,null,null,null,null,null,null,null,null,null,null,null,null,null,null,null,null,null,null,null,null,null,null,null,null,null,null,null,null,null,null,null,null,"",null,null,null,null,null,null,null,null,null,null,null,null,null,null,null,null,null,null,null,null,"","","","","","",null,null,null,null,0,0,0,0,0,0]
[null,"Moderado",0,0,0,null,null,null,null,null,null,null,null,null,null,null,null,null,null,null,null,null,null,null,null,null,null,null,null,null,null,null,null,null,null,null,null,null,null,null,null,null,null,null,null,null,null,null,null,null,"",null,null,null,null,null,null,null,null,null,null,null,null,null,null,null,null,null,null,null,null,"","","","","","",null,null,null,null,0,0,0,0,0,0]
[null,"Avanzado",0,0,0,null,null,null,null,null,null,null,null,null,null,null,null,null,null,null,null,null,null,null,null,null,null,null,null,null,null,null,null,null,null,null,null,null,null,null,null,null,null,null,null,null,null,null,null,null,"",null,null,null,null,null,null,null,null,null,null,null,null,null,null,null,null,null,null,null,null,"","","","","","",null,null,null,null,0,0,0,0,0,0]
["Esquizofrenia",null,{"$f":"SUM(D267+E267)","v":0},{"$f":"SUM(F267+H267+J267+L267+N267+P267+R267+T267+V267+X267+Z267+AB267+AD267+AF267+AH267+AJ267+AL267)","v":0},{"$f":"SUM(G267+I267+K267+M267+O267+Q267+S267+U267+W267+Y267+AA267+AC267+AE267+AG267+AI267+AK267+AM267)","v":0},null,null,null,null,null,null,null,null,null,null,null,null,null,null,null,null,null,null,null,null,null,null,null,null,null,null,null,null,null,null,null,null,null,null,null,null,null,null,null,null,null,null,null,null,null,"",null,null,null,null,null,null,null,null,null,null,null,null,null,null,null,null,null,null,"","","","","","","","",null,null,0,0,0,0,0,0,0,0]
["Trastorno Adaptativo",null,{"$f":"SUM(D268+E268)","v":0},{"$f":"SUM(F268+H268+J268+L268+N268+P268+R268+T268+V268+X268+Z268+AB268+AD268+AF268+AH268+AJ268+AL268)","v":0},{"$f":"SUM(G268+I268+K268+M268+O268+Q268+S268+U268+W268+Y268+AA268+AC268+AE268+AG268+AI268+AK268+AM268)","v":0},null,null,null,null,null,null,null,null,null,null,null,null,null,null,null,null,null,null,null,null,null,null,null,null,null,null,null,null,null,null,null,null,null,null,null,null,null,null,null,null,null,null,null,null,null,"",null,null,null,null,null,null,null,null,null,null,null,null,null,null,null,null,null,null,"","","","","","","","",null,null,0,0,0,0,0,0,0,0]
["Trastornos de la Conducta Alimentaria",null,0,0,0,null,null,null,null,null,null,null,null,null,null,null,null,null,null,null,null,null,null,null,null,null,null,null,null,null,null,null,null,null,null,null,null,null,null,null,null,null,null,null,null,null,null,null,null,null,"",null,null,null,null,null,null,null,null,null,null,null,null,null,null,null,null,null,null,"","","","","","","","",null,null,0,0,0,0,0,0,0,0]
["Retraso Mental",null,0,0,0,null,null,null,null,null,null,null,null,null,null,null,null,null,null,null,null,null,null,null,null,null,null,null,null,null,null,null,null,null,null,null,null,null,null,null,null,null,null,null,null,null,null,null,null,null,"",null,null,null,null,null,null,null,null,null,null,null,null,null,null,null,null,null,null,"","","","","","","","",null,null,0,0,0,0,0,0,0,0]
["Trastorno de Personalidad",null,0,0,0,null,null,null,null,null,null,null,null,null,null,null,null,null,null,null,null,null,null,null,null,null,null,null,null,null,null,null,null,null,null,null,null,null,null,null,null,null,null,null,null,null,null,null,null,null,"",null,null,null,null,null,null,null,null,null,null,null,null,null,null,null,null,null,null,"","","","","","","","",null,null,0,0,0,0,0,0,0,0]
["Trastorno Generalizados del Desarrollo","Autismo",0,0,0,null,null,null,null,null,null,null,null,null,null,null,null,null,null,null,null,null,null,null,null,null,null,null,null,null,null,null,null,null,null,null,null,null,null,null,null,null,null,null,null,null,null,null,null,null,"",null,null,null,null,null,null,null,null,null,null,null,null,null,null,null,null,null,null,"","","","","","","","",null,null,0,0,0,0,0,0,0,0]
[null,"Asperger",0,0,0,null,null,null,null,null,null,null,null,null,null,null,null,null,null,null,null,null,null,null,null,null,null,null,null,null,null,null,null,null,null,null,null,null,null,null,null,null,null,null,null,null,null,null,null,null,"",null,null,null,null,null,null,null,null,null,null,null,null,null,null,null,null,null,null,"","","","","","","","",null,null,0,0,0,0,0,0,0,0]
[null,"Síndrome de Rett",0,0,0,null,null,null,null,null,null,null,null,null,null,null,null,null,null,null,null,null,null,null,null,null,null,null,null,null,null,null,null,null,null,null,null,null,null,null,null,null,null,null,null,null,null,null,null,null,"",null,null,null,null,null,null,null,null,null,null,null,null,null,null,null,null,null,null,"","","","","","","","",null,null,0,0,0,0,0,0,0,0]
[null,"Trastorno Desintegrativo de la Infancia",0,0,0,null,null,null,null,null,null,null,null,null,null,null,null,null,null,null,null,null,null,null,null,null,null,null,null,null,null,null,null,null,null,null,null,null,null,null,null,null,null,null,null,null,null,null,null,null,"",null,null,null,null,null,null,null,null,null,null,null,null,null,null,null,null,null,null,"","","","","","","","",null,null,0,0,0,0,0,0,0,0]
[null,"Trastorno Generalizado del Desarrollo no Específico",0,0,0,null,null,null,null,null,null,null,null,null,null,null,null,null,null,null,null,null,null,null,null,null,null,null,null,null,null,null,null,null,null,null,null,null,null,null,null,null,null,null,null,null,null,null,null,null,"",null,null,null,null,null,null,null,null,null,null,null,null,null,null,null,null,null,null,"","","","","","","","",null,null,0,0,0,0,0,0,0,0]
["Epilepsia",null,0,0,0,null,null,null,null,null,null,null,null,null,null,null,null,null,null,null,null,null,null,null,null,null,null,null,null,null,null,null,null,null,null,null,null,null,null,null,null,null,null,null,null,null,null,null,null,null,"",null,null,null,null,null,null,null,null,null,null,null,null,null,null,null,null,null,null,"","","","","","","","",null,null,0,0,0,0,0,0,0,0]
["Otras",null,{"$f":"SUM(D278+E278)","v":0},{"$f":"SUM(F278+H278+J278+L278+N278+P278+R278+T278+V278+X278+Z278+AB278+AD278+AF278+AH278+AJ278+AL278)","v":0},{"$f":"SUM(G278+I278+K278+M278+O278+Q278+S278+U278+W278+Y278+AA278+AC278+AE278+AG278+AI278+AK278+AM278)","v":0},null,null,null,null,null,null,null,null,null,null,null,null,null,null,null,null,null,null,null,null,null,null,null,null,null,null,null,null,null,null,null,null,null,null,null,null,null,null,null,null,null,null,null,null,null,"",null,null,null,null,null,null,null,null,null,null,null,null,null,null,null,null,null,null,"","","","","","","","",null,null,0,0,0,0,0,0,0,0]
["SECCIÓN P:  PROGRAMA DE REHABILITACIÓN (PERSONAS CON TRASTORNOS PSIQUIÁTRICOS)"]
["TIPO DE PROGRAMA","RUBRO","TOTAL      ",null,null,"RANGO ETARIO Y SEXO",null,null,null,null,null,null,null,null,null,null,null,null,null,null,null,null,null,null,null,null,null,null,null,null,null,null,null,null,null,null,null,"Pueblos Originarios","Migrantes","Niños, Niñas, Adolescentes y Jóvenes  SENAME","Niños, Niñas, Adolescentes y Jóvenes Mejor Niñez"]
[null,null,null,null,null,"5 - 9 años",null,"10 - 14 años",null,"15 - 19 años",null,"20 - 24 años",null,"25 - 29 años",null,"30 - 34 años",null,"35 - 39 años",null,"40 - 44 años",null,"45 - 49 años",null,"50 - 54 años",null,"55 - 59 años",null,"60 - 64 años",null,"65 - 69 años",null,"70 - 74 años",null,"75 - 79 años",null,"80 y más años"]
[null,null,"Ambos Sexos","Hombres","Mujeres","Hombres","Mujeres","Hombres","Mujeres","Hombres","Mujeres","Hombres","Mujeres","Hombres","Mujeres","Hombres","Mujeres","Hombres","Mujeres","Hombres","Mujeres","Hombres","Mujeres","Hombres","Mujeres","Hombres","Mujeres","Hombres","Mujeres","Hombres","Mujeres","Hombres","Mujeres","Hombres","Mujeres","Hombres","Mujeres"]
["Programa de Rehabilitación Tipo I","Ingresos",{"$f":"SUM(D283+E283)","v":0},{"$f":"SUM(F283+H283+J283+L283+N283+P283+R283+T283+V283+X283+Z283+AB283+AD283+AF283+AH283+AJ283)","v":0},{"$f":"SUM(G283+I283+K283+M283+O283+Q283+S283+U283+W283+Y283+AA283+AC283+AE283+AG283+AI283+AK283)","v":0},null,null,null,null,null,null,null,null,null,null,null,null,null,null,null,null,null,null,null,null,null,null,null,null,null,null,null,null,null,null,null,null,null,null,null,null,{"$f":"BQ283&BR283&BS283&BT283","v":""},null,null,null,null,null,null,null,null,null,null,null,null,null,null,null,null,null,null,null,null,null,null,null,null,null,null,{"$f":"IF(AND(C283>0,AL283=\"\"),\"  * No olvide digitar la variable Pueblos originarios. Digite Cero si no tiene.\",IF(AL283>C283,\"  * La variable Pueblos originarios No puede ser mayor al Total.\",\"\"))","v":""},{"$f":"IF(AND(C283>0,AM283=\"\"),\"  * No olvide digitar la variable Migrantes. Digite Cero si no tiene.\",IF(AM283>C283,\"  * La variable Migrantes No puede ser mayor al Total.\",\"\"))","v":""},{"$f":"IF(AND(C283>0,AN283=\"\"),\"  * No olvide digitar la variable Niños, Niñas, adolescentes y Jóvenes SENAME. Digite Cero si no tiene.\",IF(AN283>C283,\"  * La variable Niños, Niñas, adolescentes y Jóvenes SENAME No puede ser mayor al Total.\",\"\"))","v":""},{"$f":"IF(AND(C283>0,AO283=\"\"),\"  * No olvide digitar la variable Niños, Niñas, adolescentes y Jóvenes Mejor niñez. Digite Cero si no tiene.\",IF(AO283>C283,\"  * La variable Niños, Niñas, adolescentes y Jóvenes Mejor Niñez No puede ser mayor al Total.\",\"\"))","v":""},null,null,null,null,null,null,null,{"$f":"IF(AND(C283>0,AL283=\"\"),1,IF(AL283>C283,1,0))","v":0},{"$f":"IF(AND(C283>0,AM283=\"\"),1,IF(AM283>C283,1,0))","v":0},{"$f":"IF(AND(C283>0,AN283=\"\"),1,IF(AN283>C283,1,0))","v":0},{"$f":"IF(AND(C283>0,AO283=\"\"),1,IF(AO283>C283,1,0))","v":0}]
[null,"Egresos",{"$f":"SUM(D284+E284)","v":0},{"$f":"SUM(F284+H284+J284+L284+N284+P284+R284+T284+V284+X284+Z284+AB284+AD284+AF284+AH284+AJ284)","v":0},{"$f":"SUM(G284+I284+K284+M284+O284+Q284+S284+U284+W284+Y284+AA284+AC284+AE284+AG284+AI284+AK284)","v":0},null,null,null,null,null,null,null,null,null,null,null,null,null,null,null,null,null,null,null,null,null,null,null,null,null,null,null,null,null,null,null,null,null,null,null,null,{"$f":"BQ284&BR284&BS284&BT284","v":""},null,null,null,null,null,null,null,null,null,null,null,null,null,null,null,null,null,null,null,null,null,null,null,null,null,null,{"$f":"IF(AND(C284>0,AL284=\"\"),\"  * No olvide digitar la variable Pueblos originarios. Digite Cero si no tiene.\",IF(AL284>C284,\"  * La variable Pueblos originarios No puede ser mayor al Total.\",\"\"))","v":""},{"$f":"IF(AND(C284>0,AM284=\"\"),\"  * No olvide digitar la variable Migrantes. Digite Cero si no tiene.\",IF(AM284>C284,\"  * La variable Migrantes No puede ser mayor al Total.\",\"\"))","v":""},{"$f":"IF(AND(C284>0,AN284=\"\"),\"  * No olvide digitar la variable Niños, Niñas, adolescentes y Jóvenes SENAME. Digite Cero si no tiene.\",IF(AN284>C284,\"  * La variable Niños, Niñas, adolescentes y Jóvenes SENAME No puede ser mayor al Total.\",\"\"))","v":""},{"$f":"IF(AND(C284>0,AO284=\"\"),\"  * No olvide digitar la variable Niños, Niñas, adolescentes y Jóvenes Mejor niñez. Digite Cero si no tiene.\",IF(AO284>C284,\"  * La variable Niños, Niñas, adolescentes y Jóvenes Mejor Niñez No puede ser mayor al Total.\",\"\"))","v":""},null,null,null,null,null,null,null,{"$f":"IF(AND(C284>0,AL284=\"\"),1,IF(AL284>C284,1,0))","v":0},{"$f":"IF(AND(C284>0,AM284=\"\"),1,IF(AM284>C284,1,0))","v":0},{"$f":"IF(AND(C284>0,AN284=\"\"),1,IF(AN284>C284,1,0))","v":0},{"$f":"IF(AND(C284>0,AO284=\"\"),1,IF(AO284>C284,1,0))","v":0}]
["\nPrograma de Rehabilitación Tipo II","Ingresos",{"$f":"SUM(D285+E285)","v":0},0,0,null,null,null,null,null,null,null,null,null,null,null,null,null,null,null,null,null,null,null,null,null,null,null,null,null,null,null,null,null,null,null,null,null,null,null,null,"",null,null,null,null,null,null,null,null,null,null,null,null,null,null,null,null,null,null,null,null,null,null,null,null,null,null,"","","","",null,null,null,null,null,null,null,0,0,0,0]
[null,"Egresos",{"$f":"SUM(D286+E286)","v":0},0,0,null,null,null,null,null,null,null,null,null,null,null,null,null,null,null,null,null,null,null,null,null,null,null,null,null,null,null,null,null,null,null,null,null,null,null,null,"",null,null,null,null,null,null,null,null,null,null,null,null,null,null,null,null,null,null,null,null,null,null,null,null,null,null,"","","","",null,null,null,null,null,null,null,0,0,0,0]
["SECCIÓN Q: INGRESOS Y EGRESOS A PROGRAMA INFECCIÓN POR TRANSMISIÓN SEXUAL (Uso de establecimientos que realizan atención de ITS)"]
["PATOLOGÍAS",null,"TOTAL ",null,null,"RANGO ETARIO Y SEXO",null,null,null,null,null,null,null,null,null,null,null,null,null,null,null,null,null,null,null,null,null,null,null,null,null,null,null,null,null,null,null,null,null,"EGRESOS",null,null,"TRANS",null,"Pueblos Originarios","Migrantes","Niños, Niñas, Adolescentes y Jóvenes SENAME","Niños, Niñas, Adolescentes y Jóvenes Mejor Niñez"]
[null,null,null,null,null,"0 - 4 años",null,"5 - 9 años",null,"10 - 14 años",null,"15 - 19 años",null,"20 - 24 años",null,"25 - 29 años",null,"30 - 34 años",null,"35 - 39 años",null,"40 - 44 años",null,"45 - 49 años",null,"50 - 54 años",null,"55 - 59 años",null,"60 - 64 años",null,"65 - 69 años",null,"70 - 74 años",null,"75 - 79 años",null,"80 y más años",null,"Total","Por alta","Por abandono"]
[null,null,"Ambos Sexos","Hombres","Mujeres","Hombres ","Mujeres","Hombres ","Mujeres","Hombres ","Mujeres","Hombres ","Mujeres","Hombres ","Mujeres","Hombres ","Mujeres","Hombres ","Mujeres","Hombres ","Mujeres","Hombres ","Mujeres","Hombres ","Mujeres","Hombres ","Mujeres","Hombres ","Mujeres","Hombres ","Mujeres","Hombres ","Mujeres","Hombres ","Mujeres","Hombres ","Mujeres","Hombres ","Mujeres",null,null,null,"Masculino","Femenino"]
["TOTAL DE INGRESOS",null,{"$f":"SUM(D291+E291)","v":0},{"$f":"SUM(F291+H291+J291+L291+N291+P291+R291+T291+V291+X291+Z291+AB291+AD291+AF291+AH291+AJ291+AL291)","v":0},{"$f":"SUM(G291+I291+K291+M291+O291+Q291+S291+U291+W291+Y291+AA291+AC291+AE291+AG291+AI291+AK291+AM291)","v":0},{"$f":"SUM(F301:F309)","v":0},{"$f":"SUM(G301:G309)","v":0},{"$f":"SUM(H301:H309)","v":0},{"$f":"SUM(I301:I309)","v":0},{"$f":"SUM(J301:J309)","v":0},{"$f":"SUM(K292:K309)","v":0},{"$f":"SUM(L301:L309)","v":0},{"$f":"SUM(M292:M309)","v":0},{"$f":"SUM(N301:N309)","v":0},{"$f":"SUM(O292:O309)","v":0},{"$f":"SUM(P301:P309)","v":0},{"$f":"SUM(Q292:Q309)","v":0},{"$f":"SUM(R301:R309)","v":0},{"$f":"SUM(S292:S309)","v":0},{"$f":"SUM(T301:T309)","v":0},{"$f":"SUM(U292:U309)","v":0},{"$f":"SUM(V301:V309)","v":0},{"$f":"SUM(W292:W309)","v":0},{"$f":"SUM(X301:X309)","v":0},{"$f":"SUM(Y292:Y309)","v":0},{"$f":"SUM(Z301:Z309)","v":0},{"$f":"SUM(AA292:AA309)","v":0},{"$f":"SUM(AB301:AB309)","v":0},{"$f":"SUM(AC292:AC309)","v":0},0,0,0,0,0,0,0,0,{"$f":"SUM(AL301:AL309)","v":0},0,{"$f":"SUM(AN292:AN309)","v":0},0,0,0,0,0,0,0,{"$f":"SUM(AV292:AV309)","v":0}]
["Gestantes","Sífilis",{"$f":"SUM(E292)","v":0},null,{"$f":"SUM(K292+M292+O292+Q292+S292+U292+W292+Y292+AA292+AC292)","v":0},null,null,null,null,null,null,null,null,null,null,null,null,null,null,null,null,null,null,null,null,null,null,null,null,null,null,null,null,null,null,null,null,null,null,null,null,null,null,null,null,null,null,null,{"$f":"BQ292&BR292&BS292&BT292&BU292&BV292&BW292","v":""},null,null,null,null,null,null,null,null,null,null,null,null,null,null,null,null,null,null,null,{"$f":"IF((AO292+AP292)>AN292,\" * Los Egresos Por Alta + Egresos Por Abandono no pueden ser mayor que el Total de Egresos.\",\"\")","v":""},{"$f":"IF(AND(E292>0,OR(AQ292=\"\")),\" * No olvide digitar la variable Trans (Masculino). Digite Cero si no tiene.\",IF(AQ292>E292,\"  * La variable Trans (Masculino) No puede ser mayor al Total Mujeres.\",\"\"))","v":""},null,{"$f":"IF(AND(C292>0,AS292=\"\"), \" * No olvide digitar la variable Pueblos originarios. Digite Cero si no tiene.\",IF(AS292>C292,\"  * La variable Pueblos originarios No puede ser mayor al Total.\",\"\"))","v":""},{"$f":"IF(AND(C292>0,AT292=\"\"), \" * No olvide digitar la variable Migrantes. Digite Cero si no tiene.\",IF(AT292>C292,\"  * La variable Migrantes No puede ser mayor al Total.\",\"\"))","v":""},{"$f":"IF(AND(C292>0,AU292=\"\"), \" * No olvide digitar la variable Niños, Niñas, adolescentes y jóvenes SENAME. Digite Cero si no tiene.\",IF(AU292>C292,\"  * La variable Niños, Niñas, adolescentes y jóvenes SENAME No puede ser mayor al Total.\",\"\"))","v":""},{"$f":"IF(AND(C292>0,AV292=\"\"), \" * No olvide digitar la variable Niños, Niñas, adolescentes y jóvenes Mejor Niñez. Digite Cero si no tiene.\",IF(AV292>C292,\"  * La variable Niños, Niñas, adolescentes y jóvenes Mejor Niñez No puede ser mayor al Total.\",\"\"))","v":""},null,null,null,null,{"$f":"IF((AO292+AP292)>AN292,1,0)","v":0},{"$f":"IF(AND(E292>0,OR(AQ292=\"\")),1,IF(AQ292>E292,1,0))","v":0},null,{"$f":"IF(AND(C292>0,AS292=\"\"),1,IF(AS292>C292,1,0))","v":0},{"$f":"IF(AND(C292>0,AT292=\"\"),1,IF(AT292>C292,1,0))","v":0},{"$f":"IF(AND(C292>0,AU292=\"\"),1,IF(AU292>C292,1,0))","v":0},{"$f":"IF(AND(C292>0,AV292=\"\"),1,IF(AV292>C292,1,0))","v":0}]
[null,"Gonorrea",{"$f":"SUM(E293)","v":0},null,0,null,null,null,null,null,null,null,null,null,null,null,null,null,null,null,null,null,null,null,null,null,null,null,null,null,null,null,null,null,null,null,null,null,null,null,null,null,null,null,null,null,null,null,{"$f":"BQ293&BR293&BS293&BT293&BU293&BV293&BW293","v":""},null,null,null,null,null,null,null,null,null,null,null,null,null,null,null,null,null,null,null,{"$f":"IF((AO293+AP293)>AN293,\" * Los Egresos Por Alta + Egresos Por Abandono no pueden ser mayor que el Total de Egresos.\",\"\")","v":""},{"$f":"IF(AND(E293>0,OR(AQ293=\"\")),\" * No olvide digitar la variable Trans (Masculino). Digite Cero si no tiene.\",IF(AQ293>E293,\"  * La variable Trans (Masculino) No puede ser mayor al Total Mujeres.\",\"\"))","v":""},null,{"$f":"IF(AND(C293>0,AS293=\"\"), \" * No olvide digitar la variable Pueblos originarios. Digite Cero si no tiene.\",IF(AS293>C293,\"  * La variable Pueblos originarios No puede ser mayor al Total.\",\"\"))","v":""},{"$f":"IF(AND(C293>0,AT293=\"\"), \" * No olvide digitar la variable Migrantes. Digite Cero si no tiene.\",IF(AT293>C293,\"  * La variable Migrantes No puede ser mayor al Total.\",\"\"))","v":""},{"$f":"IF(AND(C293>0,AU293=\"\"), \" * No olvide digitar la variable Niños, Niñas, adolescentes y jóvenes SENAME. Digite Cero si no tiene.\",IF(AU293>C293,\"  * La variable Niños, Niñas, adolescentes y jóvenes SENAME No puede ser mayor al Total.\",\"\"))","v":""},{"$f":"IF(AND(C293>0,AV293=\"\"), \" * No olvide digitar la variable Niños, Niñas, adolescentes y jóvenes Mejor Niñez. Digite Cero si no tiene.\",IF(AV293>C293,\"  * La variable Niños, Niñas, adolescentes y jóvenes Mejor Niñez No puede ser mayor al Total.\",\"\"))","v":""},null,null,null,null,{"$f":"IF((AO293+AP293)>AN293,1,0)","v":0},{"$f":"IF(AND(E293>0,OR(AQ293=\"\")),1,IF(AQ293>E293,1,0))","v":0},null,{"$f":"IF(AND(C293>0,AS293=\"\"),1,IF(AS293>C293,1,0))","v":0},{"$f":"IF(AND(C293>0,AT293=\"\"),1,IF(AT293>C293,1,0))","v":0},{"$f":"IF(AND(C293>0,AU293=\"\"),1,IF(AU293>C293,1,0))","v":0},{"$f":"IF(AND(C293>0,AV293=\"\"),1,IF(AV293>C293,1,0))","v":0}]
[null,"Condiloma",{"$f":"SUM(D294+E294)","v":0},null,0,null,null,null,null,null,null,null,null,null,null,null,null,null,null,null,null,null,null,null,null,null,null,null,null,null,null,null,null,null,null,null,null,null,null,null,null,null,null,null,null,null,null,null,"",null,null,null,null,null,null,null,null,null,null,null,null,null,null,null,null,null,null,null,"","",null,"","","","",null,null,null,null,0,0,null,0,0,0,0]
[null,"Herpes",{"$f":"SUM(E295)","v":0},null,0,null,null,null,null,null,null,null,null,null,null,null,null,null,null,null,null,null,null,null,null,null,null,null,null,null,null,null,null,null,null,null,null,null,null,null,null,null,null,null,null,null,null,null,"",null,null,null,null,null,null,null,null,null,null,null,null,null,null,null,null,null,null,null,"","",null,"","","","",null,null,null,null,0,0,null,0,0,0,0]
[null,"Chlamydias",0,null,0,null,null,null,null,null,null,null,null,null,null,null,null,null,null,null,null,null,null,null,null,null,null,null,null,null,null,null,null,null,null,null,null,null,null,null,null,null,null,null,null,null,null,null,"",null,null,null,null,null,null,null,null,null,null,null,null,null,null,null,null,null,null,null,"","",null,"","","","",null,null,null,null,0,0,null,0,0,0,0]
[null,"Uretritis no Gonocócica",0,null,0,null,null,null,null,null,null,null,null,null,null,null,null,null,null,null,null,null,null,null,null,null,null,null,null,null,null,null,null,null,null,null,null,null,null,null,null,null,null,null,null,null,null,null,"",null,null,null,null,null,null,null,null,null,null,null,null,null,null,null,null,null,null,null,"","",null,"","","","",null,null,null,null,0,0,null,0,0,0,0]
[null,"Linfogranuloma",0,null,0,null,null,null,null,null,null,null,null,null,null,null,null,null,null,null,null,null,null,null,null,null,null,null,null,null,null,null,null,null,null,null,null,null,null,null,null,null,null,null,null,null,null,null,"",null,null,null,null,null,null,null,null,null,null,null,null,null,null,null,null,null,null,null,"","",null,"","","","",null,null,null,null,0,0,null,0,0,0,0]
[null,"Chancroide",0,null,0,null,null,null,null,null,null,null,null,null,null,null,null,null,null,null,null,null,null,null,null,null,null,null,null,null,null,null,null,null,null,null,null,null,null,null,null,null,null,null,null,null,null,null,"",null,null,null,null,null,null,null,null,null,null,null,null,null,null,null,null,null,null,null,"","",null,"","","","",null,null,null,null,0,0,null,0,0,0,0]
[null,"Otras ITS",0,null,0,null,null,null,null,null,null,null,null,null,null,null,null,null,null,null,null,null,null,null,null,null,null,null,null,null,null,null,null,null,null,null,null,null,null,null,null,null,null,null,null,null,null,null,"",null,null,null,null,null,null,null,null,null,null,null,null,null,null,null,null,null,null,null,"","",null,"","","","",null,null,null,null,0,0,null,0,0,0,0]
["No Gestantes","Sífilis",0,{"$f":"SUM(F301+H301+J301+L301+N301+P301+R301+T301+V301+X301+Z301+AB301+AD301+AF301+AH301+AJ301+AL301)","v":0},{"$f":"SUM(G301+I301+K301+M301+O301+Q301+S301+U301+W301+Y301+AA301+AC301+AE301+AG301+AI301+AK301+AM301)","v":0},null,null,null,null,null,null,null,null,null,null,null,null,null,null,null,null,null,null,null,null,null,null,null,null,null,null,null,null,null,null,null,null,null,null,null,null,null,null,null,null,null,null,null,"",null,null,null,null,null,null,null,null,null,null,null,null,null,null,null,null,null,null,null,"",{"$f":"IF(AND(E301>0,OR(AQ301=\"\")),\" * No olvide digitar la variable Trans (Masculino). Digite Cero si no tiene.\",IF(AQ301>E301,\"  * La variable Trans (Masculino) No puede ser mayor al Total Mujeres.\",\"\"))","v":""},{"$f":"IF(AND(D301>0,OR(AR301=\"\")),\" * No olvide digitar la variable Trans (Femenino). Digite Cero si no tiene.\",IF(AR301>D301,\"  * La variable Trans (Femenino) No puede ser mayor al Total Hombres.\",\"\"))","v":""},{"$f":"IF(AND(C301>0,AS301=\"\"), \" * No olvide digitar la variable Pueblos originarios. Digite Cero si no tiene.\",IF(AS301>C301,\"  * La variable Pueblos originarios No puede ser mayor al Total.\",\"\"))","v":""},{"$f":"IF(AND(C301>0,AT301=\"\"), \" * No olvide digitar la variable Migrantes. Digite Cero si no tiene.\",IF(AT301>C301,\"  * La variable Migrantes No puede ser mayor al Total.\",\"\"))","v":""},{"$f":"IF(AND(C301>0,AU301=\"\"), \" * No olvide digitar la variable Niños, Niñas, adolescentes y jóvenes SENAME. Digite Cero si no tiene.\",IF(AU301>C301,\"  * La variable Niños, Niñas, adolescentes y jóvenes SENAME No puede ser mayor al Total.\",\"\"))","v":""},{"$f":"IF(AND(C301>0,AV301=\"\"), \" * No olvide digitar la variable Niños, Niñas, adolescentes y jóvenes Mejor Niñez. Digite Cero si no tiene.\",IF(AV301>C301,\"  * La variable Niños, Niñas, adolescentes y jóvenes Mejor Niñez No puede ser mayor al Total.\",\"\"))","v":""},null,null,null,null,0,0,{"$f":"IF(AND(D301>0,OR(AR301=\"\")),1,IF(AR301>D301,1,0))","v":0},0,0,0,0]
[null,"Gonorrea",0,{"$f":"SUM(F302+H302+J302+L302+N302+P302+R302+T302+V302+X302+Z302+AB302+AD302+AF302+AH302+AJ302+AL302)","v":0},0,null,null,null,null,null,null,null,null,null,null,null,null,null,null,null,null,null,null,null,null,null,null,null,null,null,null,null,null,null,null,null,null,null,null,null,null,null,null,null,null,null,null,null,"",null,null,null,null,null,null,null,null,null,null,null,null,null,null,null,null,null,null,null,"","",{"$f":"IF(AND(D302>0,OR(AR302=\"\")),\" * No olvide digitar la variable Trans (Femenino). Digite Cero si no tiene.\",IF(AR302>D302,\"  * La variable Trans (Femenino) No puede ser mayor al Total Hombres.\",\"\"))","v":""},{"$f":"IF(AND(C302>0,AS302=\"\"), \" * No olvide digitar la variable Pueblos originarios. Digite Cero si no tiene.\",IF(AS302>C302,\"  * La variable Pueblos originarios No puede ser mayor al Total.\",\"\"))","v":""},{"$f":"IF(AND(C302>0,AT302=\"\"), \" * No olvide digitar la variable Migrantes. Digite Cero si no tiene.\",IF(AT302>C302,\"  * La variable Migrantes No puede ser mayor al Total.\",\"\"))","v":""},{"$f":"IF(AND(C302>0,AU302=\"\"), \" * No olvide digitar la variable Niños, Niñas, adolescentes y jóvenes SENAME. Digite Cero si no tiene.\",IF(AU302>C302,\"  * La variable Niños, Niñas, adolescentes y jóvenes SENAME No puede ser mayor al Total.\",\"\"))","v":""},{"$f":"IF(AND(C302>0,AV302=\"\"), \" * No olvide digitar la variable Niños, Niñas, adolescentes y jóvenes Mejor Niñez. Digite Cero si no tiene.\",IF(AV302>C302,\"  * La variable Niños, Niñas, adolescentes y jóvenes Mejor Niñez No puede ser mayor al Total.\",\"\"))","v":""},null,null,null,null,0,0,{"$f":"IF(AND(D302>0,OR(AR302=\"\")),1,IF(AR302>D302,1,0))","v":0},0,0,0,0]
[null,"Condiloma",0,0,0,null,null,null,null,null,null,null,null,null,null,null,null,null,null,null,null,null,null,null,null,null,null,null,null,null,null,null,null,null,null,null,null,null,null,null,null,null,null,null,null,null,null,null,"",null,null,null,null,null,null,null,null,null,null,null,null,null,null,null,null,null,null,null,"","","","","","","",null,null,null,null,0,0,0,0,0,0,0]
[null,"Herpes",0,0,0,null,null,null,null,null,null,null,null,null,null,null,null,null,null,null,null,null,null,null,null,null,null,null,null,null,null,null,null,null,null,null,null,null,null,null,null,null,null,null,null,null,null,null,"",null,null,null,null,null,null,null,null,null,null,null,null,null,null,null,null,null,null,null,"","","","","","","",null,null,null,null,0,0,0,0,0,0,0]
[null,"Chlamydias",0,0,0,null,null,null,null,null,null,null,null,null,null,null,null,null,null,null,null,null,null,null,null,null,null,null,null,null,null,null,null,null,null,null,null,null,null,null,null,null,null,null,null,null,null,null,"",null,null,null,null,null,null,null,null,null,null,null,null,null,null,null,null,null,null,null,"","","","","","","",null,null,null,null,0,0,0,0,0,0,0]
[null,"Uretritis no Gonocócica",0,0,0,null,null,null,null,null,null,null,null,null,null,null,null,null,null,null,null,null,null,null,null,null,null,null,null,null,null,null,null,null,null,null,null,null,null,null,null,null,null,null,null,null,null,null,{"$f":"BQ306&BR306&BS306&BT306&BU306&BV306&BW306","v":""},null,null,null,null,null,null,null,null,null,null,null,null,null,null,null,null,null,null,null,"","","","","","","",null,null,null,null,0,0,0,0,0,0,0]
[null,"Linfogranuloma",0,0,0,null,null,null,null,null,null,null,null,null,null,null,null,null,null,null,null,null,null,null,null,null,null,null,null,null,null,null,null,null,null,null,null,null,null,null,null,null,null,null,null,null,null,null,"",null,null,null,null,null,null,null,null,null,null,null,null,null,null,null,null,null,null,null,"","","","","","","",null,null,null,null,0,0,0,0,0,0,0]
[null,"Chancroide",0,0,0,null,null,null,null,null,null,null,null,null,null,null,null,null,null,null,null,null,null,null,null,null,null,null,null,null,null,null,null,null,null,null,null,null,null,null,null,null,null,null,null,null,null,null,"",null,null,null,null,null,null,null,null,null,null,null,null,null,null,null,null,null,null,null,"","","","","","","",null,null,null,null,0,0,0,0,0,0,0]
[null,"Otras ITS",0,0,0,null,null,null,null,null,null,null,null,null,null,null,null,null,null,null,null,null,null,null,null,null,null,null,null,null,null,null,null,null,null,null,null,null,null,null,null,null,null,null,null,null,null,null,"",null,null,null,null,null,null,null,null,null,null,null,null,null,null,null,null,null,null,null,"","","","","","","",null,null,null,null,0,0,{"$f":"IF(AND(D309>0,OR(AR309=\"\")),1,IF(AR309>D309,1,0))","v":0},0,0,0,0]
["SECCIÓN R: INGRESOS Y EGRESOS DEL PROGRAMA DE VIH/SIDA (Uso exclusivo Centros de Atención VIH-SIDA)"]
["CONCEPTO",null,"TOTAL ",null,null,"RANGO ETARIO Y SEXO",null,null,null,null,null,null,null,null,null,null,null,null,null,null,null,null,null,null,null,null,null,null,null,null,null,null,null,null,null,null,null,null,null,null,null,null,null,"TRANS",null,"Pueblos Originarios","Migrantes","Niños, Niñas, Adolescentes y Jóvenes SENAME","Niños, Niñas, Adolescentes y Jóvenes Mejor Niñez"]
[null,null,null,null,null,"Menor de 6 meses",null,"6 - 11 meses",null,"12 - 24 meses",null,"3 - 4 años",null,"5 - 9 años",null,"10 - 14 años",null,"15 - 19 años",null,"20 - 24 años",null,"25 - 29 años",null,"30 - 34 años",null,"35 - 39 años",null,"40 - 44 años",null,"45 - 49 años",null,"50 - 54 años",null,"55 - 59 años",null,"60 - 64 años",null,"65 - 69 años",null,"70 - 74 años",null,"75 y más años"]
[null,null,"Ambos Sexos","Hombres","Mujeres","Hombres ","Mujeres","Hombres ","Mujeres","Hombres ","Mujeres","Hombres ","Mujeres","Hombres ","Mujeres","Hombres ","Mujeres","Hombres ","Mujeres","Hombres ","Mujeres","Hombres ","Mujeres","Hombres ","Mujeres","Hombres ","Mujeres","Hombres ","Mujeres","Hombres ","Mujeres","Hombres ","Mujeres","Hombres ","Mujeres","Hombres ","Mujeres","Hombres ","Mujeres","Hombres ","Mujeres","Hombres ","Mujeres","Masculino","Femenino"]
["Ingresos al programa ","Gestantes",{"$f":"SUM(E314)","v":0},null,{"$f":"+Q314+S314+U314+W314+Y314+AA314+AC314+AE314+AG314+AI314","v":0},null,null,null,null,null,null,null,null,null,null,null,null,null,null,null,null,null,null,null,null,null,null,null,null,null,null,null,null,null,null,null,null,null,null,null,null,null,null,null,null,null,null,null,null,{"$f":"BQ314&BR314&BS314&BT314&BU314&BV314","v":""},null,null,null,null,null,null,null,null,null,null,null,null,null,null,null,null,null,null,{"$f":"IF(AND(E314>0,OR(AR314=\"\")),\"* No olvide digitar la variable Trans (masculino). Digite Cero si no tiene.\",IF(AR314>E314,\" * La variable Trans (masculino) No puede ser mayor al Total.\",\"\"))","v":""},null,{"$f":"IF(AND(C314>0,AT314=\"\"),\" * No olvide digitar la variable Pueblos originarios. Digite Cero si no tiene.\",IF(AT314>C314,\" * La variable Pueblos originarios No puede ser mayor al Total.\",\"\"))","v":""},{"$f":"IF(AND(C314>0,AU314=\"\"),\" * No olvide digitar la variable Migrantes. Digite Cero si no tiene.\",IF(AU314>C314,\" * La variable Migrantes No puede ser mayor al Total.\",\"\"))","v":""},{"$f":"IF(AND(C314>0,AV314=\"\"),\" * No olvide digitar la variable Niños, niñas adolescentes y Jóvenes SENAME. Digite Cero si no tiene.\",IF(AV314>C314,\" * La variable Niños, niñas adolescentes y Jóvenes SENAME No puede ser mayor al Total.\",\"\"))","v":""},{"$f":"IF(AND(C314>0,AW314=\"\"),\" * No olvide digitar la variable Niños, niñas adolescentes y Jóvenes Mejor Niñez. Digite Cero si no tiene.\",IF(AW314>C314,\" * La variable Niños, niñas adolescentes y Jóvenes Mejor Niñez No puede ser mayor al Total.\",\"\"))","v":""},null,null,null,null,null,{"$f":"IF(AND(E314>0,OR(AR314=\"\")),1,IF(AR314>E314,1,0))","v":0},null,{"$f":"IF(AND(C314>0,AT314=\"\"),1,IF(AT314>C314,1,0))","v":0},{"$f":"IF(AND(C314>0,AU314=\"\"),1,IF(AU314>C314,1,0))","v":0},{"$f":"IF(AND(C314>0,AV314=\"\"),1,IF(AV314>C314,1,0))","v":0},{"$f":"IF(AND(C314>0,AW314=\"\"),1,IF(AW314>C314,1,0))","v":0}]
[null,"No Gestantes",{"$f":"SUM(D315+E315)","v":0},{"$f":"SUM(F315+H315+J315+L315+N315+P315+R315+T315+V315+X315+Z315+AB315+AD315+AF315+AH315+AJ315+AL315+AN315+AP315)","v":0},0,null,null,null,null,null,null,null,null,null,null,null,null,null,null,null,null,null,null,null,null,null,null,null,null,null,null,null,null,null,null,null,null,null,null,null,null,null,null,null,null,null,null,null,null,{"$f":"BQ315&BR315&BS315&BT315&BU315&BV315","v":""},null,null,null,null,null,null,null,null,null,null,null,null,null,null,null,null,null,null,{"$f":"IF(AND(E315>0,OR(AR315=\"\")),\"* No olvide digitar la variable Trans (masculino). Digite Cero si no tiene.\",IF(AR315>E315,\" * La variable Trans (masculino) No puede ser mayor al Total.\",\"\"))","v":""},{"$f":"IF(AND(D315>0,OR(AS315=\"\")),\"* No olvide digitar la variable Trans (Femenino). Digite Cero si no tiene.\",IF(AS315>D315,\" * La variable Trans (Femenino) No puede ser mayor al Total Hombres.\",\"\"))","v":""},{"$f":"IF(AND(C315>0,AT315=\"\"),\" * No olvide digitar la variable Pueblos originarios. Digite Cero si no tiene.\",IF(AT315>C315,\" * La variable Pueblos originarios No puede ser mayor al Total.\",\"\"))","v":""},{"$f":"IF(AND(C315>0,AU315=\"\"),\" * No olvide digitar la variable Migrantes. Digite Cero si no tiene.\",IF(AU315>C315,\" * La variable Migrantes No puede ser mayor al Total.\",\"\"))","v":""},{"$f":"IF(AND(C315>0,AV315=\"\"),\" * No olvide digitar la variable Niños, niñas adolescentes y Jóvenes SENAME. Digite Cero si no tiene.\",IF(AV315>C315,\" * La variable Niños, niñas adolescentes y Jóvenes SENAME No puede ser mayor al Total.\",\"\"))","v":""},{"$f":"IF(AND(C315>0,AW315=\"\"),\" * No olvide digitar la variable Niños, niñas adolescentes y Jóvenes Mejor Niñez. Digite Cero si no tiene.\",IF(AW315>C315,\" * La variable Niños, niñas adolescentes y Jóvenes Mejor Niñez No puede ser mayor al Total.\",\"\"))","v":""},null,null,null,null,null,{"$f":"IF(AND(E315>0,OR(AR315=\"\")),1,IF(AR315>E315,1,0))","v":0},{"$f":"IF(AND(D315>0,OR(AS315=\"\")),1,IF(AS315>D315,1,0))","v":0},{"$f":"IF(AND(C315>0,AT315=\"\"),1,IF(AT315>C315,1,0))","v":0},{"$f":"IF(AND(C315>0,AU315=\"\"),1,IF(AU315>C315,1,0))","v":0},{"$f":"IF(AND(C315>0,AV315=\"\"),1,IF(AV315>C315,1,0))","v":0},{"$f":"IF(AND(C315>0,AW315=\"\"),1,IF(AW315>C315,1,0))","v":0}]
["Reingresos por abandono",null,0,0,0,null,null,null,null,null,null,null,null,null,null,null,null,null,null,null,null,null,null,null,null,null,null,null,null,null,null,null,null,null,null,null,null,null,null,null,null,null,null,null,null,null,null,null,null,"",null,null,null,null,null,null,null,null,null,null,null,null,null,null,null,null,null,null,"",{"$f":"IF(AND(D316>0,OR(AS316=\"\")),\"* No olvide digitar la variable Trans (Femenino). Digite Cero si no tiene.\",IF(AS316>D316,\" * La variable Trans (Femenino) No puede ser mayor al Total Hombres.\",\"\"))","v":""},"","","","",null,null,null,null,null,{"$f":"IF(AND(E316>0,OR(AR316=\"\")),1,IF(AR316>E316,1,0))","v":0},{"$f":"IF(AND(D316>0,OR(AS316=\"\")),1,IF(AS316>D316,1,0))","v":0},0,0,0,0]
["Total egresos",null,0,0,0,null,null,null,null,null,null,null,null,null,null,null,null,null,null,null,null,null,null,null,null,null,null,null,null,null,null,null,null,null,null,null,null,null,null,null,null,null,null,null,null,null,null,null,null,"",null,null,null,null,null,null,null,null,null,null,null,null,null,null,null,null,null,null,"","","","","","",null,null,null,null,null,0,0,0,0,0,0]
["Egresos por Fallecimiento (Incluido en Total Egresos)",null,0,0,0,null,null,null,null,null,null,null,null,null,null,null,null,null,null,null,null,null,null,null,null,null,null,null,null,null,null,null,null,null,null,null,null,null,null,null,null,null,null,null,null,null,null,null,null,{"$f":"BQ318&BR318&BS318&BT318&BU318&BV318","v":""},null,null,null,null,null,null,null,null,null,null,null,null,null,null,null,null,null,null,"","","","","","",null,null,null,null,null,0,0,0,0,0,0]
["Egresos por Alta Hijo VIH (-) de Madre VIH (+)Incluido en Total Egresos",null,0,{"$f":"SUM(F319+H319+J319+L319)","v":0},{"$f":"SUM(G319+I319+K319+M319)","v":0},null,null,null,null,null,null,null,null,null,null,null,null,null,null,null,null,null,null,null,null,null,null,null,null,null,null,null,null,null,null,null,null,null,null,null,null,null,null,null,null,null,null,null,null,"",null,null,null,null,null,null,null,null,null,null,null,null,null,null,null,null,null,null,null,null,"","","","",null,null,null,null,null,null,0,0,0,0,0]
["Evaluación Movilidad Programa","Abandono Controles",0,{"$f":"SUM(F320+H320+J320+L320+N320+P320+R320+T320+V320+X320+Z320+AB320+AD320+AF320+AH320+AJ320+AL320+AN320+AP320)","v":0},0,null,null,null,null,null,null,null,null,null,null,null,null,null,null,null,null,null,null,null,null,null,null,null,null,null,null,null,null,null,null,null,null,null,null,null,null,null,null,null,null,null,null,null,null,"",null,null,null,null,null,null,null,null,null,null,null,null,null,null,null,null,null,null,"","","","","","",null,null,null,null,null,0,0,0,0,0,0]
[null,"Abandono Tratamiento",0,0,0,null,null,null,null,null,null,null,null,null,null,null,null,null,null,null,null,null,null,null,null,null,null,null,null,null,null,null,null,null,null,null,null,null,null,null,null,null,null,null,null,null,null,null,null,"",null,null,null,null,null,null,null,null,null,null,null,null,null,null,null,null,null,null,"","","","","","",null,null,null,null,null,0,0,0,0,0,0]
[null,"Abandono de la Atención",0,0,0,null,null,null,null,null,null,null,null,null,null,null,null,null,null,null,null,null,null,null,null,null,null,null,null,null,null,null,null,null,null,null,null,null,null,null,null,null,null,null,null,null,null,null,null,"",null,null,null,null,null,null,null,null,null,null,null,null,null,null,null,null,null,null,"","","","","","",null,null,null,null,null,0,0,0,0,0,0]
[null,"Ingresos por Traslado",0,0,0,null,null,null,null,null,null,null,null,null,null,null,null,null,null,null,null,null,null,null,null,null,null,null,null,null,null,null,null,null,null,null,null,null,null,null,null,null,null,null,null,null,null,null,null,"",null,null,null,null,null,null,null,null,null,null,null,null,null,null,null,null,null,null,"","","","","","",null,null,null,null,null,0,0,0,0,0,0]
[null,"Egresos por Traslado",0,0,0,null,null,null,null,null,null,null,null,null,null,null,null,null,null,null,null,null,null,null,null,null,null,null,null,null,null,null,null,null,null,null,null,null,null,null,null,null,null,null,null,null,null,null,null,"",null,null,null,null,null,null,null,null,null,null,null,null,null,null,null,null,null,null,"","","","","","",null,null,null,null,null,0,0,0,0,0,0]
["SECCIÓN S: INGRESOS Y EGRESOS POR COMERCIO SEXUAL (Uso exclusivo de Unidades Control Comercio Sexual)"]
["CONCEPTO",null,"TOTAL ",null,null,"RANGO ETARIO Y SEXO",null,null,null,null,null,null,null,null,null,null,null,null,null,null,null,null,null,null,null,null,null,null,null,null,null,null,null,"TRANS",null,"Pueblos Originarios","Migrantes"]
[null,null,null,null,null,"15 - 19 años",null,"20 - 24 años",null,"25 - 29 años",null,"30 - 34 años",null,"35 - 39 años",null,"40 - 44 años",null,"45 - 49 años",null,"50 - 54 años",null,"55 - 59 años",null,"60 - 64 años",null,"65 - 69 años",null,"70 - 74 años",null,"75 - 79 años",null,"80 y más años"]
[null,null,"Ambos Sexos","Hombres","Mujeres","Hombres ","Mujeres","Hombres ","Mujeres","Hombres ","Mujeres","Hombres ","Mujeres","Hombres ","Mujeres","Hombres ","Mujeres","Hombres ","Mujeres","Hombres ","Mujeres","Hombres ","Mujeres","Hombres ","Mujeres","Hombres ","Mujeres","Hombres ","Mujeres","Hombres ","Mujeres","Hombres ","Mujeres","Masculino","Femenino"]
["Ingresos al programa ",null,{"$f":"SUM(D329+E329)","v":0},{"$f":"SUM(F329+H329+J329+L329+N329+P329+R329+T329+V329+X329+Z329+AB329+AD329+AF329)","v":0},0,null,null,null,null,null,null,null,null,null,null,null,null,null,null,null,null,null,null,null,null,null,null,null,null,null,null,null,null,null,null,null,null,{"$f":"BQ329&BR329&BS329&BT329","v":""},null,null,null,null,null,null,null,null,null,null,null,null,null,null,null,null,null,null,null,null,null,null,null,null,null,null,null,null,null,null,{"$f":"IF(AND(E329>0,OR(AH329=\"\")),\" * No olvide digitar la variable Trans (Masculino). Digite Cero si no tiene.\",IF((AH329)>E329,\"*  La variable Trans (Masculino) No puede ser mayor al Total Mujeres.\",\"\"))","v":""},{"$f":"IF(AND(D329>0,OR(AI329=\"\")),\" * No olvide digitar la variable Trans (Femenino). Digite Cero si no tiene.\",IF((AI329)>D329,\"*  La variable Trans (Femenino) No puede ser mayor al Total Hombres.\",\"\"))","v":""},{"$f":"IF(AND(C329>0,AJ329=\"\"),\" * No olvide digitar la variable Pueblos originarios. Digite Cero si no tiene.\",IF(AJ329>C329,\" * La variable Pueblos originarios No puede ser mayor al Total.\",\"\"))","v":""},{"$f":"IF(AND(C329>0,AK329=\"\"),\" * No olvide digitar la variable Migrantes. Digite Cero si no tiene.\",IF(AK329>C329,\" * La variable Migrantes No puede ser mayor al Total.\",\"\"))","v":""},null,null,null,null,null,null,null,{"$f":"IF(AND(E329>0,OR(AH329=\"\")),1,IF((AH329)>E329,1,0))","v":0},{"$f":"IF(AND(D329>0,OR(AI329=\"\")),1,IF((AI329)>D329,1,0))","v":0},{"$f":"IF(AND(C329>0,AJ329=\"\"),1,IF(AJ329>C329,1,0))","v":0},{"$f":"IF(AND(C329>0,AK329=\"\"),1,IF(AK329>C329,1,0))","v":0}]
["Total egresos",null,{"$f":"SUM(D330+E330)","v":0},0,0,null,null,null,null,null,null,null,null,null,null,null,null,null,null,null,null,null,null,null,null,null,null,null,null,null,null,null,null,null,null,null,null,{"$f":"BQ330&BR330&BS330&BT330","v":""},null,null,null,null,null,null,null,null,null,null,null,null,null,null,null,null,null,null,null,null,null,null,null,null,null,null,null,null,null,null,{"$f":"IF(AND(E330>0,OR(AH330=\"\")),\" * No olvide digitar la variable Trans (Masculino). Digite Cero si no tiene.\",IF((AH330)>E330,\"*  La variable Trans (Masculino) No puede ser mayor al Total Mujeres.\",\"\"))","v":""},{"$f":"IF(AND(D330>0,OR(AI330=\"\")),\" * No olvide digitar la variable Trans (Femenino). Digite Cero si no tiene.\",IF((AI330)>D330,\"*  La variable Trans (Femenino) No puede ser mayor al Total Hombres.\",\"\"))","v":""},{"$f":"IF(AND(C330>0,AJ330=\"\"),\" * No olvide digitar la variable Pueblos originarios. Digite Cero si no tiene.\",IF(AJ330>C330,\" * La variable Pueblos originarios No puede ser mayor al Total.\",\"\"))","v":""},{"$f":"IF(AND(C330>0,AK330=\"\"),\" * No olvide digitar la variable Migrantes. Digite Cero si no tiene.\",IF(AK330>C330,\" * La variable Migrantes No puede ser mayor al Total.\",\"\"))","v":""},null,null,null,null,null,null,null,{"$f":"IF(AND(E330>0,OR(AH330=\"\")),1,IF((AH330)>E330,1,0))","v":0},{"$f":"IF(AND(D330>0,OR(AI330=\"\")),1,IF((AI330)>D330,1,0))","v":0},{"$f":"IF(AND(C330>0,AJ330=\"\"),1,IF(AJ330>C330,1,0))","v":0},{"$f":"IF(AND(C330>0,AK330=\"\"),1,IF(AK330>C330,1,0))","v":0}]
["Inasistentes",null,{"$f":"SUM(D331+E331)","v":0},0,0,null,null,null,null,null,null,null,null,null,null,null,null,null,null,null,null,null,null,null,null,null,null,null,null,null,null,null,null,null,null,null,null,"",null,null,null,null,null,null,null,null,null,null,null,null,null,null,null,null,null,null,null,null,null,null,null,null,null,null,null,null,null,null,{"$f":"IF(AND(E331>0,OR(AH331=\"\")),\" * No olvide digitar la variable Trans (Masculino). Digite Cero si no tiene.\",IF((AH331)>E331,\"*  La variable Trans (Masculino) No puede ser mayor al Total Mujeres.\",\"\"))","v":""},{"$f":"IF(AND(D331>0,OR(AI331=\"\")),\" * No olvide digitar la variable Trans (Femenino). Digite Cero si no tiene.\",IF((AI331)>D331,\"*  La variable Trans (Femenino) No puede ser mayor al Total Hombres.\",\"\"))","v":""},{"$f":"IF(AND(C331>0,AJ331=\"\"),\" * No olvide digitar la variable Pueblos originarios. Digite Cero si no tiene.\",IF(AJ331>C331,\" * La variable Pueblos originarios No puede ser mayor al Total.\",\"\"))","v":""},{"$f":"IF(AND(C331>0,AK331=\"\"),\" * No olvide digitar la variable Migrantes. Digite Cero si no tiene.\",IF(AK331>C331,\" * La variable Migrantes No puede ser mayor al Total.\",\"\"))","v":""},null,null,null,null,null,null,null,{"$f":"IF(AND(E331>0,OR(AH331=\"\")),1,IF((AH331)>E331,1,0))","v":0},{"$f":"IF(AND(D331>0,OR(AI331=\"\")),1,IF((AI331)>D331,1,0))","v":0},{"$f":"IF(AND(C331>0,AJ331=\"\"),1,IF(AJ331>C331,1,0))","v":0},{"$f":"IF(AND(C331>0,AK331=\"\"),1,IF(AK331>C331,1,0))","v":0}]
["SECCIÓN T: INGRESOS Y EGRESOS PROGRAMA DE ACOMPAÑAMIENTO PSICOSOCIAL EN ATENCIÓN PRIMARIA"]
["ACTIVIDAD","TOTAL               ",null,null,"RANGO ETARIO Y SEXO",null,null,null,null,null,null,null,null,null,"Aumento de funcionalidad familiar (4 puntos o más)","Cumple con el 70% de los objetivos del plan de acompañamiento","Egreso por alta clínica del Prog de Salud Mental","Pueblos Originarios","Migrantes","TRANS"]
[null,null,null,null,"0 - 4 años",null,"5 - 9 años",null,"10 - 14 años",null,"15 - 19 años",null,"20 - 24 años"]
[null,"Ambos Sexos","Hombres","Mujeres","Hombres","Mujeres","Hombres","Mujeres","Hombres","Mujeres","Hombres","Mujeres","Hombres","Mujeres",null,null,null,null,null,"Masculino","Femenino"]
["Ingresos",{"$f":"SUM(C336+D336)","v":0},{"$f":"SUM(E336+G336+I336+K336+M336)","v":0},{"$f":"SUM(F336+H336+J336+L336+N336)","v":0},null,null,null,null,null,null,null,null,null,null,null,null,null,null,null,null,null,null,{"$f":"BS336&BT336&BU336&BV336","v":""},null,null,null,null,null,null,null,null,null,null,null,null,null,null,null,null,null,null,null,null,null,null,null,null,null,null,null,null,null,null,null,null,null,null,null,null,null,null,null,null,null,null,null,null,null,null,null,{"$f":"IF(AND(B336>0,R336=\"\"),\" * No olvide digitar la variable Pueblos originarios. Digite Cero si no tiene.\",IF(R336>B336,\" * La variable Pueblos originarios No puede ser mayor al Total.\",\"\"))","v":""},{"$f":"IF(AND(B336>0,S336=\"\"),\" * No olvide digitar la variable Migrantes. Digite Cero si no tiene.\",IF(S336>B336,\" * La variable Migrantes No puede ser mayor al Total.\",\"\"))","v":""},{"$f":"IF(AND(D336>0,OR(T336=\"\")),\" * No olvide digitar la variable Trans (Masculino). Digite Cero si no tiene.\",IF((T336)>D336,\" * La variable Trans Masculino No puede ser mayor al Total Mujeres.\",\"\"))","v":""},{"$f":"IF(AND(C336>0,OR(U336=\"\")),\" * No olvide digitar la variable Trans (Femenino). Digite Cero si no tiene.\",IF((U336)>C336,\" * La variable Trans Femenino No puede ser mayor al Total Hombres.\",\"\"))","v":""},null,null,null,null,null,null,null,{"$f":"IF(AND(B336>0,R336=\"\"),1,IF(R336>B336,1,0))","v":0},{"$f":"IF(AND(B336>0,S336=\"\"),1,IF(S336>B336,1,0))","v":0},{"$f":"IF(AND(D336>0,OR(T336=\"\")),1,IF((T336)>D336,1,0))","v":0},{"$f":"IF(AND(C336>0,OR(U336=\"\")),1,IF((U336)>C336,1,0))","v":0}]
["Egresos",{"$f":"SUM(C337+D337)","v":0},{"$f":"SUM(E337+G337+I337+K337+M337)","v":0},{"$f":"SUM(F337+H337+J337+L337+N337)","v":0},null,null,null,null,null,null,null,null,null,null,null,null,null,null,null,null,null,null,{"$f":"BS337&BT337&BU337&BV337","v":""},null,null,null,null,null,null,null,null,null,null,null,null,null,null,null,null,null,null,null,null,null,null,null,null,null,null,null,null,null,null,null,null,null,null,null,null,null,null,null,null,null,null,null,null,null,null,null,{"$f":"IF(AND(B337>0,R337=\"\"),\" * No olvide digitar la variable Pueblos originarios. Digite Cero si no tiene.\",IF(R337>B337,\" * La variable Pueblos originarios No puede ser mayor al Total.\",\"\"))","v":""},{"$f":"IF(AND(B337>0,S337=\"\"),\" * No olvide digitar la variable Migrantes. Digite Cero si no tiene.\",IF(S337>B337,\" * La variable Migrantes No puede ser mayor al Total.\",\"\"))","v":""},{"$f":"IF(AND(D337>0,OR(T337=\"\")),\" * No olvide digitar la variable Trans (Masculino). Digite Cero si no tiene.\",IF((T337)>D337,\" * La variable Trans Masculino No puede ser mayor al Total Mujeres.\",\"\"))","v":""},{"$f":"IF(AND(C337>0,OR(U337=\"\")),\" * No olvide digitar la variable Trans (Femenino). Digite Cero si no tiene.\",IF((U337)>C337,\" * La variable Trans Femenino No puede ser mayor al Total Hombres.\",\"\"))","v":""},null,null,null,null,null,null,null,{"$f":"IF(AND(B337>0,R337=\"\"),1,IF(R337>B337,1,0))","v":0},{"$f":"IF(AND(B337>0,S337=\"\"),1,IF(S337>B337,1,0))","v":0},{"$f":"IF(AND(D337>0,OR(T337=\"\")),1,IF((T337)>D337,1,0))","v":0},{"$f":"IF(AND(C337>0,OR(U337=\"\")),1,IF((U337)>C337,1,0))","v":0}]
["SECCIÓN U: INGRESOS  INTEGRALES DE PERSONAS CON CONDICIONES CRÓNICAS EN ATENCIÓN PRIMARIA"]
["ACTIVIDAD","RIESGO","TOTAL               ",null,null,"RANGO ETARIO Y SEXO",null,null,null,null,null,null,null,null,null,null,null,null,null,null,null,null,null,null,null,null,null,null,null,null,null,null,null,"Pueblos Originarios","Migrantes","REALIZADO POR",null,null,"Realizado en domicilio"]
[null,null,null,null,null,"15 - 19 años",null,"20 - 24 años",null,"25 - 29 años",null,"30 - 34 años",null,"35 - 39 años",null,"40 - 44 años",null,"45 - 49 años",null,"50 - 54 años",null,"55 - 59 años",null,"60 - 64 años",null,"65 - 69 años",null,"70 - 74 años",null,"75 - 79 años",null,"80 y más años",null,null,null,"Dupla (Médico + Profesional no médico)","Médico","Profesional No Médico"]
[null,null,"Ambos Sexos","Hombres","Mujeres","Hombres","Mujeres","Hombres","Mujeres","Hombres ","Mujeres","Hombres ","Mujeres","Hombres ","Mujeres","Hombres ","Mujeres","Hombres ","Mujeres","Hombres ","Mujeres","Hombres ","Mujeres","Hombres ","Mujeres","Hombres ","Mujeres","Hombres ","Mujeres","Hombres ","Mujeres","Hombres ","Mujeres"]
["Ingreso Integral","Riesgo Leve (G1)",{"$f":"SUM(D342+E342)","v":0},{"$f":"SUM(F342+H342+J342+L342+N342+P342+R342+T342+V342+X342+Z342+AB342+AD342+AF342)","v":0},{"$f":"SUM(G342+I342+K342+M342+O342+Q342+S342+U342+W342+Y342+AA342+AC342+AE342+AG342)","v":0},null,null,null,null,null,null,null,null,null,null,null,null,null,null,null,null,null,null,null,null,null,null,null,null,null,null,null,null,null,null,null,null,null,null,{"$f":"BQ342&BR342","v":""},null,null,null,null,null,null,null,null,null,null,null,null,null,null,null,null,null,null,null,null,null,null,null,null,null,null,null,null,{"$f":"IF(AND(C342>0,AH342=\"\"),\" * No olvide digitar la variable Pueblos originarios. Digite Cero si no tiene.\",IF(AH342>C342,\" * La variable Pueblos originarios No puede ser mayor al Total.\",\"\"))","v":""},{"$f":"IF(AND(C342>0,AI342=\"\"),\" * No olvide digitar la variable Migrantes. Digite Cero si no tiene.\",IF(AI342>C342,\" * La variable Migrantes No puede ser mayor al Total.\",\"\"))","v":""},null,null,null,null,null,null,null,null,null,{"$f":"IF(AND(C342>0,AH342=\"\"),1,IF(AH342>C342,1,0))","v":0},{"$f":"IF(AND(C342>0,AI342=\"\"),1,IF(AI342>C342,1,0))","v":0}]
[null,"Riesgo Moderado (G2)",{"$f":"SUM(D343+E343)","v":0},{"$f":"SUM(F343+H343+J343+L343+N343+P343+R343+T343+V343+X343+Z343+AB343+AD343+AF343)","v":0},0,null,null,null,null,null,null,null,null,null,null,null,null,null,null,null,null,null,null,null,null,null,null,null,null,null,null,null,null,null,null,null,null,null,null,{"$f":"BQ343&BR343","v":""},null,null,null,null,null,null,null,null,null,null,null,null,null,null,null,null,null,null,null,null,null,null,null,null,null,null,null,null,{"$f":"IF(AND(C343>0,AH343=\"\"),\" * No olvide digitar la variable Pueblos originarios. Digite Cero si no tiene.\",IF(AH343>C343,\" * La variable Pueblos originarios No puede ser mayor al Total.\",\"\"))","v":""},{"$f":"IF(AND(C343>0,AI343=\"\"),\" * No olvide digitar la variable Migrantes. Digite Cero si no tiene.\",IF(AI343>C343,\" * La variable Migrantes No puede ser mayor al Total.\",\"\"))","v":""},null,null,null,null,null,null,null,null,null,{"$f":"IF(AND(C343>0,AH343=\"\"),1,IF(AH343>C343,1,0))","v":0},{"$f":"IF(AND(C343>0,AI343=\"\"),1,IF(AI343>C343,1,0))","v":0}]
[null,"Riesgo Alto (G3)",0,0,0,null,null,null,null,null,null,null,null,null,null,null,null,null,null,null,null,null,null,null,null,null,null,null,null,null,null,null,null,null,null,null,null,null,null,"",null,null,null,null,null,null,null,null,null,null,null,null,null,null,null,null,null,null,null,null,null,null,null,null,null,null,null,null,"","",null,null,null,null,null,null,null,null,null,0,0]
["Plan de Cuidado Elaborado","Riesgo Leve (G1)",0,0,0,null,null,null,null,null,null,null,null,null,null,null,null,null,null,null,null,null,null,null,null,null,null,null,null,null,null,null,null,null,null,null,null,null,null,"",null,null,null,null,null,null,null,null,null,null,null,null,null,null,null,null,null,null,null,null,null,null,null,null,null,null,null,null,"","",null,null,null,null,null,null,null,null,null,0,0]
[null,"Riesgo Moderado (G2)",0,0,0,null,null,null,null,null,null,null,null,null,null,null,null,null,null,null,null,null,null,null,null,null,null,null,null,null,null,null,null,null,null,null,null,null,null,"",null,null,null,null,null,null,null,null,null,null,null,null,null,null,null,null,null,null,null,null,null,null,null,null,null,null,null,null,"","",null,null,null,null,null,null,null,null,null,0,0]
[null,"Riesgo Alto (G3)",0,0,0,null,null,null,null,null,null,null,null,null,null,null,null,null,null,null,null,null,null,null,null,null,null,null,null,null,null,null,null,null,null,null,null,null,null,"",null,null,null,null,null,null,null,null,null,null,null,null,null,null,null,null,null,null,null,null,null,null,null,null,null,null,null,null,"","",null,null,null,null,null,null,null,null,null,0,0]
["Gestión de casos","Ingreso Riesgo Alto (G3)",0,0,0,null,null,null,null,null,null,null,null,null,null,null,null,null,null,null,null,null,null,null,null,null,null,null,null,null,null,null,null,null,null,null,null,null,null,"",null,null,null,null,null,null,null,null,null,null,null,null,null,null,null,null,null,null,null,null,null,null,null,null,null,null,null,null,"","",null,null,null,null,null,null,null,null,null,0,0]
[null,"Ingreso Riesgo Moderado (G2)",0,0,0,null,null,null,null,null,null,null,null,null,null,null,null,null,null,null,null,null,null,null,null,null,null,null,null,null,null,null,null,null,null,null,null,null,null,"",null,null,null,null,null,null,null,null,null,null,null,null,null,null,null,null,null,null,null,null,null,null,null,null,null,null,null,null,"","",null,null,null,null,null,null,null,null,null,0,0]
[null,"Egreso Riesgo Alto (G3)",0,0,0,null,null,null,null,null,null,null,null,null,null,null,null,null,null,null,null,null,null,null,null,null,null,null,null,null,null,null,null,null,null,null,null,null,null,"",null,null,null,null,null,null,null,null,null,null,null,null,null,null,null,null,null,null,null,null,null,null,null,null,null,null,null,null,"","",null,null,null,null,null,null,null,null,null,0,0]
[null,"Egreso Riesgo Moderado (G2)",0,0,0,null,null,null,null,null,null,null,null,null,null,null,null,null,null,null,null,null,null,null,null,null,null,null,null,null,null,null,null,null,null,null,null,null,null,"",null,null,null,null,null,null,null,null,null,null,null,null,null,null,null,null,null,null,null,null,null,null,null,null,null,null,null,null,"","",null,null,null,null,null,null,null,null,null,0,0]
["SECCIÓN V: ACREDITACIÓN PRAIS"]
["SECCIÓN V.1: ATENCIÓN PARA ACREDITACIÓN PRAIS"]
["ACTIVIDAD","PROFESIONAL","TOTAL               ",null,null,"RANGO ETARIO Y SEXO",null,null,null,null,null,null,null,null,null,null,null,null,null,null,null,null,null,null,null,null,null,null,null,null,null,null,null,null,null,null,null,null,null,"Niños, Niñas, Adolescentes y Jóvenes Población SENAME","Pueblos Originarios"]
[null,null,null,null,null,"0 - 4 años",null,"5 - 9 años",null,"10 - 14 años",null,"15 - 19 años",null,"20 - 24 años",null,"25 - 29 años",null,"30 - 34 años",null,"35 - 39 años",null,"40 - 44 años",null,"45 - 49 años",null,"50 - 54 años",null,"55 - 59 años",null,"60 - 64 años",null,"65 - 69 años",null,"70 - 74 años",null,"75 - 79 años",null,"80 y más años"]
[null,null,"Ambos Sexos","Hombres","Mujeres","Hombres","Mujeres","Hombres","Mujeres","Hombres","Mujeres","Hombres","Mujeres","Hombres","Mujeres","Hombres","Mujeres","Hombres","Mujeres","Hombres","Mujeres","Hombres","Mujeres","Hombres","Mujeres","Hombres","Mujeres","Hombres","Mujeres","Hombres","Mujeres","Hombres","Mujeres","Hombres","Mujeres","Hombres","Mujeres","Hombres","Mujeres"]
["Usuarios Acreditados por Profesional/es que atiende/n (Individual o en dupla)","Trabajador/a Social",{"$f":"SUM(D357,E357)","v":0},{"$f":"SUM(F357,H357,J357,L357,N357,P357,R357,T357,V357,X357,Z357,AB357,AD357,AF357,AH357,AJ357,AL357)","v":0},0,null,null,null,null,null,null,null,null,null,null,null,null,null,null,null,null,null,null,null,null,null,null,null,null,null,null,null,null,null,null,null,null,null,null,null,null,{"$f":"BQ357&BR357","v":""},null,null,null,null,null,null,null,null,null,null,null,null,null,null,null,null,null,null,null,null,null,null,null,null,null,null,{"$f":"IF(AND(C357>0,AN357=\"\"),\" * No olvide digitar la variable Niños, niñas, adolescentes y jóvenes SENAME. Digite Cero si no tiene.\",IF(AN357>C357,\" * La variable Niños, niñas, adolescentes y jóvenes SENAME No puede ser mayor al Total.\",\"\"))","v":""},{"$f":"IF(AND(C357>0,AO357=\"\"),\" * No olvide digitar la variable Pueblos originarios. Digite Cero si no tiene.\",IF(AO357>C357,\" * La variable Pueblos originarios No puede ser mayor al Total.\",\"\"))","v":""},null,null,null,null,null,null,null,null,null,{"$f":"IF(AND(C357>0,AN357=\"\"),1,IF(AN357>C357,1,0))","v":0},{"$f":"IF(AND(C357>0,AO357=\"\"),1,IF(AO357>C357,1,0))","v":0}]
[null,"Psicológo/a",{"$f":"SUM(D358,E358)","v":0},0,0,null,null,null,null,null,null,null,null,null,null,null,null,null,null,null,null,null,null,null,null,null,null,null,null,null,null,null,null,null,null,null,null,null,null,null,null,{"$f":"BQ358&BR358","v":""},null,null,null,null,null,null,null,null,null,null,null,null,null,null,null,null,null,null,null,null,null,null,null,null,null,null,{"$f":"IF(AND(C358>0,AN358=\"\"),\" * No olvide digitar la variable Niños, niñas, adolescentes y jóvenes SENAME. Digite Cero si no tiene.\",IF(AN358>C358,\" * La variable Niños, niñas, adolescentes y jóvenes SENAME No puede ser mayor al Total.\",\"\"))","v":""},{"$f":"IF(AND(C358>0,AO358=\"\"),\" * No olvide digitar la variable Pueblos originarios. Digite Cero si no tiene.\",IF(AO358>C358,\" * La variable Pueblos originarios No puede ser mayor al Total.\",\"\"))","v":""},null,null,null,null,null,null,null,null,null,{"$f":"IF(AND(C358>0,AN358=\"\"),1,IF(AN358>C358,1,0))","v":0},{"$f":"IF(AND(C358>0,AO358=\"\"),1,IF(AO358>C358,1,0))","v":0}]
[null,"Trabajador/a Social y Psicológo/a",{"$f":"SUM(D359,E359)","v":0},0,0,null,null,null,null,null,null,null,null,null,null,null,null,null,null,null,null,null,null,null,null,null,null,null,null,null,null,null,null,null,null,null,null,null,null,null,null,"",null,null,null,null,null,null,null,null,null,null,null,null,null,null,null,null,null,null,null,null,null,null,null,null,null,null,"","",null,null,null,null,null,null,null,null,null,0,0]
["TOTAL",null,{"$f":"SUM(D360,E360)","v":0},0,0,{"$f":"SUM(F357:F359)","v":0},0,0,0,0,0,0,0,0,0,0,0,0,0,0,0,0,0,0,0,0,0,0,0,0,0,0,0,0,0,0,0,0,0,0,0]
["SECCIÓN V.2: ACREDITACIÓN PRAIS SEGÚN LEY, NORMATIVA Y CALIDAD DE ACREDITACIÓN"]
["CALIDAD DE LA ACREDITACIÓN DEL MES QUE REPORTA","TOTAL        ","Art. 7° Ley 19.980",null,null,null,null,null,null,null,"Norma Complementaria (N°88)",null,null,null,null,"Sin ningún tipo de información "]
[null,null,"Ley 19.123, ley 19.980, ley 20.405 (DD Y EP)","Ley 19.992, ley 20.405 (Prisión política y tortura)","Ley 19.965","Trabajador DDHH","Ingresado antes 30/08/2003",null,null,null,"Ex prisión política","Exilio","Relegación","Clandestinidad","Exoneración Política"]
[null,null,null,null,null,null,"Exilio","Exoneración Política","Ex preso político","Otros"]
["Índice",{"$f":"SUM(D365:O365)","v":0}]
["Afectado Directo",{"$f":"SUM(C366:O366)","v":0}]
["Beneficiario",{"$f":"SUM(C367:O367)","v":0}]
["Sin Registro de Calidad de la Acreditación"]
["Sin Ningún Tipo de Información"]
["TOTAL",{"$f":"SUM(B365:B369)","v":0},{"$f":"SUM(C366:C367)","v":0},{"$f":"SUM(D365:D367)","v":0},{"$f":"SUM(E365:E367)","v":0},0,0,0,0,0,0,0,0,0,{"$f":"SUM(O365:O367)","v":0}]
[]
[]
[]
[]
[]
[]
[]
[]
[]
[]
[]
[]
[]
[]
[]
[]
[]
[]
[]
[]
[]
[]
[]
[]
[]
[]
[]
[]
[]
[{"$f":"SUM(C11:C14,C18:F31,C35:C55,C59:C79,B82,C85,C90:C93,C98:C101,C98:C101,C106:C109,C114:C122,C127:C134,C139:C143,C147:C156,C160:C169,C173:C180,C186,C188:C230,C234,C236:C278,C283:C286,C291:C309,C314:C324,C329:C331,B336:B337,C342:C351,C357:C360,B365:B370)","v":0},{"$f":"SUM(CB11:CK359)","v":0}]

{"sheet":"A06","index":6,"n_rows":197,"n_cols":91,"rows_kept":197,"cut":false,"hidden":false,"merged":[[5,0,5,22],[8,0,10,0],[8,1,10,1],[8,2,9,4],[8,5,8,38],[8,39,10,39],[9,5,9,6],[9,7,9,8],[9,9,9,10],[9,11,9,12],[9,37,9,38],[9,45,10,45],[9,46,10,46],[11,0,21,0],[22,0,22,1],[24,0,25,0],[9,25,9,26],[9,27,9,28],[9,29,9,30],[9,31,9,32],[9,33,9,34],[9,35,9,36],[9,13,9,14],[9,15,9,16],[9,17,9,18],[9,19,9,20],[9,21,9,22],[9,23,9,24],[8,40,10,40],[8,41,10,41],[8,42,10,42],[8,43,10,43],[8,44,10,44],[8,45,8,46],[27,11,27,12],[27,13,27,14],[27,15,27,16],[27,17,27,18],[27,19,27,20],[27,21,27,22],[27,0,28,0],[27,1,28,1],[27,2,27,3],[27,4,27,6],[27,7,27,8],[27,9,27,10],[40,0,41,0],[42,0,43,0],[45,0,47,1],[45,2,46,4],[27,44,28,44],[27,45,28,45],[27,46,28,46],[33,0,34,0],[33,1,34,1],[33,2,33,3],[33,4,33,6],[33,7,33,12],[27,35,27,36],[27,37,27,38],[27,39,27,40],[27,41,28,41],[27,42,28,42],[27,43,28,43],[27,23,27,24],[27,25,27,26],[27,27,27,28],[27,29,27,30],[27,31,27,32],[27,33,27,34],[45,5,45,36],[45,37,47,37],[45,38,47,38],[45,39,47,39],[46,5,46,6],[46,7,46,8],[46,9,46,10],[46,11,46,12],[46,13,46,14],[46,15,46,16],[46,29,46,30],[46,31,46,32],[46,33,46,34],[46,35,46,36],[50,0,50,12],[51,0,53,1],[51,2,52,4],[51,5,51,36],[52,21,52,22],[52,23,52,24],[46,17,46,18],[46,19,46,20],[46,21,46,22],[46,23,46,24],[46,25,46,26],[46,27,46,28],[52,25,52,26],[52,27,52,28],[52,29,52,30],[52,31,52,32],[52,33,52,34],[52,35,52,36],[51,37,53,37],[51,38,53,38],[52,5,52,6],[52,7,52,8],[52,9,52,10],[52,11,52,12],[52,13,52,14],[52,15,52,16],[52,17,52,18],[52,19,52,20],[77,0,78,0],[77,1,77,2],[77,3,77,4],[77,5,77,6],[77,7,77,8],[54,0,59,0],[60,0,61,0],[62,0,65,0],[66,0,67,0],[68,0,69,0],[70,0,75,0],[102,14,104,14],[102,15,104,15],[103,4,103,5],[103,6,103,7],[103,8,103,9],[103,10,103,11],[103,12,103,13],[93,0,94,0],[93,1,94,1],[93,2,94,2],[93,3,94,3],[93,4,93,5],[102,0,104,0],[102,1,103,3],[102,4,102,12],[113,6,113,7],[113,8,113,9],[119,0,120,0],[119,1,120,1],[119,2,119,3],[119,4,119,5],[119,6,119,8],[109,0,110,0],[109,1,109,3],[109,4,110,4],[113,0,114,0],[113,1,113,3],[113,4,113,5],[124,5,124,6],[124,7,124,8],[124,9,124,10],[124,11,124,12],[124,13,124,14],[124,15,124,16],[124,17,124,18],[123,0,125,0],[123,1,125,1],[123,2,124,4],[123,5,123,38],[124,19,124,20],[124,21,124,22],[124,23,124,24],[124,25,124,26],[124,27,124,28],[124,29,124,30],[124,31,124,32],[124,33,124,34],[124,35,124,36],[124,37,124,38],[123,41,125,41],[123,42,125,42],[123,43,125,43],[123,39,125,39],[123,40,125,40],[147,0,147,4],[148,0,150,0],[148,1,150,1],[148,2,149,4],[148,5,148,12],[148,13,150,13],[126,0,129,0],[131,0,133,0],[131,1,131,5],[131,6,133,6],[131,7,132,8],[132,1,133,1],[132,2,132,5],[148,22,148,23],[149,5,149,6],[149,7,149,8],[149,9,149,10],[149,11,149,12],[149,22,150,22],[149,23,150,23],[148,14,150,14],[148,15,150,15],[148,16,150,16],[148,17,150,17],[148,18,150,18],[148,19,150,19],[161,3,162,3],[151,0,153,0],[155,0,157,0],[159,0,159,1],[161,0,162,0],[161,1,162,1],[161,2,162,2],[148,20,150,20],[148,21,150,21]]}
["SERVICIO DE SALUD"]
[{"$f":"CONCATENATE(\"COMUNA: \",NOMBRE!B2,\" - \",\"( \",NOMBRE!C2,NOMBRE!D2,NOMBRE!E2,NOMBRE!F2,NOMBRE!G2,\" )\")","v":"COMUNA:  - (  )"}]
[{"$f":"CONCATENATE(\"ESTABLECIMIENTO/ESTRATEGIA: \",NOMBRE!B3,\" - \",\"( \",NOMBRE!C3,NOMBRE!D3,NOMBRE!E3,NOMBRE!F3,NOMBRE!G3,NOMBRE!H3,\" )\")","v":"ESTABLECIMIENTO/ESTRATEGIA:  - (  )"}]
[{"$f":"CONCATENATE(\"MES: \",NOMBRE!B6,\" - \",\"( \",NOMBRE!C6,NOMBRE!D6,\" )\")","v":"MES:  - (  )"}]
[{"$f":"CONCATENATE(\"AÑO: \",NOMBRE!B7)","v":"AÑO: 2024"}]
["REM-06.   PROGRAMA DE SALUD MENTAL ATENCIÓN PRIMARIA Y ESPECIALIDADES"]
[]
["SECCIÓN A.1: CONTROLES DE ATENCIÓN PRIMARIA / ESPECIALIDADES"]
["ACTIVIDAD","PROFESIONAL","TOTAL               ",null,null,"GRUPOS DE EDAD  (en años)",null,null,null,null,null,null,null,null,null,null,null,null,null,null,null,null,null,null,null,null,null,null,null,null,null,null,null,null,null,null,null,null,null,"Beneficiarios","Niños, Niñas, Adolescentes y Jóvenes SENAME","Niños, Niñas, Adolescentes y Jóvenes Mejor Niñez","Pueblos Originarios","Migrantes","Demencia","TRANS\n\n"]
[null,null,null,null,null,"0 - 4 años",null,"5 - 9 años",null,"10 - 14 años",null,"15 - 19 años",null,"20 - 24 años",null,"25 - 29 años",null,"30 - 34 años",null,"35 - 39 años",null,"40 - 44 años",null,"45 - 49 años",null,"50 - 54 años",null,"55 - 59 años",null,"60 - 64 años",null,"65 - 69 años",null,"70 - 74 años",null,"75 - 79 años",null,"80 y mas años",null,null,null,null,null,null,null,"Masculino","Femenino"]
[null,null,"Ambos Sexos","Hombres","Mujeres","Hombres","Mujeres","Hombres","Mujeres","Hombres","Mujeres","Hombres","Mujeres","Hombres","Mujeres","Hombres","Mujeres","Hombres","Mujeres","Hombres","Mujeres","Hombres","Mujeres","Hombres","Mujeres","Hombres","Mujeres","Hombres","Mujeres","Hombres","Mujeres","Hombres","Mujeres","Hombres","Mujeres","Hombres","Mujeres","Hombres","Mujeres"]
["Controles Salud Mental","Médico/a",{"$f":"SUM(D12+E12)","v":0},{"$f":"SUM(F12+H12+J12+L12+N12+P12+R12+T12+V12+X12+Z12+AB12+AD12+AF12+AH12+AJ12+AL12)","v":0},{"$f":"SUM(G12+I12+K12+M12+O12+Q12+S12+U12+W12+Y12+AA12+AC12+AE12+AG12+AI12+AK12+AM12)","v":0},null,null,null,null,null,null,null,null,null,null,null,null,null,null,null,null,null,null,null,null,null,null,null,null,null,null,null,null,null,null,null,null,null,null,null,null,null,null,null,null,null,null,{"$f":"BW12&BX12&BY12&BZ12&CA12&CB12&CC12&CD12","v":""},null,null,null,null,null,null,null,null,null,null,null,null,null,null,null,null,null,null,null,null,null,null,null,null,null,null,{"$f":"IF(AND(C12>0,AN12=\"\"),\" * No olvide digitar la variable Beneficiarios. Digite Cero si no tiene.\",IF(AN12>C12,\" * La variable Beneficiarios No puede ser mayor al Total.\",\"\"))","v":""},{"$f":"IF(AND(C12>0,AO12=\"\"),\" * No olvide digitar la variable Niños, Niñas, adolescentes y Jóvenes SENAME. Digite Cero si no tiene.\",IF(AO12>C12,\" * La variable Niños, Niñas, adolescentes y Jóvenes SENAME No puede ser mayor al Total.\",\"\"))","v":""},{"$f":"IF(AND(C12>0,AP12=\"\"),\" * No olvide digitar la variable Niños, Niñas, adolescentes y Jóvenes Mejor Niñez. Digite Cero si no tiene.\",IF(AP12>C12,\" * La variable Niños, Niñas, adolescentes y Jóvenes Mejor Niñez No puede ser mayor al Total.\",\"\"))","v":""},{"$f":"IF(AND(C12>0,AQ12=\"\"),\" * No olvide digitar la variable Pueblos originarios. Digite Cero si no tiene.\",IF(AQ12>C12,\" * La variable Pueblos Originarios No puede ser mayor al Total.\",\"\"))","v":""},{"$f":"IF(AND(C12>0,AR12=\"\"),\" * No olvide digitar la variable Migrantes. Digite Cero si no tiene.\",IF(AR12>C12,\" * La variable Migrantes No puede ser mayor al Total.\",\"\"))","v":""},{"$f":"IF(AND(C12>0,AS12=\"\"),\" * No olvide digitar la variable Demencia. Digite Cero si no tiene.\",IF(AS12>C12,\" * La variable Demencia No puede ser mayor al Total.\",\"\"))","v":""},{"$f":"IF(AND(E12>0,OR(AT12=\"\")),\" * No olvide digitar la variable Trans (Masculino). Digite Cero si no tiene.\",IF((AT12)>E12,\" * La variable Trans (Masculino) No puede ser mayor al Total Mujeres.\",\"\"))","v":""},{"$f":"IF(AND(D12>0,OR(AU12=\"\")),\" * No olvide digitar la variable Trans (Femenino). Digite Cero si no tiene.\",IF((AU12)>D12,\" * La variable Trans (Femenino) No puede ser mayor al Total Hombres.\",\"\"))","v":""},null,{"$f":"IF(AND(C12>0,AN12=\"\"),1,IF(AN12>C12,1,0))","v":0},{"$f":"IF(AND(C12>0,AO12=\"\"),1,IF(AO12>C12,1,0))","v":0},{"$f":"IF(AND(C12>0,AP12=\"\"),1,IF(AP12>C12,1,0))","v":0},{"$f":"IF(AND(C12>0,AQ12=\"\"),1,IF(AQ12>C12,1,0))","v":0},{"$f":"IF(AND(C12>0,AR12=\"\"),1,IF(AR12>C12,1,0))","v":0},{"$f":"IF(AND(C12>0,AS12=\"\"),1,IF(AS12>C12,1,0))","v":0},{"$f":"IF(AND(E12>0,OR(AT12=\"\")),1,IF((AT12)>E12,1,0))","v":0},{"$f":"IF(AND(D12>0,OR(AU12=\"\")),1,IF((AU12)>D12,1,0))","v":0}]
[null,"Psicólogo/a",{"$f":"SUM(D13+E13)","v":0},{"$f":"SUM(F13+H13+J13+L13+N13+P13+R13+T13+V13+X13+Z13+AB13+AD13+AF13+AH13+AJ13+AL13)","v":0},0,null,null,null,null,null,null,null,null,null,null,null,null,null,null,null,null,null,null,null,null,null,null,null,null,null,null,null,null,null,null,null,null,null,null,null,null,null,null,null,null,null,null,{"$f":"BW13&BX13&BY13&BZ13&CA13&CB13&CC13&CD13","v":""},null,null,null,null,null,null,null,null,null,null,null,null,null,null,null,null,null,null,null,null,null,null,null,null,null,null,{"$f":"IF(AND(C13>0,AN13=\"\"),\" * No olvide digitar la variable Beneficiarios. Digite Cero si no tiene.\",IF(AN13>C13,\" * La variable Beneficiarios No puede ser mayor al Total.\",\"\"))","v":""},{"$f":"IF(AND(C13>0,AO13=\"\"),\" * No olvide digitar la variable Niños, Niñas, adolescentes y Jóvenes SENAME. Digite Cero si no tiene.\",IF(AO13>C13,\" * La variable Niños, Niñas, adolescentes y Jóvenes SENAME No puede ser mayor al Total.\",\"\"))","v":""},{"$f":"IF(AND(C13>0,AP13=\"\"),\" * No olvide digitar la variable Niños, Niñas, adolescentes y Jóvenes Mejor Niñez. Digite Cero si no tiene.\",IF(AP13>C13,\" * La variable Niños, Niñas, adolescentes y Jóvenes Mejor Niñez No puede ser mayor al Total.\",\"\"))","v":""},{"$f":"IF(AND(C13>0,AQ13=\"\"),\" * No olvide digitar la variable Pueblos originarios. Digite Cero si no tiene.\",IF(AQ13>C13,\" * La variable Pueblos Originarios No puede ser mayor al Total.\",\"\"))","v":""},{"$f":"IF(AND(C13>0,AR13=\"\"),\" * No olvide digitar la variable Migrantes. Digite Cero si no tiene.\",IF(AR13>C13,\" * La variable Migrantes No puede ser mayor al Total.\",\"\"))","v":""},{"$f":"IF(AND(C13>0,AS13=\"\"),\" * No olvide digitar la variable Demencia. Digite Cero si no tiene.\",IF(AS13>C13,\" * La variable Demencia No puede ser mayor al Total.\",\"\"))","v":""},{"$f":"IF(AND(E13>0,OR(AT13=\"\")),\" * No olvide digitar la variable Trans (Masculino). Digite Cero si no tiene.\",IF((AT13)>E13,\" * La variable Trans (Masculino) No puede ser mayor al Total Mujeres.\",\"\"))","v":""},{"$f":"IF(AND(D13>0,OR(AU13=\"\")),\" * No olvide digitar la variable Trans (Femenino). Digite Cero si no tiene.\",IF((AU13)>D13,\" * La variable Trans (Femenino) No puede ser mayor al Total Hombres.\",\"\"))","v":""},null,{"$f":"IF(AND(C13>0,AN13=\"\"),1,IF(AN13>C13,1,0))","v":0},{"$f":"IF(AND(C13>0,AO13=\"\"),1,IF(AO13>C13,1,0))","v":0},{"$f":"IF(AND(C13>0,AP13=\"\"),1,IF(AP13>C13,1,0))","v":0},{"$f":"IF(AND(C13>0,AQ13=\"\"),1,IF(AQ13>C13,1,0))","v":0},{"$f":"IF(AND(C13>0,AR13=\"\"),1,IF(AR13>C13,1,0))","v":0},{"$f":"IF(AND(C13>0,AS13=\"\"),1,IF(AS13>C13,1,0))","v":0},{"$f":"IF(AND(E13>0,OR(AT13=\"\")),1,IF((AT13)>E13,1,0))","v":0},{"$f":"IF(AND(D13>0,OR(AU13=\"\")),1,IF((AU13)>D13,1,0))","v":0}]
[null,"Enfermera/o",0,0,0,null,null,null,null,null,null,null,null,null,null,null,null,null,null,null,null,null,null,null,null,null,null,null,null,null,null,null,null,null,null,null,null,null,null,null,null,null,null,null,null,null,null,"",null,null,null,null,null,null,null,null,null,null,null,null,null,null,null,null,null,null,null,null,null,null,null,null,null,null,"","","","","","","","",null,0,0,0,0,0,0,0,0]
[null,"Matrona/ón",0,0,0,null,null,null,null,null,null,null,null,null,null,null,null,null,null,null,null,null,null,null,null,null,null,null,null,null,null,null,null,null,null,null,null,null,null,null,null,null,null,null,null,null,null,"",null,null,null,null,null,null,null,null,null,null,null,null,null,null,null,null,null,null,null,null,null,null,null,null,null,null,"","","","","","","","",null,0,0,0,0,0,0,0,0]
[null,"Trabajador/a Social",0,0,0,null,null,null,null,null,null,null,null,null,null,null,null,null,null,null,null,null,null,null,null,null,null,null,null,null,null,null,null,null,null,null,null,null,null,null,null,null,null,null,null,null,null,"",null,null,null,null,null,null,null,null,null,null,null,null,null,null,null,null,null,null,null,null,null,null,null,null,null,null,"","","","","","","","",null,0,0,0,0,0,0,0,0]
[null,"Otros Profesionales Capacitados (Salud Mental)",0,0,0,null,null,null,null,null,null,null,null,null,null,null,null,null,null,null,null,null,null,null,null,null,null,null,null,null,null,null,null,null,null,null,null,null,null,null,null,null,null,null,null,null,null,"",null,null,null,null,null,null,null,null,null,null,null,null,null,null,null,null,null,null,null,null,null,null,null,null,null,null,"","","","","","","","",null,0,0,0,0,0,0,0,0]
[null,"Terapeuta Ocupacional",0,0,0,null,null,null,null,null,null,null,null,null,null,null,null,null,null,null,null,null,null,null,null,null,null,null,null,null,null,null,null,null,null,null,null,null,null,null,null,null,null,null,null,null,null,"",null,null,null,null,null,null,null,null,null,null,null,null,null,null,null,null,null,null,null,null,null,null,null,null,null,null,"","","","","","","","",null,0,0,0,0,0,0,0,0]
[null,"Técnico en Enfermería en Salud Mental",0,0,0,null,null,null,null,null,null,null,null,null,null,null,null,null,null,null,null,null,null,null,null,null,null,null,null,null,null,null,null,null,null,null,null,null,null,null,null,null,null,null,null,null,null,"",null,null,null,null,null,null,null,null,null,null,null,null,null,null,null,null,null,null,null,null,null,null,null,null,null,null,"","","","","","","","",null,0,0,0,0,0,0,0,0]
[null,"Gestor Comunitario",0,0,0,null,null,null,null,null,null,null,null,null,null,null,null,null,null,null,null,null,null,null,null,null,null,null,null,null,null,null,null,null,null,null,null,null,null,null,null,null,null,null,null,null,null,"",null,null,null,null,null,null,null,null,null,null,null,null,null,null,null,null,null,null,null,null,null,null,null,null,null,null,"","","","","","","","",null,0,0,0,0,0,0,0,0]
[null,"Técnico Rehabilitación Alcohol y Drogas",0,0,0,null,null,null,null,null,null,null,null,null,null,null,null,null,null,null,null,null,null,null,null,null,null,null,null,null,null,null,null,null,null,null,null,null,null,null,null,null,null,null,null,null,null,"",null,null,null,null,null,null,null,null,null,null,null,null,null,null,null,null,null,null,null,null,null,null,null,null,null,null,"","","","","","","","",null,0,0,0,0,0,0,0,0]
[null,"TOTAL",{"$f":"SUM(D22+E22)","v":0},0,0,{"$f":"SUM(F12:F21)","v":0},{"$f":"SUM(G12:G21)","v":0},0,0,0,0,0,0,0,0,0,0,0,0,0,0,0,0,0,0,0,0,0,0,0,0,0,0,0,0,0,0,0,0,0,0,{"$f":"SUM(AP12:AP21)","v":0},0,0,0,{"$f":"SUM(AT12:AT21)","v":0},{"$f":"SUM(AU12:AU21)","v":0}]
["Intervención Psicosocial Grupal",null,0,0,0,null,null,null,null,null,null,null,null,null,null,null,null,null,null,null,null,null,null,null,null,null,null,null,null,null,null,null,null,null,null,null,null,null,null,null,null,null,null,null,null,null,null,"",null,null,null,null,null,null,null,null,null,null,null,null,null,null,null,null,null,null,null,null,null,null,null,null,null,null,{"$f":"IF(AND(C23>0,AN23=\"\"),\" * No olvide digitar la variable Beneficiarios. Digite Cero si no tiene.\",IF(AN23>C23,\" * La variable Beneficiarios No puede ser mayor al Total.\",\"\"))","v":""},{"$f":"IF(AND(C23>0,AO23=\"\"),\" * No olvide digitar la variable Niños, Niñas, adolescentes y Jóvenes SENAME. Digite Cero si no tiene.\",IF(AO23>C23,\" * La variable Niños, Niñas, adolescentes y Jóvenes SENAME No puede ser mayor al Total.\",\"\"))","v":""},{"$f":"IF(AND(C23>0,AP23=\"\"),\" * No olvide digitar la variable Niños, Niñas, adolescentes y Jóvenes Mejor Niñez. Digite Cero si no tiene.\",IF(AP23>C23,\" * La variable Niños, Niñas, adolescentes y Jóvenes Mejor Niñez No puede ser mayor al Total.\",\"\"))","v":""},{"$f":"IF(AND(C23>0,AQ23=\"\"),\" * No olvide digitar la variable Pueblos originarios. Digite Cero si no tiene.\",IF(AQ23>C23,\" * La variable Pueblos Originarios No puede ser mayor al Total.\",\"\"))","v":""},{"$f":"IF(AND(C23>0,AR23=\"\"),\" * No olvide digitar la variable Migrantes. Digite Cero si no tiene.\",IF(AR23>C23,\" * La variable Migrantes No puede ser mayor al Total.\",\"\"))","v":""},{"$f":"IF(AND(C23>0,AS23=\"\"),\" * No olvide digitar la variable Demencia. Digite Cero si no tiene.\",IF(AS23>C23,\" * La variable Demencia No puede ser mayor al Total.\",\"\"))","v":""},{"$f":"IF(AND(E23>0,OR(AT23=\"\")),\" * No olvide digitar la variable Trans (Masculino). Digite Cero si no tiene.\",IF((AT23)>E23,\" * La variable Trans (Masculino) No puede ser mayor al Total Mujeres.\",\"\"))","v":""},{"$f":"IF(AND(D23>0,OR(AU23=\"\")),\" * No olvide digitar la variable Trans (Femenino). Digite Cero si no tiene.\",IF((AU23)>D23,\" * La variable Trans (Femenino) No puede ser mayor al Total Hombres.\",\"\"))","v":""},null,{"$f":"IF(AND(C23>0,AN23=\"\"),1,IF(AN23>C23,1,0))","v":0},{"$f":"IF(AND(C23>0,AO23=\"\"),1,IF(AO23>C23,1,0))","v":0},{"$f":"IF(AND(C23>0,AP23=\"\"),1,IF(AP23>C23,1,0))","v":0},{"$f":"IF(AND(C23>0,AQ23=\"\"),1,IF(AQ23>C23,1,0))","v":0},{"$f":"IF(AND(C23>0,AR23=\"\"),1,IF(AR23>C23,1,0))","v":0},{"$f":"IF(AND(C23>0,AS23=\"\"),1,IF(AS23>C23,1,0))","v":0},{"$f":"IF(AND(E23>0,OR(AT23=\"\")),1,IF((AT23)>E23,1,0))","v":0},{"$f":"IF(AND(D23>0,OR(AU23=\"\")),1,IF((AU23)>D23,1,0))","v":0}]
["Psicodiagnóstico","Psicólogo/a",0,0,0,null,null,null,null,null,null,null,null,null,null,null,null,null,null,null,null,null,null,null,null,null,null,null,null,null,null,null,null,null,null,null,null,null,null,null,null,null,null,null,null,null,null,"",null,null,null,null,null,null,null,null,null,null,null,null,null,null,null,null,null,null,null,null,null,null,null,null,null,null,"","","","","","","","",null,0,0,0,0,0,0,0,0]
["Psicoterapia Individual","Psicólogo/a",0,0,0,null,null,null,null,null,null,null,null,null,null,null,null,null,null,null,null,null,null,null,null,null,null,null,null,null,null,null,null,null,null,null,null,null,null,null,null,null,null,null,null,null,null,"",null,null,null,null,null,null,null,null,null,null,null,null,null,null,null,null,null,null,null,null,null,null,null,null,null,null,"","","","","","","","",null,0,0,0,0,0,0,0,0]
[null,"Médico/a Psiquiatra",0,0,0,null,null,null,null,null,null,null,null,null,null,null,null,null,null,null,null,null,null,null,null,null,null,null,null,null,null,null,null,null,null,null,null,null,null,null,null,null,null,null,null,null,null,"",null,null,null,null,null,null,null,null,null,null,null,null,null,null,null,null,null,null,null,null,null,null,null,null,null,null,"","","","","","","","",null,0,0,0,0,0,0,0,0]
["SECCIÓN A.2: CONSULTORÍAS DE SALUD MENTAL EN APS"]
["ACTIVIDAD","TOTAL CONSULTORÍAS Y TELECONSULTORÍAS RECIBIDAS","CONSULTORÍAS Y TELECONSULTORÍAS RECIBIDAS",null,"TOTAL Nº DE CASOS REVISADOS",null,null,"0 - 4 años",null,"5 - 9 años",null,"10 - 14 años",null,"15 - 19 años",null,"20 - 24 años",null,"25 - 29 años",null,"30 - 34 años",null,"35 - 39 años",null,"40 - 44 años",null,"45 - 49 años",null,"50 - 54 años",null,"55 - 59 años",null,"60 - 64 años",null,"65 - 69 años",null,"70 - 74 años",null,"75 - 79 años",null,"80 y mas años",null,"Pueblos Originarios","Migrantes","Niños, Niñas, Adolescentes y Jóvenes SENAME","Niños, Niñas, Adolescentes y Jóvenes Mejor Niñez","Personas con sospecha de demencia","Personas con diagnóstico de demencia"]
[null,null,"Consultorías y Teleconsultorías de Salud Mental Infanto Adolescente","Consultorías Y Teleconsultorías de Salud Mental Adulto","Ambos Sexos","Hombres","Mujeres","Hombres","Mujeres","Hombres","Mujeres","Hombres","Mujeres","Hombres","Mujeres","Hombres","Mujeres","Hombres","Mujeres","Hombres","Mujeres","Hombres","Mujeres","Hombres","Mujeres","Hombres","Mujeres","Hombres","Mujeres","Hombres","Mujeres","Hombres","Mujeres","Hombres","Mujeres","Hombres","Mujeres","Hombres","Mujeres","Hombres","Mujeres"]
["Consultorías de Salud Mental",{"$f":"SUM(C30:D30)","v":0},null,null,{"$f":"SUM(F30+G30)","v":0},{"$f":"SUM(H30+J30+L30+N30+P30+R30+T30+V30+X30+Z30+AB30+AD30+AF30+AH30+AJ30+AL30+AN30)","v":0},{"$f":"SUM(I30+K30+M30+O30+Q30+S30+U30+W30+Y30+AA30+AC30+AE30+AG30+AI30+AK30+AM30+AO30)","v":0},null,null,null,null,null,null,null,null,null,null,null,null,null,null,null,null,null,null,null,null,null,null,null,null,null,null,null,null,null,null,null,null,null,null,null,null,null,null,null,null,{"$f":"BW30&BX30&BY30&BZ30&CA30&CB30","v":""},null,null,null,null,null,null,null,null,null,null,null,null,null,null,null,null,null,null,null,null,null,null,null,null,null,null,{"$f":"IF(AND(E30>0,AP30=\"\"),\"  * No olvide digitar la variable Pueblos originarios. Digite Cero si no tiene.\",IF(AP30>E30,\" * La variable Pueblos originarios No puede ser mayor al Total.\",\"\"))","v":""},{"$f":"IF(AND(E30>0,AQ30=\"\"),\"  * No olvide digitar la variable Migrantes. Digite Cero si no tiene.\",IF(AQ30>E30,\" * La variable Migrantes No puede ser mayor al Total.\",\"\"))","v":""},{"$f":"IF(AND(E30>0,AR30=\"\"),\"  * No olvide digitar la variable Niños, Niñas, adolescentes y jóvenes SENAME. Digite Cero si no tiene.\",IF(AR30>E30,\" * La variable Niños, Niñas, adolescentes y jóvenes SENAME No puede ser mayor al Total.\",\"\"))","v":""},{"$f":"IF(AND(E30>0,AS30=\"\"),\"  * No olvide digitar la variable Niños, Niñas, adolescentes y jóvenes Mejor Niñez. Digite Cero si no tiene.\",IF(AS30>E30,\" * La variable Niños, Niñas, adolescentes y jóvenes Mejor Niñez No puede ser mayor al Total.\",\"\"))","v":""},{"$f":"IF(AND(E30>0,AT30=\"\"),\"  * No olvide digitar la variable Personas con sospecha de demencia. Digite Cero si no tiene.\",IF(AT30>E30,\" * La variable Personas con sospecha de demencia No puede ser mayor al Total.\",\"\"))","v":""},{"$f":"IF(AND(E30>0,AU30=\"\"),\"  * No olvide digitar la variable Personas con diagnóstico de demencia. Digite Cero si no tiene.\",IF(AU30>E30,\" * La variable Personas con diagnóstico de demencia No puede ser mayor al Total.\",\"\"))","v":""},null,null,null,{"$f":"IF(AND(E30>0,AP30=\"\"),1,IF(AP30>E30,1,0))","v":0},{"$f":"IF(AND(E30>0,AQ30=\"\"),1,IF(AQ30>E30,1,0))","v":0},{"$f":"IF(AND(E30>0,AR30=\"\"),1,IF(AR30>E30,1,0))","v":0},{"$f":"IF(AND(E30>0,AS30=\"\"),1,IF(AS30>E30,1,0))","v":0},{"$f":"IF(AND(E30>0,AT30=\"\"),1,IF(AT30>E30,1,0))","v":0},{"$f":"IF(AND(E30>0,AU30=\"\"),1,IF(AU30>E30,1,0))","v":0}]
["Teleconsultorías de Salud Mental",{"$f":"SUM(C31:D31)","v":0},null,null,{"$f":"SUM(F31+G31)","v":0},{"$f":"SUM(H31+J31+L31+N31+P31+R31+T31+V31+X31+Z31+AB31+AD31+AF31+AH31+AJ31+AL31+AN31)","v":0},{"$f":"SUM(I31+K31+M31+O31+Q31+S31+U31+W31+Y31+AA31+AC31+AE31+AG31+AI31+AK31+AM31+AO31)","v":0},null,null,null,null,null,null,null,null,null,null,null,null,null,null,null,null,null,null,null,null,null,null,null,null,null,null,null,null,null,null,null,null,null,null,null,null,null,null,null,null,{"$f":"BW31&BX31&BY31&BZ31&CA31&CB31","v":""},null,null,null,null,null,null,null,null,null,null,null,null,null,null,null,null,null,null,null,null,null,null,null,null,null,null,{"$f":"IF(AND(E31>0,AP31=\"\"),\"  * No olvide digitar la variable Pueblos originarios. Digite Cero si no tiene.\",IF(AP31>E31,\" * La variable Pueblos originarios No puede ser mayor al Total.\",\"\"))","v":""},{"$f":"IF(AND(E31>0,AQ31=\"\"),\"  * No olvide digitar la variable Migrantes. Digite Cero si no tiene.\",IF(AQ31>E31,\" * La variable Migrantes No puede ser mayor al Total.\",\"\"))","v":""},{"$f":"IF(AND(E31>0,AR31=\"\"),\"  * No olvide digitar la variable Niños, Niñas, adolescentes y jóvenes SENAME. Digite Cero si no tiene.\",IF(AR31>E31,\" * La variable Niños, Niñas, adolescentes y jóvenes SENAME No puede ser mayor al Total.\",\"\"))","v":""},{"$f":"IF(AND(E31>0,AS31=\"\"),\"  * No olvide digitar la variable Niños, Niñas, adolescentes y jóvenes Mejor Niñez. Digite Cero si no tiene.\",IF(AS31>E31,\" * La variable Niños, Niñas, adolescentes y jóvenes Mejor Niñez No puede ser mayor al Total.\",\"\"))","v":""},{"$f":"IF(AND(E31>0,AT31=\"\"),\"  * No olvide digitar la variable Personas con sospecha de demencia. Digite Cero si no tiene.\",IF(AT31>E31,\" * La variable Personas con sospecha de demencia No puede ser mayor al Total.\",\"\"))","v":""},{"$f":"IF(AND(E31>0,AU31=\"\"),\"  * No olvide digitar la variable Personas con diagnóstico de demencia. Digite Cero si no tiene.\",IF(AU31>E31,\" * La variable Personas con diagnóstico de demencia No puede ser mayor al Total.\",\"\"))","v":""},null,null,null,{"$f":"IF(AND(E31>0,AP31=\"\"),1,IF(AP31>E31,1,0))","v":0},{"$f":"IF(AND(E31>0,AQ31=\"\"),1,IF(AQ31>E31,1,0))","v":0},{"$f":"IF(AND(E31>0,AR31=\"\"),1,IF(AR31>E31,1,0))","v":0},{"$f":"IF(AND(E31>0,AS31=\"\"),1,IF(AS31>E31,1,0))","v":0},{"$f":"IF(AND(E31>0,AT31=\"\"),1,IF(AT31>E31,1,0))","v":0},{"$f":"IF(AND(E31>0,AU31=\"\"),1,IF(AU31>E31,1,0))","v":0}]
["TOTAL",{"$f":"SUM(B30:B31)","v":0},0,0,0,0,0,0,{"$f":"SUM(I30:I31)","v":0},0,0,0,0,0,0,0,0,0,0,0,0,0,0,0,0,0,0,0,0,0,0,0,0,0,0,0,0,0,0,0,0,0,0,0,0,0,0]
["SECCIÓN A.3: CONSULTORÍAS DE SALUD MENTAL OTORGADA POR EL NIVEL DE ESPECIALIDAD"]
["ACTIVIDAD","TOTAL CONSULTORÍAS Y TELECONSULTORÍAS OTORGADAS","CONSULTORÍAS Y TELECONSULTORÍAS OTORGADAS",null,"TOTAL Nº DE CASOS REVISADOS",null,null,"Participantes"]
[null,null,"Consultorías y Teleconsultorías de Salud Mental Infanto Adolescente","Consultorías y Teleconsultorías de Salud Mental Adulto","Ambos Sexos","Hombres","Mujeres","Médico psiquiatra","Médico Psiquiatría más un profesional","Médico Psiquiatría más dos Profesionales","Médico Psiquiatría con más de dos Profesionales","Dos profesionales","Más de dos profesionales"]
["Consultorías de Salud Mental",{"$f":"SUM(C36:D36)","v":0},null,null,{"$f":"SUM(F36:G36)","v":0}]
["Teleconsultorías de Salud Mental",{"$f":"SUM(C37:D37)","v":0},null,null,{"$f":"SUM(F37:G37)","v":0}]
["TOTAL",{"$f":"SUM(B36:B37)","v":0},0,0,0,0,0,0,0,0,0,0,0]
["SECCIÓN B.1: ACTIVIDADES GRUPALES (NÚMERO DE SESIONES)"]
["ACTIVIDAD","PROFESIONAL","TOTAL               "]
["Psicoterapia Grupal","Médico/a Psiquiatra"]
[null,"Psicólogo/a"]
["Psicoterapia Familiar","Médico/a Psiquiatra"]
[null,"Psicólogo/a"]
["SECCIÓN B.2:  PROGRAMA DE REHABILITACIÓN (PERSONAS CON TRASTORNOS PSIQUIÁTRICOS)"]
["TIPO",null,"TOTAL               ",null,null,"RANGO ETARIO Y SEXO",null,null,null,null,null,null,null,null,null,null,null,null,null,null,null,null,null,null,null,null,null,null,null,null,null,null,null,null,null,null,null,"Beneficiarios","Pueblos Originarios","Migrantes"]
[null,null,null,null,null,"5 - 9 años",null,"10 - 14 años",null,"15 - 19 años",null,"20 - 24 años",null,"25 - 29 años",null,"30 - 34 años",null,"35 - 39 años",null,"40 - 44 años",null,"45 - 49 años",null,"50 - 54 años",null,"55 - 59 años",null,"60 - 64 años",null,"65 - 69 años",null,"70 - 74 años",null,"75 - 79 años",null,"80 y mas años"]
[null,null,"Ambos Sexos","Hombres","Mujeres","Hombres","Mujeres","Hombres","Mujeres","Hombres","Mujeres","Hombres","Mujeres","Hombres","Mujeres","Hombres","Mujeres","Hombres","Mujeres","Hombres","Mujeres","Hombres","Mujeres","Hombres","Mujeres","Hombres","Mujeres","Hombres","Mujeres","Hombres","Mujeres","Hombres","Mujeres","Hombres","Mujeres","Hombres","Mujeres"]
["Programa de Rehabilitación Tipo I","Días Persona",{"$f":"SUM(D49+E49)","v":0},{"$f":"SUM(F49+H49+J49+L49+N49+P49+R49+T49+V49+X49+Z49+AB49+AD49+AF49+AH49+AJ49)","v":0},{"$f":"SUM(G49+I49+K49+M49+O49+Q49+S49+U49+W49+Y49+AA49+AC49+AE49+AG49+AI49+AK49)","v":0},null,null,null,null,null,null,null,null,null,null,null,null,null,null,null,null,null,null,null,null,null,null,null,null,null,null,null,null,null,null,null,null,null,null,null,{"$f":"BW49&BX49&BY49&BZ49","v":""},null,null,null,null,null,null,null,null,null,null,null,null,null,null,null,null,null,null,null,null,null,null,null,null,null,null,null,null,null,null,null,null,null,{"$f":"IF(AND(C49>0,AL49=\"\"),\"  * No olvide digitar la variable Beneficiarios. Digite Cero si no tiene.\",IF(AL49>C49,\"  * La variable Beneficiarios No puede ser mayor al Total.\",\"\"))","v":""},{"$f":"IF(AND(C49>0,AM49=\"\"),\"  * No olvide digitar la variable Pueblos originarios. Digite Cero si no tiene.\",IF(AM49>C49,\"  * La variable Pueblos originarios No puede ser mayor al Total.\",\"\"))","v":""},{"$f":"IF(AND(C49>0,AN49=\"\"),\"  * No olvide digitar la variable Migrantes. Digite Cero si no tiene.\",IF(AN49>C49,\"  * La variable Migrantes No puede ser mayor al Total.\",\"\"))","v":""},null,null,null,null,null,null,{"$f":"IF(AND(C49>0,AL49=\"\"),1,IF(AL49>C49,1,0))","v":0},{"$f":"IF(AND(C49>0,AM49=\"\"),1,IF(AM49>C49,1,0))","v":0},{"$f":"IF(AND(C49>0,AN49=\"\"),1,IF(AN49>C49,1,0))","v":0}]
["Programa de Rehabilitación Tipo II","Días Persona",{"$f":"SUM(D50+E50)","v":0},{"$f":"SUM(F50+H50+J50+L50+N50+P50+R50+T50+V50+X50+Z50+AB50+AD50+AF50+AH50+AJ50)","v":0},{"$f":"SUM(G50+I50+K50+M50+O50+Q50+S50+U50+W50+Y50+AA50+AC50+AE50+AG50+AI50+AK50)","v":0},null,null,null,null,null,null,null,null,null,null,null,null,null,null,null,null,null,null,null,null,null,null,null,null,null,null,null,null,null,null,null,null,null,null,null,{"$f":"BW50&BX50&BY50&BZ50","v":""},null,null,null,null,null,null,null,null,null,null,null,null,null,null,null,null,null,null,null,null,null,null,null,null,null,null,null,null,null,null,null,null,null,{"$f":"IF(AND(C50>0,AL50=\"\"),\"  * No olvide digitar la variable Beneficiarios. Digite Cero si no tiene.\",IF(AL50>C50,\"  * La variable Beneficiarios No puede ser mayor al Total.\",\"\"))","v":""},{"$f":"IF(AND(C50>0,AM50=\"\"),\"  * No olvide digitar la variable Pueblos originarios. Digite Cero si no tiene.\",IF(AM50>C50,\"  * La variable Pueblos originarios No puede ser mayor al Total.\",\"\"))","v":""},{"$f":"IF(AND(C50>0,AN50=\"\"),\"  * No olvide digitar la variable Migrantes. Digite Cero si no tiene.\",IF(AN50>C50,\"  * La variable Migrantes No puede ser mayor al Total.\",\"\"))","v":""},null,null,null,null,null,null,{"$f":"IF(AND(C50>0,AL50=\"\"),1,IF(AL50>C50,1,0))","v":0},{"$f":"IF(AND(C50>0,AM50=\"\"),1,IF(AM50>C50,1,0))","v":0},{"$f":"IF(AND(C50>0,AN50=\"\"),1,IF(AN50>C50,1,0))","v":0}]
["SECCIÓN B.3: ACTIVIDADES DE PSIQUIATRÍA FORENSE PARA PERSONAS EN CONFLICTO CON LA JUSTICIA (En lo Penal, Civil, Familiar, etc.)"]
["ACTIVIDAD",null,"TOTAL               ",null,null,"RANGO ETARIO Y SEXO",null,null,null,null,null,null,null,null,null,null,null,null,null,null,null,null,null,null,null,null,null,null,null,null,null,null,null,null,null,null,null,"Pueblos Originarios","Migrantes"]
[null,null,null,null,null,"5 - 9 años",null,"10 - 14 años",null,"15 - 19 años",null,"20 - 24 años",null,"25 - 29 años",null,"30 - 34 años",null,"35 - 39 años",null,"40 - 44 años",null,"45 - 49 años",null,"50 - 54 años",null,"55 - 59 años",null,"60 - 64 años",null,"65 - 69 años",null,"70 - 74 años",null,"75 - 79 años",null,"80 y mas años"]
[null,null,"Ambos Sexos","Hombres","Mujeres","Hombres","Mujeres","Hombres","Mujeres","Hombres","Mujeres","Hombres","Mujeres","Hombres","Mujeres","Hombres","Mujeres","Hombres","Mujeres","Hombres","Mujeres","Hombres","Mujeres","Hombres","Mujeres","Hombres","Mujeres","Hombres","Mujeres","Hombres","Mujeres","Hombres","Mujeres","Hombres","Mujeres","Hombres","Mujeres"]
["Peritaje Psiquiátrico Judicial","Médico/a",{"$f":"SUM(D55+E55)","v":0},{"$f":"SUM(F55+H55+J55+L55+N55+P55+R55+T55+V55+X55+Z55+AB55+AD55+AF55+AH55+AJ55)","v":0},0,null,null,null,null,null,null,null,null,null,null,null,null,null,null,null,null,null,null,null,null,null,null,null,null,null,null,null,null,null,null,null,null,null,null,{"$f":"BW55&BX55&BY55","v":""},null,null,null,null,null,null,null,null,null,null,null,null,null,null,null,null,null,null,null,null,null,null,null,null,null,null,null,null,null,null,null,null,null,null,{"$f":"IF(AND(C55>0,AL55=\"\"),\" *  No olvide digitar la variable Pueblos Originarios. Digite cero si no tiene.\",IF(AL55>C55,\" * La variable Pueblos Originarios no puede ser mayor al Total.\",\"\"))","v":""},{"$f":"IF(AND(C55>0,AM55=\"\"),\" *  No olvide digitar la variable Migrantes. Digite cero si no tiene.\",IF(AM55>C55,\" * La variable Migrantes no puede ser mayor al Total.\",\"\"))","v":""},null,null,null,null,null,null,null,{"$f":"IF(AND(C55>0,AL55=\"\"),1,IF(AL55>C55,1,0))","v":0},{"$f":"IF(AND(C55>0,AM55=\"\"),1,IF(AM55>C55,1,0))","v":0}]
[null,"Médico/a Psiquiatra",{"$f":"SUM(D56+E56)","v":0},0,0,null,null,null,null,null,null,null,null,null,null,null,null,null,null,null,null,null,null,null,null,null,null,null,null,null,null,null,null,null,null,null,null,null,null,{"$f":"BW56&BX56&BY56","v":""},null,null,null,null,null,null,null,null,null,null,null,null,null,null,null,null,null,null,null,null,null,null,null,null,null,null,null,null,null,null,null,null,null,null,{"$f":"IF(AND(C56>0,AL56=\"\"),\" *  No olvide digitar la variable Pueblos Originarios. Digite cero si no tiene.\",IF(AL56>C56,\" * La variable Pueblos Originarios no puede ser mayor al Total.\",\"\"))","v":""},{"$f":"IF(AND(C56>0,AM56=\"\"),\" *  No olvide digitar la variable Migrantes. Digite cero si no tiene.\",IF(AM56>C56,\" * La variable Migrantes no puede ser mayor al Total.\",\"\"))","v":""},null,null,null,null,null,null,null,{"$f":"IF(AND(C56>0,AL56=\"\"),1,IF(AL56>C56,1,0))","v":0},{"$f":"IF(AND(C56>0,AM56=\"\"),1,IF(AM56>C56,1,0))","v":0}]
[null,"Psicólogo/a",0,0,0,null,null,null,null,null,null,null,null,null,null,null,null,null,null,null,null,null,null,null,null,null,null,null,null,null,null,null,null,null,null,null,null,null,null,"",null,null,null,null,null,null,null,null,null,null,null,null,null,null,null,null,null,null,null,null,null,null,null,null,null,null,null,null,null,null,null,null,null,null,"","",null,null,null,null,null,null,null,0,0]
[null,"Enfermero/a",0,0,0,null,null,null,null,null,null,null,null,null,null,null,null,null,null,null,null,null,null,null,null,null,null,null,null,null,null,null,null,null,null,null,null,null,null,"",null,null,null,null,null,null,null,null,null,null,null,null,null,null,null,null,null,null,null,null,null,null,null,null,null,null,null,null,null,null,null,null,null,null,"","",null,null,null,null,null,null,null,0,0]
[null,"Trabajador/a Social",0,0,0,null,null,null,null,null,null,null,null,null,null,null,null,null,null,null,null,null,null,null,null,null,null,null,null,null,null,null,null,null,null,null,null,null,null,"",null,null,null,null,null,null,null,null,null,null,null,null,null,null,null,null,null,null,null,null,null,null,null,null,null,null,null,null,null,null,null,null,null,null,"","",null,null,null,null,null,null,null,0,0]
[null,"Otros Profesionales",0,0,0,null,null,null,null,null,null,null,null,null,null,null,null,null,null,null,null,null,null,null,null,null,null,null,null,null,null,null,null,null,null,null,null,null,null,"",null,null,null,null,null,null,null,null,null,null,null,null,null,null,null,null,null,null,null,null,null,null,null,null,null,null,null,null,null,null,null,null,null,null,"","",null,null,null,null,null,null,null,0,0]
["Examen Preliminar en Drogas para Adolescentes Imputados / Condenados ","Psicólogo/a",0,{"$f":"SUM(H61+J61+L61)","v":0},0,null,null,null,null,null,null,null,null,null,null,null,null,null,null,null,null,null,null,null,null,null,null,null,null,null,null,null,null,null,null,null,null,null,null,"",null,null,null,null,null,null,null,null,null,null,null,null,null,null,null,null,null,null,null,null,null,null,null,null,null,null,null,null,null,null,null,null,null,null,"","",null,null,null,null,null,null,null,0,0]
[null,"Trabajador/a Social",0,0,0,null,null,null,null,null,null,null,null,null,null,null,null,null,null,null,null,null,null,null,null,null,null,null,null,null,null,null,null,null,null,null,null,null,null,"",null,null,null,null,null,null,null,null,null,null,null,null,null,null,null,null,null,null,null,null,null,null,null,null,null,null,null,null,null,null,null,null,null,null,"","",null,null,null,null,null,null,null,0,0]
["Evaluación Clínica para Adolescentes Imputados con Consumo de Drogas","Médico/a",0,0,0,null,null,null,null,null,null,null,null,null,null,null,null,null,null,null,null,null,null,null,null,null,null,null,null,null,null,null,null,null,null,null,null,null,null,"",null,null,null,null,null,null,null,null,null,null,null,null,null,null,null,null,null,null,null,null,null,null,null,null,null,null,null,null,null,null,null,null,null,null,"","",null,null,null,null,null,null,null,0,0]
[null,"Médico/a Psiquiatra",0,0,0,null,null,null,null,null,null,null,null,null,null,null,null,null,null,null,null,null,null,null,null,null,null,null,null,null,null,null,null,null,null,null,null,null,null,"",null,null,null,null,null,null,null,null,null,null,null,null,null,null,null,null,null,null,null,null,null,null,null,null,null,null,null,null,null,null,null,null,null,null,"","",null,null,null,null,null,null,null,0,0]
[null,"Psicólogo/a",0,0,0,null,null,null,null,null,null,null,null,null,null,null,null,null,null,null,null,null,null,null,null,null,null,null,null,null,null,null,null,null,null,null,null,null,null,"",null,null,null,null,null,null,null,null,null,null,null,null,null,null,null,null,null,null,null,null,null,null,null,null,null,null,null,null,null,null,null,null,null,null,"","",null,null,null,null,null,null,null,0,0]
[null,"Trabajador/a Social",0,0,0,null,null,null,null,null,null,null,null,null,null,null,null,null,null,null,null,null,null,null,null,null,null,null,null,null,null,null,null,null,null,null,null,null,null,"",null,null,null,null,null,null,null,null,null,null,null,null,null,null,null,null,null,null,null,null,null,null,null,null,null,null,null,null,null,null,null,null,null,null,"","",null,null,null,null,null,null,null,0,0]
["Examen Mental Preliminar a Personas Imputadas","Médico/a",0,{"$f":"SUM(H67+J67+L67+N67+P67+R67+T67+V67+X67+Z67+AB67+AD67+AF67+AH67+AJ67)","v":0},{"$f":"SUM(I67+K67+M67+O67+Q67+S67+U67+W67+Y67+AA67+AC67+AE67+AG67+AI67+AK67)","v":0},null,null,null,null,null,null,null,null,null,null,null,null,null,null,null,null,null,null,null,null,null,null,null,null,null,null,null,null,null,null,null,null,null,null,"",null,null,null,null,null,null,null,null,null,null,null,null,null,null,null,null,null,null,null,null,null,null,null,null,null,null,null,null,null,null,null,null,null,null,"","",null,null,null,null,null,null,null,0,0]
[null,"Médico/a Psiquiatra",0,0,0,null,null,null,null,null,null,null,null,null,null,null,null,null,null,null,null,null,null,null,null,null,null,null,null,null,null,null,null,null,null,null,null,null,null,"",null,null,null,null,null,null,null,null,null,null,null,null,null,null,null,null,null,null,null,null,null,null,null,null,null,null,null,null,null,null,null,null,null,null,"","",null,null,null,null,null,null,null,0,0]
["Peritaje Drogas","Médico/a",0,0,0,null,null,null,null,null,null,null,null,null,null,null,null,null,null,null,null,null,null,null,null,null,null,null,null,null,null,null,null,null,null,null,null,null,null,"",null,null,null,null,null,null,null,null,null,null,null,null,null,null,null,null,null,null,null,null,null,null,null,null,null,null,null,null,null,null,null,null,null,null,"","",null,null,null,null,null,null,null,0,0]
[null,"Médico/a Psiquiatra",0,0,0,null,null,null,null,null,null,null,null,null,null,null,null,null,null,null,null,null,null,null,null,null,null,null,null,null,null,null,null,null,null,null,null,null,null,"",null,null,null,null,null,null,null,null,null,null,null,null,null,null,null,null,null,null,null,null,null,null,null,null,null,null,null,null,null,null,null,null,null,null,"","",null,null,null,null,null,null,null,0,0]
["Atención a Agresores Derivados de Tribunales (Ley de Violencia Intrafamiliar)","Médico/a",0,0,0,null,null,null,null,null,null,null,null,null,null,null,null,null,null,null,null,null,null,null,null,null,null,null,null,null,null,null,null,null,null,null,null,null,null,"",null,null,null,null,null,null,null,null,null,null,null,null,null,null,null,null,null,null,null,null,null,null,null,null,null,null,null,null,null,null,null,null,null,null,"","",null,null,null,null,null,null,null,0,0]
[null,"Médico/a Psiquiatra",0,0,0,null,null,null,null,null,null,null,null,null,null,null,null,null,null,null,null,null,null,null,null,null,null,null,null,null,null,null,null,null,null,null,null,null,null,"",null,null,null,null,null,null,null,null,null,null,null,null,null,null,null,null,null,null,null,null,null,null,null,null,null,null,null,null,null,null,null,null,null,null,"","",null,null,null,null,null,null,null,0,0]
[null,"Psicólogo/a",0,0,0,null,null,null,null,null,null,null,null,null,null,null,null,null,null,null,null,null,null,null,null,null,null,null,null,null,null,null,null,null,null,null,null,null,null,"",null,null,null,null,null,null,null,null,null,null,null,null,null,null,null,null,null,null,null,null,null,null,null,null,null,null,null,null,null,null,null,null,null,null,"","",null,null,null,null,null,null,null,0,0]
[null,"Enfermero/a",0,0,0,null,null,null,null,null,null,null,null,null,null,null,null,null,null,null,null,null,null,null,null,null,null,null,null,null,null,null,null,null,null,null,null,null,null,"",null,null,null,null,null,null,null,null,null,null,null,null,null,null,null,null,null,null,null,null,null,null,null,null,null,null,null,null,null,null,null,null,null,null,"","",null,null,null,null,null,null,null,0,0]
[null,"Trabajador/a Social",0,0,0,null,null,null,null,null,null,null,null,null,null,null,null,null,null,null,null,null,null,null,null,null,null,null,null,null,null,null,null,null,null,null,null,null,null,"",null,null,null,null,null,null,null,null,null,null,null,null,null,null,null,null,null,null,null,null,null,null,null,null,null,null,null,null,null,null,null,null,null,null,"","",null,null,null,null,null,null,null,0,0]
[null,"Otros Profesionales",0,0,0,null,null,null,null,null,null,null,null,null,null,null,null,null,null,null,null,null,null,null,null,null,null,null,null,null,null,null,null,null,null,null,null,null,null,"",null,null,null,null,null,null,null,null,null,null,null,null,null,null,null,null,null,null,null,null,null,null,null,null,null,null,null,null,null,null,null,null,null,null,"","",null,null,null,null,null,null,null,0,0]
["SECCIÓN B.4: DISPOSITIVOS DE SALUD MENTAL"]
["TIPO DE DISPOSITIVO","Nº DE PERSONAS ATENDIDAS",null,"DÍAS DE ESTADA DE PERSONAS ATENDIDAS EN EL MES",null,"Nº DE EGRESOS",null,"Nº DE PERSONAS EN LISTA DE ESPERA"]
[null,"Menos de 20 años","20 y más años","Menos de 20 años","20 y más años","Menos de 20 años","20 y más años","Menos de 20 años","20 y más años"]
["Hogar Protegido  "]
["Residencia Protegida"]
["Hospital Psiquiátrico Diurno"]
["Centro Privativo de Libertad (SENAME)"]
["SECCIÓN C.1: ACTIVIDADES DE COORDINACION SECTORIAL, INTERSECTORIAL Y COMUNITARIA"]
["ACTIVIDADES","TOTAL DE PARTICIPANTES","Nº REUNIONES / SESIONES","Nº INSTITUCIONES,  ORGANIZACIONES  PARTICIPANTES"]
["Trabajo Intersectorial"]
["Trabajo con Organizaciones Comunitarias de Base"]
["Trabajo con Organizaciones de Usuarios y Familiares"]
["Colaboración con Grupo de Autoayuda"]
["Reuniones con Instituciones del Sector Salud Programa Acompañamiento Psicosocial"]
["Reuniones con Instituciones del Intersector Acompañamiento Psicosocial"]
["Reuniones con Organizaciones Comunitarias Acompañamiento Psicosocial"]
["SECCIÓN C.2: INFORMES A TRIBUNALES"]
["TRIBUNALES","Menos de 18 años","18 y más años","Nº informes","ASISTENCIA A TRIBUNALES"]
[null,null,null,null,"Nº de profesionales","Nº de veces"]
["De Familia"]
["Penales"]
["Civiles"]
["Policía Local"]
["Laborales"]
["TOTAL",{"$f":"SUM(B96:B100)","v":0},{"$f":"SUM(C96:C100)","v":0},{"$f":"SUM(D96:D100)","v":0},{"$f":"SUM(E96:E100)","v":0},{"$f":"SUM(F96:F100)","v":0}]
["SECCIÓN D: PLANES Y EVALUACIONES PROGRAMA DE ACOMPAÑAMIENTO PSICOSOCIAL EN ATENCIÓN PRIMARIA"]
["ACTIVIDAD","TOTAL               ",null,null,"RANGO ETARIO Y SEXO",null,null,null,null,null,null,null,null,null,"Pueblos Originarios","Migrantes"]
[null,null,null,null,"0 - 4 años",null,"5 - 9 años",null,"10 - 14 años",null,"15 - 19 años",null,"20 - 24 años"]
[null,"Ambos Sexos","Hombres","Mujeres","Hombres","Mujeres","Hombres","Mujeres","Hombres","Mujeres","Hombres","Mujeres","Hombres","Mujeres"]
["Plan de Acompañamiento Elaborados",{"$f":"SUM(C106:D106)","v":0},{"$f":"SUM(E106+G106+I106+K106+M106)","v":0},{"$f":"SUM(F106+H106+J106+L106+N106)","v":0},null,null,null,null,null,null,null,null,null,null,null,null,{"$f":"BW106&BX106","v":""},null,null,null,null,null,null,null,null,null,null,null,null,null,null,null,null,null,null,null,null,null,null,null,null,null,null,null,null,null,null,null,null,null,null,null,null,null,null,null,null,null,null,null,null,null,null,null,null,null,null,null,null,null,null,null,null,null,{"$f":"IF(AND(B106>0,O106=\"\"),\" * No olvide digitar la variable Pueblos Originarios. Digite cero si no tiene.\",IF(O106>B106,\"* La variable Pueblos Originarios no puede ser mayor al Total.\",\"\"))","v":""},{"$f":"IF(AND(B106>0,P106=\"\"),\" * No olvide digitar la variable Migrantes. Digite cero si no tiene.\",IF(P106>B106,\"* La variable Migrantes no puede ser mayor al Total.\",\"\"))","v":""},null,null,null,null,null,null,null,{"$f":"IF(AND(B106>0,O106=\"\"),1,IF(O106>B106,1,0))","v":0},{"$f":"IF(AND(B106>0,P106=\"\"),1,IF(P106>B106,1,0))","v":0}]
["Plan de Acompañamiento con Mejoría al Egreso del Programa",{"$f":"SUM(C107:D107)","v":0},0,0,null,null,null,null,null,null,null,null,null,null,null,null,{"$f":"BW107&BX107","v":""},null,null,null,null,null,null,null,null,null,null,null,null,null,null,null,null,null,null,null,null,null,null,null,null,null,null,null,null,null,null,null,null,null,null,null,null,null,null,null,null,null,null,null,null,null,null,null,null,null,null,null,null,null,null,null,null,null,{"$f":"IF(AND(B107>0,O107=\"\"),\" * No olvide digitar la variable Pueblos Originarios. Digite cero si no tiene.\",IF(O107>B107,\"* La variable Pueblos Originarios no puede ser mayor al Total.\",\"\"))","v":""},{"$f":"IF(AND(B107>0,P107=\"\"),\" * No olvide digitar la variable Migrantes. Digite cero si no tiene.\",IF(P107>B107,\"* La variable Migrantes no puede ser mayor al Total.\",\"\"))","v":""},null,null,null,null,null,null,null,{"$f":"IF(AND(B107>0,O107=\"\"),1,IF(O107>B107,1,0))","v":0},{"$f":"IF(AND(B107>0,P107=\"\"),1,IF(P107>B107,1,0))","v":0}]
["Evaluaciones Participativas Realizadas al Egreso del Programa",{"$f":"SUM(C108:D108)","v":0},0,0,null,null,null,null,null,null,null,null,null,null,null,null,"",null,null,null,null,null,null,null,null,null,null,null,null,null,null,null,null,null,null,null,null,null,null,null,null,null,null,null,null,null,null,null,null,null,null,null,null,null,null,null,null,null,null,null,null,null,null,null,null,null,null,null,null,null,null,null,null,null,"","",null,null,null,null,null,null,null,0,0]
["SECCIÓN E: PERSONAS CON EVALUACIÓN Y CONFIRMACIÓN DIAGNOSTICA EN APS"]
["N° DE ENTREVISTAS","REALIZADA POR",null,null,"N° Confirmaciones Diagnósticas"]
[null,"1 Profesional","2 Profesionales","3 Profesionales"]
["TOTAL"]
["SECCIÓN F: EVALUACIONES PROGRAMA PLAN NACIONAL DE DEMENCIA"]
["ACTIVIDAD","TOTAL               ",null,null,"Aumento",null,"Mantención",null,"Disminución"]
[null,"Ambos Sexos","Hombres","Mujeres","Hombres","Mujeres","Hombres","Mujeres","Hombres","Mujeres"]
["Personas con Demencia con Reevaluación Deterioro GLOBAL GDS REISBERG",{"$f":"SUM(C116:D116)","v":0},{"$f":"+E116+G116+I116","v":0},0]
["Cuidadores Personas con Demencia con Reevaluación Sobrecarga del Cuidado",{"$f":"SUM(C117:D117)","v":0},0,0]
["Cuidadores de Personas con Demencia con Evaluación de Satisfacción Usuaria del Proceso de Intervención",{"$f":"SUM(C118:D118)","v":0},0,0]
["SECCIÓN G: EVALUACIÓN PROGRAMA DE APOYO A LA SALUD MENTAL INFANTIL (PASMI)"]
["ACTIVIDAD","TOTAL","5 - 9 AÑOS",null,"Evaluadores",null,"Cumplimiento de criterios diagnósticos según  Evaluación Diagnóstica Integral (EDI)"]
[null,null,"Hombres","Mujeres","Equipo biopsicosocial","Equipo psicosocial","Requiere tratamiento en APS","Requiere tratamiento en nivel secundario","No Requiere tratamiento"]
["Evaluación Diagnóstica Integral (EDI)",{"$f":"SUM(C122:D122)","v":0}]
["SECCIÓN H: CONSULTA DE SALUD MENTAL POR EL NIVEL DE ESPECIALIDAD"]
["ACTIVIDAD","PROFESIONAL","TOTAL               ",null,null,"RANGO ETARIO Y SEXO",null,null,null,null,null,null,null,null,null,null,null,null,null,null,null,null,null,null,null,null,null,null,null,null,null,null,null,null,null,null,null,null,null,"Beneficiarios","Niños, Niñas, Adolescentes y Jóvenes  SENAME","Niños, Niñas, Adolescentes y Jóvenes Mejor Niñez","Pueblos Originarios","Migrantes"]
[null,null,null,null,null,"0 - 4 años",null,"5 - 9 años",null,"10 - 14 años",null,"15 - 19 años",null,"20 - 24 años",null,"25 - 29 años",null,"30 - 34 años",null,"35 - 39 años",null,"40 - 44 años",null,"45 - 49 años",null,"50 - 54 años",null,"55 - 59 años",null,"60 - 64 años",null,"65 - 69 años",null,"70 - 74 años",null,"75 - 79 años",null,"80 y mas años"]
[null,null,"Ambos Sexos","Hombres","Mujeres","Hombres","Mujeres","Hombres","Mujeres","Hombres","Mujeres","Hombres","Mujeres","Hombres","Mujeres","Hombres","Mujeres","Hombres","Mujeres","Hombres","Mujeres","Hombres","Mujeres","Hombres","Mujeres","Hombres","Mujeres","Hombres","Mujeres","Hombres","Mujeres","Hombres","Mujeres","Hombres","Mujeres","Hombres","Mujeres","Hombres","Mujeres"]
["Consulta Nueva Salud Mental (Ingreso)","Uniprofesional",{"$f":"SUM(D127+E127)","v":0},{"$f":"SUM(F127+H127+J127+L127+N127+P127+R127+T127+V127+X127+Z127+AB127+AD127+AF127+AH127+AJ127+AL127)","v":0},0,null,null,null,null,null,null,null,null,null,null,null,null,null,null,null,null,null,null,null,null,null,null,null,null,null,null,null,null,null,null,null,null,null,null,null,null,null,null,null,{"$f":"BW127&BX127&BY127&BZ127&CA127&CB127&CC127","v":""},null,null,null,null,null,null,null,null,null,null,null,null,null,null,null,null,null,null,null,null,null,null,null,null,null,null,null,null,null,{"$f":"IF(AND(C127>0,AN127=\"\"),\" No olvide digitar la variable Beneficiarios. Digite cero si no tiene.\",IF(AN127>C127,\" *  La variable Beneficiarios no puede ser mayor al Total.\",\"\"))","v":""},{"$f":"IF(AND(C127>0,AO127=\"\"),\" No olvide digitar la variable Niños, Niñas, adolescentes y jóvenes SENAME. Digite cero si no tiene.\",IF(AO127>C127,\" *  La variable Niños, Niñas, adolescentes y jóvenes SENAME no puede ser mayor al Total.\",\"\"))","v":""},{"$f":"IF(AND(C127>0,AP127=\"\"),\" No olvide digitar la variable Niños, Niñas, adolescentes y jóvenes mejor Niñez. Digite cero si no tiene.\",IF(AP127>C127,\" *  La variable Niños, Niñas, adolescentes y jóvenes mejor Niñez no puede ser mayor al Total.\",\"\"))","v":""},{"$f":"IF(AND(C127>0,AQ127=\"\"),\" No olvide digitar la variable Pueblos originarios. Digite cero si no tiene.\",IF(AQ127>C127,\" *  La variable Pueblos originarios no puede ser mayor al Total.\",\"\"))","v":""},{"$f":"IF(AND(C127>0,AR127=\"\"),\" No olvide digitar la variable Migrantes. Digite cero si no tiene.\",IF(AR127>C127,\" *  La variable Migrantes no puede ser mayor al Total.\",\"\"))","v":""},null,null,null,null,{"$f":"IF(AND(C127>0,AN127=\"\"),1,IF(AN127>C127,1,0))","v":0},{"$f":"IF(AND(C127>0,AO127=\"\"),1,IF(AO127>C127,1,0))","v":0},{"$f":"IF(AND(C127>0,AP127=\"\"),1,IF(AP127>C127,1,0))","v":0},{"$f":"IF(AND(C127>0,AQ127=\"\"),1,IF(AQ127>C127,1,0))","v":0},{"$f":"IF(AND(C127>0,AR127=\"\"),1,IF(AR127>C127,1,0))","v":0}]
[null,"Dos Profesionales",{"$f":"SUM(D128+E128)","v":0},0,0,null,null,null,null,null,null,null,null,null,null,null,null,null,null,null,null,null,null,null,null,null,null,null,null,null,null,null,null,null,null,null,null,null,null,null,null,null,null,null,{"$f":"BW128&BX128&BY128&BZ128&CA128&CB128&CC128","v":""},null,null,null,null,null,null,null,null,null,null,null,null,null,null,null,null,null,null,null,null,null,null,null,null,null,null,null,null,null,{"$f":"IF(AND(C128>0,AN128=\"\"),\" No olvide digitar la variable Beneficiarios. Digite cero si no tiene.\",IF(AN128>C128,\" *  La variable Beneficiarios no puede ser mayor al Total.\",\"\"))","v":""},{"$f":"IF(AND(C128>0,AO128=\"\"),\" No olvide digitar la variable Niños, Niñas, adolescentes y jóvenes SENAME. Digite cero si no tiene.\",IF(AO128>C128,\" *  La variable Niños, Niñas, adolescentes y jóvenes SENAME no puede ser mayor al Total.\",\"\"))","v":""},{"$f":"IF(AND(C128>0,AP128=\"\"),\" No olvide digitar la variable Niños, Niñas, adolescentes y jóvenes mejor Niñez. Digite cero si no tiene.\",IF(AP128>C128,\" *  La variable Niños, Niñas, adolescentes y jóvenes mejor Niñez no puede ser mayor al Total.\",\"\"))","v":""},{"$f":"IF(AND(C128>0,AQ128=\"\"),\" No olvide digitar la variable Pueblos originarios. Digite cero si no tiene.\",IF(AQ128>C128,\" *  La variable Pueblos originarios no puede ser mayor al Total.\",\"\"))","v":""},{"$f":"IF(AND(C128>0,AR128=\"\"),\" No olvide digitar la variable Migrantes. Digite cero si no tiene.\",IF(AR128>C128,\" *  La variable Migrantes no puede ser mayor al Total.\",\"\"))","v":""},null,null,null,null,{"$f":"IF(AND(C128>0,AN128=\"\"),1,IF(AN128>C128,1,0))","v":0},{"$f":"IF(AND(C128>0,AO128=\"\"),1,IF(AO128>C128,1,0))","v":0},{"$f":"IF(AND(C128>0,AP128=\"\"),1,IF(AP128>C128,1,0))","v":0},{"$f":"IF(AND(C128>0,AQ128=\"\"),1,IF(AQ128>C128,1,0))","v":0},{"$f":"IF(AND(C128>0,AR128=\"\"),1,IF(AR128>C128,1,0))","v":0}]
[null,"Multiprofesional",{"$f":"SUM(D129+E129)","v":0},0,0,null,null,null,null,null,null,null,null,null,null,null,null,null,null,null,null,null,null,null,null,null,null,null,null,null,null,null,null,null,null,null,null,null,null,null,null,null,null,null,"",null,null,null,null,null,null,null,null,null,null,null,null,null,null,null,null,null,null,null,null,null,null,null,null,null,null,null,null,null,"","","","","",null,null,null,null,0,0,0,0,0]
[null,"TOTAL",{"$f":"SUM(D130+E130)","v":0},0,0,{"$f":"SUM(F127:F129)","v":0},{"$f":"SUM(G127:G129)","v":0},0,0,0,0,0,0,0,0,0,0,0,0,0,0,0,0,0,0,0,0,0,0,0,0,0,0,0,0,0,0,0,0,0,0,{"$f":"SUM(AP127:AP129)","v":0},0,0]
["SECCIÓN I: RESCATE DE PACIENTES PROGRAMA SALUD MENTAL "]
["RANGO ETARIO","RESCATE EN DOMICILIO",null,null,null,null,"Compra de servicio (*)","Rescate Telefónico"]
[null,"TOTAL","Funcionario"]
[null,null,"Profesional","Técnico en Enfermería","Administrativo","Otro",null,"Desde el establecimiento","Compra de servicio (*)"]
["1 - 4 años",{"$f":"SUM(C135:F135)+H135","v":0}]
["5 - 9 años",{"$f":"SUM(C136:F136)+H136","v":0}]
["10 - 14 años",{"$f":"SUM(C137:F137)+H137","v":0}]
["15 - 19 años",0]
["20 - 24 años",{"$f":"SUM(C139:F139)+H139","v":0}]
["25 - 64 años",0]
["65 - 79 años",{"$f":"SUM(C141:F141)+H141","v":0}]
["80 y más años",{"$f":"SUM(C142:F142)+H142","v":0}]
["*No incluidos en REM A26 sección D."]
["SECCIÓN J: TIEMPOS DE ESPERA EN SALUD MENTAL DE APS"]
["TIEMPOS DE ESPERA ENTRE:","Número de días ","Número de personas atendidas "]
["Tamizaje y Primera Atención Salud Mental en APS (Individual o Grupal)"]
["Tamizaje y Confirmación Diagnóstica"]
["SECCIÓN K : SALUD MENTAL EN SITUACIONES DE EMERGENCIA O DESASTRE"]
["ACTIVIDAD","PROFESIONAL","TOTAL          ",null,null,"RANGO ETARIO Y SEXO",null,null,null,null,null,null,null,"Atenciones a funcionarios de la salud","Acciones en domicilio","Acciones en albergue/\nEspacio comunitario","Acciones no presenciales o remotas","Beneficiarios","Niños, Niñas, Adolescentes y Jóvenes Mejor Niñez","Niños, Niñas, Adolescentes y Jóvenes Población SENAME","Pueblos Originarios","Migrantes","TRANS"]
[null,null,null,null,null,"0 - 9 años",null,"10-19 años",null,"20-59 años",null,"60 y más años",null,null,null,null,null,null,null,null,null,null,"Masculino","Femenino"]
[null,null,"Ambos Sexos","Hombres","Mujeres","Hombres","Mujeres","Hombres","Mujeres","Hombres","Mujeres","Hombres","Mujeres"]
["Primera Ayuda Psicológica","Médico/a",{"$f":"SUM(D152:E152)","v":0},{"$f":"SUM(F152+H152+J152+L152)","v":0},{"$f":"SUM(G152+I152+K152+M152)","v":0},null,null,null,null,null,null,null,null,null,null,null,null,null,null,null,null,null,null,null,{"$f":"BW152&BX152&BY152&BZ152&CA152&CB152&CC152","v":""},null,null,null,null,null,null,null,null,null,null,null,null,null,null,null,null,null,null,null,null,null,null,null,null,null,null,null,null,null,null,null,null,null,null,null,null,null,null,null,null,null,null,null,null,null,null,null,null,null,{"$f":"IF(AND(C152>0,R152=\"\"),\" * No olvide digitar la variable Beneficiarios. Digite cero si no tiene.\",IF(R152>C152,\" * La variable Beneficiarios no puede ser mayor al Total.\",\"\"))","v":""},{"$f":"IF(AND(C152>0,S152=\"\"),\" * No olvide digitar la variable Niños, Niñas, Adolescentes y Jóvenes Mejor Niñez. Digite cero si no tiene.\",IF(S152>C152,\" * La variable Niños, Niñas, Adolescentes y Jóvenes Mejor Niñez no puede ser mayor al Total.\",\"\"))","v":""},{"$f":"IF(AND(C152>0,T152=\"\"),\" * No olvide digitar la variable Niños, Niñas, Adolescentes y Jóvenes SENAME. Digite cero si no tiene.\",IF(T152>C152,\" * La variable Niños, Niñas, Adolescentes y Jóvenes SENAME no puede ser mayor al Total.\",\"\"))","v":""},{"$f":"IF(AND(C152>0,U152=\"\"),\" * No olvide digitar la variable Pueblos Originarios. Digite cero si no tiene.\",IF(U152>C152,\" * La variable Pueblos Originarios no puede ser mayor al Total.\",\"\"))","v":""},{"$f":"IF(AND(C152>0,V152=\"\"),\" * No olvide digitar la variable Migrantes. Digite cero si no tiene.\",IF(V152>C152,\" * La variable Migrantes no puede ser mayor al Total.\",\"\"))","v":""},{"$f":"IF(AND(E152>0,OR(W152=\"\")),\" * No olvide digitar la variable Trans (Masculino). Digite cero si no tiene.\",IF((W152)>E152,\" * La variable Trans (Masculino) no puede ser mayor al Total Mujeres.\",\"\"))","v":""},{"$f":"IF(AND(D152>0,OR(X152=\"\")),\" * No olvide digitar la variable Trans (Femenino). Digite cero si no tiene.\",IF((X152)>D152,\" * La variable Trans (Femenino) no puede ser mayor al Total Hombres.\",\"\"))","v":""},null,null,{"$f":"IF(AND(C152>0,R152=\"\"),1,IF(R152>C152,1,0))","v":0},{"$f":"IF(AND(C152>0,S152=\"\"),1,IF(S152>C152,1,0))","v":0},{"$f":"IF(AND(C152>0,T152=\"\"),1,IF(T152>C152,1,0))","v":0},{"$f":"IF(AND(C152>0,U152=\"\"),1,IF(U152>C152,1,0))","v":0},{"$f":"IF(AND(C152>0,V152=\"\"),1,IF(V152>C152,1,0))","v":0},{"$f":"IF(AND(E152>0,OR(W152=\"\")),1,IF((W152)>E152,1,0))","v":0},{"$f":"IF(AND(D152>0,OR(X152=\"\")),1,IF((X152)>D152,1,0))","v":0}]
[null,"Profesional No Médico",{"$f":"SUM(D153:E153)","v":0},{"$f":"SUM(F153+H153+J153+L153)","v":0},{"$f":"SUM(G153+I153+K153+M153)","v":0},null,null,null,null,null,null,null,null,null,null,null,null,null,null,null,null,null,null,null,{"$f":"BW153&BX153&BY153&BZ153&CA153&CB153&CC153","v":""},null,null,null,null,null,null,null,null,null,null,null,null,null,null,null,null,null,null,null,null,null,null,null,null,null,null,null,null,null,null,null,null,null,null,null,null,null,null,null,null,null,null,null,null,null,null,null,null,null,{"$f":"IF(AND(C153>0,R153=\"\"),\" * No olvide digitar la variable Beneficiarios. Digite cero si no tiene.\",IF(R153>C153,\" * La variable Beneficiarios no puede ser mayor al Total.\",\"\"))","v":""},{"$f":"IF(AND(C153>0,S153=\"\"),\" * No olvide digitar la variable Niños, Niñas, Adolescentes y Jóvenes Mejor Niñez. Digite cero si no tiene.\",IF(S153>C153,\" * La variable Niños, Niñas, Adolescentes y Jóvenes Mejor Niñez no puede ser mayor al Total.\",\"\"))","v":""},{"$f":"IF(AND(C153>0,T153=\"\"),\" * No olvide digitar la variable Niños, Niñas, Adolescentes y Jóvenes SENAME. Digite cero si no tiene.\",IF(T153>C153,\" * La variable Niños, Niñas, Adolescentes y Jóvenes SENAME no puede ser mayor al Total.\",\"\"))","v":""},{"$f":"IF(AND(C153>0,U153=\"\"),\" * No olvide digitar la variable Pueblos Originarios. Digite cero si no tiene.\",IF(U153>C153,\" * La variable Pueblos Originarios no puede ser mayor al Total.\",\"\"))","v":""},{"$f":"IF(AND(C153>0,V153=\"\"),\" * No olvide digitar la variable Migrantes. Digite cero si no tiene.\",IF(V153>C153,\" * La variable Migrantes no puede ser mayor al Total.\",\"\"))","v":""},{"$f":"IF(AND(E153>0,OR(W153=\"\")),\" * No olvide digitar la variable Trans (Masculino). Digite cero si no tiene.\",IF((W153)>E153,\" * La variable Trans (Masculino) no puede ser mayor al Total Mujeres.\",\"\"))","v":""},{"$f":"IF(AND(D153>0,OR(X153=\"\")),\" * No olvide digitar la variable Trans (Femenino). Digite cero si no tiene.\",IF((X153)>D153,\" * La variable Trans (Femenino) no puede ser mayor al Total Hombres.\",\"\"))","v":""},null,null,{"$f":"IF(AND(C153>0,R153=\"\"),1,IF(R153>C153,1,0))","v":0},{"$f":"IF(AND(C153>0,S153=\"\"),1,IF(S153>C153,1,0))","v":0},{"$f":"IF(AND(C153>0,T153=\"\"),1,IF(T153>C153,1,0))","v":0},{"$f":"IF(AND(C153>0,U153=\"\"),1,IF(U153>C153,1,0))","v":0},{"$f":"IF(AND(C153>0,V153=\"\"),1,IF(V153>C153,1,0))","v":0},{"$f":"IF(AND(E153>0,OR(W153=\"\")),1,IF((W153)>E153,1,0))","v":0},{"$f":"IF(AND(D153>0,OR(X153=\"\")),1,IF((X153)>D153,1,0))","v":0}]
[null,"Técnico en Enfermería",0,{"$f":"SUM(F154+H154+J154+L154)","v":0},0,null,null,null,null,null,null,null,null,null,null,null,null,null,null,null,null,null,null,null,"",null,null,null,null,null,null,null,null,null,null,null,null,null,null,null,null,null,null,null,null,null,null,null,null,null,null,null,null,null,null,null,null,null,null,null,null,null,null,null,null,null,null,null,null,null,null,null,null,null,"","","","","","","",null,null,0,0,0,0,0,0,0]
[null,"TOTAL",{"$f":"SUM(C152:C154)","v":0},{"$f":"SUM(D152:D154)","v":0},0,0,0,0,0,0,0,0,0,0,0,0,0,{"$f":"SUM(R152:R154)","v":0},{"$f":"SUM(S152:S154)","v":0},0,0,0,0,0]
["Consulta de Salud Mental Asociada a Emergencia o Desastre","Médico/a",{"$f":"SUM(D156:E156)","v":0},{"$f":"SUM(F156+H156+J156+L156)","v":0},{"$f":"SUM(G156+I156+K156+M156)","v":0},null,null,null,null,null,null,null,null,null,null,null,null,null,null,null,null,null,null,null,"",null,null,null,null,null,null,null,null,null,null,null,null,null,null,null,null,null,null,null,null,null,null,null,null,null,null,null,null,null,null,null,null,null,null,null,null,null,null,null,null,null,null,null,null,null,null,null,null,null,{"$f":"IF(AND(C156>0,R156=\"\"),\" * No olvide digitar la variable Beneficiarios. Digite cero si no tiene.\",IF(R156>C156,\" * La variable Beneficiarios no puede ser mayor al Total.\",\"\"))","v":""},{"$f":"IF(AND(C156>0,S156=\"\"),\" * No olvide digitar la variable Niños, Niñas, Adolescentes y Jóvenes Mejor Niñez. Digite cero si no tiene.\",IF(S156>C156,\" * La variable Niños, Niñas, Adolescentes y Jóvenes Mejor Niñez no puede ser mayor al Total.\",\"\"))","v":""},{"$f":"IF(AND(C156>0,T156=\"\"),\" * No olvide digitar la variable Niños, Niñas, Adolescentes y Jóvenes SENAME. Digite cero si no tiene.\",IF(T156>C156,\" * La variable Niños, Niñas, Adolescentes y Jóvenes SENAME no puede ser mayor al Total.\",\"\"))","v":""},{"$f":"IF(AND(C156>0,U156=\"\"),\" * No olvide digitar la variable Pueblos Originarios. Digite cero si no tiene.\",IF(U156>C156,\" * La variable Pueblos Originarios no puede ser mayor al Total.\",\"\"))","v":""},{"$f":"IF(AND(C156>0,V156=\"\"),\" * No olvide digitar la variable Migrantes. Digite cero si no tiene.\",IF(V156>C156,\" * La variable Migrantes no puede ser mayor al Total.\",\"\"))","v":""},{"$f":"IF(AND(E156>0,OR(W156=\"\")),\" * No olvide digitar la variable Trans (Masculino). Digite cero si no tiene.\",IF((W156)>E156,\" * La variable Trans (Masculino) no puede ser mayor al Total Mujeres.\",\"\"))","v":""},{"$f":"IF(AND(D156>0,OR(X156=\"\")),\" * No olvide digitar la variable Trans (Femenino). Digite cero si no tiene.\",IF((X156)>D156,\" * La variable Trans (Femenino) no puede ser mayor al Total Hombres.\",\"\"))","v":""},null,null,{"$f":"IF(AND(C156>0,R156=\"\"),1,IF(R156>C156,1,0))","v":0},{"$f":"IF(AND(C156>0,S156=\"\"),1,IF(S156>C156,1,0))","v":0},{"$f":"IF(AND(C156>0,T156=\"\"),1,IF(T156>C156,1,0))","v":0},{"$f":"IF(AND(C156>0,U156=\"\"),1,IF(U156>C156,1,0))","v":0},{"$f":"IF(AND(C156>0,V156=\"\"),1,IF(V156>C156,1,0))","v":0},{"$f":"IF(AND(E156>0,OR(W156=\"\")),1,IF((W156)>E156,1,0))","v":0},{"$f":"IF(AND(D156>0,OR(X156=\"\")),1,IF((X156)>D156,1,0))","v":0}]
[null,"Profesional No Médico",{"$f":"SUM(D157:E157)","v":0},{"$f":"SUM(F157+H157+J157+L157)","v":0},{"$f":"SUM(G157+I157+K157+M157)","v":0},null,null,null,null,null,null,null,null,null,null,null,null,null,null,null,null,null,null,null,"",null,null,null,null,null,null,null,null,null,null,null,null,null,null,null,null,null,null,null,null,null,null,null,null,null,null,null,null,null,null,null,null,null,null,null,null,null,null,null,null,null,null,null,null,null,null,null,null,null,"","","","","","","",null,null,0,0,0,0,0,0,0]
[null,"Técnico en Enfermería",{"$f":"SUM(D158:E158)","v":0},{"$f":"SUM(F158+H158+J158+L158)","v":0},0,null,null,null,null,null,null,null,null,null,null,null,null,null,null,null,null,null,null,null,"",null,null,null,null,null,null,null,null,null,null,null,null,null,null,null,null,null,null,null,null,null,null,null,null,null,null,null,null,null,null,null,null,null,null,null,null,null,null,null,null,null,null,null,null,null,null,null,null,null,"","","","","","","",null,null,0,0,0,0,0,0,0]
[null,"TOTAL",{"$f":"SUM(D159:E159)","v":0},{"$f":"SUM(F159+H159+J159+L159)","v":0},0,{"$f":"SUM(F156:F158)","v":0},0,0,0,0,0,0,0,0,0,0,0,{"$f":"SUM(R156:R158)","v":0},{"$f":"SUM(S156:S158)","v":0},0,0,0,0,0]
["Intervención Psicosocial Grupal",null,{"$f":"SUM(D160:E160)","v":0},{"$f":"SUM(F160+H160+J160+L160)","v":0},{"$f":"SUM(G160+I160+K160+M160)","v":0},null,null,null,null,null,null,null,null,null,null,null,null,null,null,null,null,null,null,null,{"$f":"BW160&BX160&BY160&BZ160&CA160&CB160&CC160","v":""},null,null,null,null,null,null,null,null,null,null,null,null,null,null,null,null,null,null,null,null,null,null,null,null,null,null,null,null,null,null,null,null,null,null,null,null,null,null,null,null,null,null,null,null,null,null,null,null,null,{"$f":"IF(AND(C160>0,R160=\"\"),\" * No olvide digitar la variable Beneficiarios. Digite cero si no tiene.\",IF(R160>C160,\" * La variable Beneficiarios no puede ser mayor al Total.\",\"\"))","v":""},{"$f":"IF(AND(C160>0,S160=\"\"),\" * No olvide digitar la variable Niños, Niñas, Adolescentes y Jóvenes Mejor Niñez. Digite cero si no tiene.\",IF(S160>C160,\" * La variable Niños, Niñas, Adolescentes y Jóvenes Mejor Niñez no puede ser mayor al Total.\",\"\"))","v":""},{"$f":"IF(AND(C160>0,T160=\"\"),\" * No olvide digitar la variable Niños, Niñas, Adolescentes y Jóvenes SENAME. Digite cero si no tiene.\",IF(T160>C160,\" * La variable Niños, Niñas, Adolescentes y Jóvenes SENAME no puede ser mayor al Total.\",\"\"))","v":""},{"$f":"IF(AND(C160>0,U160=\"\"),\" * No olvide digitar la variable Pueblos Originarios. Digite cero si no tiene.\",IF(U160>C160,\" * La variable Pueblos Originarios no puede ser mayor al Total.\",\"\"))","v":""},{"$f":"IF(AND(C160>0,V160=\"\"),\" * No olvide digitar la variable Migrantes. Digite cero si no tiene.\",IF(V160>C160,\" * La variable Migrantes no puede ser mayor al Total.\",\"\"))","v":""},{"$f":"IF(AND(E160>0,OR(W160=\"\")),\" * No olvide digitar la variable Trans (Masculino). Digite cero si no tiene.\",IF((W160)>E160,\" * La variable Trans (Masculino) no puede ser mayor al Total Mujeres.\",\"\"))","v":""},{"$f":"IF(AND(D160>0,OR(X160=\"\")),\" * No olvide digitar la variable Trans (Femenino). Digite cero si no tiene.\",IF((X160)>D160,\" * La variable Trans (Femenino) no puede ser mayor al Total Hombres.\",\"\"))","v":""},null,null,{"$f":"IF(AND(C160>0,R160=\"\"),1,IF(R160>C160,1,0))","v":0},{"$f":"IF(AND(C160>0,S160=\"\"),1,IF(S160>C160,1,0))","v":0},{"$f":"IF(AND(C160>0,T160=\"\"),1,IF(T160>C160,1,0))","v":0},{"$f":"IF(AND(C160>0,U160=\"\"),1,IF(U160>C160,1,0))","v":0},{"$f":"IF(AND(C160>0,V160=\"\"),1,IF(V160>C160,1,0))","v":0},{"$f":"IF(AND(E160>0,OR(W160=\"\")),1,IF((W160)>E160,1,0))","v":0},{"$f":"IF(AND(D160>0,OR(X160=\"\")),1,IF((X160)>D160,1,0))","v":0}]
["SECCIÓN K.1: ACTIVIDADES DE COORDINACION EN SITUACIONES DE EMERGENCIA Y DESASTRE"]
["ACTIVIDADES","TOTAL DE PARTICIPANTES","\nNº Reuniones / Sesiones","Nº Instituciones, Organizaciones que participan"]
[]
["Trabajo Intersectorial"]
["Trabajo Sectorial"]
["Actividades Comunitarias"]
[]
[]
[]
[]
[]
[]
[]
[]
[]
[]
[]
[]
[]
[]
[]
[]
[]
[]
[]
[]
[]
[]
[]
[]
[]
[]
[]
[]
[]
[]
[{"$f":"SUM(C12:C26,B30:B32,E30:E32,B36:B38,E36:E38,C41:C44,C49:C50,C55:C76,B80:I83,B86:D92,B101:F101,B106:B108,B112:E112,B116:B118,B122,C127:C130,B135:B142,B146:C147,C152:C160,B164:D166)","v":0},{"$f":"SUM(CF12:CM160)","v":0}]

{"sheet":"A07","index":7,"n_rows":249,"n_cols":71,"rows_kept":249,"cut":false,"hidden":false,"merged":[[5,0,5,29],[8,0,10,0],[8,1,8,21],[8,22,8,29],[8,30,9,31],[9,1,10,1],[9,2,9,18],[9,19,10,19],[9,20,9,21],[9,22,9,25],[73,23,73,24],[73,25,73,26],[73,27,73,28],[73,29,74,29],[73,30,73,31],[73,32,73,34],[9,26,9,29],[73,0,74,0],[73,1,73,4],[73,5,73,8],[73,9,73,12],[73,13,73,15],[73,16,73,17],[73,18,73,19],[73,20,73,21],[73,22,74,22],[157,37,157,38],[159,0,159,1],[160,0,163,0],[156,42,158,42],[157,5,157,6],[157,7,157,8],[157,9,157,10],[157,11,157,12],[157,13,157,14],[157,15,157,16],[157,17,157,18],[157,19,157,20],[157,21,157,22],[156,0,158,1],[156,2,157,4],[156,5,156,38],[156,39,158,39],[156,40,158,40],[156,41,158,41],[157,23,157,24],[157,25,157,26],[157,27,157,28],[157,29,157,30],[164,0,164,1],[165,0,165,1],[166,0,166,1],[167,0,167,1],[168,0,168,1],[169,0,169,1],[157,31,157,32],[157,33,157,34],[157,35,157,36],[170,0,170,1],[172,0,174,0],[172,1,174,1],[172,2,173,4],[172,5,172,38],[172,39,174,39],[173,15,173,16],[173,17,173,18],[173,19,173,20],[173,21,173,22],[172,40,173,41],[172,42,174,42],[172,43,174,43],[172,44,174,44],[172,45,174,45],[173,5,173,6],[173,7,173,8],[173,9,173,10],[173,11,173,12],[173,13,173,14],[173,35,173,36],[173,37,173,38],[173,33,173,34],[175,0,176,0],[177,0,179,0],[180,0,181,0],[182,0,183,0],[173,23,173,24],[173,25,173,26],[173,27,173,28],[173,29,173,30],[173,31,173,32],[184,0,185,0],[187,0,189,1],[187,2,188,4],[187,5,187,32],[187,33,187,36],[187,37,189,37],[188,19,188,20],[188,21,188,22],[188,23,188,24],[188,25,188,26],[187,38,187,39],[187,40,189,40],[187,41,189,41],[188,5,188,6],[188,7,188,8],[188,9,188,10],[188,11,188,12],[188,13,188,14],[188,15,188,16],[188,17,188,18],[196,0,197,0],[198,0,199,0],[188,36,189,36],[188,38,189,38],[188,39,189,39],[190,0,191,0],[192,0,193,0],[194,0,195,0],[188,27,188,28],[188,29,188,30],[188,31,188,32],[188,33,189,33],[188,34,189,34],[188,35,189,35]]}
["SERVICIO DE SALUD"]
[{"$f":"CONCATENATE(\"COMUNA: \",NOMBRE!B2,\" - \",\"( \",NOMBRE!C2,NOMBRE!D2,NOMBRE!E2,NOMBRE!F2,NOMBRE!G2,\" )\")","v":"COMUNA:  - (  )"}]
[{"$f":"CONCATENATE(\"ESTABLECIMIENTO/ESTRATEGIA: \",NOMBRE!B3,\" - \",\"( \",NOMBRE!C3,NOMBRE!D3,NOMBRE!E3,NOMBRE!F3,NOMBRE!G3,NOMBRE!H3,\" )\")","v":"ESTABLECIMIENTO/ESTRATEGIA:  - (  )"}]
[{"$f":"CONCATENATE(\"MES: \",NOMBRE!B6,\" - \",\"( \",NOMBRE!C6,NOMBRE!D6,\" )\")","v":"MES:  - (  )"}]
[{"$f":"CONCATENATE(\"AÑO: \",NOMBRE!B7)","v":"AÑO: 2024"}]
["REM-07.  ATENCIÓN  DE ESPECIALIDADES "]
[]
["SECCIÓN A : CONSULTAS MÉDICAS DE ESPECIALIDAD"]
["ESPECIALIDADES   Y  SUB-ESPECIALIDADES","CONSULTAS Y CONTROLES MÉDICOS",null,null,null,null,null,null,null,null,null,null,null,null,null,null,null,null,null,null,null,null,"CONSULTAS NUEVAS SEGÚN ORIGEN",null,null,null,null,null,null,null,"Consultas de Especialidades resueltas por Médico General"]
[null,"TOTAL               ","RANGO ETARIO",null,null,null,null,null,null,null,null,null,null,null,null,null,null,null,null,"Beneficiarios","Por Sexo",null,"Menos 15 años",null,null,null,"De 15 y más años"]
[null,null,"0 - 4 años","5 - 9 años","10 - 14 años","15 - 19 años","20 - 24 años","25 - 29 años","30 - 34 años","35 - 39 años","40 - 44 años","45 - 49 años","50 - 54 años","55 - 59 años","60 - 64 años","65 - 69 años","70 - 74 años","75 - 79 años","80 y más años",null,"Hombres","Mujeres","Total","APS","CAE/CDT/CRS/Hospitalización ","Urgencia ","Total","APS","CAE/CDT/CRS/Hospitalización ","Urgencia","Menos \n15 años","15 y más \naños"]
["Pediatría",{"$f":"SUM(C12:S12)","v":0},null,null,null,null,null,null,null,null,null,null,null,null,null,null,null,null,null,null,null,null,{"$f":"SUM(X12+Y12+Z12)","v":0},null,null,null,{"$f":"SUM(AB12+AC12+AD12)","v":0},null,null,null,null,null,{"$f":"BE12&BF12&BG12","v":""},null,null,null,null,null,null,null,null,null,null,null,null,null,null,null,null,null,null,null,null,null,null,null,{"$f":"IF(U12+V12<>B12,\" * Las consultas según sexo NO DEBEN ser diferente al Total de Consultas\",\"\")","v":""},{"$f":"IF(AND(B12>0,T12=\"\"),\" * No olvide digitar la columna Beneficiarios (Digite CERO si no tiene)\",IF(T12>B12,\" * La variable beneficiarios No puede ser mayor al Total.\",\"\"))","v":""},{"$f":"IF((W12+AA12)>B12,\" * La suma del Total de Consultas Nuevas NO DEBE ser MAYOR que el total de Consultas y Controles médicos.\",\"\")","v":""},null,null,null,null,{"$f":"IF(U12+V12<>B12,1,0)","v":0},{"$f":"IF(AND(B12>0,T12=\"\"),1,IF(T12>B12,1,0))","v":0},{"$f":"IF((W12+AA12)>B12,1,0)","v":0}]
["Medicina Interna",{"$f":"SUM(C13:S13)","v":0},null,null,null,null,null,null,null,null,null,null,null,null,null,null,null,null,null,null,null,null,{"$f":"SUM(X13+Y13+Z13)","v":0},null,null,null,{"$f":"SUM(AB13+AC13+AD13)","v":0},null,null,null,null,null,{"$f":"BE13&BF13&BG13","v":""},null,null,null,null,null,null,null,null,null,null,null,null,null,null,null,null,null,null,null,null,null,null,null,{"$f":"IF(U13+V13<>B13,\" * Las consultas según sexo NO DEBEN ser diferente al Total de Consultas\",\"\")","v":""},{"$f":"IF(AND(B13>0,T13=\"\"),\" * No olvide digitar la columna Beneficiarios (Digite CERO si no tiene)\",IF(T13>B13,\" * La variable beneficiarios No puede ser mayor al Total.\",\"\"))","v":""},{"$f":"IF((W13+AA13)>B13,\" * La suma del Total de Consultas Nuevas NO DEBE ser MAYOR que el total de Consultas y Controles médicos.\",\"\")","v":""},null,null,null,null,{"$f":"IF(U13+V13<>B13,1,0)","v":0},{"$f":"IF(AND(B13>0,T13=\"\"),1,IF(T13>B13,1,0))","v":0},{"$f":"IF((W13+AA13)>B13,1,0)","v":0}]
["Neonatología",{"$f":"SUM(C14)","v":0},null,null,null,null,null,null,null,null,null,null,null,null,null,null,null,null,null,null,null,null,0,null,null,null,0,null,null,null,null,null,"",null,null,null,null,null,null,null,null,null,null,null,null,null,null,null,null,null,null,null,null,null,null,null,"","","",null,null,null,null,0,0,0]
["Enfermedad Respiratoria Pediátrica (Broncopulmonar Infantil)",0,null,null,null,null,null,null,null,null,null,null,null,null,null,null,null,null,null,null,null,null,0,null,null,null,0,null,null,null,null,null,"",null,null,null,null,null,null,null,null,null,null,null,null,null,null,null,null,null,null,null,null,null,null,null,"","","",null,null,null,null,0,0,0]
["Enfermedad Respiratoria de Adulto (Broncopulmonar)",0,null,null,null,null,null,null,null,null,null,null,null,null,null,null,null,null,null,null,null,null,0,null,null,null,0,null,null,null,null,null,"",null,null,null,null,null,null,null,null,null,null,null,null,null,null,null,null,null,null,null,null,null,null,null,"","","",null,null,null,null,0,0,0]
["Cardiología Pediátrica",0,null,null,null,null,null,null,null,null,null,null,null,null,null,null,null,null,null,null,null,null,0,null,null,null,0,null,null,null,null,null,"",null,null,null,null,null,null,null,null,null,null,null,null,null,null,null,null,null,null,null,null,null,null,null,"","","",null,null,null,null,0,0,0]
["Cardiología Adulto",0,null,null,null,null,null,null,null,null,null,null,null,null,null,null,null,null,null,null,null,null,0,null,null,null,0,null,null,null,null,null,"",null,null,null,null,null,null,null,null,null,null,null,null,null,null,null,null,null,null,null,null,null,null,null,"","","",null,null,null,null,0,0,0]
["Endocrinología Pediátrica",0,null,null,null,null,null,null,null,null,null,null,null,null,null,null,null,null,null,null,null,null,0,null,null,null,0,null,null,null,null,null,"",null,null,null,null,null,null,null,null,null,null,null,null,null,null,null,null,null,null,null,null,null,null,null,"","","",null,null,null,null,0,0,0]
["Endocrinología Adulto",0,null,null,null,null,null,null,null,null,null,null,null,null,null,null,null,null,null,null,null,null,0,null,null,null,0,null,null,null,null,null,"",null,null,null,null,null,null,null,null,null,null,null,null,null,null,null,null,null,null,null,null,null,null,null,"","","",null,null,null,null,0,0,0]
["Gastroenterología Pediátrica",0,null,null,null,null,null,null,null,null,null,null,null,null,null,null,null,null,null,null,null,null,0,null,null,null,0,null,null,null,null,null,"",null,null,null,null,null,null,null,null,null,null,null,null,null,null,null,null,null,null,null,null,null,null,null,"","","",null,null,null,null,0,0,0]
["Gastroenterología Adulto",0,null,null,null,null,null,null,null,null,null,null,null,null,null,null,null,null,null,null,null,null,0,null,null,null,0,null,null,null,null,null,"",null,null,null,null,null,null,null,null,null,null,null,null,null,null,null,null,null,null,null,null,null,null,null,"","","",null,null,null,null,0,0,0]
["Genética Clínica",0,null,null,null,null,null,null,null,null,null,null,null,null,null,null,null,null,null,null,null,null,0,null,null,null,0,null,null,null,null,null,"",null,null,null,null,null,null,null,null,null,null,null,null,null,null,null,null,null,null,null,null,null,null,null,"","","",null,null,null,null,0,0,0]
["Hemato-Oncología Infantil",0,null,null,null,null,null,null,null,null,null,null,null,null,null,null,null,null,null,null,null,null,0,null,null,null,0,null,null,null,null,null,"",null,null,null,null,null,null,null,null,null,null,null,null,null,null,null,null,null,null,null,null,null,null,null,"","","",null,null,null,null,0,0,0]
["Hematología Adulto",0,null,null,null,null,null,null,null,null,null,null,null,null,null,null,null,null,null,null,null,null,0,null,null,null,0,null,null,null,null,null,"",null,null,null,null,null,null,null,null,null,null,null,null,null,null,null,null,null,null,null,null,null,null,null,"","","",null,null,null,null,0,0,0]
["Nefrología Pediátrica",0,null,null,null,null,null,null,null,null,null,null,null,null,null,null,null,null,null,null,null,null,0,null,null,null,0,null,null,null,null,null,"",null,null,null,null,null,null,null,null,null,null,null,null,null,null,null,null,null,null,null,null,null,null,null,"","","",null,null,null,null,0,0,0]
["Nefrología Adulto",0,null,null,null,null,null,null,null,null,null,null,null,null,null,null,null,null,null,null,null,null,0,null,null,null,0,null,null,null,null,null,"",null,null,null,null,null,null,null,null,null,null,null,null,null,null,null,null,null,null,null,null,null,null,null,"","","",null,null,null,null,0,0,0]
["Nutriólogo Pediátrico",0,null,null,null,null,null,null,null,null,null,null,null,null,null,null,null,null,null,null,null,null,0,null,null,null,0,null,null,null,null,null,"",null,null,null,null,null,null,null,null,null,null,null,null,null,null,null,null,null,null,null,null,null,null,null,"","","",null,null,null,null,0,0,0]
["Nutriólogo Adulto",0,null,null,null,null,null,null,null,null,null,null,null,null,null,null,null,null,null,null,null,null,0,null,null,null,0,null,null,null,null,null,"",null,null,null,null,null,null,null,null,null,null,null,null,null,null,null,null,null,null,null,null,null,null,null,"","","",null,null,null,null,0,0,0]
["Reumatología Pediátrica",{"$f":"SUM(C30:S30)","v":0},null,null,null,null,null,null,null,null,null,null,null,null,null,null,null,null,null,null,null,null,0,null,null,null,0,null,null,null,null,null,"",null,null,null,null,null,null,null,null,null,null,null,null,null,null,null,null,null,null,null,null,null,null,null,"","","",null,null,null,null,0,0,0]
["Reumatología Adulto",0,null,null,null,null,null,null,null,null,null,null,null,null,null,null,null,null,null,null,null,null,0,null,null,null,0,null,null,null,null,null,"",null,null,null,null,null,null,null,null,null,null,null,null,null,null,null,null,null,null,null,null,null,null,null,"","","",null,null,null,null,0,0,0]
["Dermatología",0,null,null,null,null,null,null,null,null,null,null,null,null,null,null,null,null,null,null,null,null,0,null,null,null,0,null,null,null,null,null,"",null,null,null,null,null,null,null,null,null,null,null,null,null,null,null,null,null,null,null,null,null,null,null,"","","",null,null,null,null,0,0,0]
["Infectología Pediátrica",0,null,null,null,null,null,null,null,null,null,null,null,null,null,null,null,null,null,null,null,null,0,null,null,null,0,null,null,null,null,null,"",null,null,null,null,null,null,null,null,null,null,null,null,null,null,null,null,null,null,null,null,null,null,null,"","","",null,null,null,null,0,0,0]
["Infectología Adulto",0,null,null,null,null,null,null,null,null,null,null,null,null,null,null,null,null,null,null,null,null,0,null,null,null,0,null,null,null,null,null,"",null,null,null,null,null,null,null,null,null,null,null,null,null,null,null,null,null,null,null,null,null,null,null,"","","",null,null,null,null,0,0,0]
["Inmunología",0,null,null,null,null,null,null,null,null,null,null,null,null,null,null,null,null,null,null,null,null,0,null,null,null,0,null,null,null,null,null,"",null,null,null,null,null,null,null,null,null,null,null,null,null,null,null,null,null,null,null,null,null,null,null,"","","",null,null,null,null,0,0,0]
["Geriatría",{"$f":"SUM(O36:S36)","v":0},null,null,null,null,null,null,null,null,null,null,null,null,null,null,null,null,null,null,null,null,{"$f":"SUM(X36+Y36+Z36)","v":0},null,null,null,0,null,null,null,null,null,"",null,null,null,null,null,null,null,null,null,null,null,null,null,null,null,null,null,null,null,null,null,null,null,"","","",null,null,null,null,0,0,0]
["Medicina Física y Rehabilitación Pediátrica (Fisiatría Pediátrica)",0,null,null,null,null,null,null,null,null,null,null,null,null,null,null,null,null,null,null,null,null,0,null,null,null,0,null,null,null,null,null,"",null,null,null,null,null,null,null,null,null,null,null,null,null,null,null,null,null,null,null,null,null,null,null,"","","",null,null,null,null,0,0,0]
["Medicina Física y Rehabilitación Adulto (Fisiatría Adulto)",0,null,null,null,null,null,null,null,null,null,null,null,null,null,null,null,null,null,null,null,null,{"$f":"SUM(X38+Y38+Z38)","v":0},null,null,null,0,null,null,null,null,null,"",null,null,null,null,null,null,null,null,null,null,null,null,null,null,null,null,null,null,null,null,null,null,null,"","","",null,null,null,null,0,0,0]
["Neurología Pediátrica",0,null,null,null,null,null,null,null,null,null,null,null,null,null,null,null,null,null,null,null,null,{"$f":"SUM(X39+Y39+Z39)","v":0},null,null,null,{"$f":"SUM(AB39+AC39+AD39)","v":0},null,null,null,null,null,"",null,null,null,null,null,null,null,null,null,null,null,null,null,null,null,null,null,null,null,null,null,null,null,"","","",null,null,null,null,0,0,0]
["Neurología Adulto",0,null,null,null,null,null,null,null,null,null,null,null,null,null,null,null,null,null,null,null,null,{"$f":"SUM(X40+Y40+Z40)","v":0},null,null,null,{"$f":"SUM(AB40+AC40+AD40)","v":0},null,null,null,null,null,"",null,null,null,null,null,null,null,null,null,null,null,null,null,null,null,null,null,null,null,null,null,null,null,"","","",null,null,null,null,0,0,0]
["Oncología Médica",0,null,null,null,null,null,null,null,null,null,null,null,null,null,null,null,null,null,null,null,null,{"$f":"SUM(X41+Y41+Z41)","v":0},null,null,null,{"$f":"SUM(AB41+AC41+AD41)","v":0},null,null,null,null,null,"",null,null,null,null,null,null,null,null,null,null,null,null,null,null,null,null,null,null,null,null,null,null,null,"","","",null,null,null,null,0,0,0]
["Psiquiatría Pediátrica y de La Adolescencia",0,null,null,null,null,null,null,null,null,null,null,null,null,null,null,null,null,null,null,null,null,{"$f":"SUM(X42+Y42+Z42)","v":0},null,null,null,{"$f":"SUM(AB42+AC42+AD42)","v":0},null,null,null,null,null,"",null,null,null,null,null,null,null,null,null,null,null,null,null,null,null,null,null,null,null,null,null,null,null,"","","",null,null,null,null,0,0,0]
["Psiquiatría Adulto",0,null,null,null,null,null,null,null,null,null,null,null,null,null,null,null,null,null,null,null,null,{"$f":"SUM(X43+Y43+Z43)","v":0},null,null,null,{"$f":"SUM(AB43+AC43+AD43)","v":0},null,null,null,null,null,"",null,null,null,null,null,null,null,null,null,null,null,null,null,null,null,null,null,null,null,null,null,null,null,"","","",null,null,null,null,0,0,0]
["Cirugía Pediátrica",0,null,null,null,null,null,null,null,null,null,null,null,null,null,null,null,null,null,null,null,null,0,null,null,null,{"$f":"SUM(AB44+AC44+AD44)","v":0},null,null,null,null,null,"",null,null,null,null,null,null,null,null,null,null,null,null,null,null,null,null,null,null,null,null,null,null,null,"","","",null,null,null,null,0,0,0]
["Cirugía General Adulto",0,null,null,null,null,null,null,null,null,null,null,null,null,null,null,null,null,null,null,null,null,0,null,null,null,0,null,null,null,null,null,"",null,null,null,null,null,null,null,null,null,null,null,null,null,null,null,null,null,null,null,null,null,null,null,"","","",null,null,null,null,0,0,0]
["Cirugía Digestiva (Alta)",0,null,null,null,null,null,null,null,null,null,null,null,null,null,null,null,null,null,null,null,null,0,null,null,null,0,null,null,null,null,null,"",null,null,null,null,null,null,null,null,null,null,null,null,null,null,null,null,null,null,null,null,null,null,null,"","","",null,null,null,null,0,0,0]
["Cirugía de Cabeza, Cuello y Maxilofacial",0,null,null,null,null,null,null,null,null,null,null,null,null,null,null,null,null,null,null,null,null,0,null,null,null,0,null,null,null,null,null,"",null,null,null,null,null,null,null,null,null,null,null,null,null,null,null,null,null,null,null,null,null,null,null,"","","",null,null,null,null,0,0,0]
["Cirugía Plástica y Reparadora Pediátrica",0,null,null,null,null,null,null,null,null,null,null,null,null,null,null,null,null,null,null,null,null,0,null,null,null,0,null,null,null,null,null,"",null,null,null,null,null,null,null,null,null,null,null,null,null,null,null,null,null,null,null,null,null,null,null,"","","",null,null,null,null,0,0,0]
["Cirugía Plástica y Reparadora Adulto",0,null,null,null,null,null,null,null,null,null,null,null,null,null,null,null,null,null,null,null,null,0,null,null,null,0,null,null,null,null,null,"",null,null,null,null,null,null,null,null,null,null,null,null,null,null,null,null,null,null,null,null,null,null,null,"","","",null,null,null,null,0,0,0]
["Coloproctología (Cirugía Digestiva Baja)",0,null,null,null,null,null,null,null,null,null,null,null,null,null,null,null,null,null,null,null,null,0,null,null,null,0,null,null,null,null,null,"",null,null,null,null,null,null,null,null,null,null,null,null,null,null,null,null,null,null,null,null,null,null,null,"","","",null,null,null,null,0,0,0]
["Cirugía Tórax",0,null,null,null,null,null,null,null,null,null,null,null,null,null,null,null,null,null,null,null,null,0,null,null,null,0,null,null,null,null,null,"",null,null,null,null,null,null,null,null,null,null,null,null,null,null,null,null,null,null,null,null,null,null,null,"","","",null,null,null,null,0,0,0]
["Cirugía Vascular Periférica",0,null,null,null,null,null,null,null,null,null,null,null,null,null,null,null,null,null,null,null,null,0,null,null,null,0,null,null,null,null,null,"",null,null,null,null,null,null,null,null,null,null,null,null,null,null,null,null,null,null,null,null,null,null,null,"","","",null,null,null,null,0,0,0]
["Neurocirugía",0,null,null,null,null,null,null,null,null,null,null,null,null,null,null,null,null,null,null,null,null,0,null,null,null,0,null,null,null,null,null,"",null,null,null,null,null,null,null,null,null,null,null,null,null,null,null,null,null,null,null,null,null,null,null,"","","",null,null,null,null,0,0,0]
["Cirugía Cardiovascular",0,null,null,null,null,null,null,null,null,null,null,null,null,null,null,null,null,null,null,null,null,0,null,null,null,0,null,null,null,null,null,"",null,null,null,null,null,null,null,null,null,null,null,null,null,null,null,null,null,null,null,null,null,null,null,"","","",null,null,null,null,0,0,0]
["Anestesiología",0,null,null,null,null,null,null,null,null,null,null,null,null,null,null,null,null,null,null,null,null,0,null,null,null,0,null,null,null,null,null,"",null,null,null,null,null,null,null,null,null,null,null,null,null,null,null,null,null,null,null,null,null,null,null,"","","",null,null,null,null,0,0,0]
["Obstetricia",0,null,null,null,null,null,null,null,null,null,null,null,null,null,null,null,null,null,null,null,null,0,null,null,null,0,null,null,null,null,null,"",null,null,null,null,null,null,null,null,null,null,null,null,null,null,null,null,null,null,null,null,null,null,null,"","","",null,null,null,null,0,0,0]
["Ginecología Pediátrica y de la Adolescencia",0,null,null,null,null,null,null,null,null,null,null,null,null,null,null,null,null,null,null,null,null,0,null,null,null,0,null,null,null,null,null,"",null,null,null,null,null,null,null,null,null,null,null,null,null,null,null,null,null,null,null,null,null,null,null,"","","",null,null,null,null,0,0,0]
["Ginecología Adulto",0,null,null,null,null,null,null,null,null,null,null,null,null,null,null,null,null,null,null,null,null,0,null,null,null,0,null,null,null,null,null,"",null,null,null,null,null,null,null,null,null,null,null,null,null,null,null,null,null,null,null,null,null,null,null,"","","",null,null,null,null,0,0,0]
["Oftalmología",0,null,null,null,null,null,null,null,null,null,null,null,null,null,null,null,null,null,null,null,null,0,null,null,null,0,null,null,null,null,null,"",null,null,null,null,null,null,null,null,null,null,null,null,null,null,null,null,null,null,null,null,null,null,null,"","","",null,null,null,null,0,0,0]
["Otorrinolaringología",0,null,null,null,null,null,null,null,null,null,null,null,null,null,null,null,null,null,null,null,null,0,null,null,null,0,null,null,null,null,null,"",null,null,null,null,null,null,null,null,null,null,null,null,null,null,null,null,null,null,null,null,null,null,null,"","","",null,null,null,null,0,0,0]
["Traumatología y Ortopedia Pediátrica",0,null,null,null,null,null,null,null,null,null,null,null,null,null,null,null,null,null,null,null,null,0,null,null,null,0,null,null,null,null,null,"",null,null,null,null,null,null,null,null,null,null,null,null,null,null,null,null,null,null,null,null,null,null,null,"","","",null,null,null,null,0,0,0]
["Traumatología y Ortopedia Adulto",0,null,null,null,null,null,null,null,null,null,null,null,null,null,null,null,null,null,null,null,null,{"$f":"SUM(X62+Y62+Z62)","v":0},null,null,null,0,null,null,null,null,null,"",null,null,null,null,null,null,null,null,null,null,null,null,null,null,null,null,null,null,null,null,null,null,null,"","","",null,null,null,null,0,0,0]
["Urología Pediátrica",0,null,null,null,null,null,null,null,null,null,null,null,null,null,null,null,null,null,null,null,null,0,null,null,null,0,null,null,null,null,null,"",null,null,null,null,null,null,null,null,null,null,null,null,null,null,null,null,null,null,null,null,null,null,null,"","","",null,null,null,null,0,0,0]
["Urología Adulto",0,null,null,null,null,null,null,null,null,null,null,null,null,null,null,null,null,null,null,null,null,0,null,null,null,0,null,null,null,null,null,"",null,null,null,null,null,null,null,null,null,null,null,null,null,null,null,null,null,null,null,null,null,null,null,"","","",null,null,null,null,0,0,0]
["Medicina Familiar del Niño",0,null,null,null,null,null,null,null,null,null,null,null,null,null,null,null,null,null,null,null,null,0,null,null,null,0,null,null,null,null,null,"",null,null,null,null,null,null,null,null,null,null,null,null,null,null,null,null,null,null,null,null,null,null,null,"","","",null,null,null,null,0,0,0]
["Medicina Familiar",0,null,null,null,null,null,null,null,null,null,null,null,null,null,null,null,null,null,null,null,null,0,null,null,null,0,null,null,null,null,null,"",null,null,null,null,null,null,null,null,null,null,null,null,null,null,null,null,null,null,null,null,null,null,null,"","","",null,null,null,null,0,0,0]
["Medicina Familiar Adulto",{"$f":"SUM(L67:S67)","v":0},null,null,null,null,null,null,null,null,null,null,null,null,null,null,null,null,null,null,null,null,0,null,null,null,0,null,null,null,null,null,"",null,null,null,null,null,null,null,null,null,null,null,null,null,null,null,null,null,null,null,null,null,null,null,"","","",null,null,null,null,0,0,0]
["Diabetología",0,null,null,null,null,null,null,null,null,null,null,null,null,null,null,null,null,null,null,null,null,0,null,null,null,0,null,null,null,null,null,"",null,null,null,null,null,null,null,null,null,null,null,null,null,null,null,null,null,null,null,null,null,null,null,"","","",null,null,null,null,0,0,0]
["Medicina Nuclear (Excluye Informes)",0,null,null,null,null,null,null,null,null,null,null,null,null,null,null,null,null,null,null,null,null,{"$f":"SUM(X69+Y69+Z69)","v":0},null,null,null,0,null,null,null,null,null,"",null,null,null,null,null,null,null,null,null,null,null,null,null,null,null,null,null,null,null,null,null,null,null,"","","",null,null,null,null,0,0,0]
["Imagenología",0,null,null,null,null,null,null,null,null,null,null,null,null,null,null,null,null,null,null,null,null,{"$f":"SUM(X70+Y70+Z70)","v":0},null,null,null,0,null,null,null,null,null,"",null,null,null,null,null,null,null,null,null,null,null,null,null,null,null,null,null,null,null,null,null,null,null,"","","",null,null,null,null,0,0,0]
["Radioterapia Oncológica",0,null,null,null,null,null,null,null,null,null,null,null,null,null,null,null,null,null,null,null,null,{"$f":"SUM(X71+Y71+Z71)","v":0},null,null,null,0,null,null,null,null,null,{"$f":"BE71&BF71&BG71","v":""},null,null,null,null,null,null,null,null,null,null,null,null,null,null,null,null,null,null,null,null,null,null,null,"","","",null,null,null,null,0,0,0]
["TOTAL",{"$f":"SUM(B12:B71)","v":0},{"$f":"SUM(C12:C71)","v":0},0,0,0,0,0,0,0,0,0,0,0,0,0,0,0,0,0,0,0,0,0,0,0,0,{"$f":"SUM(AB12:AB71)","v":0},{"$f":"SUM(AC12:AC71)","v":0},{"$f":"SUM(AD12:AD71)","v":0},{"$f":"SUM(AE12:AE71)","v":0},{"$f":"SUM(AF12:AF71)","v":0}]
["SECCIÓN A.1: ATRIBUTOS DE LAS ATENCIONES DE ESPECIALIDAD"]
["ESPECIALIDADES Y SUB-ESPECIALIDADES","Interconsultas pertinentes según Criterio Clínico",null,null,null,"Consultas pertinentes según tiempo establecido en Box",null,null,null,"Consultas  pertinentes según Criterio Clínico en Box",null,null,null,"Contrarreferencia inicial o retorno",null,null,"Contrarreferencia al alta",null,"Alta de Consulta de Especialidad Ambulatoria",null,"Inasistente a consulta médica (NSP)",null,"CONSULTA ABREVIADA (Confección de recetas o lectura de exámenes)","Atención Especialista en Sala",null,"Consultas realizadas en APS e informadas (contenidas en sección A)",null,"Compra de Servicios (No incluidas en total de atenciones)",null,"Consultas Médicas por Operativos (no incluidas en produccion)","Total Interconsultas generadas en APS para derivación Especialidad",null,"Consultorías de Médicos Especialistas otorgadas "]
[null,"Total","APS","CDT/CAE/CRS/Hospitalizado","Urgencia","Total","APS","CDT/CAE/CRS/Hospitalizado","Urgencia","Total","APS","CDT/CAE/CRS/Hospitalizado","Urgencia","Total","Menos 15 años","15 y más años","Menos \n15 años","15 y más \naños","Menos \n15 años","15 y más \naños","Nuevas ","Controles",null,"Menos \n15 años","15 y más \naños","Contratados por el Establecimiento o Dirección del Servicio","Especialistas de Hospitales","Red Pública","Privados",null,"Menos 15 años","15 y más años","Nº Consultorías","Nº de casos revisados por el equipo","Nº de casos atendidos"]
["Pediatría",{"$f":"SUM(C76:E76)","v":0},null,null,null,{"$f":"SUM(G76:I76)","v":0},null,null,null,{"$f":"SUM(K76:M76)","v":0},null,null,null,{"$f":"SUM(O76:P76)","v":0}]
["Medicina Interna",{"$f":"SUM(C77:E77)","v":0},null,null,null,{"$f":"SUM(G77:I77)","v":0},null,null,null,{"$f":"SUM(K77:M77)","v":0},null,null,null,{"$f":"SUM(O77:P77)","v":0}]
["Neonatología",{"$f":"SUM(C78:E78)","v":0},null,null,null,0,null,null,null,{"$f":"SUM(K78:M78)","v":0},null,null,null,0]
["Enfermedad Respiratoria Pediátrica (Broncopulmonar Infantil)",0,null,null,null,{"$f":"SUM(G79:I79)","v":0},null,null,null,{"$f":"SUM(K79:M79)","v":0},null,null,null,0]
["Enfermedad Respiratoria de Adulto (Broncopulmonar)",{"$f":"SUM(C80:E80)","v":0},null,null,null,0,null,null,null,{"$f":"SUM(K80:M80)","v":0},null,null,null,0]
["Cardiología Pediátrica",0,null,null,null,0,null,null,null,0,null,null,null,0]
["Cardiología Adulto",0,null,null,null,0,null,null,null,0,null,null,null,0]
["Endocrinología Pediátrica",0,null,null,null,0,null,null,null,0,null,null,null,0]
["Endocrinología Adulto",0,null,null,null,0,null,null,null,0,null,null,null,0]
["Gastroenterología Pediátrica",0,null,null,null,0,null,null,null,0,null,null,null,0]
["Gastroenterología Adulto",0,null,null,null,0,null,null,null,0,null,null,null,0]
["Genética Clínica",0,null,null,null,0,null,null,null,0,null,null,null,0]
["Hemato-Oncología Infantil",0,null,null,null,0,null,null,null,0,null,null,null,0]
["Hematología Adulto",0,null,null,null,0,null,null,null,0,null,null,null,0]
["Nefrología Pediátrica",0,null,null,null,0,null,null,null,0,null,null,null,0]
["Nefrología Adulto",0,null,null,null,0,null,null,null,0,null,null,null,0]
["Nutriólogo Pediátrico",0,null,null,null,0,null,null,null,0,null,null,null,0]
["Nutriólogo Adulto",0,null,null,null,0,null,null,null,0,null,null,null,0]
["Reumatología Pediátrica",0,null,null,null,0,null,null,null,0,null,null,null,0]
["Reumatología Adulto",0,null,null,null,0,null,null,null,0,null,null,null,0]
["Dermatología",0,null,null,null,0,null,null,null,0,null,null,null,0]
["Infectología Pediátrica",0,null,null,null,0,null,null,null,0,null,null,null,0]
["Infectología Adulto",0,null,null,null,0,null,null,null,0,null,null,null,0]
["Inmunología",0,null,null,null,0,null,null,null,0,null,null,null,0]
["Geriatría",0,null,null,null,0,null,null,null,0,null,null,null,0]
["Medicina Física y Rehabilitación Pediátrica (Fisiatría Pediátrica)",0,null,null,null,0,null,null,null,0,null,null,null,0]
["Medicina Física y Rehabilitación Adulto (Fisiatría Adulto)",0,null,null,null,0,null,null,null,0,null,null,null,0]
["Neurología Pediátrica",0,null,null,null,0,null,null,null,0,null,null,null,0]
["Neurología Adulto",0,null,null,null,0,null,null,null,0,null,null,null,0]
["Oncología Médica",0,null,null,null,0,null,null,null,0,null,null,null,0]
["Psiquiatría Pediátrica y de la Adolescencia",0,null,null,null,0,null,null,null,0,null,null,null,0]
["Psiquiatría Adulto",0,null,null,null,0,null,null,null,0,null,null,null,0]
["Cirugía Pediátrica",0,null,null,null,0,null,null,null,0,null,null,null,0]
["Cirugía General Adulto",0,null,null,null,0,null,null,null,0,null,null,null,0]
["Cirugía Digestiva (Alta)",0,null,null,null,0,null,null,null,0,null,null,null,0]
["Cirugía de Cabeza, Cuello y Maxilofacial",0,null,null,null,0,null,null,null,0,null,null,null,0]
["Cirugía Plástica y Reparadora Pediátrica",0,null,null,null,0,null,null,null,0,null,null,null,0]
["Cirugía Plástica y Reparadora Adulto",0,null,null,null,0,null,null,null,0,null,null,null,0]
["Coloproctología (Cirugía Digestiva Baja)",0,null,null,null,0,null,null,null,0,null,null,null,0]
["Cirugía Tórax",0,null,null,null,0,null,null,null,0,null,null,null,0]
["Cirugía Vascular Periférica",0,null,null,null,0,null,null,null,0,null,null,null,0]
["Neurocirugía",0,null,null,null,0,null,null,null,0,null,null,null,0]
["Cirugía Cardiovascular",0,null,null,null,0,null,null,null,0,null,null,null,0]
["Anestesiología",0,null,null,null,0,null,null,null,0,null,null,null,0]
["Obstetricia",0,null,null,null,0,null,null,null,0,null,null,null,0]
["Ginecología Pediátrica y de la Adolescencia",0,null,null,null,0,null,null,null,0,null,null,null,0]
["Ginecología Adulto",0,null,null,null,0,null,null,null,0,null,null,null,0]
["Oftalmología",0,null,null,null,0,null,null,null,0,null,null,null,0]
["Otorrinolaringología",0,null,null,null,0,null,null,null,0,null,null,null,0]
["Traumatología y Ortopedia Pediátrica",0,null,null,null,0,null,null,null,0,null,null,null,0]
["Traumatología y Ortopedia Adulto",0,null,null,null,0,null,null,null,0,null,null,null,0]
["Urología Pediátrica",0,null,null,null,0,null,null,null,0,null,null,null,0]
["Urología Adulto",0,null,null,null,0,null,null,null,0,null,null,null,0]
["Medicina Familiar del Niño",0,null,null,null,0,null,null,null,0,null,null,null,0]
["Medicina Familiar",0,null,null,null,0,null,null,null,0,null,null,null,0]
["Medicina Familiar Adulto",0,null,null,null,0,null,null,null,0,null,null,null,0]
["Diabetología",0,null,null,null,0,null,null,null,0,null,null,null,0]
["Medicina Nuclear (Excluye Informes)",0,null,null,null,0,null,null,null,0,null,null,null,0]
["Imagenología",0,null,null,null,0,null,null,null,0,null,null,null,0]
["Radioterapia Oncológica",0,null,null,null,0,null,null,null,0,null,null,null,0]
["TOTAL",{"$f":"SUM(B76:B135)","v":0},{"$f":"SUM(C76:C135)","v":0},{"$f":"SUM(D76:D135)","v":0},{"$f":"SUM(E76:E135)","v":0},0,0,0,0,0,0,0,0,{"$f":"SUM(N76:N135)","v":0},0,0,0,{"$f":"SUM(R76:R135)","v":0},{"$f":"SUM(S76:S135)","v":0},{"$f":"SUM(T76:T135)","v":0},0,0,{"$f":"SUM(W76:W135)","v":0},{"$f":"SUM(X76:X135)","v":0},0,0,0,0,0,0,0,0,0,0,0]
["SECCIÓN B: ATENCIONES MEDICAS POR PROGRAMAS Y POLICLÍNICOS  (INCLUIDAS EN SECCION A)"]
["ATENCIONES","TOTAL","0 - 4 años","5 - 9 años","10 - 14 años","15 - 19 años","20 - 24 años","25 - 29 años","30 - 34 años","35 - 39 años","40 - 44 años","45 - 49 años","50 - 54 años","55 - 59 años","60 - 64 años","65 - 69 años","70 - 74 años","75 - 79 años","80  años y mas","Trans Masculino","Trans Femenino"]
["Arritmias",{"$f":"SUM(C139:S139)","v":0},null,null,null,null,null,null,null,null,null,null,null,null,null,null,null,null,null,null,null,{"$f":"BE139&BF139&BG139","v":""},null,null,null,null,null,null,null,null,null,null,null,null,null,null,null,null,null,null,null,null,null,null,null,null,null,null,null,null,null,null,null,null,null,null,{"$f":"IF(AND(B139>0,T139=\"\"),\" * No olvide digitar Trans Masculino. (Digite CERO si no tiene).\",\"\")","v":""},{"$f":"IF(AND(B139>0,U139=\"\"),\" * No olvide digitar Trans Femenino. (Digite CERO si no tiene).\",\"\")","v":""},{"$f":"IF((T139+U139)>B139,\" * Trans Masculino + Trans Femenino No puede ser Mayor al Total.\",\"\")","v":""},null,null,null,null,{"$f":"IF(AND(B139>0,T139=\"\"),1,0)","v":0},{"$f":"IF(AND(B139>0,U139=\"\"),1,0)","v":0},{"$f":"IF((T139+U139)>B139,1,0)","v":0}]
["Diabetes",{"$f":"SUM(C140:S140)","v":0},null,null,null,null,null,null,null,null,null,null,null,null,null,null,null,null,null,null,null,{"$f":"BE140&BF140&BG140","v":""},null,null,null,null,null,null,null,null,null,null,null,null,null,null,null,null,null,null,null,null,null,null,null,null,null,null,null,null,null,null,null,null,null,null,{"$f":"IF(AND(B140>0,T140=\"\"),\" * No olvide digitar Trans Masculino. (Digite CERO si no tiene).\",\"\")","v":""},{"$f":"IF(AND(B140>0,U140=\"\"),\" * No olvide digitar Trans Femenino. (Digite CERO si no tiene).\",\"\")","v":""},"",null,null,null,null,{"$f":"IF(AND(B140>0,T140=\"\"),1,0)","v":0},{"$f":"IF(AND(B140>0,U140=\"\"),1,0)","v":0},0]
["Cirugía de Mamas",0,null,null,null,null,null,null,null,null,null,null,null,null,null,null,null,null,null,null,null,"",null,null,null,null,null,null,null,null,null,null,null,null,null,null,null,null,null,null,null,null,null,null,null,null,null,null,null,null,null,null,null,null,null,null,"","","",null,null,null,null,0,0,0]
["Alto Riesgo Obstétrico",0,null,null,null,null,null,null,null,null,null,null,null,null,null,null,null,null,null,null,null,"",null,null,null,null,null,null,null,null,null,null,null,null,null,null,null,null,null,null,null,null,null,null,null,null,null,null,null,null,null,null,null,null,null,null,"","","",null,null,null,null,0,0,0]
["Atención Obstétrica por Ley IVE",0,null,null,null,null,null,null,null,null,null,null,null,null,null,null,null,null,null,null,null,"",null,null,null,null,null,null,null,null,null,null,null,null,null,null,null,null,null,null,null,null,null,null,null,null,null,null,null,null,null,null,null,null,null,null,"","","",null,null,null,null,0,0,0]
["Tratamiento Anticoagulante",0,null,null,null,null,null,null,null,null,null,null,null,null,null,null,null,null,null,null,null,"",null,null,null,null,null,null,null,null,null,null,null,null,null,null,null,null,null,null,null,null,null,null,null,null,null,null,null,null,null,null,null,null,null,null,"","","",null,null,null,null,0,0,0]
["Cuidados Paliativos",0,null,null,null,null,null,null,null,null,null,null,null,null,null,null,null,null,null,null,null,"",null,null,null,null,null,null,null,null,null,null,null,null,null,null,null,null,null,null,null,null,null,null,null,null,null,null,null,null,null,null,null,null,null,null,"","","",null,null,null,null,0,0,0]
["Infertilidad",0,null,null,null,null,null,null,null,null,null,null,null,null,null,null,null,null,null,null,null,"",null,null,null,null,null,null,null,null,null,null,null,null,null,null,null,null,null,null,null,null,null,null,null,null,null,null,null,null,null,null,null,null,null,null,"","","",null,null,null,null,0,0,0]
["Patología Cervical",0,null,null,null,null,null,null,null,null,null,null,null,null,null,null,null,null,null,null,null,"",null,null,null,null,null,null,null,null,null,null,null,null,null,null,null,null,null,null,null,null,null,null,null,null,null,null,null,null,null,null,null,null,null,null,"","","",null,null,null,null,0,0,0]
["Patología de Mamas",0,null,null,null,null,null,null,null,null,null,null,null,null,null,null,null,null,null,null,null,"",null,null,null,null,null,null,null,null,null,null,null,null,null,null,null,null,null,null,null,null,null,null,null,null,null,null,null,null,null,null,null,null,null,null,"","","",null,null,null,null,0,0,0]
["Adolescencia",0,null,null,null,null,null,null,null,null,null,null,null,null,null,null,null,null,null,null,null,"",null,null,null,null,null,null,null,null,null,null,null,null,null,null,null,null,null,null,null,null,null,null,null,null,null,null,null,null,null,null,null,null,null,null,"","","",null,null,null,null,0,0,0]
["Naneas",0,null,null,null,null,null,null,null,null,null,null,null,null,null,null,null,null,null,null,null,"",null,null,null,null,null,null,null,null,null,null,null,null,null,null,null,null,null,null,null,null,null,null,null,null,null,null,null,null,null,null,null,null,null,null,"","","",null,null,null,null,0,0,0]
["ITS",0,null,null,null,null,null,null,null,null,null,null,null,null,null,null,null,null,null,null,null,"",null,null,null,null,null,null,null,null,null,null,null,null,null,null,null,null,null,null,null,null,null,null,null,null,null,null,null,null,null,null,null,null,null,null,"","","",null,null,null,null,0,0,0]
["VIH/SIDA",0,null,null,null,null,null,null,null,null,null,null,null,null,null,null,null,null,null,null,null,"",null,null,null,null,null,null,null,null,null,null,null,null,null,null,null,null,null,null,null,null,null,null,null,null,null,null,null,null,null,null,null,null,null,null,"","","",null,null,null,null,0,0,0]
["Medicinal Ocupacional (Salud del Personal)",{"$f":"SUM(C153:S153)","v":0},null,null,null,null,null,null,null,null,null,null,null,null,null,null,null,null,null,null,null,"",null,null,null,null,null,null,null,null,null,null,null,null,null,null,null,null,null,null,null,null,null,null,null,null,null,null,null,null,null,null,null,null,null,null,"","","",null,null,null,null,0,0,0]
["Unidad Trauma Ocular",{"$f":"SUM(C154:S154)","v":0},null,null,null,null,null,null,null,null,null,null,null,null,null,null,null,null,null,null,null,"",null,null,null,null,null,null,null,null,null,null,null,null,null,null,null,null,null,null,null,null,null,null,null,null,null,null,null,null,null,null,null,null,null,null,"","","",null,null,null,null,0,0,0]
["TOTAL ",{"$f":"SUM(B139:B154)","v":0},{"$f":"SUM(C139:C154)","v":0},0,0,0,0,{"$f":"SUM(H139:H154)","v":0},0,0,0,0,0,0,0,0,0,0,0,0,{"$f":"SUM(U139:U154)","v":0}]
["SECCIÓN C: CONSULTAS Y CONTROLES POR OTROS PROFESIONALES EN ESPECIALIDAD (NIVEL SECUNDARIO)"]
["PROFESIONAL",null,"TOTAL ",null,null,"RANGO ETARIO Y SEXO",null,null,null,null,null,null,null,null,null,null,null,null,null,null,null,null,null,null,null,null,null,null,null,null,null,null,null,null,null,null,null,null,null,"Beneficiarios","Total Controles (incluidos en grupo de edad)","Pueblos Originarios","Migrantes"]
[null,null,null,null,null,"0 - 4 años",null,"5 - 9 años",null,"10 - 14 años",null,"15 - 19 años",null,"20 - 24 años",null,"25 - 29 años",null,"30 - 34 años",null,"35 - 39 años",null,"40 - 44 años",null,"45 - 49 años",null,"50 - 54 años",null,"55 - 59 años",null,"60 - 64 años",null,"65 - 69 años",null,"70 - 74 años",null,"75 - 79 años",null,"80 y más años"]
[null,null,"Ambos Sexos","Hombres","Mujeres","Hombres","Mujeres","Hombres","Mujeres","Hombres","Mujeres","Hombres","Mujeres","Hombres","Mujeres","Hombres","Mujeres","Hombres","Mujeres","Hombres","Mujeres","Hombres","Mujeres","Hombres","Mujeres","Hombres","Mujeres","Hombres","Mujeres","Hombres","Mujeres","Hombres","Mujeres","Hombres","Mujeres","Hombres","Mujeres","Hombres","Mujeres"]
["Enfermera/o",null,{"$f":"SUM(D160+E160)","v":0},{"$f":"SUM(F160+H160+J160+L160+N160+P160+R160+T160+V160+X160+Z160+AB160+AD160+AF160+AH160+AJ160+AL160)","v":0},{"$f":"SUM(G160+I160+K160+M160+O160+Q160+S160+U160+W160+Y160+AA160+AC160+AE160+AG160+AI160+AK160+AM160)","v":0},null,null,null,null,null,null,null,null,null,null,null,null,null,null,null,null,null,null,null,null,null,null,null,null,null,null,null,null,null,null,null,null,null,null,null,null,null,null,{"$f":"BE160&BF160&BG160&BH160&BI160","v":""},null,null,null,null,null,null,null,null,null,null,null,null,{"$f":"IF(AND(C160>0,AN160=\"\"),\" * No olvide digitar la variable Beneficiarios. Digite Cero si no tiene.\",IF(AN160>C160,\" *   La variable Beneficiarios No puede ser mayor al Total.\",\"\"))","v":""},{"$f":"IF(AND(C160>0,AO160=\"\"),\" * No olvide digitar la variable Total de Controles. Digite Cero si no tiene.\",IF(AO160>C160,\"  * La variable Total de Controles No puede ser mayor al Total.\",\"\"))","v":""},{"$f":"IF(AND(C160>0,AP160=\"\"),\" * No olvide digitar la variable Pueblos Originarios. Digite Cero si no tiene.\",IF(AP160>C160,\" *  * La variable Pueblos Originarios No puede ser mayor al Total.\",\"\"))","v":""},{"$f":"IF(AND(C160>0,AQ160=\"\"),\" * No olvide digitar la variable Migrantes. Digite Cero si no tiene.\",IF(AQ160>C160,\" *  * La variable Migrantes No puede ser mayor al Total.\",\"\"))","v":""},null,null,null,{"$f":"IF(AND(C160>0,AN160=\"\"),1,IF(AN160>C160,1,0))","v":0},{"$f":"IF(AND(C160>0,AO160=\"\"),1,IF(AO160>C160,1,0))","v":0},{"$f":"IF(AND(C160>0,AP160=\"\"),1,IF(AP160>C160,1,0))","v":0},{"$f":"IF(AND(C160>0,AQ160=\"\"),1,IF(AQ160>C160,1,0))","v":0}]
["Matrona/ón","ARO",{"$f":"SUM(D161:E161)","v":0},null,{"$f":"SUM(K161+M161+O161+Q161+S161+U161+W161+Y161+AA161+AC161+AE161+AG161+AI161+AK161+AM161)","v":0},null,null,null,null,null,null,null,null,null,null,null,null,null,null,null,null,null,null,null,null,null,null,null,null,null,null,null,null,null,null,null,null,null,null,null,null,null,null,{"$f":"BE161&BF161&BG161&BH161&BI161","v":""},null,null,null,null,null,null,null,null,null,null,null,null,{"$f":"IF(AND(C161>0,AN161=\"\"),\" * No olvide digitar la variable Beneficiarios. Digite Cero si no tiene.\",IF(AN161>C161,\" *   La variable Beneficiarios No puede ser mayor al Total.\",\"\"))","v":""},{"$f":"IF(AND(C161>0,AO161=\"\"),\" * No olvide digitar la variable Total de Controles. Digite Cero si no tiene.\",IF(AO161>C161,\"  * La variable Total de Controles No puede ser mayor al Total.\",\"\"))","v":""},{"$f":"IF(AND(C161>0,AP161=\"\"),\" * No olvide digitar la variable Pueblos Originarios. Digite Cero si no tiene.\",IF(AP161>C161,\" *  * La variable Pueblos Originarios No puede ser mayor al Total.\",\"\"))","v":""},{"$f":"IF(AND(C161>0,AQ161=\"\"),\" * No olvide digitar la variable Migrantes. Digite Cero si no tiene.\",IF(AQ161>C161,\" *  * La variable Migrantes No puede ser mayor al Total.\",\"\"))","v":""},null,null,null,{"$f":"IF(AND(C161>0,AN161=\"\"),1,IF(AN161>C161,1,0))","v":0},{"$f":"IF(AND(C161>0,AO161=\"\"),1,IF(AO161>C161,1,0))","v":0},{"$f":"IF(AND(C161>0,AP161=\"\"),1,IF(AP161>C161,1,0))","v":0},{"$f":"IF(AND(C161>0,AQ161=\"\"),1,IF(AQ161>C161,1,0))","v":0}]
[null,"ARO por Ley IVE",{"$f":"SUM(D162:E162)","v":0},null,{"$f":"SUM(K162+M162+O162+Q162+S162+U162+W162+Y162+AA162+AC162+AE162+AG162+AI162+AK162+AM162)","v":0},null,null,null,null,null,null,null,null,null,null,null,null,null,null,null,null,null,null,null,null,null,null,null,null,null,null,null,null,null,null,null,null,null,null,null,null,null,null,"",null,null,null,null,null,null,null,null,null,null,null,null,"","","","",null,null,null,0,0,0,0]
[null,"Ginecología y otros ",{"$f":"SUM(D163+E163)","v":0},{"$f":"SUM(F163+H163+J163+L163+N163+P163+R163+T163+V163+X163+Z163+AB163+AD163+AF163+AH163+AJ163+AL163)","v":0},{"$f":"SUM(G163+I163+K163+M163+O163+Q163+S163+U163+W163+Y163+AA163+AC163+AE163+AG163+AI163+AK163+AM163)","v":0},null,null,null,null,null,null,null,null,null,null,null,null,null,null,null,null,null,null,null,null,null,null,null,null,null,null,null,null,null,null,null,null,null,null,null,null,null,null,"",null,null,null,null,null,null,null,null,null,null,null,null,"","","","",null,null,null,0,0,0,0]
[null,"Infertilidad ",0,{"$f":"SUM(N164+P164+R164+T164+V164+X164+Z164+AB164)","v":0},{"$f":"SUM(O164+Q164+S164+U164+W164+Y164+AA164+AC164)","v":0},null,null,null,null,null,null,null,null,null,null,null,null,null,null,null,null,null,null,null,null,null,null,null,null,null,null,null,null,null,null,null,null,null,null,null,null,null,null,"",null,null,null,null,null,null,null,null,null,null,null,null,"","","","",null,null,null,0,0,0,0]
["Nutricionista",null,0,{"$f":"SUM(F165+H165+J165+L165+N165+P165+R165+T165+V165+X165+Z165+AB165+AD165+AF165+AH165+AJ165+AL165)","v":0},0,null,null,null,null,null,null,null,null,null,null,null,null,null,null,null,null,null,null,null,null,null,null,null,null,null,null,null,null,null,null,null,null,null,null,null,null,null,null,"",null,null,null,null,null,null,null,null,null,null,null,null,"","","","",null,null,null,0,0,0,0]
["Psicólogo/a (Excluye SM)",null,0,0,0,null,null,null,null,null,null,null,null,null,null,null,null,null,null,null,null,null,null,null,null,null,null,null,null,null,null,null,null,null,null,null,null,null,null,null,null,null,null,"",null,null,null,null,null,null,null,null,null,null,null,null,"","","","",null,null,null,0,0,0,0]
["Fonoaudiólogo/a",null,0,0,0,null,null,null,null,null,null,null,null,null,null,null,null,null,null,null,null,null,null,null,null,null,null,null,null,null,null,null,null,null,null,null,null,null,null,null,null,null,null,"",null,null,null,null,null,null,null,null,null,null,null,null,"","","","",null,null,null,0,0,0,0]
["Tecnólogo/a Médico/a",null,0,0,0,null,null,null,null,null,null,null,null,null,null,null,null,null,null,null,null,null,null,null,null,null,null,null,null,null,null,null,null,null,null,null,null,null,null,null,null,null,null,"",null,null,null,null,null,null,null,null,null,null,null,null,"","","","",null,null,null,0,0,0,0]
["Trabajador/a Social",null,{"$f":"SUM(D169+E169)","v":0},{"$f":"SUM(F169+H169+J169+L169+N169+P169+R169+T169+V169+X169+Z169+AB169+AD169+AF169+AH169+AJ169+AL169)","v":0},{"$f":"SUM(G169+I169+K169+M169+O169+Q169+S169+U169+W169+Y169+AA169+AC169+AE169+AG169+AI169+AK169+AM169)","v":0},null,null,null,null,null,null,null,null,null,null,null,null,null,null,null,null,null,null,null,null,null,null,null,null,null,null,null,null,null,null,null,null,null,null,null,null,null,null,"",null,null,null,null,null,null,null,null,null,null,null,null,"","","","",null,null,null,0,0,0,0]
["Terapeuta Ocupacional",null,0,0,0,null,null,null,null,null,null,null,null,null,null,null,null,null,null,null,null,null,null,null,null,null,null,null,null,null,null,null,null,null,null,null,null,null,null,null,null,null,null,"",null,null,null,null,null,null,null,null,null,null,null,null,"","","","",null,null,null,0,0,0,0]
["TOTAL",null,{"$f":"SUM(C160:C170)","v":0},0,0,0,0,0,0,0,0,0,0,0,0,0,0,0,0,0,0,0,0,0,0,0,0,0,0,0,0,0,0,0,0,0,0,0,0,0,0,0,0]
["SECCIÓN D: CONSULTAS INFECCIÓN TRANSMISIÓN SEXUAL (ITS) Y CONTROLES DE SALUD SEXUAL EN EL NIVEL SECUNDARIO (Incluidas en Sección C)"]
["ACTIVIDAD","PROFESIONAL","TOTAL ",null,null,"RANGO ETARIO Y SEXO",null,null,null,null,null,null,null,null,null,null,null,null,null,null,null,null,null,null,null,null,null,null,null,null,null,null,null,null,null,null,null,null,null,"Beneficiarios","TRANS",null,"Pueblos Originarios","Migrantes","Niños, Niñas, Adolescentes SENAME","Niños, Niñas, Adolescentes y Jóvenes Mejor Niñez"]
[null,null,null,null,null,"0 - 4 años",null,"5 - 9 años",null,"10 - 14 años",null,"15 - 19 años",null,"20 - 24 años",null,"25 - 29 años",null,"30 - 34 años",null,"35 - 39 años",null,"40 - 44 años",null,"45 - 49 años",null,"50 - 54 años",null,"55 - 59 años",null,"60 - 64 años",null,"65 - 69 años",null,"70 - 74 años",null,"75 - 79 años",null,"80 y más años"]
[null,null,"Ambos Sexos","Hombre","Mujer","Hombre","Mujer","Hombre","Mujer","Hombre","Mujer","Hombre","Mujer","Hombre","Mujer","Hombre","Mujer","Hombre","Mujer","Hombre","Mujer","Hombre","Mujer","Hombre","Mujer","Hombre","Mujer","Hombre","Mujer","Hombre","Mujer","Hombre","Mujer","Hombre","Mujer","Hombre","Mujer","Hombre","Mujer",null,"Masculino","Femenino"]
["Consultas Infección Transmisión Sexual  (ITS) (excluir VIH/SIDA)","Enfermera/o",{"$f":"SUM(D176+E176)","v":0},{"$f":"SUM(F176+H176+J176+L176+N176+P176+R176+T176+V176+X176+Z176+AB176+AD176+AF176+AH176+AJ176+AL176)","v":0},{"$f":"SUM(G176+I176+K176+M176+O176+Q176+S176+U176+W176+Y176+AA176+AC176+AE176+AG176+AI176+AK176+AM176)","v":0},null,null,null,null,null,null,null,null,null,null,null,null,null,null,null,null,null,null,null,null,null,null,null,null,null,null,null,null,null,null,null,null,null,null,null,null,null,null,null,null,null,{"$f":"BE176&BF176&BG176&BH176&BI176&BJ176&BK176","v":""},null,null,null,null,null,null,null,null,null,{"$f":"IF(AND(C176>0,AN176=\"\"),\" * No olvide digitar la variable Beneficiarios. Digite Cero si no tiene.\",IF(AN176>C176,\" *   La variable Beneficiarios No puede ser mayor al Total.\",\"\"))","v":""},{"$f":"IF(AND(E176>0,OR(AO176=\"\")),\" * No olvide digitar la variable Trans (Masculino). Digite Cero si no tiene.\",IF((AO176)>E176,\" * La variable Trans (Masculino) No puede ser mayor al Total Mujeres.\",\"\"))","v":""},{"$f":"IF(AND(D176>0,OR(AP176=\"\")),\" * No olvide digitar la variable Trans (Femenino). Digite Cero si no tiene.\",IF((AP176)>D176,\" * La variable Trans (Femenino) No puede ser mayor al Total Hombres.\",\"\"))","v":""},{"$f":"IF(AND(C176>0,AQ176=\"\"),\" * No olvide digitar la variable Pueblos Originarios. Digite Cero si no tiene.\",IF(AQ176>C176,\" *  * La variable Pueblos Originarios No puede ser mayor al Total.\",\"\"))","v":""},{"$f":"IF(AND(C176>0,AR176=\"\"),\" * No olvide digitar la variable Migrantes. Digite Cero si no tiene.\",IF(AR176>C176,\" *  * La variable Migrantes No puede ser mayor al Total.\",\"\"))","v":""},{"$f":"IF(AND(C176>0,AS176=\"\"),\" * No olvide digitar la variable Niños, niñas, Adolescentes SENAME. Digite Cero si no tiene.\",IF(AS176>C176,\" *  * La variable Niños, niñas, Adolescentes SENAME No puede ser mayor al Total.\",\"\"))","v":""},{"$f":"IF(AND(C176>0,AT176=\"\"),\" * No olvide digitar la variable Niños, Niñas, Adolescentes y Jóvenes Mejor Niñez. Digite Cero si no tiene.\",IF(AT176>C176,\" *  * La variable Niños, Niñas, Adolescentes y Jóvenes Mejor Niñez No puede ser mayor al Total.\",\"\"))","v":""},null,{"$f":"IF(AND(C176>0,AN176=\"\"),1,IF(AN176>C176,1,0))","v":0},{"$f":"IF(AND(E176>0,OR(AO176=\"\")),1,IF((AO176)>E176,1,0))","v":0},{"$f":"IF(AND(D176>0,OR(AP176=\"\")),1,IF((AP176)>D176,1,0))","v":0},{"$f":"IF(AND(C176>0,AQ176=\"\"),1,IF(AQ176>C176,1,0))","v":0},{"$f":"IF(AND(C176>0,AR176=\"\"),1,IF(AR176>C176,1,0))","v":0},{"$f":"IF(AND(C176>0,AS176=\"\"),1,IF(AS176>C176,1,0))","v":0},{"$f":"IF(AND(C176>0,AT176=\"\"),1,IF(AT176>C176,1,0))","v":0}]
[null,"Matrona/ón",0,{"$f":"SUM(F177+H177+J177+L177+N177+P177+R177+T177+V177+X177+Z177+AB177+AD177+AF177+AH177+AJ177+AL177)","v":0},{"$f":"SUM(G177+I177+K177+M177+O177+Q177+S177+U177+W177+Y177+AA177+AC177+AE177+AG177+AI177+AK177+AM177)","v":0},null,null,null,null,null,null,null,null,null,null,null,null,null,null,null,null,null,null,null,null,null,null,null,null,null,null,null,null,null,null,null,null,null,null,null,null,null,null,null,null,null,{"$f":"BE177&BF177&BG177&BH177&BI177&BJ177&BK177","v":""},null,null,null,null,null,null,null,null,null,{"$f":"IF(AND(C177>0,AN177=\"\"),\" * No olvide digitar la variable Beneficiarios. Digite Cero si no tiene.\",IF(AN177>C177,\" *   La variable Beneficiarios No puede ser mayor al Total.\",\"\"))","v":""},{"$f":"IF(AND(E177>0,OR(AO177=\"\")),\" * No olvide digitar la variable Trans (Masculino). Digite Cero si no tiene.\",IF((AO177)>E177,\" * La variable Trans (Masculino) No puede ser mayor al Total Mujeres.\",\"\"))","v":""},{"$f":"IF(AND(D177>0,OR(AP177=\"\")),\" * No olvide digitar la variable Trans (Femenino). Digite Cero si no tiene.\",IF((AP177)>D177,\" * La variable Trans (Femenino) No puede ser mayor al Total Hombres.\",\"\"))","v":""},{"$f":"IF(AND(C177>0,AQ177=\"\"),\" * No olvide digitar la variable Pueblos Originarios. Digite Cero si no tiene.\",IF(AQ177>C177,\" *  * La variable Pueblos Originarios No puede ser mayor al Total.\",\"\"))","v":""},{"$f":"IF(AND(C177>0,AR177=\"\"),\" * No olvide digitar la variable Migrantes. Digite Cero si no tiene.\",IF(AR177>C177,\" *  * La variable Migrantes No puede ser mayor al Total.\",\"\"))","v":""},{"$f":"IF(AND(C177>0,AS177=\"\"),\" * No olvide digitar la variable Niños, niñas, Adolescentes SENAME. Digite Cero si no tiene.\",IF(AS177>C177,\" *  * La variable Niños, niñas, Adolescentes SENAME No puede ser mayor al Total.\",\"\"))","v":""},{"$f":"IF(AND(C177>0,AT177=\"\"),\" * No olvide digitar la variable Niños, Niñas, Adolescentes y Jóvenes Mejor Niñez. Digite Cero si no tiene.\",IF(AT177>C177,\" *  * La variable Niños, Niñas, Adolescentes y Jóvenes Mejor Niñez No puede ser mayor al Total.\",\"\"))","v":""},null,{"$f":"IF(AND(C177>0,AN177=\"\"),1,IF(AN177>C177,1,0))","v":0},{"$f":"IF(AND(E177>0,OR(AO177=\"\")),1,IF((AO177)>E177,1,0))","v":0},{"$f":"IF(AND(D177>0,OR(AP177=\"\")),1,IF((AP177)>D177,1,0))","v":0},{"$f":"IF(AND(C177>0,AQ177=\"\"),1,IF(AQ177>C177,1,0))","v":0},{"$f":"IF(AND(C177>0,AR177=\"\"),1,IF(AR177>C177,1,0))","v":0},{"$f":"IF(AND(C177>0,AS177=\"\"),1,IF(AS177>C177,1,0))","v":0},{"$f":"IF(AND(C177>0,AT177=\"\"),1,IF(AT177>C177,1,0))","v":0}]
["Consultas VIH/SIDA","Enfermera/o",0,{"$f":"SUM(F178+H178+J178+L178+N178+P178+R178+T178+V178+X178+Z178+AB178+AD178+AF178+AH178+AJ178+AL178)","v":0},{"$f":"SUM(G178+I178+K178+M178+O178+Q178+S178+U178+W178+Y178+AA178+AC178+AE178+AG178+AI178+AK178+AM178)","v":0},null,null,null,null,null,null,null,null,null,null,null,null,null,null,null,null,null,null,null,null,null,null,null,null,null,null,null,null,null,null,null,null,null,null,null,null,null,null,null,null,null,"",null,null,null,null,null,null,null,null,null,"","","","","","","",null,0,0,0,0,0,0,0]
[null,"Matrona/ón",0,0,0,null,null,null,null,null,null,null,null,null,null,null,null,null,null,null,null,null,null,null,null,null,null,null,null,null,null,null,null,null,null,null,null,null,null,null,null,null,null,null,null,null,"",null,null,null,null,null,null,null,null,null,"","","","","","","",null,0,0,0,0,0,0,0]
[null,"Psicólogo/a",0,0,0,null,null,null,null,null,null,null,null,null,null,null,null,null,null,null,null,null,null,null,null,null,null,null,null,null,null,null,null,null,null,null,null,null,null,null,null,null,null,null,null,null,"",null,null,null,null,null,null,null,null,null,"","","","","","","",null,0,0,0,0,0,0,0]
["Control VIH Con TAR","Enfermera/o",0,0,0,null,null,null,null,null,null,null,null,null,null,null,null,null,null,null,null,null,null,null,null,null,null,null,null,null,null,null,null,null,null,null,null,null,null,null,null,null,null,null,null,null,"",null,null,null,null,null,null,null,null,null,"","","","","","","",null,0,0,0,0,0,0,0]
[null,"Matrona/ón",0,0,0,null,null,null,null,null,null,null,null,null,null,null,null,null,null,null,null,null,null,null,null,null,null,null,null,null,null,null,null,null,null,null,null,null,null,null,null,null,null,null,null,null,"",null,null,null,null,null,null,null,null,null,"","","","","","","",null,0,0,0,0,0,0,0]
["Control VIH Sin TAR","Enfermera/o",0,0,0,null,null,null,null,null,null,null,null,null,null,null,null,null,null,null,null,null,null,null,null,null,null,null,null,null,null,null,null,null,null,null,null,null,null,null,null,null,null,null,null,null,"",null,null,null,null,null,null,null,null,null,"","","","","","","",null,0,0,0,0,0,0,0]
[null,"Matrona/ón",0,0,0,null,null,null,null,null,null,null,null,null,null,null,null,null,null,null,null,null,null,null,null,null,null,null,null,null,null,null,null,null,null,null,null,null,null,null,null,null,null,null,null,null,"",null,null,null,null,null,null,null,null,null,"","","","","","","",null,0,0,0,0,0,0,0]
["Controles de Salud a Personas que Ejercen Comercio Sexual","Enfermera/o",0,{"$f":"SUM(L185+N185+P185+R185+T185+V185+X185+Z185+AB185+AD185+AF185+AH185+AJ185+AL185)","v":0},{"$f":"SUM(M185+O185+Q185+S185+U185+W185+Y185+AA185+AC185+AE185+AG185+AI185+AK185+AM185)","v":0},null,null,null,null,null,null,null,null,null,null,null,null,null,null,null,null,null,null,null,null,null,null,null,null,null,null,null,null,null,null,null,null,null,null,null,null,null,null,null,null,null,{"$f":"BE185&BF185&BG185&BH185&BI185&BJ185&BK185","v":""},null,null,null,null,null,null,null,null,null,"","","","","","","",null,0,0,0,0,0,0,0]
[null,"Matrona/ón",0,{"$f":"SUM(L186+N186+P186+R186+T186+V186+X186+Z186+AB186+AD186+AF186+AH186+AJ186+AL186)","v":0},{"$f":"SUM(M186+O186+Q186+S186+U186+W186+Y186+AA186+AC186+AE186+AG186+AI186+AK186+AM186)","v":0},null,null,null,null,null,null,null,null,null,null,null,null,null,null,null,null,null,null,null,null,null,null,null,null,null,null,null,null,null,null,null,null,null,null,null,null,null,null,null,null,null,{"$f":"BE186&BF186&BG186&BH186&BI186&BJ186&BK186","v":""},null,null,null,null,null,null,null,null,null,"","","","","","","",null,0,0,0,0,0,0,0]
["SECCIÓN E: ACTIVIDADES DE PROFESIONAL DE ENLACE  EN EL NIVEL SECUNDARIO Y TERCIARIO SEGUN RIESGO (ECICEP)"]
["Profesional de Enlace",null,"TOTAL               ",null,null,"RANGO ETARIO Y SEXO",null,null,null,null,null,null,null,null,null,null,null,null,null,null,null,null,null,null,null,null,null,null,null,null,null,null,null,"Procedencia de la Derivación ",null,null,null,"Egreso de Atención de Enlace","Tipo de Atención ",null,"Migrantes","Pueblos Originarios"]
[null,null,null,null,null,"15 - 19 años",null,"20 - 24 años",null,"25 - 29 años",null,"30 - 34 años",null,"35 - 39 años",null,"40 - 44 años",null,"45 - 49 años",null,"50 - 54 años",null,"55 - 59 años",null,"60 - 64 años",null,"65 - 69 años",null,"70 - 74 años",null,"75 - 79 años",null,"80 y más años",null,"APS","CAE/CDT/CRS","Hospitaliza-ción ","Urgencia",null," Presencial ","Remota"]
[null,null,"Ambos Sexos","Hombres","Mujeres","Hombres","Mujeres","Hombres","Mujeres","Hombres ","Mujeres","Hombres ","Mujeres","Hombres ","Mujeres","Hombres ","Mujeres","Hombres ","Mujeres","Hombres ","Mujeres","Hombres ","Mujeres","Hombres ","Mujeres","Hombres ","Mujeres","Hombres ","Mujeres","Hombres ","Mujeres","Hombres ","Mujeres"]
["Ingreso a Atención de PDE","Riesgo Alto (G3)",{"$f":"SUM(D191+E191)","v":0},{"$f":"SUM(F191+H191+J191+L191+N191+P191+R191+T191+V191+X191+Z191+AB191+AD191+AF191)","v":0},{"$f":"SUM(G191+I191+K191+M191+O191+Q191+S191+U191+W191+Y191+AA191+AC191+AE191+AG191)","v":0},null,null,null,null,null,null,null,null,null,null,null,null,null,null,null,null,null,null,null,null,null,null,null,null,null,null,null,null,null,null,null,null,null,null,null,null,null,{"$f":"BE191&BF191","v":""},null,null,null,null,null,null,null,null,null,null,null,null,null,{"$f":"IF(AND(C191>0,AO191=\"\"),\" * No olvide digitar la variable Migrantes. Digite Cero si no tiene.\",IF(AO191>C191,\" * La variable Migrantes No puede ser mayor al Total Ambos Sexos.\",\"\"))","v":""},{"$f":"IF(AND(C191>0,AP191=\"\"),\" * No olvide digitar la variable Pueblos Originarios. Digite Cero si no tiene.\",IF(AP191>C191,\" * La variable Pueblos Originarios No puede ser mayor al Total Ambos Sexos.\",\"\"))","v":""},null,null,null,null,null,{"$f":"IF(AND(C191>0,AO191=\"\"),1,IF(AO191>C191,1,0))","v":0},{"$f":"IF(AND(C191>0,AP191=\"\"),1,IF(AP191>C191,1,0))","v":0}]
[null,"Riesgo Moderado (G2)",{"$f":"SUM(D192+E192)","v":0},{"$f":"SUM(F192+H192+J192+L192+N192+P192+R192+T192+V192+X192+Z192+AB192+AD192+AF192)","v":0},{"$f":"SUM(G192+I192+K192+M192+O192+Q192+S192+U192+W192+Y192+AA192+AC192+AE192+AG192)","v":0},null,null,null,null,null,null,null,null,null,null,null,null,null,null,null,null,null,null,null,null,null,null,null,null,null,null,null,null,null,null,null,null,null,null,null,null,null,{"$f":"BE192&BF192","v":""},null,null,null,null,null,null,null,null,null,null,null,null,null,{"$f":"IF(AND(C192>0,AO192=\"\"),\" * No olvide digitar la variable Migrantes. Digite Cero si no tiene.\",IF(AO192>C192,\" * La variable Migrantes No puede ser mayor al Total Ambos Sexos.\",\"\"))","v":""},{"$f":"IF(AND(C192>0,AP192=\"\"),\" * No olvide digitar la variable Pueblos Originarios. Digite Cero si no tiene.\",IF(AP192>C192,\" * La variable Pueblos Originarios No puede ser mayor al Total Ambos Sexos.\",\"\"))","v":""},null,null,null,null,null,{"$f":"IF(AND(C192>0,AO192=\"\"),1,IF(AO192>C192,1,0))","v":0},{"$f":"IF(AND(C192>0,AP192=\"\"),1,IF(AP192>C192,1,0))","v":0}]
["Seguimiento de PDE","Riesgo Alto (G3)",0,{"$f":"SUM(F193+H193+J193+L193+N193+P193+R193+T193+V193+X193+Z193+AB193+AD193+AF193)","v":0},0,null,null,null,null,null,null,null,null,null,null,null,null,null,null,null,null,null,null,null,null,null,null,null,null,null,null,null,null,null,null,null,null,null,null,null,null,null,"",null,null,null,null,null,null,null,null,null,null,null,null,null,"","",null,null,null,null,null,0,0]
[null,"Riesgo Moderado (G2)",0,0,0,null,null,null,null,null,null,null,null,null,null,null,null,null,null,null,null,null,null,null,null,null,null,null,null,null,null,null,null,null,null,null,null,null,null,null,null,null,"",null,null,null,null,null,null,null,null,null,null,null,null,null,"","",null,null,null,null,null,0,0]
["Continuidad en la Gestión (PDE-APS)","Riesgo Alto (G3)",0,0,0,null,null,null,null,null,null,null,null,null,null,null,null,null,null,null,null,null,null,null,null,null,null,null,null,null,null,null,null,null,null,null,null,null,null,null,null,null,"",null,null,null,null,null,null,null,null,null,null,null,null,null,"","",null,null,null,null,null,0,0]
[null,"Riesgo Moderado (G2)",0,0,0,null,null,null,null,null,null,null,null,null,null,null,null,null,null,null,null,null,null,null,null,null,null,null,null,null,null,null,null,null,null,null,null,null,null,null,null,null,"",null,null,null,null,null,null,null,null,null,null,null,null,null,"","",null,null,null,null,null,0,0]
["Actividades de Gestión de PDE","Riesgo Alto (G3)",0,0,0,null,null,null,null,null,null,null,null,null,null,null,null,null,null,null,null,null,null,null,null,null,null,null,null,null,null,null,null,null,null,null,null,null,null,null,null,null,"",null,null,null,null,null,null,null,null,null,null,null,null,null,"","",null,null,null,null,null,0,0]
[null,"Riesgo Moderado (G2)",0,0,0,null,null,null,null,null,null,null,null,null,null,null,null,null,null,null,null,null,null,null,null,null,null,null,null,null,null,null,null,null,null,null,null,null,null,null,null,null,"",null,null,null,null,null,null,null,null,null,null,null,null,null,"","",null,null,null,null,null,0,0]
["Inasistente a Atención de PDE (NSP)","Riesgo Alto (G3)",0,0,0,null,null,null,null,null,null,null,null,null,null,null,null,null,null,null,null,null,null,null,null,null,null,null,null,null,null,null,null,null,null,null,null,null,null,null,null,null,"",null,null,null,null,null,null,null,null,null,null,null,null,null,"","",null,null,null,null,null,0,0]
[null,"Riesgo Moderado (G2)",0,0,0,null,null,null,null,null,null,null,null,null,null,null,null,null,null,null,null,null,null,null,null,null,null,null,null,null,null,null,null,null,null,null,null,null,null,null,null,null,"",null,null,null,null,null,null,null,null,null,null,null,null,null,"","",null,null,null,null,null,0,0]
[]
[]
[]
[]
[]
[]
[]
[]
[]
[]
[]
[]
[]
[]
[]
[]
[]
[]
[]
[]
[]
[]
[]
[]
[]
[]
[]
[]
[]
[]
[]
[]
[]
[]
[]
[]
[]
[]
[]
[]
[]
[]
[]
[]
[]
[]
[]
[]
[{"$f":"SUM(B12:B72,W12:W71,AA12:AA71,AE12:AF71,B76:B136,F76:F136,J76:J136,N76:N136,Q76:AI136,B139:B155,C160:C171,C176:C186,C191:C200)","v":0},{"$f":"SUM(BL12:BS200)","v":0}]

{"sheet":"A08","index":8,"n_rows":248,"n_cols":74,"rows_kept":248,"cut":false,"hidden":false,"merged":[[5,0,5,14],[9,0,11,0],[9,1,10,3],[9,4,9,37],[9,38,11,38],[9,39,9,42],[10,20,10,21],[10,22,10,23],[10,24,10,25],[10,26,10,27],[9,43,11,43],[9,44,11,44],[10,4,10,5],[10,6,10,7],[10,8,10,9],[10,10,10,11],[10,12,10,13],[10,14,10,15],[10,16,10,17],[10,18,10,19],[10,40,11,40],[10,41,11,41],[10,42,11,42],[17,38,19,38],[17,39,19,39],[17,40,19,40],[17,41,19,41],[10,28,10,29],[10,30,10,31],[10,32,10,33],[10,34,10,35],[10,36,10,37],[10,39,11,39],[18,28,18,29],[18,30,18,31],[18,32,18,33],[18,34,18,35],[18,36,18,37],[26,0,26,7],[18,16,18,17],[18,18,18,19],[18,20,18,21],[18,22,18,23],[18,24,18,25],[18,26,18,27],[18,4,18,5],[18,6,18,7],[18,8,18,9],[18,10,18,11],[18,12,18,13],[18,14,18,15],[17,0,19,0],[17,1,18,3],[17,4,17,37],[27,0,29,0],[27,1,28,3],[27,4,27,37],[27,38,29,38],[27,39,29,39],[28,4,28,5],[28,6,28,7],[28,8,28,9],[28,10,28,11],[28,12,28,13],[28,26,28,27],[28,28,28,29],[28,30,28,31],[28,32,28,33],[28,34,28,35],[28,36,28,37],[28,14,28,15],[28,16,28,17],[28,18,28,19],[28,20,28,21],[28,22,28,23],[28,24,28,25],[37,0,39,0],[37,1,38,3],[37,4,37,37],[37,38,39,38],[37,39,39,39],[38,4,38,5],[38,6,38,7],[38,8,38,9],[38,10,38,11],[38,12,38,13],[38,26,38,27],[38,28,38,29],[38,30,38,31],[38,32,38,33],[38,34,38,35],[38,36,38,37],[38,14,38,15],[38,16,38,17],[38,18,38,19],[38,20,38,21],[38,22,38,23],[38,24,38,25],[47,0,49,0],[47,1,48,3],[47,4,47,37],[47,38,49,38],[47,39,49,39],[48,4,48,5],[48,6,48,7],[48,8,48,9],[48,10,48,11],[48,12,48,13],[57,38,58,39],[58,4,58,5],[58,6,58,7],[58,8,58,9],[58,10,58,11],[91,39,93,39],[58,12,58,13],[58,14,58,15],[48,26,48,27],[48,28,48,29],[48,30,48,31],[48,32,48,33],[48,34,48,35],[48,36,48,37],[48,14,48,15],[48,16,48,17],[48,18,48,19],[48,20,48,21],[48,22,48,23],[48,24,48,25],[58,28,58,29],[58,30,58,31],[58,32,58,33],[58,34,58,35],[58,16,58,17],[58,18,58,19],[58,20,58,21],[58,22,58,23],[58,24,58,25],[58,26,58,27],[57,0,59,0],[57,1,58,3],[57,4,57,37],[58,36,58,37],[91,40,93,40],[92,5,92,6],[92,7,92,8],[92,9,92,10],[92,11,92,12],[92,13,92,14],[92,15,92,16],[92,17,92,18],[92,19,92,20],[92,37,92,38],[92,33,92,34],[92,35,92,36],[91,5,91,38],[92,21,92,22],[92,23,92,24],[94,0,94,1],[95,0,97,0],[98,0,98,1],[99,0,99,1],[100,0,100,1],[92,25,92,26],[92,27,92,28],[92,29,92,30],[92,31,92,32],[91,0,93,1],[91,2,92,4],[101,0,101,1],[103,0,103,2],[104,0,106,1],[107,0,107,10],[108,0,110,1],[108,2,109,4],[108,5,108,38],[109,23,109,24],[109,25,109,26],[109,27,109,28],[109,35,109,36],[109,37,109,38],[108,39,110,39],[109,5,109,6],[109,7,109,8],[109,9,109,10],[109,11,109,12],[109,13,109,14],[109,15,109,16],[109,17,109,18],[109,19,109,20],[109,21,109,22],[112,0,112,1],[113,0,113,1],[115,0,116,1],[115,2,115,4],[115,5,115,6],[115,7,115,8],[109,29,109,30],[109,31,109,32],[109,33,109,34],[115,21,115,22],[115,23,115,24],[115,13,115,14],[115,15,115,16],[115,17,115,18],[115,19,115,20],[111,0,111,1],[117,0,117,1],[118,0,118,1],[120,0,121,0],[120,1,120,4],[120,5,120,6],[120,7,120,10],[120,11,121,11],[120,12,121,12],[115,9,115,10],[115,11,115,12],[127,0,128,0],[145,0,145,1],[148,0,149,1],[148,2,148,4],[120,13,121,13],[120,14,121,14],[120,15,121,15],[125,0,126,1],[125,2,126,2],[125,3,125,8],[125,9,126,9],[157,0,159,0],[161,0,162,1],[161,2,161,4],[161,5,162,5],[161,6,162,6],[161,7,162,7],[148,5,149,5],[148,6,148,8],[148,9,148,11],[150,0,151,0],[153,0,153,1],[154,0,155,0],[171,26,171,27],[171,28,171,29],[163,0,165,0],[166,0,168,0],[170,0,172,0],[170,1,171,3],[170,4,170,37],[171,4,171,5],[171,6,171,7],[171,8,171,9],[171,10,171,11],[171,12,171,13],[171,30,171,31],[171,32,171,33],[171,34,171,35],[171,36,171,37],[171,14,171,15],[171,16,171,17],[171,18,171,19],[171,20,171,21],[171,22,171,23],[171,24,171,25],[181,0,182,0],[178,34,180,34],[178,35,180,35],[178,36,180,36],[179,5,179,6],[179,7,179,8],[179,9,179,10],[179,11,179,12],[179,13,179,14],[179,15,179,16],[179,17,179,18],[178,24,180,24],[178,25,180,25],[178,26,180,26],[178,27,178,30],[178,31,178,32],[178,33,180,33],[179,27,180,27],[179,28,180,28],[179,29,180,29],[178,0,180,1],[178,2,179,4],[178,5,178,20],[178,21,180,21],[188,38,189,39],[189,4,189,5],[189,6,189,7],[189,8,189,9],[189,10,189,11],[189,12,189,13],[189,14,189,15],[179,31,180,31],[179,32,180,32],[179,30,180,30],[178,22,180,22],[178,23,180,23],[179,19,179,20],[193,0,196,0],[193,1,194,3],[193,4,193,11],[193,12,194,13],[193,14,195,14],[189,16,189,17],[189,18,189,19],[189,20,189,21],[189,22,189,23],[188,0,190,0],[188,1,189,3],[188,4,188,37],[194,4,194,5],[194,6,194,7],[194,8,194,9],[194,10,194,11],[189,28,189,29],[189,30,189,31],[189,32,189,33],[189,34,189,35],[189,36,189,37],[189,24,189,25],[189,26,189,27]]}
["SERVICIO DE SALUD"]
[{"$f":"CONCATENATE(\"COMUNA: \",NOMBRE!B2,\" - \",\"( \",NOMBRE!C2,NOMBRE!D2,NOMBRE!E2,NOMBRE!F2,NOMBRE!G2,\" )\")","v":"COMUNA:  - (  )"}]
[{"$f":"CONCATENATE(\"ESTABLECIMIENTO/ESTRATEGIA: \",NOMBRE!B3,\" - \",\"( \",NOMBRE!C3,NOMBRE!D3,NOMBRE!E3,NOMBRE!F3,NOMBRE!G3,NOMBRE!H3,\" )\")","v":"ESTABLECIMIENTO/ESTRATEGIA:  - (  )"}]
[{"$f":"CONCATENATE(\"MES: \",NOMBRE!B6,\" - \",\"( \",NOMBRE!C6,NOMBRE!D6,\" )\")","v":"MES:  - (  )"}]
[{"$f":"CONCATENATE(\"AÑO: \",NOMBRE!B7)","v":"AÑO: 2024"}]
["REM-A08.  ATENCIÓN DE URGENCIA"]
[]
["SECCIÓN A: ATENCIONES REALIZADAS EN UNIDADES DE URGENCIA DE LA RED"]
["SECCIÓN A.1: ATENCIONES REALIZADAS EN UNIDADES DE EMERGENCIA HOSPITALARIA (Establecimientos de alta, mediana complejidad)"]
["TIPO DE ATENCIÓN","TOTAL        ",null,null,"RANGO ETARIO Y SEXO",null,null,null,null,null,null,null,null,null,null,null,null,null,null,null,null,null,null,null,null,null,null,null,null,null,null,null,null,null,null,null,null,null,"Beneficiarios","Origen de la procedencia (Sólo pacientes derivados de establecimientos de la Red)",null,null,null,"Establecimientos de otra Red","Demanda de Urgencia"]
[null,null,null,null,"0 - 4 años",null,"5 - 9 años",null,"10 - 14 años",null,"15 - 19 años",null,"20 - 24 años",null,"25 - 29 años",null,"30 - 34 años",null,"35 - 39 años",null,"40 - 44 años",null,"45 - 49 años",null,"50 - 54 años",null,"55 - 59 años",null,"60 - 64 años",null,"65 - 69 años",null,"70 - 74 años",null,"75 - 79 años",null,"80 y más años",null,null,"SAPU/ SAR / SUR","Hospital Baja Complejidad","Hospital Mediana/Alta Complejidad","Otros Establecimien-tos de la  Red"]
[null,"Ambos Sexos","Hombres","Mujeres","Hombres","Mujeres","Hombres","Mujeres","Hombres","Mujeres","Hombres","Mujeres","Hombres","Mujeres","Hombres","Mujeres","Hombres","Mujeres","Hombres","Mujeres","Hombres","Mujeres","Hombres","Mujeres","Hombres","Mujeres","Hombres","Mujeres","Hombres","Mujeres","Hombres","Mujeres","Hombres","Mujeres","Hombres","Mujeres","Hombres","Mujeres"]
["Atención Médica Niño y Adulto",{"$f":"SUM(C13+D13)","v":0},{"$f":"SUM(E13+G13+I13+K13+M13+O13+Q13+S13+U13+W13+Y13+AA13+AC13+AE13+AG13+AI13+AK13)","v":0},0,null,null,null,null,null,null,null,null,null,null,null,null,null,null,null,null,null,null,null,null,null,null,null,null,null,null,null,null,null,null,null,null,null,null,null,null,null,null,null,null,null,{"$f":"BI13&BJ13&BK13&BL13&BM13","v":" "},null,null,null,null,null,null,null,null,null,null,null,null,null,null,{"$f":"IF(AND(B13>0,AM13=\"\"),\" * No olvide digitar la columna Beneficiarios\",IF(AM13>B13,\" * La variable Beneficiarios no pueder mayor al Total.\",\"\"))","v":""},{"$f":"IF(AND(B13>0,OR(AN13=\"\",AO13=\"\",AP13=\"\",AQ13=\"\")),\" * No olvide digitar el Origen de la Procedencia \"&AN$11&\"\"&\", \"&\"\"&AO$11&\"\"&\", \"&\"\"&AP$11&\"\"&\", \"&\"\"&AQ$11&\". \"\"Digite CERO si no tiene datos\"\"\",\" \")","v":" "},{"$f":"IF(AN13+AO13+AP13+AQ13>B13,\" * La variable Origen de la procedencia no pueder mayor al Total.\",\"\")","v":""},{"$f":"IF(AND(B13>0,AR13=\"\"),\" * No olvide digitar la columna Establecimientos de otra Red (Digite cero si no tiene)\",IF(AR13>B13,\" * La variable Establecimientos de otra Red no pueder mayor al Total.\",\"\"))","v":""},{"$f":"IF(AND(B13>0,AS13=\"\"),\" * No olvide digitar la columna Demanda de Urgencia. \",IF(AS13<B13,\" * La variable Demanda de Urgencia debe ser mayor o igual al Total Ambos Sexos.\",\"\"))","v":""},null,{"$f":"IF(AND(B13>0,AM13=\"\"),1,IF(AM13>B13,1,0))","v":0},{"$f":"IF(AND(B13>0,OR(AN13=\"\",AO13=\"\",AP13=\"\",AQ13=\"\")),1,0)","v":0},{"$f":"IF(AN13+AO13+AP13+AQ13>B13,1,0)","v":0},{"$f":"IF(AND(B13>0,AR13=\"\"),1,IF(AR13>B13,1,0))","v":0},{"$f":"IF(AND(B13>0,AS13=\"\"),1,IF(AS13<B13,1,0))","v":0}]
["Atención Médica Gineco-Obstetra",{"$f":"SUM(C14+D14)","v":0},0,0,null,null,null,null,null,null,null,null,null,null,null,null,null,null,null,null,null,null,null,null,null,null,null,null,null,null,null,null,null,null,null,null,null,null,null,null,null,null,null,null,null,{"$f":"BI14&BJ14&BK14&BL14&BM14","v":" "},null,null,null,null,null,null,null,null,null,null,null,null,null,null,{"$f":"IF(AND(B14>0,AM14=\"\"),\" * No olvide digitar la columna Beneficiarios\",IF(AM14>B14,\" * La variable Beneficiarios no pueder mayor al Total.\",\"\"))","v":""},{"$f":"IF(AND(B14>0,OR(AN14=\"\",AO14=\"\",AP14=\"\",AQ14=\"\")),\" * No olvide digitar el Origen de la Procedencia \"&AN$11&\"\"&\", \"&\"\"&AO$11&\"\"&\", \"&\"\"&AP$11&\"\"&\", \"&\"\"&AQ$11&\". \"\"Digite CERO si no tiene datos\"\"\",\" \")","v":" "},{"$f":"IF(AN14+AO14+AP14+AQ14>B14,\" * La variable Origen de la procedencia no pueder mayor al Total.\",\"\")","v":""},{"$f":"IF(AND(B14>0,AR14=\"\"),\" * No olvide digitar la columna Establecimientos de otra Red (Digite cero si no tiene)\",IF(AR14>B14,\" * La variable Establecimientos de otra Red no pueder mayor al Total.\",\"\"))","v":""},{"$f":"IF(AND(B14>0,AS14=\"\"),\" * No olvide digitar la columna Demanda de Urgencia. \",IF(AS14<B14,\" * La variable Demanda de Urgencia debe ser mayor o igual al Total Ambos Sexos.\",\"\"))","v":""},null,{"$f":"IF(AND(B14>0,AM14=\"\"),1,IF(AM14>B14,1,0))","v":0},{"$f":"IF(AND(B14>0,OR(AN14=\"\",AO14=\"\",AP14=\"\",AQ14=\"\")),1,0)","v":0},{"$f":"IF(AN14+AO14+AP14+AQ14>B14,1,0)","v":0},{"$f":"IF(AND(B14>0,AR14=\"\"),1,IF(AR14>B14,1,0))","v":0},{"$f":"IF(AND(B14>0,AS14=\"\"),1,IF(AS14<B14,1,0))","v":0}]
["Atención por Matrona/ón",{"$f":"SUM(C15+D15)","v":0},0,0,null,null,null,null,null,null,null,null,null,null,null,null,null,null,null,null,null,null,null,null,null,null,null,null,null,null,null,null,null,null,null,null,null,null,null,null,null,null,null,null,null,{"$f":"BI15","v":""},null,null,null,null,null,null,null,null,null,null,null,null,null,null,{"$f":"IF(AND(B15>0,AM15=\"\"),\" * No olvide digitar la columna Beneficiarios\",IF(AM15>B15,\" * La variable Beneficiarios no pueder mayor al Total.\",\"\"))","v":""},null,null,null,null,null,{"$f":"IF(AND(B15>0,AM15=\"\"),1,IF(AM15>B15,1,0))","v":0}]
["Atención por Odontólogo/a",{"$f":"SUM(C16+D16)","v":0},0,0,null,null,null,null,null,null,null,null,null,null,null,null,null,null,null,null,null,null,null,null,null,null,null,null,null,null,null,null,null,null,null,null,null,null,null,null,null,null,null,null,null,{"$f":"BI16","v":""},null,null,null,null,null,null,null,null,null,null,null,null,null,null,"",null,null,null,null,null,0]
["SECCIÓN A.2: ATENCIONES Y ACTIVIDADES DE URGENCIA REALIZADAS EN SAPU Y SAR"]
["ATENCIÓN","TOTAL        ",null,null,"RANGO ETARIO Y SEXO",null,null,null,null,null,null,null,null,null,null,null,null,null,null,null,null,null,null,null,null,null,null,null,null,null,null,null,null,null,null,null,null,null,"Beneficiarios","Atenciones por profesionales  a Honorarios","Demanda de Urgencia","Por Campaña de Invierno"]
[null,null,null,null,"0 - 4 años",null,"5 - 9 años",null,"10 - 14 años",null,"15 - 19 años",null,"20 - 24 años",null,"25 - 29 años",null,"30 - 34 años",null,"35 - 39 años",null,"40 - 44 años",null,"45 - 49 años",null,"50 - 54 años",null,"55 - 59 años",null,"60 - 64 años",null,"65 - 69 años",null,"70 - 74 años",null,"75 - 79 años",null,"80 y más años"]
[null,"Ambos Sexos","Hombres ","Mujeres","Hombres ","Mujeres","Hombres ","Mujeres","Hombres ","Mujeres","Hombres ","Mujeres","Hombres ","Mujeres","Hombres ","Mujeres","Hombres ","Mujeres","Hombres ","Mujeres","Hombres ","Mujeres","Hombres ","Mujeres","Hombres ","Mujeres","Hombres ","Mujeres","Hombres ","Mujeres","Hombres ","Mujeres","Hombres ","Mujeres","Hombres ","Mujeres","Hombres ","Mujeres"]
["Atención Medica",{"$f":"SUM(C21+D21)","v":0},{"$f":"SUM(E21+G21+I21+K21+M21+O21+Q21+S21+U21+W21+Y21+AA21+AC21+AE21+AG21+AI21+AK21)","v":0},0,null,null,null,null,null,null,null,null,null,null,null,null,null,null,null,null,null,null,null,null,null,null,null,null,null,null,null,null,null,null,null,null,null,null,null,null,null,null,{"$f":"BI21&BJ21&BK21&BL21","v":""},null,null,null,null,null,null,null,null,null,null,null,null,null,null,null,null,null,{"$f":"IF(AND(B21>0,AM21=\"\"),\" * No olvide digitar la columna Beneficiarios Digite cero si no tiene\",IF(AM21>B21,\" * La variable Beneficiarios no puede ser mayor al Total.\",\"\"))","v":""},{"$f":"IF(AND(B21>0,AN21=\"\"),\" * No olvide digitar la columna Atenciones por profesionales  a Honorarios (Digite Cero si no tiene)\",IF(AN21>B21,\" * La variable Atenciones por profesionales  a Honorarios no puede ser mayor al Total.\",\"\"))","v":""},{"$f":"IF(AND(B21>0,AO21=\"\"),\" * No olvide digitar la columna Demanda de Urgencia.\",IF(AO21<B21,\" * La variable Demanda de Urgencia debe ser mayor o igual al Total Ambos Sexos.\",\"\"))","v":""},{"$f":"IF(AND(B21>0,AP21=\"\"),\" * No olvide digitar la columna Por Campaña de Invierno (Digite Cero si no tiene)\",IF(AP21>B21,\" * La variable Por Campaña de Invierno no puede ser mayor al Total.\",\"\"))","v":""},null,{"$f":"IF(AND(B21>0,AM21=\"\"),1,IF(AM21>B21,1,0))","v":0},{"$f":"IF(AND(B21>0,AN21=\"\"),1,IF(AN21>B21,1,0))","v":0},{"$f":"IF(AND(B21>0,AO21=\"\"),1,IF(AO21<B21,1,0))","v":0},{"$f":"IF(AND(B21>0,AP21=\"\"),1,IF(AP21>B21,1,0))","v":0}]
["Enfermería",0,0,0,null,null,null,null,null,null,null,null,null,null,null,null,null,null,null,null,null,null,null,null,null,null,null,null,null,null,null,null,null,null,null,null,null,null,null,null,null,null,{"$f":"BI22&BJ22&BK22&BL22","v":""},null,null,null,null,null,null,null,null,null,null,null,null,null,null,null,null,null,{"$f":"IF(AND(B22>0,AM22=\"\"),\" * No olvide digitar la columna Beneficiarios Digite cero si no tiene\",IF(AM22>B22,\" * La variable Beneficiarios no puede ser mayor al Total.\",\"\"))","v":""},{"$f":"IF(AND(B22>0,AN22=\"\"),\" * No olvide digitar la columna Atenciones por profesionales  a Honorarios (Digite Cero si no tiene)\",IF(AN22>B22,\" * La variable Atenciones por profesionales  a Honorarios no puede ser mayor al Total.\",\"\"))","v":""},{"$f":"IF(AND(B22>0,AO22=\"\"),\" * No olvide digitar la columna Demanda de Urgencia.\",IF(AO22<B22,\" * La variable Demanda de Urgencia debe ser mayor o igual al Total Ambos Sexos.\",\"\"))","v":""},{"$f":"IF(AND(B22>0,AP22=\"\"),\" * No olvide digitar la columna Por Campaña de Invierno (Digite Cero si no tiene)\",IF(AP22>B22,\" * La variable Por Campaña de Invierno no puede ser mayor al Total.\",\"\"))","v":""},null,{"$f":"IF(AND(B22>0,AM22=\"\"),1,IF(AM22>B22,1,0))","v":0},{"$f":"IF(AND(B22>0,AN22=\"\"),1,IF(AN22>B22,1,0))","v":0},{"$f":"IF(AND(B22>0,AO22=\"\"),1,IF(AO22<B22,1,0))","v":0},{"$f":"IF(AND(B22>0,AP22=\"\"),1,IF(AP22>B22,1,0))","v":0}]
["Matronería",0,0,0,null,null,null,null,null,null,null,null,null,null,null,null,null,null,null,null,null,null,null,null,null,null,null,null,null,null,null,null,null,null,null,null,null,null,null,null,null,null,{"$f":"BI23&BJ23&BK23","v":""},null,null,null,null,null,null,null,null,null,null,null,null,null,null,null,null,null,"","","",null,null,0,0,0]
["Kinesiología",0,0,0,null,null,null,null,null,null,null,null,null,null,null,null,null,null,null,null,null,null,null,null,null,null,null,null,null,null,null,null,null,null,null,null,null,null,null,null,null,null,{"$f":"BI24&BJ24&BK24&BL24","v":""},null,null,null,null,null,null,null,null,null,null,null,null,null,null,null,null,null,"","","","",null,0,0,0,0]
["Psicología",0,0,0,null,null,null,null,null,null,null,null,null,null,null,null,null,null,null,null,null,null,null,null,null,null,null,null,null,null,null,null,null,null,null,null,null,null,null,null,null,null,{"$f":"BI25&BJ25","v":""},null,null,null,null,null,null,null,null,null,null,null,null,null,null,null,null,null,"","",null,null,null,0,0]
["Trabajo Social",0,0,0,null,null,null,null,null,null,null,null,null,null,null,null,null,null,null,null,null,null,null,null,null,null,null,null,null,null,null,null,null,null,null,null,null,null,null,null,null,null,{"$f":"BI26&BJ26","v":""},null,null,null,null,null,null,null,null,null,null,null,null,null,null,null,null,null,"","",null,null,null,0,0]
["SECCIÓN A.3: ATENCIONES DE URGENCIA REALIZADAS EN ESTABLECIMIENTOS DE BAJA COMPLEJIDAD"]
["PROFESIONAL","TOTAL        ",null,null,"RANGO ETARIO Y SEXO",null,null,null,null,null,null,null,null,null,null,null,null,null,null,null,null,null,null,null,null,null,null,null,null,null,null,null,null,null,null,null,null,null,"Beneficiarios","Demanda de Urgencia"]
[null,null,null,null,"0 - 4 años",null,"5 - 9 años",null,"10 - 14 años",null,"15 - 19 años",null,"20 - 24 años",null,"25 - 29 años",null,"30 - 34 años",null,"35 - 39 años",null,"40 - 44 años",null,"45 - 49 años",null,"50 - 54 años",null,"55 - 59 años",null,"60 - 64 años",null,"65 - 69 años",null,"70 - 74 años",null,"75 - 79 años",null,"80 y más años"]
[null,"Ambos Sexos","Hombres ","Mujeres","Hombres ","Mujeres","Hombres ","Mujeres","Hombres ","Mujeres","Hombres ","Mujeres","Hombres ","Mujeres","Hombres ","Mujeres","Hombres ","Mujeres","Hombres ","Mujeres","Hombres ","Mujeres","Hombres ","Mujeres","Hombres ","Mujeres","Hombres ","Mujeres","Hombres ","Mujeres","Hombres ","Mujeres","Hombres ","Mujeres","Hombres ","Mujeres","Hombres ","Mujeres"]
["Médico",{"$f":"SUM(C31+D31)","v":0},{"$f":"SUM(E31+G31+I31+K31+M31+O31+Q31+S31+U31+W31+Y31+AA31+AC31+AE31+AG31+AI31+AK31)","v":0},0,null,null,null,null,null,null,null,null,null,null,null,null,null,null,null,null,null,null,null,null,null,null,null,null,null,null,null,null,null,null,null,null,null,null,null,null,{"$f":"BI31&BJ31","v":""},null,null,null,null,null,null,null,null,null,null,null,null,null,null,null,null,null,null,null,{"$f":"IF(AND(B31>0,AM31=\"\"),\" * No olvide digitar la columna Beneficiarios (Digite Cero si no tiene)\",IF(AM31>B31,\" * La variable Beneficiarios no puede ser mayor al Total.\",\"\"))","v":""},{"$f":"IF(AND(B31>0,AN31=\"\"),\" * No olvide digitar la columna Demanda de Urgencia. \",IF(AN31<B31,\" *  La variable Demanda de Urgencia debe ser mayor o igual al Total Ambos Sexos.\",\"\"))","v":""},null,null,null,{"$f":"IF(AND(B31>0,AM31=\"\"),1,IF(AM31>B31,1,0))","v":0},{"$f":"IF(AND(B31>0,AN31=\"\"),1,IF(AN31<B31,1,0))","v":0}]
["Enfermera /o",0,0,0,null,null,null,null,null,null,null,null,null,null,null,null,null,null,null,null,null,null,null,null,null,null,null,null,null,null,null,null,null,null,null,null,null,null,null,null,{"$f":"BI32","v":""},null,null,null,null,null,null,null,null,null,null,null,null,null,null,null,null,null,null,null,{"$f":"IF(AND(B32>0,AM32=\"\"),\" * No olvide digitar la columna Beneficiarios (Digite Cero si no tiene)\",IF(AM32>B32,\" * La variable Beneficiarios no puede ser mayor al Total.\",\"\"))","v":""},null,null,null,null,{"$f":"IF(AND(B32>0,AM32=\"\"),1,IF(AM32>B32,1,0))","v":0}]
["Matrona /ón",0,0,0,null,null,null,null,null,null,null,null,null,null,null,null,null,null,null,null,null,null,null,null,null,null,null,null,null,null,null,null,null,null,null,null,null,null,null,null,"",null,null,null,null,null,null,null,null,null,null,null,null,null,null,null,null,null,null,null,"",null,null,null,null,0]
["Kinesiólogo/a",0,0,0,null,null,null,null,null,null,null,null,null,null,null,null,null,null,null,null,null,null,null,null,null,null,null,null,null,null,null,null,null,null,null,null,null,null,null,null,"",null,null,null,null,null,null,null,null,null,null,null,null,null,null,null,null,null,null,null,"",null,null,null,null,0]
["Técnico en Enfermería",0,0,0,null,null,null,null,null,null,null,null,null,null,null,null,null,null,null,null,null,null,null,null,null,null,null,null,null,null,null,null,null,null,null,null,null,null,null,null,"",null,null,null,null,null,null,null,null,null,null,null,null,null,null,null,null,null,null,null,"",null,null,null,null,0]
["Otros Profesionales",0,0,0,null,null,null,null,null,null,null,null,null,null,null,null,null,null,null,null,null,null,null,null,null,null,null,null,null,null,null,null,null,null,null,null,null,null,null,null,"",null,null,null,null,null,null,null,null,null,null,null,null,null,null,null,null,null,null,null,"",null,null,null,null,0]
["SECCIÓN A.4: ATENCIONES DE URGENCIA REALIZADAS EN ESTABLECIMIENTOS  ATENCIÓN PRIMARIA NO SAPU"]
["PROFESIONAL","TOTAL        ",null,null,"RANGO ETARIO Y SEXO",null,null,null,null,null,null,null,null,null,null,null,null,null,null,null,null,null,null,null,null,null,null,null,null,null,null,null,null,null,null,null,null,null,"Beneficiarios","Demanda de Urgencia"]
[null,null,null,null,"0 - 4 años",null,"5 - 9 años",null,"10 - 14 años",null,"15 - 19 años",null,"20 - 24 años",null,"25 - 29 años",null,"30 - 34 años",null,"35 - 39 años",null,"40 - 44 años",null,"45 - 49 años",null,"50 - 54 años",null,"55 - 59 años",null,"60 - 64 años",null,"65 - 69 años",null,"70 - 74 años",null,"75 - 79 años",null,"80 y más años"]
[null,"Ambos Sexos","Hombres ","Mujeres","Hombres ","Mujeres","Hombres ","Mujeres","Hombres ","Mujeres","Hombres ","Mujeres","Hombres ","Mujeres","Hombres ","Mujeres","Hombres ","Mujeres","Hombres ","Mujeres","Hombres ","Mujeres","Hombres ","Mujeres","Hombres ","Mujeres","Hombres ","Mujeres","Hombres ","Mujeres","Hombres ","Mujeres","Hombres ","Mujeres","Hombres ","Mujeres","Hombres ","Mujeres"]
["Médico",{"$f":"SUM(C41+D41)","v":0},{"$f":"SUM(E41+G41+I41+K41+M41+O41+Q41+S41+U41+W41+Y41+AA41+AC41+AE41+AG41+AI41+AK41)","v":0},{"$f":"SUM(F41+H41+J41+L41+N41+P41+R41+T41+V41+X41+Z41+AB41+AD41+AF41+AH41+AJ41+AL41)","v":0},null,null,null,null,null,null,null,null,null,null,null,null,null,null,null,null,null,null,null,null,null,null,null,null,null,null,null,null,null,null,null,null,null,null,null,null,{"$f":"BI41&BJ41","v":""},null,null,null,null,null,null,null,null,null,null,null,null,null,null,null,null,null,null,null,{"$f":"IF(AND(B41>0,AM41=\"\"),\" * No olvide digitar la columna Beneficiarios (Digite Cero si no tiene)\",IF(AM41>B41,\" * La variable Beneficiarios no puede ser mayor al Total.\",\"\"))","v":""},{"$f":"IF(AND(B41>0,AN41=\"\"),\" * No olvide digitar la columna Demanda de Urgencia. \",IF(AN41<B41,\" * La variable Demanda de Urgencia debe ser mayor o igual al Total Ambos Sexos.\",\"\"))","v":""},null,null,null,{"$f":"IF(AND(B41>0,AM41=\"\"),1,IF(AM41>B41,1,0))","v":0},{"$f":"IF(AND(B41>0,AN41=\"\"),1,IF(AN41<B41,1,0))","v":0}]
["Enfermera /o",0,{"$f":"SUM(E42+G42+I42+K42+M42+O42+Q42+S42+U42+W42+Y42+AA42+AC42+AE42+AG42+AI42+AK42)","v":0},0,null,null,null,null,null,null,null,null,null,null,null,null,null,null,null,null,null,null,null,null,null,null,null,null,null,null,null,null,null,null,null,null,null,null,null,null,{"$f":"BI42&BJ42","v":""},null,null,null,null,null,null,null,null,null,null,null,null,null,null,null,null,null,null,null,{"$f":"IF(AND(B42>0,AM42=\"\"),\" * No olvide digitar la columna Beneficiarios (Digite Cero si no tiene)\",IF(AM42>B42,\" * La variable Beneficiarios no puede ser mayor al Total.\",\"\"))","v":""},{"$f":"IF(AND(B42>0,AN42=\"\"),\" * No olvide digitar la columna Demanda de Urgencia. \",IF(AN42<B42,\" * La variable Demanda de Urgencia debe ser mayor o igual al Total Ambos Sexos.\",\"\"))","v":""},null,null,null,{"$f":"IF(AND(B42>0,AM42=\"\"),1,IF(AM42>B42,1,0))","v":0},{"$f":"IF(AND(B42>0,AN42=\"\"),1,IF(AN42<B42,1,0))","v":0}]
["Matrona /ón",0,0,0,null,null,null,null,null,null,null,null,null,null,null,null,null,null,null,null,null,null,null,null,null,null,null,null,null,null,null,null,null,null,null,null,null,null,null,null,"",null,null,null,null,null,null,null,null,null,null,null,null,null,null,null,null,null,null,null,"","",null,null,null,0,0]
["Kinesiólogo/a",0,0,0,null,null,null,null,null,null,null,null,null,null,null,null,null,null,null,null,null,null,null,null,null,null,null,null,null,null,null,null,null,null,null,null,null,null,null,null,"",null,null,null,null,null,null,null,null,null,null,null,null,null,null,null,null,null,null,null,"","",null,null,null,0,0]
["Técnico en Enfermería",0,0,0,null,null,null,null,null,null,null,null,null,null,null,null,null,null,null,null,null,null,null,null,null,null,null,null,null,null,null,null,null,null,null,null,null,null,null,null,"",null,null,null,null,null,null,null,null,null,null,null,null,null,null,null,null,null,null,null,"","",null,null,null,0,0]
["Otros Profesionales",0,0,0,null,null,null,null,null,null,null,null,null,null,null,null,null,null,null,null,null,null,null,null,null,null,null,null,null,null,null,null,null,null,null,null,null,null,null,null,"",null,null,null,null,null,null,null,null,null,null,null,null,null,null,null,null,null,null,null,"","",null,null,null,0,0]
["SECCIÓN A.5:  CONSULTAS EN SISTEMA DE ATENCIÓN DE URGENCIA EN CENTROS DE SALUD RURAL (SUR) Y POSTAS RURALES"]
["PROFESIONAL","TOTAL        ",null,null,"RANGO ETARIO Y SEXO",null,null,null,null,null,null,null,null,null,null,null,null,null,null,null,null,null,null,null,null,null,null,null,null,null,null,null,null,null,null,null,null,null,"Beneficiarios","Demanda de Urgencia"]
[null,null,null,null,"0 - 4 años",null,"5 - 9 años",null,"10 - 14 años",null,"15 - 19 años",null,"20 - 24 años",null,"25 - 29 años",null,"30 - 34 años",null,"35 - 39 años",null,"40 - 44 años",null,"45 - 49 años",null,"50 - 54 años",null,"55 - 59 años",null,"60 - 64 años",null,"65 - 69 años",null,"70 - 74 años",null,"75 - 79 años",null,"80 y más años"]
[null,"Ambos Sexos","Hombres ","Mujeres","Hombres ","Mujeres","Hombres ","Mujeres","Hombres ","Mujeres","Hombres ","Mujeres","Hombres ","Mujeres","Hombres ","Mujeres","Hombres ","Mujeres","Hombres ","Mujeres","Hombres ","Mujeres","Hombres ","Mujeres","Hombres ","Mujeres","Hombres ","Mujeres","Hombres ","Mujeres","Hombres ","Mujeres","Hombres ","Mujeres","Hombres ","Mujeres","Hombres ","Mujeres"]
["Médico",{"$f":"SUM(C51+D51)","v":0},{"$f":"SUM(E51+G51+I51+K51+M51+O51+Q51+S51+U51+W51+Y51+AA51+AC51+AE51+AG51+AI51+AK51)","v":0},0,null,null,null,null,null,null,null,null,null,null,null,null,null,null,null,null,null,null,null,null,null,null,null,null,null,null,null,null,null,null,null,null,null,null,null,null,{"$f":"BI51&BJ51","v":""},null,null,null,null,null,null,null,null,null,null,null,null,null,null,null,null,null,null,null,{"$f":"IF(AND(B51>0,AM51=\"\"),\" * No olvide digitar la columna Beneficiarios (Digite Cero si no tiene)\",IF(AM51>B51,\" * La variable Beneficiarios no puede ser mayor al Total.\",\"\"))","v":""},{"$f":"IF(AND(B51>0,AN51=\"\"),\" * No olvide digitar la columna Demanda de Urgencia. \",IF(AN51<B51,\" *  La variable Demanda de Urgencia debe ser mayor o igual al Total Ambos Sexos.\",\"\"))","v":""},null,null,null,{"$f":"IF(AND(B51>0,AM51=\"\"),1,IF(AM51>B51,1,0))","v":0},{"$f":"IF(AND(B51>0,AN51=\"\"),1,IF(AN51<B51,1,0))","v":0}]
["Enfermera /o",0,0,0,null,null,null,null,null,null,null,null,null,null,null,null,null,null,null,null,null,null,null,null,null,null,null,null,null,null,null,null,null,null,null,null,null,null,null,null,{"$f":"BI52&BJ52","v":""},null,null,null,null,null,null,null,null,null,null,null,null,null,null,null,null,null,null,null,{"$f":"IF(AND(B52>0,AM52=\"\"),\" * No olvide digitar la columna Beneficiarios (Digite Cero si no tiene)\",IF(AM52>B52,\" * La variable Beneficiarios no puede ser mayor al Total.\",\"\"))","v":""},{"$f":"IF(AND(B52>0,AN52=\"\"),\" * No olvide digitar la columna Demanda de Urgencia. \",IF(AN52<B52,\" *  La variable Demanda de Urgencia debe ser mayor o igual al Total Ambos Sexos.\",\"\"))","v":""},null,null,null,{"$f":"IF(AND(B52>0,AM52=\"\"),1,IF(AM52>B52,1,0))","v":0},{"$f":"IF(AND(B52>0,AN52=\"\"),1,IF(AN52<B52,1,0))","v":0}]
["Matrona /ón",0,0,0,null,null,null,null,null,null,null,null,null,null,null,null,null,null,null,null,null,null,null,null,null,null,null,null,null,null,null,null,null,null,null,null,null,null,null,null,"",null,null,null,null,null,null,null,null,null,null,null,null,null,null,null,null,null,null,null,"","",null,null,null,0,0]
["Kinesiólogo/a",0,0,0,null,null,null,null,null,null,null,null,null,null,null,null,null,null,null,null,null,null,null,null,null,null,null,null,null,null,null,null,null,null,null,null,null,null,null,null,"",null,null,null,null,null,null,null,null,null,null,null,null,null,null,null,null,null,null,null,"","",null,null,null,0,0]
["Técnico en Enfermería",0,0,0,null,null,null,null,null,null,null,null,null,null,null,null,null,null,null,null,null,null,null,null,null,null,null,null,null,null,null,null,null,null,null,null,null,null,null,null,"",null,null,null,null,null,null,null,null,null,null,null,null,null,null,null,null,null,null,null,"","",null,null,null,0,0]
["Otros Profesionales",0,0,0,null,null,null,null,null,null,null,null,null,null,null,null,null,null,null,null,null,null,null,null,null,null,null,null,null,null,null,null,null,null,null,null,null,null,null,null,"",null,null,null,null,null,null,null,null,null,null,null,null,null,null,null,null,null,null,null,"","",null,null,null,0,0]
["SECCIÓN B: CATEGORIZACIÓN DE PACIENTES, PREVIA A LA ATENCIÓN MÉDICA Y ODONTOLÓGICA (Establecimientos Alta, Mediana, Baja Complejidad, SAR, SUR y SAPU) "]
["CATEGORÍAS","TOTAL",null,null,"RANGO ETARIO Y SEXO",null,null,null,null,null,null,null,null,null,null,null,null,null,null,null,null,null,null,null,null,null,null,null,null,null,null,null,null,null,null,null,null,null,"Herramientas de Categorización"]
[null,null,null,null,"0 - 4 años",null,"5 - 9 años",null,"10 - 14 años",null,"15 - 19 años",null,"20 - 24 años",null,"25 - 29 años",null,"30 - 34 años",null,"35 - 39 años",null,"40 - 44 años",null,"45 - 49 años",null,"50 - 54 años",null,"55 - 59 años",null,"60 - 64 años",null,"65 - 69 años",null,"70 - 74 años",null,"75 - 79 años",null,"80 y más años"]
[null,"Ambos Sexos","Hombres","Mujeres","Hombres","Mujeres","Hombres","Mujeres","Hombres","Mujeres","Hombres","Mujeres","Hombres","Mujeres","Hombres","Mujeres","Hombres","Mujeres","Hombres","Mujeres","Hombres","Mujeres","Hombres","Mujeres","Hombres","Mujeres","Hombres","Mujeres","Hombres","Mujeres","Hombres","Mujeres","Hombres","Mujeres","Hombres","Mujeres","Hombres","Mujeres","Discrecional","Estructurado (ESI)"]
["C1",{"$f":"SUM(C61+D61)","v":0},{"$f":"SUM(E61+G61+I61+K61+M61+O61+Q61+S61+U61+W61+Y61+AA61+AC61+AE61+AG61+AI61+AK61)","v":0},{"$f":"SUM(F61+H61+J61+L61+N61+P61+R61+T61+V61+X61+Z61+AB61+AD61+AF61+AH61+AJ61+AL61)","v":0},null,null,null,null,null,null,null,null,null,null,null,null,null,null,null,null,null,null,null,null,null,null,null,null,null,null,null,null,null,null,null,null,null,null,null,null,{"$f":"BI61","v":""},null,null,null,null,null,null,null,null,null,null,null,null,null,null,null,null,null,null,null,{"$f":"IF((AM61+AN61)<>B61,\"* La suma de las Herramientas de categorización debe ser igual al Total\",\"\")","v":""},null,null,null,null,{"$f":"IF((AM61+AN61)<>B61,1,0)","v":0}]
["C2",0,{"$f":"SUM(E62+G62+I62+K62+M62+O62+Q62+S62+U62+W62+Y62+AA62+AC62+AE62+AG62+AI62+AK62)","v":0},0,null,null,null,null,null,null,null,null,null,null,null,null,null,null,null,null,null,null,null,null,null,null,null,null,null,null,null,null,null,null,null,null,null,null,null,null,{"$f":"BI62","v":""},null,null,null,null,null,null,null,null,null,null,null,null,null,null,null,null,null,null,null,{"$f":"IF((AM62+AN62)<>B62,\"* La suma de las Herramientas de categorización debe ser igual al Total\",\"\")","v":""},null,null,null,null,{"$f":"IF((AM62+AN62)<>B62,1,0)","v":0}]
["C3",0,0,0,null,null,null,null,null,null,null,null,null,null,null,null,null,null,null,null,null,null,null,null,null,null,null,null,null,null,null,null,null,null,null,null,null,null,null,null,"",null,null,null,null,null,null,null,null,null,null,null,null,null,null,null,null,null,null,null,"",null,null,null,null,0]
["C4",0,0,0,null,null,null,null,null,null,null,null,null,null,null,null,null,null,null,null,null,null,null,null,null,null,null,null,null,null,null,null,null,null,null,null,null,null,null,null,"",null,null,null,null,null,null,null,null,null,null,null,null,null,null,null,null,null,null,null,"",null,null,null,null,0]
["C5",0,0,0,null,null,null,null,null,null,null,null,null,null,null,null,null,null,null,null,null,null,null,null,null,null,null,null,null,null,null,null,null,null,null,null,null,null,null,null,"",null,null,null,null,null,null,null,null,null,null,null,null,null,null,null,null,null,null,null,"",null,null,null,null,0]
["Sin Categorización",0,0,0]
["TOTAL",{"$f":"SUM(B61:B66)","v":0},0,0,0,0,0,0,0,0,0,0,0,0,0,0,0,0,0,0,0,0,0,0,0,0,0,0,0,0,0,0,0,0,0,0,0,0,{"$f":"SUM(AM61:AM65)","v":0},{"$f":"SUM(AN61:AN65)","v":0}]
["SECCIÓN C: ATENCIONES REALIZADAS POR MÉDICOS ESPECIALISTAS EN LAS UNIDADES DE URGENCIA HOSPITALARIA"]
["ESPECIALIDADES","TOTAL        ","De turno","Consultor de llamada","Otros"]
["Medicina Interna",{"$f":"SUM(C70:E70)","v":0}]
["Neurología Adultos",{"$f":"SUM(C71:E71)","v":0}]
["Neurología Pediátrica",0]
["Obstetricia y Ginecología",0]
["Oftalmología",0]
["Otorrinolaringología",0]
["Pediatría",0]
["Traumatología y Ortopedia",0]
["Neurocirugía",0]
["Psiquiatría Adultos",0]
["Psiquiatría Pediátrica y Adolescentes",0]
["Urología",0]
["Urgenciólogo",0]
["Cirugía Vascular Periférica",0]
["Cirugía General",0]
["Cirugía Pediátrica",0]
["Cardiología",0]
["Anestesiología",0]
["Cirugía de Cabeza, Cuello y Maxilofacial",{"$f":"SUM(C88:E88)","v":0}]
["Odontólogo",{"$f":"SUM(C89:E89)","v":0}]
["TOTAL",{"$f":"SUM(B70:B89)","v":0},{"$f":"SUM(C70:C89)","v":0},{"$f":"SUM(D70:D89)","v":0},0]
["SECCIÓN D: PACIENTES CON INDICACIÓN DE HOSPITALIZACIÓN EN ESPERA DE CAMAS EN UEH (establecimientos de alta, mediana y baja complejidad)"]
["TIPO DE PACIENTES",null,"TOTAL        ",null,null,"RANGO ETARIO Y SEXO",null,null,null,null,null,null,null,null,null,null,null,null,null,null,null,null,null,null,null,null,null,null,null,null,null,null,null,null,null,null,null,null,null,"Beneficiarios","Hospitalización Domiciliaria"]
[null,null,null,null,null,"0 - 4 años",null,"5 - 9 años",null,"10 - 14 años",null,"15 - 19 años",null,"20 - 24 años",null,"25 - 29 años",null,"30 - 34 años",null,"35 - 39 años",null,"40 - 44 años",null,"45 - 49 años",null,"50 - 54 años",null,"55 - 59 años",null,"60 - 64 años",null,"65 - 69 años",null,"70 - 74 años",null,"75 - 79 años",null,"80 y más años"]
[null,null,"Ambos Sexos","Hombres ","Mujeres","Hombres ","Mujeres","Hombres ","Mujeres","Hombres ","Mujeres","Hombres ","Mujeres","Hombres ","Mujeres","Hombres ","Mujeres","Hombres ","Mujeres","Hombres ","Mujeres","Hombres ","Mujeres","Hombres ","Mujeres","Hombres ","Mujeres","Hombres ","Mujeres","Hombres ","Mujeres","Hombres ","Mujeres","Hombres ","Mujeres","Hombres ","Mujeres","Hombres ","Mujeres"]
["Total de Pacientes con Indicación de Hospitalización",null,{"$f":"SUM(C96:C102)","v":0},{"$f":"SUM(D96:D102)","v":0},{"$f":"SUM(E96:E102)","v":0},{"$f":"SUM(F96:F102)","v":0},0,0,0,0,0,0,0,0,0,0,0,0,0,0,0,0,0,0,0,0,0,0,0,0,0,0,0,0,0,0,0,0,0,0,{"$f":"SUM(AO96:AO98)","v":0}]
["Pacientes que Ingresan a Cama Hospitalaria Según Tiempo de Demora al Ingreso                                ","Menos de 12 Horas",{"$f":"SUM(D96+E96)","v":0},{"$f":"SUM(F96+H96+J96+L96+N96+P96+R96+T96+V96+X96+Z96+AB96+AD96+AF96+AH96+AJ96+AL96)","v":0},0,null,null,null,null,null,null,null,null,null,null,null,null,null,null,null,null,null,null,null,null,null,null,null,null,null,null,null,null,null,null,null,null,null,null,null,null,{"$f":"BI96&BJ96&BK96&BL96","v":"  "},null,null,null,null,null,null,null,null,null,null,null,null,null,null,null,null,null,null,{"$f":"IF(AND(C96>0,OR(AN96=\"\")),\" * No olvide digitar la columna \"&AN$92&\"\"&\" . \"\"Digite CERO si no tiene datos\"\"\",\" \")","v":" "},{"$f":"IF(AN96>C96,\" * Los Beneficiarios no pueden ser mayor al Total.\",\"\")","v":""},{"$f":"IF(AND(C96>0,OR(AO96=\"\")),\" * No olvide digitar las columnas \"&AO$92&\"\"&\" . \"\"Digite CERO si no tiene datos\"\"\",\" \")","v":" "},{"$f":"IF(AO96>C96,\" * La columna Hospitalización Domiciliaria no pueden ser mayor al Total.\",\"\")","v":""},null,{"$f":"IF(AND(C96>0,AN96=\"\"),1,0)","v":0},{"$f":"IF(AN96>C96,1,0)","v":0},{"$f":"IF(AND(C96>0,OR(AO96=\"\")),1,0)","v":0},{"$f":"IF(AO96>C96,1,0)","v":0}]
[null,"12 - 24 Horas",0,0,0,null,null,null,null,null,null,null,null,null,null,null,null,null,null,null,null,null,null,null,null,null,null,null,null,null,null,null,null,null,null,null,null,null,null,null,null,{"$f":"BI97&BJ97&BK97&BL97","v":"  "},null,null,null,null,null,null,null,null,null,null,null,null,null,null,null,null,null,null,{"$f":"IF(AND(C97>0,OR(AN97=\"\")),\" * No olvide digitar la columna \"&AN$92&\"\"&\" . \"\"Digite CERO si no tiene datos\"\"\",\" \")","v":" "},{"$f":"IF(AN97>C97,\" * Los Beneficiarios no pueden ser mayor al Total.\",\"\")","v":""},{"$f":"IF(AND(C97>0,OR(AO97=\"\")),\" * No olvide digitar las columnas \"&AO$92&\"\"&\" . \"\"Digite CERO si no tiene datos\"\"\",\" \")","v":" "},{"$f":"IF(AO97>C97,\" * La columna Hospitalización Domiciliaria no pueden ser mayor al Total.\",\"\")","v":""},null,0,{"$f":"IF(AN97>C97,1,0)","v":0},{"$f":"IF(AND(C97>0,OR(AO97=\"\")),1,0)","v":0},{"$f":"IF(AO97>C97,1,0)","v":0}]
[null,"Mayor a 24 Horas",0,0,0,null,null,null,null,null,null,null,null,null,null,null,null,null,null,null,null,null,null,null,null,null,null,null,null,null,null,null,null,null,null,null,null,null,null,null,null,{"$f":"BI98&BJ98&BK98&BL98","v":"  "},null,null,null,null,null,null,null,null,null,null,null,null,null,null,null,null,null,null," ","",{"$f":"IF(AND(C98>0,OR(AO98=\"\")),\" * No olvide digitar las columnas \"&AO$92&\"\"&\" . \"\"Digite CERO si no tiene datos\"\"\",\" \")","v":" "},"",null,0,0,0,0]
["Pacientes que Rechazan Hospitalización ",null,0,0,0,null,null,null,null,null,null,null,null,null,null,null,null,null,null,null,null,null,null,null,null,null,null,null,null,null,null,null,null,null,null,null,null,null,null,null,null,{"$f":"BI99&BJ99","v":" "},null,null,null,null,null,null,null,null,null,null,null,null,null,null,null,null,null,null," ","",null,null,null,0,0]
["Pacientes Derivados a otro Establecimiento",null,0,0,0,null,null,null,null,null,null,null,null,null,null,null,null,null,null,null,null,null,null,null,null,null,null,null,null,null,null,null,null,null,null,null,null,null,null,null,null," ",null,null,null,null,null,null,null,null,null,null,null,null,null,null,null,null,null,null," ","",null,null,null,0,0]
["Pacientes que Permanecen en UEH",null,0,0,0,null,null,null,null,null,null,null,null,null,null,null,null,null,null,null,null,null,null,null,null,null,null,null,null,null,null,null,null,null,null,null,null,null,null,null,null," ",null,null,null,null,null,null,null,null,null,null,null,null,null,null,null,null,null,null," ","",null,null,null,0,0]
["Pacientes que Ingresan Directamente a Proceso Quirúrgico",null,0,0,0,null,null,null,null,null,null,null,null,null,null,null,null,null,null,null,null,null,null,null,null,null,null,null,null,null,null,null,null,null,null,null,null,null,null,null,null," ",null,null,null,null,null,null,null,null,null,null,null,null,null,null,null,null,null,null," ","",null,null,null,0,0]
["SECCIÓN E: PACIENTES CON INDICACIÓN DE OBSERVACIÓN EN SAR Y SAPU"]
["PACIENTES CON INDICACIÓN DE OBSERVACIÓN",null,null,"TOTAL"]
["Pacientes que Permanecen en Observación         ",null,"Menos de 2 Horas"]
[null,null,"2 a 6 Horas"]
[null,null,"Mayor a 6 Horas"]
["SECCIÓN F: PACIENTES FALLECIDOS EN UNIDADES DE EMERGENCIA (Establecimientos Alta, Mediana o Baja Complejidad, SAR, SAPU y SUR)"]
["TIPO DE PACIENTES",null,"TOTAL        ",null,null,"RANGO ETARIO Y SEXO",null,null,null,null,null,null,null,null,null,null,null,null,null,null,null,null,null,null,null,null,null,null,null,null,null,null,null,null,null,null,null,null,null,"Beneficiarios"]
[null,null,null,null,null,"0 - 4 años",null,"5 - 9 años",null,"10 - 14 años",null,"15 - 19 años",null,"20 - 24 años",null,"25 - 29 años",null,"30 - 34 años",null,"35 - 39 años",null,"40 - 44 años",null,"45 - 49 años",null,"50 - 54 años",null,"55 - 59 años",null,"60 - 64 años",null,"65 - 69 años",null,"70 - 74 años",null,"75 - 79 años",null,"80 y más años"]
[null,null,"Ambos Sexos","Hombres ","Mujeres","Hombres ","Mujeres","Hombres ","Mujeres","Hombres ","Mujeres","Hombres ","Mujeres","Hombres ","Mujeres","Hombres ","Mujeres","Hombres ","Mujeres","Hombres ","Mujeres","Hombres ","Mujeres","Hombres ","Mujeres","Hombres ","Mujeres","Hombres ","Mujeres","Hombres ","Mujeres","Hombres ","Mujeres","Hombres ","Mujeres","Hombres ","Mujeres","Hombres ","Mujeres"]
["Pacientes Fallecidos en Espera de Atención Médica",null,{"$f":"SUM(D112+E112)","v":0},{"$f":"SUM(F112+H112+J112+L112+N112+P112+R112+T112+V112+X112+Z112+AB112+AD112+AF112+AH112+AJ112+AL112)","v":0},0,null,null,null,null,null,null,null,null,null,null,null,null,null,null,null,null,null,null,null,null,null,null,null,null,null,null,null,null,null,null,null,null,null,null,null,{"$f":"BI112&BJ112","v":""},null,null,null,null,null,null,null,null,null,null,null,null,null,null,null,null,null,null,null,{"$f":"IF(AND(C112>0,AN112=\"\"),\" * No olvide digitar la columna Beneficiarios\",\"\")","v":""},{"$f":"IF(AN112>C112,\" * Los beneficiairos no pueden ser mayor al Total.\",\"\")","v":""},null,null,null,{"$f":"IF(AND(C112>0,AN112=\"\"),1,0)","v":0},{"$f":"IF(AN112>C112,1,0)","v":0}]
["Pacientes Fallecidos en Proceso de Atención",null,{"$f":"SUM(D113+E113)","v":0},0,0,null,null,null,null,null,null,null,null,null,null,null,null,null,null,null,null,null,null,null,null,null,null,null,null,null,null,null,null,null,null,null,null,null,null,null,{"$f":"BI113&BJ113","v":""},null,null,null,null,null,null,null,null,null,null,null,null,null,null,null,null,null,null,null,{"$f":"IF(AND(C113>0,AN113=\"\"),\" * No olvide digitar la columna Beneficiarios\",\"\")","v":""},{"$f":"IF(AN113>C113,\" * Los beneficiairos no pueden ser mayor al Total.\",\"\")","v":""},null,null,null,{"$f":"IF(AND(C113>0,AN113=\"\"),1,0)","v":0},{"$f":"IF(AN113>C113,1,0)","v":0}]
["Pacientes Fallecidos en Espera de Cama Hospitalaria ",null,{"$f":"SUM(D114+E114)","v":0},0,0,null,null,null,null,null,null,null,null,null,null,null,null,null,null,null,null,null,null,null,null,null,null,null,null,null,null,null,null,null,null,null,null,null,null,null,"",null,null,null,null,null,null,null,null,null,null,null,null,null,null,null,null,null,null,null,"","",null,null,null,0,0]
["SECCIÓN G: ATENCIONES MÉDICAS ASOCIADAS A  VIOLENCIA POR GRUPO ETARIO"]
["CONCEPTO",null,"TOTAL",null,null,"0 - 9 años",null,"10-17 años",null,"18-19 años",null,"20 - 24 años",null,"25-34 años",null,"35-44 años",null,"45-54 años",null,"55-64 años",null,"65 -74 años",null,"75 y más años"]
[null,null,"Ambos Sexos","Hombres","Mujeres","Hombres ","Mujeres","Hombres ","Mujeres","Hombres ","Mujeres","Hombres ","Mujeres","Hombres ","Mujeres","Hombres ","Mujeres","Hombres ","Mujeres","Hombres ","Mujeres","Hombres ","Mujeres","Hombres ","Mujeres"]
["Violencia Intrafamiliar",null,{"$f":"SUM(D118+E118)","v":0},{"$f":"SUM(F118+H118+J118+L118+N118+P118+R118+T118+V118+X118)","v":0},{"$f":"SUM(G118+I118+K118+M118+O118+Q118+S118+U118+W118+Y118)","v":0}]
["Otras Violencias",null,{"$f":"SUM(D119+E119)","v":0},{"$f":"SUM(F119+H119+J119+L119+N119+P119+R119+T119+V119+X119)","v":0},{"$f":"SUM(G119+I119+K119+M119+O119+Q119+S119+U119+W119+Y119)","v":0}]
["SECCIÓN G.1: ATENCIONES MÉDICAS ASOCIADAS A  VIOLENCIA POR CONDICIÓN (incluidas en sección G)"]
["CONCEPTO","AGRESOR /A",null,null,null,"TOTAL",null,"Lesiones de la Víctima",null,null,null,"Sin lesiones constatables","Diversidad Sexual ","Embarazadas","Pueblos Originarios","Migrantes"]
[null,"Pareja/ Ex pareja","Familiar","Conocido/a","Desconocido/a","Hombre","Mujer","Traumatológicas","Odontológicas","Contusionales","Por Arma"]
["Violencia Intrafamiliar",null,null,null,null,null,null,null,null,null,null,null,null,null,null,null,{"$f":"BF123&BG123&BH123&BI123&BJ123&BK123&BL123&BM123","v":""},null,null,null,null,null,null,null,null,null,null,null,null,null,null,null,null,null,null,null,null,null,null,null,null,null,null,null,null,null,null,null,null,null,null,null,null,null,null,null,null,{"$f":"IF(F123+G123<>(B123+C123),\"* La sumatoria de AGRESOR/A debe ser igual al Total de Hombres+Mujeres. \",\"\")","v":""},null,null,{"$f":"IF(AND((F123+G123)>0,L123=\"\"),\" * No olvide digitar la variable Sin lesiones constatables. Digite cero si no tiene.\",IF(L123>(F123+G123),\" * La variable Sin lesiones constatables no puede ser mayor a la sumatoria Total de Hombres+Mujeres.\",\"\"))","v":""},{"$f":"IF(AND((F123+G123)>0,M123=\"\"),\" * No olvide digitar la variable Diversidad Sexual. Digite cero si no tiene.\",IF(M123>(F123+G123),\" * La variable Diversidad Sexual  no puede ser mayor a la sumatoria Total de Hombres+Mujeres.\",\"\"))","v":""},{"$f":"IF(AND(G123>0,N123=\"\"),\" * No olvide digitar la variable Embarazadas. Digite cero si no tiene.\",IF((N123>G123),\" * La variable Embarazadas  no puede ser mayor a la sumatoria Total Mujer.\",\"\"))","v":""},{"$f":"IF(AND((F123+G123)>0,O123=\"\"),\" * No olvide digitar la variable Pueblos Originarios. Digite cero si no tiene.\",IF(O123>(F123+G123),\" * La variable Pueblos Originarios  no puede ser mayor a la sumatoria Total de Hombres+Mujeres.\",\"\"))","v":""},{"$f":"IF(AND((F123+G123)>0,P123=\"\"),\" * No olvide digitar la variable Migrantes. Digite cero si no tiene.\",IF(P123>(F123+G123),\" * La variable Migrantes  no puede ser mayor a la sumatoria Total de Hombres+Mujeres.\",\"\"))","v":""},null,{"$f":"IF(F123+G123<>(B123+C123),1,0)","v":0},null,null,{"$f":"IF(AND((F123+G123)>0,L123=\"\"),1,IF(L123>(F123+G123),1,0))","v":0},{"$f":"IF(AND((F123+G123)>0,M123=\"\"),1,IF(M123>(F123+G123),1,0))","v":0},{"$f":"IF(AND((G123)>0,N123=\"\"),1,IF(N123>(G123),1,0))","v":0},{"$f":"IF(AND((F123+G123)>0,O123=\"\"),1,IF(O123>(F123+G123),1,0))","v":0},{"$f":"IF(AND((G123+F123)>0,P123=\"\"),1,IF(P123>(F123+G123),1,0))","v":0}]
["Otras Violencias",null,null,null,null,null,null,null,null,null,null,null,null,null,null,null,{"$f":"BF124&BG124&BH124&BI124&BJ124&BK124&BL124&BM124","v":""},null,null,null,null,null,null,null,null,null,null,null,null,null,null,null,null,null,null,null,null,null,null,null,null,null,null,null,null,null,null,null,null,null,null,null,null,null,null,null,null,{"$f":"IF(F124+G124<>(D124+E124),\"* La sumatoria de AGRESOR/A debe ser igual al Total de Hombres+Mujeres. \",\"\")","v":""},null,null,{"$f":"IF(AND((F124+G124)>0,L124=\"\"),\" * No olvide digitar la variable Sin lesiones constatables. Digite cero si no tiene.\",IF(L124>(F124+G124),\" * La variable Sin lesiones constatables no puede ser mayor a la sumatoria Total de Hombres+Mujeres.\",\"\"))","v":""},{"$f":"IF(AND((F124+G124)>0,M124=\"\"),\" * No olvide digitar la variable Diversidad Sexual. Digite cero si no tiene.\",IF(M124>(F124+G124),\" * La variable Diversidad Sexual  no puede ser mayor a la sumatoria Total de Hombres+Mujeres.\",\"\"))","v":""},{"$f":"IF(AND(G124>0,N124=\"\"),\" * No olvide digitar la variable Embarazadas. Digite cero si no tiene.\",IF((N124>G124),\" * La variable Embarazadas  no puede ser mayor a la sumatoria Total Mujer.\",\"\"))","v":""},{"$f":"IF(AND((F124+G124)>0,O124=\"\"),\" * No olvide digitar la variable Pueblos Originarios. Digite cero si no tiene.\",IF(O124>(F124+G124),\" * La variable Pueblos Originarios  no puede ser mayor a la sumatoria Total de Hombres+Mujeres.\",\"\"))","v":""},{"$f":"IF(AND((F124+G124)>0,P124=\"\"),\" * No olvide digitar la variable Migrantes. Digite cero si no tiene.\",IF(P124>(F124+G124),\" * La variable Migrantes  no puede ser mayor a la sumatoria Total de Hombres+Mujeres.\",\"\"))","v":""},null,{"$f":"IF(F124+G124<>(D124+E124),1,0)","v":0},null,null,{"$f":"IF(AND((F124+G124)>0,L124=\"\"),1,IF(L124>(F124+G124),1,0))","v":0},{"$f":"IF(AND((F124+G124)>0,M124=\"\"),1,IF(M124>(F124+G124),1,0))","v":0},{"$f":"IF(AND((G124)>0,N124=\"\"),1,IF(N124>(G124),1,0))","v":0},{"$f":"IF(AND((F124+G124)>0,O124=\"\"),1,IF(O124>(F124+G124),1,0))","v":0},{"$f":"IF(AND((G124+F124)>0,P124=\"\"),1,IF(P124>(F124+G124),1,0))","v":0}]
["SECCIÓN H: ATENCIONES  POR ANTICONCEPCIÓN DE EMERGENCIA "]
["CONCEPTO",null,"TOTAL","RANGO ETARIO",null,null,null,null,null,"Beneficiarios"]
[null,null,null,"10 - 14 años","15 - 19 años","20 - 24 años","25 - 34 años","35 - 44 años","45 - 54 años"]
["Atención por Anticoncepción de Emergencia","Con Entrega de Anticonceptivo",{"$f":"SUM(D128:I128)","v":0},null,null,null,null,null,null,null,{"$f":"BI128&BJ128","v":""},null,null,null,null,null,null,null,null,null,null,null,null,null,null,null,null,null,null,null,null,null,null,null,null,null,null,null,null,null,null,null,null,null,null,null,null,null,null,null,null,null,null,null,null,null,null,null,null,null,{"$f":"IF(AND(C128>0,J128=\"\"),\" * No olvide digitar la columna Beneficiarios\",\"\")","v":""},{"$f":"IF(J128>C128,\" * Los beneficiarios no pueden ser mayor que el Total.\",\"\")","v":""},null,null,null,{"$f":"IF(AND(C128>0,J128=\"\"),1,0)","v":0},{"$f":"IF(J128>C128,1,0)","v":0}]
[null,"Sin Entrega de Anticonceptivo",{"$f":"SUM(D129:I129)","v":0},null,null,null,null,null,null,null,{"$f":"BI129&BJ129","v":""},null,null,null,null,null,null,null,null,null,null,null,null,null,null,null,null,null,null,null,null,null,null,null,null,null,null,null,null,null,null,null,null,null,null,null,null,null,null,null,null,null,null,null,null,null,null,null,null,null,{"$f":"IF(AND(C129>0,J129=\"\"),\" * No olvide digitar la columna Beneficiarios\",\"\")","v":""},{"$f":"IF(J129>C129,\" * Los beneficiarios no pueden ser mayor que el Total.\",\"\")","v":""},null,null,null,{"$f":"IF(AND(C129>0,J129=\"\"),1,0)","v":0},{"$f":"IF(J129>C129,1,0)","v":0}]
["SECCIÓN I: MOTIVOS DE ATENCIÓN POR EMERGENCIA OBSTÉTRICA AL SERVICIO DE URGENCIA  (Establecimientos Alta y Mediana Complejidad)"]
["PATOLOGÍA","Cantidad"]
["Preeclampsia Severa"]
["Eclampsia"]
["Síndrome Hipertensivo del Embarazo (SHE)"]
["Retardo Crecimiento Intrauterino (RCIU)"]
["HELLP"]
["Parto Prematuro"]
["Hemorragia I Trimestre"]
["Hemorragia II Trimestre"]
["Hemorragia III Trimestre"]
["Rotura Prematura de Membrana"]
["Otras Patologías"]
["Trabajo de Parto sin Patología"]
["TOTAL",{"$f":"SUM(B132:B143)","v":0}]
["SECCIÓN J: LLAMADOS DE URGENCIA A CENTRO REGULADOR"]
["TIPO DE ACCIÓN",null,"Total de Llamadas ","Llamadas Validas"]
[" Centro Regulador ","Nº  Llamados de Urgencia"]
["SECCIÓN K: INTERVENCIONES PRE HOSPITALARIAS (SAMU)"]
["TIPO DE ACCIÓN",null,"N° INTERVENCIONES",null,null,"Beneficiarios","Tiempo de Llegada Intervenciones Criticas",null,null,"Tiempo de Llegada Intervenciones no Criticas"]
[null,null,"TOTAL","Criticas","No Criticas",null,"0-20 Min","20-40 Min","Mas de 40 Min","0-20 Min","20-40 Min","Mas de 40 Min"]
["Intervenciones Clínicas Pre Hospitalarias","Intervención de Móvil Básico",{"$f":"SUM(D151+E151)","v":0},null,null,null,null,null,null,null,null,null,{"$f":"BI151&BJ151","v":""},null,null,null,null,null,null,null,null,null,null,null,null,null,null,null,null,null,null,null,null,null,null,null,null,null,null,null,null,null,null,null,null,null,null,null,null,null,null,null,null,null,null,null,null,null,null,null,{"$f":"IF(AND(C151>0,F151=\"\"),\" * No olvide registrar la variable Beneficiarios. Digite Cero si no tiene.\",IF(F151>C151,\" * La variable Beneficiarios no puede ser mayor al Total.\",\"\"))","v":""},null,null,null,null,{"$f":"IF(AND(C151>0,F151=\"\"),1,IF(F151>C151,1,0))","v":0}]
[null,"Intervención de Móvil Avanzado",{"$f":"SUM(D152+E152)","v":0},null,null,null,null,null,null,null,null,null,{"$f":"BI152&BJ152","v":""},null,null,null,null,null,null,null,null,null,null,null,null,null,null,null,null,null,null,null,null,null,null,null,null,null,null,null,null,null,null,null,null,null,null,null,null,null,null,null,null,null,null,null,null,null,null,null,{"$f":"IF(AND(C152>0,F152=\"\"),\" * No olvide registrar la variable Beneficiarios. Digite Cero si no tiene.\",IF(F152>C152,\" * La variable Beneficiarios no puede ser mayor al Total.\",\"\"))","v":""},null,null,null,null,{"$f":"IF(AND(C152>0,F152=\"\"),1,IF(F152>C152,1,0))","v":0}]
["SECCIÓN L: TRASLADOS PRIMARIOS A UNIDADES DE URGENCIA (Desde el lugar del evento a unidad de Emergencia)"]
["TIPO",null,"TOTAL","Beneficiarios","Por compra de servicios","Otros"]
["SAMU","Básico",null,null,null,null,{"$f":"BI155&BJ155","v":""},null,null,null,null,null,null,null,null,null,null,null,null,null,null,null,null,null,null,null,null,null,null,null,null,null,null,null,null,null,null,null,null,null,null,null,null,null,null,null,null,null,null,null,null,null,null,null,null,null,null,null,null,null,{"$f":"IF(AND(C155>0,D155=\"\"),\" * No olvide registrar la variable Beneficiarios. Digite Cero si no tiene.\",IF(D155>C155,\" * La variable Beneficiarios no puede ser mayor al Total.\",\"\"))","v":""},null,null,null,null,{"$f":"IF(AND(C155>0,D155=\"\"),1,IF(D155>C155,1,0))","v":0}]
[null,"Avanzado",null,null,null,null,{"$f":"BI156&BJ156","v":""},null,null,null,null,null,null,null,null,null,null,null,null,null,null,null,null,null,null,null,null,null,null,null,null,null,null,null,null,null,null,null,null,null,null,null,null,null,null,null,null,null,null,null,null,null,null,null,null,null,null,null,null,null,{"$f":"IF(AND(C156>0,D156=\"\"),\" * No olvide registrar la variable Beneficiarios. Digite Cero si no tiene.\",IF(D156>C156,\" * La variable Beneficiarios no puede ser mayor al Total.\",\"\"))","v":""},null,null,null,null,{"$f":"IF(AND(C156>0,D156=\"\"),1,IF(D156>C156,1,0))","v":0}]
["Enrutado","Básico",null,null,null,null,"",null,null,null,null,null,null,null,null,null,null,null,null,null,null,null,null,null,null,null,null,null,null,null,null,null,null,null,null,null,null,null,null,null,null,null,null,null,null,null,null,null,null,null,null,null,null,null,null,null,null,null,null,null,"",null,null,null,null,0]
["No SAMU","Terrestre",null,null,null,null,"",null,null,null,null,null,null,null,null,null,null,null,null,null,null,null,null,null,null,null,null,null,null,null,null,null,null,null,null,null,null,null,null,null,null,null,null,null,null,null,null,null,null,null,null,null,null,null,null,null,null,null,null,null,"",null,null,null,null,0]
[null,"Marítimo",null,null,null,null,"",null,null,null,null,null,null,null,null,null,null,null,null,null,null,null,null,null,null,null,null,null,null,null,null,null,null,null,null,null,null,null,null,null,null,null,null,null,null,null,null,null,null,null,null,null,null,null,null,null,null,null,null,null,"",null,null,null,null,0]
[null,"Aéreo",null,null,null,null,"",null,null,null,null,null,null,null,null,null,null,null,null,null,null,null,null,null,null,null,null,null,null,null,null,null,null,null,null,null,null,null,null,null,null,null,null,null,null,null,null,null,null,null,null,null,null,null,null,null,null,null,null,null,"",null,null,null,null,0]
["SECCIÓN M: TRASLADO SECUNDARIO (Desde un Establecimiento a Otro)"]
["TIPO DE ACCIÓN",null,"TOTAL DE TRASLADOS",null,null,"Beneficiarios","Por compra de servicios","Otros"]
[null,null,"Ambos","SAMU","NO SAMU"]
["Crítico","Aéreo",{"$f":"SUM(D164:E164)","v":0},null,null,null,null,null,{"$f":"BI164","v":""},null,null,null,null,null,null,null,null,null,null,null,null,null,null,null,null,null,null,null,null,null,null,null,null,null,null,null,null,null,null,null,null,null,null,null,null,null,null,null,null,null,null,null,null,null,null,null,null,null,null,null,{"$f":"IF(AND(C164>0,F164=\"\"),\" * No olvide registrar la variable Beneficiarios. Digite Cero si no tiene.\",IF(F164>C164,\" * La variable Beneficiarios no puede ser mayor al Total.\",\"\"))","v":""},null,null,null,null,{"$f":"IF(AND(C164>0,F164=\"\"),1,IF(F164>C164,1,0))","v":0}]
[null,"Terrestre",0,null,null,null,null,null,{"$f":"BI165","v":""},null,null,null,null,null,null,null,null,null,null,null,null,null,null,null,null,null,null,null,null,null,null,null,null,null,null,null,null,null,null,null,null,null,null,null,null,null,null,null,null,null,null,null,null,null,null,null,null,null,null,null,{"$f":"IF(AND(C165>0,F165=\"\"),\" * No olvide registrar la variable Beneficiarios. Digite Cero si no tiene.\",IF(F165>C165,\" * La variable Beneficiarios no puede ser mayor al Total.\",\"\"))","v":""},null,null,null,null,{"$f":"IF(AND(C165>0,F165=\"\"),1,IF(F165>C165,1,0))","v":0}]
[null,"Marítimo",0,null,null,null,null,null,"",null,null,null,null,null,null,null,null,null,null,null,null,null,null,null,null,null,null,null,null,null,null,null,null,null,null,null,null,null,null,null,null,null,null,null,null,null,null,null,null,null,null,null,null,null,null,null,null,null,null,null,"",null,null,null,null,0]
["No Crítico","Aéreo",0,null,null,null,null,null,"",null,null,null,null,null,null,null,null,null,null,null,null,null,null,null,null,null,null,null,null,null,null,null,null,null,null,null,null,null,null,null,null,null,null,null,null,null,null,null,null,null,null,null,null,null,null,null,null,null,null,null,"",null,null,null,null,0]
[null,"Terrestre",0,null,null,null,null,null,"",null,null,null,null,null,null,null,null,null,null,null,null,null,null,null,null,null,null,null,null,null,null,null,null,null,null,null,null,null,null,null,null,null,null,null,null,null,null,null,null,null,null,null,null,null,null,null,null,null,null,null,"",null,null,null,null,0]
[null,"Marítimo",0,null,null,null,null,null,"",null,null,null,null,null,null,null,null,null,null,null,null,null,null,null,null,null,null,null,null,null,null,null,null,null,null,null,null,null,null,null,null,null,null,null,null,null,null,null,null,null,null,null,null,null,null,null,null,null,null,null,"",null,null,null,null,0]
["SECCIÓN N: CLASIFICACIÓN DE LAS INTERVENCIONES POR GRANDES GRUPOS DE DIAGNÓSTICOS (SAMU)"]
["CAUSAS DE LA INTERVENCIÓN","TOTAL",null,null,"RANGO ETARIO Y SEXO"]
[null,null,null,null,"0 - 4 años",null,"5 - 9 años",null,"10 - 14 años",null,"15 - 19 años",null,"20 - 24 años",null,"25 - 29 años",null,"30 - 34 años",null,"35 - 39 años",null,"40 - 44 años",null,"45 - 49 años",null,"50 - 54 años",null,"55 - 59 años",null,"60 - 64 años",null,"65 - 69 años",null,"70 - 74 años",null,"75 - 79 años",null,"80 y más años"]
[null,"Ambos Sexos","Hombres","Mujeres","Hombres ","Mujeres","Hombres ","Mujeres","Hombres ","Mujeres","Hombres ","Mujeres","Hombres ","Mujeres","Hombres ","Mujeres","Hombres ","Mujeres","Hombres ","Mujeres","Hombres ","Mujeres","Hombres ","Mujeres","Hombres ","Mujeres","Hombres ","Mujeres","Hombres ","Mujeres","Hombres ","Mujeres","Hombres ","Mujeres","Hombres ","Mujeres","Hombres ","Mujeres"]
["Síndrome Coronario Agudo",{"$f":"SUM(C174+D174)","v":0},{"$f":"SUM(O174+Q174+S174+U174+W174+Y174+AA174+AC174+AE174+AG174+AI174+AK174)","v":0},{"$f":"SUM(P174+R174+T174+V174+X174+Z174+AB174+AD174+AF174+AH174+AJ174+AL174)","v":0}]
["Paro Cardiorrespiratorio",{"$f":"SUM(C175+D175)","v":0},{"$f":"SUM(E175+G175+I175+K175+M175+O175+Q175+S175+U175+W175+Y175+AA175+AC175+AE175+AG175+AI175+AK175)","v":0},0]
["Politraumatismo",{"$f":"SUM(C176+D176)","v":0},0,0]
["Otros",{"$f":"SUM(C177+D177)","v":0},0,0]
["SECCIÓN O: ATENCIONES  EN URGENCIA POR VIOLENCIA SEXUAL  "]
["CONCEPTO",null,"TOTAL",null,null,"RANGO ETARIO Y SEXO",null,null,null,null,null,null,null,null,null,null,null,null,null,null,null,"Gestantes","Con entrega de anticoncepción de emergencia","Sin entrega de anticoncepción de emergencia","Con profilaxis VIH ","Con profilaxis ITS","Con profilaxis Hepatitis B","VICTIMARIO/A",null,null,null,"TOTAL",null,"Sin lesiones constatables","Diversidad sexual ","Pueblos Originarios","Migrantes"]
[null,null,null,null,null,"0 - 4 años",null,"5 - 9 años",null,"10 - 14 años",null,"15 - 17 años",null,"18 - 24 años",null,"25 - 44 años",null,"45-64 años",null,"65 años y más años",null,null,null,null,null,null,null,"Pareja/ Ex pareja","Familiar","Conocido/a","Desconocido/a","Hombre","Mujer"]
[null,null,"Ambos Sexos","Hombres ","Mujeres","Hombres ","Mujeres","Hombres ","Mujeres","Hombres ","Mujeres","Hombres ","Mujeres","Hombres ","Mujeres","Hombres ","Mujeres","Hombres ","Mujeres","Hombres ","Mujeres"]
["Violencia Sexual","72 horas o menos",{"$f":"SUM(D182:E182)","v":0},{"$f":"SUM(F182+H182+J182+L182+N182+P182+R182+T182)","v":0},{"$f":"G182+I182+K182+M182+O182+Q182+S182+U182","v":0},null,null,null,null,null,null,null,null,null,null,null,null,null,null,null,null,null,null,null,null,null,null,null,null,null,null,null,null,null,null,null,null,{"$f":"BI182&BJ182&BK182&BL182","v":""},null,null,null,null,null,null,null,null,null,null,null,null,null,null,null,null,null,null,null,null,null,null,{"$f":"IF(AND(C182>0,AH182=\"\"),\" * No olvide digitar la variable Sin lesiones Constatables. Digite Cero si no tiene.\",IF(AH182>C182,\" * La variable Sin lesiones Constatables No puede ser mayor al Total.\",\"\"))","v":""},{"$f":"IF(AND(C182>0,AI182=\"\"),\" * No olvide digitar la variable Diversidad sexual. Digite Cero si no tiene.\",IF(AI182>C182,\" * La variable Diversidad sexual No puede ser mayor al Total.\",\"\"))","v":""},{"$f":"IF(AND(C182>0,AJ182=\"\"),\" * No olvide digitar la variable Pueblos originarios. Digite Cero si no tiene.\",IF(AJ182>C182,\" * La variable Pueblos originarios No puede ser mayor al Total.\",\"\"))","v":""},{"$f":"IF(AND(C182>0,AK182=\"\"),\" * No olvide digitar la variable Migrantes. Digite Cero si no tiene.\",IF(AK182>C182,\" * La variable Migrantes No puede ser mayor al Total.\",\"\"))","v":""},null,{"$f":"IF(AND(C182>0,AH182=\"\"),1,IF(AH182>C182,1,0))","v":0},{"$f":"IF(AND(C182>0,AI182=\"\"),1,IF(AI182>C182,1,0))","v":0},{"$f":"IF(AND(C182>0,AJ182=\"\"),1,IF(AJ182>C182,1,0))","v":0},{"$f":"IF(AND(C182>0,AK182=\"\"),1,IF(AK182>C182,1,0))","v":0}]
[null,"Después de 72 horas",{"$f":"SUM(D183:E183)","v":0},{"$f":"SUM(F183+H183+J183+L183+N183+P183+R183+T183)","v":0},{"$f":"G183+I183+K183+M183+O183+Q183+S183+U183","v":0},null,null,null,null,null,null,null,null,null,null,null,null,null,null,null,null,null,null,null,null,null,null,null,null,null,null,null,null,null,null,null,null,{"$f":"BI183&BJ183&BK183&BL183","v":""},null,null,null,null,null,null,null,null,null,null,null,null,null,null,null,null,null,null,null,null,null,null,{"$f":"IF(AND(C183>0,AH183=\"\"),\" * No olvide digitar la variable Sin lesiones Constatables. Digite Cero si no tiene.\",IF(AH183>C183,\" * La variable Sin lesiones Constatables No puede ser mayor al Total.\",\"\"))","v":""},{"$f":"IF(AND(C183>0,AI183=\"\"),\" * No olvide digitar la variable Diversidad sexual. Digite Cero si no tiene.\",IF(AI183>C183,\" * La variable Diversidad sexual No puede ser mayor al Total.\",\"\"))","v":""},{"$f":"IF(AND(C183>0,AJ183=\"\"),\" * No olvide digitar la variable Pueblos originarios. Digite Cero si no tiene.\",IF(AJ183>C183,\" * La variable Pueblos originarios No puede ser mayor al Total.\",\"\"))","v":""},{"$f":"IF(AND(C183>0,AK183=\"\"),\" * No olvide digitar la variable Migrantes. Digite Cero si no tiene.\",IF(AK183>C183,\" * La variable Migrantes No puede ser mayor al Total.\",\"\"))","v":""},null,{"$f":"IF(AND(C183>0,AH183=\"\"),1,IF(AH183>C183,1,0))","v":0},{"$f":"IF(AND(C183>0,AI183=\"\"),1,IF(AI183>C183,1,0))","v":0},{"$f":"IF(AND(C183>0,AJ183=\"\"),1,IF(AJ183>C183,1,0))","v":0},{"$f":"IF(AND(C183>0,AK183=\"\"),1,IF(AK183>C183,1,0))","v":0}]
["SECCIÓN P: ATENCIONES MÉDICAS POR VIOLENCIA SEXUAL CON REALIZACIÓN O INDICACIÓN DE PERITAJE "]
["TIPO DE ATENCIÓN","TOTAL","De Turno","De Llamada"]
["Atención por Médico Perito",{"$f":"SUM(C186:D186)","v":0}]
["Atención otros Médicos",{"$f":"SUM(C187)","v":0}]
["SECCIÓN Q: ATENCIONES DE URGENCIA ASOCIADAS A LESIONES AUTOINFLIGIDAS"]
["CONCEPTO","TOTAL",null,null,"RANGO ETARIO Y SEXO",null,null,null,null,null,null,null,null,null,null,null,null,null,null,null,null,null,null,null,null,null,null,null,null,null,null,null,null,null,null,null,null,null,"\nTRANS\n"]
[null,null,null,null,"0 - 4 años",null,"5 - 9 años",null,"10 - 14 años",null,"15 - 19 años",null,"20 - 24 años",null,"25 - 29 años",null,"30 - 34 años",null,"35 - 39 años",null,"40 - 44 años",null,"45 - 49 años",null,"50 - 54 años",null,"55 - 59 años",null,"60 - 64 años",null,"65 - 69 años",null,"70 - 74 años",null,"75 - 79 años",null,"80 y más años"]
[null,"Ambos Sexos","Hombres","Mujeres","Hombres ","Mujeres","Hombres ","Mujeres","Hombres ","Mujeres","Hombres ","Mujeres","Hombres ","Mujeres","Hombres ","Mujeres","Hombres ","Mujeres","Hombres ","Mujeres","Hombres ","Mujeres","Hombres ","Mujeres","Hombres ","Mujeres","Hombres ","Mujeres","Hombres ","Mujeres","Hombres ","Mujeres","Hombres ","Mujeres","Hombres ","Mujeres","Hombres ","Mujeres","Masculino","Femenino"]
["Nº De Atenciones",{"$f":"SUM(C192+D192)","v":0},{"$f":"+E192+G192+I192+K192+M192+O192+Q192+S192+U192+W192+Y192+AA192+AC192+AE192+AG192+AI192+AK192","v":0},{"$f":"+F192+H192+J192+L192+N192+P192+R192+T192+V192+X192+Z192+AB192+AD192+AF192+AH192+AJ192+AL192","v":0},null,null,null,null,null,null,null,null,null,null,null,null,null,null,null,null,null,null,null,null,null,null,null,null,null,null,null,null,null,null,null,null,null,null,null,null,{"$f":"BI192&BJ192&BK192&BL192","v":""},null,null,null,null,null,null,null,null,null,null,null,null,null,null,null,null,null,null,null,{"$f":"IF(AND(D192>0,OR(AM192=\"\")),\"* No olvide digitar Trans Masculino  (Digite CERO si no tiene)\",\"\")","v":""},{"$f":"IF(AM192>D192,\" * Trans masculino no pueden ser mayor al Total Mujeres.\",\"\")","v":""},{"$f":"IF(AND(C192>0,OR(AN192=\"\")),\"* No olvide digitar Trans Femenino  (Digite CERO si no tiene)\",\"\")","v":""},{"$f":"IF(AN192>C192,\" * Trans Femenino no pueden ser mayor al Total Hombres;\",\"\")","v":""},null,{"$f":"IF(AND(D192>0,OR(AM192=\"\")),1,0)","v":0},{"$f":"IF(AM192>D192,1,0)","v":0},{"$f":"IF(AND(C192>0,OR(AN192=\"\")),1,0)","v":0},{"$f":"IF(AN192>C192,1,0)","v":0}]
["SECCIÓN R: ATENCIONES EN SERVICIO DE URGENCIA DE LA RED, ASOCIADOS A MORDEDURA "]
["IDENTIFICACIÓN DEL ANIMAL MORDEDOR","TOTAL",null,null,"RANGO ETARIO Y SEXO",null,null,null,null,null,null,null,"Tipo de Mordedura",null,"Indicación de Vacuna"]
[null,null,null,null,"0 - 4 años",null,"5 - 9 años",null,"10 - 14 años",null,"15 y más años"]
[null,"Ambos Sexos","Hombres","Mujeres","Hombres ","Mujeres","Hombres ","Mujeres","Hombres ","Mujeres","Hombres ","Mujeres","Única","Múltiple"]
[null,{"$f":"+C197+D197","v":0},{"$f":"+E197+G197+I197+K197","v":0},{"$f":"+F197+H197+J197+L197","v":0},{"$f":"SUM(E198:E202)","v":0},0,0,0,0,0,0,0,0,0,0]
["Perro",0,{"$f":"+E198+G198+I198+K198","v":0},{"$f":"+F198+H198+J198+L198","v":0},null,null,null,null,null,null,null,null,null,null,null,{"$f":"BI198&BJ198","v":""},null,null,null,null,null,null,null,null,null,null,null,null,null,null,null,null,null,null,null,null,null,null,null,null,null,null,null,null,null,null,null,null,null,null,null,null,null,null,null,null,null,null,null,null,{"$f":"IF(O198>B198,\"* La indicación de Vacuna NO DEBE ser mayor al total de ambos sexos\",\"\")","v":""},{"$f":"IF((M198+N198)>B198,\" * La suma del Tipo de Mordedura NO DEBE ser mayor al total de ambos sexos\",\"\")","v":""},null,null,null,{"$f":"IF(O198>B198,1,0)","v":0},{"$f":"IF((M198+N198)>B198,1,0)","v":0}]
["Gato",0,{"$f":"+E199+G199+I199+K199","v":0},0,null,null,null,null,null,null,null,null,null,null,null,{"$f":"BI199&BJ199","v":""},null,null,null,null,null,null,null,null,null,null,null,null,null,null,null,null,null,null,null,null,null,null,null,null,null,null,null,null,null,null,null,null,null,null,null,null,null,null,null,null,null,null,null,null,{"$f":"IF(O199>B199,\"* La indicación de Vacuna NO DEBE ser mayor al total de ambos sexos\",\"\")","v":""},{"$f":"IF((M199+N199)>B199,\" * La suma del Tipo de Mordedura NO DEBE ser mayor al total de ambos sexos\",\"\")","v":""},null,null,null,{"$f":"IF(O199>B199,1,0)","v":0},{"$f":"IF((M199+N199)>B199,1,0)","v":0}]
["Animal Silvestre",0,0,0,null,null,null,null,null,null,null,null,null,null,null,"",null,null,null,null,null,null,null,null,null,null,null,null,null,null,null,null,null,null,null,null,null,null,null,null,null,null,null,null,null,null,null,null,null,null,null,null,null,null,null,null,null,null,null,null,"","",null,null,null,0,0]
["Exposición a Murciélago",0,0,0,null,null,null,null,null,null,null,null,null,null,null,"",null,null,null,null,null,null,null,null,null,null,null,null,null,null,null,null,null,null,null,null,null,null,null,null,null,null,null,null,null,null,null,null,null,null,null,null,null,null,null,null,null,null,null,null,"","",null,null,null,0,0]
["Roedor o Animal de Abasto",0,0,0,null,null,null,null,null,null,null,null,null,null,null,"",null,null,null,null,null,null,null,null,null,null,null,null,null,null,null,null,null,null,null,null,null,null,null,null,null,null,null,null,null,null,null,null,null,null,null,null,null,null,null,null,null,null,null,null,"","",null,null,null,0,0]
[]
[]
[]
[]
[]
[]
[]
[]
[]
[]
[]
[]
[]
[]
[]
[]
[]
[]
[]
[]
[]
[]
[]
[]
[]
[]
[]
[]
[]
[]
[]
[]
[]
[]
[]
[]
[]
[]
[]
[]
[]
[]
[]
[]
[]
[{"$f":"SUM(B13:B16,B21:B26,B31:B36,B41:B46,B51:B56,B61:B67,B70:B90,C95:C102,D105:D107,C112:C114,C118:C119,B123:P124,C128:C129,B144,C147:D147,C151:C152,C155:C160,C164:C169,B174:B177,C182:C183,B186:B187,B192,B197:B202)","v":0},{"$f":"SUM(BN13:BX202)","v":0}]

{"sheet":"A09","index":9,"n_rows":350,"n_cols":119,"rows_kept":350,"cut":false,"hidden":false,"merged":[[5,0,5,15],[5,121,5,138],[8,0,10,2],[8,3,9,5],[8,6,8,41],[8,42,10,42],[8,43,10,43],[8,44,10,44],[8,45,10,45],[8,46,10,46],[8,47,10,47],[8,48,10,48],[8,49,10,49],[9,6,9,7],[9,8,9,9],[9,10,9,11],[9,12,9,13],[9,14,9,15],[9,40,9,41],[9,28,9,29],[9,30,9,31],[9,32,9,33],[9,34,9,35],[9,36,9,37],[16,48,17,48],[16,49,17,49],[11,0,11,2],[12,0,12,2],[13,0,13,2],[14,0,14,2],[16,0,17,2],[16,3,16,5],[16,6,16,7],[16,8,16,9],[16,10,16,11],[16,16,16,17],[16,18,16,19],[16,20,16,21],[16,22,16,23],[9,38,9,39],[9,16,9,17],[9,18,9,19],[9,20,9,21],[9,22,9,23],[9,24,9,25],[9,26,9,27],[19,0,19,2],[20,0,20,2],[21,0,21,2],[22,0,22,2],[23,0,23,2],[24,0,24,2],[16,45,17,45],[16,46,17,46],[16,47,17,47],[18,0,18,2],[16,36,16,37],[16,38,16,39],[16,40,16,41],[16,42,17,42],[16,43,17,43],[16,44,17,44],[16,24,16,25],[16,26,16,27],[16,28,16,29],[16,30,16,31],[16,32,16,33],[16,34,16,35],[16,12,16,13],[16,14,16,15],[31,0,31,2],[32,0,32,2],[33,0,33,2],[34,0,34,2],[35,0,35,2],[37,0,39,2],[25,0,25,2],[26,0,26,2],[27,0,27,2],[28,0,28,2],[29,0,29,2],[30,0,30,2],[37,46,39,46],[37,47,39,47],[37,48,39,48],[37,49,39,49],[38,6,38,7],[38,8,38,9],[38,10,38,11],[38,12,38,13],[38,14,38,15],[38,16,38,17],[37,6,37,41],[37,42,39,42],[37,43,39,43],[37,44,39,44],[37,45,39,45],[38,18,38,19],[38,20,38,21],[38,22,38,23],[38,24,38,25],[38,38,38,39],[38,40,38,41],[38,36,38,37],[40,0,40,2],[41,0,41,2],[42,0,42,2],[43,0,43,2],[38,26,38,27],[38,28,38,29],[38,30,38,31],[38,32,38,33],[38,34,38,35],[37,3,38,5],[59,0,59,2],[60,0,63,1],[65,0,65,2],[66,0,66,2],[67,0,68,0],[67,1,67,2],[68,1,68,2],[44,0,44,2],[45,0,45,2],[46,0,46,2],[47,0,52,1],[53,0,53,2],[54,0,58,1],[75,0,75,2],[76,0,76,2],[77,0,77,2],[79,0,80,2],[79,3,79,5],[81,0,82,0],[81,1,81,2],[82,1,82,2],[69,0,69,2],[70,0,70,2],[71,0,71,2],[73,0,73,2],[74,0,74,2],[72,0,72,2],[84,43,86,43],[84,44,86,44],[84,45,86,45],[84,46,86,46],[84,47,86,47],[84,48,86,48],[84,0,86,2],[84,3,85,5],[84,6,84,39],[84,40,86,40],[84,41,86,41],[84,42,86,42],[85,6,85,7],[85,8,85,9],[85,10,85,11],[85,12,85,13],[85,38,85,39],[85,34,85,35],[85,36,85,37],[87,0,87,2],[88,0,88,2],[89,0,89,2],[90,0,90,2],[91,0,91,2],[85,26,85,27],[85,28,85,29],[85,30,85,31],[85,32,85,33],[85,14,85,15],[85,16,85,17],[85,18,85,19],[85,20,85,21],[85,22,85,23],[85,24,85,25],[98,0,98,2],[99,0,99,2],[100,0,100,2],[101,0,101,2],[102,0,102,2],[103,0,103,2],[92,0,92,2],[93,0,93,2],[94,0,94,2],[95,0,95,2],[96,0,96,2],[97,0,97,2],[110,0,110,2],[111,0,111,2],[112,0,112,2],[113,0,113,2],[114,0,114,2],[115,0,115,2],[104,0,104,2],[105,0,105,2],[106,0,106,2],[107,0,107,2],[108,0,108,2],[109,0,109,2],[122,0,122,2],[123,0,123,2],[124,0,124,2],[125,0,125,2],[126,0,126,2],[127,0,127,2],[116,0,116,2],[117,0,117,2],[118,0,118,2],[119,0,119,2],[120,0,120,2],[121,0,121,2],[134,0,134,2],[135,0,135,2],[136,0,136,2],[137,0,137,2],[138,0,138,2],[139,0,139,2],[128,0,128,2],[129,0,129,2],[130,0,130,2],[131,0,131,2],[132,0,132,2],[133,0,133,2],[142,44,144,44],[142,45,144,45],[142,46,144,46],[142,47,144,47],[142,48,144,48],[142,49,144,49],[140,0,140,2],[142,0,144,2],[142,3,143,5],[142,6,142,41],[142,42,144,42],[142,43,144,43],[143,6,143,7],[143,8,143,9],[143,10,143,11],[143,12,143,13],[149,0,149,2],[150,0,150,2],[151,0,151,2],[152,0,152,2],[153,0,153,2],[154,0,154,2],[143,38,143,39],[143,40,143,41],[145,0,145,2],[146,0,146,2],[147,0,147,2],[148,0,148,2],[143,26,143,27],[143,28,143,29],[143,30,143,31],[143,32,143,33],[143,34,143,35],[143,36,143,37],[143,14,143,15],[143,16,143,17],[143,18,143,19],[143,20,143,21],[143,22,143,23],[143,24,143,25],[156,45,158,45],[156,47,158,47],[156,48,158,48],[157,6,157,7],[157,8,157,9],[157,10,157,11],[157,12,157,13],[157,14,157,15],[157,16,157,17],[157,18,157,19],[156,6,156,41],[156,42,158,42],[156,43,158,43],[156,44,158,44],[157,20,157,21],[157,22,157,23],[157,24,157,25],[157,26,157,27],[157,40,157,41],[157,34,157,35],[157,36,157,37],[157,38,157,39],[159,0,169,0],[159,1,159,2],[160,1,160,2],[161,1,161,2],[162,1,162,2],[163,1,169,1],[157,28,157,29],[157,30,157,31],[157,32,157,33],[156,0,158,2],[156,3,157,5],[186,0,190,0],[186,1,186,2],[187,1,188,1],[189,1,190,1],[191,0,193,0],[191,1,193,1],[170,0,174,0],[170,1,174,1],[175,0,177,0],[175,1,177,1],[178,0,185,0],[178,1,180,1],[181,1,182,1],[183,1,185,1],[194,0,195,0],[194,1,195,1],[197,0,199,2],[197,3,198,5],[197,6,197,27],[197,28,199,28],[198,18,198,19],[198,20,198,21],[198,22,198,23],[198,24,198,25],[198,26,198,27],[197,30,199,30],[197,31,199,31],[205,0,205,2],[197,32,199,32],[198,6,198,7],[198,8,198,9],[198,10,198,11],[198,12,198,13],[198,14,198,15],[198,16,198,17],[208,24,208,25],[208,26,208,27],[208,28,208,29],[200,0,200,2],[201,0,201,2],[202,0,202,2],[203,0,203,2],[204,0,204,2],[197,29,199,29],[210,0,210,2],[211,0,211,2],[212,0,212,2],[213,0,213,2],[215,0,217,2],[215,3,216,5],[208,30,208,31],[208,32,208,33],[208,34,208,35],[207,0,209,2],[207,3,208,5],[207,6,207,41],[208,6,208,7],[208,8,208,9],[208,10,208,11],[208,12,208,13],[208,14,208,15],[208,16,208,17],[208,36,208,37],[208,38,208,39],[208,40,208,41],[208,18,208,19],[208,20,208,21],[208,22,208,23],[215,49,217,49],[216,6,216,7],[216,8,216,9],[216,10,216,11],[216,12,216,13],[216,14,216,15],[216,16,216,17],[215,6,215,39],[215,40,217,40],[215,41,217,41],[215,42,215,43],[215,44,217,44],[215,45,217,45],[216,18,216,19],[216,20,216,21],[216,22,216,23],[216,24,216,25],[216,38,216,39],[216,42,217,42],[216,43,217,43],[216,26,216,27],[216,28,216,29],[216,30,216,31],[216,32,216,33],[216,34,216,35],[216,36,216,37],[215,46,217,46],[215,47,217,47],[215,48,217,48],[220,0,225,0],[220,1,220,2],[221,1,221,2],[222,1,222,2],[223,1,223,2],[224,1,224,2],[225,1,225,2],[218,0,219,0],[218,1,218,2],[219,1,219,2],[232,0,237,0],[232,1,232,2],[233,1,233,2],[234,1,234,2],[235,1,235,2],[236,1,236,2],[237,1,237,2],[226,0,231,0],[226,1,226,2],[227,1,227,2],[228,1,228,2],[229,1,229,2],[230,1,230,2],[231,1,231,2],[244,0,249,0],[244,1,244,2],[245,1,245,2],[246,1,246,2],[247,1,247,2],[248,1,248,2],[249,1,249,2],[238,0,243,0],[238,1,238,2],[239,1,239,2],[240,1,240,2],[241,1,241,2],[242,1,242,2],[243,1,243,2],[256,0,261,0],[256,1,256,2],[257,1,257,2],[258,1,258,2],[259,1,259,2],[260,1,260,2],[261,1,261,2],[250,0,255,0],[250,1,250,2],[251,1,251,2],[252,1,252,2],[253,1,253,2],[254,1,254,2],[255,1,255,2],[268,0,273,0],[268,1,268,2],[269,1,269,2],[270,1,270,2],[271,1,271,2],[272,1,272,2],[273,1,273,2],[262,0,267,0],[262,1,262,2],[263,1,263,2],[264,1,264,2],[265,1,265,2],[266,1,266,2],[267,1,267,2],[280,0,285,0],[280,1,280,2],[281,1,281,2],[282,1,282,2],[283,1,283,2],[284,1,284,2],[285,1,285,2],[274,0,279,0],[274,1,274,2],[275,1,275,2],[276,1,276,2],[277,1,277,2],[278,1,278,2],[279,1,279,2],[292,0,297,0],[292,1,292,2],[293,1,293,2],[294,1,294,2],[295,1,295,2],[296,1,296,2],[297,1,297,2],[286,0,291,0],[286,1,286,2],[287,1,287,2],[288,1,288,2],[289,1,289,2],[290,1,290,2],[291,1,291,2],[303,1,303,2],[306,40,306,41],[306,36,306,37],[306,38,306,39],[306,18,306,19],[306,20,306,21],[306,22,306,23],[306,24,306,25],[306,26,306,27],[305,0,307,2],[305,3,306,5],[305,6,305,41],[306,16,306,17],[324,0,324,1],[314,0,314,1],[315,0,315,1],[316,0,316,1],[317,0,317,1],[318,0,318,1],[319,0,319,1],[308,0,308,2],[309,0,309,2],[310,0,310,2],[311,0,311,2],[312,0,312,2],[305,42,307,42],[45,6,45,17],[63,6,63,23],[156,46,158,46],[320,0,320,1],[321,0,321,1],[322,0,322,1],[323,0,323,1],[306,28,306,29],[306,30,306,31],[306,32,306,33],[306,34,306,35],[305,43,307,43],[306,6,306,7],[306,8,306,9],[306,10,306,11],[306,12,306,13],[306,14,306,15],[298,0,303,0],[298,1,298,2],[299,1,299,2],[300,1,300,2],[301,1,301,2],[302,1,302,2]]}
["SERVICIO DE SALUD"]
[{"$f":"CONCATENATE(\"COMUNA: \",NOMBRE!B2,\" - \",\"( \",NOMBRE!C2,NOMBRE!D2,NOMBRE!E2,NOMBRE!F2,NOMBRE!G2,\" )\")","v":"COMUNA:  - (  )"}]
[{"$f":"CONCATENATE(\"ESTABLECIMIENTO/ESTRATEGIA: \",NOMBRE!B3,\" - \",\"( \",NOMBRE!C3,NOMBRE!D3,NOMBRE!E3,NOMBRE!F3,NOMBRE!G3,NOMBRE!H3,\" )\")","v":"ESTABLECIMIENTO/ESTRATEGIA:  - (  )"}]
[{"$f":"CONCATENATE(\"MES: \",NOMBRE!B6,\" - \",\"( \",NOMBRE!C6,NOMBRE!D6,\" )\")","v":"MES:  - (  )"}]
[{"$f":"CONCATENATE(\"AÑO: \",NOMBRE!B7)","v":"AÑO: 2024"}]
[" REM-A9. ATENCIÓN DE SALUD BUCAL EN LA RED ASISTENCIAL "]
[]
["SECCIÓN A: CONSULTAS Y CONTROLES ODONTOLÓGICOS REALIZADOS EN APS"]
["ACTIVIDAD ",null,null,"TOTAL",null,null,"RANGO ETARIO Y SEXO",null,null,null,null,null,null,null,null,null,null,null,null,null,null,null,null,null,null,null,null,null,null,null,null,null,null,null,null,null,null,null,null,null,null,null,"12 años (incluido en el grupo de 10-14 años)","Embarazadas","60 años (incluido en grupos de 60-64 años)","Usuarios con Discapacidad","Migrantes","Paciente en Control Programa Salud Cardiovascular","Niños, niñas, adolescentes y jóvenes SENAME","Niños, niñas, adolescentes y jóvenes Mejor Niñez"]
[null,null,null,null,null,null,"Menos de 1 año",null,"1 año",null,"2 años",null,"3 años",null,"4 años",null,"5 años",null,"6 años",null,"7 años",null,"8-9 años",null,"10-14 años",null,"15-19 años",null,"20-29 años ",null,"30-39 años",null,"40-49 años",null,"50-59 años",null,"60-64 años",null,"65-74 años",null,"75 y más años"]
[null,null,null,"Ambos Sexos","Hombres","Mujeres","Hombres","Mujeres","Hombres","Mujeres","Hombres","Mujeres","Hombres","Mujeres","Hombres","Mujeres","Hombres","Mujeres","Hombres","Mujeres","Hombres","Mujeres","Hombres","Mujeres","Hombres","Mujeres","Hombres","Mujeres","Hombres","Mujeres","Hombres","Mujeres","Hombres","Mujeres","Hombres","Mujeres","Hombres","Mujeres","Hombres","Mujeres","Hombres","Mujeres"]
["Consulta de Morbilidad ",null,null,{"$f":"SUM(E12+F12)","v":0},{"$f":"SUM(G12+I12+K12+M12+O12+Q12+S12+U12+W12+Y12+AA12+AC12+AE12+AG12+AI12+AK12+AM12+AO12)","v":0},{"$f":"SUM(H12+J12+L12+N12+P12+R12+T12+V12+X12+Z12+AB12+AD12+AF12+AH12+AJ12+AL12+AN12+AP12)","v":0},null,null,null,null,null,null,null,null,null,null,null,null,null,null,null,null,null,null,null,null,null,null,null,null,null,null,null,null,null,null,null,null,null,null,null,null,null,null,null,null,null,null,null,null,{"$f":"CW12&CX12&CY12&CZ12&DA12&DB12&DC12&DD12&DE12","v":""},null,null,null,null,null,null,null,null,null,null,null,null,null,null,null,null,null,null,null,null,null,null,null,null,null,null,null,null,null,null,null,null,null,null,null,null,null,null,null,null,null,null,null,null,null,null,null,null,null,{"$f":"IF(AND((Y12+Z12)>0,AQ12=\"\"),\" * No olvide digitar la variable 12 años. Si no tiene digite Cero.\",IF(AQ12>(Y12+Z12),\"* Las Consultas de 12 años NO DEBEN ser mayor que el total de Consultas entre 10-14 años\",\"\"))","v":""},{"$f":"IF(AND(F12>0,AR12=\"\"),\" * No olvide digitar la variable Embarazadas. Digite cero si no tiene.\",\"\")","v":""},{"$f":"IF(AR12>F12,\" * Las Embarazadas NO DEBEN ser mayor al Total de mujeres. \",\"\")","v":""},{"$f":"IF(AND((AK12+AL12)>0,AS12=\"\"),\" * No olvide digitar la variable 60 años. Si no tiene digite Cero.\",IF(AS12>(AK12+AL12),\" * Las consultas de 60 años NO DEBEN ser mayor que el Total de consultas del grupo 60-64 años\",\"\"))","v":""},{"$f":"IF(AND(D12>0,AT12=\"\"),\" * No olvide digitar la variable Usuarios con Discapacidad. Digite Cero si no tiene.\",IF(AT12>D12,\" * La variable Usuarios con Discapacidad No puede ser mayor al Total Ambos Sexos.\",\"\"))","v":""},{"$f":"IF(AND(D12>0,AU12=\"\"),\" * No olvide digitar la variable Migrantes. Digite Cero si no tiene.\",IF(AU12>D12,\" * La variable Migrantes No puede ser mayor al Total Ambos Sexos.\",\"\"))","v":""},{"$f":"IF(AND(D12>0,AV12=\"\"),\" * No olvide digitar la variable Pacientes en control PSCV. Digite Cero si no tiene.\",IF(AV12>D12,\" * La variable Pacientes en control PSCV No puede ser mayor al Total Ambos Sexos.\",\"\"))","v":""},{"$f":"IF(AND(D12>0,AW12=\"\"),\" * No olvide digitar la variable Niños, niñas, adolescentes y jóvenes SENAME. Digite Cero si no tiene.\",IF(AW12>D12,\" * La variable Niños, niñas, adolescentes y jóvenes SENAME No puede ser mayor al Total.\",\"\"))","v":""},{"$f":"IF(AND(D12>0,AX12=\"\"),\" * No olvide digitar la variable Niños, niñas, adolescentes y jóvenes Mejor Niñez. Digite Cero si no tiene.\",IF(AX12>D12,\" * La variable Niños, niñas, adolescentes y jóvenes Mejor Niñez no puede ser mayor al Total.\",\"\"))","v":""},null,{"$f":"IF(AND((Y12+Z12)>0,AQ12=\"\"),1,IF(AQ12>(Y12+Z12),1,0))","v":0},{"$f":"IF(AND(F12>0,AR12=\"\"),1,0)","v":0},{"$f":"IF(AR12>F12,1,0)","v":0},{"$f":"IF(AND((AK12+AL12)>0,AS12=\"\"),1,IF(AS12>(AK12+AL12),1,0))","v":0},{"$f":"IF(AND(D12>0,AT12=\"\"),1,IF(AT12>D12,1,0))","v":0},{"$f":"IF(AND(D12>0,AU12=\"\"),1,IF(AU12>D12,1,0))","v":0},{"$f":"IF(AND(D12>0,AV12=\"\"),1,IF(AV12>D12,1,0))","v":0},{"$f":"IF(AND(D12>0,AW12=\"\"),1,IF(AW12>D12,1,0))","v":0},{"$f":"IF(AND(D12>0,AX12=\"\"),1,IF(AX12>D12,1,0))","v":0}]
["Control Odontológico ",null,null,{"$f":"SUM(E13+F13)","v":0},0,{"$f":"SUM(H13+J13+L13+N13+P13+R13+T13+V13+X13+Z13+AB13+AD13+AF13+AH13+AJ13+AL13+AN13+AP13)","v":0},null,null,null,null,null,null,null,null,null,null,null,null,null,null,null,null,null,null,null,null,null,null,null,null,null,null,null,null,null,null,null,null,null,null,null,null,null,null,null,null,null,null,null,null,{"$f":"CW13&CX13&CY13&CZ13&DA13&DB13&DC13&DD13&DE13","v":""},null,null,null,null,null,null,null,null,null,null,null,null,null,null,null,null,null,null,null,null,null,null,null,null,null,null,null,null,null,null,null,null,null,null,null,null,null,null,null,null,null,null,null,null,null,null,null,null,null,{"$f":"IF(AND((Y13+Z13)>0,AQ13=\"\"),\" * No olvide digitar la variable 12 años. Si no tiene digite Cero.\",IF(AQ13>(Y13+Z13),\"* Las Consultas de 12 años NO DEBEN ser mayor que el total de Consultas entre 10-14 años\",\"\"))","v":""},{"$f":"IF(AND(F13>0,AR13=\"\"),\" * No olvide digitar la variable Embarazadas. Digite cero si no tiene.\",\"\")","v":""},{"$f":"IF(AR13>F13,\" * Las Embarazadas NO DEBEN ser mayor al Total de mujeres. \",\"\")","v":""},{"$f":"IF(AND((AK13+AL13)>0,AS13=\"\"),\" * No olvide digitar la variable 60 años. Si no tiene digite Cero.\",IF(AS13>(AK13+AL13),\" * Las consultas de 60 años NO DEBEN ser mayor que el Total de consultas del grupo 60-64 años\",\"\"))","v":""},{"$f":"IF(AND(D13>0,AT13=\"\"),\" * No olvide digitar la variable Usuarios con Discapacidad. Digite Cero si no tiene.\",IF(AT13>D13,\" * La variable Usuarios con Discapacidad No puede ser mayor al Total Ambos Sexos.\",\"\"))","v":""},{"$f":"IF(AND(D13>0,AU13=\"\"),\" * No olvide digitar la variable Migrantes. Digite Cero si no tiene.\",IF(AU13>D13,\" * La variable Migrantes No puede ser mayor al Total Ambos Sexos.\",\"\"))","v":""},{"$f":"IF(AND(D13>0,AV13=\"\"),\" * No olvide digitar la variable Pacientes en control PSCV. Digite Cero si no tiene.\",IF(AV13>D13,\" * La variable Pacientes en control PSCV No puede ser mayor al Total Ambos Sexos.\",\"\"))","v":""},{"$f":"IF(AND(D13>0,AW13=\"\"),\" * No olvide digitar la variable Niños, niñas, adolescentes y jóvenes SENAME. Digite Cero si no tiene.\",IF(AW13>D13,\" * La variable Niños, niñas, adolescentes y jóvenes SENAME No puede ser mayor al Total.\",\"\"))","v":""},"",null,{"$f":"IF(AND((Y13+Z13)>0,AQ13=\"\"),1,IF(AQ13>(Y13+Z13),1,0))","v":0},{"$f":"IF(AND(F13>0,AR13=\"\"),1,0)","v":0},{"$f":"IF(AR13>F13,1,0)","v":0},{"$f":"IF(AND((AK13+AL13)>0,AS13=\"\"),1,IF(AS13>(AK13+AL13),1,0))","v":0},{"$f":"IF(AND(D13>0,AT13=\"\"),1,IF(AT13>D13,1,0))","v":0},{"$f":"IF(AND(D13>0,AU13=\"\"),1,IF(AU13>D13,1,0))","v":0},{"$f":"IF(AND(D13>0,AV13=\"\"),1,IF(AV13>D13,1,0))","v":0},{"$f":"IF(AND(D13>0,AW13=\"\"),1,IF(AW13>D13,1,0))","v":0},{"$f":"IF(AND(D13>0,AX13=\"\"),1,IF(AX13>D13,1,0))","v":0}]
["Consulta de urgencia (GES)",null,null,{"$f":"SUM(E14+F14)","v":0},0,0,null,null,null,null,null,null,null,null,null,null,null,null,null,null,null,null,null,null,null,null,null,null,null,null,null,null,null,null,null,null,null,null,null,null,null,null,null,null,null,null,null,null,null,null,"",null,null,null,null,null,null,null,null,null,null,null,null,null,null,null,null,null,null,null,null,null,null,null,null,null,null,null,null,null,null,null,null,null,null,null,null,null,null,null,null,null,null,null,null,null,null,null,null,null,"","","","","","","","","",null,0,0,0,0,0,0,0,0,0]
["Inasistencia a consulta",null,null,{"$f":"SUM(E15+F15)","v":0},{"$f":"SUM(G15+I15+K15+M15+O15+Q15+S15+U15+W15+Y15+AA15+AC15+AE15+AG15+AI15+AK15+AM15+AO15)","v":0},0,null,null,null,null,null,null,null,null,null,null,null,null,null,null,null,null,null,null,null,null,null,null,null,null,null,null,null,null,null,null,null,null,null,null,null,null,null,null,null,null,null,null,null,null,"",null,null,null,null,null,null,null,null,null,null,null,null,null,null,null,null,null,null,null,null,null,null,null,null,null,null,null,null,null,null,null,null,null,null,null,null,null,null,null,null,null,null,null,null,null,null,null,null,null,"","","","","","","","",{"$f":"IF(AND(D15>0,AX15=\"\"),\" * No olvide digitar la variable Niños, niñas, adolescentes y jóvenes Mejor Niñez. Digite Cero si no tiene.\",IF(AX15>D15,\" * La variable Niños, niñas, adolescentes y jóvenes Mejor Niñez no puede ser mayor al Total.\",\"\"))","v":""},null,0,0,0,0,0,0,0,0,0]
["SECCIÓN B: ACTIVIDADES DE ODONTOLOGÍA GENERAL  REALIZADOS EN NIVEL PRIMARIO Y SECUNDARIO DE SALUD"]
["TIPO DE ACTIVIDAD",null,null,"TOTAL ",null,null,"Menos de 1 año",null,"1 año",null,"2 años",null,"3 años",null,"4 años",null,"5 años",null,"6 años",null,"7 años",null,"8-9 años",null,"10-14 años",null,"15-19 años",null,"20-29 años ",null,"30-39 años",null,"40-49 años",null,"50-59 años",null,"60-64 años",null,"65-74 años",null,"75 y más años",null,"12 años (incluido en el grupo de 10-14 años)","Embarazadas","60 años (incluido en grupos de 60-64 años)","Compra de Servicio","Usuarios con Discapacidad","Migrantes","Niños, niñas, adolescentes y jóvenes SENAME","Niños, niñas, adolescentes y jóvenes Mejor Niñez"]
[null,null,null,"Ambos Sexos","Hombres","Mujeres","Hombres","Mujeres","Hombres","Mujeres","Hombres","Mujeres","Hombres","Mujeres","Hombres","Mujeres","Hombres","Mujeres","Hombres","Mujeres","Hombres","Mujeres","Hombres","Mujeres","Hombres","Mujeres","Hombres","Mujeres","Hombres","Mujeres","Hombres","Mujeres","Hombres","Mujeres","Hombres","Mujeres","Hombres","Mujeres","Hombres","Mujeres","Hombres","Mujeres"]
["Educación individual con instrucción de técnica de cepillado",null,null,{"$f":"SUM(E19+F19)","v":0},{"$f":"SUM(G19+I19+K19+M19+O19+Q19+S19+U19+W19+Y19+AA19+AC19+AE19+AG19+AI19+AK19+AM19+AO19)","v":0},{"$f":"SUM(H19+J19+L19+N19+P19+R19+T19+V19+X19+Z19+AB19+AD19+AF19+AH19+AJ19+AL19+AN19+AP19)","v":0},null,null,null,null,null,null,null,null,null,null,null,null,null,null,null,null,null,null,null,null,null,null,null,null,null,null,null,null,null,null,null,null,null,null,null,null,null,null,null,null,null,null,null,null,{"$f":"CW19&CX19&CY19&CZ19&DA19&DB19&DC19&DD19&DE19","v":""},null,null,null,null,null,null,null,null,null,null,null,null,null,null,null,null,null,null,null,null,null,null,null,null,null,null,null,null,null,null,null,null,null,null,null,null,null,null,null,null,null,null,null,null,null,null,null,null,null,{"$f":"IF(AND((Y19+Z19)>0,AQ19=\"\"),\" * No olvide digitar la variable 12 años. Si no tiene digite Cero.\",IF(AQ19>(Y19+Z19),\"* Las Consultas de 12 años NO DEBEN ser mayor que el total de Consultas entre 10-14 años\",\"\"))","v":""},{"$f":"IF(AND(F19>0,AR19=\"\"),\" * No olvide digitar la variable Embarazadas. Digite cero si no tiene.\",\"\")","v":""},{"$f":"IF(AR19>F19,\" * Las Embarazadas NO DEBEN ser mayor al total de mujeres. \",\"\")","v":""},{"$f":"IF(AND((AK19+AL19)>0,AS19=\"\"),\" * No olvide digitar la variable 60 años. Si no tiene digite Cero.\",IF(AS19>(AK19+AL19),\" * Las consultas de 60 años NO DEBEN ser mayor que el Total de consultas del grupo 60-64 años\",\"\"))","v":""},null,{"$f":"IF(AND(D19>0,AU19=\"\"),\" * No olvide digitar la variable Usuarios con Discapacidad. Digite Cero si no tiene.\",IF(AU19>D19,\" * La variable Usuarios con Discapacidad No puede ser mayor al Total Ambos Sexos.\",\"\"))","v":""},{"$f":"IF(AND(D19>0,AV19=\"\"),\" * No olvide digitar la variable Migrantes. Digite Cero si no tiene.\",IF(AV19>D19,\" * La variable Migrantes No puede ser mayor al Total Ambos Sexos.\",\"\"))","v":""},{"$f":"IF(AND(D19>0,AW19=\"\"),\" * No olvide digitar la variable Niños, niñas, adolescentes y jóvenes SENAME. Digite Cero si no tiene.\",IF(AW19>D19,\" * La variable Niños, niñas, adolescentes y jóvenes SENAME No puede ser mayor al Total.\",\"\"))","v":""},{"$f":"IF(AND(D19>0,AX19=\"\"),\" * No olvide digitar la variable Niños, niñas, adolescentes y jóvenes Mejor Niñez. Digite Cero si no tiene.\",IF(AX19>D19,\" * La variable Niños, niñas, adolescentes y jóvenes Mejor Niñez. No puede ser mayor al Total.\",\"\"))","v":""},null,{"$f":"IF(AND((Y19+Z19)>0,AQ19=\"\"),1,IF(AQ19>(Y19+Z19),1,0))","v":0},{"$f":"IF(AND(F19>0,AR19=\"\"),1,0)","v":0},{"$f":"IF(AR19>F19,1,0)","v":0},{"$f":"IF(AND((AK19+AL19)>0,AS19=\"\"),1,IF(AS19>(AK19+AL19),1,0))","v":0},null,{"$f":"IF(AND(D19>0,AU19=\"\"),1,IF(AU19>D19,1,0))","v":0},{"$f":"IF(AND(D19>0,AV19=\"\"),1,IF(AV19>D19,1,0))","v":0},{"$f":"IF(AND(D19>0,AW19=\"\"),1,IF(AW19>D19,1,0))","v":0},{"$f":"IF(AND(D19>0,AX19=\"\"),1,IF(AX19>D19,1,0))","v":0}]
["Consejería breve en tabaco",null,null,{"$f":"SUM(E20+F20)","v":0},{"$f":"SUM(U20+W20+Y20+AA20+AC20+AE20+AG20+AI20+AK20+AM20+AO20)","v":0},{"$f":"SUM(V20+X20+Z20+AB20+AD20+AF20+AH20+AJ20+AL20+AN20+AP20)","v":0},null,null,null,null,null,null,null,null,null,null,null,null,null,null,null,null,null,null,null,null,null,null,null,null,null,null,null,null,null,null,null,null,null,null,null,null,null,null,null,null,null,null,null,null,{"$f":"CW20&CX20&CY20&CZ20&DA20&DB20&DC20&DD20&DE20","v":""},null,null,null,null,null,null,null,null,null,null,null,null,null,null,null,null,null,null,null,null,null,null,null,null,null,null,null,null,null,null,null,null,null,null,null,null,null,null,null,null,null,null,null,null,null,null,null,null,null,"",{"$f":"IF(AND(F20>0,AR20=\"\"),\" * No olvide digitar la variable Embarazadas. Digite cero si no tiene.\",\"\")","v":""},{"$f":"IF(AR20>F20,\" * Las Embarazadas NO DEBEN ser mayor al total de mujeres. \",\"\")","v":""},"",null,{"$f":"IF(AND(D20>0,AU20=\"\"),\" * No olvide digitar la variable Usuarios con Discapacidad. Digite Cero si no tiene.\",IF(AU20>D20,\" * La variable Usuarios con Discapacidad No puede ser mayor al Total Ambos Sexos.\",\"\"))","v":""},{"$f":"IF(AND(D20>0,AV20=\"\"),\" * No olvide digitar la variable Migrantes. Digite Cero si no tiene.\",IF(AV20>D20,\" * La variable Migrantes No puede ser mayor al Total Ambos Sexos.\",\"\"))","v":""},{"$f":"IF(AND(D20>0,AW20=\"\"),\" * No olvide digitar la variable Niños, niñas, adolescentes y jóvenes SENAME. Digite Cero si no tiene.\",IF(AW20>D20,\" * La variable Niños, niñas, adolescentes y jóvenes SENAME No puede ser mayor al Total.\",\"\"))","v":""},{"$f":"IF(AND(D20>0,AX20=\"\"),\" * No olvide digitar la variable Niños, niñas, adolescentes y jóvenes Mejor Niñez. Digite Cero si no tiene.\",IF(AX20>D20,\" * La variable Niños, niñas, adolescentes y jóvenes Mejor Niñez. No puede ser mayor al Total.\",\"\"))","v":""},null,0,{"$f":"IF(AND(F20>0,AR20=\"\"),1,0)","v":0},{"$f":"IF(AR20>F20,1,0)","v":0},0,null,{"$f":"IF(AND(D20>0,AU20=\"\"),1,IF(AU20>D20,1,0))","v":0},0,0,0]
["Examen de salud oral ",null,null,0,{"$f":"SUM(G21+I21+K21+M21+O21+Q21+S21+U21+W21+Y21+AA21+AC21+AE21+AG21+AI21+AK21+AM21+AO21)","v":0},0,null,null,null,null,null,null,null,null,null,null,null,null,null,null,null,null,null,null,null,null,null,null,null,null,null,null,null,null,null,null,null,null,null,null,null,null,null,null,null,null,null,null,null,null,"",null,null,null,null,null,null,null,null,null,null,null,null,null,null,null,null,null,null,null,null,null,null,null,null,null,null,null,null,null,null,null,null,null,null,null,null,null,null,null,null,null,null,null,null,null,null,null,null,null,"","","","",null,"","","","",null,0,0,0,0,null,0,0,0,0]
["Aplicación de sellantes ",null,null,0,0,0,null,null,null,null,null,null,null,null,null,null,null,null,null,null,null,null,null,null,null,null,null,null,null,null,null,null,null,null,null,null,null,null,null,null,null,null,null,null,null,null,null,null,null,null,"",null,null,null,null,null,null,null,null,null,null,null,null,null,null,null,null,null,null,null,null,null,null,null,null,null,null,null,null,null,null,null,null,null,null,null,null,null,null,null,null,null,null,null,null,null,null,null,null,null,"","","","",null,"","","","",null,0,0,0,0,null,0,0,0,0]
["Fluoración tópica barniz ",null,null,0,0,0,null,null,null,null,null,null,null,null,null,null,null,null,null,null,null,null,null,null,null,null,null,null,null,null,null,null,null,null,null,null,null,null,null,null,null,null,null,null,null,null,null,null,null,null,"",null,null,null,null,null,null,null,null,null,null,null,null,null,null,null,null,null,null,null,null,null,null,null,null,null,null,null,null,null,null,null,null,null,null,null,null,null,null,null,null,null,null,null,null,null,null,null,null,null,"","","","",null,"","","","",null,0,0,0,0,null,0,0,0,0]
["Actividad interceptiva de anomalías dento maxilares (OPI)",null,null,0,0,0,null,null,null,null,null,null,null,null,null,null,null,null,null,null,null,null,null,null,null,null,null,null,null,null,null,null,null,null,null,null,null,null,null,null,null,null,null,null,null,null,null,null,null,null,"",null,null,null,null,null,null,null,null,null,null,null,null,null,null,null,null,null,null,null,null,null,null,null,null,null,null,null,null,null,null,null,null,null,null,null,null,null,null,null,null,null,null,null,null,null,null,null,null,null,"","","","",null,"","","","",null,0,0,0,0,null,0,0,0,0]
["Destartraje supragingival y pulido coronario ",null,null,0,0,0,null,null,null,null,null,null,null,null,null,null,null,null,null,null,null,null,null,null,null,null,null,null,null,null,null,null,null,null,null,null,null,null,null,null,null,null,null,null,null,null,null,null,null,null,"",null,null,null,null,null,null,null,null,null,null,null,null,null,null,null,null,null,null,null,null,null,null,null,null,null,null,null,null,null,null,null,null,null,null,null,null,null,null,null,null,null,null,null,null,null,null,null,null,null,"","","","",null,"","","","",null,0,0,0,0,null,0,0,0,0]
["Exodoncia ",null,null,0,0,0,null,null,null,null,null,null,null,null,null,null,null,null,null,null,null,null,null,null,null,null,null,null,null,null,null,null,null,null,null,null,null,null,null,null,null,null,null,null,null,null,null,null,null,null,"",null,null,null,null,null,null,null,null,null,null,null,null,null,null,null,null,null,null,null,null,null,null,null,null,null,null,null,null,null,null,null,null,null,null,null,null,null,null,null,null,null,null,null,null,null,null,null,null,null,"","","","",null,"","","","",null,0,0,0,0,null,0,0,0,0]
["Procedimiento pulpar ",null,null,0,0,0,null,null,null,null,null,null,null,null,null,null,null,null,null,null,null,null,null,null,null,null,null,null,null,null,null,null,null,null,null,null,null,null,null,null,null,null,null,null,null,null,null,null,null,null,"",null,null,null,null,null,null,null,null,null,null,null,null,null,null,null,null,null,null,null,null,null,null,null,null,null,null,null,null,null,null,null,null,null,null,null,null,null,null,null,null,null,null,null,null,null,null,null,null,null,"","","","",null,"","","","",null,0,0,0,0,null,0,0,0,0]
["Acceso cavitario ",null,null,{"$f":"SUM(E28+F28)","v":0},0,0,null,null,null,null,null,null,null,null,null,null,null,null,null,null,null,null,null,null,null,null,null,null,null,null,null,null,null,null,null,null,null,null,null,null,null,null,null,null,null,null,null,null,null,null,"",null,null,null,null,null,null,null,null,null,null,null,null,null,null,null,null,null,null,null,null,null,null,null,null,null,null,null,null,null,null,null,null,null,null,null,null,null,null,null,null,null,null,null,null,null,null,null,null,null,"","","","",null,"","","","",null,0,0,0,0,null,0,0,0,0]
["Restauración estética ",null,null,0,0,0,null,null,null,null,null,null,null,null,null,null,null,null,null,null,null,null,null,null,null,null,null,null,null,null,null,null,null,null,null,null,null,null,null,null,null,null,null,null,null,null,null,null,null,null,"",null,null,null,null,null,null,null,null,null,null,null,null,null,null,null,null,null,null,null,null,null,null,null,null,null,null,null,null,null,null,null,null,null,null,null,null,null,null,null,null,null,null,null,null,null,null,null,null,null,"","","","",null,"","","","",null,0,0,0,0,null,0,0,0,0]
["Restauración de amalgamas ",null,null,0,0,0,null,null,null,null,null,null,null,null,null,null,null,null,null,null,null,null,null,null,null,null,null,null,null,null,null,null,null,null,null,null,null,null,null,null,null,null,null,null,null,null,null,null,null,null,"",null,null,null,null,null,null,null,null,null,null,null,null,null,null,null,null,null,null,null,null,null,null,null,null,null,null,null,null,null,null,null,null,null,null,null,null,null,null,null,null,null,null,null,null,null,null,null,null,null,"","","","",null,"","","","",null,0,0,0,0,null,0,0,0,0]
["Obturación de vidrio ionómero  ",null,null,0,0,0,null,null,null,null,null,null,null,null,null,null,null,null,null,null,null,null,null,null,null,null,null,null,null,null,null,null,null,null,null,null,null,null,null,null,null,null,null,null,null,null,null,null,null,null,"",null,null,null,null,null,null,null,null,null,null,null,null,null,null,null,null,null,null,null,null,null,null,null,null,null,null,null,null,null,null,null,null,null,null,null,null,null,null,null,null,null,null,null,null,null,null,null,null,null,"","","","",null,"","","","",null,0,0,0,0,null,0,0,0,0]
["Destartraje subgingival y pulido radiocular por sextante ",null,null,{"$f":"SUM(E32+F32)","v":0},{"$f":"SUM(U32+W32+Y32+AA32+AC32+AE32+AG32+AI32+AK32+AM32+AO32)","v":0},{"$f":"SUM(V32+X32+Z32+AB32+AD32+AF32+AH32+AJ32+AL32+AN32+AP32)","v":0},null,null,null,null,null,null,null,null,null,null,null,null,null,null,null,null,null,null,null,null,null,null,null,null,null,null,null,null,null,null,null,null,null,null,null,null,null,null,null,null,null,null,null,null,"",null,null,null,null,null,null,null,null,null,null,null,null,null,null,null,null,null,null,null,null,null,null,null,null,null,null,null,null,null,null,null,null,null,null,null,null,null,null,null,null,null,null,null,null,null,null,null,null,null,"","","","",null,"","","","",null,0,0,0,0,null,0,0,0,0]
["Tratamiento restaurador atraumático (ART)",null,null,{"$f":"SUM(E33+F33)","v":0},{"$f":"SUM(G33+I33+K33+M33+O33+Q33+S33+U33+W33+Y33+AA33+AC33+AE33+AG33+AI33+AK33+AM33+AO33)","v":0},0,null,null,null,null,null,null,null,null,null,null,null,null,null,null,null,null,null,null,null,null,null,null,null,null,null,null,null,null,null,null,null,null,null,null,null,null,null,null,null,null,null,null,null,null,"",null,null,null,null,null,null,null,null,null,null,null,null,null,null,null,null,null,null,null,null,null,null,null,null,null,null,null,null,null,null,null,null,null,null,null,null,null,null,null,null,null,null,null,null,null,null,null,null,null,"","","","",null,"","","","",null,0,0,0,0,null,0,0,0,0]
["Procedimientos Médico-Quirúrgicos",null,null,0,0,0,null,null,null,null,null,null,null,null,null,null,null,null,null,null,null,null,null,null,null,null,null,null,null,null,null,null,null,null,null,null,null,null,null,null,null,null,null,null,null,null,null,null,null,null,"",null,null,null,null,null,null,null,null,null,null,null,null,null,null,null,null,null,null,null,null,null,null,null,null,null,null,null,null,null,null,null,null,null,null,null,null,null,null,null,null,null,null,null,null,null,null,null,null,null,"","","","",null,"","","","",null,0,0,0,0,null,0,0,0,0]
["Radiografía intraoral (retroalveolares, bite wing y oclusales)",null,null,0,0,0,null,null,null,null,null,null,null,null,null,null,null,null,null,null,null,null,null,null,null,null,null,null,null,null,null,null,null,null,null,null,null,null,null,null,null,null,null,null,null,null,null,null,null,null,"",null,null,null,null,null,null,null,null,null,null,null,null,null,null,null,null,null,null,null,null,null,null,null,null,null,null,null,null,null,null,null,null,null,null,null,null,null,null,null,null,null,null,null,null,null,null,null,null,null,"","","","",null,"","","","",null,0,0,0,0,null,0,0,0,0]
["TOTAL ACTIVIDADES",null,null,{"$f":"SUM(D19:D35)","v":0},0,0,0,0,0,0,0,0,0,0,0,0,0,0,0,0,0,0,0,0,0,0,0,0,0,0,0,0,0,0,0,0,0,0,0,0,0,0,0,0,0,0,0,0,{"$f":"SUM(AW19:AW35)","v":0},{"$f":"SUM(AX19:AX35)","v":0}]
["SECCIÓN C : INGRESOS Y EGRESOS EN APS"]
["TIPO DE INGRESO O EGRESO",null,null,"TOTAL  ",null,null,"RANGO ETARIO Y SEXO",null,null,null,null,null,null,null,null,null,null,null,null,null,null,null,null,null,null,null,null,null,null,null,null,null,null,null,null,null,null,null,null,null,null,null,"12 años (incluido en el grupo de 10-14 años)","Embarazadas","60 años (incluido en grupos de 60-64 años)","Usuarios con Discapacidad","Niños, niñas, adolescentes y jóvenes población SENAME","Niños, niñas, adolescentes y jóvenes Mejor Niñez","Migrantes","Pacientes en Control Programa Salud Cardiovascular"]
[null,null,null,null,null,null,"Menos de 1 año",null,"1 año",null,"2 años",null,"3 años",null,"4 años",null,"5 años",null,"6 años",null,"7 años",null,"8-9 años",null,"10-14 años",null,"15-19 años",null,"20-29 años ",null,"30-39 años",null,"40-49 años",null,"50-59 años",null,"60-64 años",null,"65-74 años",null,"75 y más años"]
[null,null,null,"Ambos Sexos","Hombres","Mujeres","Hombres","Mujeres","Hombres","Mujeres","Hombres","Mujeres","Hombres","Mujeres","Hombres","Mujeres","Hombres","Mujeres","Hombres","Mujeres","Hombres","Mujeres","Hombres","Mujeres","Hombres","Mujeres","Hombres","Mujeres","Hombres","Mujeres","Hombres","Mujeres","Hombres","Mujeres","Hombres","Mujeres","Hombres","Mujeres","Hombres","Mujeres","Hombres","Mujeres"]
["ingreso a tratamiento odontología general ",null,null,{"$f":"SUM(E41+F41)","v":0},{"$f":"+S41+Y41+AA41+AC41+AE41+AG41+AI41+AK41+AM41+AO41","v":0},{"$f":"+T41+Z41+AB41+AD41+AF41+AH41+AJ41+AL41+AN41+AP41","v":0},null,null,null,null,null,null,null,null,null,null,null,null,null,null,null,null,null,null,null,null,null,null,null,null,null,null,null,null,null,null,null,null,null,null,null,null,null,null,null,null,null,null,null,null,{"$f":"CW41&CX41&CY41&CZ41&DA41&DB41&DC41&DD41&DE41","v":""},null,null,null,null,null,null,null,null,null,null,null,null,null,null,null,null,null,null,null,null,null,null,null,null,null,null,null,null,null,null,null,null,null,null,null,null,null,null,null,null,null,null,null,null,null,null,null,null,null,{"$f":"IF(AND((Y41+Z41)>0,AQ41=\"\"),\" * No olvide digitar la variable 12 años. Si no tiene digite Cero.\",IF(AQ41>(Y41+Z41),\"* Las Consultas de 12 años NO DEBEN ser mayor que el total de Consultas entre 10-14 años\",\"\"))","v":""},{"$f":"IF(AND(F41>0,AR41=\"\"),\" * No olvide digitar la variable Embarazadas. Digite cero si no tiene.\",\"\")","v":""},{"$f":"IF(AR41>F41,\" * Las Embarazadas NO DEBEN ser mayor al total de mujeres. \",\"\")","v":""},{"$f":"IF(AND((AK41+AL41)>0,AS41=\"\"),\" * No olvide digitar la variable 60 años. Si no tiene digite Cero.\",IF(AS41>(AK41+AL41),\" * Las consultas de 60 años NO DEBEN ser mayor que el Total de consultas del grupo 60-64 años\",\"\"))","v":""},{"$f":"IF(AND(D41>0,AT41=\"\"),\" * No olvide digitar la variable Usuarios con Discapacidad. Digite Cero si no tiene.\",IF(AT41>D41,\" * La variable Usuarios con Discapacidad No puede ser mayor al Total Ambos Sexos.\",\"\"))","v":""},{"$f":"IF(AND(D41>0,AU41=\"\"),\" * No olvide digitar la variable Niños, niñas, adolescentes y jóvenes población SENAME. Digite Cero si no tiene.\",IF(AU41>D41,\" * La variable Niños, niñas, adolescentes y jóvenes población SENAME No puede ser mayor al Total Ambos Sexos.\",\"\"))","v":""},{"$f":"IF(AND(D41>0,AV41=\"\"),\" * No olvide digitar la variable Niños, niñas, adolescentes y jóvenes Mejor Niñez. Digite Cero si no tiene.\",IF(AV41>D41,\" * La variable Niños, niñas, adolescentes y jóvenes Mejor Niñez No puede ser mayor al Total Ambos Sexos.\",\"\"))","v":""},{"$f":"IF(AND(D41>0,AW41=\"\"),\" * No olvide digitar la variable Migrantes. Digite Cero si no tiene.\",IF(AW41>D41,\" * La variable Migrantes No puede ser mayor al Total.\",\"\"))","v":""},{"$f":"IF(AND(D41>0,AX41=\"\"),\" * No olvide digitar la variable  Pacientes en control PSCV. Digite Cero si no tiene.\",IF(AX41>D41,\" * La variable  Pacientes en control PSCV No puede ser mayor al Total.\",\"\"))","v":""},null,{"$f":"IF(AND((Y41+Z41)>0,AQ41=\"\"),1,IF(AQ41>(Y41+Z41),1,0))","v":0},{"$f":"IF(AND(F41>0,AR41=\"\"),1,0)","v":0},{"$f":"IF(AR41>F41,1,0)","v":0},{"$f":"IF(AND((AK41+AL41)>0,AS41=\"\"),1,IF(AS41>(AK41+AL41),1,0))","v":0},{"$f":"IF(AND(D41>0,AT41=\"\"),1,IF(AT41>D41,1,0))","v":0},{"$f":"IF(AND(D41>0,AU41=\"\"),1,IF(AU41>D41,1,0))","v":0},{"$f":"IF(AND(D41>0,AV41=\"\"),1,IF(AV41>D41,1,0))","v":0},{"$f":"IF(AND(D41>0,AW41=\"\"),1,IF(AW41>D41,1,0))","v":0},{"$f":"IF(AND(D41>0,AX41=\"\"),1,IF(AX41>D41,1,0))","v":0}]
["Ingreso control con enfoque riesgo odontológico (cero)",null,null,{"$f":"SUM(E42+F42)","v":0},{"$f":"+G42+I42+K42+M42+O42+Q42+S42+U42+W42+Y42+AA42","v":0},{"$f":"+H42+J42+L42+N42+P42+R42+T42+V42+X42+Z42+AB42","v":0},null,null,null,null,null,null,null,null,null,null,null,null,null,null,null,null,null,null,null,null,null,null,null,null,null,null,null,null,null,null,null,null,null,null,null,null,null,null,null,null,null,null,null,null,{"$f":"CW42&CX42&CY42&CZ42&DA42&DB42&DC42&DD42&DE42","v":""},null,null,null,null,null,null,null,null,null,null,null,null,null,null,null,null,null,null,null,null,null,null,null,null,null,null,null,null,null,null,null,null,null,null,null,null,null,null,null,null,null,null,null,null,null,null,null,null,null,"",{"$f":"IF(AND(F42>0,AR42=\"\"),\" * No olvide digitar la variable Embarazadas. Digite cero si no tiene.\",\"\")","v":""},{"$f":"IF(AR42>F42,\" * Las Embarazadas NO DEBEN ser mayor al total de mujeres. \",\"\")","v":""},null,{"$f":"IF(AND(D42>0,AT42=\"\"),\" * No olvide digitar la variable Usuarios con Discapacidad. Digite Cero si no tiene.\",IF(AT42>D42,\" * La variable Usuarios con Discapacidad No puede ser mayor al Total Ambos Sexos.\",\"\"))","v":""},{"$f":"IF(AND(D42>0,AU42=\"\"),\" * No olvide digitar la variable Niños, niñas, adolescentes y jóvenes población SENAME. Digite Cero si no tiene.\",IF(AU42>D42,\" * La variable Niños, niñas, adolescentes y jóvenes población SENAME No puede ser mayor al Total Ambos Sexos.\",\"\"))","v":""},{"$f":"IF(AND(D42>0,AV42=\"\"),\" * No olvide digitar la variable Niños, niñas, adolescentes y jóvenes Mejor Niñez. Digite Cero si no tiene.\",IF(AV42>D42,\" * La variable Niños, niñas, adolescentes y jóvenes Mejor Niñez No puede ser mayor al Total Ambos Sexos.\",\"\"))","v":""},{"$f":"IF(AND(D42>0,AW42=\"\"),\" * No olvide digitar la variable Migrantes. Digite Cero si no tiene.\",IF(AW42>D42,\" * La variable Migrantes No puede ser mayor al Total.\",\"\"))","v":""},{"$f":"IF(AND(D42>0,AX42=\"\"),\" * No olvide digitar la variable  Pacientes en control PSCV. Digite Cero si no tiene.\",IF(AX42>D42,\" * La variable  Pacientes en control PSCV No puede ser mayor al Total.\",\"\"))","v":""},null,0,{"$f":"IF(AND(F42>0,AR42=\"\"),1,0)","v":0},{"$f":"IF(AR42>F42,1,0)","v":0},null,{"$f":"IF(AND(D42>0,AT42=\"\"),1,IF(AT42>D42,1,0))","v":0},{"$f":"IF(AND(D42>0,AU42=\"\"),1,IF(AU42>D42,1,0))","v":0},{"$f":"IF(AND(D42>0,AV42=\"\"),1,IF(AV42>D42,1,0))","v":0},{"$f":"IF(AND(D42>0,AW42=\"\"),1,IF(AW42>D42,1,0))","v":0},{"$f":"IF(AND(D42>0,AX42=\"\"),1,IF(AX42>D42,1,0))","v":0}]
["Egreso control con enfoque riesgo odontológico (cero)",null,null,{"$f":"SUM(E43+F43)","v":0},{"$f":"+G43+I43+K43+M43+O43+Q43+S43+U43+W43+Y43+AA43","v":0},{"$f":"+H43+J43+L43+N43+P43+R43+T43+V43+X43+Z43+AB43","v":0},null,null,null,null,null,null,null,null,null,null,null,null,null,null,null,null,null,null,null,null,null,null,null,null,null,null,null,null,null,null,null,null,null,null,null,null,null,null,null,null,null,null,null,null,"",null,null,null,null,null,null,null,null,null,null,null,null,null,null,null,null,null,null,null,null,null,null,null,null,null,null,null,null,null,null,null,null,null,null,null,null,null,null,null,null,null,null,null,null,null,null,null,null,null,null,"",{"$f":"IF(AR43>F43,\" * Las Embarazadas NO DEBEN ser mayor al total de mujeres. \",\"\")","v":""},null,"","","","","",null,null,0,0,null,0,0,0,0,0]
["Altas odontológicas preventivas ",null,null,{"$f":"SUM(E44+F44)","v":0},{"$f":"+S44+U44+W44+Y44+AA44+AC44+AE44+AG44+AI44+AK44+AM44+AO44","v":0},{"$f":"+T44+V44+X44+Z44+AB44+AD44+AF44+AH44+AJ44+AL44+AN44+AP44","v":0},null,null,null,null,null,null,null,null,null,null,null,null,null,null,null,null,null,null,null,null,null,null,null,null,null,null,null,null,null,null,null,null,null,null,null,null,null,null,null,null,null,null,null,null,"",null,null,null,null,null,null,null,null,null,null,null,null,null,null,null,null,null,null,null,null,null,null,null,null,null,null,null,null,null,null,null,null,null,null,null,null,null,null,null,null,null,null,null,null,null,null,null,null,null,{"$f":"IF(AND((Y44+Z44)>0,AQ44=\"\"),\" * No olvide digitar la variable 12 años. Si no tiene digite Cero.\",IF(AQ44>(Y44+Z44),\"* Las Consultas de 12 años NO DEBEN ser mayor que el total de Consultas entre 10-14 años\",\"\"))","v":""},"","",{"$f":"IF(AND((AK44+AL44)>0,AS44=\"\"),\" * No olvide digitar la variable 60 años. Si no tiene digite Cero.\",IF(AS44>(AK44+AL44),\" * Las consultas de 60 años NO DEBEN ser mayor que el Total de consultas del grupo 60-64 años\",\"\"))","v":""},"","","","","",null,{"$f":"IF(AND((Y44+Z44)>0,AQ44=\"\"),1,IF(AQ44>(Y44+Z44),1,0))","v":0},0,0,{"$f":"IF(AND((AK44+AL44)>0,AS44=\"\"),1,IF(AS44>(AK44+AL44),1,0))","v":0},0,0,0,0,0]
["Altas odontológicas integrales (excluye sección G)",null,null,{"$f":"SUM(E45+F45)","v":0},{"$f":"S45+U45+W45+Y45+AA45+AC45+AE45+AG45+AI45+AK45+AM45+AO45","v":0},{"$f":"T45+V45+X45+Z45+AB45+AD45+AF45+AH45+AJ45+AL45+AN45+AP45","v":0},null,null,null,null,null,null,null,null,null,null,null,null,null,null,null,null,null,null,null,null,null,null,null,null,null,null,null,null,null,null,null,null,null,null,null,null,null,null,null,null,null,null,null,null,"",null,null,null,null,null,null,null,null,null,null,null,null,null,null,null,null,null,null,null,null,null,null,null,null,null,null,null,null,null,null,null,null,null,null,null,null,null,null,null,null,null,null,null,null,null,null,null,null,null,"","",{"$f":"IF(AR45>F45,\" * Las Embarazadas NO DEBEN ser mayor al total de mujeres. \",\"\")","v":""},null,"","","","","",null,0,0,0,null,0,0,0,0,0]
["ALTAS ODONTOLÓGICAS TOTALES",null,null,{"$f":"SUM(E46+F46)","v":0},{"$f":"S46+U46+W46+Y46+AA46+AC46+AE46+AG46+AI46+AK46+AM46+AO46","v":0},{"$f":"T46+V46+X46+Z46+AB46+AD46+AF46+AH46+AJ46+AL46+AN46+AP46","v":0},null,null,null,null,null,null,null,null,null,null,null,null,{"$f":"SUM(S44:S45)","v":0},0,0,0,0,0,0,0,0,0,{"$f":"SUM(AC44:AC45)","v":0},{"$f":"SUM(AD44:AD45)","v":0},{"$f":"SUM(AE44:AE45)","v":0},{"$f":"SUM(AF44:AF45)","v":0},0,0,0,0,0,0,0,0,{"$f":"SUM(AO44:AO45)","v":0},{"$f":"SUM(AP44:AP45)","v":0},{"$f":"SUM(AQ44:AQ45)","v":0},{"$f":"SUM(AR44:AR45)","v":0},{"$f":"SUM(AS44)","v":0},{"$f":"SUM(AT44:AT45)","v":0},{"$f":"SUM(AU44:AU45)","v":0},{"$f":"SUM(AV44:AV45)","v":0},{"$f":"SUM(AW44:AW45)","v":0},{"$f":"SUM(AX44:AX45)","v":0}]
["Egresos por abandono",null,null,0,{"$f":"+G47+I47+K47+M47+O47+Q47+S47+U47+W47+Y47+AA47+AC47+AE47+AG47+AI47+AK47+AM47+AO47","v":0},{"$f":"+H47+J47+L47+N47+P47+R47+T47+V47+X47+Z47+AB47+AD47+AF47+AH47+AJ47+AL47+AN47+AP47","v":0},null,null,null,null,null,null,null,null,null,null,null,null,null,null,null,null,null,null,null,null,null,null,null,null,null,null,null,null,null,null,null,null,null,null,null,null,null,null,null,null,null,null,null,null,"",null,null,null,null,null,null,null,null,null,null,null,null,null,null,null,null,null,null,null,null,null,null,null,null,null,null,null,null,null,null,null,null,null,null,null,null,null,null,null,null,null,null,null,null,null,null,null,null,null,{"$f":"IF(AND((Y47+Z47)>0,AQ47=\"\"),\" * No olvide digitar la variable 12 años. Si no tiene digite Cero.\",IF(AQ47>(Y47+Z47),\"* Las Consultas de 12 años NO DEBEN ser mayor que el total de Consultas entre 10-14 años\",\"\"))","v":""},{"$f":"IF(AND(F47>0,AR47=\"\"),\" * No olvide digitar la variable Embarazadas. Digite cero si no tiene.\",\"\")","v":""},{"$f":"IF(AR47>F47,\" * Las Embarazadas NO DEBEN ser mayor al total de mujeres. \",\"\")","v":""},{"$f":"IF(AND((AK47+AL47)>0,AS47=\"\"),\" * No olvide digitar la variable 60 años. Si no tiene digite Cero.\",IF(AS47>(AK47+AL47),\" * Las consultas de 60 años NO DEBEN ser mayor que el Total de consultas del grupo 60-64 años\",\"\"))","v":""},{"$f":"IF(AND(D47>0,AT47=\"\"),\" * No olvide digitar la variable Usuarios con Discapacidad. Digite Cero si no tiene.\",IF(AT47>D47,\" * La variable Usuarios con Discapacidad No puede ser mayor al Total Ambos Sexos.\",\"\"))","v":""},{"$f":"IF(AND(D47>0,AU47=\"\"),\" * No olvide digitar la variable Niños, niñas, adolescentes y jóvenes población SENAME. Digite Cero si no tiene.\",IF(AU47>D47,\" * La variable Niños, niñas, adolescentes y jóvenes población SENAME No puede ser mayor al Total Ambos Sexos.\",\"\"))","v":""},{"$f":"IF(AND(D47>0,AV47=\"\"),\" * No olvide digitar la variable Niños, niñas, adolescentes y jóvenes Mejor Niñez. Digite Cero si no tiene.\",IF(AV47>D47,\" * La variable Niños, niñas, adolescentes y jóvenes Mejor Niñez No puede ser mayor al Total Ambos Sexos.\",\"\"))","v":""},{"$f":"IF(AND(D47>0,AW47=\"\"),\" * No olvide digitar la variable Migrantes. Digite Cero si no tiene.\",IF(AW47>D47,\" * La variable Migrantes No puede ser mayor al Total.\",\"\"))","v":""},"",null,{"$f":"IF(AND((Y47+Z47)>0,AQ47=\"\"),1,IF(AQ47>(Y47+Z47),1,0))","v":0},{"$f":"IF(AND(F47>0,AR47=\"\"),1,0)","v":0},{"$f":"IF(AR47>F47,1,0)","v":0},{"$f":"IF(AND((AK47+AL47)>0,AS47=\"\"),1,IF(AS47>(AK47+AL47),1,0))","v":0},{"$f":"IF(AND(D47>0,AT47=\"\"),1,IF(AT47>D47,1,0))","v":0},{"$f":"IF(AND(D47>0,AU47=\"\"),1,IF(AU47>D47,1,0))","v":0},{"$f":"IF(AND(D47>0,AV47=\"\"),1,IF(AV47>D47,1,0))","v":0},{"$f":"IF(AND(D47>0,AW47=\"\"),1,IF(AW47>D47,1,0))","v":0},{"$f":"IF(AND(D47>0,AX47=\"\"),1,IF(AX47>D47,1,0))","v":0}]
["Índice CEOD o COPD en pacientes ingresados (Índice ceod se usa en menores de 7 años, para resto se utiliza COPD) ",null,0,0,{"$f":"SUM(G48+I48+K48+M48+O48+Q48+S48+U48+W48+Y48+AA48+AC48+AE48+AG48+AI48+AK48+AM48+AO48)","v":0},{"$f":"SUM(H48+J48+L48+N48+P48+R48+T48+V48+X48+Z48+AB48+AD48+AF48+AH48+AJ48+AL48+AN48+AP48)","v":0},null,null,null,null,null,null,null,null,null,null,null,null,null,null,null,null,null,null,null,null,null,null,null,null,null,null,null,null,null,null,null,null,null,null,null,null,null,null,null,null,null,null,null,null,"",null,null,null,null,null,null,null,null,null,null,null,null,null,null,null,null,null,null,null,null,null,null,null,null,null,null,null,null,null,null,null,null,null,null,null,null,null,null,null,null,null,null,null,null,null,null,null,null,null,"","","","","","","","","",null,0,0,0,0,0,0,0,0,0]
[null,null,"1 a 2",0,{"$f":"SUM(G49+I49+K49+M49+O49+Q49+S49+U49+W49+Y49+AA49+AC49+AE49+AG49+AI49+AK49+AM49+AO49)","v":0},0,null,null,null,null,null,null,null,null,null,null,null,null,null,null,null,null,null,null,null,null,null,null,null,null,null,null,null,null,null,null,null,null,null,null,null,null,null,null,null,null,null,null,null,null,"",null,null,null,null,null,null,null,null,null,null,null,null,null,null,null,null,null,null,null,null,null,null,null,null,null,null,null,null,null,null,null,null,null,null,null,null,null,null,null,null,null,null,null,null,null,null,null,null,null,"","","","","","","","","",null,0,0,0,0,0,0,0,0,0]
[null,null,"3 a 4",0,0,0,null,null,null,null,null,null,null,null,null,null,null,null,null,null,null,null,null,null,null,null,null,null,null,null,null,null,null,null,null,null,null,null,null,null,null,null,null,null,null,null,null,null,null,null,"",null,null,null,null,null,null,null,null,null,null,null,null,null,null,null,null,null,null,null,null,null,null,null,null,null,null,null,null,null,null,null,null,null,null,null,null,null,null,null,null,null,null,null,null,null,null,null,null,null,"","","","","","","","","",null,0,0,0,0,0,0,0,0,0]
[null,null,"5 a 6",0,0,0,null,null,null,null,null,null,null,null,null,null,null,null,null,null,null,null,null,null,null,null,null,null,null,null,null,null,null,null,null,null,null,null,null,null,null,null,null,null,null,null,null,null,null,null,"",null,null,null,null,null,null,null,null,null,null,null,null,null,null,null,null,null,null,null,null,null,null,null,null,null,null,null,null,null,null,null,null,null,null,null,null,null,null,null,null,null,null,null,null,null,null,null,null,null,"","","","","","","","","",null,0,0,0,0,0,0,0,0,0]
[null,null,"7 a 8",{"$f":"SUM(E52+F52)","v":0},0,0,null,null,null,null,null,null,null,null,null,null,null,null,null,null,null,null,null,null,null,null,null,null,null,null,null,null,null,null,null,null,null,null,null,null,null,null,null,null,null,null,null,null,null,null,"",null,null,null,null,null,null,null,null,null,null,null,null,null,null,null,null,null,null,null,null,null,null,null,null,null,null,null,null,null,null,null,null,null,null,null,null,null,null,null,null,null,null,null,null,null,null,null,null,null,"","","","","","","","","",null,0,0,0,0,0,0,0,0,0]
[null,null,"9 o más",0,0,0,null,null,null,null,null,null,null,null,null,null,null,null,null,null,null,null,null,null,null,null,null,null,null,null,null,null,null,null,null,null,null,null,null,null,null,null,null,null,null,null,null,null,null,null,"",null,null,null,null,null,null,null,null,null,null,null,null,null,null,null,null,null,null,null,null,null,null,null,null,null,null,null,null,null,null,null,null,null,null,null,null,null,null,null,null,null,null,null,null,null,null,null,null,null,"","","","","","","","","",null,0,0,0,0,0,0,0,0,0]
["TOTAL",null,null,{"$f":"SUM(D48:D53)","v":0},{"$f":"SUM(E48:E53)","v":0},{"$f":"SUM(F48:F53)","v":0},{"$f":"SUM(G48:G53)","v":0},{"$f":"SUM(H48:H53)","v":0},0,0,0,0,0,0,0,0,0,0,0,0,0,0,0,0,{"$f":"SUM(Y48:Y53)","v":0},{"$f":"SUM(Z48:Z53)","v":0},0,0,0,0,0,0,0,0,0,0,0,0,0,0,0,0,0,0,0,0,0,{"$f":"SUM(AV48:AV53)","v":0},0,{"$f":"SUM(AX48:AX53)","v":0}]
[" N° de dientes (total de dientes en boca. En dentición mixta se suman los dientes primarios y permanentes)",null,0,0,0,0,null,null,null,null,null,null,null,null,null,null,null,null,null,null,null,null,null,null,null,null,null,null,null,null,null,null,null,null,null,null,null,null,null,null,null,null,null,null,null,null,null,null,null,null,"",null,null,null,null,null,null,null,null,null,null,null,null,null,null,null,null,null,null,null,null,null,null,null,null,null,null,null,null,null,null,null,null,null,null,null,null,null,null,null,null,null,null,null,null,null,null,null,null,null,{"$f":"IF(AND((Y55+Z55)>0,AQ55=\"\"),\" * No olvide digitar la variable 12 años. Si no tiene digite Cero.\",IF(AQ55>(Y55+Z55),\"* Las Consultas de 12 años NO DEBEN ser mayor que el total de Consultas entre 10-14 años\",\"\"))","v":""},{"$f":"IF(AND(F55>0,AR55=\"\"),\" * No olvide digitar la variable Embarazadas. Digite cero si no tiene.\",\"\")","v":""},{"$f":"IF(AR55>F55,\" * Las Embarazadas NO DEBEN ser mayor al total de mujeres. \",\"\")","v":""},{"$f":"IF(AND((AK55+AL55)>0,AS55=\"\"),\" * No olvide digitar la variable 60 años. Si no tiene digite Cero.\",IF(AS55>(AK55+AL55),\" * Las consultas de 60 años NO DEBEN ser mayor que el Total de consultas del grupo 60-64 años\",\"\"))","v":""},{"$f":"IF(AND(D55>0,AT55=\"\"),\" * No olvide digitar la variable Usuarios con Discapacidad. Digite Cero si no tiene.\",IF(AT55>D55,\" * La variable Usuarios con Discapacidad No puede ser mayor al Total Ambos Sexos.\",\"\"))","v":""},{"$f":"IF(AND(D55>0,AU55=\"\"),\" * No olvide digitar la variable Niños, niñas, adolescentes y jóvenes población SENAME. Digite Cero si no tiene.\",IF(AU55>D55,\" * La variable Niños, niñas, adolescentes y jóvenes población SENAME No puede ser mayor al Total Ambos Sexos.\",\"\"))","v":""},{"$f":"IF(AND(D55>0,AV55=\"\"),\" * No olvide digitar la variable Niños, niñas, adolescentes y jóvenes Mejor Niñez. Digite Cero si no tiene.\",IF(AV55>D55,\" * La variable Niños, niñas, adolescentes y jóvenes Mejor Niñez No puede ser mayor al Total Ambos Sexos.\",\"\"))","v":""},{"$f":"IF(AND(D55>0,AW55=\"\"),\" * No olvide digitar la variable Migrantes. Digite Cero si no tiene.\",IF(AW55>D55,\" * La variable Migrantes No puede ser mayor al Total.\",\"\"))","v":""},"",null,{"$f":"IF(AND((Y55+Z55)>0,AQ55=\"\"),1,IF(AQ55>(Y55+Z55),1,0))","v":0},{"$f":"IF(AND(F55>0,AR55=\"\"),1,0)","v":0},{"$f":"IF(AR55>F55,1,0)","v":0},{"$f":"IF(AND((AK55+AL55)>0,AS55=\"\"),1,IF(AS55>(AK55+AL55),1,0))","v":0},{"$f":"IF(AND(D55>0,AT55=\"\"),1,IF(AT55>D55,1,0))","v":0},{"$f":"IF(AND(D55>0,AU55=\"\"),1,IF(AU55>D55,1,0))","v":0},{"$f":"IF(AND(D55>0,AV55=\"\"),1,IF(AV55>D55,1,0))","v":0},{"$f":"IF(AND(D55>0,AW55=\"\"),1,IF(AW55>D55,1,0))","v":0},{"$f":"IF(AND(D55>0,AX55=\"\"),1,IF(AX55>D55,1,0))","v":0}]
[null,null,"1 a 9",0,0,0,null,null,null,null,null,null,null,null,null,null,null,null,null,null,null,null,null,null,null,null,null,null,null,null,null,null,null,null,null,null,null,null,null,null,null,null,null,null,null,null,null,null,null,null,"",null,null,null,null,null,null,null,null,null,null,null,null,null,null,null,null,null,null,null,null,null,null,null,null,null,null,null,null,null,null,null,null,null,null,null,null,null,null,null,null,null,null,null,null,null,null,null,null,null,"","","","",{"$f":"IF(AND(D56>0,AT56=\"\"),\" * No olvide digitar la variable Usuarios con Discapacidad. Digite Cero si no tiene.\",IF(AT56>D56,\" * La variable Usuarios con Discapacidad No puede ser mayor al Total Ambos Sexos.\",\"\"))","v":""},{"$f":"IF(AND(D56>0,AU56=\"\"),\" * No olvide digitar la variable Niños, niñas, adolescentes y jóvenes población SENAME. Digite Cero si no tiene.\",IF(AU56>D56,\" * La variable Niños, niñas, adolescentes y jóvenes población SENAME No puede ser mayor al Total Ambos Sexos.\",\"\"))","v":""},{"$f":"IF(AND(D56>0,AV56=\"\"),\" * No olvide digitar la variable Niños, niñas, adolescentes y jóvenes Mejor Niñez. Digite Cero si no tiene.\",IF(AV56>D56,\" * La variable Niños, niñas, adolescentes y jóvenes Mejor Niñez No puede ser mayor al Total Ambos Sexos.\",\"\"))","v":""},{"$f":"IF(AND(D56>0,AW56=\"\"),\" * No olvide digitar la variable Migrantes. Digite Cero si no tiene.\",IF(AW56>D56,\" * La variable Migrantes No puede ser mayor al Total.\",\"\"))","v":""},"",null,0,0,0,0,0,0,0,0,0]
[null,null,"10 a 19",0,0,0,null,null,null,null,null,null,null,null,null,null,null,null,null,null,null,null,null,null,null,null,null,null,null,null,null,null,null,null,null,null,null,null,null,null,null,null,null,null,null,null,null,null,null,null,"",null,null,null,null,null,null,null,null,null,null,null,null,null,null,null,null,null,null,null,null,null,null,null,null,null,null,null,null,null,null,null,null,null,null,null,null,null,null,null,null,null,null,null,null,null,null,null,null,null,"","","","","","","","","",null,0,0,0,0,0,0,0,0,0]
[null,null,"20 a 27",0,0,0,null,null,null,null,null,null,null,null,null,null,null,null,null,null,null,null,null,null,null,null,null,null,null,null,null,null,null,null,null,null,null,null,null,null,null,null,null,null,null,null,null,null,null,null,"",null,null,null,null,null,null,null,null,null,null,null,null,null,null,null,null,null,null,null,null,null,null,null,null,null,null,null,null,null,null,null,null,null,null,null,null,null,null,null,null,null,null,null,null,null,null,null,null,null,"","","","","","","","","",null,0,0,0,0,0,0,0,0,0]
[null,null,"28 y más",0,{"$f":"SUM(G59+I59+K59+M59+O59+Q59+S59+U59+W59+Y59+AA59+AC59+AE59+AG59+AI59+AK59+AM59+AO59)","v":0},{"$f":"SUM(H59+J59+L59+N59+P59+R59+T59+V59+X59+Z59+AB59+AD59+AF59+AH59+AJ59+AL59+AN59+AP59)","v":0},null,null,null,null,null,null,null,null,null,null,null,null,null,null,null,null,null,null,null,null,null,null,null,null,null,null,null,null,null,null,null,null,null,null,null,null,null,null,null,null,null,null,null,null,"",null,null,null,null,null,null,null,null,null,null,null,null,null,null,null,null,null,null,null,null,null,null,null,null,null,null,null,null,null,null,null,null,null,null,null,null,null,null,null,null,null,null,null,null,null,null,null,null,null,"","","","","","","","","",null,0,0,0,0,0,0,0,0,0]
["TOTAL",null,null,{"$f":"SUM(D55:D59)","v":0},{"$f":"SUM(E55:E59)","v":0},{"$f":"SUM(F55:F59)","v":0},0,0,0,0,0,0,0,0,0,0,0,0,0,0,0,0,0,0,0,0,0,0,0,0,0,0,0,0,0,0,0,0,0,0,0,0,0,0,0,0,0,{"$f":"SUM(AV55:AV59)","v":0},0,0]
["Código examen periodontal básico (EPB) en pacientes ingresados ",null,0,{"$f":"SUM(E61:F61)","v":0},{"$f":"SUM(Y61+AA61+AC61+AE61+AG61+AI61+AK61+AM61+AO61)","v":0},{"$f":"SUM(Z61+AB61+AD61+AF61+AH61+AJ61+AL61+AN61+AP61)","v":0},null,null,null,null,null,null,null,null,null,null,null,null,null,null,null,null,null,null,null,null,null,null,null,null,null,null,null,null,null,null,null,null,null,null,null,null,null,null,null,null,null,null,null,null,"",null,null,null,null,null,null,null,null,null,null,null,null,null,null,null,null,null,null,null,null,null,null,null,null,null,null,null,null,null,null,null,null,null,null,null,null,null,null,null,null,null,null,null,null,null,null,null,null,null,{"$f":"IF(AND((Y61+Z61)>0,AQ61=\"\"),\" * No olvide digitar la variable 12 años. Si no tiene digite Cero.\",IF(AQ61>(Y61+Z61),\"* Las Consultas de 12 años NO DEBEN ser mayor que el total de Consultas entre 10-14 años\",\"\"))","v":""},{"$f":"IF(AND(F61>0,AR61=\"\"),\" * No olvide digitar la variable Embarazadas. Digite cero si no tiene.\",\"\")","v":""},{"$f":"IF(AR61>F61,\" * Las Embarazadas NO DEBEN ser mayor al total de mujeres. \",\"\")","v":""},{"$f":"IF(AND((AK61+AL61)>0,AS61=\"\"),\" * No olvide digitar la variable 60 años. Si no tiene digite Cero.\",IF(AS61>(AK61+AL61),\" * Las consultas de 60 años NO DEBEN ser mayor que el Total de consultas del grupo 60-64 años\",\"\"))","v":""},{"$f":"IF(AND(D61>0,AT61=\"\"),\" * No olvide digitar la variable Usuarios con Discapacidad. Digite Cero si no tiene.\",IF(AT61>D61,\" * La variable Usuarios con Discapacidad No puede ser mayor al Total Ambos Sexos.\",\"\"))","v":""},{"$f":"IF(AND(D61>0,AU61=\"\"),\" * No olvide digitar la variable Niños, niñas, adolescentes y jóvenes población SENAME. Digite Cero si no tiene.\",IF(AU61>D61,\" * La variable Niños, niñas, adolescentes y jóvenes población SENAME No puede ser mayor al Total Ambos Sexos.\",\"\"))","v":""},{"$f":"IF(AND(D61>0,AV61=\"\"),\" * No olvide digitar la variable Niños, niñas, adolescentes y jóvenes Mejor Niñez. Digite Cero si no tiene.\",IF(AV61>D61,\" * La variable Niños, niñas, adolescentes y jóvenes Mejor Niñez No puede ser mayor al Total Ambos Sexos.\",\"\"))","v":""},{"$f":"IF(AND(D61>0,AW61=\"\"),\" * No olvide digitar la variable Migrantes. Digite Cero si no tiene.\",IF(AW61>D61,\" * La variable Migrantes No puede ser mayor al Total.\",\"\"))","v":""},"",null,{"$f":"IF(AND((Y61+Z61)>0,AQ61=\"\"),1,IF(AQ61>(Y61+Z61),1,0))","v":0},{"$f":"IF(AND(F61>0,AR61=\"\"),1,0)","v":0},{"$f":"IF(AR61>F61,1,0)","v":0},{"$f":"IF(AND((AK61+AL61)>0,AS61=\"\"),1,IF(AS61>(AK61+AL61),1,0))","v":0},{"$f":"IF(AND(D61>0,AT61=\"\"),1,IF(AT61>D61,1,0))","v":0},{"$f":"IF(AND(D61>0,AU61=\"\"),1,IF(AU61>D61,1,0))","v":0},{"$f":"IF(AND(D61>0,AV61=\"\"),1,IF(AV61>D61,1,0))","v":0},{"$f":"IF(AND(D61>0,AW61=\"\"),1,IF(AW61>D61,1,0))","v":0},{"$f":"IF(AND(D61>0,AX61=\"\"),1,IF(AX61>D61,1,0))","v":0}]
[null,null,"1,2,3",{"$f":"SUM(E62:F62)","v":0},{"$f":"SUM(Y62+AA62+AC62+AE62+AG62+AI62+AK62+AM62+AO62)","v":0},0,null,null,null,null,null,null,null,null,null,null,null,null,null,null,null,null,null,null,null,null,null,null,null,null,null,null,null,null,null,null,null,null,null,null,null,null,null,null,null,null,null,null,null,null,"",null,null,null,null,null,null,null,null,null,null,null,null,null,null,null,null,null,null,null,null,null,null,null,null,null,null,null,null,null,null,null,null,null,null,null,null,null,null,null,null,null,null,null,null,null,null,null,null,null,"","","","","","","","","",null,0,0,0,0,0,0,0,0,0]
[null,null,"4 y *",{"$f":"SUM(E63:F63)","v":0},0,0,null,null,null,null,null,null,null,null,null,null,null,null,null,null,null,null,null,null,null,null,null,null,null,null,null,null,null,null,null,null,null,null,null,null,null,null,null,null,null,null,null,null,null,null,"",null,null,null,null,null,null,null,null,null,null,null,null,null,null,null,null,null,null,null,null,null,null,null,null,null,null,null,null,null,null,null,null,null,null,null,null,null,null,null,null,null,null,null,null,null,null,null,null,null,"","","","","","","","","",null,0,0,0,0,0,0,0,0,0]
[null,null,"TOTAL",{"$f":"SUM(E64:F64)","v":0},{"$f":"SUM(E61:E63)","v":0},{"$f":"SUM(F61:F63)","v":0},null,null,null,null,null,null,null,null,null,null,null,null,null,null,null,null,null,null,{"$f":"SUM(Y61:Y63)","v":0},{"$f":"SUM(Z61:Z63)","v":0},0,0,0,0,0,0,0,0,0,0,0,0,0,0,0,0,0,0,0,0,0,0,0,0]
["SECCIÓN D : INTERCONSULTAS GENERADAS EN ESTABLECIMIENTOS DE APS"]
["ESPECIALIDAD",null,null,"TOTAL","Gestantes","60 años","Usuarios con Discapacidad","Niños. Niñas, adolescentes y jóvenes SENAME","Niños. Niñas, adolescentes y jóvenes Mejor Niñez","Migrantes"]
["Endodoncia ",null,null,null,null,null,null,null,null,null,{"$f":"CW67&CX67&CY67&CZ67&DA67&DB67&DC67&DD67&DE67","v":""},null,null,null,null,null,null,null,null,null,null,null,null,null,null,null,null,null,null,null,null,null,null,null,null,null,null,null,null,null,null,null,null,null,null,null,null,null,null,null,null,null,null,null,null,null,null,null,null,null,null,null,null,null,null,null,null,null,null,null,null,null,null,null,null,null,null,null,null,null,null,null,null,null,null,null,null,null,null,null,null,null,null,null,null,null,null,null,null,null,{"$f":"IF(AND(D67>0,E67=\"\"), \"* No olvide digitar la variable Gestantes. Digite Cero si no tiene.\",IF(E67>D67,\"  * La variable Gestantes No puede ser mayor al Total.\",\"\"))","v":""},{"$f":"IF(AND(D67>0,F67=\"\"), \"* No olvide digitar la variable 60 años. Digite Cero si no tiene.\",IF(F67>D67,\"  * La variable 60 años No puede ser mayor al Total.\",\"\"))","v":""},{"$f":"IF(AND(D67>0,G67=\"\"), \"* No olvide digitar la variable Usuarios con Discapacidad. Digite Cero si no tiene.\",IF(G67>D67,\"  * La variable Usuarios con Discapacidad No puede ser mayor al Total.\",\"\"))","v":""},{"$f":"IF(AND(D67>0,H67=\"\"), \"* No olvide digitar la variable Niños, niñas, adolescentes y jóvenes SENAME. Digite Cero si no tiene.\",IF(H67>D67,\"  * La variable  Niños, niñas, adolescentes y jóvenes SENAME No puede ser mayor al Total.\",\"\"))","v":""},{"$f":"IF(AND(D67>0,I67=\"\"), \"* No olvide digitar la variable Niños, niñas, adolescentes y jóvenes Mejor niñez. Digite Cero si no tiene.\",IF(I67>D67,\"  * La variable  Niños, niñas, adolescentes y jóvenes Mejor niñez  No puede ser mayor al Total.\",\"\"))","v":""},{"$f":"IF(AND(D67>0,J67=\"\"), \"* No olvide digitar la variable Migrantes. Digite Cero si no tiene.\",IF(J67>D67,\"  * La variable Migrantes No puede ser mayor al Total.\",\"\"))","v":""},null,null,null,null,{"$f":"IF(AND(D67>0,E67=\"\"),1,IF(E67>D67,1,0))","v":0},{"$f":"IF(AND(D67>0,F67=\"\"),1,IF(F67>D67,1,0))","v":0},{"$f":"IF(AND(D67>0,G67=\"\"),1,IF(G67>D67,1,0))","v":0},{"$f":"IF(AND(D67>0,H67=\"\"),1,IF(H67>D67,1,0))","v":0},{"$f":"IF(AND(D67>0,I67=\"\"),1,IF(I67>D67,1,0))","v":0},{"$f":"IF(AND(D67>0,J67=\"\"),1,IF(J67>D67,1,0))","v":0}]
["Rehabilitación Oral ","Prótesis removibles ",null,null,null,null,null,null,null,null,{"$f":"CW68&CX68&CY68&CZ68&DA68&DB68&DC68&DD68&DE68","v":""},null,null,null,null,null,null,null,null,null,null,null,null,null,null,null,null,null,null,null,null,null,null,null,null,null,null,null,null,null,null,null,null,null,null,null,null,null,null,null,null,null,null,null,null,null,null,null,null,null,null,null,null,null,null,null,null,null,null,null,null,null,null,null,null,null,null,null,null,null,null,null,null,null,null,null,null,null,null,null,null,null,null,null,null,null,null,null,null,null,{"$f":"IF(AND(D68>0,E68=\"\"), \"* No olvide digitar la variable Gestantes. Digite Cero si no tiene.\",IF(E68>D68,\"  * La variable Gestantes No puede ser mayor al Total.\",\"\"))","v":""},{"$f":"IF(AND(D68>0,F68=\"\"), \"* No olvide digitar la variable 60 años. Digite Cero si no tiene.\",IF(F68>D68,\"  * La variable 60 años No puede ser mayor al Total.\",\"\"))","v":""},{"$f":"IF(AND(D68>0,G68=\"\"), \"* No olvide digitar la variable Usuarios con Discapacidad. Digite Cero si no tiene.\",IF(G68>D68,\"  * La variable Usuarios con Discapacidad No puede ser mayor al Total.\",\"\"))","v":""},{"$f":"IF(AND(D68>0,H68=\"\"), \"* No olvide digitar la variable Niños, niñas, adolescentes y jóvenes SENAME. Digite Cero si no tiene.\",IF(H68>D68,\"  * La variable  Niños, niñas, adolescentes y jóvenes SENAME No puede ser mayor al Total.\",\"\"))","v":""},{"$f":"IF(AND(D68>0,I68=\"\"), \"* No olvide digitar la variable Niños, niñas, adolescentes y jóvenes Mejor niñez. Digite Cero si no tiene.\",IF(I68>D68,\"  * La variable  Niños, niñas, adolescentes y jóvenes Mejor niñez  No puede ser mayor al Total.\",\"\"))","v":""},{"$f":"IF(AND(D68>0,J68=\"\"), \"* No olvide digitar la variable Migrantes. Digite Cero si no tiene.\",IF(J68>D68,\"  * La variable Migrantes No puede ser mayor al Total.\",\"\"))","v":""},null,null,null,null,{"$f":"IF(AND(D68>0,E68=\"\"),1,IF(E68>D68,1,0))","v":0},{"$f":"IF(AND(D68>0,F68=\"\"),1,IF(F68>D68,1,0))","v":0},{"$f":"IF(AND(D68>0,G68=\"\"),1,IF(G68>D68,1,0))","v":0},{"$f":"IF(AND(D68>0,H68=\"\"),1,IF(H68>D68,1,0))","v":0},{"$f":"IF(AND(D68>0,I68=\"\"),1,IF(I68>D68,1,0))","v":0},{"$f":"IF(AND(D68>0,J68=\"\"),1,IF(J68>D68,1,0))","v":0}]
[null,"Prótesis fija ",null,null,null,null,null,null,null,null,"",null,null,null,null,null,null,null,null,null,null,null,null,null,null,null,null,null,null,null,null,null,null,null,null,null,null,null,null,null,null,null,null,null,null,null,null,null,null,null,null,null,null,null,null,null,null,null,null,null,null,null,null,null,null,null,null,null,null,null,null,null,null,null,null,null,null,null,null,null,null,null,null,null,null,null,null,null,null,null,null,null,null,null,null,null,null,null,null,null,"","","","","","",null,null,null,null,0,0,0,0,0,0]
["Cirugía Bucal",null,null,null,null,null,null,null,null,null,"",null,null,null,null,null,null,null,null,null,null,null,null,null,null,null,null,null,null,null,null,null,null,null,null,null,null,null,null,null,null,null,null,null,null,null,null,null,null,null,null,null,null,null,null,null,null,null,null,null,null,null,null,null,null,null,null,null,null,null,null,null,null,null,null,null,null,null,null,null,null,null,null,null,null,null,null,null,null,null,null,null,null,null,null,null,null,null,null,null,"","","","","","",null,null,null,null,0,0,0,0,0,0]
["Cirugía y Traumatología Maxilofacial ",null,null,null,null,null,null,null,null,null,"",null,null,null,null,null,null,null,null,null,null,null,null,null,null,null,null,null,null,null,null,null,null,null,null,null,null,null,null,null,null,null,null,null,null,null,null,null,null,null,null,null,null,null,null,null,null,null,null,null,null,null,null,null,null,null,null,null,null,null,null,null,null,null,null,null,null,null,null,null,null,null,null,null,null,null,null,null,null,null,null,null,null,null,null,null,null,null,null,null,"","","","","","",null,null,null,null,0,0,0,0,0,0]
["Odontopediatría ",null,null,null,null,null,null,null,null,null,"",null,null,null,null,null,null,null,null,null,null,null,null,null,null,null,null,null,null,null,null,null,null,null,null,null,null,null,null,null,null,null,null,null,null,null,null,null,null,null,null,null,null,null,null,null,null,null,null,null,null,null,null,null,null,null,null,null,null,null,null,null,null,null,null,null,null,null,null,null,null,null,null,null,null,null,null,null,null,null,null,null,null,null,null,null,null,null,null,null,"","","","","","",null,null,null,null,0,0,0,0,0,0]
["Ortodoncia y Ortopedia Dentomaxilofacial ",null,null,null,null,null,null,null,null,null,"",null,null,null,null,null,null,null,null,null,null,null,null,null,null,null,null,null,null,null,null,null,null,null,null,null,null,null,null,null,null,null,null,null,null,null,null,null,null,null,null,null,null,null,null,null,null,null,null,null,null,null,null,null,null,null,null,null,null,null,null,null,null,null,null,null,null,null,null,null,null,null,null,null,null,null,null,null,null,null,null,null,null,null,null,null,null,null,null,null,"","","","","","",null,null,null,null,0,0,0,0,0,0]
["Periodoncia ",null,null,null,null,null,null,null,null,null,"",null,null,null,null,null,null,null,null,null,null,null,null,null,null,null,null,null,null,null,null,null,null,null,null,null,null,null,null,null,null,null,null,null,null,null,null,null,null,null,null,null,null,null,null,null,null,null,null,null,null,null,null,null,null,null,null,null,null,null,null,null,null,null,null,null,null,null,null,null,null,null,null,null,null,null,null,null,null,null,null,null,null,null,null,null,null,null,null,null,"","","","","","",null,null,null,null,0,0,0,0,0,0]
["Patología oral ",null,null,null,null,null,null,null,null,null,"",null,null,null,null,null,null,null,null,null,null,null,null,null,null,null,null,null,null,null,null,null,null,null,null,null,null,null,null,null,null,null,null,null,null,null,null,null,null,null,null,null,null,null,null,null,null,null,null,null,null,null,null,null,null,null,null,null,null,null,null,null,null,null,null,null,null,null,null,null,null,null,null,null,null,null,null,null,null,null,null,null,null,null,null,null,null,null,null,null,"","","","","","",null,null,null,null,0,0,0,0,0,0]
["Implantología buco Maxilofacial ",null,null,null,null,null,null,null,null,null,"",null,null,null,null,null,null,null,null,null,null,null,null,null,null,null,null,null,null,null,null,null,null,null,null,null,null,null,null,null,null,null,null,null,null,null,null,null,null,null,null,null,null,null,null,null,null,null,null,null,null,null,null,null,null,null,null,null,null,null,null,null,null,null,null,null,null,null,null,null,null,null,null,null,null,null,null,null,null,null,null,null,null,null,null,null,null,null,null,null,"","","","","","",null,null,null,null,0,0,0,0,0,0]
["Trastornos temporomandibulares y dolor orofacial ",null,null,null,null,null,null,null,null,null,"",null,null,null,null,null,null,null,null,null,null,null,null,null,null,null,null,null,null,null,null,null,null,null,null,null,null,null,null,null,null,null,null,null,null,null,null,null,null,null,null,null,null,null,null,null,null,null,null,null,null,null,null,null,null,null,null,null,null,null,null,null,null,null,null,null,null,null,null,null,null,null,null,null,null,null,null,null,null,null,null,null,null,null,null,null,null,null,null,null,"","","","","","",null,null,null,null,0,0,0,0,0,0]
["Somatoprótesis ",null,null,null,null,null,null,null,null,null,"",null,null,null,null,null,null,null,null,null,null,null,null,null,null,null,null,null,null,null,null,null,null,null,null,null,null,null,null,null,null,null,null,null,null,null,null,null,null,null,null,null,null,null,null,null,null,null,null,null,null,null,null,null,null,null,null,null,null,null,null,null,null,null,null,null,null,null,null,null,null,null,null,null,null,null,null,null,null,null,null,null,null,null,null,null,null,null,null,null,"","","","","","",null,null,null,null,0,0,0,0,0,0]
["SECCIÓN E: CONSULTAS ODONTOLÓGICAS  EN HORARIO CONTINUADO (Incluidas en  Secciones A y B. Excluye extensiones horarias de Sección G )"]
["JORNADA",null,null,"Consultas"]
[null,null,null,"TOTAL","Hombres","Mujeres"]
[" Horario continuado ","Vespertina (lunes-viernes)",null,{"$f":"SUM(E82+F82)","v":0}]
[null,"Sábado, domingo o festivo",null,{"$f":"SUM(E83+F83)","v":0}]
["SECCIÓN F:  ACTIVIDADES DE ATENCIÓN EN ESPECIALIDADES ODONTOLÓGICAS. "]
["ACTIVIDADES DE ESPECIALIDADES",null,null,"TOTAL",null,null,"RANGO ETARIO Y SEXO",null,null,null,null,null,null,null,null,null,null,null,null,null,null,null,null,null,null,null,null,null,null,null,null,null,null,null,null,null,null,null,null,null,"12 años (incluidos en  grupo de 10-14 años)","Embarazadas","Beneficiarios","60 años incluidos en grupos de  60-64 años)","Compra de Servicios","Usuarios con Discapacidad ","Niños, niñas, adolescentes y jóvenes SENAME","Niños, niñas, adolescentes y jóvenes Mejor Niñez","Migrantes"]
[null,null,null,null,null,null,"Menos de 1 año - 1 año",null,"2 años",null,"3 años",null,"4 años",null,"5 años",null,"6 años",null,"7 años",null,"8-9 años",null,"10-14 años",null,"15-19 años",null,"20-29 años ",null,"30-39 años",null,"40-49 años",null,"50-59 años",null,"60-64 años",null,"65-74 años",null,"75 y más años"]
[null,null,null,"Ambos Sexos","Hombres","Mujeres","Hombres","Mujeres","Hombres","Mujeres","Hombres","Mujeres","Hombres","Mujeres","Hombres","Mujeres","Hombres","Mujeres","Hombres","Mujeres","Hombres","Mujeres","Hombres","Mujeres","Hombres","Mujeres","Hombres","Mujeres","Hombres","Mujeres","Hombres","Mujeres","Hombres","Mujeres","Hombres","Mujeres","Hombres","Mujeres","Hombres","Mujeres"]
["Cirugía Mayor Ambulatoria Electiva/Urgencia",null,null,{"$f":"SUM(E88:F88)","v":0},{"$f":"SUM(G88+I88+K88+M88+O88+Q88+S88+U88+W88+Y88+AA88+AC88+AE88+AG88+AI88+AK88+AM88)","v":0},{"$f":"SUM(H88+J88+L88+N88+P88+R88+T88+V88+X88+Z88+AB88+AD88+AF88+AH88+AJ88+AL88+AN88)","v":0},null,null,null,null,null,null,null,null,null,null,null,null,null,null,null,null,null,null,null,null,null,null,null,null,null,null,null,null,null,null,null,null,null,null,null,null,null,null,null,null,null,null,null,{"$f":"CW88&CX88&CY88&CZ88&DA88&DB88&DC88&DD88","v":""},null,null,null,null,null,null,null,null,null,null,null,null,null,null,null,null,null,null,null,null,null,null,null,null,null,null,null,null,null,null,null,null,null,null,null,null,null,null,null,null,null,null,null,null,null,null,null,null,null,null,{"$f":"IF(AND((W88+X88)>0,AO88=\"\"),\" * No olvide digitar la variable 12 años. Si no tiene digite Cero.\",IF(AO88>(W88+X88),\"* Las Consultas de 12 años NO DEBEN ser mayor que el total de Consultas entre 10-14 años\",\"\"))","v":""},{"$f":"IF(AND(F88>0,AP88=\"\"),\" * No olvide digitar la variable Embarazadas. Digite cero si no tiene.\",IF(AP88>F88,\" * Las embarazadas no pueden ser mayor al Total Mujeres.\",\"\"))","v":""},{"$f":"IF(AND(D88>0,AQ88=\"\"),\" * No olvide digitar Beneficiarios. Digite Cero si no tiene\",IF(AQ88>D88,\" * Los beneficiarios no pueden ser mayor al Total Ambos Sexos.\",\"\"))","v":""},{"$f":"IF(AND((AI88+AJ88>0),AR88=\"\"),\" * No olvide digitar la variable 60 años. Si no tiene digite Cero.\",IF(AR88>(AI88+AJ88),\" * Las consultas de 60 años NO DEBEN ser mayor que el total de consultas de entre 60-64 años\",\"\"))","v":""},{"$f":"IF(AND(D88>0,AT88=\"\"),\" * No olvide digitar la variable usuarios con discapacidad. Digite Cero si no tiene.\",IF(AT88>D88,\" * La variable Usuarios con discapacidad No puede ser mayor al Total Ambos Sexos.\",\"\"))","v":""},{"$f":"IF(AND(D88>0,AU88=\"\"),\" * No olvide digitar la variable Niños, niñas, adolescentes y jóvenes SENAME. Digite Cero si no tiene.\",IF(AU88>D88,\" * La variable Niños, niñas, adolescentes y jóvenes SENAME No puede ser mayor al Total Ambos Sexos.\",\"\"))","v":""},{"$f":"IF(AND(D88>0,AV88=\"\"),\" * No olvide digitar la variable Niños, niñas, adolescentes y jóvenes Mejor Niñez. Digite Cero si no tiene.\",IF(AV88>D88,\" * La variable Niños, niñas, adolescentes y jóvenes Mejor Niñez No puede ser mayor al Total Ambos Sexos.\",\"\"))","v":""},{"$f":"IF(AND(D88>0,AW88=\"\"),\" * No olvide digitar la variable Migrantes. Digite Cero si no tiene.\",IF(AW88>D88,\" * La variable Migrantes No puede ser mayor al Total Ambos Sexos.\",\"\"))","v":""},null,null,{"$f":"IF(AND((W88+X88)>0,AO88=\"\"),1,IF(AO88>(W88+X88),1,0))","v":0},{"$f":"IF(AND(F88>0,AP88=\"\"),1,IF(AP88>F88,1,0))","v":0},{"$f":"IF(AND(D88>0,AQ88=\"\"),1,IF(AQ88>D88,1,0))","v":0},{"$f":"IF(AND((AI88+AJ88>0),AR88=\"\"),1,IF(AR88>(AI88+AJ88),1,0))","v":0},{"$f":"IF(AND(D88>0,AT88=\"\"),1,IF(AT88>D88,1,0))","v":0},{"$f":"IF(AND(D88>0,AU88=\"\"),1,IF(AU88>D88,1,0))","v":0},{"$f":"IF(AND(D88>0,AV88=\"\"),1,IF(AV88>D88,1,0))","v":0},{"$f":"IF(AND(D88>0,AW88=\"\"),1,IF(AW88>D88,1,0))","v":0}]
["Cirugía Mayor No Ambulatoria Electiva/Urgencia",null,null,{"$f":"SUM(E89:F89)","v":0},{"$f":"SUM(G89+I89+K89+M89+O89+Q89+S89+U89+W89+Y89+AA89+AC89+AE89+AG89+AI89+AK89+AM89)","v":0},0,null,null,null,null,null,null,null,null,null,null,null,null,null,null,null,null,null,null,null,null,null,null,null,null,null,null,null,null,null,null,null,null,null,null,null,null,null,null,null,null,null,null,null,{"$f":"CW89&CX89&CY89&CZ89&DA89&DB89&DC89&DD89","v":""},null,null,null,null,null,null,null,null,null,null,null,null,null,null,null,null,null,null,null,null,null,null,null,null,null,null,null,null,null,null,null,null,null,null,null,null,null,null,null,null,null,null,null,null,null,null,null,null,null,null,{"$f":"IF(AND((W89+X89)>0,AO89=\"\"),\" * No olvide digitar la variable 12 años. Si no tiene digite Cero.\",IF(AO89>(W89+X89),\"* Las Consultas de 12 años NO DEBEN ser mayor que el total de Consultas entre 10-14 años\",\"\"))","v":""},{"$f":"IF(AND(F89>0,AP89=\"\"),\" * No olvide digitar la variable Embarazadas. Digite cero si no tiene.\",IF(AP89>F89,\" * Las embarazadas no pueden ser mayor al Total Mujeres.\",\"\"))","v":""},{"$f":"IF(AND(D89>0,AQ89=\"\"),\" * No olvide digitar Beneficiarios. Digite Cero si no tiene\",IF(AQ89>D89,\" * Los beneficiarios no pueden ser mayor al Total Ambos Sexos.\",\"\"))","v":""},{"$f":"IF(AND((AI89+AJ89>0),AR89=\"\"),\" * No olvide digitar la variable 60 años. Si no tiene digite Cero.\",IF(AR89>(AI89+AJ89),\" * Las consultas de 60 años NO DEBEN ser mayor que el total de consultas de entre 60-64 años\",\"\"))","v":""},{"$f":"IF(AND(D89>0,AT89=\"\"),\" * No olvide digitar la variable usuarios con discapacidad. Digite Cero si no tiene.\",IF(AT89>D89,\" * La variable Usuarios con discapacidad No puede ser mayor al Total Ambos Sexos.\",\"\"))","v":""},{"$f":"IF(AND(D89>0,AU89=\"\"),\" * No olvide digitar la variable Niños, niñas, adolescentes y jóvenes SENAME. Digite Cero si no tiene.\",IF(AU89>D89,\" * La variable Niños, niñas, adolescentes y jóvenes SENAME No puede ser mayor al Total Ambos Sexos.\",\"\"))","v":""},{"$f":"IF(AND(D89>0,AV89=\"\"),\" * No olvide digitar la variable Niños, niñas, adolescentes y jóvenes Mejor Niñez. Digite Cero si no tiene.\",IF(AV89>D89,\" * La variable Niños, niñas, adolescentes y jóvenes Mejor Niñez No puede ser mayor al Total Ambos Sexos.\",\"\"))","v":""},{"$f":"IF(AND(D89>0,AW89=\"\"),\" * No olvide digitar la variable Migrantes. Digite Cero si no tiene.\",IF(AW89>D89,\" * La variable Migrantes No puede ser mayor al Total Ambos Sexos.\",\"\"))","v":""},null,null,{"$f":"IF(AND((W89+X89)>0,AO89=\"\"),1,IF(AO89>(W89+X89),1,0))","v":0},{"$f":"IF(AND(F89>0,AP89=\"\"),1,IF(AP89>F89,1,0))","v":0},{"$f":"IF(AND(D89>0,AQ89=\"\"),1,IF(AQ89>D89,1,0))","v":0},{"$f":"IF(AND((AI89+AJ89>0),AR89=\"\"),1,IF(AR89>(AI89+AJ89),1,0))","v":0},{"$f":"IF(AND(D89>0,AT89=\"\"),1,IF(AT89>D89,1,0))","v":0},{"$f":"IF(AND(D89>0,AU89=\"\"),1,IF(AU89>D89,1,0))","v":0},{"$f":"IF(AND(D89>0,AV89=\"\"),1,IF(AV89>D89,1,0))","v":0},{"$f":"IF(AND(D89>0,AW89=\"\"),1,IF(AW89>D89,1,0))","v":0}]
["Respuesta a interconsulta personas hospitalizadas ",null,null,0,0,0,null,null,null,null,null,null,null,null,null,null,null,null,null,null,null,null,null,null,null,null,null,null,null,null,null,null,null,null,null,null,null,null,null,null,null,null,null,null,null,null,null,null,null,"",null,null,null,null,null,null,null,null,null,null,null,null,null,null,null,null,null,null,null,null,null,null,null,null,null,null,null,null,null,null,null,null,null,null,null,null,null,null,null,null,null,null,null,null,null,null,null,null,null,null,"","","","","","","","",null,null,0,0,0,0,0,0,0,0]
["Visita a sala ",null,null,0,0,0,null,null,null,null,null,null,null,null,null,null,null,null,null,null,null,null,null,null,null,null,null,null,null,null,null,null,null,null,null,null,null,null,null,null,null,null,null,null,null,null,null,null,null,"",null,null,null,null,null,null,null,null,null,null,null,null,null,null,null,null,null,null,null,null,null,null,null,null,null,null,null,null,null,null,null,null,null,null,null,null,null,null,null,null,null,null,null,null,null,null,null,null,null,null,"","","","","","","","",null,null,0,0,0,0,0,0,0,0]
["Contraloría clínica ",null,null,0,0,{"$f":"SUM(H92+J92+L92+N92+P92+R92+T92+V92+X92+Z92+AB92+AD92+AF92+AH92+AJ92+AL92+AN92)","v":0},null,null,null,null,null,null,null,null,null,null,null,null,null,null,null,null,null,null,null,null,null,null,null,null,null,null,null,null,null,null,null,null,null,null,null,null,null,null,null,null,null,null,null,"",null,null,null,null,null,null,null,null,null,null,null,null,null,null,null,null,null,null,null,null,null,null,null,null,null,null,null,null,null,null,null,null,null,null,null,null,null,null,null,null,null,null,null,null,null,null,null,null,null,null,"","","","","","","","",null,null,0,0,0,0,0,0,0,0]
["Cirugía tercer molar ",null,null,0,{"$f":"SUM(Y93+AA93+AC93+AE93+AG93+AI93+AK93+AM93)","v":0},{"$f":"SUM(Z93+AB93+AD93+AF93+AH93+AJ93+AL93+AN93)","v":0},null,null,null,null,null,null,null,null,null,null,null,null,null,null,null,null,null,null,null,null,null,null,null,null,null,null,null,null,null,null,null,null,null,null,null,null,null,null,null,null,null,null,null,"",null,null,null,null,null,null,null,null,null,null,null,null,null,null,null,null,null,null,null,null,null,null,null,null,null,null,null,null,null,null,null,null,null,null,null,null,null,null,null,null,null,null,null,null,null,null,null,null,null,null,null,"","","","","","","",null,null,null,0,0,0,0,0,0,0]
["Cirugía menor ambulatoria ",null,null,0,0,0,null,null,null,null,null,null,null,null,null,null,null,null,null,null,null,null,null,null,null,null,null,null,null,null,null,null,null,null,null,null,null,null,null,null,null,null,null,null,null,null,null,null,null,"",null,null,null,null,null,null,null,null,null,null,null,null,null,null,null,null,null,null,null,null,null,null,null,null,null,null,null,null,null,null,null,null,null,null,null,null,null,null,null,null,null,null,null,null,null,null,null,null,null,null,"","","","","","","","",null,null,{"$f":"IF(AND((W94+X94)>0,AO94=\"\"),1,IF(AO94>(W94+X94),1,0))","v":0},0,0,0,0,0,0,0]
["Tratamiento traumatismo dentoalveolar ",null,null,0,0,0,null,null,null,null,null,null,null,null,null,null,null,null,null,null,null,null,null,null,null,null,null,null,null,null,null,null,null,null,null,null,null,null,null,null,null,null,null,null,null,null,null,null,null,"",null,null,null,null,null,null,null,null,null,null,null,null,null,null,null,null,null,null,null,null,null,null,null,null,null,null,null,null,null,null,null,null,null,null,null,null,null,null,null,null,null,null,null,null,null,null,null,null,null,null,"","","","","","","","",null,null,0,0,0,0,0,0,0,0]
["Obturación directa ",null,null,0,0,0,null,null,null,null,null,null,null,null,null,null,null,null,null,null,null,null,null,null,null,null,null,null,null,null,null,null,null,null,null,null,null,null,null,null,null,null,null,null,null,null,null,null,null,"",null,null,null,null,null,null,null,null,null,null,null,null,null,null,null,null,null,null,null,null,null,null,null,null,null,null,null,null,null,null,null,null,null,null,null,null,null,null,null,null,null,null,null,null,null,null,null,null,null,null,"","","","","","","","",null,null,0,0,0,0,0,0,0,0]
["Obturación indirecta (inlays u onlays)",null,null,0,{"$f":"SUM(Y97+AA97+AC97+AE97+AG97+AI97+AK97+AM97)","v":0},{"$f":"SUM(Z97+AB97+AD97+AF97+AH97+AJ97+AL97+AN97)","v":0},null,null,null,null,null,null,null,null,null,null,null,null,null,null,null,null,null,null,null,null,null,null,null,null,null,null,null,null,null,null,null,null,null,null,null,null,null,null,null,null,null,null,null,"",null,null,null,null,null,null,null,null,null,null,null,null,null,null,null,null,null,null,null,null,null,null,null,null,null,null,null,null,null,null,null,null,null,null,null,null,null,null,null,null,null,null,null,null,null,null,null,null,null,null,null,"","","","","","","",null,null,null,0,0,0,0,0,0,0]
["Instalación aparato removible ortodóncico ",null,null,0,{"$f":"SUM(G98+I98+K98+M98+O98+Q98+S98+U98+W98+Y98)","v":0},{"$f":"SUM(H98+J98+L98+N98+P98+R98+T98+V98+X98+Z98)","v":0},null,null,null,null,null,null,null,null,null,null,null,null,null,null,null,null,null,null,null,null,null,null,null,null,null,null,null,null,null,null,null,null,null,null,null,null,null,null,null,null,null,null,null,"",null,null,null,null,null,null,null,null,null,null,null,null,null,null,null,null,null,null,null,null,null,null,null,null,null,null,null,null,null,null,null,null,null,null,null,null,null,null,null,null,null,null,null,null,null,null,null,null,null,null,"","","",null,"","","","",null,null,{"$f":"IF(AND((W98+X98)>0,AO98=\"\"),1,IF(AO98>(W98+X98),1,0))","v":0},0,0,null,0,0,0,0]
["Instalación aparato fijo ortodóncico ",null,null,0,0,0,null,null,null,null,null,null,null,null,null,null,null,null,null,null,null,null,null,null,null,null,null,null,null,null,null,null,null,null,null,null,null,null,null,null,null,null,null,null,null,null,null,null,null,"",null,null,null,null,null,null,null,null,null,null,null,null,null,null,null,null,null,null,null,null,null,null,null,null,null,null,null,null,null,null,null,null,null,null,null,null,null,null,null,null,null,null,null,null,null,null,null,null,null,null,"","","","","","","","",null,null,0,0,0,0,0,0,0,0]
["Instalación aparato de contención ortodóncico ",null,null,0,0,0,null,null,null,null,null,null,null,null,null,null,null,null,null,null,null,null,null,null,null,null,null,null,null,null,null,null,null,null,null,null,null,null,null,null,null,null,null,null,null,null,null,null,null,"",null,null,null,null,null,null,null,null,null,null,null,null,null,null,null,null,null,null,null,null,null,null,null,null,null,null,null,null,null,null,null,null,null,null,null,null,null,null,null,null,null,null,null,null,null,null,null,null,null,null,"","","","","","","","",null,null,0,0,0,0,0,0,0,0]
["Retiro aparatología de ortodoncia ",null,null,0,0,0,null,null,null,null,null,null,null,null,null,null,null,null,null,null,null,null,null,null,null,null,null,null,null,null,null,null,null,null,null,null,null,null,null,null,null,null,null,null,null,null,null,null,null,"",null,null,null,null,null,null,null,null,null,null,null,null,null,null,null,null,null,null,null,null,null,null,null,null,null,null,null,null,null,null,null,null,null,null,null,null,null,null,null,null,null,null,null,null,null,null,null,null,null,null,"","","","","","","","",null,null,0,0,0,0,0,0,0,0]
["Ortopedia prequirúrgica ",null,null,0,0,0,null,null,null,null,null,null,null,null,null,null,null,null,null,null,null,null,null,null,null,null,null,null,null,null,null,null,null,null,null,null,null,null,null,null,null,null,null,null,null,null,null,null,null,"",null,null,null,null,null,null,null,null,null,null,null,null,null,null,null,null,null,null,null,null,null,null,null,null,null,null,null,null,null,null,null,null,null,null,null,null,null,null,null,null,null,null,null,null,null,null,null,null,null,null,"","","","","","","","",null,null,0,0,0,0,0,0,0,0]
["Ortodoncia preventiva e interceptiva (OPI)",null,null,0,{"$f":"SUM(G103+I103+K103+M103+O103+Q103+S103+U103+W103)","v":0},{"$f":"SUM(H103+J103+L103+N103+P103+R103+T103+V103+X103)","v":0},null,null,null,null,null,null,null,null,null,null,null,null,null,null,null,null,null,null,null,null,null,null,null,null,null,null,null,null,null,null,null,null,null,null,null,null,null,null,null,null,null,null,null,"",null,null,null,null,null,null,null,null,null,null,null,null,null,null,null,null,null,null,null,null,null,null,null,null,null,null,null,null,null,null,null,null,null,null,null,null,null,null,null,null,null,null,null,null,null,null,null,null,null,null,"","","","","","","","",null,null,0,0,0,0,0,0,0,0]
["Tratamiento endodoncia unirradicular ",null,null,0,{"$f":"SUM(Q104+S104+U104+W104+Y104+AA104+AC104+AE104+AG104+AI104+AK104+AM104)","v":0},0,null,null,null,null,null,null,null,null,null,null,null,null,null,null,null,null,null,null,null,null,null,null,null,null,null,null,null,null,null,null,null,null,null,null,null,null,null,null,null,null,null,null,null,"",null,null,null,null,null,null,null,null,null,null,null,null,null,null,null,null,null,null,null,null,null,null,null,null,null,null,null,null,null,null,null,null,null,null,null,null,null,null,null,null,null,null,null,null,null,null,null,null,null,null,"","","","","","","","",null,null,0,0,0,0,0,0,0,0]
["Tratamiento endodoncia birradicular ",null,null,0,0,0,null,null,null,null,null,null,null,null,null,null,null,null,null,null,null,null,null,null,null,null,null,null,null,null,null,null,null,null,null,null,null,null,null,null,null,null,null,null,null,null,null,null,null,"",null,null,null,null,null,null,null,null,null,null,null,null,null,null,null,null,null,null,null,null,null,null,null,null,null,null,null,null,null,null,null,null,null,null,null,null,null,null,null,null,null,null,null,null,null,null,null,null,null,null,"","","","","","","","",null,null,0,0,0,0,0,0,0,0]
["Tratamiento endodoncia multirradicular ",null,null,0,0,0,null,null,null,null,null,null,null,null,null,null,null,null,null,null,null,null,null,null,null,null,null,null,null,null,null,null,null,null,null,null,null,null,null,null,null,null,null,null,null,null,null,null,null,"",null,null,null,null,null,null,null,null,null,null,null,null,null,null,null,null,null,null,null,null,null,null,null,null,null,null,null,null,null,null,null,null,null,null,null,null,null,null,null,null,null,null,null,null,null,null,null,null,null,null,"","","","","","","","",null,null,0,0,0,0,0,0,0,0]
["Inducción al cierre apical ",null,null,0,{"$f":"SUM(Q107+S107+U107+W107+Y107)","v":0},{"$f":"SUM(R107+T107+V107+X107+Z107)","v":0},null,null,null,null,null,null,null,null,null,null,null,null,null,null,null,null,null,null,null,null,null,null,null,null,null,null,null,null,null,null,null,null,null,null,null,null,null,null,null,null,null,null,null,"",null,null,null,null,null,null,null,null,null,null,null,null,null,null,null,null,null,null,null,null,null,null,null,null,null,null,null,null,null,null,null,null,null,null,null,null,null,null,null,null,null,null,null,null,null,null,null,null,null,null,"","","","","","","","",null,null,0,0,0,0,0,0,0,0]
["Retratamiento de endodoncia ",null,null,0,{"$f":"SUM(Q108+S108+U108+W108+Y108+AA108+AC108+AE108+AG108+AI108+AK108+AM108)","v":0},{"$f":"SUM(R108+T108+V108+X108+Z108+AB108+AD108+AF108+AH108+AJ108+AL108+AN108)","v":0},null,null,null,null,null,null,null,null,null,null,null,null,null,null,null,null,null,null,null,null,null,null,null,null,null,null,null,null,null,null,null,null,null,null,null,null,null,null,null,null,null,null,null,"",null,null,null,null,null,null,null,null,null,null,null,null,null,null,null,null,null,null,null,null,null,null,null,null,null,null,null,null,null,null,null,null,null,null,null,null,null,null,null,null,null,null,null,null,null,null,null,null,null,null,"","","","","","","","",null,null,0,0,0,0,0,0,0,0]
["Cirugía apical ",null,null,0,{"$f":"SUM(Q109+S109+U109+W109+Y109+AA109+AC109+AE109+AG109+AI109+AK109+AM109)","v":0},{"$f":"SUM(R109+T109+V109+X109+Z109+AB109+AD109+AF109+AH109+AJ109+AL109+AN109)","v":0},null,null,null,null,null,null,null,null,null,null,null,null,null,null,null,null,null,null,null,null,null,null,null,null,null,null,null,null,null,null,null,null,null,null,null,null,null,null,null,null,null,null,null,"",null,null,null,null,null,null,null,null,null,null,null,null,null,null,null,null,null,null,null,null,null,null,null,null,null,null,null,null,null,null,null,null,null,null,null,null,null,null,null,null,null,null,null,null,null,null,null,null,null,null,"","","","","","","","",null,null,0,0,0,0,0,0,0,0]
["Adaptación a la atención odontológica  ",null,null,0,0,0,null,null,null,null,null,null,null,null,null,null,null,null,null,null,null,null,null,null,null,null,null,null,null,null,null,null,null,null,null,null,null,null,null,null,null,null,null,null,null,null,null,null,null,"",null,null,null,null,null,null,null,null,null,null,null,null,null,null,null,null,null,null,null,null,null,null,null,null,null,null,null,null,null,null,null,null,null,null,null,null,null,null,null,null,null,null,null,null,null,null,null,null,null,null,"","","","","","","","",null,null,0,0,0,0,0,0,0,0]
["Procedimiento restaurador (odontopediatría)",null,null,0,0,0,null,null,null,null,null,null,null,null,null,null,null,null,null,null,null,null,null,null,null,null,null,null,null,null,null,null,null,null,null,null,null,null,null,null,null,null,null,null,null,null,null,null,null,"",null,null,null,null,null,null,null,null,null,null,null,null,null,null,null,null,null,null,null,null,null,null,null,null,null,null,null,null,null,null,null,null,null,null,null,null,null,null,null,null,null,null,null,null,null,null,null,null,null,null,"","","","","","","","",null,null,0,0,0,0,0,0,0,0]
["Procedimiento pulpar (odontopediatría)",null,null,0,0,0,null,null,null,null,null,null,null,null,null,null,null,null,null,null,null,null,null,null,null,null,null,null,null,null,null,null,null,null,null,null,null,null,null,null,null,null,null,null,null,null,null,null,null,"",null,null,null,null,null,null,null,null,null,null,null,null,null,null,null,null,null,null,null,null,null,null,null,null,null,null,null,null,null,null,null,null,null,null,null,null,null,null,null,null,null,null,null,null,null,null,null,null,null,null,"","","","","","","","",null,null,0,0,0,0,0,0,0,0]
["Cirugía ambulatoria (odontopediatría)",null,null,0,0,0,null,null,null,null,null,null,null,null,null,null,null,null,null,null,null,null,null,null,null,null,null,null,null,null,null,null,null,null,null,null,null,null,null,null,null,null,null,null,null,null,null,null,null,"",null,null,null,null,null,null,null,null,null,null,null,null,null,null,null,null,null,null,null,null,null,null,null,null,null,null,null,null,null,null,null,null,null,null,null,null,null,null,null,null,null,null,null,null,null,null,null,null,null,null,"","","","","","","","",null,null,0,0,0,0,0,0,0,0]
["Destartraje subgingival o pulido radicular ",null,null,0,{"$f":"SUM(S114+U114+W114+Y114+AA114+AC114+AE114+AG114+AI114+AK114+AM114)","v":0},{"$f":"SUM(T114+V114+X114+Z114+AB114+AD114+AF114+AH114+AJ114+AL114+AN114)","v":0},null,null,null,null,null,null,null,null,null,null,null,null,null,null,null,null,null,null,null,null,null,null,null,null,null,null,null,null,null,null,null,null,null,null,null,null,null,null,null,null,null,null,null,"",null,null,null,null,null,null,null,null,null,null,null,null,null,null,null,null,null,null,null,null,null,null,null,null,null,null,null,null,null,null,null,null,null,null,null,null,null,null,null,null,null,null,null,null,null,null,null,null,null,null,"","","","","","","","",null,null,0,0,0,0,0,0,0,0]
["Destartraje supragingival o pulido coronario ",null,null,0,{"$f":"SUM(S115+U115+W115+Y115+AA115+AC115+AE115+AG115+AI115+AK115+AM115)","v":0},{"$f":"SUM(T115+V115+X115+Z115+AB115+AD115+AF115+AH115+AJ115+AL115+AN115)","v":0},null,null,null,null,null,null,null,null,null,null,null,null,null,null,null,null,null,null,null,null,null,null,null,null,null,null,null,null,null,null,null,null,null,null,null,null,null,null,null,null,null,null,null,"",null,null,null,null,null,null,null,null,null,null,null,null,null,null,null,null,null,null,null,null,null,null,null,null,null,null,null,null,null,null,null,null,null,null,null,null,null,null,null,null,null,null,null,null,null,null,null,null,null,null,"","","","","","","","",null,null,0,0,0,0,0,0,0,0]
["Procedimiento quirúrgico (periodoncia)",null,null,0,{"$f":"SUM(U116+W116+Y116+AA116+AC116+AE116+AG116+AI116+AK116+AM116)","v":0},{"$f":"SUM(V116+X116+Z116+AB116+AD116+AF116+AH116+AJ116+AL116+AN116)","v":0},null,null,null,null,null,null,null,null,null,null,null,null,null,null,null,null,null,null,null,null,null,null,null,null,null,null,null,null,null,null,null,null,null,null,null,null,null,null,null,null,null,null,null,"",null,null,null,null,null,null,null,null,null,null,null,null,null,null,null,null,null,null,null,null,null,null,null,null,null,null,null,null,null,null,null,null,null,null,null,null,null,null,null,null,null,null,null,null,null,null,null,null,null,null,"","","","","","","","",null,null,0,0,0,0,0,0,0,0]
["Procedimiento quirúrgico periimplantar (periodoncia)",null,null,0,{"$f":"SUM(Y117+AA117+AC117+AE117+AG117+AI117+AK117+AM117)","v":0},{"$f":"SUM(Z117+AB117+AD117+AF117+AH117+AJ117+AL117+AN117)","v":0},null,null,null,null,null,null,null,null,null,null,null,null,null,null,null,null,null,null,null,null,null,null,null,null,null,null,null,null,null,null,null,null,null,null,null,null,null,null,null,null,null,null,null,"",null,null,null,null,null,null,null,null,null,null,null,null,null,null,null,null,null,null,null,null,null,null,null,null,null,null,null,null,null,null,null,null,null,null,null,null,null,null,null,null,null,null,null,null,null,null,null,null,null,null,null,"","","","","","","",null,null,null,0,0,0,0,0,0,0]
["Ferulización ",null,null,0,{"$f":"SUM(G118+I118+K118+M118+O118+Q118+S118+U118+W118+Y118+AA118+AC118+AE118+AG118+AI118+AK118+AM118)","v":0},0,null,null,null,null,null,null,null,null,null,null,null,null,null,null,null,null,null,null,null,null,null,null,null,null,null,null,null,null,null,null,null,null,null,null,null,null,null,null,null,null,null,null,null,"",null,null,null,null,null,null,null,null,null,null,null,null,null,null,null,null,null,null,null,null,null,null,null,null,null,null,null,null,null,null,null,null,null,null,null,null,null,null,null,null,null,null,null,null,null,null,null,null,null,null,"","","","","","","","",null,null,{"$f":"IF(AND((W118+X118)>0,AO118=\"\"),1,IF(AO118>(W118+X118),1,0))","v":0},0,0,0,0,0,0,0]
["Rehabilitación mediante prótesis removible acrílica parcial o total ",null,null,0,{"$f":"SUM(Y119+AA119+AC119+AE119+AG119+AI119+AK119+AM119)","v":0},{"$f":"SUM(Z119+AB119+AD119+AF119+AH119+AJ119+AL119+AN119)","v":0},null,null,null,null,null,null,null,null,null,null,null,null,null,null,null,null,null,null,null,null,null,null,null,null,null,null,null,null,null,null,null,null,null,null,null,null,null,null,null,null,null,null,null,"",null,null,null,null,null,null,null,null,null,null,null,null,null,null,null,null,null,null,null,null,null,null,null,null,null,null,null,null,null,null,null,null,null,null,null,null,null,null,null,null,null,null,null,null,null,null,null,null,null,null,null,"","","","","","","",null,null,null,0,0,0,0,0,0,0]
["Rehabilitación mediante prótesis removible metálica parcial ",null,null,0,{"$f":"SUM(Y120+AA120+AC120+AE120+AG120+AI120+AK120+AM120)","v":0},0,null,null,null,null,null,null,null,null,null,null,null,null,null,null,null,null,null,null,null,null,null,null,null,null,null,null,null,null,null,null,null,null,null,null,null,null,null,null,null,null,null,null,null,"",null,null,null,null,null,null,null,null,null,null,null,null,null,null,null,null,null,null,null,null,null,null,null,null,null,null,null,null,null,null,null,null,null,null,null,null,null,null,null,null,null,null,null,null,null,null,null,null,null,null,null,"","","","","","","",null,null,null,0,0,0,0,0,0,0]
["Rehabilitación mediante prótesis fija unitaria o plural ",null,null,0,0,0,null,null,null,null,null,null,null,null,null,null,null,null,null,null,null,null,null,null,null,null,null,null,null,null,null,null,null,null,null,null,null,null,null,null,null,null,null,null,null,null,null,null,null,"",null,null,null,null,null,null,null,null,null,null,null,null,null,null,null,null,null,null,null,null,null,null,null,null,null,null,null,null,null,null,null,null,null,null,null,null,null,null,null,null,null,null,null,null,null,null,null,null,null,null,null,"","","","","","","",null,null,null,0,0,0,0,0,0,0]
["Rehabilitación mediante prótesis fija implantoasistida ",null,null,0,0,0,null,null,null,null,null,null,null,null,null,null,null,null,null,null,null,null,null,null,null,null,null,null,null,null,null,null,null,null,null,null,null,null,null,null,null,null,null,null,null,null,null,null,null,"",null,null,null,null,null,null,null,null,null,null,null,null,null,null,null,null,null,null,null,null,null,null,null,null,null,null,null,null,null,null,null,null,null,null,null,null,null,null,null,null,null,null,null,null,null,null,null,null,null,null,null,"","","","","","","",null,null,null,0,0,0,0,0,0,0]
["Rehabilitación mediante prótesis muco-implantoasistida ",null,null,0,{"$f":"SUM(Y123+AA123+AC123+AE123+AG123+AI123+AK123+AM123)","v":0},0,null,null,null,null,null,null,null,null,null,null,null,null,null,null,null,null,null,null,null,null,null,null,null,null,null,null,null,null,null,null,null,null,null,null,null,null,null,null,null,null,null,null,null,"",null,null,null,null,null,null,null,null,null,null,null,null,null,null,null,null,null,null,null,null,null,null,null,null,null,null,null,null,null,null,null,null,null,null,null,null,null,null,null,null,null,null,null,null,null,null,null,null,null,null,null,"","","","","","","",null,null,null,0,0,0,0,0,0,0]
["Reparación de prótesis ",null,null,0,0,0,null,null,null,null,null,null,null,null,null,null,null,null,null,null,null,null,null,null,null,null,null,null,null,null,null,null,null,null,null,null,null,null,null,null,null,null,null,null,null,null,null,null,null,"",null,null,null,null,null,null,null,null,null,null,null,null,null,null,null,null,null,null,null,null,null,null,null,null,null,null,null,null,null,null,null,null,null,null,null,null,null,null,null,null,null,null,null,null,null,null,null,null,null,null,null,"","","","","","","",null,null,null,0,0,0,0,0,0,0]
["Implantología quirúrgica ",null,null,0,0,0,null,null,null,null,null,null,null,null,null,null,null,null,null,null,null,null,null,null,null,null,null,null,null,null,null,null,null,null,null,null,null,null,null,null,null,null,null,null,null,null,null,null,null,"",null,null,null,null,null,null,null,null,null,null,null,null,null,null,null,null,null,null,null,null,null,null,null,null,null,null,null,null,null,null,null,null,null,null,null,null,null,null,null,null,null,null,null,null,null,null,null,null,null,null,null,"","","","","","","",null,null,null,0,0,0,0,0,0,0]
["Toma de biopsia ",null,null,0,0,0,null,null,null,null,null,null,null,null,null,null,null,null,null,null,null,null,null,null,null,null,null,null,null,null,null,null,null,null,null,null,null,null,null,null,null,null,null,null,null,null,null,null,null,"",null,null,null,null,null,null,null,null,null,null,null,null,null,null,null,null,null,null,null,null,null,null,null,null,null,null,null,null,null,null,null,null,null,null,null,null,null,null,null,null,null,null,null,null,null,null,null,null,null,null,{"$f":"IF(AND((W126+X126)>0,AO126=\"\"),\" * No olvide digitar la variable 12 años. Si no tiene digite Cero.\",IF(AO126>(W126+X126),\"* Las Consultas de 12 años NO DEBEN ser mayor que el total de Consultas entre 10-14 años\",\"\"))","v":""},"","","","","","","",null,null,{"$f":"IF(AND((W126+X126)>0,AO126=\"\"),1,IF(AO126>(W126+X126),1,0))","v":0},0,0,0,0,0,0,0]
["Estudio hispatológico ",null,null,0,0,0,null,null,null,null,null,null,null,null,null,null,null,null,null,null,null,null,null,null,null,null,null,null,null,null,null,null,null,null,null,null,null,null,null,null,null,null,null,null,null,null,null,null,null,"",null,null,null,null,null,null,null,null,null,null,null,null,null,null,null,null,null,null,null,null,null,null,null,null,null,null,null,null,null,null,null,null,null,null,null,null,null,null,null,null,null,null,null,null,null,null,null,null,null,null,"","","","","","","","",null,null,0,0,0,0,0,0,0,0]
["Sialometría ",null,null,0,0,0,null,null,null,null,null,null,null,null,null,null,null,null,null,null,null,null,null,null,null,null,null,null,null,null,null,null,null,null,null,null,null,null,null,null,null,null,null,null,null,null,null,null,null,"",null,null,null,null,null,null,null,null,null,null,null,null,null,null,null,null,null,null,null,null,null,null,null,null,null,null,null,null,null,null,null,null,null,null,null,null,null,null,null,null,null,null,null,null,null,null,null,null,null,null,"","","","","","","","",null,null,0,0,0,0,0,0,0,0]
["Terapia farmacológica de lesiones del territorio oral y maxilofacial ",null,null,0,0,0,null,null,null,null,null,null,null,null,null,null,null,null,null,null,null,null,null,null,null,null,null,null,null,null,null,null,null,null,null,null,null,null,null,null,null,null,null,null,null,null,null,null,null,"",null,null,null,null,null,null,null,null,null,null,null,null,null,null,null,null,null,null,null,null,null,null,null,null,null,null,null,null,null,null,null,null,null,null,null,null,null,null,null,null,null,null,null,null,null,null,null,null,null,null,"","","","","","","","",null,null,0,0,0,0,0,0,0,0]
["Terapia no farmacológica de lesiones del territorio oral y maxilofacial ",null,null,0,0,0,null,null,null,null,null,null,null,null,null,null,null,null,null,null,null,null,null,null,null,null,null,null,null,null,null,null,null,null,null,null,null,null,null,null,null,null,null,null,null,null,null,null,null,"",null,null,null,null,null,null,null,null,null,null,null,null,null,null,null,null,null,null,null,null,null,null,null,null,null,null,null,null,null,null,null,null,null,null,null,null,null,null,null,null,null,null,null,null,null,null,null,null,null,null,"","","","","","","","",null,null,0,0,0,0,0,0,0,0]
["Estudio clínico lesiones del territorio oral maxilofacial ",null,null,0,0,0,null,null,null,null,null,null,null,null,null,null,null,null,null,null,null,null,null,null,null,null,null,null,null,null,null,null,null,null,null,null,null,null,null,null,null,null,null,null,null,null,null,null,null,"",null,null,null,null,null,null,null,null,null,null,null,null,null,null,null,null,null,null,null,null,null,null,null,null,null,null,null,null,null,null,null,null,null,null,null,null,null,null,null,null,null,null,null,null,null,null,null,null,null,null,"","","","","","","","",null,null,0,0,0,0,0,0,0,0]
["Terapia física en trastornos temporomandibulares (TTM) y dolor orofacial (DOF)",null,null,0,0,0,null,null,null,null,null,null,null,null,null,null,null,null,null,null,null,null,null,null,null,null,null,null,null,null,null,null,null,null,null,null,null,null,null,null,null,null,null,null,null,null,null,null,null,"",null,null,null,null,null,null,null,null,null,null,null,null,null,null,null,null,null,null,null,null,null,null,null,null,null,null,null,null,null,null,null,null,null,null,null,null,null,null,null,null,null,null,null,null,null,null,null,null,null,null,"","","","","","","","",null,null,0,0,0,0,0,0,0,0]
["Infiltración en articulación temporo mandibular (ATM)",null,null,0,0,0,null,null,null,null,null,null,null,null,null,null,null,null,null,null,null,null,null,null,null,null,null,null,null,null,null,null,null,null,null,null,null,null,null,null,null,null,null,null,null,null,null,null,null,"",null,null,null,null,null,null,null,null,null,null,null,null,null,null,null,null,null,null,null,null,null,null,null,null,null,null,null,null,null,null,null,null,null,null,null,null,null,null,null,null,null,null,null,null,null,null,null,null,null,null,"","","","","","","","",null,null,0,0,0,0,0,0,0,0]
["Bloqueo anestésico y/o medicamentoso en TTM y DOF",null,null,0,0,0,null,null,null,null,null,null,null,null,null,null,null,null,null,null,null,null,null,null,null,null,null,null,null,null,null,null,null,null,null,null,null,null,null,null,null,null,null,null,null,null,null,null,null,"",null,null,null,null,null,null,null,null,null,null,null,null,null,null,null,null,null,null,null,null,null,null,null,null,null,null,null,null,null,null,null,null,null,null,null,null,null,null,null,null,null,null,null,null,null,null,null,null,null,null,"","","","","","","","",null,null,0,0,0,0,0,0,0,0]
["Artrocentesis en ATM",null,null,0,0,0,null,null,null,null,null,null,null,null,null,null,null,null,null,null,null,null,null,null,null,null,null,null,null,null,null,null,null,null,null,null,null,null,null,null,null,null,null,null,null,null,null,null,null,"",null,null,null,null,null,null,null,null,null,null,null,null,null,null,null,null,null,null,null,null,null,null,null,null,null,null,null,null,null,null,null,null,null,null,null,null,null,null,null,null,null,null,null,null,null,null,null,null,null,null,"","","","","","","","",null,null,0,0,0,0,0,0,0,0]
["Terapia bioconductual ",null,null,0,0,0,null,null,null,null,null,null,null,null,null,null,null,null,null,null,null,null,null,null,null,null,null,null,null,null,null,null,null,null,null,null,null,null,null,null,null,null,null,null,null,null,null,null,null,"",null,null,null,null,null,null,null,null,null,null,null,null,null,null,null,null,null,null,null,null,null,null,null,null,null,null,null,null,null,null,null,null,null,null,null,null,null,null,null,null,null,null,null,null,null,null,null,null,null,null,"","","","","","","","",null,null,0,0,0,0,0,0,0,0]
["Desgaste selectivo ",null,null,0,0,0,null,null,null,null,null,null,null,null,null,null,null,null,null,null,null,null,null,null,null,null,null,null,null,null,null,null,null,null,null,null,null,null,null,null,null,null,null,null,null,null,null,null,null,"",null,null,null,null,null,null,null,null,null,null,null,null,null,null,null,null,null,null,null,null,null,null,null,null,null,null,null,null,null,null,null,null,null,null,null,null,null,null,null,null,null,null,null,null,null,null,null,null,null,null,"","","","","","","","",null,null,0,0,0,0,0,0,0,0]
["Instalación en dispositivo ortopédico ",null,null,0,0,0,null,null,null,null,null,null,null,null,null,null,null,null,null,null,null,null,null,null,null,null,null,null,null,null,null,null,null,null,null,null,null,null,null,null,null,null,null,null,null,null,null,null,null,"",null,null,null,null,null,null,null,null,null,null,null,null,null,null,null,null,null,null,null,null,null,null,null,null,null,null,null,null,null,null,null,null,null,null,null,null,null,null,null,null,null,null,null,null,null,null,null,null,null,null,"","","","","","","","",null,null,0,0,0,0,0,0,0,0]
["Actividades somatoprótesis ",null,null,0,0,0,null,null,null,null,null,null,null,null,null,null,null,null,null,null,null,null,null,null,null,null,null,null,null,null,null,null,null,null,null,null,null,null,null,null,null,null,null,null,null,null,null,null,null,"",null,null,null,null,null,null,null,null,null,null,null,null,null,null,null,null,null,null,null,null,null,null,null,null,null,null,null,null,null,null,null,null,null,null,null,null,null,null,null,null,null,null,null,null,null,null,null,null,null,null,"","","","","","","","",null,null,0,0,0,0,0,0,0,0]
["Rehabilitación de prótesis maxilofacial ",null,null,0,0,0,null,null,null,null,null,null,null,null,null,null,null,null,null,null,null,null,null,null,null,null,null,null,null,null,null,null,null,null,null,null,null,null,null,null,null,null,null,null,null,null,null,null,null,"",null,null,null,null,null,null,null,null,null,null,null,null,null,null,null,null,null,null,null,null,null,null,null,null,null,null,null,null,null,null,null,null,null,null,null,null,null,null,null,null,null,null,null,null,null,null,null,null,null,null,"","","","","","","","",null,null,0,0,0,0,0,0,0,0]
["TOTAL",null,null,0,0,0,{"$f":"SUM(G88:G140)","v":0},0,0,0,0,0,0,0,0,0,0,0,0,0,0,0,0,0,0,0,0,0,0,0,0,0,0,0,0,0,0,0,0,0,0,0,0,0,0,0,0,0,0,null,null,null,null,null,null,null,null,null,null,null,null,null,null,null,null,null,null,null,null,null,null,null,null,null,null,null,null,null,null,null,null,null,null,null,null,null,null,null,null,null,null,null,null,null,null,null,null,null,null,null,null,{"$f":"IF(AND(F141>0,AP141=\"\"),\" * Recuerde que las Embarazadas deben ser incluidas en el ingreso por rango etario. Digite Cero si no tiene\",\"\")","v":""}]
["SECCIÓN F.1:  ACTIVIDADES DE IMAGENOLOGÍA ORAL Y MAXILOFACIAL."]
["ACTIVIDADES DE APOYO",null,null,"TOTAL",null,null,"GRUPO ETARIO Y SEXO",null,null,null,null,null,null,null,null,null,null,null,null,null,null,null,null,null,null,null,null,null,null,null,null,null,null,null,null,null,null,null,null,null,null,null,"12 años (incluidos en  grupo de 10-14 años)","Embarazadas","60 años (incluido en grupos de 60-64 años)","Compra de Servicio","Usuarios con Discapacidad ","Niños, niñas, adolescentes y jóvenes SENAME","Niños, niñas, adolescentes y jóvenes Mejor Niñez","Migrantes"]
[null,null,null,null,null,null,"Menos de 1 año",null,"1 año",null,"2 años",null,"3 años",null,"4 años",null,"5 años",null,"6 años",null,"7 años",null,"8-9 años",null,"10-14 años",null,"15-19 años",null,"20-29 años ",null,"30-39 años",null,"40-49 años",null,"50-59 años",null,"60-64 años",null,"65-74 años",null,"75 y más años"]
[null,null,null,"Total ","Hombres","Mujeres","Hombres","Mujeres","Hombres","Mujeres","Hombres","Mujeres","Hombres","Mujeres","Hombres","Mujeres","Hombres","Mujeres","Hombres","Mujeres","Hombres","Mujeres","Hombres","Mujeres","Hombres","Mujeres","Hombres","Mujeres","Hombres","Mujeres","Hombres","Mujeres","Hombres","Mujeres","Hombres","Mujeres","Hombres","Mujeres","Hombres","Mujeres","Hombres","Mujeres"]
["Radiografía intraoral mediante técnicas retroalveolares (Por placa)",null,null,{"$f":"E146+F146","v":0},{"$f":"SUM(G146+I146+K146+M146+O146+Q146+S146+U146+W146+Y146+AA146+AC146+AE146+AG146+AI146+AK146+AM146+AO146)","v":0},{"$f":"SUM(H146+J146+L146+N146+P146+R146+T146+V146+X146+Z146+AB146+AD146+AF146+AH146+AJ146+AL146+AN146+AP146)","v":0},null,null,null,null,null,null,null,null,null,null,null,null,null,null,null,null,null,null,null,null,null,null,null,null,null,null,null,null,null,null,null,null,null,null,null,null,null,null,null,null,null,null,null,null,{"$f":"CW146&CX146&CY146&CZ146&DA146&DB146&DC146&DD146","v":""},null,null,null,null,null,null,null,null,null,null,null,null,null,null,null,null,null,null,null,null,null,null,null,null,null,null,null,null,null,null,null,null,null,null,null,null,null,null,null,null,null,null,null,null,null,null,null,null,null,{"$f":"IF(AND((Y146+Z146)>0,AQ146=\"\"),\" * No olvide digitar la variable 12 años. Si no tiene digite Cero.\",IF(AQ146>(Y146+Z146),\"* Las Consultas de 12 años NO DEBEN ser mayor que el total de Consultas entre 10-14 años\",\"\"))","v":""},{"$f":"IF(AND(F146>0,AR146=\"\"),\" * No olvide digitar la variable Embarazadas. Digite cero si no tiene.\",\"\")","v":""},{"$f":"IF(AR146>F146,\" * Las Embarazadas NO DEBEN ser mayor al Total Mujeres. \",\"\")","v":""},{"$f":"IF(AND((AK146+AL146)>0,AS146=\"\"),\"* No olvide digitar la variable 60 años. Si no tiene digite Cero.\",IF(AS146>(AK146+AL146),\" * Las consultas de 60 años NO DEBEN ser mayor que el Total de consultas de entre 60-64 años\",\"\"))","v":""},{"$f":"IF(AND(D146>0,AU146=\"\"),\" * No olvide digitar la variable Usuarios con Discapacidad. Digite Cero si no tiene.\",IF(AU146>D146,\" * La variable Usuarios con Discapacidad No puede ser mayor al Total.\",\"\"))","v":""},{"$f":"IF(AND(D146>0,AV146=\"\"),\" * No olvide digitar la variable Niños, niñas adolescentes y Jóvenes SENAME. Digite Cero si no tiene.\",IF(AV146>D146,\" * La variable Niños, niñas adolescentes y Jóvenes SENAME No puede ser mayor al Total.\",\"\"))","v":""},{"$f":"IF(AND(D146>0,AW146=\"\"),\" * No olvide digitar la variable Niños, niñas adolescentes y Jóvenes Mejor Niñez. Digite Cero si no tiene.\",IF(AW146>D146,\" * La variable Niños, niñas adolescentes y Jóvenes mejor Niñez No puede ser mayor al Total.\",\"\"))","v":""},{"$f":"IF(AND(D146>0,AX146=\"\"),\" * No olvide digitar la variable Migrantes. Digite Cero si no tiene.\",IF(AX146>D146,\" * La variable Migrantes No puede ser mayor al Total.\",\"\"))","v":""},null,null,{"$f":"IF(AND((Y146+Z146)>0,AQ146=\"\"),1,IF(AQ146>(Y146+Z146),1,0))","v":0},{"$f":"IF(AND(F146>0,AR146=\"\"),1,0)","v":0},{"$f":"IF(AR146>F146,1,0)","v":0},{"$f":"IF(AND((AK146+AL146)>0,AS146=\"\"),1,IF(AS146>(AK146+AL146),1,0))","v":0},{"$f":"IF(AND(D146>0,AU146=\"\"),1,IF(AU146>D146,1,0))","v":0},{"$f":"IF(AND(D146>0,AV146=\"\"),1,IF(AV146>D146,1,0))","v":0},{"$f":"IF(AND(D146>0,AW146=\"\"),1,IF(AW146>D146,1,0))","v":0},{"$f":"IF(AND(D146>0,AX146=\"\"),1,IF(AX146>D146,1,0))","v":0}]
["Radiografía intraoral mediante técnicas bite wing (Por placa)",null,null,{"$f":"E147+F147","v":0},{"$f":"SUM(G147+I147+K147+M147+O147+Q147+S147+U147+W147+Y147+AA147+AC147+AE147+AG147+AI147+AK147+AM147+AO147)","v":0},0,null,null,null,null,null,null,null,null,null,null,null,null,null,null,null,null,null,null,null,null,null,null,null,null,null,null,null,null,null,null,null,null,null,null,null,null,null,null,null,null,null,null,null,null,{"$f":"CW147&CX147&CY147&CZ147&DA147&DB147&DC147&DD147&DE147","v":""},null,null,null,null,null,null,null,null,null,null,null,null,null,null,null,null,null,null,null,null,null,null,null,null,null,null,null,null,null,null,null,null,null,null,null,null,null,null,null,null,null,null,null,null,null,null,null,null,null,{"$f":"IF(AND((Y147+Z147)>0,AQ147=\"\"),\" * No olvide digitar la variable 12 años. Si no tiene digite Cero.\",IF(AQ147>(Y147+Z147),\"* Las Consultas de 12 años NO DEBEN ser mayor que el total de Consultas entre 10-14 años\",\"\"))","v":""},{"$f":"IF(AND(F147>0,AR147=\"\"),\" * No olvide digitar la variable Embarazadas. Digite cero si no tiene.\",\"\")","v":""},{"$f":"IF(AR147>F147,\" * Las Embarazadas NO DEBEN ser mayor al Total Mujeres. \",\"\")","v":""},{"$f":"IF(AND((AK147+AL147)>0,AS147=\"\"),\"* No olvide digitar la variable 60 años. Si no tiene digite Cero.\",IF(AS147>(AK147+AL147),\" * Las consultas de 60 años NO DEBEN ser mayor que el Total de consultas de entre 60-64 años\",\"\"))","v":""},{"$f":"IF(AND(D147>0,AU147=\"\"),\" * No olvide digitar la variable Usuarios con Discapacidad. Digite Cero si no tiene.\",IF(AU147>D147,\" * La variable Usuarios con Discapacidad No puede ser mayor al Total.\",\"\"))","v":""},{"$f":"IF(AND(D147>0,AV147=\"\"),\" * No olvide digitar la variable Niños, niñas adolescentes y Jóvenes SENAME. Digite Cero si no tiene.\",IF(AV147>D147,\" * La variable Niños, niñas adolescentes y Jóvenes SENAME No puede ser mayor al Total.\",\"\"))","v":""},{"$f":"IF(AND(D147>0,AW147=\"\"),\" * No olvide digitar la variable Niños, niñas adolescentes y Jóvenes Mejor Niñez. Digite Cero si no tiene.\",IF(AW147>D147,\" * La variable Niños, niñas adolescentes y Jóvenes mejor Niñez No puede ser mayor al Total.\",\"\"))","v":""},{"$f":"IF(AND(D147>0,AX147=\"\"),\" * No olvide digitar la variable Migrantes. Digite Cero si no tiene.\",IF(AX147>D147,\" * La variable Migrantes No puede ser mayor al Total.\",\"\"))","v":""},null,null,{"$f":"IF(AND((Y147+Z147)>0,AQ147=\"\"),1,IF(AQ147>(Y147+Z147),1,0))","v":0},{"$f":"IF(AND(F147>0,AR147=\"\"),1,0)","v":0},{"$f":"IF(AR147>F147,1,0)","v":0},{"$f":"IF(AND((AK147+AL147)>0,AS147=\"\"),1,IF(AS147>(AK147+AL147),1,0))","v":0},{"$f":"IF(AND(D147>0,AU147=\"\"),1,IF(AU147>D147,1,0))","v":0},{"$f":"IF(AND(D147>0,AV147=\"\"),1,IF(AV147>D147,1,0))","v":0},{"$f":"IF(AND(D147>0,AW147=\"\"),1,IF(AW147>D147,1,0))","v":0},{"$f":"IF(AND(D147>0,AX147=\"\"),1,IF(AX147>D147,1,0))","v":0}]
["Radiografía extraoral (Por placa)",null,null,0,0,0,null,null,null,null,null,null,null,null,null,null,null,null,null,null,null,null,null,null,null,null,null,null,null,null,null,null,null,null,null,null,null,null,null,null,null,null,null,null,null,null,null,null,null,null,"",null,null,null,null,null,null,null,null,null,null,null,null,null,null,null,null,null,null,null,null,null,null,null,null,null,null,null,null,null,null,null,null,null,null,null,null,null,null,null,null,null,null,null,null,null,null,null,null,null,"","","","","","","","",null,null,0,0,0,0,0,0,0,0]
["Radiografía oclusal (Por placa)",null,null,0,0,0,null,null,null,null,null,null,null,null,null,null,null,null,null,null,null,null,null,null,null,null,null,null,null,null,null,null,null,null,null,null,null,null,null,null,null,null,null,null,null,null,null,null,null,null,"",null,null,null,null,null,null,null,null,null,null,null,null,null,null,null,null,null,null,null,null,null,null,null,null,null,null,null,null,null,null,null,null,null,null,null,null,null,null,null,null,null,null,null,null,null,null,null,null,null,"","","","","","","","",null,null,0,0,0,0,0,0,0,0]
["Telerradiografía (Por placa)",null,null,0,0,0,null,null,null,null,null,null,null,null,null,null,null,null,null,null,null,null,null,null,null,null,null,null,null,null,null,null,null,null,null,null,null,null,null,null,null,null,null,null,null,null,null,null,null,null,"",null,null,null,null,null,null,null,null,null,null,null,null,null,null,null,null,null,null,null,null,null,null,null,null,null,null,null,null,null,null,null,null,null,null,null,null,null,null,null,null,null,null,null,null,null,null,null,null,null,"","","","","","","","",null,null,0,0,0,0,0,0,0,0]
["Radiografía panorámica (Por placa)",null,null,0,0,0,null,null,null,null,null,null,null,null,null,null,null,null,null,null,null,null,null,null,null,null,null,null,null,null,null,null,null,null,null,null,null,null,null,null,null,null,null,null,null,null,null,null,null,null,"",null,null,null,null,null,null,null,null,null,null,null,null,null,null,null,null,null,null,null,null,null,null,null,null,null,null,null,null,null,null,null,null,null,null,null,null,null,null,null,null,null,null,null,null,null,null,null,null,null,"","","","","","","","",null,null,0,0,0,0,0,0,0,0]
["Tomografía computacional maxilo facial cone beam (Por adquisición)",null,null,0,0,0,null,null,null,null,null,null,null,null,null,null,null,null,null,null,null,null,null,null,null,null,null,null,null,null,null,null,null,null,null,null,null,null,null,null,null,null,null,null,null,null,null,null,null,null,"",null,null,null,null,null,null,null,null,null,null,null,null,null,null,null,null,null,null,null,null,null,null,null,null,null,null,null,null,null,null,null,null,null,null,null,null,null,null,null,null,null,null,null,null,null,null,null,null,null,"","","","","","","","",null,null,0,0,0,0,0,0,0,0]
["Sialografías (Por procedimiento)",null,null,0,0,0,null,null,null,null,null,null,null,null,null,null,null,null,null,null,null,null,null,null,null,null,null,null,null,null,null,null,null,null,null,null,null,null,null,null,null,null,null,null,null,null,null,null,null,null,"",null,null,null,null,null,null,null,null,null,null,null,null,null,null,null,null,null,null,null,null,null,null,null,null,null,null,null,null,null,null,null,null,null,null,null,null,null,null,null,null,null,null,null,null,null,null,null,null,null,"","","","","","","","",null,null,0,0,0,0,0,0,0,0]
["Procedimiento imagenológico complejo (Por procedimiento)",null,null,0,{"$f":"SUM(G154+I154+K154+M154+O154+Q154+S154+U154+W154+Y154+AA154+AC154+AE154+AG154+AI154+AK154+AM154+AO154)","v":0},0,null,null,null,null,null,null,null,null,null,null,null,null,null,null,null,null,null,null,null,null,null,null,null,null,null,null,null,null,null,null,null,null,null,null,null,null,null,null,null,null,null,null,null,null,"",null,null,null,null,null,null,null,null,null,null,null,null,null,null,null,null,null,null,null,null,null,null,null,null,null,null,null,null,null,null,null,null,null,null,null,null,null,null,null,null,null,null,null,null,null,null,null,null,null,"","","","","","","","",null,null,0,0,0,0,0,0,0,0]
["TOTAL",null,null,{"$f":"SUM(D146:D154)","v":0},{"$f":"SUM(E146:E154)","v":0},{"$f":"SUM(F146:F154)","v":0},{"$f":"SUM(G146:G154)","v":0},0,0,0,0,0,0,0,0,0,0,0,0,0,0,0,0,0,0,0,0,0,0,0,0,0,0,0,0,0,0,0,0,0,0,0,0,0,0,0,{"$f":"SUM(AU146:AU154)","v":0},{"$f":"SUM(AV146:AV154)","v":0},{"$f":"SUM(AW146:AW154)","v":0},{"$f":"SUM(AX146:AX154)","v":0}]
["SECCIÓN G: PROGRAMAS ESPECIALES Y GES (Actividades incluidas en Sección B)"]
["PROGRAMA - ACTIVIDAD",null,null,"TOTAL",null,null,"RANGO ETARIO Y SEXO",null,null,null,null,null,null,null,null,null,null,null,null,null,null,null,null,null,null,null,null,null,null,null,null,null,null,null,null,null,null,null,null,null,null,null,"Compra de Servicio","Usuarios con Discapacidad","Niños, niñas, adolescentes y jóvenes SENAME","Niños, niñas, adolescentes y jóvenes Mejor Niñez","Migrantes","Egreso por Abandono","Paciente Diabético en Control Programa Salud Cardiovascular"]
[null,null,null,null,null,null,"Menos de 1 año",null,"1 año",null,"2 años",null,"3 años",null,"4 años",null,"5 años",null,"6 años",null,"7 años",null,"8-9 años",null,"10-14 años",null,"15-19 años",null,"20-29 años ",null,"30-39 años",null,"40-49 años",null,"50-59 años",null,"60-64 años",null,"65-74 años",null,"75 y más años"]
[null,null,null,"Ambos Sexos","Hombres","Mujeres","Hombres","Mujeres","Hombres","Mujeres","Hombres","Mujeres","Hombres","Mujeres","Hombres","Mujeres","Hombres","Mujeres","Hombres","Mujeres","Hombres","Mujeres","Hombres","Mujeres","Hombres","Mujeres","Hombres","Mujeres","Hombres","Mujeres","Hombres","Mujeres","Hombres","Mujeres","Hombres","Mujeres","Hombres","Mujeres","Hombres","Mujeres","Hombres","Mujeres"]
["Programa odontológico integral, estrategia más Sonrisas para Chile","N°Auditorías clínicas realizadas",null,{"$f":"SUM(F160)","v":0},null,{"$f":"SUM(AD160+AF160+AH160+AJ160+AL160+AN160+AP160)","v":0},null,null,null,null,null,null,null,null,null,null,null,null,null,null,null,null,null,null,null,null,null,null,null,null,null,null,null,null,null,null,null,null,null,null,null,null,null,null,null,null,null,null,null,{"$f":"CW160&CW160&CX160&CY160&CZ160&DA160&DB160&DC160","v":""},null,null,null,null,null,null,null,null,null,null,null,null,null,null,null,null,null,null,null,null,null,null,null,null,null,null,null,null,null,null,null,null,null,null,null,null,null,null,null,null,null,null,null,null,null,null,null,null,null,null,null,{"$f":"IF(AND(D160>0,AR160=\"\"),\"  * No olvide digitar la variable  Usuarios con Discapacidad. Digite Cero si no tiene.\",IF(AR160>D160,\" * La variable Usuarios con Discapacidad no pueden superar el Total Ambos Sexos.\",\"\"))","v":""},{"$f":"IF(AND(D160>0,AS160=\"\"),\"  * No olvide digitar la variable Niños, niñas, adolescentes y jóvenes SENAME. Digite Cero si no tiene.\",IF(AS160>D160,\" * La variable Niños, niñas, adolescentes y jóvenes SENAME no pueden superar el Total Ambos Sexos.\",\"\"))","v":""},{"$f":"IF(AND(D160>0,AT160=\"\"),\"  * No olvide digitar la variable Niños, niñas, adolescentes y jóvenes Mejor Niñez. Digite Cero si no tiene.\",IF(AT160>D160,\" * La variable Niños, niñas, adolescentes y jóvenes Mejor Niñez  no pueden superar el Total Ambos Sexos.\",\"\"))","v":""},{"$f":"IF(AND(D160>0,AU160=\"\"),\"  * No olvide digitar la variable Migrantes. Digite Cero si no tiene.\",IF(AU160>D160,\" * La variable Migrantes no pueden superar el Total Ambos Sexos.\",\"\"))","v":""},null,null,null,null,null,null,{"$f":"IF(AND(D160>0,AR160=\"\"),1,IF(AR160>D160,1,0))","v":0},{"$f":"IF(AND(D160>0,AS160=\"\"),1,IF(AS160>D160,1,0))","v":0},{"$f":"IF(AND(D160>0,AT160=\"\"),1,IF(AT160>D160,1,0))","v":0},{"$f":"IF(AND(D160>0,AU160=\"\"),1,IF(AU160>D160,1,0))","v":0}]
[null,"Prótesis removibles ",null,0,null,{"$f":"SUM(AD161+AF161+AH161+AJ161+AL161+AN161+AP161)","v":0},null,null,null,null,null,null,null,null,null,null,null,null,null,null,null,null,null,null,null,null,null,null,null,null,null,null,null,null,null,null,null,null,null,null,null,null,null,null,null,null,null,null,null,{"$f":"CW161&CW161&CX161&CY161&CZ161&DA161&DB161&DC161","v":""},null,null,null,null,null,null,null,null,null,null,null,null,null,null,null,null,null,null,null,null,null,null,null,null,null,null,null,null,null,null,null,null,null,null,null,null,null,null,null,null,null,null,null,null,null,null,null,null,null,null,null,{"$f":"IF(AND(D161>0,AR161=\"\"),\"  * No olvide digitar la variable  Usuarios con Discapacidad. Digite Cero si no tiene.\",IF(AR161>D161,\" * La variable Usuarios con Discapacidad no pueden superar el Total Ambos Sexos.\",\"\"))","v":""},{"$f":"IF(AND(D161>0,AS161=\"\"),\"  * No olvide digitar la variable Niños, niñas, adolescentes y jóvenes SENAME. Digite Cero si no tiene.\",IF(AS161>D161,\" * La variable Niños, niñas, adolescentes y jóvenes SENAME no pueden superar el Total Ambos Sexos.\",\"\"))","v":""},{"$f":"IF(AND(D161>0,AT161=\"\"),\"  * No olvide digitar la variable Niños, niñas, adolescentes y jóvenes Mejor Niñez. Digite Cero si no tiene.\",IF(AT161>D161,\" * La variable Niños, niñas, adolescentes y jóvenes Mejor Niñez  no pueden superar el Total Ambos Sexos.\",\"\"))","v":""},{"$f":"IF(AND(D161>0,AU161=\"\"),\"  * No olvide digitar la variable Migrantes. Digite Cero si no tiene.\",IF(AU161>D161,\" * La variable Migrantes no pueden superar el Total Ambos Sexos.\",\"\"))","v":""},null,{"$f":"IF(AND(D161>0,AW161=\"\"),\"  * No olvide digitar la variable Paciente Diabético en control PSCV. Digite Cero si no tiene.\",IF(AW161>D161,\" * La variable Paciente Diabético en control PSCV no pueden superar el Total Ambos Sexos.\",\"\"))","v":""},null,null,null,null,{"$f":"IF(AND(D161>0,AR161=\"\"),1,IF(AR161>D161,1,0))","v":0},{"$f":"IF(AND(D161>0,AS161=\"\"),1,IF(AS161>D161,1,0))","v":0},{"$f":"IF(AND(D161>0,AT161=\"\"),1,IF(AT161>D161,1,0))","v":0},{"$f":"IF(AND(D161>0,AU161=\"\"),1,IF(AU161>D161,1,0))","v":0},null,{"$f":"IF(AND(D161>0,AW161=\"\"),1,IF(AW161>D161,1,0))","v":0}]
[null,"Endodoncia ",null,0,null,0,null,null,null,null,null,null,null,null,null,null,null,null,null,null,null,null,null,null,null,null,null,null,null,null,null,null,null,null,null,null,null,null,null,null,null,null,null,null,null,null,null,null,null,"",null,null,null,null,null,null,null,null,null,null,null,null,null,null,null,null,null,null,null,null,null,null,null,null,null,null,null,null,null,null,null,null,null,null,null,null,null,null,null,null,null,null,null,null,null,null,null,null,null,null,null,"","","","",null,{"$f":"IF(AND(D162>0,AW162=\"\"),\"  * No olvide digitar la variable Paciente Diabético en control PSCV. Digite Cero si no tiene.\",IF(AW162>D162,\" * La variable Paciente Diabético en control PSCV no pueden superar el Total Ambos Sexos.\",\"\"))","v":""},null,null,null,null,0,0,0,0,null,{"$f":"IF(AND(D162>0,AW162=\"\"),1,IF(AW162>D162,1,0))","v":0}]
[null,"Reparación de prótesis ",null,0,null,0,null,null,null,null,null,null,null,null,null,null,null,null,null,null,null,null,null,null,null,null,null,null,null,null,null,null,null,null,null,null,null,null,null,null,null,null,null,null,null,null,null,null,null,"",null,null,null,null,null,null,null,null,null,null,null,null,null,null,null,null,null,null,null,null,null,null,null,null,null,null,null,null,null,null,null,null,null,null,null,null,null,null,null,null,null,null,null,null,null,null,null,null,null,null,null,"","","","",null,null,null,null,null,null,0,0,0,0]
[null,"Altas integrales ","TOTAL",0,null,0,null,null,null,null,null,null,null,null,null,null,null,null,null,null,null,null,null,null,null,null,null,null,null,{"$f":"SUM(AD165:AD170)","v":0},null,{"$f":"SUM(AF165:AF170)","v":0},null,0,null,0,null,0,null,0,null,0,{"$f":"SUM(AQ165:AQ170)","v":0},0,{"$f":"SUM(AS165:AS170)","v":0},{"$f":"SUM(AT165:AT170)","v":0},{"$f":"SUM(AU165:AU170)","v":0},0,0]
[null,null,"JUNJI-INTEGRA-MINEDUC",0,null,{"$f":"SUM(AD165+AF165+AH165+AJ165+AL165+AN165+AP165)","v":0},null,null,null,null,null,null,null,null,null,null,null,null,null,null,null,null,null,null,null,null,null,null,null,null,null,null,null,null,null,null,null,null,null,null,null,null,null,null,null,null,null,null,null,{"$f":"CW165&CX165&CY165&CZ165&DA165&DB165&DC165&DD165&DE165","v":""},null,null,null,null,null,null,null,null,null,null,null,null,null,null,null,null,null,null,null,null,null,null,null,null,null,null,null,null,null,null,null,null,null,null,null,null,null,null,null,null,null,null,null,null,null,null,null,null,null,null,null,{"$f":"IF(AND(D165>0,AR165=\"\"),\"  * No olvide digitar la variable  Usuarios con Discapacidad. Digite Cero si no tiene.\",IF(AR165>D165,\" * La variable Usuarios con Discapacidad no pueden superar el Total Ambos Sexos.\",\"\"))","v":""},{"$f":"IF(AND(D165>0,AS165=\"\"),\"  * No olvide digitar la variable Niños, niñas, adolescentes y jóvenes SENAME. Digite Cero si no tiene.\",IF(AS165>D165,\" * La variable Niños, niñas, adolescentes y jóvenes SENAME no pueden superar el Total Ambos Sexos.\",\"\"))","v":""},{"$f":"IF(AND(D165>0,AT165=\"\"),\"  * No olvide digitar la variable Niños, niñas, adolescentes y jóvenes Mejor Niñez. Digite Cero si no tiene.\",IF(AT165>D165,\" * La variable Niños, niñas, adolescentes y jóvenes Mejor Niñez  no pueden superar el Total Ambos Sexos.\",\"\"))","v":""},{"$f":"IF(AND(D165>0,AU165=\"\"),\"  * No olvide digitar la variable Migrantes. Digite Cero si no tiene.\",IF(AU165>D165,\" * La variable Migrantes no pueden superar el Total Ambos Sexos.\",\"\"))","v":""},{"$f":"IF(AND($D165>0,AV165=\"\"),\"  * No olvide digitar la variable Egreso por Abandono. Digite Cero si no tiene.\",IF(AV165>$D165,\" * La variable Egreso por Abandono no pueden superar el Total Ambos Sexos.\",\"\"))","v":""},{"$f":"IF(AND(D165>0,AW165=\"\"),\"  * No olvide digitar la variable Paciente Diabético en control PSCV. Digite Cero si no tiene.\",IF(AW165>D165,\" * La variable Paciente Diabético en control PSCV no pueden superar el Total Ambos Sexos.\",\"\"))","v":""},null,null,null,null,{"$f":"IF(AND(D165>0,AR165=\"\"),1,IF(AR165>D165,1,0))","v":0},{"$f":"IF(AND(D165>0,AS165=\"\"),1,IF(AS165>D165,1,0))","v":0},{"$f":"IF(AND(D165>0,AT165=\"\"),1,IF(AT165>D165,1,0))","v":0},{"$f":"IF(AND(D165>0,AU165=\"\"),1,IF(AU165>D165,1,0))","v":0},{"$f":"IF(AND(D165>0,AV165=\"\"),1,IF(AV165>D165,1,0))","v":0},{"$f":"IF(AND(D165>0,AW165=\"\"),1,IF(AW165>D165,1,0))","v":0}]
[null,null,"SERNAM",0,null,0,null,null,null,null,null,null,null,null,null,null,null,null,null,null,null,null,null,null,null,null,null,null,null,null,null,null,null,null,null,null,null,null,null,null,null,null,null,null,null,null,null,null,null,"",null,null,null,null,null,null,null,null,null,null,null,null,null,null,null,null,null,null,null,null,null,null,null,null,null,null,null,null,null,null,null,null,null,null,null,null,null,null,null,null,null,null,null,null,null,null,null,null,null,null,null,"","","","",{"$f":"IF(AND($D166>0,AV166=\"\"),\"  * No olvide digitar la variable Egreso por Abandono. Digite Cero si no tiene.\",IF(AV166>$D166,\" * La variable Egreso por Abandono no pueden superar el Total Ambos Sexos.\",\"\"))","v":""},"",null,null,null,null,{"$f":"IF(AND(D166>0,AR166=\"\"),1,IF(AR166>D166,1,0))","v":0},{"$f":"IF(AND(D166>0,AS166=\"\"),1,IF(AS166>D166,1,0))","v":0},{"$f":"IF(AND(D166>0,AT166=\"\"),1,IF(AT166>D166,1,0))","v":0},{"$f":"IF(AND(D166>0,AU166=\"\"),1,IF(AU166>D166,1,0))","v":0},{"$f":"IF(AND(D166>0,AV166=\"\"),1,IF(AV166>D166,1,0))","v":0},{"$f":"IF(AND(D166>0,AW166=\"\"),1,IF(AW166>D166,1,0))","v":0}]
[null,null,"PRODEMU",0,null,0,null,null,null,null,null,null,null,null,null,null,null,null,null,null,null,null,null,null,null,null,null,null,null,null,null,null,null,null,null,null,null,null,null,null,null,null,null,null,null,null,null,null,null,"",null,null,null,null,null,null,null,null,null,null,null,null,null,null,null,null,null,null,null,null,null,null,null,null,null,null,null,null,null,null,null,null,null,null,null,null,null,null,null,null,null,null,null,null,null,null,null,null,null,null,null,"","","","","","",null,null,null,null,0,0,0,0,0,0]
[null,null,"Chile Solidario ",0,null,0,null,null,null,null,null,null,null,null,null,null,null,null,null,null,null,null,null,null,null,null,null,null,null,null,null,null,null,null,null,null,null,null,null,null,null,null,null,null,null,null,null,null,null,"",null,null,null,null,null,null,null,null,null,null,null,null,null,null,null,null,null,null,null,null,null,null,null,null,null,null,null,null,null,null,null,null,null,null,null,null,null,null,null,null,null,null,null,null,null,null,null,null,null,null,null,"","","","","","",null,null,null,null,0,0,0,0,0,0]
[null,null,"MINVU",0,null,0,null,null,null,null,null,null,null,null,null,null,null,null,null,null,null,null,null,null,null,null,null,null,null,null,null,null,null,null,null,null,null,null,null,null,null,null,null,null,null,null,null,null,null,"",null,null,null,null,null,null,null,null,null,null,null,null,null,null,null,null,null,null,null,null,null,null,null,null,null,null,null,null,null,null,null,null,null,null,null,null,null,null,null,null,null,null,null,null,null,null,null,null,null,null,null,"","","","","","",null,null,null,null,0,0,0,0,0,0]
[null,null,"Demanda local ",0,null,0,null,null,null,null,null,null,null,null,null,null,null,null,null,null,null,null,null,null,null,null,null,null,null,null,null,null,null,null,null,null,null,null,null,null,null,null,null,null,null,null,null,null,null,"",null,null,null,null,null,null,null,null,null,null,null,null,null,null,null,null,null,null,null,null,null,null,null,null,null,null,null,null,null,null,null,null,null,null,null,null,null,null,null,null,null,null,null,null,null,null,null,null,null,null,null,"","","","","","",null,null,null,null,0,0,0,0,0,0]
["Programa odontológico integral, estrategia hombres de escasos recursos ","Altas integrales/actividades","Prótesis removibles ",{"$f":"SUM(E171)","v":0},{"$f":"SUM(AC171+AE171+AG171+AI171+AK171+AM171+AO171)","v":0},null,null,null,null,null,null,null,null,null,null,null,null,null,null,null,null,null,null,null,null,null,null,null,null,null,null,null,null,null,null,null,null,null,null,null,null,null,null,null,null,null,null,null,null,"",null,null,null,null,null,null,null,null,null,null,null,null,null,null,null,null,null,null,null,null,null,null,null,null,null,null,null,null,null,null,null,null,null,null,null,null,null,null,null,null,null,null,null,null,null,null,null,null,null,null,null,"","","","",null,"",null,null,null,null,{"$f":"IF(AND(D171>0,AR171=\"\"),1,IF(AR171>D171,1,0))","v":0},{"$f":"IF(AND(D171>0,AS171=\"\"),1,IF(AS171>D171,1,0))","v":0},{"$f":"IF(AND(D171>0,AT171=\"\"),1,IF(AT171>D171,1,0))","v":0},{"$f":"IF(AND(D171>0,AU171=\"\"),1,IF(AU171>D171,1,0))","v":0},null,{"$f":"IF(AND(D171>0,AW171=\"\"),1,IF(AW171>D171,1,0))","v":0}]
[null,null,"Total altas integrales ",0,{"$f":"SUM(AC172+AE172+AG172+AI172+AK172+AM172+AO172)","v":0},null,null,null,null,null,null,null,null,null,null,null,null,null,null,null,null,null,null,null,null,null,null,null,null,null,null,null,null,null,null,null,null,null,null,null,null,null,null,null,null,null,null,null,null,"",null,null,null,null,null,null,null,null,null,null,null,null,null,null,null,null,null,null,null,null,null,null,null,null,null,null,null,null,null,null,null,null,null,null,null,null,null,null,null,null,null,null,null,null,null,null,null,null,null,null,null,"","","","",{"$f":"IF(AND($D172>0,AV172=\"\"),\"  * No olvide digitar la variable Egreso por Abandono. Digite Cero si no tiene.\",IF(AV172>$D172,\" * La variable Egreso por Abandono no pueden superar el Total Ambos Sexos.\",\"\"))","v":""},"",null,null,null,null,{"$f":"IF(AND(D172>0,AR172=\"\"),1,IF(AR172>D172,1,0))","v":0},{"$f":"IF(AND(D172>0,AS172=\"\"),1,IF(AS172>D172,1,0))","v":0},{"$f":"IF(AND(D172>0,AT172=\"\"),1,IF(AT172>D172,1,0))","v":0},{"$f":"IF(AND(D172>0,AU172=\"\"),1,IF(AU172>D172,1,0))","v":0},{"$f":"IF(AND(D172>0,AV172=\"\"),1,IF(AV172>D172,1,0))","v":0},{"$f":"IF(AND(D172>0,AW172=\"\"),1,IF(AW172>D172,1,0))","v":0}]
[null,null,"Nº de auditorías clínicas realizadas ",0,{"$f":"SUM(AC173+AE173+AG173+AI173+AK173+AM173+AO173)","v":0},null,null,null,null,null,null,null,null,null,null,null,null,null,null,null,null,null,null,null,null,null,null,null,null,null,null,null,null,null,null,null,null,null,null,null,null,null,null,null,null,null,null,null,null,"",null,null,null,null,null,null,null,null,null,null,null,null,null,null,null,null,null,null,null,null,null,null,null,null,null,null,null,null,null,null,null,null,null,null,null,null,null,null,null,null,null,null,null,null,null,null,null,null,null,null,null,"","","","",null,"",null,null,null,null,0,0,0,0,null,0]
[null,null,"Endodoncia ",0,{"$f":"SUM(AC174+AE174+AG174+AI174+AK174+AM174+AO174)","v":0},null,null,null,null,null,null,null,null,null,null,null,null,null,null,null,null,null,null,null,null,null,null,null,null,null,null,null,null,null,null,null,null,null,null,null,null,null,null,null,null,null,null,null,null,"",null,null,null,null,null,null,null,null,null,null,null,null,null,null,null,null,null,null,null,null,null,null,null,null,null,null,null,null,null,null,null,null,null,null,null,null,null,null,null,null,null,null,null,null,null,null,null,null,null,null,null,"","","","",null,"",null,null,null,null,0,0,0,0,null,0]
[null,null,"Reparación de prótesis ",0,{"$f":"SUM(AC175+AE175+AG175+AI175+AK175+AM175+AO175)","v":0},null,null,null,null,null,null,null,null,null,null,null,null,null,null,null,null,null,null,null,null,null,null,null,null,null,null,null,null,null,null,null,null,null,null,null,null,null,null,null,null,null,null,null,null,"",null,null,null,null,null,null,null,null,null,null,null,null,null,null,null,null,null,null,null,null,null,null,null,null,null,null,null,null,null,null,null,null,null,null,null,null,null,null,null,null,null,null,null,null,null,null,null,null,null,null,null,"","","","",null,"",null,null,null,null,0,0,0,0,null,0]
["Programa odontológico integral, estrategia atención odontológica en domicilio ","Altas odontológicas ","TOTAL ALTAS ",{"$f":"SUM(E176:F176)","v":0},{"$f":"+G176+I176+K176+M176+O176+Q176+S176+U176+W176+Y176+AA176+AC176+AE176+AG176+AI176+AK176+AM176+AO176","v":0},{"$f":"+H176+J176+L176+N176+P176+R176+T176+V176+X176+Z176+AB176+AD176+AF176+AH176+AJ176+AL176+AN176+AP176","v":0},{"$f":"SUM(G177:G178)","v":0},{"$f":"SUM(H177:H178)","v":0},0,0,{"$f":"SUM(K177:K178)","v":0},0,0,0,0,0,0,0,0,0,0,0,0,0,0,0,0,0,{"$f":"SUM(AC177:AC178)","v":0},0,0,0,0,0,0,0,0,0,0,0,0,0,0,0,0,{"$f":"SUM(AT177:AT178)","v":0},{"$f":"SUM(AU177:AU178)","v":0},{"$f":"SUM(AV177:AV178)","v":0},{"$f":"SUM(AW177:AW178)","v":0}]
[null,null,"Altas personas con dependencia severa ",{"$f":"SUM(E177:F177)","v":0},0,0,null,null,null,null,null,null,null,null,null,null,null,null,null,null,null,null,null,null,null,null,null,null,null,null,null,null,null,null,null,null,null,null,null,null,null,null,null,null,null,null,null,null,null,"",null,null,null,null,null,null,null,null,null,null,null,null,null,null,null,null,null,null,null,null,null,null,null,null,null,null,null,null,null,null,null,null,null,null,null,null,null,null,null,null,null,null,null,null,null,null,null,null,null,null,null,{"$f":"IF(AND(D177>0,AR177=\"\"),\"  * No olvide digitar la variable  Usuarios con Discapacidad. Digite Cero si no tiene.\",IF(AR177>D177,\" * La variable Usuarios con Discapacidad no pueden superar el Total Ambos Sexos.\",\"\"))","v":""},{"$f":"IF(AND(D177>0,AS177=\"\"),\"  * No olvide digitar la variable Niños, niñas, adolescentes y jóvenes SENAME. Digite Cero si no tiene.\",IF(AS177>D177,\" * La variable Niños, niñas, adolescentes y jóvenes SENAME no pueden superar el Total Ambos Sexos.\",\"\"))","v":""},{"$f":"IF(AND(D177>0,AT177=\"\"),\"  * No olvide digitar la variable Niños, niñas, adolescentes y jóvenes Mejor Niñez. Digite Cero si no tiene.\",IF(AT177>D177,\" * La variable Niños, niñas, adolescentes y jóvenes Mejor Niñez  no pueden superar el Total Ambos Sexos.\",\"\"))","v":""},{"$f":"IF(AND(D177>0,AU177=\"\"),\"  * No olvide digitar la variable Migrantes. Digite Cero si no tiene.\",IF(AU177>D177,\" * La variable Migrantes no pueden superar el Total Ambos Sexos.\",\"\"))","v":""},{"$f":"IF(AND($D177>0,AV177=\"\"),\"  * No olvide digitar la variable Egreso por Abandono. Digite Cero si no tiene.\",IF(AV177>$D177,\" * La variable Egreso por Abandono no pueden superar el Total Ambos Sexos.\",\"\"))","v":""},{"$f":"IF(AND(D177>0,AW177=\"\"),\"  * No olvide digitar la variable Paciente Diabético en control PSCV. Digite Cero si no tiene.\",IF(AW177>D177,\" * La variable Paciente Diabético en control PSCV no pueden superar el Total Ambos Sexos.\",\"\"))","v":""},null,null,null,null,{"$f":"IF(AND(D177>0,AR177=\"\"),1,IF(AR177>D177,1,0))","v":0},{"$f":"IF(AND(D177>0,AS177=\"\"),1,IF(AS177>D177,1,0))","v":0},{"$f":"IF(AND(D177>0,AT177=\"\"),1,IF(AT177>D177,1,0))","v":0},{"$f":"IF(AND(D177>0,AU177=\"\"),1,IF(AU177>D177,1,0))","v":0},{"$f":"IF(AND(D177>0,AV177=\"\"),1,IF(AV177>D177,1,0))","v":0},{"$f":"IF(AND(D177>0,AW177=\"\"),1,IF(AW177>D177,1,0))","v":0}]
[null,null,"Altas cuidadores personas con dependencia ",{"$f":"SUM(E178:F178)","v":0},0,0,null,null,null,null,null,null,null,null,null,null,null,null,null,null,null,null,null,null,null,null,null,null,null,null,null,null,null,null,null,null,null,null,null,null,null,null,null,null,null,null,null,null,null,"",null,null,null,null,null,null,null,null,null,null,null,null,null,null,null,null,null,null,null,null,null,null,null,null,null,null,null,null,null,null,null,null,null,null,null,null,null,null,null,null,null,null,null,null,null,null,null,null,null,null,null,"","","","",{"$f":"IF(AND($D178>0,AV178=\"\"),\"  * No olvide digitar la variable Egreso por Abandono. Digite Cero si no tiene.\",IF(AV178>$D178,\" * La variable Egreso por Abandono no pueden superar el Total Ambos Sexos.\",\"\"))","v":""},"",null,null,null,null,{"$f":"IF(AND(D178>0,AR178=\"\"),1,IF(AR178>D178,1,0))","v":0},{"$f":"IF(AND(D178>0,AS178=\"\"),1,IF(AS178>D178,1,0))","v":0},{"$f":"IF(AND(D178>0,AT178=\"\"),1,IF(AT178>D178,1,0))","v":0},{"$f":"IF(AND(D178>0,AU178=\"\"),1,IF(AU178>D178,1,0))","v":0},{"$f":"IF(AND(D178>0,AV178=\"\"),1,IF(AV178>D178,1,0))","v":0},{"$f":"IF(AND(D178>0,AW178=\"\"),1,IF(AW178>D178,1,0))","v":0}]
["Programa mejoramiento del acceso, estrategia resolución de especialidad en APS","Tratamiento endodoncia ","N° Pacientes ",{"$f":"SUM(E179+F179)","v":0},{"$f":"SUM(AA179+AC179+AE179+AG179+AI179+AK179+AM179+AO179)","v":0},{"$f":"SUM(AB179+AD179+AF179+AH179+AJ179+AL179+AN179+AP179)","v":0},null,null,null,null,null,null,null,null,null,null,null,null,null,null,null,null,null,null,null,null,null,null,null,null,null,null,null,null,null,null,null,null,null,null,null,null,null,null,null,null,null,null,null,"",null,null,null,null,null,null,null,null,null,null,null,null,null,null,null,null,null,null,null,null,null,null,null,null,null,null,null,null,null,null,null,null,null,null,null,null,null,null,null,null,null,null,null,null,null,null,null,null,null,null,null,"","","","","","",null,null,null,null,0,0,0,0,0,0]
[null,null,"N° Dientes tratados por odontólogo general ",{"$f":"SUM(E180+F180)","v":0},{"$f":"SUM(AA180+AC180+AE180+AG180+AI180+AK180+AM180+AO180)","v":0},0,null,null,null,null,null,null,null,null,null,null,null,null,null,null,null,null,null,null,null,null,null,null,null,null,null,null,null,null,null,null,null,null,null,null,null,null,null,null,null,null,null,null,null,"",null,null,null,null,null,null,null,null,null,null,null,null,null,null,null,null,null,null,null,null,null,null,null,null,null,null,null,null,null,null,null,null,null,null,null,null,null,null,null,null,null,null,null,null,null,null,null,null,null,null,null,"","","","",null,"",null,null,null,null,0,0,0,0,null,0]
[null,null,"N° Dientes tratados por endodoncista ",{"$f":"SUM(E181+F181)","v":0},{"$f":"SUM(AA181+AC181+AE181+AG181+AI181+AK181+AM181+AO181)","v":0},0,null,null,null,null,null,null,null,null,null,null,null,null,null,null,null,null,null,null,null,null,null,null,null,null,null,null,null,null,null,null,null,null,null,null,null,null,null,null,null,null,null,null,null,"",null,null,null,null,null,null,null,null,null,null,null,null,null,null,null,null,null,null,null,null,null,null,null,null,null,null,null,null,null,null,null,null,null,null,null,null,null,null,null,null,null,null,null,null,null,null,null,null,null,null,null,"","","","",null,"",null,null,null,null,0,0,0,0,null,0]
[null,"Tratamiento de periodoncia ","N° Pacientes ",0,{"$f":"SUM(AA182+AC182+AE182+AG182+AI182+AK182+AM182+AO182)","v":0},0,null,null,null,null,null,null,null,null,null,null,null,null,null,null,null,null,null,null,null,null,null,null,null,null,null,null,null,null,null,null,null,null,null,null,null,null,null,null,null,null,null,null,null,"",null,null,null,null,null,null,null,null,null,null,null,null,null,null,null,null,null,null,null,null,null,null,null,null,null,null,null,null,null,null,null,null,null,null,null,null,null,null,null,null,null,null,null,null,null,null,null,null,null,null,null,"","","","","","",null,null,null,null,0,0,0,0,0,0]
[null,null,"N° de sextantes por periodoncista ",0,{"$f":"SUM(AA183+AC183+AE183+AG183+AI183+AK183+AM183+AO183)","v":0},0,null,null,null,null,null,null,null,null,null,null,null,null,null,null,null,null,null,null,null,null,null,null,null,null,null,null,null,null,null,null,null,null,null,null,null,null,null,null,null,null,null,null,null,"",null,null,null,null,null,null,null,null,null,null,null,null,null,null,null,null,null,null,null,null,null,null,null,null,null,null,null,null,null,null,null,null,null,null,null,null,null,null,null,null,null,null,null,null,null,null,null,null,null,null,null,"","","","",null,"",null,null,null,null,0,0,0,0,null,0]
[null,"Prótesis removibles ","N° Pacientes ",0,{"$f":"SUM(AC184+AE184+AG184+AI184+AK184+AM184+AO184)","v":0},0,null,null,null,null,null,null,null,null,null,null,null,null,null,null,null,null,null,null,null,null,null,null,null,null,null,null,null,null,null,null,null,null,null,null,null,null,null,null,null,null,null,null,null,"",null,null,null,null,null,null,null,null,null,null,null,null,null,null,null,null,null,null,null,null,null,null,null,null,null,null,null,null,null,null,null,null,null,null,null,null,null,null,null,null,null,null,null,null,null,null,null,null,null,null,null,"","","","","","",null,null,null,null,0,0,0,0,0,0]
[null,null,"N° Prótesis realizadas por odontólogo general ",0,0,0,null,null,null,null,null,null,null,null,null,null,null,null,null,null,null,null,null,null,null,null,null,null,null,null,null,null,null,null,null,null,null,null,null,null,null,null,null,null,null,null,null,null,null,"",null,null,null,null,null,null,null,null,null,null,null,null,null,null,null,null,null,null,null,null,null,null,null,null,null,null,null,null,null,null,null,null,null,null,null,null,null,null,null,null,null,null,null,null,null,null,null,null,null,null,null,"","","","",null,"",null,null,null,null,0,0,0,0,null,0]
[null,null,"N° Prótesis realizadas por rehabilitadores orales ",0,0,0,null,null,null,null,null,null,null,null,null,null,null,null,null,null,null,null,null,null,null,null,null,null,null,null,null,null,null,null,null,null,null,null,null,null,null,null,null,null,null,null,null,null,null,"",null,null,null,null,null,null,null,null,null,null,null,null,null,null,null,null,null,null,null,null,null,null,null,null,null,null,null,null,null,null,null,null,null,null,null,null,null,null,null,null,null,null,null,null,null,null,null,null,null,null,null,"","","","",null,"",null,null,null,null,0,0,0,0,null,0]
["Programa GES odontológico adulto de 60 años ","ALTAS INTEGRALES",null,{"$f":"SUM(E187+F187)","v":0},{"$f":"SUM(AK187)","v":0},0,null,null,null,null,null,null,null,null,null,null,null,null,null,null,null,null,null,null,null,null,null,null,null,null,null,null,null,null,null,null,null,null,null,null,null,null,null,null,null,null,null,null,null,"",null,null,null,null,null,null,null,null,null,null,null,null,null,null,null,null,null,null,null,null,null,null,null,null,null,null,null,null,null,null,null,null,null,null,null,null,null,null,null,null,null,null,null,null,null,null,null,null,null,null,null,"",null,null,"","","",null,null,null,null,0,null,null,0,0,0]
[null,"Tratamiento endodoncia ","N° Pacientes ",0,0,0,null,null,null,null,null,null,null,null,null,null,null,null,null,null,null,null,null,null,null,null,null,null,null,null,null,null,null,null,null,null,null,null,null,null,null,null,null,null,null,null,null,null,null,"",null,null,null,null,null,null,null,null,null,null,null,null,null,null,null,null,null,null,null,null,null,null,null,null,null,null,null,null,null,null,null,null,null,null,null,null,null,null,null,null,null,null,null,null,null,null,null,null,null,null,null,"",null,null,"","","",null,null,null,null,0,null,null,0,0,0]
[null,null,"N° Dientes",0,0,0,null,null,null,null,null,null,null,null,null,null,null,null,null,null,null,null,null,null,null,null,null,null,null,null,null,null,null,null,null,null,null,null,null,null,null,null,null,null,null,null,null,null,null,"",null,null,null,null,null,null,null,null,null,null,null,null,null,null,null,null,null,null,null,null,null,null,null,null,null,null,null,null,null,null,null,null,null,null,null,null,null,null,null,null,null,null,null,null,null,null,null,null,null,null,null,"",null,null,"",null,"",null,null,null,null,0,null,null,0,null,0]
[null,"Prótesis removibles ","N° Paciente ",0,0,0,null,null,null,null,null,null,null,null,null,null,null,null,null,null,null,null,null,null,null,null,null,null,null,null,null,null,null,null,null,null,null,null,null,null,null,null,null,null,null,null,null,null,null,"",null,null,null,null,null,null,null,null,null,null,null,null,null,null,null,null,null,null,null,null,null,null,null,null,null,null,null,null,null,null,null,null,null,null,null,null,null,null,null,null,null,null,null,null,null,null,null,null,null,null,null,"",null,null,"","","",null,null,null,null,0,null,null,0,0,0]
[null,null,"N° Prótesis ",0,0,0,null,null,null,null,null,null,null,null,null,null,null,null,null,null,null,null,null,null,null,null,null,null,null,null,null,null,null,null,null,null,null,null,null,null,null,null,null,null,null,null,null,null,null,"",null,null,null,null,null,null,null,null,null,null,null,null,null,null,null,null,null,null,null,null,null,null,null,null,null,null,null,null,null,null,null,null,null,null,null,null,null,null,null,null,null,null,null,null,null,null,null,null,null,null,null,"",null,null,"",null,"",null,null,null,null,0,null,null,0,null,0]
["Programa odontológico integral, estrategia estudiantes de enseñanza media ","Altas integrales estudiantes de enseñanza media ","Alta integral en centro de salud ",0,{"$f":"SUM(Y192+AA192+AC192+AE192+AG192+AI192+AK192+AM192+AO192)","v":0},0,null,null,null,null,null,null,null,null,null,null,null,null,null,null,null,null,null,null,null,null,null,null,null,null,null,null,null,null,null,null,null,null,null,null,null,null,null,null,null,null,null,null,null,"",null,null,null,null,null,null,null,null,null,null,null,null,null,null,null,null,null,null,null,null,null,null,null,null,null,null,null,null,null,null,null,null,null,null,null,null,null,null,null,null,null,null,null,null,null,null,null,null,null,null,null,{"$f":"IF(AND(D192>0,AR192=\"\"),\"  * No olvide digitar la variable  Usuarios con Discapacidad. Digite Cero si no tiene.\",IF(AR192>D192,\" * La variable Usuarios con Discapacidad no pueden superar el Total Ambos Sexos.\",\"\"))","v":""},{"$f":"IF(AND(D192>0,AS192=\"\"),\"  * No olvide digitar la variable Niños, niñas, adolescentes y jóvenes SENAME. Digite Cero si no tiene.\",IF(AS192>D192,\" * La variable Niños, niñas, adolescentes y jóvenes SENAME no pueden superar el Total Ambos Sexos.\",\"\"))","v":""},{"$f":"IF(AND(D192>0,AT192=\"\"),\"  * No olvide digitar la variable Niños, niñas, adolescentes y jóvenes Mejor Niñez. Digite Cero si no tiene.\",IF(AT192>D192,\" * La variable Niños, niñas, adolescentes y jóvenes Mejor Niñez  no pueden superar el Total Ambos Sexos.\",\"\"))","v":""},{"$f":"IF(AND(D192>0,AU192=\"\"),\"  * No olvide digitar la variable Migrantes. Digite Cero si no tiene.\",IF(AU192>D192,\" * La variable Migrantes no pueden superar el Total Ambos Sexos.\",\"\"))","v":""},"","",null,null,null,null,0,0,0,0,0,0]
[null,null,"Alta integral en unidad dental móvil o portátil ",0,0,0,null,null,null,null,null,null,null,null,null,null,null,null,null,null,null,null,null,null,null,null,null,null,null,null,null,null,null,null,null,null,null,null,null,null,null,null,null,null,null,null,null,null,null,"",null,null,null,null,null,null,null,null,null,null,null,null,null,null,null,null,null,null,null,null,null,null,null,null,null,null,null,null,null,null,null,null,null,null,null,null,null,null,null,null,null,null,null,null,null,null,null,null,null,null,null,"","","","","","",null,null,null,null,0,0,0,0,0,0]
[null,null,"Alta integral en establecimiento educacional ",0,0,0,null,null,null,null,null,null,null,null,null,null,null,null,null,null,null,null,null,null,null,null,null,null,null,null,null,null,null,null,null,null,null,null,null,null,null,null,null,null,null,null,null,null,null,"",null,null,null,null,null,null,null,null,null,null,null,null,null,null,null,null,null,null,null,null,null,null,null,null,null,null,null,null,null,null,null,null,null,null,null,null,null,null,null,null,null,null,null,null,null,null,null,null,null,null,null,"","","","","","",null,null,null,null,0,0,0,0,0,0]
["Programa mejoramiento del acceso, estrategia morbilidad adulto ","Morbilidad adulto ","N° total de actividades recuperativa realizada en >20 años, en extensión horaria ",{"$f":"SUM(E195+F195)","v":0},{"$f":"SUM(AC195+AE195+AG195+AI195+AK195+AM195+AO195)","v":0},{"$f":"SUM(AD195+AF195+AH195+AJ195+AL195+AN195+AP195)","v":0},null,null,null,null,null,null,null,null,null,null,null,null,null,null,null,null,null,null,null,null,null,null,null,null,null,null,null,null,null,null,null,null,null,null,null,null,null,null,null,null,null,null,null,"",null,null,null,null,null,null,null,null,null,null,null,null,null,null,null,null,null,null,null,null,null,null,null,null,null,null,null,null,null,null,null,null,null,null,null,null,null,null,null,null,null,null,null,null,null,null,null,null,null,null,null,"","","","",null,"",null,null,null,null,0,0,0,0,null,0]
[null,null,"N° de consultas de morbilidad realizadas en >20 años, en extensión horaria ",{"$f":"SUM(E196+F196)","v":0},{"$f":"SUM(AC196+AE196+AG196+AI196+AK196+AM196+AO196)","v":0},{"$f":"SUM(AD196+AF196+AH196+AJ196+AL196+AN196+AP196)","v":0},null,null,null,null,null,null,null,null,null,null,null,null,null,null,null,null,null,null,null,null,null,null,null,null,null,null,null,null,null,null,null,null,null,null,null,null,null,null,null,null,null,null,null,"",null,null,null,null,null,null,null,null,null,null,null,null,null,null,null,null,null,null,null,null,null,null,null,null,null,null,null,null,null,null,null,null,null,null,null,null,null,null,null,null,null,null,null,null,null,null,null,null,null,null,null,"","","","",null,"",null,null,null,null,0,0,0,0,null,0]
["SECCIÓN G.1: PROGRAMA SEMBRANDO SONRISAS"]
["ACTIVIDAD",null,null,"TOTAL",null,null,"RANGO ETARIO Y SEXO",null,null,null,null,null,null,null,null,null,null,null,null,null,null,null,null,null,null,null,null,null,"Usuarios con Discapacidad","Total","JUNJI","INTEGRA","MINEDUC"]
[null,null,null,null,null,null,"Menos de 1 año",null,"1 año",null,"2 años",null,"3 años",null,"4 años",null,"5 años",null,"6 años",null,"7 años",null,"8-9 años",null,"10-14 años",null,"15-19 años"]
[null,null,null,"Ambos Sexos","Hombres","Mujeres","Hombres","Mujeres","Hombres","Mujeres","Hombres","Mujeres","Hombres","Mujeres","Hombres","Mujeres","Hombres","Mujeres","Hombres","Mujeres","Hombres","Mujeres","Hombres","Mujeres","Hombres","Mujeres","Hombres","Mujeres"]
["Examen de salud ",null,null,{"$f":"SUM(E201+F201)","v":0},{"$f":"+K201+M201+O201+Q201+S201","v":0},{"$f":"+L201+N201+P201+R201+T201","v":0},null,null,null,null,null,null,null,null,null,null,null,null,null,null,null,null,null,null,null,null,null,null,null,{"$f":"SUM(AE201:AG201)","v":0},null,null,null,{"$f":"CW201&CX201&CY201&CZ201&DA201","v":""},null,null,null,null,null,null,null,null,null,null,null,null,null,null,null,null,null,null,null,null,null,null,null,null,null,null,null,null,null,null,null,null,null,null,null,null,null,null,null,null,null,null,null,null,null,null,null,null,null,null,null,null,null,null,null,null,null,null,null,null,null,null,null,null,null,null,null,{"$f":"IF(AND(D201>0,AC201=\"\"),\"  * No olvide digitar la variable  Usuarios con Discapacidad. Digite Cero si no tiene.\",IF(AC201>D201,\" * La variable Usuarios con Discapacidad no pueden superar el Total Ambos Sexos.\",\"\"))","v":""},null,{"$f":"IF((AE201+AF201+AG201)>D201,\" * El total de actividades de JUNJI, INTEGRA y MINEDUC no puede ser mayor al Total Ambos Sexos.\",\"\")","v":""},null,null,null,null,null,null,null,null,null,{"$f":"IF((AE201+AF201+AG201)>D201,1,0)","v":0},{"$f":"IF(AND(D201>0,AC201=\"\"),1,IF(AC201>D201,1,0))","v":0}]
["Nº de niños con índice ceod=0 al ingreso ",null,null,{"$f":"SUM(E202+F202)","v":0},{"$f":"+K202+M202+O202+Q202+S202","v":0},0,null,null,null,null,null,null,null,null,null,null,null,null,null,null,null,null,null,null,null,null,null,null,null,0,null,null,null,{"$f":"CW202&CX202&CY202&CZ202&DA202","v":""},null,null,null,null,null,null,null,null,null,null,null,null,null,null,null,null,null,null,null,null,null,null,null,null,null,null,null,null,null,null,null,null,null,null,null,null,null,null,null,null,null,null,null,null,null,null,null,null,null,null,null,null,null,null,null,null,null,null,null,null,null,null,null,null,null,null,null,{"$f":"IF(AND(D202>0,AC202=\"\"),\"  * No olvide digitar la variable  Usuarios con Discapacidad. Digite Cero si no tiene.\",IF(AC202>D202,\" * La variable Usuarios con Discapacidad no pueden superar el Total Ambos Sexos.\",\"\"))","v":""},null,{"$f":"IF((AE202+AF202+AG202)>D202,\" * El total de actividades de JUNJI, INTEGRA y MINEDUC no puede ser mayor al Total Ambos Sexos.\",\"\")","v":""},null,null,null,null,null,null,null,null,null,{"$f":"IF((AE202+AF202+AG202)>D202,1,0)","v":0},{"$f":"IF(AND(D202>0,AC202=\"\"),1,IF(AC202>D202,1,0))","v":0}]
["Set de higiene oral entregados ",null,null,{"$f":"SUM(E203+F203)","v":0},0,0,null,null,null,null,null,null,null,null,null,null,null,null,null,null,null,null,null,null,null,null,null,null,null,0,null,null,null,"",null,null,null,null,null,null,null,null,null,null,null,null,null,null,null,null,null,null,null,null,null,null,null,null,null,null,null,null,null,null,null,null,null,null,null,null,null,null,null,null,null,null,null,null,null,null,null,null,null,null,null,null,null,null,null,null,null,null,null,null,null,null,null,null,null,null,null,"",null,"",null,null,null,null,null,null,null,null,null,0,0]
["Nº de aplicaciones flúor barniz ",null,null,{"$f":"SUM(E204+F204)","v":0},0,0,null,null,null,null,null,null,null,null,null,null,null,null,null,null,null,null,null,null,null,null,null,null,null,0,null,null,null,"",null,null,null,null,null,null,null,null,null,null,null,null,null,null,null,null,null,null,null,null,null,null,null,null,null,null,null,null,null,null,null,null,null,null,null,null,null,null,null,null,null,null,null,null,null,null,null,null,null,null,null,null,null,null,null,null,null,null,null,null,null,null,null,null,null,null,null,"",null,{"$f":"IF((AE204+AF204+AG204)>D204,\" * El total de actividades de JUNJI, INTEGRA y MINEDUC no puede ser mayor al Total Ambos Sexos.\",\"\")","v":""},null,null,null,null,null,null,null,null,null,0,0]
["Educación grupal en establecimiento de educación ",null,null,null,null,null,null,null,null,null,null,null,null,null,null,null,null,null,null,null,null,null,null,null,null,null,null,null,null,0,null,null,null,""]
["N° de establecimientos de educación con programa implementado",null,null,null,null,null,null,null,null,null,null,null,null,null,null,null,null,null,null,null,null,null,null,null,null,null,null,null,null,0,null,null,null,""]
["SECCIÓN H: SEDACIÓN Y ANESTESIA"]
["ACTIVIDAD",null,null,"TOTAL",null,null,"RANGO ETARIO Y SEXO"]
[null,null,null,null,null,null,"Menos de 1 año",null,"1 año",null,"2 años",null,"3 años",null,"4 años",null,"5 años",null,"6 años",null,"7 años",null,"8-9 años",null,"10-14 años",null,"15-19 años",null,"20-24 años ",null,"25-34 años",null,"35-44 años",null,"45-59 años",null,"60-64 años",null,"65-74 años",null,"75 y más años"]
[null,null,null,"Ambos Sexos","Hombres","Mujeres","Hombres","Mujeres","Hombres","Mujeres","Hombres","Mujeres","Hombres","Mujeres","Hombres","Mujeres","Hombres","Mujeres","Hombres","Mujeres","Hombres","Mujeres","Hombres","Mujeres","Hombres","Mujeres","Hombres","Mujeres","Hombres","Mujeres","Hombres","Mujeres","Hombres","Mujeres","Hombres","Mujeres","Hombres","Mujeres","Hombres","Mujeres","Hombres","Mujeres"]
["Atención bajo sedación inhalatoria (con óxido nitroso)",null,null,{"$f":"SUM(E211:F211)","v":0},{"$f":"SUM(G211+I211+K211+M211+O211+Q211+S211+U211+W211+Y211+AA211+AC211+AE211+AG211+AI211+AK211+AM211+AO211)","v":0},{"$f":"SUM(H211+J211+L211+N211+P211+R211+T211+V211+X211+Z211+AB211+AD211+AF211+AH211+AJ211+AL211+AN211+AP211)","v":0}]
["Sedación endovenosa ",null,null,{"$f":"SUM(E212:F212)","v":0},0,0]
["Atención bajo anestesia general ",null,null,{"$f":"SUM(E213:F213)","v":0},0,0]
["Atención bajo sedación oral ",null,null,{"$f":"SUM(E214:F214)","v":0},0,0]
["SECCIÓN I:  CONSULTAS, INGRESOS Y EGRESOS EN ESPECIALIDADES ODONTOLÓGICAS REALIZADOS EN NIVEL PRIMARIO Y SECUNDARIO DE SALUD"]
["ESPECIALIDAD Y TIPO DE INGRESO O EGRESO.",null,null,"TOTAL   ",null,null,"RANGO ETARIO Y SEXO",null,null,null,null,null,null,null,null,null,null,null,null,null,null,null,null,null,null,null,null,null,null,null,null,null,null,null,null,null,null,null,null,null,"Embarazadas","60 años (incluido en grupos de  60-64 años)","Consultas Pertinentes ",null,"Inasistente","Compra de Servicio","Operatoria","Usuarios con Discapacidad","Usuarios Oncológicos","Migrantes"]
[null,null,null,null,null,null,"Menos de 1 año - 1 año",null,"2 años",null,"3 años",null,"4 años",null,"5 años",null,"6 años",null,"7 años",null,"8-9 años",null,"10-14 años",null,"15-19 años",null,"20-24 años ",null,"25-34 años",null,"35-44 años",null,"45-59 años",null,"60-64 años",null,"65-74 años",null,"75 y más años",null,null,null,"Según Protocolo de Referencia","Según condición clínica"]
[null,null,null,"Ambos Sexos","Hombres","Mujeres","Hombres","Mujeres","Hombres","Mujeres","Hombres","Mujeres","Hombres","Mujeres","Hombres","Mujeres","Hombres","Mujeres","Hombres","Mujeres","Hombres","Mujeres","Hombres","Mujeres","Hombres","Mujeres","Hombres","Mujeres","Hombres","Mujeres","Hombres","Mujeres","Hombres","Mujeres","Hombres","Mujeres","Hombres","Mujeres","Hombres","Mujeres"]
["Consultas ","Consultas de urgencia GES",null,{"$f":"SUM(E219+F219)","v":0},{"$f":"SUM(G219+I219+K219+M219+O219+Q219+S219+U219+W219+Y219+AA219+AC219+AE219+AG219+AI219+AK219+AM219)","v":0},0,null,null,null,null,null,null,null,null,null,null,null,null,null,null,null,null,null,null,null,null,null,null,null,null,null,null,null,null,null,null,null,null,null,null,null,null,null,null,null,null,null,null,null,null,{"$f":"CW219&CX219&CY219&CZ219&DA219&DB219&DC219","v":""},null,null,null,null,null,null,null,null,null,null,null,null,null,null,null,null,null,null,null,null,null,null,null,null,null,null,null,null,null,null,null,null,null,null,null,null,null,null,null,null,null,null,null,null,null,null,null,null,null,{"$f":"IF(AND(F219>0,AO219=\"\"),\"  * No olvide digitar Embarazadas. Digite Cero si no tiene.\",IF(AO219>F219,\" * Las Embarazadas no pueden superar el Total Mujeres.\",\"\"))","v":""},{"$f":"IF(AND(D219>0,AV219=\"\"),\" * No olvide ingresar datos en Usuarios con Discapacidad. (Digite cero si no tiene).\",IF(AV219>D219,\" * La variable Usuarios con discapacidad No puede ser mayor al Total.\",\"\"))","v":""},{"$f":"IF(AND(D219>0,AW219=\"\"),\" * No olvide ingresar datos en Usuarios Oncológicos. (Digite cero si no tiene).\",IF(AW219>D219,\" * La variable Usuarios oncológicos No puede ser mayor al Total.\",\"\"))","v":""},{"$f":"IF(AND((AI219+AJ219)>0,AP219=\"\"),\" * No olvide digitar la variable 60 años. Si no tiene digite Cero.\",IF(AP219>(AI219+AJ219), \"* El número de pacientes de 60 años NO DEBE ser mayor a lo registrado en el grupo etario de 60 a 64 años.\",\"\"))","v":""},{"$f":"IF(AND(D219>0,AX219=\"\"),\" * No olvide ingresar datos en Usuarios Migrantes. (Digite cero si no tiene).\",\"\")","v":""},{"$f":"IF(AX219>D219, \"* Migrantes no puede ser mayor al Total\",\"\")","v":""},null,null,null,null,{"$f":"IF(AND(F219>0,AO219=\"\"),1,IF(AO219>F219,1,0))","v":0},{"$f":"IF(AND(D219>0,AV219=\"\"),1,IF(AV219>D219,1,0))","v":0},{"$f":"IF(AND(D219>0,AW219=\"\"),1,IF(AW219>D219,1,0))","v":0},{"$f":"IF(AND((AI219+AJ219)>0,AP219=\"\"),1,IF(AP219>(AI219+AJ219),1,0))","v":0},{"$f":"IF(AND(D219>0,AX219=\"\"),1,0)","v":0},{"$f":"IF(AX219>D219,1,0)","v":0}]
[null,"Consulta de urgencia no GES",null,{"$f":"SUM(E220+F220)","v":0},0,0,null,null,null,null,null,null,null,null,null,null,null,null,null,null,null,null,null,null,null,null,null,null,null,null,null,null,null,null,null,null,null,null,null,null,null,null,null,null,null,null,null,null,null,null,{"$f":"CW220&CX220&CY220&CZ220&DA220&DB220&DC220","v":""},null,null,null,null,null,null,null,null,null,null,null,null,null,null,null,null,null,null,null,null,null,null,null,null,null,null,null,null,null,null,null,null,null,null,null,null,null,null,null,null,null,null,null,null,null,null,null,null,null,{"$f":"IF(AND(F220>0,AO220=\"\"),\"  * No olvide digitar Embarazadas. Digite Cero si no tiene.\",IF(AO220>F220,\" * Las Embarazadas no pueden superar el Total Mujeres.\",\"\"))","v":""},{"$f":"IF(AND(D220>0,AV220=\"\"),\" * No olvide ingresar datos en Usuarios con Discapacidad. (Digite cero si no tiene).\",IF(AV220>D220,\" * La variable Usuarios con discapacidad No puede ser mayor al Total.\",\"\"))","v":""},{"$f":"IF(AND(D220>0,AW220=\"\"),\" * No olvide ingresar datos en Usuarios Oncológicos. (Digite cero si no tiene).\",IF(AW220>D220,\" * La variable Usuarios oncológicos No puede ser mayor al Total.\",\"\"))","v":""},{"$f":"IF(AND((AI220+AJ220)>0,AP220=\"\"),\" * No olvide digitar la variable 60 años. Si no tiene digite Cero.\",IF(AP220>(AI220+AJ220), \"* El número de pacientes de 60 años NO DEBE ser mayor a lo registrado en el grupo etario de 60 a 64 años.\",\"\"))","v":""},{"$f":"IF(AND(D220>0,AX220=\"\"),\" * No olvide ingresar datos en Usuarios Migrantes. (Digite cero si no tiene).\",\"\")","v":""},{"$f":"IF(AX220>D220, \"* Migrantes no puede ser mayor al Total\",\"\")","v":""},null,null,null,null,{"$f":"IF(AND(F220>0,AO220=\"\"),1,IF(AO220>F220,1,0))","v":0},{"$f":"IF(AND(D220>0,AV220=\"\"),1,IF(AV220>D220,1,0))","v":0},{"$f":"IF(AND(D220>0,AW220=\"\"),1,IF(AW220>D220,1,0))","v":0},{"$f":"IF(AND((AI220+AJ220)>0,AP220=\"\"),1,IF(AP220>(AI220+AJ220),1,0))","v":0},{"$f":"IF(AND(D220>0,AX220=\"\"),1,0)","v":0},{"$f":"IF(AX220>D220,1,0)","v":0}]
["Cirugía bucal ","Consulta nueva  ",null,0,0,0,null,null,null,null,null,null,null,null,null,null,null,null,null,null,null,null,null,null,null,null,null,null,null,null,null,null,null,null,null,null,null,null,null,null,null,null,null,null,null,null,null,null,null,null,"",null,null,null,null,null,null,null,null,null,null,null,null,null,null,null,null,null,null,null,null,null,null,null,null,null,null,null,null,null,null,null,null,null,null,null,null,null,null,null,null,null,null,null,null,null,null,null,null,null,"","","","","","",null,null,null,null,0,0,0,0,0,0]
[null,"Control  ",null,0,0,0,null,null,null,null,null,null,null,null,null,null,null,null,null,null,null,null,null,null,null,null,null,null,null,null,null,null,null,null,null,null,null,null,null,null,null,null,null,null,null,null,null,null,null,null,"",null,null,null,null,null,null,null,null,null,null,null,null,null,null,null,null,null,null,null,null,null,null,null,null,null,null,null,null,null,null,null,null,null,null,null,null,null,null,null,null,null,null,null,null,null,null,null,null,null,"","","","","","",null,null,null,null,0,0,0,0,0,0]
[null,"Ingreso a tratamiento ",null,0,0,0,null,null,null,null,null,null,null,null,null,null,null,null,null,null,null,null,null,null,null,null,null,null,null,null,null,null,null,null,null,null,null,null,null,null,null,null,null,null,null,null,null,null,null,null,"",null,null,null,null,null,null,null,null,null,null,null,null,null,null,null,null,null,null,null,null,null,null,null,null,null,null,null,null,null,null,null,null,null,null,null,null,null,null,null,null,null,null,null,null,null,null,null,null,null,"","","","","","",null,null,null,null,0,0,0,0,0,0]
[null,"Altas de tratamiento ",null,0,0,0,null,null,null,null,null,null,null,null,null,null,null,null,null,null,null,null,null,null,null,null,null,null,null,null,null,null,null,null,null,null,null,null,null,null,null,null,null,null,null,null,null,null,null,null,"",null,null,null,null,null,null,null,null,null,null,null,null,null,null,null,null,null,null,null,null,null,null,null,null,null,null,null,null,null,null,null,null,null,null,null,null,null,null,null,null,null,null,null,null,null,null,null,null,null,"","","","","","",null,null,null,null,0,0,0,0,0,0]
[null,"Control de especialidad post alta ",null,0,0,0,null,null,null,null,null,null,null,null,null,null,null,null,null,null,null,null,null,null,null,null,null,null,null,null,null,null,null,null,null,null,null,null,null,null,null,null,null,null,null,null,null,null,null,null,"",null,null,null,null,null,null,null,null,null,null,null,null,null,null,null,null,null,null,null,null,null,null,null,null,null,null,null,null,null,null,null,null,null,null,null,null,null,null,null,null,null,null,null,null,null,null,null,null,null,"","","","","","",null,null,null,null,0,0,0,0,0,0]
[null,"Altas administrativas ",null,0,{"$f":"SUM(I226+K226+M226+O226+Q226+S226+U226+W226+Y226+AA226+AC226+AE226+AG226+AI226+AK226+AM226)","v":0},{"$f":"SUM(J226+L226+N226+P226+R226+T226+V226+X226+Z226+AB226+AD226+AF226+AH226+AJ226+AL226+AN226)","v":0},null,null,null,null,null,null,null,null,null,null,null,null,null,null,null,null,null,null,null,null,null,null,null,null,null,null,null,null,null,null,null,null,null,null,null,null,null,null,null,null,null,null,null,null,"",null,null,null,null,null,null,null,null,null,null,null,null,null,null,null,null,null,null,null,null,null,null,null,null,null,null,null,null,null,null,null,null,null,null,null,null,null,null,null,null,null,null,null,null,null,null,null,null,null,"","","","","","",null,null,null,null,0,0,0,0,0,0]
["Cirugía y traumatología maxilofacial ","Consulta nueva  ",null,0,0,0,null,null,null,null,null,null,null,null,null,null,null,null,null,null,null,null,null,null,null,null,null,null,null,null,null,null,null,null,null,null,null,null,null,null,null,null,null,null,null,null,null,null,null,null,"",null,null,null,null,null,null,null,null,null,null,null,null,null,null,null,null,null,null,null,null,null,null,null,null,null,null,null,null,null,null,null,null,null,null,null,null,null,null,null,null,null,null,null,null,null,null,null,null,null,"","","","","","",null,null,null,null,0,0,0,0,0,0]
[null,"Control  ",null,0,0,0,null,null,null,null,null,null,null,null,null,null,null,null,null,null,null,null,null,null,null,null,null,null,null,null,null,null,null,null,null,null,null,null,null,null,null,null,null,null,null,null,null,null,null,null,"",null,null,null,null,null,null,null,null,null,null,null,null,null,null,null,null,null,null,null,null,null,null,null,null,null,null,null,null,null,null,null,null,null,null,null,null,null,null,null,null,null,null,null,null,null,null,null,null,null,"","","","","","",null,null,null,null,0,0,0,0,0,0]
[null,"Ingreso a tratamiento ",null,0,0,0,null,null,null,null,null,null,null,null,null,null,null,null,null,null,null,null,null,null,null,null,null,null,null,null,null,null,null,null,null,null,null,null,null,null,null,null,null,null,null,null,null,null,null,null,"",null,null,null,null,null,null,null,null,null,null,null,null,null,null,null,null,null,null,null,null,null,null,null,null,null,null,null,null,null,null,null,null,null,null,null,null,null,null,null,null,null,null,null,null,null,null,null,null,null,"","","","","","",null,null,null,null,0,0,0,0,0,0]
[null,"Altas de tratamiento ",null,0,0,0,null,null,null,null,null,null,null,null,null,null,null,null,null,null,null,null,null,null,null,null,null,null,null,null,null,null,null,null,null,null,null,null,null,null,null,null,null,null,null,null,null,null,null,null,"",null,null,null,null,null,null,null,null,null,null,null,null,null,null,null,null,null,null,null,null,null,null,null,null,null,null,null,null,null,null,null,null,null,null,null,null,null,null,null,null,null,null,null,null,null,null,null,null,null,"","","","","","",null,null,null,null,0,0,0,0,0,0]
[null,"Control de especialidad post alta ",null,0,0,0,null,null,null,null,null,null,null,null,null,null,null,null,null,null,null,null,null,null,null,null,null,null,null,null,null,null,null,null,null,null,null,null,null,null,null,null,null,null,null,null,null,null,null,null,"",null,null,null,null,null,null,null,null,null,null,null,null,null,null,null,null,null,null,null,null,null,null,null,null,null,null,null,null,null,null,null,null,null,null,null,null,null,null,null,null,null,null,null,null,null,null,null,null,null,"","","","","","",null,null,null,null,0,0,0,0,0,0]
[null,"Altas administrativas ",null,0,{"$f":"SUM(I232+K232+M232+O232+Q232+S232+U232+W232+Y232+AA232+AC232+AE232+AG232+AI232+AK232+AM232)","v":0},{"$f":"SUM(J232+L232+N232+P232+R232+T232+V232+X232+Z232+AB232+AD232+AF232+AH232+AJ232+AL232+AN232)","v":0},null,null,null,null,null,null,null,null,null,null,null,null,null,null,null,null,null,null,null,null,null,null,null,null,null,null,null,null,null,null,null,null,null,null,null,null,null,null,null,null,null,null,null,null,"",null,null,null,null,null,null,null,null,null,null,null,null,null,null,null,null,null,null,null,null,null,null,null,null,null,null,null,null,null,null,null,null,null,null,null,null,null,null,null,null,null,null,null,null,null,null,null,null,null,"","","","","","",null,null,null,null,0,0,0,0,0,0]
["Endodoncia ","Consulta nueva  ",null,0,0,0,null,null,null,null,null,null,null,null,null,null,null,null,null,null,null,null,null,null,null,null,null,null,null,null,null,null,null,null,null,null,null,null,null,null,null,null,null,null,null,null,null,null,null,null,"",null,null,null,null,null,null,null,null,null,null,null,null,null,null,null,null,null,null,null,null,null,null,null,null,null,null,null,null,null,null,null,null,null,null,null,null,null,null,null,null,null,null,null,null,null,null,null,null,null,"","","","","","",null,null,null,null,0,0,0,0,0,0]
[null,"Control  ",null,0,0,0,null,null,null,null,null,null,null,null,null,null,null,null,null,null,null,null,null,null,null,null,null,null,null,null,null,null,null,null,null,null,null,null,null,null,null,null,null,null,null,null,null,null,null,null,"",null,null,null,null,null,null,null,null,null,null,null,null,null,null,null,null,null,null,null,null,null,null,null,null,null,null,null,null,null,null,null,null,null,null,null,null,null,null,null,null,null,null,null,null,null,null,null,null,null,"","","","","","",null,null,null,null,0,0,0,0,0,0]
[null,"Ingreso a tratamiento ",null,0,{"$f":"SUM(G235+I235+K235+M235+O235+Q235+S235+U235+W235+Y235+AA235+AC235+AE235+AG235+AI235+AK235+AM235)","v":0},0,null,null,null,null,null,null,null,null,null,null,null,null,null,null,null,null,null,null,null,null,null,null,null,null,null,null,null,null,null,null,null,null,null,null,null,null,null,null,null,null,null,null,null,null,"",null,null,null,null,null,null,null,null,null,null,null,null,null,null,null,null,null,null,null,null,null,null,null,null,null,null,null,null,null,null,null,null,null,null,null,null,null,null,null,null,null,null,null,null,null,null,null,null,null,"","","","","","",null,null,null,null,0,0,0,0,0,0]
[null,"Altas de tratamiento ",null,0,0,0,null,null,null,null,null,null,null,null,null,null,null,null,null,null,null,null,null,null,null,null,null,null,null,null,null,null,null,null,null,null,null,null,null,null,null,null,null,null,null,null,null,null,null,null,"",null,null,null,null,null,null,null,null,null,null,null,null,null,null,null,null,null,null,null,null,null,null,null,null,null,null,null,null,null,null,null,null,null,null,null,null,null,null,null,null,null,null,null,null,null,null,null,null,null,"","","","","","",null,null,null,null,0,0,0,0,0,0]
[null,"Control de especialidad post alta ",null,0,0,0,null,null,null,null,null,null,null,null,null,null,null,null,null,null,null,null,null,null,null,null,null,null,null,null,null,null,null,null,null,null,null,null,null,null,null,null,null,null,null,null,null,null,null,null,"",null,null,null,null,null,null,null,null,null,null,null,null,null,null,null,null,null,null,null,null,null,null,null,null,null,null,null,null,null,null,null,null,null,null,null,null,null,null,null,null,null,null,null,null,null,null,null,null,null,"","","","","","",null,null,null,null,0,0,0,0,0,0]
[null,"Altas administrativas ",null,0,{"$f":"SUM(I238+K238+M238+O238+Q238+S238+U238+W238+Y238+AA238+AC238+AE238+AG238+AI238+AK238+AM238)","v":0},{"$f":"SUM(J238+L238+N238+P238+R238+T238+V238+X238+Z238+AB238+AD238+AF238+AH238+AJ238+AL238+AN238)","v":0},null,null,null,null,null,null,null,null,null,null,null,null,null,null,null,null,null,null,null,null,null,null,null,null,null,null,null,null,null,null,null,null,null,null,null,null,null,null,null,null,null,null,null,null,"",null,null,null,null,null,null,null,null,null,null,null,null,null,null,null,null,null,null,null,null,null,null,null,null,null,null,null,null,null,null,null,null,null,null,null,null,null,null,null,null,null,null,null,null,null,null,null,null,null,"","","","","","",null,null,null,null,0,0,0,0,0,0]
["Odontopediatría ","Consulta nueva  ",null,{"$f":"SUM(E239+F239)","v":0},0,0,null,null,null,null,null,null,null,null,null,null,null,null,null,null,null,null,null,null,null,null,null,null,null,null,null,null,null,null,null,null,null,null,null,null,null,null,null,null,null,null,null,null,null,null,"",null,null,null,null,null,null,null,null,null,null,null,null,null,null,null,null,null,null,null,null,null,null,null,null,null,null,null,null,null,null,null,null,null,null,null,null,null,null,null,null,null,null,null,null,null,null,null,null,null,"","","",null,"","",null,null,null,null,0,0,0,null,0,0]
[null,"Control  ",null,0,0,0,null,null,null,null,null,null,null,null,null,null,null,null,null,null,null,null,null,null,null,null,null,null,null,null,null,null,null,null,null,null,null,null,null,null,null,null,null,null,null,null,null,null,null,null,"",null,null,null,null,null,null,null,null,null,null,null,null,null,null,null,null,null,null,null,null,null,null,null,null,null,null,null,null,null,null,null,null,null,null,null,null,null,null,null,null,null,null,null,null,null,null,null,null,null,"","","",null,"","",null,null,null,null,0,0,0,null,0,0]
[null,"Ingreso a tratamiento ",null,0,0,0,null,null,null,null,null,null,null,null,null,null,null,null,null,null,null,null,null,null,null,null,null,null,null,null,null,null,null,null,null,null,null,null,null,null,null,null,null,null,null,null,null,null,null,null,"",null,null,null,null,null,null,null,null,null,null,null,null,null,null,null,null,null,null,null,null,null,null,null,null,null,null,null,null,null,null,null,null,null,null,null,null,null,null,null,null,null,null,null,null,null,null,null,null,null,"","","",null,"","",null,null,null,null,0,0,0,null,0,0]
[null,"Altas de tratamiento ",null,0,0,0,null,null,null,null,null,null,null,null,null,null,null,null,null,null,null,null,null,null,null,null,null,null,null,null,null,null,null,null,null,null,null,null,null,null,null,null,null,null,null,null,null,null,null,null,"",null,null,null,null,null,null,null,null,null,null,null,null,null,null,null,null,null,null,null,null,null,null,null,null,null,null,null,null,null,null,null,null,null,null,null,null,null,null,null,null,null,null,null,null,null,null,null,null,null,"","","",null,"","",null,null,null,null,0,0,0,null,0,0]
[null,"Control de especialidad post alta ",null,0,0,0,null,null,null,null,null,null,null,null,null,null,null,null,null,null,null,null,null,null,null,null,null,null,null,null,null,null,null,null,null,null,null,null,null,null,null,null,null,null,null,null,null,null,null,null,"",null,null,null,null,null,null,null,null,null,null,null,null,null,null,null,null,null,null,null,null,null,null,null,null,null,null,null,null,null,null,null,null,null,null,null,null,null,null,null,null,null,null,null,null,null,null,null,null,null,"","","",null,"","",null,null,null,null,0,0,0,null,0,0]
[null,"Altas administrativas ",null,0,{"$f":"SUM(I244+K244+M244+O244+Q244+S244+U244+W244+Y244+AA244+AC244+AE244+AG244+AI244+AK244+AM244)","v":0},{"$f":"SUM(J244+L244+N244+P244+R244+T244+V244+X244+Z244+AB244+AD244+AF244+AH244+AJ244+AL244+AN244)","v":0},null,null,null,null,null,null,null,null,null,null,null,null,null,null,null,null,null,null,null,null,null,null,null,null,null,null,null,null,null,null,null,null,null,null,null,null,null,null,null,null,null,null,null,null,"",null,null,null,null,null,null,null,null,null,null,null,null,null,null,null,null,null,null,null,null,null,null,null,null,null,null,null,null,null,null,null,null,null,null,null,null,null,null,null,null,null,null,null,null,null,null,null,null,null,"","","",null,"","",null,null,null,null,0,0,0,null,0,0]
["Ortodoncia y ortopedia dento maxilofacial: Aparatología fija","Consulta nueva  ",null,0,0,0,null,null,null,null,null,null,null,null,null,null,null,null,null,null,null,null,null,null,null,null,null,null,null,null,null,null,null,null,null,null,null,null,null,null,null,null,null,null,null,null,null,null,null,null,"",null,null,null,null,null,null,null,null,null,null,null,null,null,null,null,null,null,null,null,null,null,null,null,null,null,null,null,null,null,null,null,null,null,null,null,null,null,null,null,null,null,null,null,null,null,null,null,null,null,null,"","",null,"","",null,null,null,null,null,0,0,null,0,0]
[null,"Control  ",null,0,0,0,null,null,null,null,null,null,null,null,null,null,null,null,null,null,null,null,null,null,null,null,null,null,null,null,null,null,null,null,null,null,null,null,null,null,null,null,null,null,null,null,null,null,null,null,"",null,null,null,null,null,null,null,null,null,null,null,null,null,null,null,null,null,null,null,null,null,null,null,null,null,null,null,null,null,null,null,null,null,null,null,null,null,null,null,null,null,null,null,null,null,null,null,null,null,null,"","",null,"","",null,null,null,null,null,0,0,null,0,0]
[null,"Ingreso a tratamiento ",null,0,0,0,null,null,null,null,null,null,null,null,null,null,null,null,null,null,null,null,null,null,null,null,null,null,null,null,null,null,null,null,null,null,null,null,null,null,null,null,null,null,null,null,null,null,null,null,"",null,null,null,null,null,null,null,null,null,null,null,null,null,null,null,null,null,null,null,null,null,null,null,null,null,null,null,null,null,null,null,null,null,null,null,null,null,null,null,null,null,null,null,null,null,null,null,null,null,null,"","",null,"","",null,null,null,null,null,0,0,null,0,0]
[null,"Altas de tratamiento ",null,0,0,0,null,null,null,null,null,null,null,null,null,null,null,null,null,null,null,null,null,null,null,null,null,null,null,null,null,null,null,null,null,null,null,null,null,null,null,null,null,null,null,null,null,null,null,null,"",null,null,null,null,null,null,null,null,null,null,null,null,null,null,null,null,null,null,null,null,null,null,null,null,null,null,null,null,null,null,null,null,null,null,null,null,null,null,null,null,null,null,null,null,null,null,null,null,null,null,"","",null,"","",null,null,null,null,null,0,0,null,0,0]
[null,"Control de especialidad post alta ",null,0,0,0,null,null,null,null,null,null,null,null,null,null,null,null,null,null,null,null,null,null,null,null,null,null,null,null,null,null,null,null,null,null,null,null,null,null,null,null,null,null,null,null,null,null,null,null,"",null,null,null,null,null,null,null,null,null,null,null,null,null,null,null,null,null,null,null,null,null,null,null,null,null,null,null,null,null,null,null,null,null,null,null,null,null,null,null,null,null,null,null,null,null,null,null,null,null,null,"","",null,"","",null,null,null,null,null,0,0,null,0,0]
[null,"Altas administrativas ",null,0,0,0,null,null,null,null,null,null,null,null,null,null,null,null,null,null,null,null,null,null,null,null,null,null,null,null,null,null,null,null,null,null,null,null,null,null,null,null,null,null,null,null,null,null,null,null,"",null,null,null,null,null,null,null,null,null,null,null,null,null,null,null,null,null,null,null,null,null,null,null,null,null,null,null,null,null,null,null,null,null,null,null,null,null,null,null,null,null,null,null,null,null,null,null,null,null,null,"","",null,"","",null,null,null,null,null,0,0,null,0,0]
["Ortodoncia y ortopedia dento maxilofacial: Aparatología removible","Consulta nueva  ",null,0,0,0,null,null,null,null,null,null,null,null,null,null,null,null,null,null,null,null,null,null,null,null,null,null,null,null,null,null,null,null,null,null,null,null,null,null,null,null,null,null,null,null,null,null,null,null,"",null,null,null,null,null,null,null,null,null,null,null,null,null,null,null,null,null,null,null,null,null,null,null,null,null,null,null,null,null,null,null,null,null,null,null,null,null,null,null,null,null,null,null,null,null,null,null,null,null,null,"","",null,"","",null,null,null,null,null,0,0,null,0,0]
[null,"Control  ",null,0,0,0,null,null,null,null,null,null,null,null,null,null,null,null,null,null,null,null,null,null,null,null,null,null,null,null,null,null,null,null,null,null,null,null,null,null,null,null,null,null,null,null,null,null,null,null,"",null,null,null,null,null,null,null,null,null,null,null,null,null,null,null,null,null,null,null,null,null,null,null,null,null,null,null,null,null,null,null,null,null,null,null,null,null,null,null,null,null,null,null,null,null,null,null,null,null,null,"","",null,"","",null,null,null,null,null,0,0,null,0,0]
[null,"Ingreso a tratamiento ",null,0,0,0,null,null,null,null,null,null,null,null,null,null,null,null,null,null,null,null,null,null,null,null,null,null,null,null,null,null,null,null,null,null,null,null,null,null,null,null,null,null,null,null,null,null,null,null,"",null,null,null,null,null,null,null,null,null,null,null,null,null,null,null,null,null,null,null,null,null,null,null,null,null,null,null,null,null,null,null,null,null,null,null,null,null,null,null,null,null,null,null,null,null,null,null,null,null,null,"","",null,"","",null,null,null,null,null,0,0,null,0,0]
[null,"Altas de tratamiento ",null,0,0,0,null,null,null,null,null,null,null,null,null,null,null,null,null,null,null,null,null,null,null,null,null,null,null,null,null,null,null,null,null,null,null,null,null,null,null,null,null,null,null,null,null,null,null,null,"",null,null,null,null,null,null,null,null,null,null,null,null,null,null,null,null,null,null,null,null,null,null,null,null,null,null,null,null,null,null,null,null,null,null,null,null,null,null,null,null,null,null,null,null,null,null,null,null,null,null,"","",null,"","",null,null,null,null,null,0,0,null,0,0]
[null,"Control de especialidad post alta ",null,0,0,0,null,null,null,null,null,null,null,null,null,null,null,null,null,null,null,null,null,null,null,null,null,null,null,null,null,null,null,null,null,null,null,null,null,null,null,null,null,null,null,null,null,null,null,null,"",null,null,null,null,null,null,null,null,null,null,null,null,null,null,null,null,null,null,null,null,null,null,null,null,null,null,null,null,null,null,null,null,null,null,null,null,null,null,null,null,null,null,null,null,null,null,null,null,null,null,"","",null,"","",null,null,null,null,null,0,0,null,0,0]
[null,"Altas administrativas ",null,0,0,0,null,null,null,null,null,null,null,null,null,null,null,null,null,null,null,null,null,null,null,null,null,null,null,null,null,null,null,null,null,null,null,null,null,null,null,null,null,null,null,null,null,null,null,null,"",null,null,null,null,null,null,null,null,null,null,null,null,null,null,null,null,null,null,null,null,null,null,null,null,null,null,null,null,null,null,null,null,null,null,null,null,null,null,null,null,null,null,null,null,null,null,null,null,null,null,"","",null,"","",null,null,null,null,null,0,0,null,0,0]
["Periodoncia ","Consulta nueva  ",null,0,0,0,null,null,null,null,null,null,null,null,null,null,null,null,null,null,null,null,null,null,null,null,null,null,null,null,null,null,null,null,null,null,null,null,null,null,null,null,null,null,null,null,null,null,null,null,"",null,null,null,null,null,null,null,null,null,null,null,null,null,null,null,null,null,null,null,null,null,null,null,null,null,null,null,null,null,null,null,null,null,null,null,null,null,null,null,null,null,null,null,null,null,null,null,null,null,"","","","","","",null,null,null,null,0,0,0,0,0,0]
[null,"Control  ",null,0,0,0,null,null,null,null,null,null,null,null,null,null,null,null,null,null,null,null,null,null,null,null,null,null,null,null,null,null,null,null,null,null,null,null,null,null,null,null,null,null,null,null,null,null,null,null,"",null,null,null,null,null,null,null,null,null,null,null,null,null,null,null,null,null,null,null,null,null,null,null,null,null,null,null,null,null,null,null,null,null,null,null,null,null,null,null,null,null,null,null,null,null,null,null,null,null,"","","","","","",null,null,null,null,0,0,0,0,0,0]
[null,"Ingreso a tratamiento ",null,0,0,0,null,null,null,null,null,null,null,null,null,null,null,null,null,null,null,null,null,null,null,null,null,null,null,null,null,null,null,null,null,null,null,null,null,null,null,null,null,null,null,null,null,null,null,null,"",null,null,null,null,null,null,null,null,null,null,null,null,null,null,null,null,null,null,null,null,null,null,null,null,null,null,null,null,null,null,null,null,null,null,null,null,null,null,null,null,null,null,null,null,null,null,null,null,null,"","","","","","",null,null,null,null,0,0,0,0,0,0]
[null,"Altas de tratamiento ",null,0,0,0,null,null,null,null,null,null,null,null,null,null,null,null,null,null,null,null,null,null,null,null,null,null,null,null,null,null,null,null,null,null,null,null,null,null,null,null,null,null,null,null,null,null,null,null,"",null,null,null,null,null,null,null,null,null,null,null,null,null,null,null,null,null,null,null,null,null,null,null,null,null,null,null,null,null,null,null,null,null,null,null,null,null,null,null,null,null,null,null,null,null,null,null,null,null,"","","","","","",null,null,null,null,0,0,0,0,0,0]
[null,"Control de especialidad post alta ",null,0,0,0,null,null,null,null,null,null,null,null,null,null,null,null,null,null,null,null,null,null,null,null,null,null,null,null,null,null,null,null,null,null,null,null,null,null,null,null,null,null,null,null,null,null,null,null,"",null,null,null,null,null,null,null,null,null,null,null,null,null,null,null,null,null,null,null,null,null,null,null,null,null,null,null,null,null,null,null,null,null,null,null,null,null,null,null,null,null,null,null,null,null,null,null,null,null,"","","","","","",null,null,null,null,0,0,0,0,0,0]
[null,"Altas administrativas ",null,0,0,0,null,null,null,null,null,null,null,null,null,null,null,null,null,null,null,null,null,null,null,null,null,null,null,null,null,null,null,null,null,null,null,null,null,null,null,null,null,null,null,null,null,null,null,null,"",null,null,null,null,null,null,null,null,null,null,null,null,null,null,null,null,null,null,null,null,null,null,null,null,null,null,null,null,null,null,null,null,null,null,null,null,null,null,null,null,null,null,null,null,null,null,null,null,null,"","","","","","",null,null,null,null,0,0,0,0,0,0]
["Rehabilitación: Prótesis fija ","Consulta nueva  ",null,0,{"$f":"+Y263+AA263+AC263+AE263+AG263+AI263+AK263+AM263","v":0},0,null,null,null,null,null,null,null,null,null,null,null,null,null,null,null,null,null,null,null,null,null,null,null,null,null,null,null,null,null,null,null,null,null,null,null,null,null,null,null,null,null,null,null,null,"",null,null,null,null,null,null,null,null,null,null,null,null,null,null,null,null,null,null,null,null,null,null,null,null,null,null,null,null,null,null,null,null,null,null,null,null,null,null,null,null,null,null,null,null,null,null,null,null,null,"","","","","","",null,null,null,null,0,0,0,0,0,0]
[null,"Control  ",null,{"$f":"SUM(E264+F264)","v":0},0,0,null,null,null,null,null,null,null,null,null,null,null,null,null,null,null,null,null,null,null,null,null,null,null,null,null,null,null,null,null,null,null,null,null,null,null,null,null,null,null,null,null,null,null,null,"",null,null,null,null,null,null,null,null,null,null,null,null,null,null,null,null,null,null,null,null,null,null,null,null,null,null,null,null,null,null,null,null,null,null,null,null,null,null,null,null,null,null,null,null,null,null,null,null,null,"","","","","","",null,null,null,null,0,0,0,0,0,0]
[null,"Ingreso a tratamiento ",null,{"$f":"SUM(E265+F265)","v":0},0,0,null,null,null,null,null,null,null,null,null,null,null,null,null,null,null,null,null,null,null,null,null,null,null,null,null,null,null,null,null,null,null,null,null,null,null,null,null,null,null,null,null,null,null,null,"",null,null,null,null,null,null,null,null,null,null,null,null,null,null,null,null,null,null,null,null,null,null,null,null,null,null,null,null,null,null,null,null,null,null,null,null,null,null,null,null,null,null,null,null,null,null,null,null,null,"","","","","","",null,null,null,null,0,0,0,0,0,0]
[null,"Altas de tratamiento ",null,0,0,0,null,null,null,null,null,null,null,null,null,null,null,null,null,null,null,null,null,null,null,null,null,null,null,null,null,null,null,null,null,null,null,null,null,null,null,null,null,null,null,null,null,null,null,null,"",null,null,null,null,null,null,null,null,null,null,null,null,null,null,null,null,null,null,null,null,null,null,null,null,null,null,null,null,null,null,null,null,null,null,null,null,null,null,null,null,null,null,null,null,null,null,null,null,null,"","","","","","",null,null,null,null,0,0,0,0,0,0]
[null,"Control de especialidad post alta ",null,0,0,0,null,null,null,null,null,null,null,null,null,null,null,null,null,null,null,null,null,null,null,null,null,null,null,null,null,null,null,null,null,null,null,null,null,null,null,null,null,null,null,null,null,null,null,null,"",null,null,null,null,null,null,null,null,null,null,null,null,null,null,null,null,null,null,null,null,null,null,null,null,null,null,null,null,null,null,null,null,null,null,null,null,null,null,null,null,null,null,null,null,null,null,null,null,null,"","","","","","",null,null,null,null,0,0,0,0,0,0]
[null,"Altas administrativas ",null,0,0,0,null,null,null,null,null,null,null,null,null,null,null,null,null,null,null,null,null,null,null,null,null,null,null,null,null,null,null,null,null,null,null,null,null,null,null,null,null,null,null,null,null,null,null,null,"",null,null,null,null,null,null,null,null,null,null,null,null,null,null,null,null,null,null,null,null,null,null,null,null,null,null,null,null,null,null,null,null,null,null,null,null,null,null,null,null,null,null,null,null,null,null,null,null,null,"","","","","","",null,null,null,null,0,0,0,0,0,0]
["Rehabilitación: Prótesis removible ","Consulta nueva  ",null,0,0,0,null,null,null,null,null,null,null,null,null,null,null,null,null,null,null,null,null,null,null,null,null,null,null,null,null,null,null,null,null,null,null,null,null,null,null,null,null,null,null,null,null,null,null,null,"",null,null,null,null,null,null,null,null,null,null,null,null,null,null,null,null,null,null,null,null,null,null,null,null,null,null,null,null,null,null,null,null,null,null,null,null,null,null,null,null,null,null,null,null,null,null,null,null,null,"","","","","","",null,null,null,null,0,0,0,0,0,0]
[null,"Control  ",null,0,0,0,null,null,null,null,null,null,null,null,null,null,null,null,null,null,null,null,null,null,null,null,null,null,null,null,null,null,null,null,null,null,null,null,null,null,null,null,null,null,null,null,null,null,null,null,"",null,null,null,null,null,null,null,null,null,null,null,null,null,null,null,null,null,null,null,null,null,null,null,null,null,null,null,null,null,null,null,null,null,null,null,null,null,null,null,null,null,null,null,null,null,null,null,null,null,"","","","","","",null,null,null,null,0,0,0,0,0,0]
[null,"Ingreso a tratamiento ",null,0,0,0,null,null,null,null,null,null,null,null,null,null,null,null,null,null,null,null,null,null,null,null,null,null,null,null,null,null,null,null,null,null,null,null,null,null,null,null,null,null,null,null,null,null,null,null,"",null,null,null,null,null,null,null,null,null,null,null,null,null,null,null,null,null,null,null,null,null,null,null,null,null,null,null,null,null,null,null,null,null,null,null,null,null,null,null,null,null,null,null,null,null,null,null,null,null,"","","","","","",null,null,null,null,0,0,0,0,0,0]
[null,"Altas de tratamiento ",null,0,0,0,null,null,null,null,null,null,null,null,null,null,null,null,null,null,null,null,null,null,null,null,null,null,null,null,null,null,null,null,null,null,null,null,null,null,null,null,null,null,null,null,null,null,null,null,"",null,null,null,null,null,null,null,null,null,null,null,null,null,null,null,null,null,null,null,null,null,null,null,null,null,null,null,null,null,null,null,null,null,null,null,null,null,null,null,null,null,null,null,null,null,null,null,null,null,"","","","","","",null,null,null,null,0,0,0,0,0,0]
[null,"Control de especialidad post alta ",null,0,0,0,null,null,null,null,null,null,null,null,null,null,null,null,null,null,null,null,null,null,null,null,null,null,null,null,null,null,null,null,null,null,null,null,null,null,null,null,null,null,null,null,null,null,null,null,"",null,null,null,null,null,null,null,null,null,null,null,null,null,null,null,null,null,null,null,null,null,null,null,null,null,null,null,null,null,null,null,null,null,null,null,null,null,null,null,null,null,null,null,null,null,null,null,null,null,"","","","","","",null,null,null,null,0,0,0,0,0,0]
[null,"Altas administrativas ",null,0,0,0,null,null,null,null,null,null,null,null,null,null,null,null,null,null,null,null,null,null,null,null,null,null,null,null,null,null,null,null,null,null,null,null,null,null,null,null,null,null,null,null,null,null,null,null,"",null,null,null,null,null,null,null,null,null,null,null,null,null,null,null,null,null,null,null,null,null,null,null,null,null,null,null,null,null,null,null,null,null,null,null,null,null,null,null,null,null,null,null,null,null,null,null,null,null,"","","","","","",null,null,null,null,0,0,0,0,0,0]
["Rehabilitación: Prótesis implantoasistida ","Consulta nueva  ",null,0,0,0,null,null,null,null,null,null,null,null,null,null,null,null,null,null,null,null,null,null,null,null,null,null,null,null,null,null,null,null,null,null,null,null,null,null,null,null,null,null,null,null,null,null,null,null,"",null,null,null,null,null,null,null,null,null,null,null,null,null,null,null,null,null,null,null,null,null,null,null,null,null,null,null,null,null,null,null,null,null,null,null,null,null,null,null,null,null,null,null,null,null,null,null,null,null,"","","","","","",null,null,null,null,0,0,0,0,0,0]
[null,"Control  ",null,0,0,0,null,null,null,null,null,null,null,null,null,null,null,null,null,null,null,null,null,null,null,null,null,null,null,null,null,null,null,null,null,null,null,null,null,null,null,null,null,null,null,null,null,null,null,null,"",null,null,null,null,null,null,null,null,null,null,null,null,null,null,null,null,null,null,null,null,null,null,null,null,null,null,null,null,null,null,null,null,null,null,null,null,null,null,null,null,null,null,null,null,null,null,null,null,null,"","","","","","",null,null,null,null,0,0,0,0,0,0]
[null,"Ingreso a tratamiento ",null,0,0,0,null,null,null,null,null,null,null,null,null,null,null,null,null,null,null,null,null,null,null,null,null,null,null,null,null,null,null,null,null,null,null,null,null,null,null,null,null,null,null,null,null,null,null,null,"",null,null,null,null,null,null,null,null,null,null,null,null,null,null,null,null,null,null,null,null,null,null,null,null,null,null,null,null,null,null,null,null,null,null,null,null,null,null,null,null,null,null,null,null,null,null,null,null,null,"","","","","","",null,null,null,null,0,0,0,0,0,0]
[null,"Altas de tratamiento ",null,0,0,0,null,null,null,null,null,null,null,null,null,null,null,null,null,null,null,null,null,null,null,null,null,null,null,null,null,null,null,null,null,null,null,null,null,null,null,null,null,null,null,null,null,null,null,null,"",null,null,null,null,null,null,null,null,null,null,null,null,null,null,null,null,null,null,null,null,null,null,null,null,null,null,null,null,null,null,null,null,null,null,null,null,null,null,null,null,null,null,null,null,null,null,null,null,null,"","","","","","",null,null,null,null,0,0,0,0,0,0]
[null,"Control de especialidad post alta ",null,0,0,0,null,null,null,null,null,null,null,null,null,null,null,null,null,null,null,null,null,null,null,null,null,null,null,null,null,null,null,null,null,null,null,null,null,null,null,null,null,null,null,null,null,null,null,null,"",null,null,null,null,null,null,null,null,null,null,null,null,null,null,null,null,null,null,null,null,null,null,null,null,null,null,null,null,null,null,null,null,null,null,null,null,null,null,null,null,null,null,null,null,null,null,null,null,null,"","","","","","",null,null,null,null,0,0,0,0,0,0]
[null,"Altas administrativas ",null,0,0,0,null,null,null,null,null,null,null,null,null,null,null,null,null,null,null,null,null,null,null,null,null,null,null,null,null,null,null,null,null,null,null,null,null,null,null,null,null,null,null,null,null,null,null,null,"",null,null,null,null,null,null,null,null,null,null,null,null,null,null,null,null,null,null,null,null,null,null,null,null,null,null,null,null,null,null,null,null,null,null,null,null,null,null,null,null,null,null,null,null,null,null,null,null,null,"","","","","","",null,null,null,null,0,0,0,0,0,0]
["Implantología buco maxilofacial ","Consulta nueva  ",null,0,{"$f":"SUM(G281+I281+K281+M281+O281+Q281+S281+U281+W281+Y281+AA281+AC281+AE281+AG281+AI281+AK281+AM281)","v":0},0,null,null,null,null,null,null,null,null,null,null,null,null,null,null,null,null,null,null,null,null,null,null,null,null,null,null,null,null,null,null,null,null,null,null,null,null,null,null,null,null,null,null,null,null,"",null,null,null,null,null,null,null,null,null,null,null,null,null,null,null,null,null,null,null,null,null,null,null,null,null,null,null,null,null,null,null,null,null,null,null,null,null,null,null,null,null,null,null,null,null,null,null,null,null,"","","","","","",null,null,null,null,0,0,0,0,0,0]
[null,"Control  ",null,0,0,0,null,null,null,null,null,null,null,null,null,null,null,null,null,null,null,null,null,null,null,null,null,null,null,null,null,null,null,null,null,null,null,null,null,null,null,null,null,null,null,null,null,null,null,null,"",null,null,null,null,null,null,null,null,null,null,null,null,null,null,null,null,null,null,null,null,null,null,null,null,null,null,null,null,null,null,null,null,null,null,null,null,null,null,null,null,null,null,null,null,null,null,null,null,null,"","","","","","",null,null,null,null,0,0,0,0,0,0]
[null,"Ingreso a tratamiento ",null,0,0,0,null,null,null,null,null,null,null,null,null,null,null,null,null,null,null,null,null,null,null,null,null,null,null,null,null,null,null,null,null,null,null,null,null,null,null,null,null,null,null,null,null,null,null,null,"",null,null,null,null,null,null,null,null,null,null,null,null,null,null,null,null,null,null,null,null,null,null,null,null,null,null,null,null,null,null,null,null,null,null,null,null,null,null,null,null,null,null,null,null,null,null,null,null,null,"","","","","","",null,null,null,null,0,0,0,0,0,0]
[null,"Altas de tratamiento ",null,0,0,0,null,null,null,null,null,null,null,null,null,null,null,null,null,null,null,null,null,null,null,null,null,null,null,null,null,null,null,null,null,null,null,null,null,null,null,null,null,null,null,null,null,null,null,null,{"$f":"CW284&CX284&CY284&CZ284&DA284&DB284&DC284","v":""},null,null,null,null,null,null,null,null,null,null,null,null,null,null,null,null,null,null,null,null,null,null,null,null,null,null,null,null,null,null,null,null,null,null,null,null,null,null,null,null,null,null,null,null,null,null,null,null,null,{"$f":"IF(AND(F284>0,AO284=\"\"),\"  * No olvide digitar Embarazadas. Digite Cero si no tiene.\",IF(AO284>F284,\" * Las Embarazadas no pueden superar el Total Mujeres.\",\"\"))","v":""},{"$f":"IF(AND(D284>0,AV284=\"\"),\" * No olvide ingresar datos en Usuarios con Discapacidad. (Digite cero si no tiene).\",IF(AV284>D284,\" * La variable Usuarios con discapacidad No puede ser mayor al Total.\",\"\"))","v":""},{"$f":"IF(AND(D284>0,AW284=\"\"),\" * No olvide ingresar datos en Usuarios Oncológicos. (Digite cero si no tiene).\",IF(AW284>D284,\" * La variable Usuarios oncológicos No puede ser mayor al Total.\",\"\"))","v":""},{"$f":"IF(AND((AI284+AJ284)>0,AP284=\"\"),\" * No olvide digitar la variable 60 años. Si no tiene digite Cero.\",IF(AP284>(AI284+AJ284), \"* El número de pacientes de 60 años NO DEBE ser mayor a lo registrado en el grupo etario de 60 a 64 años.\",\"\"))","v":""},{"$f":"IF(AND(D284>0,AX284=\"\"),\" * No olvide ingresar datos en Usuarios Migrantes. (Digite cero si no tiene).\",\"\")","v":""},{"$f":"IF(AX284>D284, \"* Migrantes no puede ser mayor al Total\",\"\")","v":""},null,null,null,null,{"$f":"IF(AND(F284>0,AO284=\"\"),1,IF(AO284>F284,1,0))","v":0},{"$f":"IF(AND(D284>0,AV284=\"\"),1,IF(AV284>D284,1,0))","v":0},{"$f":"IF(AND(D284>0,AW284=\"\"),1,IF(AW284>D284,1,0))","v":0},{"$f":"IF(AND((AI284+AJ284)>0,AP284=\"\"),1,IF(AP284>(AI284+AJ284),1,0))","v":0},{"$f":"IF(AND(D284>0,AX284=\"\"),1,0)","v":0},{"$f":"IF(AX284>D284,1,0)","v":0}]
[null,"Control de especialidad post alta ",null,0,0,0,null,null,null,null,null,null,null,null,null,null,null,null,null,null,null,null,null,null,null,null,null,null,null,null,null,null,null,null,null,null,null,null,null,null,null,null,null,null,null,null,null,null,null,null,"",null,null,null,null,null,null,null,null,null,null,null,null,null,null,null,null,null,null,null,null,null,null,null,null,null,null,null,null,null,null,null,null,null,null,null,null,null,null,null,null,null,null,null,null,null,null,null,null,null,"","","","","","",null,null,null,null,0,0,0,0,0,0]
[null,"Altas administrativas ",null,0,0,0,null,null,null,null,null,null,null,null,null,null,null,null,null,null,null,null,null,null,null,null,null,null,null,null,null,null,null,null,null,null,null,null,null,null,null,null,null,null,null,null,null,null,null,null,"",null,null,null,null,null,null,null,null,null,null,null,null,null,null,null,null,null,null,null,null,null,null,null,null,null,null,null,null,null,null,null,null,null,null,null,null,null,null,null,null,null,null,null,null,null,null,null,null,null,"","","","","","",null,null,null,null,0,0,0,0,0,0]
["Patología oral ","Consulta nueva  ",null,0,0,0,null,null,null,null,null,null,null,null,null,null,null,null,null,null,null,null,null,null,null,null,null,null,null,null,null,null,null,null,null,null,null,null,null,null,null,null,null,null,null,null,null,null,null,null,"",null,null,null,null,null,null,null,null,null,null,null,null,null,null,null,null,null,null,null,null,null,null,null,null,null,null,null,null,null,null,null,null,null,null,null,null,null,null,null,null,null,null,null,null,null,null,null,null,null,"","","","","","",null,null,null,null,0,0,0,0,0,0]
[null,"Control  ",null,0,0,0,null,null,null,null,null,null,null,null,null,null,null,null,null,null,null,null,null,null,null,null,null,null,null,null,null,null,null,null,null,null,null,null,null,null,null,null,null,null,null,null,null,null,null,null,"",null,null,null,null,null,null,null,null,null,null,null,null,null,null,null,null,null,null,null,null,null,null,null,null,null,null,null,null,null,null,null,null,null,null,null,null,null,null,null,null,null,null,null,null,null,null,null,null,null,"","","","","","",null,null,null,null,0,0,0,0,0,0]
[null,"Ingreso a tratamiento ",null,0,0,0,null,null,null,null,null,null,null,null,null,null,null,null,null,null,null,null,null,null,null,null,null,null,null,null,null,null,null,null,null,null,null,null,null,null,null,null,null,null,null,null,null,null,null,null,"",null,null,null,null,null,null,null,null,null,null,null,null,null,null,null,null,null,null,null,null,null,null,null,null,null,null,null,null,null,null,null,null,null,null,null,null,null,null,null,null,null,null,null,null,null,null,null,null,null,"","","","","","",null,null,null,null,0,0,0,0,0,0]
[null,"Altas de tratamiento ",null,0,0,0,null,null,null,null,null,null,null,null,null,null,null,null,null,null,null,null,null,null,null,null,null,null,null,null,null,null,null,null,null,null,null,null,null,null,null,null,null,null,null,null,null,null,null,null,"",null,null,null,null,null,null,null,null,null,null,null,null,null,null,null,null,null,null,null,null,null,null,null,null,null,null,null,null,null,null,null,null,null,null,null,null,null,null,null,null,null,null,null,null,null,null,null,null,null,"","","","","","",null,null,null,null,0,0,0,0,0,0]
[null,"Control de especialidad post alta ",null,0,0,0,null,null,null,null,null,null,null,null,null,null,null,null,null,null,null,null,null,null,null,null,null,null,null,null,null,null,null,null,null,null,null,null,null,null,null,null,null,null,null,null,null,null,null,null,"",null,null,null,null,null,null,null,null,null,null,null,null,null,null,null,null,null,null,null,null,null,null,null,null,null,null,null,null,null,null,null,null,null,null,null,null,null,null,null,null,null,null,null,null,null,null,null,null,null,"","","","","","",null,null,null,null,0,0,0,0,0,0]
[null,"Altas administrativas ",null,0,0,0,null,null,null,null,null,null,null,null,null,null,null,null,null,null,null,null,null,null,null,null,null,null,null,null,null,null,null,null,null,null,null,null,null,null,null,null,null,null,null,null,null,null,null,null,"",null,null,null,null,null,null,null,null,null,null,null,null,null,null,null,null,null,null,null,null,null,null,null,null,null,null,null,null,null,null,null,null,null,null,null,null,null,null,null,null,null,null,null,null,null,null,null,null,null,"","","","","","",null,null,null,null,0,0,0,0,0,0]
["Trastornos temporomandibulares y dolor orofacial ","Consulta nueva  ",null,0,0,0,null,null,null,null,null,null,null,null,null,null,null,null,null,null,null,null,null,null,null,null,null,null,null,null,null,null,null,null,null,null,null,null,null,null,null,null,null,null,null,null,null,null,null,null,"",null,null,null,null,null,null,null,null,null,null,null,null,null,null,null,null,null,null,null,null,null,null,null,null,null,null,null,null,null,null,null,null,null,null,null,null,null,null,null,null,null,null,null,null,null,null,null,null,null,"","","","","","",null,null,null,null,0,0,0,0,0,0]
[null,"Control  ",null,0,0,0,null,null,null,null,null,null,null,null,null,null,null,null,null,null,null,null,null,null,null,null,null,null,null,null,null,null,null,null,null,null,null,null,null,null,null,null,null,null,null,null,null,null,null,null,"",null,null,null,null,null,null,null,null,null,null,null,null,null,null,null,null,null,null,null,null,null,null,null,null,null,null,null,null,null,null,null,null,null,null,null,null,null,null,null,null,null,null,null,null,null,null,null,null,null,"","","","","","",null,null,null,null,0,0,0,0,0,0]
[null,"Ingreso a tratamiento ",null,0,0,0,null,null,null,null,null,null,null,null,null,null,null,null,null,null,null,null,null,null,null,null,null,null,null,null,null,null,null,null,null,null,null,null,null,null,null,null,null,null,null,null,null,null,null,null,"",null,null,null,null,null,null,null,null,null,null,null,null,null,null,null,null,null,null,null,null,null,null,null,null,null,null,null,null,null,null,null,null,null,null,null,null,null,null,null,null,null,null,null,null,null,null,null,null,null,"","","","","","",null,null,null,null,0,0,0,0,0,0]
[null,"Altas de tratamiento ",null,0,0,0,null,null,null,null,null,null,null,null,null,null,null,null,null,null,null,null,null,null,null,null,null,null,null,null,null,null,null,null,null,null,null,null,null,null,null,null,null,null,null,null,null,null,null,null,"",null,null,null,null,null,null,null,null,null,null,null,null,null,null,null,null,null,null,null,null,null,null,null,null,null,null,null,null,null,null,null,null,null,null,null,null,null,null,null,null,null,null,null,null,null,null,null,null,null,"","","","","","",null,null,null,null,0,0,0,0,0,0]
[null,"Control de especialidad post alta ",null,0,0,0,null,null,null,null,null,null,null,null,null,null,null,null,null,null,null,null,null,null,null,null,null,null,null,null,null,null,null,null,null,null,null,null,null,null,null,null,null,null,null,null,null,null,null,null,"",null,null,null,null,null,null,null,null,null,null,null,null,null,null,null,null,null,null,null,null,null,null,null,null,null,null,null,null,null,null,null,null,null,null,null,null,null,null,null,null,null,null,null,null,null,null,null,null,null,"","","","","","",null,null,null,null,0,0,0,0,0,0]
[null,"Altas administrativas ",null,0,0,0,null,null,null,null,null,null,null,null,null,null,null,null,null,null,null,null,null,null,null,null,null,null,null,null,null,null,null,null,null,null,null,null,null,null,null,null,null,null,null,null,null,null,null,null,"",null,null,null,null,null,null,null,null,null,null,null,null,null,null,null,null,null,null,null,null,null,null,null,null,null,null,null,null,null,null,null,null,null,null,null,null,null,null,null,null,null,null,null,null,null,null,null,null,null,"","","","","","",null,null,null,null,0,0,0,0,0,0]
["TOTAL","Consulta nueva  ",null,0,{"$f":"SUM(G299+I299+K299+M299+O299+Q299+S299+U299+W299+Y299+AA299+AC299+AE299+AG299+AI299+AK299+AM299)","v":0},0,{"$f":"+G221+G227+G233+G239+G245+G251+G257+G281+G287+G293","v":0},0,0,0,0,0,0,0,0,0,0,0,0,0,0,0,0,0,{"$f":"+Y221+Y227+Y233+Y239+Y245+Y251+Y257+Y263+Y269+Y275+Y281+Y287+Y293","v":0},{"$f":"+Z221+Z227+Z233+Z239+Z245+Z251+Z257+Z263+Z269+Z275+Z281+Z287+Z293","v":0},0,0,0,0,0,0,0,0,0,0,0,0,0,0,{"$f":"+AO221+AO227+AO233+AO239+AO257+AO263+AO269+AO275+AO281+AO287+AO293","v":0},{"$f":"+AP221+AP227+AP233+AP257+AP263+AP269+AP275+AP281+AP287+AP293","v":0},{"$f":"SUM(AQ221+AQ227+AQ233+AQ239+AQ245+AQ251+AQ257+AQ263+AQ269+AQ275+AQ281+AQ287+AQ293)","v":0},{"$f":"SUM(AR221+AR227+AR233+AR239+AR245+AR251+AR257+AR263+AR269+AR275+AR281+AR287+AR293)","v":0},{"$f":"+AS221+AS227+AS233+AS239+AS245+AS251+AS257+AS263+AS269+AS275+AS281+AS287+AS293","v":0},0,0,0,0,0]
[null,"Control  ",null,0,0,0,0,0,0,0,0,0,0,0,0,0,0,0,0,0,0,0,0,0,{"$f":"+Y222+Y228+Y234+Y240+Y246+Y252+Y258+Y264+Y270+Y276+Y282+Y288+Y294","v":0},0,0,0,0,0,0,0,0,0,0,0,0,0,0,0,0,{"$f":"+AP222+AP228+AP234+AP258+AP264+AP270+AP276+AP282+AP288+AP294","v":0},null,null,0,0,0,0,0,0]
[null,"Ingreso a tratamiento ",null,0,0,0,0,0,0,0,0,0,0,0,0,0,0,0,0,0,0,0,0,0,{"$f":"+Y223+Y229+Y235+Y241+Y247+Y253+Y259+Y265+Y271+Y277+Y283+Y289+Y295","v":0},0,0,0,0,0,0,0,0,0,0,0,0,0,0,0,0,{"$f":"+AP223+AP229+AP235+AP259+AP265+AP271+AP277+AP283+AP289+AP295","v":0},null,null,null,0,0,0,0,0]
[null,"Altas de tratamiento ",null,0,0,0,0,0,0,0,0,0,0,0,0,0,0,0,0,0,0,0,0,0,{"$f":"+Y224+Y230+Y236+Y242+Y248+Y254+Y260+Y266+Y272+Y278+Y284+Y290+Y296","v":0},0,0,0,0,0,0,0,0,0,0,0,0,0,0,0,0,{"$f":"+AP224+AP230+AP236+AP260+AP266+AP272+AP278+AP284+AP290+AP296","v":0},null,null,null,0,0,0,0,0]
[null,"Control de especialidad post alta ",null,0,0,0,0,0,0,0,0,0,0,0,0,0,0,0,0,0,0,0,0,0,{"$f":"+Y225+Y231+Y237+Y243+Y249+Y255+Y261+Y279+Y273+Y267+Y285+Y291+Y297","v":0},{"$f":"+Z225+Z231+Z237+Z243+Z249+Z255+Z261+Z279+Z273+Z267+Z285+Z291+Z297","v":0},0,0,0,0,0,0,0,0,0,0,0,0,0,0,0,{"$f":"+AP225+AP231+AP237+AP261+AP279+AP273+AP267+AP285+AP291+AP297","v":0},null,null,null,{"$f":"+AT225+AT231+AT237+AT243+AT249+AT255+AT261+AT279+AT273+AT267+AT285+AT291+AT297","v":0},{"$f":"+AU225+AU231+AU237+AU243+AU249+AU255+AU261+AU279+AU273+AU267+AU285+AU291+AU297","v":0},{"$f":"+AV225+AV231+AV237+AV243+AV249+AV255+AV261+AV279+AV273+AV267+AV285+AV291+AV297","v":0},{"$f":"+AW225+AW231+AW237+AW243+AW249+AW255+AW261+AW279+AW273+AW267+AW285+AW291+AW297","v":0},{"$f":"+AX225+AX231+AX237+AX243+AX249+AX255+AX261+AX279+AX273+AX267+AX285+AX291+AX297","v":0}]
[null,"Altas administrativas ",null,0,0,0,0,0,0,0,0,0,0,0,0,0,0,0,0,0,0,0,0,0,{"$f":"SUM(Y226+Y232+Y238+Y244+Y250+Y256+Y262+Y268+Y274+Y280+Y286+Y292+Y298)","v":0},{"$f":"SUM(Z226+Z232+Z238+Z244+Z250+Z256+Z262+Z268+Z274+Z280+Z286+Z292+Z298)","v":0},0,0,0,0,0,0,0,0,0,0,0,0,0,0,0,{"$f":"SUM(AP226+AP232+AP238+AP262+AP268+AP274+AP280+AP286+AP292+AP298)","v":0},null,null,null,{"$f":"SUM(AT226+AT232+AT238+AT244+AT250+AT256+AT262+AT268+AT274+AT280+AT286+AT292+AT298)","v":0},{"$f":"SUM(AU226+AU232+AU238+AU244+AU250+AU256+AU262+AU268+AU274+AU280+AU286+AU292+AU298)","v":0},{"$f":"SUM(AV226+AV232+AV238+AV244+AV250+AV256+AV262+AV268+AV274+AV280+AV286+AV292+AV298)","v":0},{"$f":"SUM(AW226+AW232+AW238+AW244+AW250+AW256+AW262+AW268+AW274+AW280+AW286+AW292+AW298)","v":0},{"$f":"SUM(AX226+AX232+AX238+AX244+AX250+AX256+AX262+AX268+AX274+AX280+AX286+AX292+AX298)","v":0}]
["SECCIÓN J: ACTIVIDADES EFECTUADAS POR TÉCNICO PARAMÉDICO DENTAL Y/O HIGIENISTAS DENTALES  "]
["TIPO DE ACTIVIDAD",null,null,"TOTAL",null,null,"RANGO ETARIO Y SEXO",null,null,null,null,null,null,null,null,null,null,null,null,null,null,null,null,null,null,null,null,null,null,null,null,null,null,null,null,null,null,null,null,null,null,null,"Embarazadas","60 años (incluidos en grupos de 60-64 años)"]
[null,null,null,null,null,null,"Menos de 1 año",null,"1 año",null,"2 años",null,"3 años",null,"4 años",null,"5 años",null,"6 años",null,"7 años",null,"8-9 años",null,"10-14 años",null,"15-19 años",null,"20-24 años ",null,"25-34 años",null,"35-44 años",null,"45-59 años",null,"60-64 años",null,"65-74 años",null,"75 y más años"]
[null,null,null,"Ambos Sexos","Hombres","Mujeres","Hombres","Mujeres","Hombres","Mujeres","Hombres","Mujeres","Hombres","Mujeres","Hombres","Mujeres","Hombres","Mujeres","Hombres","Mujeres","Hombres","Mujeres","Hombres","Mujeres","Hombres","Mujeres","Hombres","Mujeres","Hombres","Mujeres","Hombres","Mujeres","Hombres","Mujeres","Hombres","Mujeres","Hombres","Mujeres","Hombres","Mujeres","Hombres","Mujeres"]
["Aplicación de sellantes ",null,null,{"$f":"SUM(E309:F309)","v":0},{"$f":"SUM(G309+I309+K309+M309+O309+Q309+S309+U309+W309+Y309+AA309+AC309+AE309+AG309+AI309+AK309+AM309+AO309)","v":0},0,null,null,null,null,null,null,null,null,null,null,null,null,null,null,null,null,null,null,null,null,null,null,null,null,null,null,null,null,null,null,null,null,null,null,null,null,null,null,{"$f":"CV309&CW309&CX309","v":""},null,null,null,null,null,null,null,null,null,null,null,null,null,null,null,null,null,null,null,null,null,null,null,null,null,null,null,null,null,null,null,null,null,null,null,null,null,null,null,null,null,null,null,null,null,null,null,null,null,null,null,null,null,null,{"$f":"IF(AND(F309>0,AQ309=\"\"),\" * No olvide digitar la variable Embarazadas. Digite cero si no tiene.\",\"\")","v":""},{"$f":"IF(AQ309>F309,\" * Las Embarazadas NO DEBEN ser mayor al total de mujeres. \",\"\")","v":""},{"$f":"IF(AND((AK309+AL309)>0,AR309=\"\"),\" * No olvide digitar la variable 60 años. Si no tiene digite Cero.\",IF(AR309>(AK309+AL309),\" * Las actividades de 60 años NO DEBEN ser mayor que las actividades registradas en el rango etario de 60 a 64 años\",\"\"))","v":""},null,null,null,null,null,null,null,null,{"$f":"IF(AND(F309>0,AQ309=\"\"),1,0)","v":0},{"$f":"IF(AQ309>F309,1,0)","v":0},{"$f":"IF(AND((AK309+AL309)>0,AR309=\"\"),1,IF(AR309>(AK309+AL309),1,0))","v":0}]
["Pulido coronario y destartraje supragingival ",null,null,{"$f":"SUM(E310:F310)","v":0},0,0,null,null,null,null,null,null,null,null,null,null,null,null,null,null,null,null,null,null,null,null,null,null,null,null,null,null,null,null,null,null,null,null,null,null,null,null,null,null,{"$f":"CV310&CW310&CX310","v":""},null,null,null,null,null,null,null,null,null,null,null,null,null,null,null,null,null,null,null,null,null,null,null,null,null,null,null,null,null,null,null,null,null,null,null,null,null,null,null,null,null,null,null,null,null,null,null,null,null,null,null,null,null,null,{"$f":"IF(AND(F310>0,AQ310=\"\"),\" * No olvide digitar la variable Embarazadas. Digite cero si no tiene.\",\"\")","v":""},{"$f":"IF(AQ310>F310,\" * Las Embarazadas NO DEBEN ser mayor al total de mujeres. \",\"\")","v":""},{"$f":"IF(AND((AK310+AL310)>0,AR310=\"\"),\" * No olvide digitar la variable 60 años. Si no tiene digite Cero.\",IF(AR310>(AK310+AL310),\" * Las actividades de 60 años NO DEBEN ser mayor que las actividades registradas en el rango etario de 60 a 64 años\",\"\"))","v":""},null,null,null,null,null,null,null,null,{"$f":"IF(AND(F310>0,AQ310=\"\"),1,0)","v":0},{"$f":"IF(AQ310>F310,1,0)","v":0},{"$f":"IF(AND((AK310+AL310)>0,AR310=\"\"),1,IF(AR310>(AK310+AL310),1,0))","v":0}]
["Fluoración tópica ",null,null,{"$f":"SUM(E311:F311)","v":0},0,0,null,null,null,null,null,null,null,null,null,null,null,null,null,null,null,null,null,null,null,null,null,null,null,null,null,null,null,null,null,null,null,null,null,null,null,null,null,null,"",null,null,null,null,null,null,null,null,null,null,null,null,null,null,null,null,null,null,null,null,null,null,null,null,null,null,null,null,null,null,null,null,null,null,null,null,null,null,null,null,null,null,null,null,null,null,null,null,null,null,null,null,null,null,"","","",null,null,null,null,null,null,null,null,0,0,0]
["Educación individual con instrucción  de técnica de cepillado ",null,null,{"$f":"SUM(E312:F312)","v":0},0,0,null,null,null,null,null,null,null,null,null,null,null,null,null,null,null,null,null,null,null,null,null,null,null,null,null,null,null,null,null,null,null,null,null,null,null,null,null,null,"",null,null,null,null,null,null,null,null,null,null,null,null,null,null,null,null,null,null,null,null,null,null,null,null,null,null,null,null,null,null,null,null,null,null,null,null,null,null,null,null,null,null,null,null,null,null,null,null,null,null,null,null,null,null,"","","",null,null,null,null,null,null,null,null,0,0,0]
["Radiografías intraorales (retroalveolares y bitewing)",null,null,{"$f":"SUM(E313:F313)","v":0},0,0,null,null,null,null,null,null,null,null,null,null,null,null,null,null,null,null,null,null,null,null,null,null,null,null,null,null,null,null,null,null,null,null,null,null,null,null,null,null,"",null,null,null,null,null,null,null,null,null,null,null,null,null,null,null,null,null,null,null,null,null,null,null,null,null,null,null,null,null,null,null,null,null,null,null,null,null,null,null,null,null,null,null,null,null,null,null,null,null,null,null,null,null,null,"","","",null,null,null,null,null,null,null,null,0,0,0]
["SECCIÓN K: CONSULTORÍAS DE ESPECIALIDADES ODONTOLÓGICAS. "]
["ESPECIALIDADES",null,"Nº Consultorías ","Nº de casos revisados por el equipo ","Nº de casos atendidos "]
["Endodoncia "]
["Imagenología oral y Maxilofacial  "]
["Ortodoncia "]
["Odontopediatría "]
["Periodoncia "]
["Rehabilitación oral "]
["Cirugía y Traumatología Maxilofacial "]
["Trastornos Temporomandibulares y dolor Orofacial "]
["Patología oral "]
["Implantología buco Maxilofacial "]
[]
[]
[]
[]
[]
[]
[]
[]
[]
[]
[]
[]
[]
[]
[]
[]
[]
[]
[]
[]
[]
[]
[]
[]
[{"$f":"SUM(D12:D15,D19:D36,D41:D64,D82:D83,D67:D78,D88:D141,D146:D155,D160:D196,D201:D204,D211:D214,D219:D304,D309:D313,C316:E325)","v":0},{"$f":"SUM(DG12:DO313)","v":0}]

{"sheet":"A11","index":10,"n_rows":350,"n_cols":132,"rows_kept":350,"cut":false,"hidden":false,"merged":[[5,0,5,15],[9,0,11,0],[9,1,10,2],[9,3,9,42],[9,43,9,44],[9,45,10,46],[10,19,10,20],[10,21,10,22],[10,23,10,24],[10,25,10,26],[9,47,11,47],[9,48,11,48],[10,3,10,4],[10,5,10,6],[10,7,10,8],[10,9,10,10],[10,11,10,12],[10,13,10,14],[10,15,10,16],[10,17,10,18],[10,39,10,40],[10,41,10,42],[10,43,11,43],[10,44,11,44],[31,0,33,0],[31,1,32,2],[31,3,31,42],[31,43,31,44],[32,17,32,18],[32,19,32,20],[10,27,10,28],[10,29,10,30],[10,31,10,32],[10,33,10,34],[10,35,10,36],[10,37,10,38],[31,47,33,47],[31,48,33,48],[32,3,32,4],[32,5,32,6],[32,7,32,8],[32,9,32,10],[32,11,32,12],[32,13,32,14],[32,15,32,16],[32,44,33,44],[32,33,32,34],[32,35,32,36],[32,37,32,38],[32,39,32,40],[32,41,32,42],[32,43,33,43],[32,21,32,22],[32,23,32,24],[32,25,32,26],[32,27,32,28],[32,29,32,30],[32,31,32,32],[31,45,32,46],[53,47,55,47],[53,48,55,48],[54,3,54,4],[54,5,54,6],[54,7,54,8],[54,9,54,10],[54,11,54,12],[54,13,54,14],[54,15,54,16],[54,17,54,18],[54,39,54,40],[54,41,54,42],[54,43,55,43],[54,44,55,44],[53,3,53,42],[53,43,53,44],[53,45,54,46],[54,19,54,20],[54,21,54,22],[54,23,54,24],[54,25,54,26],[75,0,77,0],[75,1,76,2],[75,3,75,42],[75,43,75,44],[76,17,76,18],[76,19,76,20],[54,27,54,28],[54,29,54,30],[54,31,54,32],[54,33,54,34],[54,35,54,36],[54,37,54,38],[53,0,55,0],[53,1,54,2],[75,47,77,47],[75,48,77,48],[76,3,76,4],[76,5,76,6],[76,7,76,8],[76,9,76,10],[76,11,76,12],[76,13,76,14],[76,15,76,16],[76,44,77,44],[76,33,76,34],[76,35,76,36],[76,37,76,38],[76,39,76,40],[76,41,76,42],[76,43,77,43],[76,21,76,22],[76,23,76,24],[76,25,76,26],[76,27,76,28],[76,29,76,30],[76,31,76,32],[75,45,76,46],[97,0,99,0],[97,1,98,2],[97,3,97,42],[97,43,97,44],[97,45,98,46],[98,19,98,20],[98,21,98,22],[98,23,98,24],[98,25,98,26],[98,27,98,28],[98,29,98,30],[98,31,98,32],[98,33,98,34],[98,35,98,36],[98,37,98,38],[97,47,99,47],[97,48,99,48],[98,3,98,4],[98,5,98,6],[98,7,98,8],[98,9,98,10],[98,11,98,12],[98,13,98,14],[98,15,98,16],[98,17,98,18],[98,39,98,40],[98,41,98,42],[98,43,99,43],[98,44,99,44],[119,45,120,46],[119,47,121,47],[119,48,121,48],[120,3,120,4],[120,5,120,6],[120,7,120,8],[120,9,120,10],[120,11,120,12],[120,13,120,14],[120,15,120,16],[120,44,121,44],[120,37,120,38],[120,39,120,40],[120,41,120,42],[120,43,121,43],[119,3,119,42],[119,43,119,44],[120,17,120,18],[120,19,120,20],[140,0,140,15],[141,0,142,1],[141,2,141,4],[141,5,141,7],[141,8,141,10],[141,11,141,13],[141,14,141,15],[120,33,120,34],[120,35,120,36],[120,21,120,22],[120,23,120,24],[120,25,120,26],[120,27,120,28],[120,29,120,30],[120,31,120,32],[119,0,121,0],[119,1,120,2],[143,0,143,1],[144,0,146,0],[147,0,147,1],[148,0,148,15],[149,0,150,1],[149,2,149,4],[149,5,149,7],[149,8,149,10],[149,11,149,13],[149,14,149,15],[151,0,151,1],[152,0,154,0],[155,0,155,1],[156,0,156,7],[157,0,159,1],[157,2,158,3],[157,4,157,35],[158,14,158,15],[158,16,158,17],[158,18,158,19],[157,36,157,39],[157,40,157,43],[157,44,158,45],[157,46,158,47],[157,48,158,49],[158,4,158,5],[158,6,158,7],[158,8,158,9],[158,10,158,11],[158,12,158,13],[158,38,158,39],[158,40,158,41],[158,42,158,43],[158,20,158,21],[158,22,158,23],[158,24,158,25],[158,26,158,27],[158,28,158,29],[158,30,158,31],[160,0,160,1],[161,0,161,1],[162,0,162,1],[163,0,163,1],[164,0,164,1],[165,0,165,1],[158,32,158,33],[158,34,158,35],[158,36,158,37],[174,0,174,1],[175,0,175,1],[176,0,176,1],[177,0,177,1],[178,0,178,1],[179,0,179,1],[166,0,166,1],[167,0,167,1],[168,0,168,1],[169,0,171,0],[172,0,172,1],[173,0,173,1],[180,0,180,1],[181,0,181,1],[182,0,182,1],[183,0,183,7],[184,0,186,1],[184,2,185,3],[184,4,184,35],[185,14,185,15],[185,16,185,17],[185,18,185,19],[184,36,184,39],[184,40,184,43],[184,44,185,45],[184,46,185,47],[184,48,185,49],[185,4,185,5],[185,6,185,7],[185,8,185,9],[185,10,185,11],[185,12,185,13],[185,38,185,39],[185,40,185,41],[185,42,185,43],[185,20,185,21],[185,22,185,23],[185,24,185,25],[185,26,185,27],[185,28,185,29],[185,30,185,31],[187,0,187,1],[188,0,188,1],[189,0,189,1],[190,0,190,1],[191,0,191,1],[192,0,192,1],[185,32,185,33],[185,34,185,35],[185,36,185,37],[201,0,201,1],[202,0,202,1],[203,0,203,1],[204,0,204,1],[205,0,205,1],[206,0,206,1],[193,0,193,1],[194,0,194,1],[195,0,195,1],[196,0,198,0],[199,0,199,1],[200,0,200,1],[207,0,207,1],[208,0,208,1],[209,0,209,1],[211,0,213,0],[211,1,212,2],[211,3,211,36],[212,15,212,16],[212,17,212,18],[212,19,212,20],[212,21,212,22],[212,35,212,36],[212,23,212,24],[212,25,212,26],[212,27,212,28],[212,29,212,30],[212,3,212,4],[212,5,212,6],[212,7,212,8],[212,9,212,10],[212,11,212,12],[212,13,212,14],[211,37,211,38],[211,39,211,40],[211,41,213,41],[211,42,213,42],[212,37,213,37],[212,38,213,38],[212,39,213,39],[212,40,213,40],[212,31,212,32],[212,33,212,34],[222,0,224,0],[222,1,223,2],[222,3,222,36],[222,37,222,38],[222,39,222,40],[223,3,223,4],[223,5,223,6],[223,7,223,8],[223,9,223,10],[223,11,223,12],[223,13,223,14],[223,15,223,16],[223,17,223,18],[222,41,224,41],[222,42,224,42],[223,37,224,37],[223,38,224,38],[223,39,224,39],[223,19,223,20],[223,21,223,22],[223,23,223,24],[223,25,223,26],[223,27,223,28],[223,29,223,30],[223,40,224,40],[223,31,223,32],[223,33,223,34],[223,35,223,36],[233,44,234,45],[233,46,234,47],[233,48,234,49],[234,4,234,5],[234,6,234,7],[234,8,234,9],[234,10,234,11],[234,12,234,13],[234,14,234,15],[234,16,234,17],[234,38,234,39],[234,40,234,41],[234,42,234,43],[233,40,233,43],[234,18,234,19],[234,20,234,21],[234,22,234,23],[234,24,234,25],[236,0,254,0],[255,0,258,0],[259,0,259,17],[234,26,234,27],[234,28,234,29],[234,30,234,31],[234,32,234,33],[234,34,234,35],[234,36,234,37],[233,0,235,1],[233,2,234,3],[233,4,233,35],[233,36,233,39],[268,0,269,0],[268,1,269,1],[268,2,268,17],[268,18,269,18],[268,19,269,19],[275,0,275,35],[260,0,261,0],[260,1,261,1],[260,2,260,11],[260,12,261,12],[260,13,261,13],[267,0,267,17],[276,0,278,0],[276,1,276,3],[276,4,276,35],[277,1,278,1],[277,2,278,2],[277,3,278,3],[277,4,277,5],[277,6,277,7],[277,8,277,9],[277,10,277,11],[277,24,277,25],[277,26,277,27],[277,28,277,29],[277,30,277,31],[277,32,277,33],[277,34,277,35],[277,12,277,13],[277,14,277,15],[277,16,277,17],[277,18,277,19],[277,20,277,21],[277,22,277,23],[285,0,285,27],[286,0,288,0],[286,1,287,3],[286,4,286,27],[286,28,288,28],[286,29,288,29],[287,4,287,5],[287,6,287,7],[287,8,287,9],[287,10,287,11],[287,24,287,25],[287,26,287,27],[291,0,291,35],[292,0,294,0],[292,1,293,3],[292,4,292,35],[293,20,293,21],[293,22,293,23],[293,24,293,25],[293,26,293,27],[287,12,287,13],[287,14,287,15],[287,16,287,17],[287,18,287,19],[287,20,287,21],[287,22,287,23],[293,28,293,29],[293,30,293,31],[293,32,293,33],[293,34,293,35],[292,36,294,36],[292,37,294,37],[293,4,293,5],[293,6,293,7],[293,8,293,9],[293,10,293,11],[293,12,293,13],[293,14,293,15],[293,16,293,17],[293,18,293,19]]}
["SERVICIO DE SALUD"]
[{"$f":"CONCATENATE(\"COMUNA: \",NOMBRE!B2,\" - \",\"( \",NOMBRE!C2,NOMBRE!D2,NOMBRE!E2,NOMBRE!F2,NOMBRE!G2,\" )\")","v":"COMUNA:  - (  )"}]
[{"$f":"CONCATENATE(\"ESTABLECIMIENTO/ESTRATEGIA: \",NOMBRE!B3,\" - \",\"( \",NOMBRE!C3,NOMBRE!D3,NOMBRE!E3,NOMBRE!F3,NOMBRE!G3,NOMBRE!H3,\" )\")","v":"ESTABLECIMIENTO/ESTRATEGIA:  - (  )"}]
[{"$f":"CONCATENATE(\"MES: \",NOMBRE!B6,\" - \",\"( \",NOMBRE!C6,NOMBRE!D6,\" )\")","v":"MES:  - (  )"}]
[{"$f":"CONCATENATE(\"AÑO: \",NOMBRE!B7)","v":"AÑO: 2024"}]
["REM-A11.  EXÁMENES DE PESQUISA DE ENFERMEDADES TRASMISIBLES "]
[]
["SECCION A: EXÁMENES DE SÍFILIS"]
["SECCIÓN A.1: EXAMEN VDRL POR GRUPO DE USUARIOS (USO EXCLUSIVO DE ESTABLECIMIENTOS CON LABORATORIO QUE PROCESAN)"]
["GRUPO DE PESQUISA","TOTAL",null,"RANGO ETARIO",null,null,null,null,null,null,null,null,null,null,null,null,null,null,null,null,null,null,null,null,null,null,null,null,null,null,null,null,null,null,null,null,null,null,null,null,null,null,null,"POR SEXO (Procesados)",null,"TRANS",null,"Pueblos Originarios","Migrantes"]
[null,null,null,"Menos de 6 meses",null,"6 - 11 meses",null,"12-24 meses",null,"3 - 4 años",null,"5 - 9 años",null,"10 - 14 años",null,"15 - 19 años",null,"20 - 24 años",null,"25 - 29 años",null,"30 - 34 años",null,"35 - 39 años",null,"40 - 44 años",null,"45 - 49 años",null,"50 - 54 años",null,"55 - 59 años",null,"60 - 64 años",null,"65 - 69 años",null,"70 - 74 años",null,"75 - 79 años",null,"80 y más años",null,"Hombres","Mujeres"]
[null,"Procesados","Reactivos","Procesados","Reactivos","Procesados","Reactivos","Procesados","Reactivos","Procesados","Reactivos","Procesados","Reactivos","Procesados","Reactivos","Procesados","Reactivos","Procesados","Reactivos","Procesados","Reactivos","Procesados","Reactivos","Procesados","Reactivos","Procesados","Reactivos","Procesados","Reactivos","Procesados","Reactivos","Procesados","Reactivos","Procesados","Reactivos","Procesados","Reactivos","Procesados","Reactivos","Procesados","Reactivos","Procesados","Reactivos",null,null,"Masculino","Femenino"]
["Gestantes primer trimestre embarazo",{"$f":"+N13+P13+R13+T13+V13+X13+Z13+AB13+AD13+AF13+AH13+AJ13+AL13+AN13+AP13","v":0},{"$f":"+O13+Q13+S13+U13+W13+Y13+AA13+AC13+AE13+AG13+AI13+AK13+AM13+AO13+AQ13","v":0},null,null,null,null,null,null,null,null,null,null,null,null,null,null,null,null,null,null,null,null,null,null,null,null,null,null,null,null,null,null,null,null,null,null,null,null,null,null,null,null,null,null,null,null,null,null,{"$f":"$CB13&CC13&CD13&$CE13&CK13&CL13&CM13&CN13&CO13&CP13&CQ13&CR13&CS13&CT13&CU13&CV13&CW13&CX13","v":""},null,null,null,null,null,null,null,null,null,null,null,null,null,null,null,null,null,null,null,null,null,null,null,null,null,null,null,null,null,{"$f":"IF(B13<>(AS13),\" * La suma de las columnas \"&AR$10&\"\"&\" DEBE SER IGUAL a los Exámenes Procesados. \",\"\")","v":""},{"$f":"IF(AND($B13>0,AND(AT13=\"\",AU13=\"\")),\"* No olvide ingresar las columnas Trans Masculino o Femenino (Digite CERO si no tiene). \",IF((AT13+AU13)>$B13,\"* El Número de Trans Masculino o Femenino no puede superar el Total Procesados. \",\"\"))","v":""},{"$f":"IF(AND($B13>0,AV13=\"\"),\"* No olvide ingresar la columna \"&AV$10&\"\"&\" *(Digite CERO si no tiene). \",IF(AV13>$B13,\" *El Número de \"&AV$10&\"\"&\" no puede superar el Total Procesados. \",\"\"))","v":""},{"$f":"IF(AND($B13>0,AW13=\"\"),\"* No olvide ingresar la columna \"&AW$10&\"\"&\" *(Digite CERO si no tiene). \",IF(AW13>$B13,\" *El Número de \"&AW$10&\"\"&\" no puede superar el Total Procesados. \",\"\"))","v":""},null,null,null,null,null,{"$f":"IF(N13<O13,CONCATENATE(\"* El total de Procesados debe ser mayor o igual al total de Reactivos en el grupo de edad \",$N$11),\"\")","v":""},{"$f":"IF(P13<Q13,CONCATENATE(\"* El total de Procesados debe ser mayor o igual al total de Reactivos en el grupo de edad \",$P$11),\"\")","v":""},{"$f":"IF(R13<S13,CONCATENATE(\"* El total de Procesados debe ser mayor o igual al total de Reactivos en el grupo de edad \",$R$11),\"\")","v":""},{"$f":"IF($T13<$U13,CONCATENATE(\"* El total de Procesados debe ser mayor o igual al total de Reactivos en el grupo de edad \",$T$11),\"\")","v":""},{"$f":"IF(V13<W13,CONCATENATE(\"* El total de Procesados debe ser mayor o igual al total de Reactivos en el grupo de edad \",$V$11),\"\")","v":""},{"$f":"IF(X13<Y13,CONCATENATE(\"* El total de Procesados debe ser mayor o igual al total de Reactivos en el grupo de edad \",$X$11),\"\")","v":""},{"$f":"IF(Z13<AA13,CONCATENATE(\"* El total de Procesados debe ser mayor o igual al total de Reactivos en el grupo de edad \",$Z$11),\"\")","v":""},{"$f":"IF(AD13<AE13,CONCATENATE(\"* El total de Procesados debe ser mayor o igual al total de Reactivos en el grupo de edad \",$AD$11),\"\")","v":""},{"$f":"IF(AF13<AG13,CONCATENATE(\"* El total de Procesados debe ser mayor o igual al total de Reactivos en el grupo de edad \",$AF$11),\"\")","v":""},{"$f":"IF(AH13<AI13,CONCATENATE(\"* El total de Procesados debe ser mayor o igual al total de Reactivos en el grupo de edad \",$AH$11),\"\")","v":""},{"$f":"IF(AJ13<AK13,CONCATENATE(\"* El total de Procesados debe ser mayor o igual al total de Reactivos en el grupo de edad \",$AJ$11),\"\")","v":""},{"$f":"IF(AL13<AM13,CONCATENATE(\"* El total de Procesados debe ser mayor o igual al total de Reactivos en el grupo de edad \",$AL$11),\"\")","v":""},{"$f":"IF(AN13<AO13,CONCATENATE(\"* El total de Procesados debe ser mayor o igual al total de Reactivos en el grupo de edad \",$AN$11),\"\")","v":""},{"$f":"IF(AP13<AQ13,CONCATENATE(\"* El total de Procesados debe ser mayor o igual al total de Reactivos en el grupo de edad \",$AP$11),\"\")","v":""},null,null,null,null,null,null,null,{"$f":"IF(B13<>(AS13),1,0)","v":0},{"$f":"IF(AND($B13>0,AND(AT13=\"\",AU13=\"\")),1,IF((AT13+AU13)>$B13,1,0))","v":0},{"$f":"IF(AND($B13>0,AV13=\"\"),1,IF(AV13>$B13,1,0))","v":0},{"$f":"IF(AND($B13>0,AW13=\"\"),1,IF(AW13>$B13,1,0))","v":0},null,null,null,null,null,{"$f":"IF(N13<O13,1,0)","v":0},{"$f":"IF(P13<Q13,1,0)","v":0},{"$f":"IF(R13<S13,1,0)","v":0},{"$f":"IF($T13<$U13,1,0)","v":0},{"$f":"IF(V13<W13,1,0)","v":0},{"$f":"IF(X13<Y13,1,0)","v":0},{"$f":"IF(Z13<AA13,1,0)","v":0},{"$f":"IF(AD13<AE13,1,0)","v":0},{"$f":"IF(AF13<AG13,1,0)","v":0},{"$f":"IF(AH13<AI13,1,0)","v":0},{"$f":"IF(AJ13<AK13,1,0)","v":0},{"$f":"IF(AL13<AM13,1,0)","v":0},{"$f":"IF(AN13<AO13,1,0)","v":0},{"$f":"IF(AP13<AQ13,1,0)","v":0}]
["Gestantes segundo trimestre embarazo",{"$f":"+N14+P14+R14+T14+V14+X14+Z14+AB14+AD14+AF14+AH14+AJ14+AL14+AN14+AP14","v":0},0,null,null,null,null,null,null,null,null,null,null,null,null,null,null,null,null,null,null,null,null,null,null,null,null,null,null,null,null,null,null,null,null,null,null,null,null,null,null,null,null,null,null,null,null,null,null,{"$f":"$CB14&CC14&CD14&$CE14&CK14&CL14&CM14&CN14&CO14&CP14&CQ14&CR14&CS14&CT14&CU14&CV14&CW14&CX14","v":""},null,null,null,null,null,null,null,null,null,null,null,null,null,null,null,null,null,null,null,null,null,null,null,null,null,null,null,null,null,{"$f":"IF(B14<>(AS14),\" * La suma de las columnas \"&AR$10&\"\"&\" DEBE SER IGUAL a los Exámenes Procesados. \",\"\")","v":""},{"$f":"IF(AND($B14>0,AND(AT14=\"\",AU14=\"\")),\"* No olvide ingresar las columnas Trans Masculino o Femenino (Digite CERO si no tiene). \",IF((AT14+AU14)>$B14,\"* El Número de Trans Masculino o Femenino no puede superar el Total Procesados. \",\"\"))","v":""},{"$f":"IF(AND($B14>0,AV14=\"\"),\"* No olvide ingresar la columna \"&AV$10&\"\"&\" *(Digite CERO si no tiene). \",IF(AV14>$B14,\" *El Número de \"&AV$10&\"\"&\" no puede superar el Total Procesados. \",\"\"))","v":""},{"$f":"IF(AND($B14>0,AW14=\"\"),\"* No olvide ingresar la columna \"&AW$10&\"\"&\" *(Digite CERO si no tiene). \",IF(AW14>$B14,\" *El Número de \"&AW$10&\"\"&\" no puede superar el Total Procesados. \",\"\"))","v":""},null,null,null,null,null,{"$f":"IF(N14<O14,CONCATENATE(\"* El total de Procesados debe ser mayor o igual al total de Reactivos en el grupo de edad \",$N$11),\"\")","v":""},"","",{"$f":"IF($T14<$U14,CONCATENATE(\"* El total de Procesados debe ser mayor o igual al total de Reactivos en el grupo de edad \",$T$11),\"\")","v":""},"","","","","","","","","","",null,null,null,null,null,null,null,{"$f":"IF(B14<>(AS14),1,0)","v":0},{"$f":"IF(AND($B14>0,AND(AT14=\"\",AU14=\"\")),1,IF((AT14+AU14)>$B14,1,0))","v":0},0,0,null,null,null,null,null,0,0,0,{"$f":"IF($T14<$U14,1,0)","v":0},0,0,0,0,0,0,0,0,0,0]
["Gestantes tercer trimestre embarazo",0,0,null,null,null,null,null,null,null,null,null,null,null,null,null,null,null,null,null,null,null,null,null,null,null,null,null,null,null,null,null,null,null,null,null,null,null,null,null,null,null,null,null,null,null,null,null,null,"",null,null,null,null,null,null,null,null,null,null,null,null,null,null,null,null,null,null,null,null,null,null,null,null,null,null,null,null,null,"","","","",null,null,null,null,null,"","","","","","","","","","","","","","",null,null,null,null,null,null,null,{"$f":"IF(B15<>(AS15),1,0)","v":0},0,0,0,null,null,null,null,null,0,0,0,0,0,0,0,0,0,0,0,0,0,0]
["Gestantes trimestre embarazo ignorado",0,0,null,null,null,null,null,null,null,null,null,null,null,null,null,null,null,null,null,null,null,null,null,null,null,null,null,null,null,null,null,null,null,null,null,null,null,null,null,null,null,null,null,null,null,null,null,null,"",null,null,null,null,null,null,null,null,null,null,null,null,null,null,null,null,null,null,null,null,null,null,null,null,null,null,null,null,null,"","","","",null,null,null,null,null,"","","","","","","","","","","","","","",null,null,null,null,null,null,null,{"$f":"IF(B16<>(AS16),1,0)","v":0},0,0,0,null,null,null,null,null,0,0,0,0,0,0,0,0,0,0,0,0,0,0]
["Gestantes en seguimiento por diagnóstico sífilis",0,0,null,null,null,null,null,null,null,null,null,null,null,null,null,null,null,null,null,null,null,null,null,null,null,null,null,null,null,null,null,null,null,null,null,null,null,null,null,null,null,null,null,null,null,null,null,null,"",null,null,null,null,null,null,null,null,null,null,null,null,null,null,null,null,null,null,null,null,null,null,null,null,null,null,null,null,null,"","","","",null,null,null,null,null,"","","","","","","","","","","","","","",null,null,null,null,null,null,null,{"$f":"IF(B17<>(AS17),1,0)","v":0},0,0,0,null,null,null,null,null,0,0,0,0,0,0,0,0,0,0,0,0,0,0]
["Pareja de gestante con serología reactiva",0,{"$f":"+O18+Q18+S18+U18+W18+Y18+AA18+AC18+AE18+AG18+AI18+AK18+AM18+AO18+AQ18","v":0},null,null,null,null,null,null,null,null,null,null,null,null,null,null,null,null,null,null,null,null,null,null,null,null,null,null,null,null,null,null,null,null,null,null,null,null,null,null,null,null,null,null,null,null,null,null,{"$f":"$CB18&CC18&CD18&$CE18&CK18&CL18&CM18&CN18&CO18&CP18&CQ18&CR18&CS18&CT18&CU18&CV18&CW18&CX18","v":""},null,null,null,null,null,null,null,null,null,null,null,null,null,null,null,null,null,null,null,null,null,null,null,null,null,null,null,null,null,{"$f":"IF(B18<>(AS18+AR18),\" * La suma de las columnas \"&AR$10&\"\"&\" DEBE SER IGUAL a los Exámenes Procesados. \",\"\")","v":""},"","","",null,null,null,null,null,"","","","","","","","","","","","","","",null,null,null,null,null,null,null,{"$f":"IF(B18<>(AS18+AR18),1,0)","v":0},0,0,0,null,null,null,null,null,0,0,0,0,0,0,0,0,0,0,0,0,0,0]
["Mujeres que ingresan a maternidad por parto",0,0,null,null,null,null,null,null,null,null,null,null,null,null,null,null,null,null,null,null,null,null,null,null,null,null,null,null,null,null,null,null,null,null,null,null,null,null,null,null,null,null,null,null,null,null,null,null,{"$f":"$CB19&CC19&CD19&$CE19&CK19&CL19&CM19&CN19&CO19&CP19&CQ19&CR19&CS19&CT19&CU19&CV19&CW19&CX19","v":""},null,null,null,null,null,null,null,null,null,null,null,null,null,null,null,null,null,null,null,null,null,null,null,null,null,null,null,null,null,"","","","",null,null,null,null,null,"","","","","","","","","","","","","","",null,null,null,null,null,null,null,{"$f":"IF(B19<>(AS19),1,0)","v":0},0,0,0,null,null,null,null,null,0,0,0,0,0,0,0,0,0,0,0,0,0,0]
["Mujeres que ingresan por aborto",0,{"$f":"+O20+Q20+S20+U20+W20+Y20+AA20+AC20+AE20+AG20+AI20+AK20+AM20+AO20+AQ20","v":0},null,null,null,null,null,null,null,null,null,null,null,null,null,null,null,null,null,null,null,null,null,null,null,null,null,null,null,null,null,null,null,null,null,null,null,null,null,null,null,null,null,null,null,null,null,null,{"$f":"$CB20&CC20&CD20&$CE20&CK20&CL20&CM20&CN20&CO20&CP20&CQ20&CR20&CS20&CT20&CU20&CV20&CW20&CX20","v":""},null,null,null,null,null,null,null,null,null,null,null,null,null,null,null,null,null,null,null,null,null,null,null,null,null,null,null,null,null,"","","","",null,null,null,null,null,"","","","","","","","","","","","","","",null,null,null,null,null,null,null,{"$f":"IF(B20<>(AS20),1,0)","v":0},0,0,0,null,null,null,null,null,0,0,0,0,0,0,0,0,0,0,0,0,0,0]
["Mujeres en control ginecológico",{"$f":"+D21+F21+H21+J21+L21+N21+P21+R21+T21+V21+X21+Z21+AB21+AD21+AF21+AH21+AJ21+AL21+AN21+AP21","v":0},{"$f":"+E21+G21+I21+K21+M21+O21+Q21+S21+U21+W21+Y21+AA21+AC21+AE21+AG21+AI21+AK21+AM21+AO21+AQ21","v":0},null,null,null,null,null,null,null,null,null,null,null,null,null,null,null,null,null,null,null,null,null,null,null,null,null,null,null,null,null,null,null,null,null,null,null,null,null,null,null,null,null,null,null,null,null,null,{"$f":"$CB21&CC21&CD21&$CE21&CF21&CG21&CH21&CI21&CJ21&CK21&CL21&CM21&CN21&CO21&CP21&CQ21&CR21&CS21&CT21&CU21&CV21&CW21&CX21","v":""},null,null,null,null,null,null,null,null,null,null,null,null,null,null,null,null,null,null,null,null,null,null,null,null,null,null,null,null,null,"","","","",{"$f":"IF(D21<E21,CONCATENATE(\"* El total de Procesados debe ser mayor o igual al total de Reactivos en el grupo de edad \",$D$11),\"\")","v":""},{"$f":"IF(F21<G21,CONCATENATE(\"* El total de Procesados debe ser mayor o igual al total de Reactivos en el grupo de edad \",$F$11),\"\")","v":""},{"$f":"IF(H21<I21,CONCATENATE(\"* El total de Procesados debe ser mayor o igual al total de Reactivos en el grupo de edad \",$H$11),\"\")","v":""},{"$f":"IF(J21<K21,CONCATENATE(\"* El total de Procesados debe ser mayor o igual al total de Reactivos en el grupo de edad \",$J$11),\"\")","v":""},{"$f":"IF(L21<M21,CONCATENATE(\"* El total de Procesados debe ser mayor o igual al total de Reactivos en el grupo de edad \",$L$11),\"\")","v":""},"","","","","","","","","","","","","","",null,null,null,null,null,null,null,{"$f":"IF(B21<>(AS21),1,0)","v":0},0,0,0,{"$f":"IF(D21<E21,1,0)","v":0},{"$f":"IF(F21<G21,1,0)","v":0},{"$f":"IF(H21<I21,1,0)","v":0},{"$f":"IF(J21<K21,1,0)","v":0},{"$f":"IF(L21<M21,1,0)","v":0},0,0,0,0,0,0,0,0,0,0,0,0,0,0]
["Recién nacido y lactante para detección de sífilis congénita",{"$f":"+D22+F22+H22","v":0},{"$f":"+E22+G22+I22","v":0},null,null,null,null,null,null,null,null,null,null,null,null,null,null,null,null,null,null,null,null,null,null,null,null,null,null,null,null,null,null,null,null,null,null,null,null,null,null,null,null,null,null,null,null,null,null,{"$f":"$CB22&CC22&CD22&$CE22&CK22&CL22&CM22&CN22&CO22&CP22&CQ22&CR22&CS22&CT22&CU22&CV22&CW22&CX22&CF22&CG22&CH22","v":""},null,null,null,null,null,null,null,null,null,null,null,null,null,null,null,null,null,null,null,null,null,null,null,null,null,null,null,null,null,{"$f":"IF(B22<>(AS22+AR22),\" * La suma de las columnas \"&AR$10&\"\"&\" DEBE SER IGUAL a los Exámenes Procesados. \",\"\")","v":""},"","","",{"$f":"IF(D22<E22,CONCATENATE(\"* El total de Procesados debe ser mayor o igual al total de Reactivos en el grupo de edad \",$D$11),\"\")","v":""},{"$f":"IF(F22<G22,CONCATENATE(\"* El total de Procesados debe ser mayor o igual al total de Reactivos en el grupo de edad \",$F$11),\"\")","v":""},{"$f":"IF(H22<I22,CONCATENATE(\"* El total de Procesados debe ser mayor o igual al total de Reactivos en el grupo de edad \",$H$11),\"\")","v":""},null,null,null,null,null,null,null,null,null,null,null,null,null,null,null,null,null,null,null,null,null,null,null,{"$f":"IF(B22<>(AS22+AR22),1,0)","v":0},0,0,0,{"$f":"IF(D22<E22,1,0)","v":0},{"$f":"IF(F22<G22,1,0)","v":0},{"$f":"IF(H22<I22,1,0)","v":0}]
["Personas en control por comercio sexual",{"$f":"+P23+R23+T23+V23+X23+Z23+AB23+AD23+AF23+AH23+AJ23+AL23+AN23+AP23","v":0},{"$f":"+Q23+S23+U23+W23+Y23+AA23+AC23+AE23+AG23+AI23+AK23+AM23+AO23+AQ23","v":0},null,null,null,null,null,null,null,null,null,null,null,null,null,null,null,null,null,null,null,null,null,null,null,null,null,null,null,null,null,null,null,null,null,null,null,null,null,null,null,null,null,null,null,null,null,null,{"$f":"$CB23&CC23&CD23&$CE23&CK23&CL23&CM23&CN23&CO23&CP23&CQ23&CR23&CS23&CT23&CU23&CV23&CW23&CX23","v":""},null,null,null,null,null,null,null,null,null,null,null,null,null,null,null,null,null,null,null,null,null,null,null,null,null,null,null,null,null,{"$f":"IF(B23<>(AS23+AR23),\" * La suma de las columnas \"&AR$10&\"\"&\" DEBE SER IGUAL a los Exámenes Procesados. \",\"\")","v":""},"","","",null,null,null,null,null,null,{"$f":"IF(P23<Q23,CONCATENATE(\"* El total de Procesados debe ser mayor o igual al total de Reactivos en el grupo de edad \",$P$11),\"\")","v":""},{"$f":"IF(R23<S23,CONCATENATE(\"* El total de Procesados debe ser mayor o igual al total de Reactivos en el grupo de edad \",$R$11),\"\")","v":""},"",{"$f":"IF(V23<W23,CONCATENATE(\"* El total de Procesados debe ser mayor o igual al total de Reactivos en el grupo de edad \",$V$11),\"\")","v":""},{"$f":"IF(X23<Y23,CONCATENATE(\"* El total de Procesados debe ser mayor o igual al total de Reactivos en el grupo de edad \",$X$11),\"\")","v":""},{"$f":"IF(Z23<AA23,CONCATENATE(\"* El total de Procesados debe ser mayor o igual al total de Reactivos en el grupo de edad \",$Z$11),\"\")","v":""},{"$f":"IF(AD23<AE23,CONCATENATE(\"* El total de Procesados debe ser mayor o igual al total de Reactivos en el grupo de edad \",$AD$11),\"\")","v":""},{"$f":"IF(AF23<AG23,CONCATENATE(\"* El total de Procesados debe ser mayor o igual al total de Reactivos en el grupo de edad \",$AF$11),\"\")","v":""},{"$f":"IF(AH23<AI23,CONCATENATE(\"* El total de Procesados debe ser mayor o igual al total de Reactivos en el grupo de edad \",$AH$11),\"\")","v":""},{"$f":"IF(AJ23<AK23,CONCATENATE(\"* El total de Procesados debe ser mayor o igual al total de Reactivos en el grupo de edad \",$AJ$11),\"\")","v":""},{"$f":"IF(AL23<AM23,CONCATENATE(\"* El total de Procesados debe ser mayor o igual al total de Reactivos en el grupo de edad \",$AL$11),\"\")","v":""},{"$f":"IF(AN23<AO23,CONCATENATE(\"* El total de Procesados debe ser mayor o igual al total de Reactivos en el grupo de edad \",$AN$11),\"\")","v":""},{"$f":"IF(AP23<AQ23,CONCATENATE(\"* El total de Procesados debe ser mayor o igual al total de Reactivos en el grupo de edad \",$AP$11),\"\")","v":""},null,null,null,null,null,null,null,0,0,0,0,null,null,null,null,null,null,{"$f":"IF(P23<Q23,1,0)","v":0},{"$f":"IF(R23<S23,1,0)","v":0},0,{"$f":"IF(V23<W23,1,0)","v":0},{"$f":"IF(X23<Y23,1,0)","v":0},{"$f":"IF(Z23<AA23,1,0)","v":0},{"$f":"IF(AD23<AE23,1,0)","v":0},{"$f":"IF(AF23<AG23,1,0)","v":0},{"$f":"IF(AH23<AI23,1,0)","v":0},{"$f":"IF(AJ23<AK23,1,0)","v":0},{"$f":"IF(AL23<AM23,1,0)","v":0},{"$f":"IF(AN23<AO23,1,0)","v":0},{"$f":"IF(AP23<AQ23,1,0)","v":0}]
["Personas en control fecundidad",{"$f":"+N24+P24+R24+T24+V24+X24+Z24+AB24+AD24+AF24+AH24+AJ24+AL24+AN24+AP24","v":0},{"$f":"+O24+Q24+S24+U24+W24+Y24+AA24+AC24+AE24+AG24+AI24+AK24+AM24+AO24+AQ24","v":0},null,null,null,null,null,null,null,null,null,null,null,null,null,null,null,null,null,null,null,null,null,null,null,null,null,null,null,null,null,null,null,null,null,null,null,null,null,null,null,null,null,null,null,null,null,null,{"$f":"$CB24&CC24&CD24&$CE24&CK24&CL24&CM24&CN24&CO24&CP24&CQ24&CR24&CS24&CT24&CU24&CV24&CW24&CX24","v":""},null,null,null,null,null,null,null,null,null,null,null,null,null,null,null,null,null,null,null,null,null,null,null,null,null,null,null,null,null,"","","","",null,null,null,null,null,{"$f":"IF(N24<O24,CONCATENATE(\"* El total de Procesados debe ser mayor o igual al total de Reactivos en el grupo de edad \",$N$11),\"\")","v":""},"","","","","","","","","",{"$f":"IF(AJ24<AK24,CONCATENATE(\"* El total de Procesados debe ser mayor o igual al total de Reactivos en el grupo de edad \",$AJ$11),\"\")","v":""},{"$f":"IF(AL24<AM24,CONCATENATE(\"* El total de Procesados debe ser mayor o igual al total de Reactivos en el grupo de edad \",$AL$11),\"\")","v":""},{"$f":"IF(AN24<AO24,CONCATENATE(\"* El total de Procesados debe ser mayor o igual al total de Reactivos en el grupo de edad \",$AN$11),\"\")","v":""},{"$f":"IF(AP24<AQ24,CONCATENATE(\"* El total de Procesados debe ser mayor o igual al total de Reactivos en el grupo de edad \",$AP$11),\"\")","v":""},null,null,null,null,null,null,null,0,0,0,0,null,null,null,null,null,{"$f":"IF(N24<O24,1,0)","v":0},0,0,0,0,0,0,0,0,0,{"$f":"IF(AJ24<AK24,1,0)","v":0},{"$f":"IF(AL24<AM24,1,0)","v":0},{"$f":"IF(AN24<AO24,1,0)","v":0},{"$f":"IF(AP24<AQ24,1,0)","v":0}]
["Consultantes por ITS",{"$f":"+D25+F25+H25+J25+L25+N25+P25+R25+T25+V25+X25+Z25+AB25+AD25+AF25+AH25+AJ25+AL25+AN25+AP25","v":0},{"$f":"+E25+G25+I25+K25+M25+O25+Q25+S25+U25+W25+Y25+AA25+AC25+AE25+AG25+AI25+AK25+AM25+AO25+AQ25","v":0},null,null,null,null,null,null,null,null,null,null,null,null,null,null,null,null,null,null,null,null,null,null,null,null,null,null,null,null,null,null,null,null,null,null,null,null,null,null,null,null,null,null,null,null,null,null,{"$f":"$CB25&CC25&CD25&$CE25&CF25&CG25&CH25&CI25&CJ25&CK25&CL25&CM25&CN25&CO25&CP25&CQ25&CR25&CS25&CT25&CU25&CV25&CW25&CX25","v":""},null,null,null,null,null,null,null,null,null,null,null,null,null,null,null,null,null,null,null,null,null,null,null,null,null,null,null,null,null,"","","",{"$f":"IF(AND($B25>0,AW25=\"\"),\"* No olvide ingresar la columna \"&AW$10&\"\"&\" *(Digite CERO si no tiene). \",IF(AW25>$B25,\" *El Número de \"&AW$10&\"\"&\" no puede superar el Total Procesados. \",\"\"))","v":""},{"$f":"IF(D25<E25,CONCATENATE(\"* El total de Procesados debe ser mayor o igual al total de Reactivos en el grupo de edad \",$D$11),\"\")","v":""},{"$f":"IF(F25<G25,CONCATENATE(\"* El total de Procesados debe ser mayor o igual al total de Reactivos en el grupo de edad \",$F$11),\"\")","v":""},{"$f":"IF(H25<I25,CONCATENATE(\"* El total de Procesados debe ser mayor o igual al total de Reactivos en el grupo de edad \",$H$11),\"\")","v":""},{"$f":"IF(J25<K25,CONCATENATE(\"* El total de Procesados debe ser mayor o igual al total de Reactivos en el grupo de edad \",$J$11),\"\")","v":""},{"$f":"IF(L25<M25,CONCATENATE(\"* El total de Procesados debe ser mayor o igual al total de Reactivos en el grupo de edad \",$L$11),\"\")","v":""},{"$f":"IF(N25<O25,CONCATENATE(\"* El total de Procesados debe ser mayor o igual al total de Reactivos en el grupo de edad \",$N$11),\"\")","v":""},"","","","","","","","","",{"$f":"IF(AJ25<AK25,CONCATENATE(\"* El total de Procesados debe ser mayor o igual al total de Reactivos en el grupo de edad \",$AJ$11),\"\")","v":""},{"$f":"IF(AL25<AM25,CONCATENATE(\"* El total de Procesados debe ser mayor o igual al total de Reactivos en el grupo de edad \",$AL$11),\"\")","v":""},{"$f":"IF(AN25<AO25,CONCATENATE(\"* El total de Procesados debe ser mayor o igual al total de Reactivos en el grupo de edad \",$AN$11),\"\")","v":""},{"$f":"IF(AP25<AQ25,CONCATENATE(\"* El total de Procesados debe ser mayor o igual al total de Reactivos en el grupo de edad \",$AP$11),\"\")","v":""},null,null,null,null,null,null,null,0,0,0,0,{"$f":"IF(D25<E25,1,0)","v":0},{"$f":"IF(F25<G25,1,0)","v":0},{"$f":"IF(H25<I25,1,0)","v":0},{"$f":"IF(J25<K25,1,0)","v":0},{"$f":"IF(L25<M25,1,0)","v":0},{"$f":"IF(N25<O25,1,0)","v":0},0,0,0,0,0,0,0,0,0,{"$f":"IF(AJ25<AK25,1,0)","v":0},{"$f":"IF(AL25<AM25,1,0)","v":0},{"$f":"IF(AN25<AO25,1,0)","v":0},{"$f":"IF(AP25<AQ25,1,0)","v":0}]
["Personas EMP/EMPAM",{"$f":"+P26+R26+T26+V26+X26+Z26+AB26+AD26+AF26+AH26+AJ26+AL26+AN26+AP26","v":0},{"$f":"+Q26+S26+U26+W26+Y26+AA26+AC26+AE26+AG26+AI26+AK26+AM26+AO26+AQ26","v":0},null,null,null,null,null,null,null,null,null,null,null,null,null,null,null,null,null,null,null,null,null,null,null,null,null,null,null,null,null,null,null,null,null,null,null,null,null,null,null,null,null,null,null,null,null,null,"",null,null,null,null,null,null,null,null,null,null,null,null,null,null,null,null,null,null,null,null,null,null,null,null,null,null,null,null,null,"","","","",null,null,null,null,null,null,"","","","","","","","","",{"$f":"IF(AJ26<AK26,CONCATENATE(\"* El total de Procesados debe ser mayor o igual al total de Reactivos en el grupo de edad \",$AJ$11),\"\")","v":""},{"$f":"IF(AL26<AM26,CONCATENATE(\"* El total de Procesados debe ser mayor o igual al total de Reactivos en el grupo de edad \",$AL$11),\"\")","v":""},{"$f":"IF(AN26<AO26,CONCATENATE(\"* El total de Procesados debe ser mayor o igual al total de Reactivos en el grupo de edad \",$AN$11),\"\")","v":""},{"$f":"IF(AP26<AQ26,CONCATENATE(\"* El total de Procesados debe ser mayor o igual al total de Reactivos en el grupo de edad \",$AP$11),\"\")","v":""},null,null,null,null,null,null,null,0,0,0,0,null,null,null,null,null,null,0,0,0,0,0,0,0,0,0,{"$f":"IF(AJ26<AK26,1,0)","v":0},{"$f":"IF(AL26<AM26,1,0)","v":0},{"$f":"IF(AN26<AO26,1,0)","v":0},{"$f":"IF(AP26<AQ26,1,0)","v":0}]
["Donantes de sangre",{"$f":"+P27+R27+T27+V27+X27+Z27+AB27+AD27+AF27+AH27","v":0},{"$f":"+Q27+S27+U27+W27+Y27+AA27+AC27+AE27+AG27+AI27","v":0},null,null,null,null,null,null,null,null,null,null,null,null,null,null,null,null,null,null,null,null,null,null,null,null,null,null,null,null,null,null,null,null,null,null,null,null,null,null,null,null,null,null,null,null,null,null,{"$f":"$CB27&CC27&CD27&$CE27&CK27&CL27&CM27&CN27&CO27&CP27&CQ27&CR27&CS27&CT27&CU27&CV27&CW27&CX27","v":""},null,null,null,null,null,null,null,null,null,null,null,null,null,null,null,null,null,null,null,null,null,null,null,null,null,null,null,null,null,"","","","",null,null,null,null,null,null,"","","","","","","","","",null,null,null,null,null,null,null,null,null,null,null,0,0,0,0,null,null,null,null,null,null,0,0,0,0,0,0,0,0,0]
["Donantes de órganos y/o tejidos",{"$f":"+D28+F28+H28+J28+L28+N28+P28+R28+T28+V28+X28+Z28+AB28+AD28+AF28+AH28+AJ28+AL28+AN28+AP28","v":0},0,null,null,null,null,null,null,null,null,null,null,null,null,null,null,null,null,null,null,null,null,null,null,null,null,null,null,null,null,null,null,null,null,null,null,null,null,null,null,null,null,null,null,null,null,null,null,{"$f":"$CB28&CC28&CD28&$CE28&CK28&CL28&CM28&CN28&CO28&CP28&CQ28&CR28&CS28&CT28&CU28&CV28&CW28&CX28&CF28&CG28&CH28&CI28&CJ28","v":""},null,null,null,null,null,null,null,null,null,null,null,null,null,null,null,null,null,null,null,null,null,null,null,null,null,null,null,null,null,"","","","",{"$f":"IF(D28<E28,CONCATENATE(\"* El total de Procesados debe ser mayor o igual al total de Reactivos en el grupo de edad \",$D$11),\"\")","v":""},{"$f":"IF(F28<G28,CONCATENATE(\"* El total de Procesados debe ser mayor o igual al total de Reactivos en el grupo de edad \",$F$11),\"\")","v":""},{"$f":"IF(H28<I28,CONCATENATE(\"* El total de Procesados debe ser mayor o igual al total de Reactivos en el grupo de edad \",$H$11),\"\")","v":""},{"$f":"IF(J28<K28,CONCATENATE(\"* El total de Procesados debe ser mayor o igual al total de Reactivos en el grupo de edad \",$J$11),\"\")","v":""},{"$f":"IF(L28<M28,CONCATENATE(\"* El total de Procesados debe ser mayor o igual al total de Reactivos en el grupo de edad \",$L$11),\"\")","v":""},{"$f":"IF(N28<O28,CONCATENATE(\"* El total de Procesados debe ser mayor o igual al total de Reactivos en el grupo de edad \",$N$11),\"\")","v":""},"","","","","","","","","",{"$f":"IF(AJ28<AK28,CONCATENATE(\"* El total de Procesados debe ser mayor o igual al total de Reactivos en el grupo de edad \",$AJ$11),\"\")","v":""},{"$f":"IF(AL28<AM28,CONCATENATE(\"* El total de Procesados debe ser mayor o igual al total de Reactivos en el grupo de edad \",$AL$11),\"\")","v":""},{"$f":"IF(AN28<AO28,CONCATENATE(\"* El total de Procesados debe ser mayor o igual al total de Reactivos en el grupo de edad \",$AN$11),\"\")","v":""},{"$f":"IF(AP28<AQ28,CONCATENATE(\"* El total de Procesados debe ser mayor o igual al total de Reactivos en el grupo de edad \",$AP$11),\"\")","v":""},null,null,null,null,null,null,null,0,0,0,0,{"$f":"IF(D28<E28,1,0)","v":0},{"$f":"IF(F28<G28,1,0)","v":0},{"$f":"IF(H28<I28,1,0)","v":0},{"$f":"IF(J28<K28,1,0)","v":0},{"$f":"IF(L28<M28,1,0)","v":0},{"$f":"IF(N28<O28,1,0)","v":0},0,0,0,0,0,0,0,0,0,{"$f":"IF(AJ28<AK28,1,0)","v":0},{"$f":"IF(AL28<AM28,1,0)","v":0},{"$f":"IF(AN28<AO28,1,0)","v":0},{"$f":"IF(AP28<AQ28,1,0)","v":0}]
["Pacientes en diálisis",0,0,null,null,null,null,null,null,null,null,null,null,null,null,null,null,null,null,null,null,null,null,null,null,null,null,null,null,null,null,null,null,null,null,null,null,null,null,null,null,null,null,null,null,null,null,null,null,{"$f":"$CB29&CC29&CD29&$CE29&CK29&CL29&CM29&CN29&CO29&CP29&CQ29&CR29&CS29&CT29&CU29&CV29&CW29&CX29&CF29&CG29&CH29&CI29&CJ29","v":""},null,null,null,null,null,null,null,null,null,null,null,null,null,null,null,null,null,null,null,null,null,null,null,null,null,null,null,null,null,"","","","",{"$f":"IF(D29<E29,CONCATENATE(\"* El total de Procesados debe ser mayor o igual al total de Reactivos en el grupo de edad \",$D$11),\"\")","v":""},{"$f":"IF(F29<G29,CONCATENATE(\"* El total de Procesados debe ser mayor o igual al total de Reactivos en el grupo de edad \",$F$11),\"\")","v":""},{"$f":"IF(H29<I29,CONCATENATE(\"* El total de Procesados debe ser mayor o igual al total de Reactivos en el grupo de edad \",$H$11),\"\")","v":""},{"$f":"IF(J29<K29,CONCATENATE(\"* El total de Procesados debe ser mayor o igual al total de Reactivos en el grupo de edad \",$J$11),\"\")","v":""},{"$f":"IF(L29<M29,CONCATENATE(\"* El total de Procesados debe ser mayor o igual al total de Reactivos en el grupo de edad \",$L$11),\"\")","v":""},{"$f":"IF(N29<O29,CONCATENATE(\"* El total de Procesados debe ser mayor o igual al total de Reactivos en el grupo de edad \",$N$11),\"\")","v":""},"","","","","","","","","",{"$f":"IF(AJ29<AK29,CONCATENATE(\"* El total de Procesados debe ser mayor o igual al total de Reactivos en el grupo de edad \",$AJ$11),\"\")","v":""},{"$f":"IF(AL29<AM29,CONCATENATE(\"* El total de Procesados debe ser mayor o igual al total de Reactivos en el grupo de edad \",$AL$11),\"\")","v":""},{"$f":"IF(AN29<AO29,CONCATENATE(\"* El total de Procesados debe ser mayor o igual al total de Reactivos en el grupo de edad \",$AN$11),\"\")","v":""},{"$f":"IF(AP29<AQ29,CONCATENATE(\"* El total de Procesados debe ser mayor o igual al total de Reactivos en el grupo de edad \",$AP$11),\"\")","v":""},null,null,null,null,null,null,null,0,0,0,0,{"$f":"IF(D29<E29,1,0)","v":0},{"$f":"IF(F29<G29,1,0)","v":0},{"$f":"IF(H29<I29,1,0)","v":0},{"$f":"IF(J29<K29,1,0)","v":0},{"$f":"IF(L29<M29,1,0)","v":0},{"$f":"IF(N29<O29,1,0)","v":0},0,0,0,0,0,0,0,0,0,{"$f":"IF(AJ29<AK29,1,0)","v":0},{"$f":"IF(AL29<AM29,1,0)","v":0},{"$f":"IF(AN29<AO29,1,0)","v":0},{"$f":"IF(AP29<AQ29,1,0)","v":0}]
["Víctima de violencia sexual",0,0,null,null,null,null,null,null,null,null,null,null,null,null,null,null,null,null,null,null,null,null,null,null,null,null,null,null,null,null,null,null,null,null,null,null,null,null,null,null,null,null,null,null,null,null,null,null,"",null,null,null,null,null,null,null,null,null,null,null,null,null,null,null,null,null,null,null,null,null,null,null,null,null,null,null,null,null,"","","","",{"$f":"IF(D30<E30,CONCATENATE(\"* El total de Procesados debe ser mayor o igual al total de Reactivos en el grupo de edad \",$D$11),\"\")","v":""},{"$f":"IF(F30<G30,CONCATENATE(\"* El total de Procesados debe ser mayor o igual al total de Reactivos en el grupo de edad \",$F$11),\"\")","v":""},{"$f":"IF(H30<I30,CONCATENATE(\"* El total de Procesados debe ser mayor o igual al total de Reactivos en el grupo de edad \",$H$11),\"\")","v":""},{"$f":"IF(J30<K30,CONCATENATE(\"* El total de Procesados debe ser mayor o igual al total de Reactivos en el grupo de edad \",$J$11),\"\")","v":""},{"$f":"IF(L30<M30,CONCATENATE(\"* El total de Procesados debe ser mayor o igual al total de Reactivos en el grupo de edad \",$L$11),\"\")","v":""},{"$f":"IF(N30<O30,CONCATENATE(\"* El total de Procesados debe ser mayor o igual al total de Reactivos en el grupo de edad \",$N$11),\"\")","v":""},"","","","","","","","","",{"$f":"IF(AJ30<AK30,CONCATENATE(\"* El total de Procesados debe ser mayor o igual al total de Reactivos en el grupo de edad \",$AJ$11),\"\")","v":""},{"$f":"IF(AL30<AM30,CONCATENATE(\"* El total de Procesados debe ser mayor o igual al total de Reactivos en el grupo de edad \",$AL$11),\"\")","v":""},{"$f":"IF(AN30<AO30,CONCATENATE(\"* El total de Procesados debe ser mayor o igual al total de Reactivos en el grupo de edad \",$AN$11),\"\")","v":""},{"$f":"IF(AP30<AQ30,CONCATENATE(\"* El total de Procesados debe ser mayor o igual al total de Reactivos en el grupo de edad \",$AP$11),\"\")","v":""},null,null,null,null,null,null,null,0,0,0,0,{"$f":"IF(D30<E30,1,0)","v":0},{"$f":"IF(F30<G30,1,0)","v":0},{"$f":"IF(H30<I30,1,0)","v":0},0,{"$f":"IF(L30<M30,1,0)","v":0},{"$f":"IF(N30<O30,1,0)","v":0},0,0,0,0,0,0,0,0,0,{"$f":"IF(AJ30<AK30,1,0)","v":0},{"$f":"IF(AL30<AM30,1,0)","v":0},{"$f":"IF(AN30<AO30,1,0)","v":0},{"$f":"IF(AP30<AQ30,1,0)","v":0}]
["SECCIÓN A.2: EXAMEN VDRL POR GRUPO DE USUARIOS (USO EXCLUSIVO DE ESTABLECIMIENTOS QUE COMPRAN SERVICIO)"]
["GRUPO DE PESQUISA","TOTAL",null,"RANGO ETARIO",null,null,null,null,null,null,null,null,null,null,null,null,null,null,null,null,null,null,null,null,null,null,null,null,null,null,null,null,null,null,null,null,null,null,null,null,null,null,null,"POR SEXO (Procesados)",null,"TRANS",null,"Pueblos Originarios","Migrantes"]
[null,null,null,"Menos de 6 meses",null,"6 - 11 meses",null,"12-24 meses",null,"3 - 4 años",null,"5 - 9 años",null,"10 - 14 años",null,"15 - 19 años",null,"20 - 24 años",null,"25 - 29 años",null,"30 - 34 años",null,"35 - 39 años",null,"40 - 44 años",null,"45 - 49 años",null,"50 - 54 años",null,"55 - 59 años",null,"60 - 64 años",null,"65 - 69 años",null,"70 - 74 años",null,"75 - 79 años",null,"80 y más años",null,"Hombres","Mujeres"]
[null,"Procesados","Reactivos","Procesados","Reactivos","Procesados","Reactivos","Procesados","Reactivos","Procesados","Reactivos","Procesados","Reactivos","Procesados","Reactivos","Procesados","Reactivos","Procesados","Reactivos","Procesados","Reactivos","Procesados","Reactivos","Procesados","Reactivos","Procesados","Reactivos","Procesados","Reactivos","Procesados","Reactivos","Procesados","Reactivos","Procesados","Reactivos","Procesados","Reactivos","Procesados","Reactivos","Procesados","Reactivos","Procesados","Reactivos",null,null,"Masculino","Femenino"]
["Gestantes primer trimestre embarazo",{"$f":"+N35+P35+R35+T35+V35+X35+Z35+AB35+AD35+AF35+AH35+AJ35+AL35+AN35+AP35","v":0},{"$f":"+O35+Q35+S35+U35+W35+Y35+AA35+AC35+AE35+AG35+AI35+AK35+AM35+AO35+AQ35","v":0},null,null,null,null,null,null,null,null,null,null,null,null,null,null,null,null,null,null,null,null,null,null,null,null,null,null,null,null,null,null,null,null,null,null,null,null,null,null,null,null,null,null,null,null,null,null,{"$f":"$CB35&CC35&CD35&$CE35&CK35&CL35&CM35&CN35&CO35&CP35&CQ35&CR35&CS35&CT35&CU35&CV35&CW35&CX35","v":""},null,null,null,null,null,null,null,null,null,null,null,null,null,null,null,null,null,null,null,null,null,null,null,null,null,null,null,null,null,{"$f":"IF(B35<>(AS35),\" * La suma de las columnas \"&AR$10&\"\"&\" DEBE SER IGUAL a los Exámenes Procesados. \",\"\")","v":""},{"$f":"IF(AND($B35>0,AND(AT35=\"\",AU35=\"\")),\"* No olvide ingresar las columnas Trans Masculino o Femenino (*Digite CERO si no tiene). \",IF((AT35+AU35)>$B35,\"* El Número de Trans Masculino o Femenino no puede superar el Total Procesados. \",\"\"))","v":""},{"$f":"IF(AND($B35>0,AV35=\"\"),\"* No olvide ingresar la columna \"&AV$10&\"\"&\" *(Digite CERO si no tiene). \",IF(AV35>$B35,\" *El Número de \"&AV$10&\"\"&\" no puede superar el Total Procesados. \",\"\"))","v":""},{"$f":"IF(AND($B35>0,AW35=\"\"),\"* No olvide ingresar la columna \"&AW$10&\"\"&\" *(Digite CERO si no tiene). \",IF(AW35>$B35,\" *El Número de \"&AW$10&\"\"&\" no puede superar el Total Procesados. \",\"\"))","v":""},null,null,null,null,null,{"$f":"IF(N35<O35,CONCATENATE(\"* El total de Procesados debe ser mayor o igual al total de Reactivos en el grupo de edad \",$N$11),\"\")","v":""},{"$f":"IF(P35<Q35,CONCATENATE(\"* El total de Procesados debe ser mayor o igual al total de Reactivos en el grupo de edad \",$P$11),\"\")","v":""},{"$f":"IF(R35<S35,CONCATENATE(\"* El total de Procesados debe ser mayor o igual al total de Reactivos en el grupo de edad \",$R$11),\"\")","v":""},{"$f":"IF($T35<$U35,CONCATENATE(\"* El total de Procesados debe ser mayor o igual al total de Reactivos en el grupo de edad \",$T$11),\"\")","v":""},{"$f":"IF(V35<W35,CONCATENATE(\"* El total de Procesados debe ser mayor o igual al total de Reactivos en el grupo de edad \",$V$11),\"\")","v":""},{"$f":"IF(X35<Y35,CONCATENATE(\"* El total de Procesados debe ser mayor o igual al total de Reactivos en el grupo de edad \",$X$11),\"\")","v":""},{"$f":"IF(Z35<AA35,CONCATENATE(\"* El total de Procesados debe ser mayor o igual al total de Reactivos en el grupo de edad \",$Z$11),\"\")","v":""},{"$f":"IF(AD35<AE35,CONCATENATE(\"* El total de Procesados debe ser mayor o igual al total de Reactivos en el grupo de edad \",$AD$11),\"\")","v":""},{"$f":"IF(AF35<AG35,CONCATENATE(\"* El total de Procesados debe ser mayor o igual al total de Reactivos en el grupo de edad \",$AF$11),\"\")","v":""},{"$f":"IF(AH35<AI35,CONCATENATE(\"* El total de Procesados debe ser mayor o igual al total de Reactivos en el grupo de edad \",$AH$11),\"\")","v":""},{"$f":"IF(AJ35<AK35,CONCATENATE(\"* El total de Procesados debe ser mayor o igual al total de Reactivos en el grupo de edad \",$AJ$11),\"\")","v":""},{"$f":"IF(AL35<AM35,CONCATENATE(\"* El total de Procesados debe ser mayor o igual al total de Reactivos en el grupo de edad \",$AL$11),\"\")","v":""},{"$f":"IF(AN35<AO35,CONCATENATE(\"* El total de Procesados debe ser mayor o igual al total de Reactivos en el grupo de edad \",$AN$11),\"\")","v":""},{"$f":"IF(AP35<AQ35,CONCATENATE(\"* El total de Procesados debe ser mayor o igual al total de Reactivos en el grupo de edad \",$AP$11),\"\")","v":""},null,null,null,null,null,null,null,{"$f":"IF(B35<>(AS35),1,0)","v":0},{"$f":"IF(AND($B35>0,AND(AT35=\"\",AU35=\"\")),1,IF((AT35+AU35)>$B35,1,0))","v":0},{"$f":"IF(AND($B35>0,AV35=\"\"),1,IF(AV35>$B35,1,0))","v":0},{"$f":"IF(AND($B35>0,AW35=\"\"),1,IF(AW35>$B35,1,0))","v":0},null,null,null,null,null,{"$f":"IF(N35<O35,1,0)","v":0},{"$f":"IF(P35<Q35,1,0)","v":0},{"$f":"IF(R35<S35,1,0)","v":0},{"$f":"IF($T35<$U35,1,0)","v":0},{"$f":"IF(V35<W35,1,0)","v":0},{"$f":"IF(X35<Y35,1,0)","v":0},{"$f":"IF(Z35<AA35,1,0)","v":0},{"$f":"IF(AD35<AE35,1,0)","v":0},{"$f":"IF(AF35<AG35,1,0)","v":0},{"$f":"IF(AH35<AI35,1,0)","v":0},{"$f":"IF(AJ35<AK35,1,0)","v":0},{"$f":"IF(AL35<AM35,1,0)","v":0},{"$f":"IF(AN35<AO35,1,0)","v":0},{"$f":"IF(AP35<AQ35,1,0)","v":0}]
["Gestantes segundo trimestre embarazo",0,0,null,null,null,null,null,null,null,null,null,null,null,null,null,null,null,null,null,null,null,null,null,null,null,null,null,null,null,null,null,null,null,null,null,null,null,null,null,null,null,null,null,null,null,null,null,null,{"$f":"$CB36&CC36&CD36&$CE36&CK36&CL36&CM36&CN36&CO36&CP36&CQ36&CR36&CS36&CT36&CU36&CV36&CW36&CX36","v":""},null,null,null,null,null,null,null,null,null,null,null,null,null,null,null,null,null,null,null,null,null,null,null,null,null,null,null,null,null,{"$f":"IF(B36<>(AS36),\" * La suma de las columnas \"&AR$10&\"\"&\" DEBE SER IGUAL a los Exámenes Procesados. \",\"\")","v":""},{"$f":"IF(AND($B36>0,AND(AT36=\"\",AU36=\"\")),\"* No olvide ingresar las columnas Trans Masculino o Femenino (*Digite CERO si no tiene). \",IF((AT36+AU36)>$B36,\"* El Número de Trans Masculino o Femenino no puede superar el Total Procesados. \",\"\"))","v":""},{"$f":"IF(AND($B36>0,AV36=\"\"),\"* No olvide ingresar la columna \"&AV$10&\"\"&\" *(Digite CERO si no tiene). \",IF(AV36>$B36,\" *El Número de \"&AV$10&\"\"&\" no puede superar el Total Procesados. \",\"\"))","v":""},{"$f":"IF(AND($B36>0,AW36=\"\"),\"* No olvide ingresar la columna \"&AW$10&\"\"&\" *(Digite CERO si no tiene). \",IF(AW36>$B36,\" *El Número de \"&AW$10&\"\"&\" no puede superar el Total Procesados. \",\"\"))","v":""},null,null,null,null,null,{"$f":"IF(N36<O36,CONCATENATE(\"* El total de Procesados debe ser mayor o igual al total de Reactivos en el grupo de edad \",$N$11),\"\")","v":""},{"$f":"IF(P36<Q36,CONCATENATE(\"* El total de Procesados debe ser mayor o igual al total de Reactivos en el grupo de edad \",$P$11),\"\")","v":""},{"$f":"IF(R36<S36,CONCATENATE(\"* El total de Procesados debe ser mayor o igual al total de Reactivos en el grupo de edad \",$R$11),\"\")","v":""},{"$f":"IF($T36<$U36,CONCATENATE(\"* El total de Procesados debe ser mayor o igual al total de Reactivos en el grupo de edad \",$T$11),\"\")","v":""},{"$f":"IF(V36<W36,CONCATENATE(\"* El total de Procesados debe ser mayor o igual al total de Reactivos en el grupo de edad \",$V$11),\"\")","v":""},{"$f":"IF(X36<Y36,CONCATENATE(\"* El total de Procesados debe ser mayor o igual al total de Reactivos en el grupo de edad \",$X$11),\"\")","v":""},{"$f":"IF(Z36<AA36,CONCATENATE(\"* El total de Procesados debe ser mayor o igual al total de Reactivos en el grupo de edad \",$Z$11),\"\")","v":""},{"$f":"IF(AD36<AE36,CONCATENATE(\"* El total de Procesados debe ser mayor o igual al total de Reactivos en el grupo de edad \",$AD$11),\"\")","v":""},{"$f":"IF(AF36<AG36,CONCATENATE(\"* El total de Procesados debe ser mayor o igual al total de Reactivos en el grupo de edad \",$AF$11),\"\")","v":""},{"$f":"IF(AH36<AI36,CONCATENATE(\"* El total de Procesados debe ser mayor o igual al total de Reactivos en el grupo de edad \",$AH$11),\"\")","v":""},{"$f":"IF(AJ36<AK36,CONCATENATE(\"* El total de Procesados debe ser mayor o igual al total de Reactivos en el grupo de edad \",$AJ$11),\"\")","v":""},{"$f":"IF(AL36<AM36,CONCATENATE(\"* El total de Procesados debe ser mayor o igual al total de Reactivos en el grupo de edad \",$AL$11),\"\")","v":""},{"$f":"IF(AN36<AO36,CONCATENATE(\"* El total de Procesados debe ser mayor o igual al total de Reactivos en el grupo de edad \",$AN$11),\"\")","v":""},{"$f":"IF(AP36<AQ36,CONCATENATE(\"* El total de Procesados debe ser mayor o igual al total de Reactivos en el grupo de edad \",$AP$11),\"\")","v":""},null,null,null,null,null,null,null,{"$f":"IF(B36<>(AS36),1,0)","v":0},{"$f":"IF(AND($B36>0,AND(AT36=\"\",AU36=\"\")),1,IF((AT36+AU36)>$B36,1,0))","v":0},{"$f":"IF(AND($B36>0,AV36=\"\"),1,IF(AV36>$B36,1,0))","v":0},{"$f":"IF(AND($B36>0,AW36=\"\"),1,IF(AW36>$B36,1,0))","v":0},null,null,null,null,null,{"$f":"IF(N36<O36,1,0)","v":0},{"$f":"IF(P36<Q36,1,0)","v":0},{"$f":"IF(R36<S36,1,0)","v":0},{"$f":"IF($T36<$U36,1,0)","v":0},{"$f":"IF(V36<W36,1,0)","v":0},{"$f":"IF(X36<Y36,1,0)","v":0},{"$f":"IF(Z36<AA36,1,0)","v":0},{"$f":"IF(AD36<AE36,1,0)","v":0},{"$f":"IF(AF36<AG36,1,0)","v":0},{"$f":"IF(AH36<AI36,1,0)","v":0},{"$f":"IF(AJ36<AK36,1,0)","v":0},{"$f":"IF(AL36<AM36,1,0)","v":0},{"$f":"IF(AN36<AO36,1,0)","v":0},{"$f":"IF(AP36<AQ36,1,0)","v":0}]
["Gestantes tercer trimestre embarazo",0,0,null,null,null,null,null,null,null,null,null,null,null,null,null,null,null,null,null,null,null,null,null,null,null,null,null,null,null,null,null,null,null,null,null,null,null,null,null,null,null,null,null,null,null,null,null,null,"",null,null,null,null,null,null,null,null,null,null,null,null,null,null,null,null,null,null,null,null,null,null,null,null,null,null,null,null,null,"","","","",null,null,null,null,null,"","","","","","","","","","","","","","",null,null,null,null,null,null,null,0,0,0,0,null,null,null,null,null,0,0,0,0,0,0,0,0,0,0,0,0,0,0]
["Gestantes trimestre embarazo ignorado",0,{"$f":"+O38+Q38+S38+U38+W38+Y38+AA38+AC38+AE38+AG38+AI38+AK38+AM38+AO38+AQ38","v":0},null,null,null,null,null,null,null,null,null,null,null,null,null,null,null,null,null,null,null,null,null,null,null,null,null,null,null,null,null,null,null,null,null,null,null,null,null,null,null,null,null,null,null,null,null,null,"",null,null,null,null,null,null,null,null,null,null,null,null,null,null,null,null,null,null,null,null,null,null,null,null,null,null,null,null,null,"","","","",null,null,null,null,null,"","","","","","","","","","","","","","",null,null,null,null,null,null,null,0,0,0,0,null,null,null,null,null,0,0,0,0,0,0,0,0,0,0,0,0,0,0]
["Gestantes en seguimiento por diagnóstico sífilis",0,0,null,null,null,null,null,null,null,null,null,null,null,null,null,null,null,null,null,null,null,null,null,null,null,null,null,null,null,null,null,null,null,null,null,null,null,null,null,null,null,null,null,null,null,null,null,null,"",null,null,null,null,null,null,null,null,null,null,null,null,null,null,null,null,null,null,null,null,null,null,null,null,null,null,null,null,null,"","","","",null,null,null,null,null,"","","","","","","","","","","","","","",null,null,null,null,null,null,null,0,0,0,0,null,null,null,null,null,0,0,0,0,0,0,0,0,0,0,0,0,0,0]
["Pareja de gestante con serología reactiva",0,0,null,null,null,null,null,null,null,null,null,null,null,null,null,null,null,null,null,null,null,null,null,null,null,null,null,null,null,null,null,null,null,null,null,null,null,null,null,null,null,null,null,null,null,null,null,null,{"$f":"$CB40&CC40&CD40&$CE40&CK40&CL40&CM40&CN40&CO40&CP40&CQ40&CR40&CS40&CT40&CU40&CV40&CW40&CX40","v":""},null,null,null,null,null,null,null,null,null,null,null,null,null,null,null,null,null,null,null,null,null,null,null,null,null,null,null,null,null,{"$f":"IF(B40<>(AS40+AR40),\" * La suma de las columnas \"&AR$10&\"\"&\" DEBE SER IGUAL a los Exámenes Procesados. \",\"\")","v":""},"","","",null,null,null,null,null,{"$f":"IF(N40<O40,CONCATENATE(\"* El total de Procesados debe ser mayor o igual al total de Reactivos en el grupo de edad \",$N$11),\"\")","v":""},"","","","","","","","","","","","","",null,null,null,null,null,null,null,{"$f":"IF(B40<>(AS40+AR40),1,0)","v":0},0,0,0,null,null,null,null,null,0,0,0,0,0,0,0,0,0,0,0,0,0,0]
["Mujeres que ingresan a maternidad por parto",0,0,null,null,null,null,null,null,null,null,null,null,null,null,null,null,null,null,null,null,null,null,null,null,null,null,null,null,null,null,null,null,null,null,null,null,null,null,null,null,null,null,null,null,null,null,null,null,{"$f":"$CB41&CC41&CD41&$CE41&CK41&CL41&CM41&CN41&CO41&CP41&CQ41&CR41&CS41&CT41&CU41&CV41&CW41&CX41","v":""},null,null,null,null,null,null,null,null,null,null,null,null,null,null,null,null,null,null,null,null,null,null,null,null,null,null,null,null,null,{"$f":"IF(B41<>(AS41),\" * La suma de las columnas \"&AR$10&\"\"&\" DEBE SER IGUAL a los Exámenes Procesados. \",\"\")","v":""},"","","",null,null,null,null,null,{"$f":"IF(N41<O41,CONCATENATE(\"* El total de Procesados debe ser mayor o igual al total de Reactivos en el grupo de edad \",$N$11),\"\")","v":""},"","","","","","","","","","","","","",null,null,null,null,null,null,null,{"$f":"IF(B41<>(AS41),1,0)","v":0},0,0,0,null,null,null,null,null,0,0,0,0,0,0,0,0,0,0,0,0,0,0]
["Mujeres que ingresan por aborto",0,0,null,null,null,null,null,null,null,null,null,null,null,null,null,null,null,null,null,null,null,null,null,null,null,null,null,null,null,null,null,null,null,null,null,null,null,null,null,null,null,null,null,null,null,null,null,null,{"$f":"$CB42&CC42&CD42&$CE42&CK42&CL42&CM42&CN42&CO42&CP42&CQ42&CR42&CS42&CT42&CU42&CV42&CW42&CX42","v":""},null,null,null,null,null,null,null,null,null,null,null,null,null,null,null,null,null,null,null,null,null,null,null,null,null,null,null,null,null,"","","","",null,null,null,null,null,{"$f":"IF(N42<O42,CONCATENATE(\"* El total de Procesados debe ser mayor o igual al total de Reactivos en el grupo de edad \",$N$11),\"\")","v":""},{"$f":"IF(P42<Q42,CONCATENATE(\"* El total de Procesados debe ser mayor o igual al total de Reactivos en el grupo de edad \",$P$11),\"\")","v":""},"","","","","","","","","","","","",null,null,null,null,null,null,null,{"$f":"IF(B42<>(AS42),1,0)","v":0},0,0,0,null,null,null,null,null,0,0,0,0,0,0,0,0,0,0,0,0,0,0]
["Mujeres en control ginecológico",{"$f":"+D43+F43+H43+J43+L43+N43+P43+R43+T43+V43+X43+Z43+AB43+AD43+AF43+AH43+AJ43+AL43+AN43+AP43","v":0},{"$f":"+E43+G43+I43+K43+M43+O43+Q43+S43+U43+W43+Y43+AA43+AC43+AE43+AG43+AI43+AK43+AM43+AO43+AQ43","v":0},null,null,null,null,null,null,null,null,null,null,null,null,null,null,null,null,null,null,null,null,null,null,null,null,null,null,null,null,null,null,null,null,null,null,null,null,null,null,null,null,null,null,null,null,null,null,{"$f":"$CB43&CC43&CD43&$CE43&CF43&CG43&CH43&CI43&CJ43&CK43&CL43&CM43&CN43&CO43&CP43&CQ43&CR43&CS43&CT43&CU43&CV43&CW43&CX43","v":""},null,null,null,null,null,null,null,null,null,null,null,null,null,null,null,null,null,null,null,null,null,null,null,null,null,null,null,null,null,"","","","",{"$f":"IF(D43<E43,CONCATENATE(\"* El total de Procesados debe ser mayor o igual al total de Reactivos en el grupo de edad \",$D$11),\"\")","v":""},{"$f":"IF(F43<G43,CONCATENATE(\"* El total de Procesados debe ser mayor o igual al total de Reactivos en el grupo de edad \",$F$11),\"\")","v":""},{"$f":"IF(H43<I43,CONCATENATE(\"* El total de Procesados debe ser mayor o igual al total de Reactivos en el grupo de edad \",$H$11),\"\")","v":""},{"$f":"IF(J43<K43,CONCATENATE(\"* El total de Procesados debe ser mayor o igual al total de Reactivos en el grupo de edad \",$J$11),\"\")","v":""},{"$f":"IF(L43<M43,CONCATENATE(\"* El total de Procesados debe ser mayor o igual al total de Reactivos en el grupo de edad \",$L$11),\"\")","v":""},{"$f":"IF(N43<O43,CONCATENATE(\"* El total de Procesados debe ser mayor o igual al total de Reactivos en el grupo de edad \",$N$11),\"\")","v":""},{"$f":"IF(P43<Q43,CONCATENATE(\"* El total de Procesados debe ser mayor o igual al total de Reactivos en el grupo de edad \",$P$11),\"\")","v":""},"","","","","","","","","","","","",null,null,null,null,null,null,null,0,0,0,0,{"$f":"IF(D43<E43,1,0)","v":0},{"$f":"IF(F43<G43,1,0)","v":0},{"$f":"IF(H43<I43,1,0)","v":0},{"$f":"IF(J43<K43,1,0)","v":0},{"$f":"IF(L43<M43,1,0)","v":0},0,0,0,0,0,0,0,0,0,0,0,0,0,0]
["Recién nacido y lactante para detección de sífilis congénita",{"$f":"+D44+F44+H44","v":0},{"$f":"+E44+G44+I44","v":0},null,null,null,null,null,null,null,null,null,null,null,null,null,null,null,null,null,null,null,null,null,null,null,null,null,null,null,null,null,null,null,null,null,null,null,null,null,null,null,null,null,null,null,null,null,null,{"$f":"$CB44&CC44&CD44&$CE44&CK44&CL44&CM44&CN44&CO44&CP44&CQ44&CR44&CS44&CT44&CU44&CV44&CW44&CX44&CF44&CG44&CH44","v":""},null,null,null,null,null,null,null,null,null,null,null,null,null,null,null,null,null,null,null,null,null,null,null,null,null,null,null,null,null,{"$f":"IF(B44<>(AS44+AR44),\" * La suma de las columnas \"&AR$10&\"\"&\" DEBE SER IGUAL a los Exámenes Procesados. \",\"\")","v":""},"","","",{"$f":"IF(D44<E44,CONCATENATE(\"* El total de Procesados debe ser mayor o igual al total de Reactivos en el grupo de edad \",$D$11),\"\")","v":""},{"$f":"IF(F44<G44,CONCATENATE(\"* El total de Procesados debe ser mayor o igual al total de Reactivos en el grupo de edad \",$F$11),\"\")","v":""},{"$f":"IF(H44<I44,CONCATENATE(\"* El total de Procesados debe ser mayor o igual al total de Reactivos en el grupo de edad \",$H$11),\"\")","v":""},null,null,null,null,null,null,null,null,null,null,null,null,null,null,null,null,null,null,null,null,null,null,null,{"$f":"IF(B44<>(AS44+AR44),1,0)","v":0},0,0,0,{"$f":"IF(D44<E44,1,0)","v":0},{"$f":"IF(F44<G44,1,0)","v":0},{"$f":"IF(H44<I44,1,0)","v":0}]
["Personas en control por comercio sexual",{"$f":"+P45+R45+T45+V45+X45+Z45+AB45+AD45+AF45+AH45+AJ45+AL45+AN45+AP45","v":0},{"$f":"+Q45+S45+U45+W45+Y45+AA45+AC45+AE45+AG45+AI45+AK45+AM45+AO45+AQ45","v":0},null,null,null,null,null,null,null,null,null,null,null,null,null,null,null,null,null,null,null,null,null,null,null,null,null,null,null,null,null,null,null,null,null,null,null,null,null,null,null,null,null,null,null,null,null,null,{"$f":"$CB45&CC45&CD45&$CE45&CK45&CL45&CM45&CN45&CO45&CP45&CQ45&CR45&CS45&CT45&CU45&CV45&CW45&CX45","v":""},null,null,null,null,null,null,null,null,null,null,null,null,null,null,null,null,null,null,null,null,null,null,null,null,null,null,null,null,null,{"$f":"IF(B45<>(AS45+AR45),\" * La suma de las columnas \"&AR$10&\"\"&\" DEBE SER IGUAL a los Exámenes Procesados. \",\"\")","v":""},"","","",null,null,null,null,null,null,{"$f":"IF(P45<Q45,CONCATENATE(\"* El total de Procesados debe ser mayor o igual al total de Reactivos en el grupo de edad \",$P$11),\"\")","v":""},{"$f":"IF(R45<S45,CONCATENATE(\"* El total de Procesados debe ser mayor o igual al total de Reactivos en el grupo de edad \",$R$11),\"\")","v":""},"",{"$f":"IF(V45<W45,CONCATENATE(\"* El total de Procesados debe ser mayor o igual al total de Reactivos en el grupo de edad \",$V$11),\"\")","v":""},{"$f":"IF(X45<Y45,CONCATENATE(\"* El total de Procesados debe ser mayor o igual al total de Reactivos en el grupo de edad \",$X$11),\"\")","v":""},{"$f":"IF(Z45<AA45,CONCATENATE(\"* El total de Procesados debe ser mayor o igual al total de Reactivos en el grupo de edad \",$Z$11),\"\")","v":""},{"$f":"IF(AD45<AE45,CONCATENATE(\"* El total de Procesados debe ser mayor o igual al total de Reactivos en el grupo de edad \",$AD$11),\"\")","v":""},{"$f":"IF(AF45<AG45,CONCATENATE(\"* El total de Procesados debe ser mayor o igual al total de Reactivos en el grupo de edad \",$AF$11),\"\")","v":""},{"$f":"IF(AH45<AI45,CONCATENATE(\"* El total de Procesados debe ser mayor o igual al total de Reactivos en el grupo de edad \",$AH$11),\"\")","v":""},{"$f":"IF(AJ45<AK45,CONCATENATE(\"* El total de Procesados debe ser mayor o igual al total de Reactivos en el grupo de edad \",$AJ$11),\"\")","v":""},{"$f":"IF(AL45<AM45,CONCATENATE(\"* El total de Procesados debe ser mayor o igual al total de Reactivos en el grupo de edad \",$AL$11),\"\")","v":""},{"$f":"IF(AN45<AO45,CONCATENATE(\"* El total de Procesados debe ser mayor o igual al total de Reactivos en el grupo de edad \",$AN$11),\"\")","v":""},{"$f":"IF(AP45<AQ45,CONCATENATE(\"* El total de Procesados debe ser mayor o igual al total de Reactivos en el grupo de edad \",$AP$11),\"\")","v":""},null,null,null,null,null,null,null,{"$f":"IF(B45<>(AS45+AR45),1,0)","v":0},0,0,0,null,null,null,null,null,null,{"$f":"IF(P45<Q45,1,0)","v":0},{"$f":"IF(R45<S45,1,0)","v":0},0,{"$f":"IF(V45<W45,1,0)","v":0},{"$f":"IF(X45<Y45,1,0)","v":0},{"$f":"IF(Z45<AA45,1,0)","v":0},{"$f":"IF(AD45<AE45,1,0)","v":0},{"$f":"IF(AF45<AG45,1,0)","v":0},{"$f":"IF(AH45<AI45,1,0)","v":0},{"$f":"IF(AJ45<AK45,1,0)","v":0},{"$f":"IF(AL45<AM45,1,0)","v":0},{"$f":"IF(AN45<AO45,1,0)","v":0},{"$f":"IF(AP45<AQ45,1,0)","v":0}]
["Personas en control fecundidad",{"$f":"+N46+P46+R46+T46+V46+X46+Z46+AB46+AD46+AF46+AH46+AJ46+AL46+AN46+AP46","v":0},{"$f":"+O46+Q46+S46+U46+W46+Y46+AA46+AC46+AE46+AG46+AI46+AK46+AM46+AO46+AQ46","v":0},null,null,null,null,null,null,null,null,null,null,null,null,null,null,null,null,null,null,null,null,null,null,null,null,null,null,null,null,null,null,null,null,null,null,null,null,null,null,null,null,null,null,null,null,null,null,{"$f":"$CB46&CC46&CD46&$CE46&CK46&CL46&CM46&CN46&CO46&CP46&CQ46&CR46&CS46&CT46&CU46&CV46&CW46&CX46","v":""},null,null,null,null,null,null,null,null,null,null,null,null,null,null,null,null,null,null,null,null,null,null,null,null,null,null,null,null,null,"","","","",null,null,null,null,null,{"$f":"IF(N46<O46,CONCATENATE(\"* El total de Procesados debe ser mayor o igual al total de Reactivos en el grupo de edad \",$N$11),\"\")","v":""},{"$f":"IF(P46<Q46,CONCATENATE(\"* El total de Procesados debe ser mayor o igual al total de Reactivos en el grupo de edad \",$P$11),\"\")","v":""},"","","","","","","","","","","","",null,null,null,null,null,null,null,0,0,0,0,null,null,null,null,null,{"$f":"IF(N46<O46,1,0)","v":0},0,0,0,0,0,0,0,0,0,0,0,0,0]
["Consultantes por ITS",{"$f":"+D47+F47+H47+J47+L47+N47+P47+R47+T47+V47+X47+Z47+AB47+AD47+AF47+AH47+AJ47+AL47+AN47+AP47","v":0},{"$f":"+E47+G47+I47+K47+M47+O47+Q47+S47+U47+W47+Y47+AA47+AC47+AE47+AG47+AI47+AK47+AM47+AO47+AQ47","v":0},null,null,null,null,null,null,null,null,null,null,null,null,null,null,null,null,null,null,null,null,null,null,null,null,null,null,null,null,null,null,null,null,null,null,null,null,null,null,null,null,null,null,null,null,null,null,{"$f":"$CB47&CC47&CD47&$CE47&CF47&CG47&CH47&CI47&CJ47&CK47&CL47&CM47&CN47&CO47&CP47&CQ47&CR47&CS47&CT47&CU47&CV47&CW47&CX47","v":""},null,null,null,null,null,null,null,null,null,null,null,null,null,null,null,null,null,null,null,null,null,null,null,null,null,null,null,null,null,"","","","",{"$f":"IF(D47<E47,CONCATENATE(\"* El total de Procesados debe ser mayor o igual al total de Reactivos en el grupo de edad \",$D$11),\"\")","v":""},{"$f":"IF(F47<G47,CONCATENATE(\"* El total de Procesados debe ser mayor o igual al total de Reactivos en el grupo de edad \",$F$11),\"\")","v":""},{"$f":"IF(H47<I47,CONCATENATE(\"* El total de Procesados debe ser mayor o igual al total de Reactivos en el grupo de edad \",$H$11),\"\")","v":""},{"$f":"IF(J47<K47,CONCATENATE(\"* El total de Procesados debe ser mayor o igual al total de Reactivos en el grupo de edad \",$J$11),\"\")","v":""},{"$f":"IF(L47<M47,CONCATENATE(\"* El total de Procesados debe ser mayor o igual al total de Reactivos en el grupo de edad \",$L$11),\"\")","v":""},{"$f":"IF(N47<O47,CONCATENATE(\"* El total de Procesados debe ser mayor o igual al total de Reactivos en el grupo de edad \",$N$11),\"\")","v":""},{"$f":"IF(P47<Q47,CONCATENATE(\"* El total de Procesados debe ser mayor o igual al total de Reactivos en el grupo de edad \",$P$11),\"\")","v":""},"","","","","","","","","","","","",null,null,null,null,null,null,null,0,0,0,0,{"$f":"IF(D47<E47,1,0)","v":0},{"$f":"IF(F47<G47,1,0)","v":0},{"$f":"IF(H47<I47,1,0)","v":0},{"$f":"IF(J47<K47,1,0)","v":0},{"$f":"IF(L47<M47,1,0)","v":0},0,0,0,0,0,0,0,0,0,0,0,0,0,0]
["Personas EMP/EMPAM",{"$f":"+P48+R48+T48+V48+X48+Z48+AB48+AD48+AF48+AH48+AJ48+AL48+AN48+AP48","v":0},{"$f":"+Q48+S48+U48+W48+Y48+AA48+AC48+AE48+AG48+AI48+AK48+AM48+AO48+AQ48","v":0},null,null,null,null,null,null,null,null,null,null,null,null,null,null,null,null,null,null,null,null,null,null,null,null,null,null,null,null,null,null,null,null,null,null,null,null,null,null,null,null,null,null,null,null,null,null,"",null,null,null,null,null,null,null,null,null,null,null,null,null,null,null,null,null,null,null,null,null,null,null,null,null,null,null,null,null,"","","","",null,null,null,null,null,null,{"$f":"IF(P48<Q48,CONCATENATE(\"* El total de Procesados debe ser mayor o igual al total de Reactivos en el grupo de edad \",$P$11),\"\")","v":""},"","","","","","","","","","","","",null,null,null,null,null,null,null,0,0,0,0,null,null,null,null,null,null,0,0,0,0,0,0,0,0,0,0,0,0,0]
["Donantes de sangre",{"$f":"+P49+R49+T49+V49+X49+Z49+AB49+AD49+AF49+AH49","v":0},{"$f":"+Q49+S49+U49+W49+Y49+AA49+AC49+AE49+AG49+AI49","v":0},null,null,null,null,null,null,null,null,null,null,null,null,null,null,null,null,null,null,null,null,null,null,null,null,null,null,null,null,null,null,null,null,null,null,null,null,null,null,null,null,null,null,null,null,null,null,{"$f":"$CB49&CC49&CD49&$CE49&CK49&CL49&CM49&CN49&CO49&CP49&CQ49&CR49&CS49&CT49&CU49&CV49&CW49&CX49","v":""},null,null,null,null,null,null,null,null,null,null,null,null,null,null,null,null,null,null,null,null,null,null,null,null,null,null,null,null,null,"","","","",null,null,null,null,null,null,"","","","","","","","","",null,null,null,null,null,null,null,null,null,null,null,0,0,0,0,null,null,null,null,null,null,0,0,0,0,0,0,0,0,0]
["Donantes de órganos y/o tejidos",{"$f":"+D50+F50+H50+J50+L50+N50+P50+R50+T50+V50+X50+Z50+AB50+AD50+AF50+AH50+AJ50+AL50+AN50+AP50","v":0},0,null,null,null,null,null,null,null,null,null,null,null,null,null,null,null,null,null,null,null,null,null,null,null,null,null,null,null,null,null,null,null,null,null,null,null,null,null,null,null,null,null,null,null,null,null,null,{"$f":"$CB50&CC50&CD50&$CE50&CF50&CG50&CH50&CI50&CJ50&CK50&CL50&CM50&CN50&CO50&CP50&CQ50&CR50&CS50&CT50&CU50&CV50&CW50&CX50","v":""},null,null,null,null,null,null,null,null,null,null,null,null,null,null,null,null,null,null,null,null,null,null,null,null,null,null,null,null,null,"","","","",{"$f":"IF(D50<E50,CONCATENATE(\"* El total de Procesados debe ser mayor o igual al total de Reactivos en el grupo de edad \",$D$11),\"\")","v":""},{"$f":"IF(F50<G50,CONCATENATE(\"* El total de Procesados debe ser mayor o igual al total de Reactivos en el grupo de edad \",$F$11),\"\")","v":""},{"$f":"IF(H50<I50,CONCATENATE(\"* El total de Procesados debe ser mayor o igual al total de Reactivos en el grupo de edad \",$H$11),\"\")","v":""},{"$f":"IF(J50<K50,CONCATENATE(\"* El total de Procesados debe ser mayor o igual al total de Reactivos en el grupo de edad \",$J$11),\"\")","v":""},{"$f":"IF(L50<M50,CONCATENATE(\"* El total de Procesados debe ser mayor o igual al total de Reactivos en el grupo de edad \",$L$11),\"\")","v":""},{"$f":"IF(N50<O50,CONCATENATE(\"* El total de Procesados debe ser mayor o igual al total de Reactivos en el grupo de edad \",$N$11),\"\")","v":""},"","","","","","","","","",{"$f":"IF(AJ50<AK50,CONCATENATE(\"* El total de Procesados debe ser mayor o igual al total de Reactivos en el grupo de edad \",$AJ$11),\"\")","v":""},{"$f":"IF(AL50<AM50,CONCATENATE(\"* El total de Procesados debe ser mayor o igual al total de Reactivos en el grupo de edad \",$AL$11),\"\")","v":""},{"$f":"IF(AN50<AO50,CONCATENATE(\"* El total de Procesados debe ser mayor o igual al total de Reactivos en el grupo de edad \",$AN$11),\"\")","v":""},{"$f":"IF(AP50<AQ50,CONCATENATE(\"* El total de Procesados debe ser mayor o igual al total de Reactivos en el grupo de edad \",$AP$11),\"\")","v":""},null,null,null,null,null,null,null,0,0,0,0,{"$f":"IF(D50<E50,1,0)","v":0},{"$f":"IF(F50<G50,1,0)","v":0},{"$f":"IF(H50<I50,1,0)","v":0},{"$f":"IF(J50<K50,1,0)","v":0},{"$f":"IF(L50<M50,1,0)","v":0},{"$f":"IF(N50<O50,1,0)","v":0},0,0,0,0,0,0,0,0,0,{"$f":"IF(AJ50<AK50,1,0)","v":0},{"$f":"IF(AL50<AM50,1,0)","v":0},{"$f":"IF(AN50<AO50,1,0)","v":0},{"$f":"IF(AP50<AQ50,1,0)","v":0}]
["Pacientes en diálisis",0,0,null,null,null,null,null,null,null,null,null,null,null,null,null,null,null,null,null,null,null,null,null,null,null,null,null,null,null,null,null,null,null,null,null,null,null,null,null,null,null,null,null,null,null,null,null,null,{"$f":"$CB51&CC51&CD51&$CE51&CF51&CG51&CH51&CI51&CJ51&CK51&CL51&CM51&CN51&CO51&CP51&CQ51&CR51&CS51&CT51&CU51&CV51&CW51&CX51","v":""},null,null,null,null,null,null,null,null,null,null,null,null,null,null,null,null,null,null,null,null,null,null,null,null,null,null,null,null,null,"","","","","","","","","","","","","","","","","","","","","","","",null,null,null,null,null,null,null,0,0,0,0,0,0,0,0,0,0,0,0,0,0,0,0,0,0,0,0,0,0,0]
["Víctima de violencia sexual",0,0,null,null,null,null,null,null,null,null,null,null,null,null,null,null,null,null,null,null,null,null,null,null,null,null,null,null,null,null,null,null,null,null,null,null,null,null,null,null,null,null,null,null,null,null,null,null,"",null,null,null,null,null,null,null,null,null,null,null,null,null,null,null,null,null,null,null,null,null,null,null,null,null,null,null,null,null,"","","","","","","","","","","","","","","","","","","","","","","",null,null,null,null,null,null,null,0,0,0,0,0,0,0,0,0,0,0,0,0,0,0,0,0,0,0,0,0,0,0]
["SECCIÓN A.3: EXAMEN RPR POR GRUPO DE USUARIOS (USO EXCLUSIVO DE ESTABLECIMIENTOS CON LABORATORIO QUE PROCESAN)"]
["GRUPO DE PESQUISA","TOTAL",null,"RANGO ETARIO",null,null,null,null,null,null,null,null,null,null,null,null,null,null,null,null,null,null,null,null,null,null,null,null,null,null,null,null,null,null,null,null,null,null,null,null,null,null,null,"POR SEXO (Procesados)",null,"TRANS",null,"Pueblos Originarios","Migrantes"]
[null,null,null,"Menos de 6 meses",null,"6 - 11 meses",null,"12-24 meses",null,"3 - 4 años",null,"5 - 9 años",null,"10 - 14 años",null,"15 - 19 años",null,"20 - 24 años",null,"25 - 29 años",null,"30 - 34 años",null,"35 - 39 años",null,"40 - 44 años",null,"45 - 49 años",null,"50 - 54 años",null,"55 - 59 años",null,"60 - 64 años",null,"65 - 69 años",null,"70 - 74 años",null,"75 - 79 años",null,"80 y más años",null,"Hombres","Mujeres"]
[null,"Procesados","Reactivos","Procesados","Reactivos","Procesados","Reactivos","Procesados","Reactivos","Procesados","Reactivos","Procesados","Reactivos","Procesados","Reactivos","Procesados","Reactivos","Procesados","Reactivos","Procesados","Reactivos","Procesados","Reactivos","Procesados","Reactivos","Procesados","Reactivos","Procesados","Reactivos","Procesados","Reactivos","Procesados","Reactivos","Procesados","Reactivos","Procesados","Reactivos","Procesados","Reactivos","Procesados","Reactivos","Procesados","Reactivos",null,null,"Masculino","Femenino"]
["Gestantes primer trimestre embarazo",{"$f":"+N57+P57+R57+T57+V57+X57+Z57+AB57+AD57+AF57+AH57+AJ57+AL57+AN57+AP57","v":0},0,null,null,null,null,null,null,null,null,null,null,null,null,null,null,null,null,null,null,null,null,null,null,null,null,null,null,null,null,null,null,null,null,null,null,null,null,null,null,null,null,null,null,null,null,null,null,{"$f":"CB57&CC57&CD57&CE57&CK57&CL57&CM57&CN57&CO57&CP57&CQ57&CR57&CS57&CT57&CU57&CV57&CW57&CX57","v":""},null,null,null,null,null,null,null,null,null,null,null,null,null,null,null,null,null,null,null,null,null,null,null,null,null,null,null,null,null,{"$f":"IF(B57<>(AS57),\" * La suma de las columnas \"&AR$10&\"\"&\" DEBE SER IGUAL a los Exámenes Procesados. \",\"\")","v":""},{"$f":"IF(AND($B57>0,AND(AT57=\"\",AU57=\"\")),\"* No olvide ingresar las columnas Trans Masculino o Femenino (*Digite CERO si no tiene). \",IF((AT57+AU57)>$B57,\"* El Número de Trans Masculino o Femenino no puede superar el Total Procesados. \",\"\"))","v":""},{"$f":"IF(AND($B57>0,AV57=\"\"),\"* No olvide ingresar la columna \"&AV$10&\"\"&\" *(Digite CERO si no tiene). \",IF(AV57>$B57,\" *El Número de \"&AV$10&\"\"&\" no puede superar el Total Procesados. \",\"\"))","v":""},{"$f":"IF(AND($B57>0,AW57=\"\"),\"* No olvide ingresar la columna \"&AW$10&\"\"&\" *(Digite CERO si no tiene). \",IF(AW57>$B57,\" *El Número de \"&AW$10&\"\"&\" no puede superar el Total Procesados. \",\"\"))","v":""},null,null,null,null,null,{"$f":"IF(N57<O57,CONCATENATE(\"* El total de Procesados debe ser mayor o igual al total de Reactivos en el grupo de edad \",$N$11),\"\")","v":""},{"$f":"IF(P57<Q57,CONCATENATE(\"* El total de Procesados debe ser mayor o igual al total de Reactivos en el grupo de edad \",$P$11),\"\")","v":""},{"$f":"IF(R57<S57,CONCATENATE(\"* El total de Procesados debe ser mayor o igual al total de Reactivos en el grupo de edad \",$R$11),\"\")","v":""},{"$f":"IF($T57<$U57,CONCATENATE(\"* El total de Procesados debe ser mayor o igual al total de Reactivos en el grupo de edad \",$T$11),\"\")","v":""},{"$f":"IF(V57<W57,CONCATENATE(\"* El total de Procesados debe ser mayor o igual al total de Reactivos en el grupo de edad \",$V$11),\"\")","v":""},{"$f":"IF(X57<Y57,CONCATENATE(\"* El total de Procesados debe ser mayor o igual al total de Reactivos en el grupo de edad \",$X$11),\"\")","v":""},{"$f":"IF(Z57<AA57,CONCATENATE(\"* El total de Procesados debe ser mayor o igual al total de Reactivos en el grupo de edad \",$Z$11),\"\")","v":""},{"$f":"IF(AD57<AE57,CONCATENATE(\"* El total de Procesados debe ser mayor o igual al total de Reactivos en el grupo de edad \",$AD$11),\"\")","v":""},{"$f":"IF(AF57<AG57,CONCATENATE(\"* El total de Procesados debe ser mayor o igual al total de Reactivos en el grupo de edad \",$AF$11),\"\")","v":""},{"$f":"IF(AH57<AI57,CONCATENATE(\"* El total de Procesados debe ser mayor o igual al total de Reactivos en el grupo de edad \",$AH$11),\"\")","v":""},{"$f":"IF(AJ57<AK57,CONCATENATE(\"* El total de Procesados debe ser mayor o igual al total de Reactivos en el grupo de edad \",$AJ$11),\"\")","v":""},{"$f":"IF(AL57<AM57,CONCATENATE(\"* El total de Procesados debe ser mayor o igual al total de Reactivos en el grupo de edad \",$AL$11),\"\")","v":""},{"$f":"IF(AN57<AO57,CONCATENATE(\"* El total de Procesados debe ser mayor o igual al total de Reactivos en el grupo de edad \",$AN$11),\"\")","v":""},{"$f":"IF(AP57<AQ57,CONCATENATE(\"* El total de Procesados debe ser mayor o igual al total de Reactivos en el grupo de edad \",$AP$11),\"\")","v":""},null,null,null,null,null,null,null,{"$f":"IF(B57<>(AS57),1,0)","v":0},{"$f":"IF(AND($B57>0,AND(AT57=\"\",AU57=\"\")),1,IF((AT57+AU57)>$B57,1,0))","v":0},{"$f":"IF(AND($B57>0,AV57=\"\"),1,IF(AV57>$B57,1,0))","v":0},{"$f":"IF(AND($B57>0,AW57=\"\"),1,IF(AW57>$B57,1,0))","v":0},null,null,null,null,null,{"$f":"IF(N57<O57,1,0)","v":0},{"$f":"IF(P57<Q57,1,0)","v":0},{"$f":"IF(R57<S57,1,0)","v":0},{"$f":"IF($T57<$U57,1,0)","v":0},{"$f":"IF(V57<W57,1,0)","v":0},{"$f":"IF(X57<Y57,1,0)","v":0},{"$f":"IF(Z57<AA57,1,0)","v":0},{"$f":"IF(AD57<AE57,1,0)","v":0},{"$f":"IF(AF57<AG57,1,0)","v":0},{"$f":"IF(AH57<AI57,1,0)","v":0},{"$f":"IF(AJ57<AK57,1,0)","v":0},{"$f":"IF(AL57<AM57,1,0)","v":0},{"$f":"IF(AN57<AO57,1,0)","v":0},{"$f":"IF(AP57<AQ57,1,0)","v":0}]
["Gestantes segundo trimestre embarazo",0,0,null,null,null,null,null,null,null,null,null,null,null,null,null,null,null,null,null,null,null,null,null,null,null,null,null,null,null,null,null,null,null,null,null,null,null,null,null,null,null,null,null,null,null,null,null,null,{"$f":"CB58&CC58&CD58&CE58&CK58&CL58&CM58&CN58&CO58&CP58&CQ58&CR58&CS58&CT58&CU58&CV58&CW58&CX58","v":""},null,null,null,null,null,null,null,null,null,null,null,null,null,null,null,null,null,null,null,null,null,null,null,null,null,null,null,null,null,{"$f":"IF(B58<>(AS58),\" * La suma de las columnas \"&AR$10&\"\"&\" DEBE SER IGUAL a los Exámenes Procesados. \",\"\")","v":""},{"$f":"IF(AND($B58>0,AND(AT58=\"\",AU58=\"\")),\"* No olvide ingresar las columnas Trans Masculino o Femenino (*Digite CERO si no tiene). \",IF((AT58+AU58)>$B58,\"* El Número de Trans Masculino o Femenino no puede superar el Total Procesados. \",\"\"))","v":""},{"$f":"IF(AND($B58>0,AV58=\"\"),\"* No olvide ingresar la columna \"&AV$10&\"\"&\" *(Digite CERO si no tiene). \",IF(AV58>$B58,\" *El Número de \"&AV$10&\"\"&\" no puede superar el Total Procesados. \",\"\"))","v":""},{"$f":"IF(AND($B58>0,AW58=\"\"),\"* No olvide ingresar la columna \"&AW$10&\"\"&\" *(Digite CERO si no tiene). \",IF(AW58>$B58,\" *El Número de \"&AW$10&\"\"&\" no puede superar el Total Procesados. \",\"\"))","v":""},null,null,null,null,null,{"$f":"IF(N58<O58,CONCATENATE(\"* El total de Procesados debe ser mayor o igual al total de Reactivos en el grupo de edad \",$N$11),\"\")","v":""},{"$f":"IF(P58<Q58,CONCATENATE(\"* El total de Procesados debe ser mayor o igual al total de Reactivos en el grupo de edad \",$P$11),\"\")","v":""},{"$f":"IF(R58<S58,CONCATENATE(\"* El total de Procesados debe ser mayor o igual al total de Reactivos en el grupo de edad \",$R$11),\"\")","v":""},{"$f":"IF($T58<$U58,CONCATENATE(\"* El total de Procesados debe ser mayor o igual al total de Reactivos en el grupo de edad \",$T$11),\"\")","v":""},{"$f":"IF(V58<W58,CONCATENATE(\"* El total de Procesados debe ser mayor o igual al total de Reactivos en el grupo de edad \",$V$11),\"\")","v":""},{"$f":"IF(X58<Y58,CONCATENATE(\"* El total de Procesados debe ser mayor o igual al total de Reactivos en el grupo de edad \",$X$11),\"\")","v":""},{"$f":"IF(Z58<AA58,CONCATENATE(\"* El total de Procesados debe ser mayor o igual al total de Reactivos en el grupo de edad \",$Z$11),\"\")","v":""},{"$f":"IF(AD58<AE58,CONCATENATE(\"* El total de Procesados debe ser mayor o igual al total de Reactivos en el grupo de edad \",$AD$11),\"\")","v":""},{"$f":"IF(AF58<AG58,CONCATENATE(\"* El total de Procesados debe ser mayor o igual al total de Reactivos en el grupo de edad \",$AF$11),\"\")","v":""},{"$f":"IF(AH58<AI58,CONCATENATE(\"* El total de Procesados debe ser mayor o igual al total de Reactivos en el grupo de edad \",$AH$11),\"\")","v":""},{"$f":"IF(AJ58<AK58,CONCATENATE(\"* El total de Procesados debe ser mayor o igual al total de Reactivos en el grupo de edad \",$AJ$11),\"\")","v":""},{"$f":"IF(AL58<AM58,CONCATENATE(\"* El total de Procesados debe ser mayor o igual al total de Reactivos en el grupo de edad \",$AL$11),\"\")","v":""},{"$f":"IF(AN58<AO58,CONCATENATE(\"* El total de Procesados debe ser mayor o igual al total de Reactivos en el grupo de edad \",$AN$11),\"\")","v":""},{"$f":"IF(AP58<AQ58,CONCATENATE(\"* El total de Procesados debe ser mayor o igual al total de Reactivos en el grupo de edad \",$AP$11),\"\")","v":""},null,null,null,null,null,null,null,{"$f":"IF(B58<>(AS58),1,0)","v":0},{"$f":"IF(AND($B58>0,AND(AT58=\"\",AU58=\"\")),1,IF((AT58+AU58)>$B58,1,0))","v":0},{"$f":"IF(AND($B58>0,AV58=\"\"),1,IF(AV58>$B58,1,0))","v":0},{"$f":"IF(AND($B58>0,AW58=\"\"),1,IF(AW58>$B58,1,0))","v":0},null,null,null,null,null,{"$f":"IF(N58<O58,1,0)","v":0},{"$f":"IF(P58<Q58,1,0)","v":0},{"$f":"IF(R58<S58,1,0)","v":0},{"$f":"IF($T58<$U58,1,0)","v":0},{"$f":"IF(V58<W58,1,0)","v":0},{"$f":"IF(X58<Y58,1,0)","v":0},{"$f":"IF(Z58<AA58,1,0)","v":0},{"$f":"IF(AD58<AE58,1,0)","v":0},{"$f":"IF(AF58<AG58,1,0)","v":0},{"$f":"IF(AH58<AI58,1,0)","v":0},{"$f":"IF(AJ58<AK58,1,0)","v":0},{"$f":"IF(AL58<AM58,1,0)","v":0},{"$f":"IF(AN58<AO58,1,0)","v":0},{"$f":"IF(AP58<AQ58,1,0)","v":0}]
["Gestantes tercer trimestre embarazo",0,0,null,null,null,null,null,null,null,null,null,null,null,null,null,null,null,null,null,null,null,null,null,null,null,null,null,null,null,null,null,null,null,null,null,null,null,null,null,null,null,null,null,null,null,null,null,null,"",null,null,null,null,null,null,null,null,null,null,null,null,null,null,null,null,null,null,null,null,null,null,null,null,null,null,null,null,null,"","","","",null,null,null,null,null,"","","","","","","","","","","","","","",null,null,null,null,null,null,null,0,0,0,0,null,null,null,null,null,0,0,0,0,0,0,0,0,0,0,0,0,0,0]
["Gestantes trimestre embarazo ignorado",0,0,null,null,null,null,null,null,null,null,null,null,null,null,null,null,null,null,null,null,null,null,null,null,null,null,null,null,null,null,null,null,null,null,null,null,null,null,null,null,null,null,null,null,null,null,null,null,"",null,null,null,null,null,null,null,null,null,null,null,null,null,null,null,null,null,null,null,null,null,null,null,null,null,null,null,null,null,"","","","",null,null,null,null,null,"","","","","","","","","","","","","","",null,null,null,null,null,null,null,0,0,0,0,null,null,null,null,null,0,0,0,0,0,0,0,0,0,0,0,0,0,0]
["Gestantes en seguimiento por diagnóstico sífilis",0,0,null,null,null,null,null,null,null,null,null,null,null,null,null,null,null,null,null,null,null,null,null,null,null,null,null,null,null,null,null,null,null,null,null,null,null,null,null,null,null,null,null,null,null,null,null,null,"",null,null,null,null,null,null,null,null,null,null,null,null,null,null,null,null,null,null,null,null,null,null,null,null,null,null,null,null,null,"","","","",null,null,null,null,null,"","","","","","","","","","","","","","",null,null,null,null,null,null,null,0,0,0,0,null,null,null,null,null,0,0,0,0,0,0,0,0,0,0,0,0,0,0]
["Pareja de gestante con serología reactiva",0,0,null,null,null,null,null,null,null,null,null,null,null,null,null,null,null,null,null,null,null,null,null,null,null,null,null,null,null,null,null,null,null,null,null,null,null,null,null,null,null,null,null,null,null,null,null,null,{"$f":"CB62&CC62&CD62&CE62&CK62&CL62&CM62&CN62&CO62&CP62&CQ62&CR62&CS62&CT62&CU62&CV62&CW62&CX62","v":""},null,null,null,null,null,null,null,null,null,null,null,null,null,null,null,null,null,null,null,null,null,null,null,null,null,null,null,null,null,{"$f":"IF(B62<>(AS62+AR62),\" * La suma de las columnas \"&AR$10&\"\"&\" DEBE SER IGUAL a los Exámenes Procesados. \",\"\")","v":""},"","","",null,null,null,null,null,{"$f":"IF(N62<O62,CONCATENATE(\"* El total de Procesados debe ser mayor o igual al total de Reactivos en el grupo de edad \",$N$11),\"\")","v":""},"","","","","","","","","","","","","",null,null,null,null,null,null,null,{"$f":"IF(B62<>(AS62+AR62),1,0)","v":0},0,0,0,null,null,null,null,null,0,0,0,0,0,0,0,0,0,0,0,0,0,0]
["Mujeres que ingresan a maternidad por parto",0,0,null,null,null,null,null,null,null,null,null,null,null,null,null,null,null,null,null,null,null,null,null,null,null,null,null,null,null,null,null,null,null,null,null,null,null,null,null,null,null,null,null,null,null,null,null,null,{"$f":"CB63&CC63&CD63&CE63&CK63&CL63&CM63&CN63&CO63&CP63&CQ63&CR63&CS63&CT63&CU63&CV63&CW63&CX63","v":""},null,null,null,null,null,null,null,null,null,null,null,null,null,null,null,null,null,null,null,null,null,null,null,null,null,null,null,null,null,{"$f":"IF(B63<>(AS63),\" * La suma de las columnas \"&AR$10&\"\"&\" DEBE SER IGUAL a los Exámenes Procesados. \",\"\")","v":""},"","","",null,null,null,null,null,{"$f":"IF(N63<O63,CONCATENATE(\"* El total de Procesados debe ser mayor o igual al total de Reactivos en el grupo de edad \",$N$11),\"\")","v":""},"","","","","","","","","","","","","",null,null,null,null,null,null,null,{"$f":"IF(B63<>(AS63),1,0)","v":0},0,0,0,null,null,null,null,null,0,0,0,0,0,0,0,0,0,0,0,0,0,0]
["Mujeres que ingresan por aborto",0,0,null,null,null,null,null,null,null,null,null,null,null,null,null,null,null,null,null,null,null,null,null,null,null,null,null,null,null,null,null,null,null,null,null,null,null,null,null,null,null,null,null,null,null,null,null,null,{"$f":"CB64&CC64&CD64&CE64&CK64&CL64&CM64&CN64&CO64&CP64&CQ64&CR64&CS64&CT64&CU64&CV64&CW64&CX64","v":""},null,null,null,null,null,null,null,null,null,null,null,null,null,null,null,null,null,null,null,null,null,null,null,null,null,null,null,null,null,"","","","",null,null,null,null,null,{"$f":"IF(N64<O64,CONCATENATE(\"* El total de Procesados debe ser mayor o igual al total de Reactivos en el grupo de edad \",$N$11),\"\")","v":""},{"$f":"IF(P64<Q64,CONCATENATE(\"* El total de Procesados debe ser mayor o igual al total de Reactivos en el grupo de edad \",$P$11),\"\")","v":""},"","","","","","","","","","","","",null,null,null,null,null,null,null,{"$f":"IF(B64<>(AS64),1,0)","v":0},0,0,0,null,null,null,null,null,0,0,0,0,0,0,0,0,0,0,0,0,0,0]
["Mujeres en control ginecológico",{"$f":"+D65+F65+H65+J65+L65+N65+P65+R65+T65+V65+X65+Z65+AB65+AD65+AF65+AH65+AJ65+AL65+AN65+AP65","v":0},{"$f":"+E65+G65+I65+K65+M65+O65+Q65+S65+U65+W65+Y65+AA65+AC65+AE65+AG65+AI65+AK65+AM65+AO65+AQ65","v":0},null,null,null,null,null,null,null,null,null,null,null,null,null,null,null,null,null,null,null,null,null,null,null,null,null,null,null,null,null,null,null,null,null,null,null,null,null,null,null,null,null,null,null,null,null,null,{"$f":"CB65&CC65&CD65&CE65&CF65&CG65&CH65&CI65&CJ65&CK65&CL65&CM65&CN65&CO65&CP65&CQ65&CR65&CS65&CT65&CU65&CV65&CW65&CX65","v":""},null,null,null,null,null,null,null,null,null,null,null,null,null,null,null,null,null,null,null,null,null,null,null,null,null,null,null,null,null,"","","","",{"$f":"IF(D65<E65,CONCATENATE(\"* El total de Procesados debe ser mayor o igual al total de Reactivos en el grupo de edad \",$D$11),\"\")","v":""},{"$f":"IF(F65<G65,CONCATENATE(\"* El total de Procesados debe ser mayor o igual al total de Reactivos en el grupo de edad \",$F$11),\"\")","v":""},{"$f":"IF(H65<I65,CONCATENATE(\"* El total de Procesados debe ser mayor o igual al total de Reactivos en el grupo de edad \",$H$11),\"\")","v":""},{"$f":"IF(J65<K65,CONCATENATE(\"* El total de Procesados debe ser mayor o igual al total de Reactivos en el grupo de edad \",$J$11),\"\")","v":""},{"$f":"IF(L65<M65,CONCATENATE(\"* El total de Procesados debe ser mayor o igual al total de Reactivos en el grupo de edad \",$L$11),\"\")","v":""},{"$f":"IF(N65<O65,CONCATENATE(\"* El total de Procesados debe ser mayor o igual al total de Reactivos en el grupo de edad \",$N$11),\"\")","v":""},{"$f":"IF(P65<Q65,CONCATENATE(\"* El total de Procesados debe ser mayor o igual al total de Reactivos en el grupo de edad \",$P$11),\"\")","v":""},"","","","","","","","","","","","",null,null,null,null,null,null,null,0,0,0,0,{"$f":"IF(D65<E65,1,0)","v":0},{"$f":"IF(F65<G65,1,0)","v":0},{"$f":"IF(H65<I65,1,0)","v":0},{"$f":"IF(J65<K65,1,0)","v":0},{"$f":"IF(L65<M65,1,0)","v":0},0,0,0,0,0,0,0,0,0,0,0,0,0,0]
["Recién nacido y lactante para detección de sífilis congénita",{"$f":"+D66+F66+H66","v":0},{"$f":"+E66+G66+I66","v":0},null,null,null,null,null,null,null,null,null,null,null,null,null,null,null,null,null,null,null,null,null,null,null,null,null,null,null,null,null,null,null,null,null,null,null,null,null,null,null,null,null,null,null,null,null,null,{"$f":"CB66&CC66&CD66&CE66&CK66&CL66&CM66&CN66&CO66&CP66&CQ66&CR66&CS66&CT66&CU66&CV66&CW66&CX66&CF66&CG66&CH66","v":""},null,null,null,null,null,null,null,null,null,null,null,null,null,null,null,null,null,null,null,null,null,null,null,null,null,null,null,null,null,{"$f":"IF(B66<>(AS66+AR66),\" * La suma de las columnas \"&AR$10&\"\"&\" DEBE SER IGUAL a los Exámenes Procesados. \",\"\")","v":""},"","","",{"$f":"IF(D66<E66,CONCATENATE(\"* El total de Procesados debe ser mayor o igual al total de Reactivos en el grupo de edad \",$D$11),\"\")","v":""},{"$f":"IF(F66<G66,CONCATENATE(\"* El total de Procesados debe ser mayor o igual al total de Reactivos en el grupo de edad \",$F$11),\"\")","v":""},{"$f":"IF(H66<I66,CONCATENATE(\"* El total de Procesados debe ser mayor o igual al total de Reactivos en el grupo de edad \",$H$11),\"\")","v":""},null,null,null,null,null,null,null,null,null,null,null,null,null,null,null,null,null,null,null,null,null,null,null,{"$f":"IF(B66<>(AS66+AR66),1,0)","v":0},0,0,0,{"$f":"IF(D66<E66,1,0)","v":0},{"$f":"IF(F66<G66,1,0)","v":0},{"$f":"IF(H66<I66,1,0)","v":0}]
["Personas en control por comercio sexual",{"$f":"+P67+R67+T67+V67+X67+Z67+AB67+AD67+AF67+AH67+AJ67+AL67+AN67+AP67","v":0},{"$f":"+Q67+S67+U67+W67+Y67+AA67+AC67+AE67+AG67+AI67+AK67+AM67+AO67+AQ67","v":0},null,null,null,null,null,null,null,null,null,null,null,null,null,null,null,null,null,null,null,null,null,null,null,null,null,null,null,null,null,null,null,null,null,null,null,null,null,null,null,null,null,null,null,null,null,null,{"$f":"CB67&CC67&CD67&CE67&CK67&CL67&CM67&CN67&CO67&CP67&CQ67&CR67&CS67&CT67&CU67&CV67&CW67&CX67&CF67&CG67&CH67","v":""},null,null,null,null,null,null,null,null,null,null,null,null,null,null,null,null,null,null,null,null,null,null,null,null,null,null,null,null,null,{"$f":"IF(B67<>(AS67+AR67),\" * La suma de las columnas \"&AR$10&\"\"&\" DEBE SER IGUAL a los Exámenes Procesados. \",\"\")","v":""},"","","",null,null,null,null,null,null,{"$f":"IF(P67<Q67,CONCATENATE(\"* El total de Procesados debe ser mayor o igual al total de Reactivos en el grupo de edad \",$P$11),\"\")","v":""},{"$f":"IF(R67<S67,CONCATENATE(\"* El total de Procesados debe ser mayor o igual al total de Reactivos en el grupo de edad \",$R$11),\"\")","v":""},"",{"$f":"IF(V67<W67,CONCATENATE(\"* El total de Procesados debe ser mayor o igual al total de Reactivos en el grupo de edad \",$V$11),\"\")","v":""},{"$f":"IF(X67<Y67,CONCATENATE(\"* El total de Procesados debe ser mayor o igual al total de Reactivos en el grupo de edad \",$X$11),\"\")","v":""},{"$f":"IF(Z67<AA67,CONCATENATE(\"* El total de Procesados debe ser mayor o igual al total de Reactivos en el grupo de edad \",$Z$11),\"\")","v":""},{"$f":"IF(AD67<AE67,CONCATENATE(\"* El total de Procesados debe ser mayor o igual al total de Reactivos en el grupo de edad \",$AD$11),\"\")","v":""},{"$f":"IF(AF67<AG67,CONCATENATE(\"* El total de Procesados debe ser mayor o igual al total de Reactivos en el grupo de edad \",$AF$11),\"\")","v":""},{"$f":"IF(AH67<AI67,CONCATENATE(\"* El total de Procesados debe ser mayor o igual al total de Reactivos en el grupo de edad \",$AH$11),\"\")","v":""},{"$f":"IF(AJ67<AK67,CONCATENATE(\"* El total de Procesados debe ser mayor o igual al total de Reactivos en el grupo de edad \",$AJ$11),\"\")","v":""},{"$f":"IF(AL67<AM67,CONCATENATE(\"* El total de Procesados debe ser mayor o igual al total de Reactivos en el grupo de edad \",$AL$11),\"\")","v":""},{"$f":"IF(AN67<AO67,CONCATENATE(\"* El total de Procesados debe ser mayor o igual al total de Reactivos en el grupo de edad \",$AN$11),\"\")","v":""},{"$f":"IF(AP67<AQ67,CONCATENATE(\"* El total de Procesados debe ser mayor o igual al total de Reactivos en el grupo de edad \",$AP$11),\"\")","v":""},null,null,null,null,null,null,null,{"$f":"IF(B67<>(AS67+AR67),1,0)","v":0},0,0,0,null,null,null,null,null,null,{"$f":"IF(P67<Q67,1,0)","v":0},{"$f":"IF(R67<S67,1,0)","v":0},0,{"$f":"IF(V67<W67,1,0)","v":0},{"$f":"IF(X67<Y67,1,0)","v":0},{"$f":"IF(Z67<AA67,1,0)","v":0},{"$f":"IF(AD67<AE67,1,0)","v":0},{"$f":"IF(AF67<AG67,1,0)","v":0},{"$f":"IF(AH67<AI67,1,0)","v":0},{"$f":"IF(AJ67<AK67,1,0)","v":0},{"$f":"IF(AL67<AM67,1,0)","v":0},{"$f":"IF(AN67<AO67,1,0)","v":0},{"$f":"IF(AP67<AQ67,1,0)","v":0}]
["Personas en control fecundidad",{"$f":"+N68+P68+R68+T68+V68+X68+Z68+AB68+AD68+AF68+AH68+AJ68+AL68+AN68+AP68","v":0},{"$f":"+O68+Q68+S68+U68+W68+Y68+AA68+AC68+AE68+AG68+AI68+AK68+AM68+AO68+AQ68","v":0},null,null,null,null,null,null,null,null,null,null,null,null,null,null,null,null,null,null,null,null,null,null,null,null,null,null,null,null,null,null,null,null,null,null,null,null,null,null,null,null,null,null,null,null,null,null,{"$f":"CB68&CC68&CD68&CE68&CK68&CL68&CM68&CN68&CO68&CP68&CQ68&CR68&CS68&CT68&CU68&CV68&CW68&CX68&CF68&CG68&CH68","v":""},null,null,null,null,null,null,null,null,null,null,null,null,null,null,null,null,null,null,null,null,null,null,null,null,null,null,null,null,null,"","","","",null,null,null,null,null,{"$f":"IF(N68<O68,CONCATENATE(\"* El total de Procesados debe ser mayor o igual al total de Reactivos en el grupo de edad \",$N$11),\"\")","v":""},{"$f":"IF(P68<Q68,CONCATENATE(\"* El total de Procesados debe ser mayor o igual al total de Reactivos en el grupo de edad \",$P$11),\"\")","v":""},"","","","","","","","","","","","",null,null,null,null,null,null,null,0,0,0,0,null,null,null,null,null,{"$f":"IF(N68<O68,1,0)","v":0},0,0,0,0,0,0,0,0,0,0,0,0,0]
["Consultantes por ITS",{"$f":"+D69+F69+H69+J69+L69+N69+P69+R69+T69+V69+X69+Z69+AB69+AD69+AF69+AH69+AJ69+AL69+AN69+AP69","v":0},{"$f":"+E69+G69+I69+K69+M69+O69+Q69+S69+U69+W69+Y69+AA69+AC69+AE69+AG69+AI69+AK69+AM69+AO69+AQ69","v":0},null,null,null,null,null,null,null,null,null,null,null,null,null,null,null,null,null,null,null,null,null,null,null,null,null,null,null,null,null,null,null,null,null,null,null,null,null,null,null,null,null,null,null,null,null,null,{"$f":"CB69&CC69&CD69&CE69&CK69&CL69&CM69&CN69&CO69&CP69&CQ69&CR69&CS69&CT69&CU69&CV69&CW69&CX69&CF69&CG69&CH69&CI69&CJ69","v":""},null,null,null,null,null,null,null,null,null,null,null,null,null,null,null,null,null,null,null,null,null,null,null,null,null,null,null,null,null,"","","","",{"$f":"IF(D69<E69,CONCATENATE(\"* El total de Procesados debe ser mayor o igual al total de Reactivos en el grupo de edad \",$D$11),\"\")","v":""},{"$f":"IF(F69<G69,CONCATENATE(\"* El total de Procesados debe ser mayor o igual al total de Reactivos en el grupo de edad \",$F$11),\"\")","v":""},{"$f":"IF(H69<I69,CONCATENATE(\"* El total de Procesados debe ser mayor o igual al total de Reactivos en el grupo de edad \",$H$11),\"\")","v":""},{"$f":"IF(J69<K69,CONCATENATE(\"* El total de Procesados debe ser mayor o igual al total de Reactivos en el grupo de edad \",$J$11),\"\")","v":""},{"$f":"IF(L69<M69,CONCATENATE(\"* El total de Procesados debe ser mayor o igual al total de Reactivos en el grupo de edad \",$L$11),\"\")","v":""},{"$f":"IF(N69<O69,CONCATENATE(\"* El total de Procesados debe ser mayor o igual al total de Reactivos en el grupo de edad \",$N$11),\"\")","v":""},{"$f":"IF(P69<Q69,CONCATENATE(\"* El total de Procesados debe ser mayor o igual al total de Reactivos en el grupo de edad \",$P$11),\"\")","v":""},"","","","","","","","","","","","",null,null,null,null,null,null,null,0,0,0,0,{"$f":"IF(D69<E69,1,0)","v":0},{"$f":"IF(F69<G69,1,0)","v":0},{"$f":"IF(H69<I69,1,0)","v":0},{"$f":"IF(J69<K69,1,0)","v":0},{"$f":"IF(L69<M69,1,0)","v":0},0,0,0,0,0,0,0,0,0,0,0,0,0,0]
["Personas EMP/EMPAM",{"$f":"+P70+R70+T70+V70+X70+Z70+AB70+AD70+AF70+AH70+AJ70+AL70+AN70+AP70","v":0},{"$f":"+Q70+S70+U70+W70+Y70+AA70+AC70+AE70+AG70+AI70+AK70+AM70+AO70+AQ70","v":0},null,null,null,null,null,null,null,null,null,null,null,null,null,null,null,null,null,null,null,null,null,null,null,null,null,null,null,null,null,null,null,null,null,null,null,null,null,null,null,null,null,null,null,null,null,null,{"$f":"CB70&CC70&CD70&CE70&CK70&CL70&CM70&CN70&CO70&CP70&CQ70&CR70&CS70&CT70&CU70&CV70&CW70&CX70&CF70&CG70&CH70","v":""},null,null,null,null,null,null,null,null,null,null,null,null,null,null,null,null,null,null,null,null,null,null,null,null,null,null,null,null,null,"","","","",null,null,null,null,null,null,{"$f":"IF(P70<Q70,CONCATENATE(\"* El total de Procesados debe ser mayor o igual al total de Reactivos en el grupo de edad \",$P$11),\"\")","v":""},"","","","","","","","","","","","",null,null,null,null,null,null,null,0,0,0,0,null,null,null,null,null,null,0,0,0,0,0,0,0,0,0,0,0,0,0]
["Donantes de sangre",{"$f":"+P71+R71+T71+V71+X71+Z71+AB71+AD71+AF71+AH71","v":0},{"$f":"+Q71+S71+U71+W71+Y71+AA71+AC71+AE71+AG71+AI71","v":0},null,null,null,null,null,null,null,null,null,null,null,null,null,null,null,null,null,null,null,null,null,null,null,null,null,null,null,null,null,null,null,null,null,null,null,null,null,null,null,null,null,null,null,null,null,null,{"$f":"CB71&CC71&CD71&CE71&CK71&CL71&CM71&CN71&CO71&CP71&CQ71&CR71&CS71&CT71&CU71&CV71&CW71&CX71&CF71&CG71&CH71","v":""},null,null,null,null,null,null,null,null,null,null,null,null,null,null,null,null,null,null,null,null,null,null,null,null,null,null,null,null,null,"","","","",null,null,null,null,null,null,"","","","","","","","","",null,null,null,null,null,null,null,null,null,null,null,0,0,0,0,null,null,null,null,null,null,0,0,0,0,0,0,0,0,0]
["Donantes de órganos y/o tejidos",{"$f":"+D72+F72+H72+J72+L72+N72+P72+R72+T72+V72+X72+Z72+AB72+AD72+AF72+AH72+AJ72+AL72+AN72+AP72","v":0},0,null,null,null,null,null,null,null,null,null,null,null,null,null,null,null,null,null,null,null,null,null,null,null,null,null,null,null,null,null,null,null,null,null,null,null,null,null,null,null,null,null,null,null,null,null,null,{"$f":"CB72&CC72&CD72&CE72&CK72&CL72&CM72&CN72&CO72&CP72&CQ72&CR72&CS72&CT72&CU72&CV72&CW72&CX72&CF72&CG72&CH72&CI72&CJ72","v":""},null,null,null,null,null,null,null,null,null,null,null,null,null,null,null,null,null,null,null,null,null,null,null,null,null,null,null,null,null,"","","","",{"$f":"IF(D72<E72,CONCATENATE(\"* El total de Procesados debe ser mayor o igual al total de Reactivos en el grupo de edad \",$D$11),\"\")","v":""},{"$f":"IF(F72<G72,CONCATENATE(\"* El total de Procesados debe ser mayor o igual al total de Reactivos en el grupo de edad \",$F$11),\"\")","v":""},{"$f":"IF(H72<I72,CONCATENATE(\"* El total de Procesados debe ser mayor o igual al total de Reactivos en el grupo de edad \",$H$11),\"\")","v":""},{"$f":"IF(J72<K72,CONCATENATE(\"* El total de Procesados debe ser mayor o igual al total de Reactivos en el grupo de edad \",$J$11),\"\")","v":""},{"$f":"IF(L72<M72,CONCATENATE(\"* El total de Procesados debe ser mayor o igual al total de Reactivos en el grupo de edad \",$L$11),\"\")","v":""},{"$f":"IF(N72<O72,CONCATENATE(\"* El total de Procesados debe ser mayor o igual al total de Reactivos en el grupo de edad \",$N$11),\"\")","v":""},"","","","","","","","","",{"$f":"IF(AJ72<AK72,CONCATENATE(\"* El total de Procesados debe ser mayor o igual al total de Reactivos en el grupo de edad \",$AJ$11),\"\")","v":""},{"$f":"IF(AL72<AM72,CONCATENATE(\"* El total de Procesados debe ser mayor o igual al total de Reactivos en el grupo de edad \",$AL$11),\"\")","v":""},{"$f":"IF(AN72<AO72,CONCATENATE(\"* El total de Procesados debe ser mayor o igual al total de Reactivos en el grupo de edad \",$AN$11),\"\")","v":""},{"$f":"IF(AP72<AQ72,CONCATENATE(\"* El total de Procesados debe ser mayor o igual al total de Reactivos en el grupo de edad \",$AP$11),\"\")","v":""},null,null,null,null,null,null,null,0,0,0,0,{"$f":"IF(D72<E72,1,0)","v":0},{"$f":"IF(F72<G72,1,0)","v":0},{"$f":"IF(H72<I72,1,0)","v":0},{"$f":"IF(J72<K72,1,0)","v":0},{"$f":"IF(L72<M72,1,0)","v":0},{"$f":"IF(N72<O72,1,0)","v":0},0,0,0,0,0,0,0,0,0,{"$f":"IF(AJ72<AK72,1,0)","v":0},{"$f":"IF(AL72<AM72,1,0)","v":0},{"$f":"IF(AN72<AO72,1,0)","v":0},{"$f":"IF(AP72<AQ72,1,0)","v":0}]
["Pacientes en diálisis",0,0,null,null,null,null,null,null,null,null,null,null,null,null,null,null,null,null,null,null,null,null,null,null,null,null,null,null,null,null,null,null,null,null,null,null,null,null,null,null,null,null,null,null,null,null,null,null,{"$f":"CB73&CC73&CD73&CE73&CK73&CL73&CM73&CN73&CO73&CP73&CQ73&CR73&CS73&CT73&CU73&CV73&CW73&CX73&CF73&CG73&CH73&CI73&CJ73","v":""},null,null,null,null,null,null,null,null,null,null,null,null,null,null,null,null,null,null,null,null,null,null,null,null,null,null,null,null,null,"","","","","","","","","","","","","","","","","","","","","","","",null,null,null,null,null,null,null,0,0,0,0,0,0,0,0,0,0,0,0,0,0,0,0,0,0,0,0,0,0,0]
["Víctima de violencia sexual",0,0,null,null,null,null,null,null,null,null,null,null,null,null,null,null,null,null,null,null,null,null,null,null,null,null,null,null,null,null,null,null,null,null,null,null,null,null,null,null,null,null,null,null,null,null,null,null,"",null,null,null,null,null,null,null,null,null,null,null,null,null,null,null,null,null,null,null,null,null,null,null,null,null,null,null,null,null,"","","","","","","","","","","","","","","","","","","","","","","",null,null,null,null,null,null,null,0,0,0,0,0,0,0,0,0,0,0,0,0,0,0,0,0,0,0,0,0,0,0]
["SECCIÓN A.4: EXAMEN RPR POR GRUPO DE USUARIOS (USO EXCLUSIVO DE ESTABLECIMIENTOS QUE COMPRAN SERVICIO)"]
["GRUPO DE PESQUISA","TOTAL",null,"RANGO ETARIO",null,null,null,null,null,null,null,null,null,null,null,null,null,null,null,null,null,null,null,null,null,null,null,null,null,null,null,null,null,null,null,null,null,null,null,null,null,null,null,"POR SEXO (Procesados)",null,"TRANS",null,"Pueblos Originarios","Migrantes"]
[null,null,null,"Menos de 6 meses",null,"6 - 11 meses",null,"12-24 meses",null,"3 - 4 años",null,"5 - 9 años",null,"10 - 14 años",null,"15 - 19 años",null,"20 - 24 años",null,"25 - 29 años",null,"30 - 34 años",null,"35 - 39 años",null,"40 - 44 años",null,"45 - 49 años",null,"50 - 54 años",null,"55 - 59 años",null,"60 - 64 años",null,"65 - 69 años",null,"70 - 74 años",null,"75 - 79 años",null,"80 y más años",null,"Hombres","Mujeres"]
[null,"Procesados","Reactivos","Procesados","Reactivos","Procesados","Reactivos","Procesados","Reactivos","Procesados","Reactivos","Procesados","Reactivos","Procesados","Reactivos","Procesados","Reactivos","Procesados","Reactivos","Procesados","Reactivos","Procesados","Reactivos","Procesados","Reactivos","Procesados","Reactivos","Procesados","Reactivos","Procesados","Reactivos","Procesados","Reactivos","Procesados","Reactivos","Procesados","Reactivos","Procesados","Reactivos","Procesados","Reactivos","Procesados","Reactivos",null,null,"Masculino","Femenino"]
["Gestantes primer trimestre embarazo",{"$f":"+N79+P79+R79+T79+V79+X79+Z79+AB79+AD79+AF79+AH79+AJ79+AL79+AN79+AP79","v":0},{"$f":"+O79+Q79+S79+U79+W79+Y79+AA79+AC79+AE79+AG79+AI79+AK79+AM79+AO79+AQ79","v":0},null,null,null,null,null,null,null,null,null,null,null,null,null,null,null,null,null,null,null,null,null,null,null,null,null,null,null,null,null,null,null,null,null,null,null,null,null,null,null,null,null,null,null,null,null,null,{"$f":"CB79&CC79&CD79&CE79&CK79&CL79&CM79&CN79&CO79&CP79&CQ79&CR79&CS79&CT79&CU79&CV79&CW79&CX79","v":""},null,null,null,null,null,null,null,null,null,null,null,null,null,null,null,null,null,null,null,null,null,null,null,null,null,null,null,null,null,{"$f":"IF(B79<>(AS79),\" * La suma de las columnas \"&AR$10&\"\"&\" DEBE SER IGUAL a los Exámenes Procesados. \",\"\")","v":""},{"$f":"IF(AND($B79>0,AND(AT79=\"\",AU79=\"\")),\"* No olvide ingresar las columnas Trans Masculino o Femenino (*Digite CERO si no tiene). \",IF((AT79+AU79)>$B79,\"* El Número de Trans Masculino o Femenino no puede superar el Total Procesados. \",\"\"))","v":""},{"$f":"IF(AND($B79>0,AV79=\"\"),\"* No olvide ingresar la columna \"&AV$10&\"\"&\" *(Digite CERO si no tiene). \",IF(AV79>$B79,\" *El Número de \"&AV$10&\"\"&\" no puede superar el Total Procesados. \",\"\"))","v":""},{"$f":"IF(AND($B79>0,AW79=\"\"),\"* No olvide ingresar la columna \"&AW$10&\"\"&\" *(Digite CERO si no tiene). \",IF(AW79>$B79,\" *El Número de \"&AW$10&\"\"&\" no puede superar el Total Procesados. \",\"\"))","v":""},null,null,null,null,null,{"$f":"IF(N79<O79,CONCATENATE(\"* El total de Procesados debe ser mayor o igual al total de Reactivos en el grupo de edad \",$N$11),\"\")","v":""},{"$f":"IF(P79<Q79,CONCATENATE(\"* El total de Procesados debe ser mayor o igual al total de Reactivos en el grupo de edad \",$P$11),\"\")","v":""},{"$f":"IF(R79<S79,CONCATENATE(\"* El total de Procesados debe ser mayor o igual al total de Reactivos en el grupo de edad \",$R$11),\"\")","v":""},{"$f":"IF($T79<$U79,CONCATENATE(\"* El total de Procesados debe ser mayor o igual al total de Reactivos en el grupo de edad \",$T$11),\"\")","v":""},{"$f":"IF(V79<W79,CONCATENATE(\"* El total de Procesados debe ser mayor o igual al total de Reactivos en el grupo de edad \",$V$11),\"\")","v":""},{"$f":"IF(X79<Y79,CONCATENATE(\"* El total de Procesados debe ser mayor o igual al total de Reactivos en el grupo de edad \",$X$11),\"\")","v":""},{"$f":"IF(Z79<AA79,CONCATENATE(\"* El total de Procesados debe ser mayor o igual al total de Reactivos en el grupo de edad \",$Z$11),\"\")","v":""},{"$f":"IF(AD79<AE79,CONCATENATE(\"* El total de Procesados debe ser mayor o igual al total de Reactivos en el grupo de edad \",$AD$11),\"\")","v":""},{"$f":"IF(AF79<AG79,CONCATENATE(\"* El total de Procesados debe ser mayor o igual al total de Reactivos en el grupo de edad \",$AF$11),\"\")","v":""},{"$f":"IF(AH79<AI79,CONCATENATE(\"* El total de Procesados debe ser mayor o igual al total de Reactivos en el grupo de edad \",$AH$11),\"\")","v":""},{"$f":"IF(AJ79<AK79,CONCATENATE(\"* El total de Procesados debe ser mayor o igual al total de Reactivos en el grupo de edad \",$AJ$11),\"\")","v":""},{"$f":"IF(AL79<AM79,CONCATENATE(\"* El total de Procesados debe ser mayor o igual al total de Reactivos en el grupo de edad \",$AL$11),\"\")","v":""},{"$f":"IF(AN79<AO79,CONCATENATE(\"* El total de Procesados debe ser mayor o igual al total de Reactivos en el grupo de edad \",$AN$11),\"\")","v":""},{"$f":"IF(AP79<AQ79,CONCATENATE(\"* El total de Procesados debe ser mayor o igual al total de Reactivos en el grupo de edad \",$AP$11),\"\")","v":""},null,null,null,null,null,null,null,{"$f":"IF(B79<>(AS79),1,0)","v":0},{"$f":"IF(AND($B79>0,AND(AT79=\"\",AU79=\"\")),1,IF((AT79+AU79)>$B79,1,0))","v":0},{"$f":"IF(AND($B79>0,AV79=\"\"),1,IF(AV79>$B79,1,0))","v":0},{"$f":"IF(AND($B79>0,AW79=\"\"),1,IF(AW79>$B79,1,0))","v":0},null,null,null,null,null,{"$f":"IF(N79<O79,1,0)","v":0},{"$f":"IF(P79<Q79,1,0)","v":0},{"$f":"IF(R79<S79,1,0)","v":0},{"$f":"IF($T79<$U79,1,0)","v":0},{"$f":"IF(V79<W79,1,0)","v":0},{"$f":"IF(X79<Y79,1,0)","v":0},{"$f":"IF(Z79<AA79,1,0)","v":0},{"$f":"IF(AD79<AE79,1,0)","v":0},{"$f":"IF(AF79<AG79,1,0)","v":0},{"$f":"IF(AH79<AI79,1,0)","v":0},{"$f":"IF(AJ79<AK79,1,0)","v":0},{"$f":"IF(AL79<AM79,1,0)","v":0},{"$f":"IF(AN79<AO79,1,0)","v":0},{"$f":"IF(AP79<AQ79,1,0)","v":0}]
["Gestantes segundo trimestre embarazo",0,0,null,null,null,null,null,null,null,null,null,null,null,null,null,null,null,null,null,null,null,null,null,null,null,null,null,null,null,null,null,null,null,null,null,null,null,null,null,null,null,null,null,null,null,null,null,null,{"$f":"CB80&CC80&CD80&CE80&CK80&CL80&CM80&CN80&CO80&CP80&CQ80&CR80&CS80&CT80&CU80&CV80&CW80&CX80","v":""},null,null,null,null,null,null,null,null,null,null,null,null,null,null,null,null,null,null,null,null,null,null,null,null,null,null,null,null,null,{"$f":"IF(B80<>(AS80),\" * La suma de las columnas \"&AR$10&\"\"&\" DEBE SER IGUAL a los Exámenes Procesados. \",\"\")","v":""},{"$f":"IF(AND($B80>0,AND(AT80=\"\",AU80=\"\")),\"* No olvide ingresar las columnas Trans Masculino o Femenino (*Digite CERO si no tiene). \",IF((AT80+AU80)>$B80,\"* El Número de Trans Masculino o Femenino no puede superar el Total Procesados. \",\"\"))","v":""},{"$f":"IF(AND($B80>0,AV80=\"\"),\"* No olvide ingresar la columna \"&AV$10&\"\"&\" *(Digite CERO si no tiene). \",IF(AV80>$B80,\" *El Número de \"&AV$10&\"\"&\" no puede superar el Total Procesados. \",\"\"))","v":""},{"$f":"IF(AND($B80>0,AW80=\"\"),\"* No olvide ingresar la columna \"&AW$10&\"\"&\" *(Digite CERO si no tiene). \",IF(AW80>$B80,\" *El Número de \"&AW$10&\"\"&\" no puede superar el Total Procesados. \",\"\"))","v":""},null,null,null,null,null,{"$f":"IF(N80<O80,CONCATENATE(\"* El total de Procesados debe ser mayor o igual al total de Reactivos en el grupo de edad \",$N$11),\"\")","v":""},{"$f":"IF(P80<Q80,CONCATENATE(\"* El total de Procesados debe ser mayor o igual al total de Reactivos en el grupo de edad \",$P$11),\"\")","v":""},{"$f":"IF(R80<S80,CONCATENATE(\"* El total de Procesados debe ser mayor o igual al total de Reactivos en el grupo de edad \",$R$11),\"\")","v":""},{"$f":"IF($T80<$U80,CONCATENATE(\"* El total de Procesados debe ser mayor o igual al total de Reactivos en el grupo de edad \",$T$11),\"\")","v":""},{"$f":"IF(V80<W80,CONCATENATE(\"* El total de Procesados debe ser mayor o igual al total de Reactivos en el grupo de edad \",$V$11),\"\")","v":""},{"$f":"IF(X80<Y80,CONCATENATE(\"* El total de Procesados debe ser mayor o igual al total de Reactivos en el grupo de edad \",$X$11),\"\")","v":""},{"$f":"IF(Z80<AA80,CONCATENATE(\"* El total de Procesados debe ser mayor o igual al total de Reactivos en el grupo de edad \",$Z$11),\"\")","v":""},{"$f":"IF(AD80<AE80,CONCATENATE(\"* El total de Procesados debe ser mayor o igual al total de Reactivos en el grupo de edad \",$AD$11),\"\")","v":""},{"$f":"IF(AF80<AG80,CONCATENATE(\"* El total de Procesados debe ser mayor o igual al total de Reactivos en el grupo de edad \",$AF$11),\"\")","v":""},{"$f":"IF(AH80<AI80,CONCATENATE(\"* El total de Procesados debe ser mayor o igual al total de Reactivos en el grupo de edad \",$AH$11),\"\")","v":""},{"$f":"IF(AJ80<AK80,CONCATENATE(\"* El total de Procesados debe ser mayor o igual al total de Reactivos en el grupo de edad \",$AJ$11),\"\")","v":""},{"$f":"IF(AL80<AM80,CONCATENATE(\"* El total de Procesados debe ser mayor o igual al total de Reactivos en el grupo de edad \",$AL$11),\"\")","v":""},{"$f":"IF(AN80<AO80,CONCATENATE(\"* El total de Procesados debe ser mayor o igual al total de Reactivos en el grupo de edad \",$AN$11),\"\")","v":""},{"$f":"IF(AP80<AQ80,CONCATENATE(\"* El total de Procesados debe ser mayor o igual al total de Reactivos en el grupo de edad \",$AP$11),\"\")","v":""},null,null,null,null,null,null,null,{"$f":"IF(B80<>(AS80),1,0)","v":0},{"$f":"IF(AND($B80>0,AND(AT80=\"\",AU80=\"\")),1,IF((AT80+AU80)>$B80,1,0))","v":0},{"$f":"IF(AND($B80>0,AV80=\"\"),1,IF(AV80>$B80,1,0))","v":0},{"$f":"IF(AND($B80>0,AW80=\"\"),1,IF(AW80>$B80,1,0))","v":0},null,null,null,null,null,{"$f":"IF(N80<O80,1,0)","v":0},{"$f":"IF(P80<Q80,1,0)","v":0},{"$f":"IF(R80<S80,1,0)","v":0},{"$f":"IF($T80<$U80,1,0)","v":0},{"$f":"IF(V80<W80,1,0)","v":0},{"$f":"IF(X80<Y80,1,0)","v":0},{"$f":"IF(Z80<AA80,1,0)","v":0},{"$f":"IF(AD80<AE80,1,0)","v":0},{"$f":"IF(AF80<AG80,1,0)","v":0},{"$f":"IF(AH80<AI80,1,0)","v":0},{"$f":"IF(AJ80<AK80,1,0)","v":0},{"$f":"IF(AL80<AM80,1,0)","v":0},{"$f":"IF(AN80<AO80,1,0)","v":0},{"$f":"IF(AP80<AQ80,1,0)","v":0}]
["Gestantes tercer trimestre embarazo",0,0,null,null,null,null,null,null,null,null,null,null,null,null,null,null,null,null,null,null,null,null,null,null,null,null,null,null,null,null,null,null,null,null,null,null,null,null,null,null,null,null,null,null,null,null,null,null,{"$f":"CB81&CC81&CD81&CE81&CK81&CL81&CM81&CN81&CO81&CP81&CQ81&CR81&CS81&CT81&CU81&CV81&CW81&CX81","v":""},null,null,null,null,null,null,null,null,null,null,null,null,null,null,null,null,null,null,null,null,null,null,null,null,null,null,null,null,null,"","","","",null,null,null,null,null,"","","","","","","","","","","","","","",null,null,null,null,null,null,null,0,0,0,0,null,null,null,null,null,0,0,0,0,0,0,0,0,0,0,0,0,0,0]
["Gestantes trimestre embarazo ignorado",0,0,null,null,null,null,null,null,null,null,null,null,null,null,null,null,null,null,null,null,null,null,null,null,null,null,null,null,null,null,null,null,null,null,null,null,null,null,null,null,null,null,null,null,null,null,null,null,"",null,null,null,null,null,null,null,null,null,null,null,null,null,null,null,null,null,null,null,null,null,null,null,null,null,null,null,null,null,"","","","",null,null,null,null,null,"","","","","","","","","","","","","","",null,null,null,null,null,null,null,0,0,0,0,null,null,null,null,null,0,0,0,0,0,0,0,0,0,0,0,0,0,0]
["Gestantes en seguimiento por diagnóstico sífilis",0,0,null,null,null,null,null,null,null,null,null,null,null,null,null,null,null,null,null,null,null,null,null,null,null,null,null,null,null,null,null,null,null,null,null,null,null,null,null,null,null,null,null,null,null,null,null,null,"",null,null,null,null,null,null,null,null,null,null,null,null,null,null,null,null,null,null,null,null,null,null,null,null,null,null,null,null,null,"","","","",null,null,null,null,null,"","","","","","","","","","","","","","",null,null,null,null,null,null,null,0,0,0,0,null,null,null,null,null,0,0,0,0,0,0,0,0,0,0,0,0,0,0]
["Pareja de gestante con serología reactiva",0,0,null,null,null,null,null,null,null,null,null,null,null,null,null,null,null,null,null,null,null,null,null,null,null,null,null,null,null,null,null,null,null,null,null,null,null,null,null,null,null,null,null,null,null,null,null,null,{"$f":"CB84&CC84&CD84&CE84&CK84&CL84&CM84&CN84&CO84&CP84&CQ84&CR84&CS84&CT84&CU84&CV84&CW84&CX84","v":""},null,null,null,null,null,null,null,null,null,null,null,null,null,null,null,null,null,null,null,null,null,null,null,null,null,null,null,null,null,{"$f":"IF(B84<>(AS84+AR84),\" * La suma de las columnas \"&AR$10&\"\"&\" DEBE SER IGUAL a los Exámenes Procesados. \",\"\")","v":""},"","","",null,null,null,null,null,{"$f":"IF(N84<O84,CONCATENATE(\"* El total de Procesados debe ser mayor o igual al total de Reactivos en el grupo de edad \",$N$11),\"\")","v":""},"","","","","","","","","","","","","",null,null,null,null,null,null,null,{"$f":"IF(B84<>(AS84+AR84),1,0)","v":0},0,0,0,null,null,null,null,null,0,0,0,0,0,0,0,0,0,0,0,0,0,0]
["Mujeres que ingresan a maternidad por parto",0,0,null,null,null,null,null,null,null,null,null,null,null,null,null,null,null,null,null,null,null,null,null,null,null,null,null,null,null,null,null,null,null,null,null,null,null,null,null,null,null,null,null,null,null,null,null,null,{"$f":"CB85&CC85&CD85&CE85&CK85&CL85&CM85&CN85&CO85&CP85&CQ85&CR85&CS85&CT85&CU85&CV85&CW85&CX85","v":""},null,null,null,null,null,null,null,null,null,null,null,null,null,null,null,null,null,null,null,null,null,null,null,null,null,null,null,null,null,{"$f":"IF(B85<>(AS85),\" * La suma de las columnas \"&AR$10&\"\"&\" DEBE SER IGUAL a los Exámenes Procesados. \",\"\")","v":""},"","","",null,null,null,null,null,{"$f":"IF(N85<O85,CONCATENATE(\"* El total de Procesados debe ser mayor o igual al total de Reactivos en el grupo de edad \",$N$11),\"\")","v":""},"","","","","","","","","","","","","",null,null,null,null,null,null,null,{"$f":"IF(B85<>(AS85),1,0)","v":0},0,0,0,null,null,null,null,null,0,0,0,0,0,0,0,0,0,0,0,0,0,0]
["Mujeres que ingresan por aborto",0,0,null,null,null,null,null,null,null,null,null,null,null,null,null,null,null,null,null,null,null,null,null,null,null,null,null,null,null,null,null,null,null,null,null,null,null,null,null,null,null,null,null,null,null,null,null,null,{"$f":"CB86&CC86&CD86&CE86&CK86&CL86&CM86&CN86&CO86&CP86&CQ86&CR86&CS86&CT86&CU86&CV86&CW86&CX86","v":""},null,null,null,null,null,null,null,null,null,null,null,null,null,null,null,null,null,null,null,null,null,null,null,null,null,null,null,null,null,"","","","",null,null,null,null,null,{"$f":"IF(N86<O86,CONCATENATE(\"* El total de Procesados debe ser mayor o igual al total de Reactivos en el grupo de edad \",$N$11),\"\")","v":""},{"$f":"IF(P86<Q86,CONCATENATE(\"* El total de Procesados debe ser mayor o igual al total de Reactivos en el grupo de edad \",$P$11),\"\")","v":""},"","","","","","","","","","","","",null,null,null,null,null,null,null,{"$f":"IF(B86<>(AS86),1,0)","v":0},0,0,0,null,null,null,null,null,0,0,0,0,0,0,0,0,0,0,0,0,0,0]
["Mujeres en control ginecológico",{"$f":"+D87+F87+H87+J87+L87+N87+P87+R87+T87+V87+X87+Z87+AB87+AD87+AF87+AH87+AJ87+AL87+AN87+AP87","v":0},{"$f":"+E87+G87+I87+K87+M87+O87+Q87+S87+U87+W87+Y87+AA87+AC87+AE87+AG87+AI87+AK87+AM87+AO87+AQ87","v":0},null,null,null,null,null,null,null,null,null,null,null,null,null,null,null,null,null,null,null,null,null,null,null,null,null,null,null,null,null,null,null,null,null,null,null,null,null,null,null,null,null,null,null,null,null,null,{"$f":"CB87&CC87&CD87&CE87&CF87&CG87&CH87&CI87&CJ87&CK87&CL87&CM87&CN87&CO87&CP87&CQ87&CR87&CS87&CT87&CU87&CV87&CW87&CX87","v":""},null,null,null,null,null,null,null,null,null,null,null,null,null,null,null,null,null,null,null,null,null,null,null,null,null,null,null,null,null,"","","","",{"$f":"IF(D87<E87,CONCATENATE(\"* El total de Procesados debe ser mayor o igual al total de Reactivos en el grupo de edad \",$D$11),\"\")","v":""},{"$f":"IF(F87<G87,CONCATENATE(\"* El total de Procesados debe ser mayor o igual al total de Reactivos en el grupo de edad \",$F$11),\"\")","v":""},{"$f":"IF(H87<I87,CONCATENATE(\"* El total de Procesados debe ser mayor o igual al total de Reactivos en el grupo de edad \",$H$11),\"\")","v":""},{"$f":"IF(J87<K87,CONCATENATE(\"* El total de Procesados debe ser mayor o igual al total de Reactivos en el grupo de edad \",$J$11),\"\")","v":""},{"$f":"IF(L87<M87,CONCATENATE(\"* El total de Procesados debe ser mayor o igual al total de Reactivos en el grupo de edad \",$L$11),\"\")","v":""},{"$f":"IF(N87<O87,CONCATENATE(\"* El total de Procesados debe ser mayor o igual al total de Reactivos en el grupo de edad \",$N$11),\"\")","v":""},{"$f":"IF(P87<Q87,CONCATENATE(\"* El total de Procesados debe ser mayor o igual al total de Reactivos en el grupo de edad \",$P$11),\"\")","v":""},"","","","","","","","","","","","",null,null,null,null,null,null,null,0,0,0,0,{"$f":"IF(D87<E87,1,0)","v":0},{"$f":"IF(F87<G87,1,0)","v":0},{"$f":"IF(H87<I87,1,0)","v":0},{"$f":"IF(J87<K87,1,0)","v":0},{"$f":"IF(L87<M87,1,0)","v":0},0,0,0,0,0,0,0,0,0,0,0,0,0,0]
["Recién nacido y lactante para detección de sífilis congénita",{"$f":"+D88+F88+H88","v":0},{"$f":"+E88+G88+I88","v":0},null,null,null,null,null,null,null,null,null,null,null,null,null,null,null,null,null,null,null,null,null,null,null,null,null,null,null,null,null,null,null,null,null,null,null,null,null,null,null,null,null,null,null,null,null,null,{"$f":"CB88&CC88&CD88&CE88&CF88&CG88&CH88","v":""},null,null,null,null,null,null,null,null,null,null,null,null,null,null,null,null,null,null,null,null,null,null,null,null,null,null,null,null,null,{"$f":"IF(B88<>(AS88+AR88),\" * La suma de las columnas \"&AR$10&\"\"&\" DEBE SER IGUAL a los Exámenes Procesados. \",\"\")","v":""},"","","",{"$f":"IF(D88<E88,CONCATENATE(\"* El total de Procesados debe ser mayor o igual al total de Reactivos en el grupo de edad \",$D$11),\"\")","v":""},{"$f":"IF(F88<G88,CONCATENATE(\"* El total de Procesados debe ser mayor o igual al total de Reactivos en el grupo de edad \",$F$11),\"\")","v":""},{"$f":"IF(H88<I88,CONCATENATE(\"* El total de Procesados debe ser mayor o igual al total de Reactivos en el grupo de edad \",$H$11),\"\")","v":""},null,null,null,null,null,null,null,null,null,null,null,null,null,null,null,null,null,null,null,null,null,null,null,{"$f":"IF(B88<>(AS88+AR88),1,0)","v":0},0,0,0,{"$f":"IF(D88<E88,1,0)","v":0},{"$f":"IF(F88<G88,1,0)","v":0},{"$f":"IF(H88<I88,1,0)","v":0}]
["Personas en control por comercio sexual",{"$f":"+P89+R89+T89+V89+X89+Z89+AB89+AD89+AF89+AH89+AJ89+AL89+AN89+AP89","v":0},{"$f":"+Q89+S89+U89+W89+Y89+AA89+AC89+AE89+AG89+AI89+AK89+AM89+AO89+AQ89","v":0},null,null,null,null,null,null,null,null,null,null,null,null,null,null,null,null,null,null,null,null,null,null,null,null,null,null,null,null,null,null,null,null,null,null,null,null,null,null,null,null,null,null,null,null,null,null,{"$f":"CB89&CC89&CD89&CE89&CL89&CM89&CN89&CO89&CP89&CQ89&CR89&CS89&CT89&CU89&CV89&CW89&CX89","v":""},null,null,null,null,null,null,null,null,null,null,null,null,null,null,null,null,null,null,null,null,null,null,null,null,null,null,null,null,null,{"$f":"IF(B89<>(AS89+AR89),\" * La suma de las columnas \"&AR$10&\"\"&\" DEBE SER IGUAL a los Exámenes Procesados. \",\"\")","v":""},"","","",null,null,null,null,null,null,{"$f":"IF(P89<Q89,CONCATENATE(\"* El total de Procesados debe ser mayor o igual al total de Reactivos en el grupo de edad \",$P$11),\"\")","v":""},{"$f":"IF(R89<S89,CONCATENATE(\"* El total de Procesados debe ser mayor o igual al total de Reactivos en el grupo de edad \",$R$11),\"\")","v":""},"",{"$f":"IF(V89<W89,CONCATENATE(\"* El total de Procesados debe ser mayor o igual al total de Reactivos en el grupo de edad \",$V$11),\"\")","v":""},{"$f":"IF(X89<Y89,CONCATENATE(\"* El total de Procesados debe ser mayor o igual al total de Reactivos en el grupo de edad \",$X$11),\"\")","v":""},{"$f":"IF(Z89<AA89,CONCATENATE(\"* El total de Procesados debe ser mayor o igual al total de Reactivos en el grupo de edad \",$Z$11),\"\")","v":""},{"$f":"IF(AD89<AE89,CONCATENATE(\"* El total de Procesados debe ser mayor o igual al total de Reactivos en el grupo de edad \",$AD$11),\"\")","v":""},{"$f":"IF(AF89<AG89,CONCATENATE(\"* El total de Procesados debe ser mayor o igual al total de Reactivos en el grupo de edad \",$AF$11),\"\")","v":""},{"$f":"IF(AH89<AI89,CONCATENATE(\"* El total de Procesados debe ser mayor o igual al total de Reactivos en el grupo de edad \",$AH$11),\"\")","v":""},{"$f":"IF(AJ89<AK89,CONCATENATE(\"* El total de Procesados debe ser mayor o igual al total de Reactivos en el grupo de edad \",$AJ$11),\"\")","v":""},{"$f":"IF(AL89<AM89,CONCATENATE(\"* El total de Procesados debe ser mayor o igual al total de Reactivos en el grupo de edad \",$AL$11),\"\")","v":""},{"$f":"IF(AN89<AO89,CONCATENATE(\"* El total de Procesados debe ser mayor o igual al total de Reactivos en el grupo de edad \",$AN$11),\"\")","v":""},{"$f":"IF(AP89<AQ89,CONCATENATE(\"* El total de Procesados debe ser mayor o igual al total de Reactivos en el grupo de edad \",$AP$11),\"\")","v":""},null,null,null,null,null,null,null,{"$f":"IF(B89<>(AS89+AR89),1,0)","v":0},0,0,0,null,null,null,null,null,null,{"$f":"IF(P89<Q89,1,0)","v":0},{"$f":"IF(R89<S89,1,0)","v":0},0,{"$f":"IF(V89<W89,1,0)","v":0},{"$f":"IF(X89<Y89,1,0)","v":0},{"$f":"IF(Z89<AA89,1,0)","v":0},{"$f":"IF(AD89<AE89,1,0)","v":0},{"$f":"IF(AF89<AG89,1,0)","v":0},{"$f":"IF(AH89<AI89,1,0)","v":0},{"$f":"IF(AJ89<AK89,1,0)","v":0},{"$f":"IF(AL89<AM89,1,0)","v":0},{"$f":"IF(AN89<AO89,1,0)","v":0},{"$f":"IF(AP89<AQ89,1,0)","v":0}]
["Personas en control fecundidad",{"$f":"+N90+P90+R90+T90+V90+X90+Z90+AB90+AD90+AF90+AH90+AJ90+AL90+AN90+AP90","v":0},{"$f":"+O90+Q90+S90+U90+W90+Y90+AA90+AC90+AE90+AG90+AI90+AK90+AM90+AO90+AQ90","v":0},null,null,null,null,null,null,null,null,null,null,null,null,null,null,null,null,null,null,null,null,null,null,null,null,null,null,null,null,null,null,null,null,null,null,null,null,null,null,null,null,null,null,null,null,null,null,{"$f":"CB90&CC90&CD90&CE90&CK90&CL90&CM90&CN90&CO90&CP90&CQ90&CR90&CS90&CT90&CU90&CV90&CW90&CX90","v":""},null,null,null,null,null,null,null,null,null,null,null,null,null,null,null,null,null,null,null,null,null,null,null,null,null,null,null,null,null,"","","","",null,null,null,null,null,{"$f":"IF(N90<O90,CONCATENATE(\"* El total de Procesados debe ser mayor o igual al total de Reactivos en el grupo de edad \",$N$11),\"\")","v":""},{"$f":"IF(P90<Q90,CONCATENATE(\"* El total de Procesados debe ser mayor o igual al total de Reactivos en el grupo de edad \",$P$11),\"\")","v":""},"","","","","","","","","","","","",null,null,null,null,null,null,null,0,0,0,0,null,null,null,null,null,{"$f":"IF(N90<O90,1,0)","v":0},0,0,0,0,0,0,0,0,0,0,0,0,0]
["Consultantes por ITS",{"$f":"+D91+F91+H91+J91+L91+N91+P91+R91+T91+V91+X91+Z91+AB91+AD91+AF91+AH91+AJ91+AL91+AN91+AP91","v":0},{"$f":"+E91+G91+I91+K91+M91+O91+Q91+S91+U91+W91+Y91+AA91+AC91+AE91+AG91+AI91+AK91+AM91+AO91+AQ91","v":0},null,null,null,null,null,null,null,null,null,null,null,null,null,null,null,null,null,null,null,null,null,null,null,null,null,null,null,null,null,null,null,null,null,null,null,null,null,null,null,null,null,null,null,null,null,null,{"$f":"CB91&CC91&CD91&CE91&CF91&CG91&CH91&CI91&CJ91&CK91&CL91&CM91&CN91&CO91&CP91&CQ91&CR91&CS91&CT91&CU91&CV91&CW91&CX91","v":""},null,null,null,null,null,null,null,null,null,null,null,null,null,null,null,null,null,null,null,null,null,null,null,null,null,null,null,null,null,"","","","",{"$f":"IF(D91<E91,CONCATENATE(\"* El total de Procesados debe ser mayor o igual al total de Reactivos en el grupo de edad \",$D$11),\"\")","v":""},{"$f":"IF(F91<G91,CONCATENATE(\"* El total de Procesados debe ser mayor o igual al total de Reactivos en el grupo de edad \",$F$11),\"\")","v":""},{"$f":"IF(H91<I91,CONCATENATE(\"* El total de Procesados debe ser mayor o igual al total de Reactivos en el grupo de edad \",$H$11),\"\")","v":""},{"$f":"IF(J91<K91,CONCATENATE(\"* El total de Procesados debe ser mayor o igual al total de Reactivos en el grupo de edad \",$J$11),\"\")","v":""},{"$f":"IF(L91<M91,CONCATENATE(\"* El total de Procesados debe ser mayor o igual al total de Reactivos en el grupo de edad \",$L$11),\"\")","v":""},{"$f":"IF(N91<O91,CONCATENATE(\"* El total de Procesados debe ser mayor o igual al total de Reactivos en el grupo de edad \",$N$11),\"\")","v":""},{"$f":"IF(P91<Q91,CONCATENATE(\"* El total de Procesados debe ser mayor o igual al total de Reactivos en el grupo de edad \",$P$11),\"\")","v":""},"","","","","","","","","","","","",null,null,null,null,null,null,null,0,0,0,0,{"$f":"IF(D91<E91,1,0)","v":0},{"$f":"IF(F91<G91,1,0)","v":0},{"$f":"IF(H91<I91,1,0)","v":0},{"$f":"IF(J91<K91,1,0)","v":0},{"$f":"IF(L91<M91,1,0)","v":0},0,0,0,0,0,0,0,0,0,0,0,0,0,0]
["Personas EMP/EMPAM",{"$f":"+P92+R92+T92+V92+X92+Z92+AB92+AD92+AF92+AH92+AJ92+AL92+AN92+AP92","v":0},{"$f":"+Q92+S92+U92+W92+Y92+AA92+AC92+AE92+AG92+AI92+AK92+AM92+AO92+AQ92","v":0},null,null,null,null,null,null,null,null,null,null,null,null,null,null,null,null,null,null,null,null,null,null,null,null,null,null,null,null,null,null,null,null,null,null,null,null,null,null,null,null,null,null,null,null,null,null,{"$f":"CB92&CC92&CD92&CE92&CL92&CM92&CN92&CO92&CP92&CQ92&CR92&CS92&CT92&CU92&CV92&CW92&CX92","v":""},null,null,null,null,null,null,null,null,null,null,null,null,null,null,null,null,null,null,null,null,null,null,null,null,null,null,null,null,null,"","","","",null,null,null,null,null,null,{"$f":"IF(P92<Q92,CONCATENATE(\"* El total de Procesados debe ser mayor o igual al total de Reactivos en el grupo de edad \",$P$11),\"\")","v":""},"","","","","","","","","","","","",null,null,null,null,null,null,null,0,0,0,0,null,null,null,null,null,null,0,0,0,0,0,0,0,0,0,0,0,0,0]
["Donantes de sangre",{"$f":"+P93+R93+T93+V93+X93+Z93+AB93+AD93+AF93+AH93","v":0},{"$f":"+Q93+S93+U93+W93+Y93+AA93+AC93+AE93+AG93+AI93","v":0},null,null,null,null,null,null,null,null,null,null,null,null,null,null,null,null,null,null,null,null,null,null,null,null,null,null,null,null,null,null,null,null,null,null,null,null,null,null,null,null,null,null,null,null,null,null,{"$f":"CB93&CC93&CD93&CE93&CL93&CM93&CN93&CO93&CP93&CQ93&CR93&CS93&CT93","v":""},null,null,null,null,null,null,null,null,null,null,null,null,null,null,null,null,null,null,null,null,null,null,null,null,null,null,null,null,null,"","","","",null,null,null,null,null,null,"","","","","","","","","",null,null,null,null,null,null,null,null,null,null,null,0,0,0,0,null,null,null,null,null,null,0,0,0,0,0,0,0,0,0]
["Donantes de órganos y/o tejidos",{"$f":"+D94+F94+H94+J94+L94+N94+P94+R94+T94+V94+X94+Z94+AB94+AD94+AF94+AH94+AJ94+AL94+AN94+AP94","v":0},0,null,null,null,null,null,null,null,null,null,null,null,null,null,null,null,null,null,null,null,null,null,null,null,null,null,null,null,null,null,null,null,null,null,null,null,null,null,null,null,null,null,null,null,null,null,null,{"$f":"CB94&CC94&CD94&CE94&CK94&CL94&CM94&CN94&CO94&CP94&CQ94&CR94&CS94&CT94&CU94&CV94&CW94&CX94&CF94&CG94&CH94&CI94&CJ94","v":""},null,null,null,null,null,null,null,null,null,null,null,null,null,null,null,null,null,null,null,null,null,null,null,null,null,null,null,null,null,"","","","",{"$f":"IF(D94<E94,CONCATENATE(\"* El total de Procesados debe ser mayor o igual al total de Reactivos en el grupo de edad \",$D$11),\"\")","v":""},{"$f":"IF(F94<G94,CONCATENATE(\"* El total de Procesados debe ser mayor o igual al total de Reactivos en el grupo de edad \",$F$11),\"\")","v":""},{"$f":"IF(H94<I94,CONCATENATE(\"* El total de Procesados debe ser mayor o igual al total de Reactivos en el grupo de edad \",$H$11),\"\")","v":""},{"$f":"IF(J94<K94,CONCATENATE(\"* El total de Procesados debe ser mayor o igual al total de Reactivos en el grupo de edad \",$J$11),\"\")","v":""},{"$f":"IF(L94<M94,CONCATENATE(\"* El total de Procesados debe ser mayor o igual al total de Reactivos en el grupo de edad \",$L$11),\"\")","v":""},{"$f":"IF(N94<O94,CONCATENATE(\"* El total de Procesados debe ser mayor o igual al total de Reactivos en el grupo de edad \",$N$11),\"\")","v":""},"","","","","","","","","",{"$f":"IF(AJ94<AK94,CONCATENATE(\"* El total de Procesados debe ser mayor o igual al total de Reactivos en el grupo de edad \",$AJ$11),\"\")","v":""},{"$f":"IF(AL94<AM94,CONCATENATE(\"* El total de Procesados debe ser mayor o igual al total de Reactivos en el grupo de edad \",$AL$11),\"\")","v":""},{"$f":"IF(AN94<AO94,CONCATENATE(\"* El total de Procesados debe ser mayor o igual al total de Reactivos en el grupo de edad \",$AN$11),\"\")","v":""},{"$f":"IF(AP94<AQ94,CONCATENATE(\"* El total de Procesados debe ser mayor o igual al total de Reactivos en el grupo de edad \",$AP$11),\"\")","v":""},null,null,null,null,null,null,null,0,0,0,0,{"$f":"IF(D94<E94,1,0)","v":0},{"$f":"IF(F94<G94,1,0)","v":0},{"$f":"IF(H94<I94,1,0)","v":0},{"$f":"IF(J94<K94,1,0)","v":0},{"$f":"IF(L94<M94,1,0)","v":0},{"$f":"IF(N94<O94,1,0)","v":0},0,0,0,0,0,0,0,0,0,{"$f":"IF(AJ94<AK94,1,0)","v":0},{"$f":"IF(AL94<AM94,1,0)","v":0},{"$f":"IF(AN94<AO94,1,0)","v":0},{"$f":"IF(AP94<AQ94,1,0)","v":0}]
["Pacientes en diálisis",0,0,null,null,null,null,null,null,null,null,null,null,null,null,null,null,null,null,null,null,null,null,null,null,null,null,null,null,null,null,null,null,null,null,null,null,null,null,null,null,null,null,null,null,null,null,null,null,{"$f":"CB95&CC95&CD95&CE95&CK95&CL95&CM95&CN95&CO95&CP95&CQ95&CR95&CS95&CT95&CU95&CV95&CW95&CX95&CF95&CG95&CH95&CI95&CJ95","v":""},null,null,null,null,null,null,null,null,null,null,null,null,null,null,null,null,null,null,null,null,null,null,null,null,null,null,null,null,null,"","","","","","","","","","","","","","","","","","","","","","","",null,null,null,null,null,null,null,0,0,0,0,0,0,0,0,0,0,0,0,0,0,0,0,0,0,0,0,0,0,0]
["Víctima de violencia sexual",0,0,null,null,null,null,null,null,null,null,null,null,null,null,null,null,null,null,null,null,null,null,null,null,null,null,null,null,null,null,null,null,null,null,null,null,null,null,null,null,null,null,null,null,null,null,null,null,"",null,null,null,null,null,null,null,null,null,null,null,null,null,null,null,null,null,null,null,null,null,null,null,null,null,null,null,null,null,"","","","","","","","","","","","","","","","","","","","","","","",null,null,null,null,null,null,null,0,0,0,0,0,0,0,0,0,0,0,0,0,0,0,0,0,0,0,0,0,0,0]
["SECCIÓN A.5: EXAMEN MHA-TP POR GRUPO DE USUARIOS (USO EXCLUSIVO DE ESTABLECIMIENTOS CON LABORATORIO QUE PROCESAN)"]
["GRUPO DE PESQUISA","TOTAL",null,"RANGO ETARIO",null,null,null,null,null,null,null,null,null,null,null,null,null,null,null,null,null,null,null,null,null,null,null,null,null,null,null,null,null,null,null,null,null,null,null,null,null,null,null,"POR SEXO (Procesados)",null,"TRANS",null,"Pueblos Originarios","Migrantes"]
[null,null,null,"Menos de 6 meses",null,"6 a 11 meses",null,"12-24 meses",null,"3 a 4 años",null,"5 a 9 años",null,"10 - 14 años",null,"15 - 19 años",null,"20 - 24 años",null,"25 - 29 años",null,"30 - 34 años",null,"35 - 39 años",null,"40 - 44 años",null,"45 - 49 años",null,"50 - 54 años",null,"55 - 59 años",null,"60 - 64 años",null,"65 - 69 años",null,"70 - 74 años",null,"75 - 79 años",null,"80 y más años",null,"Hombres","Mujeres"]
[null,"Procesados","Reactivos","Procesados","Reactivos","Procesados","Reactivos","Procesados","Reactivos","Procesados","Reactivos","Procesados","Reactivos","Procesados","Reactivos","Procesados","Reactivos","Procesados","Reactivos","Procesados","Reactivos","Procesados","Reactivos","Procesados","Reactivos","Procesados","Reactivos","Procesados","Reactivos","Procesados","Reactivos","Procesados","Reactivos","Procesados","Reactivos","Procesados","Reactivos","Procesados","Reactivos","Procesados","Reactivos","Procesados","Reactivos",null,null,"Masculino","Femenino"]
["Gestantes primer trimestre embarazo",{"$f":"+N101+P101+R101+T101+V101+X101+Z101+AB101+AD101+AF101+AH101+AJ101+AL101+AN101+AP101","v":0},0,null,null,null,null,null,null,null,null,null,null,null,null,null,null,null,null,null,null,null,null,null,null,null,null,null,null,null,null,null,null,null,null,null,null,null,null,null,null,null,null,null,null,null,null,null,null,{"$f":"CB101&CC101&CD101&CE101&CK101&CL101&CM101&CN101&CO101&CP101&CQ101&CR101&CS101&CT101&CU101&CV101&CW101&CX101","v":""},null,null,null,null,null,null,null,null,null,null,null,null,null,null,null,null,null,null,null,null,null,null,null,null,null,null,null,null,null,{"$f":"IF(B101<>(AS101),\" * La suma de las columnas \"&AR$10&\"\"&\" DEBE SER IGUAL a los Exámenes Procesados. \",\"\")","v":""},{"$f":"IF(AND($B101>0,AND(AT101=\"\",AU101=\"\")),\"* No olvide ingresar las columnas Trans Masculino o Femenino (*Digite CERO si no tiene). \",IF((AT101+AU101)>$B101,\"* El Número de Trans Masculino o Femenino no puede superar el Total Procesados. \",\"\"))","v":""},{"$f":"IF(AND($B101>0,AV101=\"\"),\"* No olvide ingresar la columna \"&AV$10&\"\"&\" *(Digite CERO si no tiene). \",IF(AV101>$B101,\" *El Número de \"&AV$10&\"\"&\" no puede superar el Total Procesados. \",\"\"))","v":""},{"$f":"IF(AND($B101>0,AW101=\"\"),\"* No olvide ingresar la columna \"&AW$10&\"\"&\" *(Digite CERO si no tiene). \",IF(AW101>$B101,\" *El Número de \"&AW$10&\"\"&\" no puede superar el Total Procesados. \",\"\"))","v":""},null,null,null,null,null,{"$f":"IF(N101<O101,CONCATENATE(\"* El total de Procesados debe ser mayor o igual al total de Reactivos en el grupo de edad \",$N$11),\"\")","v":""},{"$f":"IF(P101<Q101,CONCATENATE(\"* El total de Procesados debe ser mayor o igual al total de Reactivos en el grupo de edad \",$P$11),\"\")","v":""},{"$f":"IF(R101<S101,CONCATENATE(\"* El total de Procesados debe ser mayor o igual al total de Reactivos en el grupo de edad \",$R$11),\"\")","v":""},{"$f":"IF($T101<$U101,CONCATENATE(\"* El total de Procesados debe ser mayor o igual al total de Reactivos en el grupo de edad \",$T$11),\"\")","v":""},{"$f":"IF(V101<W101,CONCATENATE(\"* El total de Procesados debe ser mayor o igual al total de Reactivos en el grupo de edad \",$V$11),\"\")","v":""},{"$f":"IF(X101<Y101,CONCATENATE(\"* El total de Procesados debe ser mayor o igual al total de Reactivos en el grupo de edad \",$X$11),\"\")","v":""},{"$f":"IF(Z101<AA101,CONCATENATE(\"* El total de Procesados debe ser mayor o igual al total de Reactivos en el grupo de edad \",$Z$11),\"\")","v":""},{"$f":"IF(AD101<AE101,CONCATENATE(\"* El total de Procesados debe ser mayor o igual al total de Reactivos en el grupo de edad \",$AD$11),\"\")","v":""},{"$f":"IF(AF101<AG101,CONCATENATE(\"* El total de Procesados debe ser mayor o igual al total de Reactivos en el grupo de edad \",$AF$11),\"\")","v":""},{"$f":"IF(AH101<AI101,CONCATENATE(\"* El total de Procesados debe ser mayor o igual al total de Reactivos en el grupo de edad \",$AH$11),\"\")","v":""},{"$f":"IF(AJ101<AK101,CONCATENATE(\"* El total de Procesados debe ser mayor o igual al total de Reactivos en el grupo de edad \",$AJ$11),\"\")","v":""},{"$f":"IF(AL101<AM101,CONCATENATE(\"* El total de Procesados debe ser mayor o igual al total de Reactivos en el grupo de edad \",$AL$11),\"\")","v":""},{"$f":"IF(AN101<AO101,CONCATENATE(\"* El total de Procesados debe ser mayor o igual al total de Reactivos en el grupo de edad \",$AN$11),\"\")","v":""},{"$f":"IF(AP101<AQ101,CONCATENATE(\"* El total de Procesados debe ser mayor o igual al total de Reactivos en el grupo de edad \",$AP$11),\"\")","v":""},null,null,null,null,null,null,null,{"$f":"IF(B101<>(AS101),1,0)","v":0},{"$f":"IF(AND($B101>0,AND(AT101=\"\",AU101=\"\")),1,IF((AT101+AU101)>$B101,1,0))","v":0},{"$f":"IF(AND($B101>0,AV101=\"\"),1,IF(AV101>$B101,1,0))","v":0},{"$f":"IF(AND($B101>0,AW101=\"\"),1,IF(AW101>$B101,1,0))","v":0},null,null,null,null,null,{"$f":"IF(N101<O101,1,0)","v":0},{"$f":"IF(P101<Q101,1,0)","v":0},{"$f":"IF(R101<S101,1,0)","v":0},{"$f":"IF($T101<$U101,1,0)","v":0},{"$f":"IF(V101<W101,1,0)","v":0},{"$f":"IF(X101<Y101,1,0)","v":0},{"$f":"IF(Z101<AA101,1,0)","v":0},{"$f":"IF(AD101<AE101,1,0)","v":0},{"$f":"IF(AF101<AG101,1,0)","v":0},{"$f":"IF(AH101<AI101,1,0)","v":0},{"$f":"IF(AJ101<AK101,1,0)","v":0},{"$f":"IF(AL101<AM101,1,0)","v":0},{"$f":"IF(AN101<AO101,1,0)","v":0},{"$f":"IF(AP101<AQ101,1,0)","v":0}]
["Gestantes segundo trimestre embarazo",0,0,null,null,null,null,null,null,null,null,null,null,null,null,null,null,null,null,null,null,null,null,null,null,null,null,null,null,null,null,null,null,null,null,null,null,null,null,null,null,null,null,null,null,null,null,null,null,{"$f":"CB102&CC102&CD102&CE102&CK102&CL102&CM102&CN102&CO102&CP102&CQ102&CR102&CS102&CT102&CU102&CV102&CW102&CX102","v":""},null,null,null,null,null,null,null,null,null,null,null,null,null,null,null,null,null,null,null,null,null,null,null,null,null,null,null,null,null,{"$f":"IF(B102<>(AS102),\" * La suma de las columnas \"&AR$10&\"\"&\" DEBE SER IGUAL a los Exámenes Procesados. \",\"\")","v":""},{"$f":"IF(AND($B102>0,AND(AT102=\"\",AU102=\"\")),\"* No olvide ingresar las columnas Trans Masculino o Femenino (*Digite CERO si no tiene). \",IF((AT102+AU102)>$B102,\"* El Número de Trans Masculino o Femenino no puede superar el Total Procesados. \",\"\"))","v":""},{"$f":"IF(AND($B102>0,AV102=\"\"),\"* No olvide ingresar la columna \"&AV$10&\"\"&\" *(Digite CERO si no tiene). \",IF(AV102>$B102,\" *El Número de \"&AV$10&\"\"&\" no puede superar el Total Procesados. \",\"\"))","v":""},{"$f":"IF(AND($B102>0,AW102=\"\"),\"* No olvide ingresar la columna \"&AW$10&\"\"&\" *(Digite CERO si no tiene). \",IF(AW102>$B102,\" *El Número de \"&AW$10&\"\"&\" no puede superar el Total Procesados. \",\"\"))","v":""},null,null,null,null,null,{"$f":"IF(N102<O102,CONCATENATE(\"* El total de Procesados debe ser mayor o igual al total de Reactivos en el grupo de edad \",$N$11),\"\")","v":""},{"$f":"IF(P102<Q102,CONCATENATE(\"* El total de Procesados debe ser mayor o igual al total de Reactivos en el grupo de edad \",$P$11),\"\")","v":""},{"$f":"IF(R102<S102,CONCATENATE(\"* El total de Procesados debe ser mayor o igual al total de Reactivos en el grupo de edad \",$R$11),\"\")","v":""},{"$f":"IF($T102<$U102,CONCATENATE(\"* El total de Procesados debe ser mayor o igual al total de Reactivos en el grupo de edad \",$T$11),\"\")","v":""},{"$f":"IF(V102<W102,CONCATENATE(\"* El total de Procesados debe ser mayor o igual al total de Reactivos en el grupo de edad \",$V$11),\"\")","v":""},{"$f":"IF(X102<Y102,CONCATENATE(\"* El total de Procesados debe ser mayor o igual al total de Reactivos en el grupo de edad \",$X$11),\"\")","v":""},{"$f":"IF(Z102<AA102,CONCATENATE(\"* El total de Procesados debe ser mayor o igual al total de Reactivos en el grupo de edad \",$Z$11),\"\")","v":""},{"$f":"IF(AD102<AE102,CONCATENATE(\"* El total de Procesados debe ser mayor o igual al total de Reactivos en el grupo de edad \",$AD$11),\"\")","v":""},{"$f":"IF(AF102<AG102,CONCATENATE(\"* El total de Procesados debe ser mayor o igual al total de Reactivos en el grupo de edad \",$AF$11),\"\")","v":""},{"$f":"IF(AH102<AI102,CONCATENATE(\"* El total de Procesados debe ser mayor o igual al total de Reactivos en el grupo de edad \",$AH$11),\"\")","v":""},{"$f":"IF(AJ102<AK102,CONCATENATE(\"* El total de Procesados debe ser mayor o igual al total de Reactivos en el grupo de edad \",$AJ$11),\"\")","v":""},{"$f":"IF(AL102<AM102,CONCATENATE(\"* El total de Procesados debe ser mayor o igual al total de Reactivos en el grupo de edad \",$AL$11),\"\")","v":""},{"$f":"IF(AN102<AO102,CONCATENATE(\"* El total de Procesados debe ser mayor o igual al total de Reactivos en el grupo de edad \",$AN$11),\"\")","v":""},{"$f":"IF(AP102<AQ102,CONCATENATE(\"* El total de Procesados debe ser mayor o igual al total de Reactivos en el grupo de edad \",$AP$11),\"\")","v":""},null,null,null,null,null,null,null,{"$f":"IF(B102<>(AS102),1,0)","v":0},{"$f":"IF(AND($B102>0,AND(AT102=\"\",AU102=\"\")),1,IF((AT102+AU102)>$B102,1,0))","v":0},{"$f":"IF(AND($B102>0,AV102=\"\"),1,IF(AV102>$B102,1,0))","v":0},{"$f":"IF(AND($B102>0,AW102=\"\"),1,IF(AW102>$B102,1,0))","v":0},null,null,null,null,null,{"$f":"IF(N102<O102,1,0)","v":0},{"$f":"IF(P102<Q102,1,0)","v":0},{"$f":"IF(R102<S102,1,0)","v":0},{"$f":"IF($T102<$U102,1,0)","v":0},{"$f":"IF(V102<W102,1,0)","v":0},{"$f":"IF(X102<Y102,1,0)","v":0},{"$f":"IF(Z102<AA102,1,0)","v":0},{"$f":"IF(AD102<AE102,1,0)","v":0},{"$f":"IF(AF102<AG102,1,0)","v":0},{"$f":"IF(AH102<AI102,1,0)","v":0},{"$f":"IF(AJ102<AK102,1,0)","v":0},{"$f":"IF(AL102<AM102,1,0)","v":0},{"$f":"IF(AN102<AO102,1,0)","v":0},{"$f":"IF(AP102<AQ102,1,0)","v":0}]
["Gestantes tercer trimestre embarazo",0,0,null,null,null,null,null,null,null,null,null,null,null,null,null,null,null,null,null,null,null,null,null,null,null,null,null,null,null,null,null,null,null,null,null,null,null,null,null,null,null,null,null,null,null,null,null,null,"",null,null,null,null,null,null,null,null,null,null,null,null,null,null,null,null,null,null,null,null,null,null,null,null,null,null,null,null,null,"","","","",null,null,null,null,null,"","","","","","","","","","","","","","",null,null,null,null,null,null,null,0,0,0,0,null,null,null,null,null,0,0,0,0,0,0,0,0,0,0,0,0,0,0]
["Gestantes trimestre embarazo ignorado",0,0,null,null,null,null,null,null,null,null,null,null,null,null,null,null,null,null,null,null,null,null,null,null,null,null,null,null,null,null,null,null,null,null,null,null,null,null,null,null,null,null,null,null,null,null,null,null,"",null,null,null,null,null,null,null,null,null,null,null,null,null,null,null,null,null,null,null,null,null,null,null,null,null,null,null,null,null,"","","","",null,null,null,null,null,"","","","","","","","","","","","","","",null,null,null,null,null,null,null,0,0,0,0,null,null,null,null,null,0,0,0,0,0,0,0,0,0,0,0,0,0,0]
["Gestantes en seguimiento por diagnóstico sífilis",0,0,null,null,null,null,null,null,null,null,null,null,null,null,null,null,null,null,null,null,null,null,null,null,null,null,null,null,null,null,null,null,null,null,null,null,null,null,null,null,null,null,null,null,null,null,null,null,"",null,null,null,null,null,null,null,null,null,null,null,null,null,null,null,null,null,null,null,null,null,null,null,null,null,null,null,null,null,"","","","",null,null,null,null,null,"","","","","","","","","","","","","","",null,null,null,null,null,null,null,0,0,0,0,null,null,null,null,null,0,0,0,0,0,0,0,0,0,0,0,0,0,0]
["Pareja de gestante con serología reactiva",0,0,null,null,null,null,null,null,null,null,null,null,null,null,null,null,null,null,null,null,null,null,null,null,null,null,null,null,null,null,null,null,null,null,null,null,null,null,null,null,null,null,null,null,null,null,null,null,{"$f":"CB106&CC106&CD106&CE106&CK106&CL106&CM106&CN106&CO106&CP106&CQ106&CR106&CS106&CT106&CU106&CV106&CW106&CX106","v":""},null,null,null,null,null,null,null,null,null,null,null,null,null,null,null,null,null,null,null,null,null,null,null,null,null,null,null,null,null,{"$f":"IF(B106<>(AS106+AR106),\" * La suma de las columnas \"&AR$10&\"\"&\" DEBE SER IGUAL a los Exámenes Procesados. \",\"\")","v":""},"","","",null,null,null,null,null,{"$f":"IF(N106<O106,CONCATENATE(\"* El total de Procesados debe ser mayor o igual al total de Reactivos en el grupo de edad \",$N$11),\"\")","v":""},"","","","","","","","","","","","","",null,null,null,null,null,null,null,{"$f":"IF(B106<>(AS106+AR106),1,0)","v":0},0,0,0,null,null,null,null,null,0,0,0,0,0,0,0,0,0,0,0,0,0,0]
["Mujeres que ingresan a maternidad por parto",0,0,null,null,null,null,null,null,null,null,null,null,null,null,null,null,null,null,null,null,null,null,null,null,null,null,null,null,null,null,null,null,null,null,null,null,null,null,null,null,null,null,null,null,null,null,null,null,{"$f":"CB107&CC107&CD107&CE107&CK107&CL107&CM107&CN107&CO107&CP107&CQ107&CR107&CS107&CT107&CU107&CV107&CW107&CX107","v":""},null,null,null,null,null,null,null,null,null,null,null,null,null,null,null,null,null,null,null,null,null,null,null,null,null,null,null,null,null,{"$f":"IF(B107<>(AS107),\" * La suma de las columnas \"&AR$10&\"\"&\" DEBE SER IGUAL a los Exámenes Procesados. \",\"\")","v":""},"","","",null,null,null,null,null,{"$f":"IF(N107<O107,CONCATENATE(\"* El total de Procesados debe ser mayor o igual al total de Reactivos en el grupo de edad \",$N$11),\"\")","v":""},"","","","","","","","","","","","","",null,null,null,null,null,null,null,{"$f":"IF(B107<>(AS107),1,0)","v":0},0,0,0,null,null,null,null,null,0,0,0,0,0,0,0,0,0,0,0,0,0,0]
["Mujeres que ingresan por aborto",0,0,null,null,null,null,null,null,null,null,null,null,null,null,null,null,null,null,null,null,null,null,null,null,null,null,null,null,null,null,null,null,null,null,null,null,null,null,null,null,null,null,null,null,null,null,null,null,{"$f":"CB108&CC108&CD108&CE108&CK108&CL108&CM108&CN108&CO108&CP108&CQ108&CR108&CS108&CT108&CU108&CV108&CW108&CX108","v":""},null,null,null,null,null,null,null,null,null,null,null,null,null,null,null,null,null,null,null,null,null,null,null,null,null,null,null,null,null,"","","","",null,null,null,null,null,{"$f":"IF(N108<O108,CONCATENATE(\"* El total de Procesados debe ser mayor o igual al total de Reactivos en el grupo de edad \",$N$11),\"\")","v":""},{"$f":"IF(P108<Q108,CONCATENATE(\"* El total de Procesados debe ser mayor o igual al total de Reactivos en el grupo de edad \",$P$11),\"\")","v":""},"","","","","","","","","","","","",null,null,null,null,null,null,null,{"$f":"IF(B108<>(AS108),1,0)","v":0},0,0,0,null,null,null,null,null,0,0,0,0,0,0,0,0,0,0,0,0,0,0]
["Mujeres en control ginecológico",{"$f":"+D109+F109+H109+J109+L109+N109+P109+R109+T109+V109+X109+Z109+AB109+AD109+AF109+AH109+AJ109+AL109+AN109+AP109","v":0},{"$f":"+E109+G109+I109+K109+M109+O109+Q109+S109+U109+W109+Y109+AA109+AC109+AE109+AG109+AI109+AK109+AM109+AO109+AQ109","v":0},null,null,null,null,null,null,null,null,null,null,null,null,null,null,null,null,null,null,null,null,null,null,null,null,null,null,null,null,null,null,null,null,null,null,null,null,null,null,null,null,null,null,null,null,null,null,{"$f":"CB109&CC109&CD109&CE109&CF109&CG109&CH109&CI109&CJ109&CK109&CL109&CM109&CN109&CO109&CP109&CQ109&CR109&CS109&CT109&CU109&CV109&CW109&CX109","v":""},null,null,null,null,null,null,null,null,null,null,null,null,null,null,null,null,null,null,null,null,null,null,null,null,null,null,null,null,null,"","","","",{"$f":"IF(D109<E109,CONCATENATE(\"* El total de Procesados debe ser mayor o igual al total de Reactivos en el grupo de edad \",$D$11),\"\")","v":""},{"$f":"IF(F109<G109,CONCATENATE(\"* El total de Procesados debe ser mayor o igual al total de Reactivos en el grupo de edad \",$F$11),\"\")","v":""},{"$f":"IF(H109<I109,CONCATENATE(\"* El total de Procesados debe ser mayor o igual al total de Reactivos en el grupo de edad \",$H$11),\"\")","v":""},{"$f":"IF(J109<K109,CONCATENATE(\"* El total de Procesados debe ser mayor o igual al total de Reactivos en el grupo de edad \",$J$11),\"\")","v":""},{"$f":"IF(L109<M109,CONCATENATE(\"* El total de Procesados debe ser mayor o igual al total de Reactivos en el grupo de edad \",$L$11),\"\")","v":""},{"$f":"IF(N109<O109,CONCATENATE(\"* El total de Procesados debe ser mayor o igual al total de Reactivos en el grupo de edad \",$N$11),\"\")","v":""},{"$f":"IF(P109<Q109,CONCATENATE(\"* El total de Procesados debe ser mayor o igual al total de Reactivos en el grupo de edad \",$P$11),\"\")","v":""},"","","","","","","","","","","","",null,null,null,null,null,null,null,0,0,0,0,{"$f":"IF(D109<E109,1,0)","v":0},{"$f":"IF(F109<G109,1,0)","v":0},{"$f":"IF(H109<I109,1,0)","v":0},{"$f":"IF(J109<K109,1,0)","v":0},{"$f":"IF(L109<M109,1,0)","v":0},0,0,0,0,0,0,0,0,0,0,0,0,0,0]
["Recién nacido y lactante para detección de sífilis congénita",{"$f":"+D110+F110+H110","v":0},{"$f":"+E110+G110+I110","v":0},null,null,null,null,null,null,null,null,null,null,null,null,null,null,null,null,null,null,null,null,null,null,null,null,null,null,null,null,null,null,null,null,null,null,null,null,null,null,null,null,null,null,null,null,null,null,{"$f":"CB110&CC110&CD110&CE110&CF110&CG110&CH110","v":""},null,null,null,null,null,null,null,null,null,null,null,null,null,null,null,null,null,null,null,null,null,null,null,null,null,null,null,null,null,{"$f":"IF(B110<>(AS110+AR110),\" * La suma de las columnas \"&AR$10&\"\"&\" DEBE SER IGUAL a los Exámenes Procesados. \",\"\")","v":""},"","","",{"$f":"IF(D110<E110,CONCATENATE(\"* El total de Procesados debe ser mayor o igual al total de Reactivos en el grupo de edad \",$D$11),\"\")","v":""},{"$f":"IF(F110<G110,CONCATENATE(\"* El total de Procesados debe ser mayor o igual al total de Reactivos en el grupo de edad \",$F$11),\"\")","v":""},{"$f":"IF(H110<I110,CONCATENATE(\"* El total de Procesados debe ser mayor o igual al total de Reactivos en el grupo de edad \",$H$11),\"\")","v":""},null,null,null,null,null,null,null,null,null,null,null,null,null,null,null,null,null,null,null,null,null,null,null,{"$f":"IF(B110<>(AS110+AR110),1,0)","v":0},0,0,0,{"$f":"IF(D110<E110,1,0)","v":0},{"$f":"IF(F110<G110,1,0)","v":0},{"$f":"IF(H110<I110,1,0)","v":0}]
["Personas en control por comercio sexual",{"$f":"+P111+R111+T111+V111+X111+Z111+AB111+AD111+AF111+AH111+AJ111+AL111+AN111+AP111","v":0},{"$f":"+Q111+S111+U111+W111+Y111+AA111+AC111+AE111+AG111+AI111+AK111+AM111+AO111+AQ111","v":0},null,null,null,null,null,null,null,null,null,null,null,null,null,null,null,null,null,null,null,null,null,null,null,null,null,null,null,null,null,null,null,null,null,null,null,null,null,null,null,null,null,null,null,null,null,null,{"$f":"CB111&CC111&CD111&CE111&CF111&CG111&CH111&CL111&CM111&CN111&CO111&CP111&CQ111&CR111&CS111&CT111&CU111&CV111&CW111&CX111","v":""},null,null,null,null,null,null,null,null,null,null,null,null,null,null,null,null,null,null,null,null,null,null,null,null,null,null,null,null,null,{"$f":"IF(B111<>(AS111+AR111),\" * La suma de las columnas \"&AR$10&\"\"&\" DEBE SER IGUAL a los Exámenes Procesados. \",\"\")","v":""},"","","",null,null,null,null,null,null,{"$f":"IF(P111<Q111,CONCATENATE(\"* El total de Procesados debe ser mayor o igual al total de Reactivos en el grupo de edad \",$P$11),\"\")","v":""},{"$f":"IF(R111<S111,CONCATENATE(\"* El total de Procesados debe ser mayor o igual al total de Reactivos en el grupo de edad \",$R$11),\"\")","v":""},"",{"$f":"IF(V111<W111,CONCATENATE(\"* El total de Procesados debe ser mayor o igual al total de Reactivos en el grupo de edad \",$V$11),\"\")","v":""},{"$f":"IF(X111<Y111,CONCATENATE(\"* El total de Procesados debe ser mayor o igual al total de Reactivos en el grupo de edad \",$X$11),\"\")","v":""},{"$f":"IF(Z111<AA111,CONCATENATE(\"* El total de Procesados debe ser mayor o igual al total de Reactivos en el grupo de edad \",$Z$11),\"\")","v":""},{"$f":"IF(AD111<AE111,CONCATENATE(\"* El total de Procesados debe ser mayor o igual al total de Reactivos en el grupo de edad \",$AD$11),\"\")","v":""},{"$f":"IF(AF111<AG111,CONCATENATE(\"* El total de Procesados debe ser mayor o igual al total de Reactivos en el grupo de edad \",$AF$11),\"\")","v":""},{"$f":"IF(AH111<AI111,CONCATENATE(\"* El total de Procesados debe ser mayor o igual al total de Reactivos en el grupo de edad \",$AH$11),\"\")","v":""},{"$f":"IF(AJ111<AK111,CONCATENATE(\"* El total de Procesados debe ser mayor o igual al total de Reactivos en el grupo de edad \",$AJ$11),\"\")","v":""},{"$f":"IF(AL111<AM111,CONCATENATE(\"* El total de Procesados debe ser mayor o igual al total de Reactivos en el grupo de edad \",$AL$11),\"\")","v":""},{"$f":"IF(AN111<AO111,CONCATENATE(\"* El total de Procesados debe ser mayor o igual al total de Reactivos en el grupo de edad \",$AN$11),\"\")","v":""},{"$f":"IF(AP111<AQ111,CONCATENATE(\"* El total de Procesados debe ser mayor o igual al total de Reactivos en el grupo de edad \",$AP$11),\"\")","v":""},null,null,null,null,null,null,null,{"$f":"IF(B111<>(AS111+AR111),1,0)","v":0},0,0,0,null,null,null,null,null,null,{"$f":"IF(P111<Q111,1,0)","v":0},{"$f":"IF(R111<S111,1,0)","v":0},0,{"$f":"IF(V111<W111,1,0)","v":0},{"$f":"IF(X111<Y111,1,0)","v":0},{"$f":"IF(Z111<AA111,1,0)","v":0},{"$f":"IF(AD111<AE111,1,0)","v":0},{"$f":"IF(AF111<AG111,1,0)","v":0},{"$f":"IF(AH111<AI111,1,0)","v":0},{"$f":"IF(AJ111<AK111,1,0)","v":0},{"$f":"IF(AL111<AM111,1,0)","v":0},{"$f":"IF(AN111<AO111,1,0)","v":0},{"$f":"IF(AP111<AQ111,1,0)","v":0}]
["Personas en control fecundidad",{"$f":"+N112+P112+R112+T112+V112+X112+Z112+AB112+AD112+AF112+AH112+AJ112+AL112+AN112+AP112","v":0},{"$f":"+O112+Q112+S112+U112+W112+Y112+AA112+AC112+AE112+AG112+AI112+AK112+AM112+AO112+AQ112","v":0},null,null,null,null,null,null,null,null,null,null,null,null,null,null,null,null,null,null,null,null,null,null,null,null,null,null,null,null,null,null,null,null,null,null,null,null,null,null,null,null,null,null,null,null,null,null,{"$f":"CB112&CC112&CD112&CE112&CK112&CL112&CM112&CN112&CO112&CP112&CQ112&CR112&CS112&CT112&CU112&CV112&CW112&CX112","v":""},null,null,null,null,null,null,null,null,null,null,null,null,null,null,null,null,null,null,null,null,null,null,null,null,null,null,null,null,null,"","","","",null,null,null,null,null,{"$f":"IF(N112<O112,CONCATENATE(\"* El total de Procesados debe ser mayor o igual al total de Reactivos en el grupo de edad \",$N$11),\"\")","v":""},{"$f":"IF(P112<Q112,CONCATENATE(\"* El total de Procesados debe ser mayor o igual al total de Reactivos en el grupo de edad \",$P$11),\"\")","v":""},"","","","","","","","","","","","",null,null,null,null,null,null,null,0,0,0,0,null,null,null,null,null,{"$f":"IF(N112<O112,1,0)","v":0},{"$f":"IF(P112<Q112,1,0)","v":0},0,0,0,0,0,0,0,0,0,0,0,0]
["Consultantes por ITS",{"$f":"+D113+F113+H113+J113+L113+N113+P113+R113+T113+V113+X113+Z113+AB113+AD113+AF113+AH113+AJ113+AL113+AN113+AP113","v":0},{"$f":"+E113+G113+I113+K113+M113+O113+Q113+S113+U113+W113+Y113+AA113+AC113+AE113+AG113+AI113+AK113+AM113+AO113+AQ113","v":0},null,null,null,null,null,null,null,null,null,null,null,null,null,null,null,null,null,null,null,null,null,null,null,null,null,null,null,null,null,null,null,null,null,null,null,null,null,null,null,null,null,null,null,null,null,null,{"$f":"CB113&CC113&CD113&CE113&CF113&CG113&CH113&CI113&CJ113&CK113&CL113&CM113&CN113&CO113&CP113&CQ113&CR113&CS113&CT113&CU113&CV113&CW113&CX113","v":""},null,null,null,null,null,null,null,null,null,null,null,null,null,null,null,null,null,null,null,null,null,null,null,null,null,null,null,null,null,"","","","",{"$f":"IF(D113<E113,CONCATENATE(\"* El total de Procesados debe ser mayor o igual al total de Reactivos en el grupo de edad \",$D$11),\"\")","v":""},{"$f":"IF(F113<G113,CONCATENATE(\"* El total de Procesados debe ser mayor o igual al total de Reactivos en el grupo de edad \",$F$11),\"\")","v":""},{"$f":"IF(H113<I113,CONCATENATE(\"* El total de Procesados debe ser mayor o igual al total de Reactivos en el grupo de edad \",$H$11),\"\")","v":""},{"$f":"IF(J113<K113,CONCATENATE(\"* El total de Procesados debe ser mayor o igual al total de Reactivos en el grupo de edad \",$J$11),\"\")","v":""},{"$f":"IF(L113<M113,CONCATENATE(\"* El total de Procesados debe ser mayor o igual al total de Reactivos en el grupo de edad \",$L$11),\"\")","v":""},{"$f":"IF(N113<O113,CONCATENATE(\"* El total de Procesados debe ser mayor o igual al total de Reactivos en el grupo de edad \",$N$11),\"\")","v":""},{"$f":"IF(P113<Q113,CONCATENATE(\"* El total de Procesados debe ser mayor o igual al total de Reactivos en el grupo de edad \",$P$11),\"\")","v":""},"","","","","","","","","","","","",null,null,null,null,null,null,null,0,0,0,0,{"$f":"IF(D113<E113,1,0)","v":0},{"$f":"IF(F113<G113,1,0)","v":0},{"$f":"IF(H113<I113,1,0)","v":0},{"$f":"IF(J113<K113,1,0)","v":0},{"$f":"IF(L113<M113,1,0)","v":0},0,{"$f":"IF(P113<Q113,1,0)","v":0},0,0,0,0,0,0,0,0,0,0,0,0]
["Personas EMP/EMPAM",{"$f":"+P114+R114+T114+V114+X114+Z114+AB114+AD114+AF114+AH114+AJ114+AL114+AN114+AP114","v":0},{"$f":"+Q114+S114+U114+W114+Y114+AA114+AC114+AE114+AG114+AI114+AK114+AM114+AO114+AQ114","v":0},null,null,null,null,null,null,null,null,null,null,null,null,null,null,null,null,null,null,null,null,null,null,null,null,null,null,null,null,null,null,null,null,null,null,null,null,null,null,null,null,null,null,null,null,null,null,{"$f":"CB114&CC114&CD114&CE114&CL114&CM114&CN114&CO114&CP114&CQ114&CR114&CS114&CT114&CU114&CV114&CW114&CX114","v":""},null,null,null,null,null,null,null,null,null,null,null,null,null,null,null,null,null,null,null,null,null,null,null,null,null,null,null,null,null,"","","","",null,null,null,null,null,null,{"$f":"IF(P114<Q114,CONCATENATE(\"* El total de Procesados debe ser mayor o igual al total de Reactivos en el grupo de edad \",$P$11),\"\")","v":""},"","","","","","","","","","","","",null,null,null,null,null,null,null,0,0,0,0,null,null,null,null,null,null,0,0,0,0,0,0,0,0,0,0,0,0,0]
["Donantes de sangre",{"$f":"+P115+R115+T115+V115+X115+Z115+AB115+AD115+AF115+AH115","v":0},{"$f":"+Q115+S115+U115+W115+Y115+AA115+AC115+AE115+AG115+AI115","v":0},null,null,null,null,null,null,null,null,null,null,null,null,null,null,null,null,null,null,null,null,null,null,null,null,null,null,null,null,null,null,null,null,null,null,null,null,null,null,null,null,null,null,null,null,null,null,{"$f":"CB115&CC115&CD115&CE115&CL115&CM115&CN115&CO115&CP115&CQ115&CR115&CS115&CT115","v":""},null,null,null,null,null,null,null,null,null,null,null,null,null,null,null,null,null,null,null,null,null,null,null,null,null,null,null,null,null,"","","","",null,null,null,null,null,null,"","","","","","","","","",null,null,null,null,null,null,null,null,null,null,null,0,0,0,0,null,null,null,null,null,null,0,0,0,0,0,0,0,0,0]
["Donantes de órganos y/o tejidos",{"$f":"+D116+F116+H116+J116+L116+N116+P116+R116+T116+V116+X116+Z116+AB116+AD116+AF116+AH116+AJ116+AL116+AN116+AP116","v":0},0,null,null,null,null,null,null,null,null,null,null,null,null,null,null,null,null,null,null,null,null,null,null,null,null,null,null,null,null,null,null,null,null,null,null,null,null,null,null,null,null,null,null,null,null,null,null,{"$f":"CB116&CC116&CD116&CE116&CF116&CG116&CH116&CI116&CJ116&CK116&CL116&CM116&CN116&CO116&CP116&CQ116&CR116&CS116&CT116&CU116&CV116&CW116&CX116","v":""},null,null,null,null,null,null,null,null,null,null,null,null,null,null,null,null,null,null,null,null,null,null,null,null,null,null,null,null,null,"","","","",{"$f":"IF(D116<E116,CONCATENATE(\"* El total de Procesados debe ser mayor o igual al total de Reactivos en el grupo de edad \",$D$11),\"\")","v":""},{"$f":"IF(F116<G116,CONCATENATE(\"* El total de Procesados debe ser mayor o igual al total de Reactivos en el grupo de edad \",$F$11),\"\")","v":""},{"$f":"IF(H116<I116,CONCATENATE(\"* El total de Procesados debe ser mayor o igual al total de Reactivos en el grupo de edad \",$H$11),\"\")","v":""},{"$f":"IF(J116<K116,CONCATENATE(\"* El total de Procesados debe ser mayor o igual al total de Reactivos en el grupo de edad \",$J$11),\"\")","v":""},{"$f":"IF(L116<M116,CONCATENATE(\"* El total de Procesados debe ser mayor o igual al total de Reactivos en el grupo de edad \",$L$11),\"\")","v":""},{"$f":"IF(N116<O116,CONCATENATE(\"* El total de Procesados debe ser mayor o igual al total de Reactivos en el grupo de edad \",$N$11),\"\")","v":""},"","","","","","","","","",{"$f":"IF(AJ116<AK116,CONCATENATE(\"* El total de Procesados debe ser mayor o igual al total de Reactivos en el grupo de edad \",$AJ$11),\"\")","v":""},{"$f":"IF(AL116<AM116,CONCATENATE(\"* El total de Procesados debe ser mayor o igual al total de Reactivos en el grupo de edad \",$AL$11),\"\")","v":""},{"$f":"IF(AN116<AO116,CONCATENATE(\"* El total de Procesados debe ser mayor o igual al total de Reactivos en el grupo de edad \",$AN$11),\"\")","v":""},{"$f":"IF(AP116<AQ116,CONCATENATE(\"* El total de Procesados debe ser mayor o igual al total de Reactivos en el grupo de edad \",$AP$11),\"\")","v":""},null,null,null,null,null,null,null,0,0,0,0,{"$f":"IF(D116<E116,1,0)","v":0},{"$f":"IF(F116<G116,1,0)","v":0},{"$f":"IF(H116<I116,1,0)","v":0},{"$f":"IF(J116<K116,1,0)","v":0},{"$f":"IF(L116<M116,1,0)","v":0},{"$f":"IF(N116<O116,1,0)","v":0},0,0,0,0,0,0,0,0,0,{"$f":"IF(AJ116<AK116,1,0)","v":0},{"$f":"IF(AL116<AM116,1,0)","v":0},{"$f":"IF(AN116<AO116,1,0)","v":0},{"$f":"IF(AP116<AQ116,1,0)","v":0}]
["Pacientes en diálisis",0,0,null,null,null,null,null,null,null,null,null,null,null,null,null,null,null,null,null,null,null,null,null,null,null,null,null,null,null,null,null,null,null,null,null,null,null,null,null,null,null,null,null,null,null,null,null,null,{"$f":"CB117&CC117&CD117&CE117&CF117&CG117&CH117&CI117&CJ117&CK117&CL117&CM117&CN117&CO117&CP117&CQ117&CR117&CS117&CT117&CU117&CV117&CW117&CX117","v":""},null,null,null,null,null,null,null,null,null,null,null,null,null,null,null,null,null,null,null,null,null,null,null,null,null,null,null,null,null,"","","","","","","","","","","","","","","","","","","","","","","",null,null,null,null,null,null,null,0,0,0,0,0,0,0,0,0,0,0,0,0,0,0,0,0,0,0,0,0,0,0]
["Víctima de violencia sexual",0,0,null,null,null,null,null,null,null,null,null,null,null,null,null,null,null,null,null,null,null,null,null,null,null,null,null,null,null,null,null,null,null,null,null,null,null,null,null,null,null,null,null,null,null,null,null,null,"",null,null,null,null,null,null,null,null,null,null,null,null,null,null,null,null,null,null,null,null,null,null,null,null,null,null,null,null,null,"","","","","","","","","","","","","","","","","","","","","","","",null,null,null,null,null,null,null,0,0,0,0,0,0,0,0,0,0,0,0,0,0,0,0,0,0,0,0,0,0,0]
["SECCIÓN A.6: EXAMEN MHA-TP POR GRUPO DE USUARIOS (USO EXCLUSIVO DE ESTABLECIMIENTOS QUE COMPRAN SERVICIO)"]
["GRUPO DE PESQUISA","TOTAL",null,"RANGO ETARIO",null,null,null,null,null,null,null,null,null,null,null,null,null,null,null,null,null,null,null,null,null,null,null,null,null,null,null,null,null,null,null,null,null,null,null,null,null,null,null,"POR SEXO (Procesados)",null,"TRANS",null,"Pueblos Originarios","Migrantes"]
[null,null,null,"Menos de 6 meses",null,"6 - 11 meses",null,"12-24 meses",null,"3 - 4 años",null,"5 - 9 años",null,"10 - 14 años",null,"15 - 19 años",null,"20 - 24 años",null,"25 - 29 años",null,"30 - 34 años",null,"35 - 39 años",null,"40 - 44 años",null,"45 - 49 años",null,"50 - 54 años",null,"55 - 59 años",null,"60 - 64 años",null,"65 - 69 años",null,"70 - 74 años",null,"75 - 79 años",null,"80 y más años",null,"Hombres","Mujeres"]
[null,"Procesados","Reactivos","Procesados","Reactivos","Procesados","Reactivos","Procesados","Reactivos","Procesados","Reactivos","Procesados","Reactivos","Procesados","Reactivos","Procesados","Reactivos","Procesados","Reactivos","Procesados","Reactivos","Procesados","Reactivos","Procesados","Reactivos","Procesados","Reactivos","Procesados","Reactivos","Procesados","Reactivos","Procesados","Reactivos","Procesados","Reactivos","Procesados","Reactivos","Procesados","Reactivos","Procesados","Reactivos","Procesados","Reactivos",null,null,"Masculino","Femenino"]
["Gestantes primer trimestre embarazo",{"$f":"+N123+P123+R123+T123+V123+X123+Z123+AB123+AD123+AF123+AH123+AJ123+AL123+AN123+AP123","v":0},0,null,null,null,null,null,null,null,null,null,null,null,null,null,null,null,null,null,null,null,null,null,null,null,null,null,null,null,null,null,null,null,null,null,null,null,null,null,null,null,null,null,null,null,null,null,null,{"$f":"CA123&CB123&CC123&CD123&CE123&CK123&CL123&CM123&CN123&CO123&CP123&CQ123&CR123&CS123&CT123&CU123&CV123&CW123&CX123","v":""},null,null,null,null,null,null,null,null,null,null,null,null,null,null,null,null,null,null,null,null,null,null,null,null,null,null,null,null,null,{"$f":"IF(B123<>(AS123),\" * La suma de las columnas \"&AR$10&\"\"&\" DEBE SER IGUAL a los Exámenes Procesados. \",\"\")","v":""},{"$f":"IF(AND($B123>0,AND(AT123=\"\",AU123=\"\")),\"* No olvide ingresar las columnas Trans Masculino o Femenino (*Digite CERO si no tiene). \",IF((AT123+AU123)>$B123,\"* El Número de Trans Masculino o Femenino no puede superar el Total Procesados. \",\"\"))","v":""},{"$f":"IF(AND($B123>0,AV123=\"\"),\"* No olvide ingresar la columna \"&AV$10&\"\"&\" *(Digite CERO si no tiene). \",IF(AV123>$B123,\" *El Número de \"&AV$10&\"\"&\" no puede superar el Total Procesados. \",\"\"))","v":""},{"$f":"IF(AND($B123>0,AW123=\"\"),\"* No olvide ingresar la columna \"&AW$10&\"\"&\" *(Digite CERO si no tiene). \",IF(AW123>$B123,\" *El Número de \"&AW$10&\"\"&\" no puede superar el Total Procesados. \",\"\"))","v":""},null,null,null,null,null,{"$f":"IF(N123<O123,CONCATENATE(\"* El total de Procesados debe ser mayor o igual al total de Reactivos en el grupo de edad \",$N$11),\"\")","v":""},{"$f":"IF(P123<Q123,CONCATENATE(\"* El total de Procesados debe ser mayor o igual al total de Reactivos en el grupo de edad \",$P$11),\"\")","v":""},{"$f":"IF(R123<S123,CONCATENATE(\"* El total de Procesados debe ser mayor o igual al total de Reactivos en el grupo de edad \",$R$11),\"\")","v":""},{"$f":"IF($T123<$U123,CONCATENATE(\"* El total de Procesados debe ser mayor o igual al total de Reactivos en el grupo de edad \",$T$11),\"\")","v":""},{"$f":"IF(V123<W123,CONCATENATE(\"* El total de Procesados debe ser mayor o igual al total de Reactivos en el grupo de edad \",$V$11),\"\")","v":""},{"$f":"IF(X123<Y123,CONCATENATE(\"* El total de Procesados debe ser mayor o igual al total de Reactivos en el grupo de edad \",$X$11),\"\")","v":""},{"$f":"IF(Z123<AA123,CONCATENATE(\"* El total de Procesados debe ser mayor o igual al total de Reactivos en el grupo de edad \",$Z$11),\"\")","v":""},{"$f":"IF(AD123<AE123,CONCATENATE(\"* El total de Procesados debe ser mayor o igual al total de Reactivos en el grupo de edad \",$AD$11),\"\")","v":""},{"$f":"IF(AF123<AG123,CONCATENATE(\"* El total de Procesados debe ser mayor o igual al total de Reactivos en el grupo de edad \",$AF$11),\"\")","v":""},{"$f":"IF(AH123<AI123,CONCATENATE(\"* El total de Procesados debe ser mayor o igual al total de Reactivos en el grupo de edad \",$AH$11),\"\")","v":""},{"$f":"IF(AJ123<AK123,CONCATENATE(\"* El total de Procesados debe ser mayor o igual al total de Reactivos en el grupo de edad \",$AJ$11),\"\")","v":""},{"$f":"IF(AL123<AM123,CONCATENATE(\"* El total de Procesados debe ser mayor o igual al total de Reactivos en el grupo de edad \",$AL$11),\"\")","v":""},{"$f":"IF(AN123<AO123,CONCATENATE(\"* El total de Procesados debe ser mayor o igual al total de Reactivos en el grupo de edad \",$AN$11),\"\")","v":""},{"$f":"IF(AP123<AQ123,CONCATENATE(\"* El total de Procesados debe ser mayor o igual al total de Reactivos en el grupo de edad \",$AP$11),\"\")","v":""},null,null,null,null,null,null,null,{"$f":"IF(B123<>(AS123),1,0)","v":0},{"$f":"IF(AND($B123>0,AND(AT123=\"\",AU123=\"\")),1,IF((AT123+AU123)>$B123,1,0))","v":0},{"$f":"IF(AND($B123>0,AV123=\"\"),1,IF(AV123>$B123,1,0))","v":0},{"$f":"IF(AND($B123>0,AW123=\"\"),1,IF(AW123>$B123,1,0))","v":0},null,null,null,null,null,{"$f":"IF(N123<O123,1,0)","v":0},{"$f":"IF(P123<Q123,1,0)","v":0},{"$f":"IF(R123<S123,1,0)","v":0},{"$f":"IF($T123<$U123,1,0)","v":0},{"$f":"IF(V123<W123,1,0)","v":0},{"$f":"IF(X123<Y123,1,0)","v":0},{"$f":"IF(Z123<AA123,1,0)","v":0},{"$f":"IF(AD123<AE123,1,0)","v":0},{"$f":"IF(AF123<AG123,1,0)","v":0},{"$f":"IF(AH123<AI123,1,0)","v":0},{"$f":"IF(AJ123<AK123,1,0)","v":0},{"$f":"IF(AL123<AM123,1,0)","v":0},{"$f":"IF(AN123<AO123,1,0)","v":0},{"$f":"IF(AP123<AQ123,1,0)","v":0}]
["Gestantes segundo trimestre embarazo",0,0,null,null,null,null,null,null,null,null,null,null,null,null,null,null,null,null,null,null,null,null,null,null,null,null,null,null,null,null,null,null,null,null,null,null,null,null,null,null,null,null,null,null,null,null,null,null,{"$f":"CA124&CB124&CC124&CD124&CE124&CK124&CL124&CM124&CN124&CO124&CP124&CQ124&CR124&CS124&CT124&CU124&CV124&CW124&CX124","v":""},null,null,null,null,null,null,null,null,null,null,null,null,null,null,null,null,null,null,null,null,null,null,null,null,null,null,null,null,null,{"$f":"IF(B124<>(AS124),\" * La suma de las columnas \"&AR$10&\"\"&\" DEBE SER IGUAL a los Exámenes Procesados. \",\"\")","v":""},{"$f":"IF(AND($B124>0,AND(AT124=\"\",AU124=\"\")),\"* No olvide ingresar las columnas Trans Masculino o Femenino (*Digite CERO si no tiene). \",IF((AT124+AU124)>$B124,\"* El Número de Trans Masculino o Femenino no puede superar el Total Procesados. \",\"\"))","v":""},{"$f":"IF(AND($B124>0,AV124=\"\"),\"* No olvide ingresar la columna \"&AV$10&\"\"&\" *(Digite CERO si no tiene). \",IF(AV124>$B124,\" *El Número de \"&AV$10&\"\"&\" no puede superar el Total Procesados. \",\"\"))","v":""},{"$f":"IF(AND($B124>0,AW124=\"\"),\"* No olvide ingresar la columna \"&AW$10&\"\"&\" *(Digite CERO si no tiene). \",IF(AW124>$B124,\" *El Número de \"&AW$10&\"\"&\" no puede superar el Total Procesados. \",\"\"))","v":""},null,null,null,null,null,{"$f":"IF(N124<O124,CONCATENATE(\"* El total de Procesados debe ser mayor o igual al total de Reactivos en el grupo de edad \",$N$11),\"\")","v":""},{"$f":"IF(P124<Q124,CONCATENATE(\"* El total de Procesados debe ser mayor o igual al total de Reactivos en el grupo de edad \",$P$11),\"\")","v":""},{"$f":"IF(R124<S124,CONCATENATE(\"* El total de Procesados debe ser mayor o igual al total de Reactivos en el grupo de edad \",$R$11),\"\")","v":""},{"$f":"IF($T124<$U124,CONCATENATE(\"* El total de Procesados debe ser mayor o igual al total de Reactivos en el grupo de edad \",$T$11),\"\")","v":""},{"$f":"IF(V124<W124,CONCATENATE(\"* El total de Procesados debe ser mayor o igual al total de Reactivos en el grupo de edad \",$V$11),\"\")","v":""},{"$f":"IF(X124<Y124,CONCATENATE(\"* El total de Procesados debe ser mayor o igual al total de Reactivos en el grupo de edad \",$X$11),\"\")","v":""},{"$f":"IF(Z124<AA124,CONCATENATE(\"* El total de Procesados debe ser mayor o igual al total de Reactivos en el grupo de edad \",$Z$11),\"\")","v":""},{"$f":"IF(AD124<AE124,CONCATENATE(\"* El total de Procesados debe ser mayor o igual al total de Reactivos en el grupo de edad \",$AD$11),\"\")","v":""},{"$f":"IF(AF124<AG124,CONCATENATE(\"* El total de Procesados debe ser mayor o igual al total de Reactivos en el grupo de edad \",$AF$11),\"\")","v":""},{"$f":"IF(AH124<AI124,CONCATENATE(\"* El total de Procesados debe ser mayor o igual al total de Reactivos en el grupo de edad \",$AH$11),\"\")","v":""},{"$f":"IF(AJ124<AK124,CONCATENATE(\"* El total de Procesados debe ser mayor o igual al total de Reactivos en el grupo de edad \",$AJ$11),\"\")","v":""},{"$f":"IF(AL124<AM124,CONCATENATE(\"* El total de Procesados debe ser mayor o igual al total de Reactivos en el grupo de edad \",$AL$11),\"\")","v":""},{"$f":"IF(AN124<AO124,CONCATENATE(\"* El total de Procesados debe ser mayor o igual al total de Reactivos en el grupo de edad \",$AN$11),\"\")","v":""},{"$f":"IF(AP124<AQ124,CONCATENATE(\"* El total de Procesados debe ser mayor o igual al total de Reactivos en el grupo de edad \",$AP$11),\"\")","v":""},null,null,null,null,null,null,null,{"$f":"IF(B124<>(AS124),1,0)","v":0},{"$f":"IF(AND($B124>0,AND(AT124=\"\",AU124=\"\")),1,IF((AT124+AU124)>$B124,1,0))","v":0},{"$f":"IF(AND($B124>0,AV124=\"\"),1,IF(AV124>$B124,1,0))","v":0},{"$f":"IF(AND($B124>0,AW124=\"\"),1,IF(AW124>$B124,1,0))","v":0},null,null,null,null,null,{"$f":"IF(N124<O124,1,0)","v":0},{"$f":"IF(P124<Q124,1,0)","v":0},{"$f":"IF(R124<S124,1,0)","v":0},{"$f":"IF($T124<$U124,1,0)","v":0},{"$f":"IF(V124<W124,1,0)","v":0},{"$f":"IF(X124<Y124,1,0)","v":0},{"$f":"IF(Z124<AA124,1,0)","v":0},{"$f":"IF(AD124<AE124,1,0)","v":0},{"$f":"IF(AF124<AG124,1,0)","v":0},{"$f":"IF(AH124<AI124,1,0)","v":0},{"$f":"IF(AJ124<AK124,1,0)","v":0},{"$f":"IF(AL124<AM124,1,0)","v":0},{"$f":"IF(AN124<AO124,1,0)","v":0},{"$f":"IF(AP124<AQ124,1,0)","v":0}]
["Gestantes tercer trimestre embarazo",0,0,null,null,null,null,null,null,null,null,null,null,null,null,null,null,null,null,null,null,null,null,null,null,null,null,null,null,null,null,null,null,null,null,null,null,null,null,null,null,null,null,null,null,null,null,null,null,"",null,null,null,null,null,null,null,null,null,null,null,null,null,null,null,null,null,null,null,null,null,null,null,null,null,null,null,null,null,"","","","",null,null,null,null,null,"","","","","","","","","","","","","","",null,null,null,null,null,null,null,0,0,0,0,null,null,null,null,null,0,0,0,0,0,0,0,0,0,0,0,0,0,0]
["Gestantes trimestre embarazo ignorado",0,0,null,null,null,null,null,null,null,null,null,null,null,null,null,null,null,null,null,null,null,null,null,null,null,null,null,null,null,null,null,null,null,null,null,null,null,null,null,null,null,null,null,null,null,null,null,null,"",null,null,null,null,null,null,null,null,null,null,null,null,null,null,null,null,null,null,null,null,null,null,null,null,null,null,null,null,null,"","","","",null,null,null,null,null,"","","","","","","","","","","","","","",null,null,null,null,null,null,null,0,0,0,0,null,null,null,null,null,0,0,0,0,0,0,0,0,0,0,0,0,0,0]
["Gestantes en seguimiento por diagnóstico sífilis",0,0,null,null,null,null,null,null,null,null,null,null,null,null,null,null,null,null,null,null,null,null,null,null,null,null,null,null,null,null,null,null,null,null,null,null,null,null,null,null,null,null,null,null,null,null,null,null,"",null,null,null,null,null,null,null,null,null,null,null,null,null,null,null,null,null,null,null,null,null,null,null,null,null,null,null,null,null,"","","","",null,null,null,null,null,"","","","","","","","","","","","","","",null,null,null,null,null,null,null,0,0,0,0,null,null,null,null,null,0,0,0,0,0,0,0,0,0,0,0,0,0,0]
["Pareja de gestante con serología reactiva",0,0,null,null,null,null,null,null,null,null,null,null,null,null,null,null,null,null,null,null,null,null,null,null,null,null,null,null,null,null,null,null,null,null,null,null,null,null,null,null,null,null,null,null,null,null,null,null,"",null,null,null,null,null,null,null,null,null,null,null,null,null,null,null,null,null,null,null,null,null,null,null,null,null,null,null,null,null,{"$f":"IF(B128<>(AS128+AR128),\" * La suma de las columnas \"&AR$10&\"\"&\" DEBE SER IGUAL a los Exámenes Procesados. \",\"\")","v":""},"","","",null,null,null,null,null,{"$f":"IF(N128<O128,CONCATENATE(\"* El total de Procesados debe ser mayor o igual al total de Reactivos en el grupo de edad \",$N$11),\"\")","v":""},"","","","","","","","","","","","","",null,null,null,null,null,null,null,{"$f":"IF(B128<>(AS128+AR128),1,0)","v":0},0,0,0,null,null,null,null,null,0,0,0,0,0,0,0,0,0,0,0,0,0,0]
["Mujeres que ingresan a maternidad por parto",0,0,null,null,null,null,null,null,null,null,null,null,null,null,null,null,null,null,null,null,null,null,null,null,null,null,null,null,null,null,null,null,null,null,null,null,null,null,null,null,null,null,null,null,null,null,null,null,"",null,null,null,null,null,null,null,null,null,null,null,null,null,null,null,null,null,null,null,null,null,null,null,null,null,null,null,null,null,{"$f":"IF(B129<>(AS129),\" * La suma de las columnas \"&AR$10&\"\"&\" DEBE SER IGUAL a los Exámenes Procesados. \",\"\")","v":""},"","","",null,null,null,null,null,{"$f":"IF(N129<O129,CONCATENATE(\"* El total de Procesados debe ser mayor o igual al total de Reactivos en el grupo de edad \",$N$11),\"\")","v":""},"","","","","","","","","","","","","",null,null,null,null,null,null,null,{"$f":"IF(B129<>(AS129),1,0)","v":0},0,0,0,null,null,null,null,null,0,0,0,0,0,0,0,0,0,0,0,0,0,0]
["Mujeres que ingresan por aborto",0,0,null,null,null,null,null,null,null,null,null,null,null,null,null,null,null,null,null,null,null,null,null,null,null,null,null,null,null,null,null,null,null,null,null,null,null,null,null,null,null,null,null,null,null,null,null,null,"",null,null,null,null,null,null,null,null,null,null,null,null,null,null,null,null,null,null,null,null,null,null,null,null,null,null,null,null,null,"","","","",null,null,null,null,null,{"$f":"IF(N130<O130,CONCATENATE(\"* El total de Procesados debe ser mayor o igual al total de Reactivos en el grupo de edad \",$N$11),\"\")","v":""},{"$f":"IF(P130<Q130,CONCATENATE(\"* El total de Procesados debe ser mayor o igual al total de Reactivos en el grupo de edad \",$P$11),\"\")","v":""},"","","","","","","","","","","","",null,null,null,null,null,null,null,{"$f":"IF(B130<>(AS130),1,0)","v":0},0,0,0,null,null,null,null,null,0,0,0,0,0,0,0,0,0,0,0,0,0,0]
["Mujeres en control ginecológico",{"$f":"+D131+F131+H131+J131+L131+N131+P131+R131+T131+V131+X131+Z131+AB131+AD131+AF131+AH131+AJ131+AL131+AN131+AP131","v":0},{"$f":"+E131+G131+I131+K131+M131+O131+Q131+S131+U131+W131+Y131+AA131+AC131+AE131+AG131+AI131+AK131+AM131+AO131+AQ131","v":0},null,null,null,null,null,null,null,null,null,null,null,null,null,null,null,null,null,null,null,null,null,null,null,null,null,null,null,null,null,null,null,null,null,null,null,null,null,null,null,null,null,null,null,null,null,null,{"$f":"CA131&CB131&CC131&CD131&CE131&CK131&CL131&CM131&CN131&CO131&CP131&CQ131&CR131&CS131&CT131&CU131&CV131&CW131&CX131&CF131&CG131&CH131&CI131&CJ131","v":""},null,null,null,null,null,null,null,null,null,null,null,null,null,null,null,null,null,null,null,null,null,null,null,null,null,null,null,null,null,"","","","",{"$f":"IF(D131<E131,CONCATENATE(\"* El total de Procesados debe ser mayor o igual al total de Reactivos en el grupo de edad \",$D$11),\"\")","v":""},{"$f":"IF(F131<G131,CONCATENATE(\"* El total de Procesados debe ser mayor o igual al total de Reactivos en el grupo de edad \",$F$11),\"\")","v":""},{"$f":"IF(H131<I131,CONCATENATE(\"* El total de Procesados debe ser mayor o igual al total de Reactivos en el grupo de edad \",$H$11),\"\")","v":""},{"$f":"IF(J131<K131,CONCATENATE(\"* El total de Procesados debe ser mayor o igual al total de Reactivos en el grupo de edad \",$J$11),\"\")","v":""},{"$f":"IF(L131<M131,CONCATENATE(\"* El total de Procesados debe ser mayor o igual al total de Reactivos en el grupo de edad \",$L$11),\"\")","v":""},{"$f":"IF(N131<O131,CONCATENATE(\"* El total de Procesados debe ser mayor o igual al total de Reactivos en el grupo de edad \",$N$11),\"\")","v":""},{"$f":"IF(P131<Q131,CONCATENATE(\"* El total de Procesados debe ser mayor o igual al total de Reactivos en el grupo de edad \",$P$11),\"\")","v":""},"","","","","","","","","","","","",null,null,null,null,null,null,null,0,0,0,0,{"$f":"IF(D131<E131,1,0)","v":0},{"$f":"IF(F131<G131,1,0)","v":0},{"$f":"IF(H131<I131,1,0)","v":0},{"$f":"IF(J131<K131,1,0)","v":0},{"$f":"IF(L131<M131,1,0)","v":0},0,0,0,0,0,0,0,0,0,0,0,0,0,0]
["Recién nacido y lactante para detección de sífilis congénita",{"$f":"+D132+F132+H132","v":0},{"$f":"+E132+G132+I132","v":0},null,null,null,null,null,null,null,null,null,null,null,null,null,null,null,null,null,null,null,null,null,null,null,null,null,null,null,null,null,null,null,null,null,null,null,null,null,null,null,null,null,null,null,null,null,null,{"$f":"CA132&CB132&CC132&CD132&CE132&CF132&CG132&CH132","v":""},null,null,null,null,null,null,null,null,null,null,null,null,null,null,null,null,null,null,null,null,null,null,null,null,null,null,null,null,null,{"$f":"IF(B132<>(AS132+AR132),\" * La suma de las columnas \"&AR$10&\"\"&\" DEBE SER IGUAL a los Exámenes Procesados. \",\"\")","v":""},"","","",{"$f":"IF(D132<E132,CONCATENATE(\"* El total de Procesados debe ser mayor o igual al total de Reactivos en el grupo de edad \",$D$11),\"\")","v":""},{"$f":"IF(F132<G132,CONCATENATE(\"* El total de Procesados debe ser mayor o igual al total de Reactivos en el grupo de edad \",$F$11),\"\")","v":""},{"$f":"IF(H132<I132,CONCATENATE(\"* El total de Procesados debe ser mayor o igual al total de Reactivos en el grupo de edad \",$H$11),\"\")","v":""},null,null,null,null,null,null,null,null,null,null,null,null,null,null,null,null,null,null,null,null,null,null,null,{"$f":"IF(B132<>(AS132+AR132),1,0)","v":0},0,0,0,{"$f":"IF(D132<E132,1,0)","v":0},{"$f":"IF(F132<G132,1,0)","v":0},{"$f":"IF(H132<I132,1,0)","v":0}]
["Personas en control por comercio sexual",{"$f":"+P133+R133+T133+V133+X133+Z133+AB133+AD133+AF133+AH133+AJ133+AL133+AN133+AP133","v":0},{"$f":"+Q133+S133+U133+W133+Y133+AA133+AC133+AE133+AG133+AI133+AK133+AM133+AO133+AQ133","v":0},null,null,null,null,null,null,null,null,null,null,null,null,null,null,null,null,null,null,null,null,null,null,null,null,null,null,null,null,null,null,null,null,null,null,null,null,null,null,null,null,null,null,null,null,null,null,{"$f":"CA133&CB133&CC133&CD133&CE133&CL133&CM133&CN133&CO133&CP133&CQ133&CR133&CS133&CT133&CU133&CV133&CW133&CX133","v":""},null,null,null,null,null,null,null,null,null,null,null,null,null,null,null,null,null,null,null,null,null,null,null,null,null,null,null,null,null,{"$f":"IF(B133<>(AS133+AR133),\" * La suma de las columnas \"&AR$10&\"\"&\" DEBE SER IGUAL a los Exámenes Procesados. \",\"\")","v":""},"","","",null,null,null,null,null,null,{"$f":"IF(P133<Q133,CONCATENATE(\"* El total de Procesados debe ser mayor o igual al total de Reactivos en el grupo de edad \",$P$11),\"\")","v":""},{"$f":"IF(R133<S133,CONCATENATE(\"* El total de Procesados debe ser mayor o igual al total de Reactivos en el grupo de edad \",$R$11),\"\")","v":""},"",{"$f":"IF(V133<W133,CONCATENATE(\"* El total de Procesados debe ser mayor o igual al total de Reactivos en el grupo de edad \",$V$11),\"\")","v":""},{"$f":"IF(X133<Y133,CONCATENATE(\"* El total de Procesados debe ser mayor o igual al total de Reactivos en el grupo de edad \",$X$11),\"\")","v":""},{"$f":"IF(Z133<AA133,CONCATENATE(\"* El total de Procesados debe ser mayor o igual al total de Reactivos en el grupo de edad \",$Z$11),\"\")","v":""},{"$f":"IF(AD133<AE133,CONCATENATE(\"* El total de Procesados debe ser mayor o igual al total de Reactivos en el grupo de edad \",$AD$11),\"\")","v":""},{"$f":"IF(AF133<AG133,CONCATENATE(\"* El total de Procesados debe ser mayor o igual al total de Reactivos en el grupo de edad \",$AF$11),\"\")","v":""},{"$f":"IF(AH133<AI133,CONCATENATE(\"* El total de Procesados debe ser mayor o igual al total de Reactivos en el grupo de edad \",$AH$11),\"\")","v":""},{"$f":"IF(AJ133<AK133,CONCATENATE(\"* El total de Procesados debe ser mayor o igual al total de Reactivos en el grupo de edad \",$AJ$11),\"\")","v":""},{"$f":"IF(AL133<AM133,CONCATENATE(\"* El total de Procesados debe ser mayor o igual al total de Reactivos en el grupo de edad \",$AL$11),\"\")","v":""},{"$f":"IF(AN133<AO133,CONCATENATE(\"* El total de Procesados debe ser mayor o igual al total de Reactivos en el grupo de edad \",$AN$11),\"\")","v":""},{"$f":"IF(AP133<AQ133,CONCATENATE(\"* El total de Procesados debe ser mayor o igual al total de Reactivos en el grupo de edad \",$AP$11),\"\")","v":""},null,null,null,null,null,null,null,{"$f":"IF(B133<>(AS133+AR133),1,0)","v":0},0,0,0,null,null,null,null,null,null,{"$f":"IF(P133<Q133,1,0)","v":0},{"$f":"IF(R133<S133,1,0)","v":0},0,{"$f":"IF(V133<W133,1,0)","v":0},{"$f":"IF(X133<Y133,1,0)","v":0},{"$f":"IF(Z133<AA133,1,0)","v":0},{"$f":"IF(AD133<AE133,1,0)","v":0},{"$f":"IF(AF133<AG133,1,0)","v":0},{"$f":"IF(AH133<AI133,1,0)","v":0},{"$f":"IF(AJ133<AK133,1,0)","v":0},{"$f":"IF(AL133<AM133,1,0)","v":0},{"$f":"IF(AN133<AO133,1,0)","v":0},{"$f":"IF(AP133<AQ133,1,0)","v":0}]
["Personas en control fecundidad",{"$f":"+N134+P134+R134+T134+V134+X134+Z134+AB134+AD134+AF134+AH134+AJ134+AL134+AN134+AP134","v":0},{"$f":"+O134+Q134+S134+U134+W134+Y134+AA134+AC134+AE134+AG134+AI134+AK134+AM134+AO134+AQ134","v":0},null,null,null,null,null,null,null,null,null,null,null,null,null,null,null,null,null,null,null,null,null,null,null,null,null,null,null,null,null,null,null,null,null,null,null,null,null,null,null,null,null,null,null,null,null,null,{"$f":"CA134&CB134&CC134&CD134&CE134&CL134&CM134&CN134&CO134&CP134&CQ134&CR134&CS134&CT134&CU134&CV134&CW134&CX134&CK134","v":""},null,null,null,null,null,null,null,null,null,null,null,null,null,null,null,null,null,null,null,null,null,null,null,null,null,null,null,null,null,"","","","",null,null,null,null,null,{"$f":"IF(N134<O134,CONCATENATE(\"* El total de Procesados debe ser mayor o igual al total de Reactivos en el grupo de edad \",$N$11),\"\")","v":""},{"$f":"IF(P134<Q134,CONCATENATE(\"* El total de Procesados debe ser mayor o igual al total de Reactivos en el grupo de edad \",$P$11),\"\")","v":""},"","","","","","","","","","","","",null,null,null,null,null,null,null,0,0,0,0,null,null,null,null,null,{"$f":"IF(N134<O134,1,0)","v":0},0,0,0,0,0,0,0,0,0,0,0,0,0]
["Consultantes por ITS",{"$f":"+D135+F135+H135+J135+L135+N135+P135+R135+T135+V135+X135+Z135+AB135+AD135+AF135+AH135+AJ135+AL135+AN135+AP135","v":0},{"$f":"+E135+G135+I135+K135+M135+O135+Q135+S135+U135+W135+Y135+AA135+AC135+AE135+AG135+AI135+AK135+AM135+AO135+AQ135","v":0},null,null,null,null,null,null,null,null,null,null,null,null,null,null,null,null,null,null,null,null,null,null,null,null,null,null,null,null,null,null,null,null,null,null,null,null,null,null,null,null,null,null,null,null,null,null,"",null,null,null,null,null,null,null,null,null,null,null,null,null,null,null,null,null,null,null,null,null,null,null,null,null,null,null,null,null,"","","","",{"$f":"IF(D135<E135,CONCATENATE(\"* El total de Procesados debe ser mayor o igual al total de Reactivos en el grupo de edad \",$D$11),\"\")","v":""},{"$f":"IF(F135<G135,CONCATENATE(\"* El total de Procesados debe ser mayor o igual al total de Reactivos en el grupo de edad \",$F$11),\"\")","v":""},{"$f":"IF(H135<I135,CONCATENATE(\"* El total de Procesados debe ser mayor o igual al total de Reactivos en el grupo de edad \",$H$11),\"\")","v":""},{"$f":"IF(J135<K135,CONCATENATE(\"* El total de Procesados debe ser mayor o igual al total de Reactivos en el grupo de edad \",$J$11),\"\")","v":""},{"$f":"IF(L135<M135,CONCATENATE(\"* El total de Procesados debe ser mayor o igual al total de Reactivos en el grupo de edad \",$L$11),\"\")","v":""},{"$f":"IF(N135<O135,CONCATENATE(\"* El total de Procesados debe ser mayor o igual al total de Reactivos en el grupo de edad \",$N$11),\"\")","v":""},{"$f":"IF(P135<Q135,CONCATENATE(\"* El total de Procesados debe ser mayor o igual al total de Reactivos en el grupo de edad \",$P$11),\"\")","v":""},"","","","","","","","","","","","",null,null,null,null,null,null,null,0,0,0,0,{"$f":"IF(D135<E135,1,0)","v":0},{"$f":"IF(F135<G135,1,0)","v":0},{"$f":"IF(H135<I135,1,0)","v":0},{"$f":"IF(J135<K135,1,0)","v":0},{"$f":"IF(L135<M135,1,0)","v":0},0,0,0,0,0,0,0,0,0,0,0,0,0,0]
["Personas EMP/EMPAM",{"$f":"+P136+R136+T136+V136+X136+Z136+AB136+AD136+AF136+AH136+AJ136+AL136+AN136+AP136","v":0},{"$f":"+Q136+S136+U136+W136+Y136+AA136+AC136+AE136+AG136+AI136+AK136+AM136+AO136+AQ136","v":0},null,null,null,null,null,null,null,null,null,null,null,null,null,null,null,null,null,null,null,null,null,null,null,null,null,null,null,null,null,null,null,null,null,null,null,null,null,null,null,null,null,null,null,null,null,null,{"$f":"CA136&CB136&CC136&CD136&CE136&CL136&CM136&CN136&CO136&CP136&CQ136&CR136&CS136&CT136&CU136&CV136&CW136&CX136","v":""},null,null,null,null,null,null,null,null,null,null,null,null,null,null,null,null,null,null,null,null,null,null,null,null,null,null,null,null,null,"","","","",null,null,null,null,null,null,{"$f":"IF(P136<Q136,CONCATENATE(\"* El total de Procesados debe ser mayor o igual al total de Reactivos en el grupo de edad \",$P$11),\"\")","v":""},"","","","","","","","","","","","",null,null,null,null,null,null,null,0,0,0,0,null,null,null,null,null,null,0,0,0,0,0,0,0,0,0,0,0,0,0]
["Donantes de sangre",{"$f":"+P137+R137+T137+V137+X137+Z137+AB137+AD137+AF137+AH137","v":0},{"$f":"+Q137+S137+U137+W137+Y137+AA137+AC137+AE137+AG137+AI137","v":0},null,null,null,null,null,null,null,null,null,null,null,null,null,null,null,null,null,null,null,null,null,null,null,null,null,null,null,null,null,null,null,null,null,null,null,null,null,null,null,null,null,null,null,null,null,null,{"$f":"CA137&CB137&CC137&CD137&CE137&CL137&CM137&CN137&CO137&CP137&CQ137&CR137&CS137&CT137","v":""},null,null,null,null,null,null,null,null,null,null,null,null,null,null,null,null,null,null,null,null,null,null,null,null,null,null,null,null,null,"","","","",null,null,null,null,null,null,"","","","","","","","","",null,null,null,null,null,null,null,null,null,null,null,0,0,0,0,null,null,null,null,null,null,0,0,0,0,0,0,0,0,0]
["Donantes de órganos y/o tejidos",{"$f":"+D138+F138+H138+J138+L138+N138+P138+R138+T138+V138+X138+Z138+AB138+AD138+AF138+AH138+AJ138+AL138+AN138+AP138","v":0},0,null,null,null,null,null,null,null,null,null,null,null,null,null,null,null,null,null,null,null,null,null,null,null,null,null,null,null,null,null,null,null,null,null,null,null,null,null,null,null,null,null,null,null,null,null,null,"",null,null,null,null,null,null,null,null,null,null,null,null,null,null,null,null,null,null,null,null,null,null,null,null,null,null,null,null,null,"","","","",{"$f":"IF(D138<E138,CONCATENATE(\"* El total de Procesados debe ser mayor o igual al total de Reactivos en el grupo de edad \",$D$11),\"\")","v":""},{"$f":"IF(F138<G138,CONCATENATE(\"* El total de Procesados debe ser mayor o igual al total de Reactivos en el grupo de edad \",$F$11),\"\")","v":""},{"$f":"IF(H138<I138,CONCATENATE(\"* El total de Procesados debe ser mayor o igual al total de Reactivos en el grupo de edad \",$H$11),\"\")","v":""},{"$f":"IF(J138<K138,CONCATENATE(\"* El total de Procesados debe ser mayor o igual al total de Reactivos en el grupo de edad \",$J$11),\"\")","v":""},{"$f":"IF(L138<M138,CONCATENATE(\"* El total de Procesados debe ser mayor o igual al total de Reactivos en el grupo de edad \",$L$11),\"\")","v":""},{"$f":"IF(N138<O138,CONCATENATE(\"* El total de Procesados debe ser mayor o igual al total de Reactivos en el grupo de edad \",$N$11),\"\")","v":""},"","","","","","","","","",{"$f":"IF(AJ138<AK138,CONCATENATE(\"* El total de Procesados debe ser mayor o igual al total de Reactivos en el grupo de edad \",$AJ$11),\"\")","v":""},{"$f":"IF(AL138<AM138,CONCATENATE(\"* El total de Procesados debe ser mayor o igual al total de Reactivos en el grupo de edad \",$AL$11),\"\")","v":""},{"$f":"IF(AN138<AO138,CONCATENATE(\"* El total de Procesados debe ser mayor o igual al total de Reactivos en el grupo de edad \",$AN$11),\"\")","v":""},{"$f":"IF(AP138<AQ138,CONCATENATE(\"* El total de Procesados debe ser mayor o igual al total de Reactivos en el grupo de edad \",$AP$11),\"\")","v":""},null,null,null,null,null,null,null,0,0,0,0,{"$f":"IF(D138<E138,1,0)","v":0},{"$f":"IF(F138<G138,1,0)","v":0},{"$f":"IF(H138<I138,1,0)","v":0},{"$f":"IF(J138<K138,1,0)","v":0},{"$f":"IF(L138<M138,1,0)","v":0},{"$f":"IF(N138<O138,1,0)","v":0},0,0,0,0,0,0,0,0,0,{"$f":"IF(AJ138<AK138,1,0)","v":0},{"$f":"IF(AL138<AM138,1,0)","v":0},{"$f":"IF(AN138<AO138,1,0)","v":0},{"$f":"IF(AP138<AQ138,1,0)","v":0}]
["Pacientes en diálisis",0,0,null,null,null,null,null,null,null,null,null,null,null,null,null,null,null,null,null,null,null,null,null,null,null,null,null,null,null,null,null,null,null,null,null,null,null,null,null,null,null,null,null,null,null,null,null,null,"",null,null,null,null,null,null,null,null,null,null,null,null,null,null,null,null,null,null,null,null,null,null,null,null,null,null,null,null,null,"","","","","","","","","","","","","","","","","","","","","","","",null,null,null,null,null,null,null,0,0,0,0,0,0,0,0,0,0,0,0,0,0,0,0,0,0,0,0,0,0,0]
["Víctima de violencia sexual",0,0,null,null,null,null,null,null,null,null,null,null,null,null,null,null,null,null,null,null,null,null,null,null,null,null,null,null,null,null,null,null,null,null,null,null,null,null,null,null,null,null,null,null,null,null,null,null,"",null,null,null,null,null,null,null,null,null,null,null,null,null,null,null,null,null,null,null,null,null,null,null,null,null,null,null,null,null,"","","","","","","","","","","","","","","","","","","","","","","",null,null,null,null,null,null,null,0,0,0,0,0,0,0,0,0,0,0,0,0,0,0,0,0,0,0,0,0,0,0]
["SECCIÓN B.1: EXÁMENES SEGÚN GRUPOS DE USUARIOS POR CONDICIÓN DE HEPATITIS B, HEPATITIS C, CHAGAS, HTLV 1 Y SIFILIS (USO EXCLUSIVO DE ESTABLECIMIENTOS CON LABORATORIO QUE PROCESAN)"]
["GRUPO DE USUARIOS",null,"HEPATITIS  B",null,null,"HEPATITIS  C",null,null,"CHAGAS",null,null,"HTLV1",null,null,"SÍFILIS"]
[null,null,"Procesados","Reactivos","Confirmados","Procesados","Reactivos","Confirmados","Procesados","Reactivos","Confirmados","Procesados","Reactivos","Confirmados","Procesados","Reactivos"]
["Usuarios",null,null,null,null,null,null,null,null,null,null,null,null,null,null,null,{"$f":"$CA144&CB144&$CC144&CD144&$CE144&CF144&$CG144&CH144&$CI144","v":""},null,null,null,null,null,null,null,null,null,null,null,null,null,null,null,null,null,null,null,null,null,null,null,null,null,null,null,null,null,null,null,null,null,null,null,null,null,null,null,null,null,null,null,null,null,null,null,null,null,null,null,null,null,null,null,null,null,null,null,null,null,{"$f":"IF(C144>=D144,\"\",\"* Los Exámenes Reactivos de Hepatitis B NO DEBEN ser mayor a los Exámenes Procesados. \")","v":""},{"$f":"IF(C144>=E144,\"\",\"* Los Exámenes Confirmados de Hepatitis B NO DEBEN ser mayor a los exámenes Procesados. \")","v":""},{"$f":"IF(F144>=G144,\"\",\"* Los Exámenes Reactivos de Hepatitis C NO DEBEN ser mayor a los Exámenes Procesados. \")","v":""},{"$f":"IF(F144>=H144,\"\",\"* Los Exámenes Confirmados de Hepatitis C NO DEBEN ser mayor a los Exámenes Procesados. \")","v":""},{"$f":"IF(I144>=J144,\"\",\"* Los Exámenes Reactivos de CHAGAS NO DEBEN ser mayor a los Exámenes Procesados. \")","v":""},{"$f":"IF(I144>=K144,\"\",\"* Los Exámenes Confirmados de CHAGAS NO DEBEN ser mayor a los Exámenes Procesados. \")","v":""},{"$f":"IF(L144>=M144,\"\",\"* Los Exámenes Reactivos de HTLV1 NO DEBEN ser mayor a los Exámenes Procesados. \")","v":""},{"$f":"IF(L144>=N144,\"\",\"* Los Exámenes Confirmados de HTLV1 NO DEBEN ser mayor a los Exámenes Procesados. \")","v":""},{"$f":"IF(O144>=P144,\"\",\"* Los exámenes Reactivos de SIFILIS NO DEBEN ser mayor a los exámenes Procesados. \")","v":""},null,null,null,null,null,null,null,null,null,null,null,null,null,null,null,null,null,null,null,null,null,{"$f":"IF(C144>=D144,0,1)","v":0},{"$f":"IF(E144>C144,1,0)","v":0},{"$f":"IF(F144>=G144,0,1)","v":0},{"$f":"IF(F144>=H144,0,1)","v":0},{"$f":"IF(I144>=J144,0,1)","v":0},{"$f":"IF(I144>=K144,0,1)","v":0},{"$f":"IF(L144>=M144,0,1)","v":0},{"$f":"IF(L144>=N144,0,1)","v":0},{"$f":"IF(O144>=P144,0,1)","v":0}]
["Donantes","Altruista nuevo",null,null,null,null,null,null,null,null,null,null,null,null,null,null,{"$f":"$CA145&CB145&$CC145&CD145&$CE145&CF145&$CG145&CH145&$CI145","v":""},null,null,null,null,null,null,null,null,null,null,null,null,null,null,null,null,null,null,null,null,null,null,null,null,null,null,null,null,null,null,null,null,null,null,null,null,null,null,null,null,null,null,null,null,null,null,null,null,null,null,null,null,null,null,null,null,null,null,null,null,null,{"$f":"IF(C145>=D145,\"\",\"* Los Exámenes Reactivos de Hepatitis B NO DEBEN ser mayor a los Exámenes Procesados. \")","v":""},{"$f":"IF(C145>=E145,\"\",\"* Los Exámenes Confirmados de Hepatitis B NO DEBEN ser mayor a los exámenes Procesados. \")","v":""},{"$f":"IF(F145>=G145,\"\",\"* Los Exámenes Reactivos de Hepatitis C NO DEBEN ser mayor a los Exámenes Procesados. \")","v":""},{"$f":"IF(F145>=H145,\"\",\"* Los Exámenes Confirmados de Hepatitis C NO DEBEN ser mayor a los Exámenes Procesados. \")","v":""},{"$f":"IF(I145>=J145,\"\",\"* Los Exámenes Reactivos de CHAGAS NO DEBEN ser mayor a los Exámenes Procesados. \")","v":""},{"$f":"IF(I145>=K145,\"\",\"* Los Exámenes Confirmados de CHAGAS NO DEBEN ser mayor a los Exámenes Procesados. \")","v":""},{"$f":"IF(L145>=M145,\"\",\"* Los Exámenes Reactivos de HTLV1 NO DEBEN ser mayor a los Exámenes Procesados. \")","v":""},{"$f":"IF(L145>=N145,\"\",\"* Los Exámenes Confirmados de HTLV1 NO DEBEN ser mayor a los Exámenes Procesados. \")","v":""},{"$f":"IF(O145>=P145,\"\",\"* Los exámenes Reactivos de SIFILIS NO DEBEN ser mayor a los exámenes Procesados. \")","v":""},null,null,null,null,null,null,null,null,null,null,null,null,null,null,null,null,null,null,null,null,null,{"$f":"IF(C145>=D145,0,1)","v":0},{"$f":"IF(E145>C145,1,0)","v":0},{"$f":"IF(F145>=G145,0,1)","v":0},{"$f":"IF(F145>=H145,0,1)","v":0},{"$f":"IF(I145>=J145,0,1)","v":0},{"$f":"IF(I145>=K145,0,1)","v":0},{"$f":"IF(L145>=M145,0,1)","v":0},{"$f":"IF(L145>=N145,0,1)","v":0},{"$f":"IF(O145>=P145,0,1)","v":0}]
[null,"Altruista repetido",null,null,null,null,null,null,null,null,null,null,null,null,null,null,"",null,null,null,null,null,null,null,null,null,null,null,null,null,null,null,null,null,null,null,null,null,null,null,null,null,null,null,null,null,null,null,null,null,null,null,null,null,null,null,null,null,null,null,null,null,null,null,null,null,null,null,null,null,null,null,null,null,null,null,null,null,"","","","","","","","","",null,null,null,null,null,null,null,null,null,null,null,null,null,null,null,null,null,null,null,null,null,{"$f":"IF(C146>=D146,0,1)","v":0},0,{"$f":"IF(F146>=G146,0,1)","v":0},{"$f":"IF(F146>=H146,0,1)","v":0},{"$f":"IF(I146>=J146,0,1)","v":0},{"$f":"IF(I146>=K146,0,1)","v":0},{"$f":"IF(L146>=M146,0,1)","v":0},{"$f":"IF(L146>=N146,0,1)","v":0},{"$f":"IF(O146>=P146,0,1)","v":0}]
[null,"Familiar o Reposición",null,null,null,null,null,null,null,null,null,null,null,null,null,null,"",null,null,null,null,null,null,null,null,null,null,null,null,null,null,null,null,null,null,null,null,null,null,null,null,null,null,null,null,null,null,null,null,null,null,null,null,null,null,null,null,null,null,null,null,null,null,null,null,null,null,null,null,null,null,null,null,null,null,null,null,null,"","","","","","","","","",null,null,null,null,null,null,null,null,null,null,null,null,null,null,null,null,null,null,null,null,null,{"$f":"IF(C147>=D147,0,1)","v":0},0,{"$f":"IF(F147>=G147,0,1)","v":0},{"$f":"IF(F147>=H147,0,1)","v":0},{"$f":"IF(I147>=J147,0,1)","v":0},{"$f":"IF(I147>=K147,0,1)","v":0},{"$f":"IF(L147>=M147,0,1)","v":0},{"$f":"IF(L147>=N147,0,1)","v":0},{"$f":"IF(O147>=P147,0,1)","v":0}]
["Donantes de organos y/o tejidos",null,null,null,null,null,null,null,null,null,null,null,null,null,null,null,"",null,null,null,null,null,null,null,null,null,null,null,null,null,null,null,null,null,null,null,null,null,null,null,null,null,null,null,null,null,null,null,null,null,null,null,null,null,null,null,null,null,null,null,null,null,null,null,null,null,null,null,null,null,null,null,null,null,null,null,null,null,"","","","","","","","","",null,null,null,null,null,null,null,null,null,null,null,null,null,null,null,null,null,null,null,null,null,{"$f":"IF(C148>=D148,0,1)","v":0},0,{"$f":"IF(F148>=G148,0,1)","v":0},{"$f":"IF(F148>=H148,0,1)","v":0},{"$f":"IF(I148>=J148,0,1)","v":0},{"$f":"IF(I148>=K148,0,1)","v":0},{"$f":"IF(L148>=M148,0,1)","v":0},{"$f":"IF(L148>=N148,0,1)","v":0},{"$f":"IF(O148>=P148,0,1)","v":0}]
["SECCIÓN B.2: EXÁMENES SEGÚN GRUPOS DE USUARIOS POR CONDICIÓN DE HEPATITIS B, HEPATITIS C, CHAGAS, HTLV 1 Y SIFILIS (USO EXCLUSIVO DE ESTABLECIMIENTOS QUE COMPRAN SERVICIO)"]
["GRUPO DE USUARIOS",null,"HEPATITIS  B",null,null,"HEPATITIS  C",null,null,"CHAGAS",null,null,"HTLV1",null,null,"SÍFILIS"]
[null,null,"Procesados","Reactivos","Confirmados","Procesados","Reactivos","Confirmados","Procesados","Reactivos","Confirmados","Procesados","Reactivos","Confirmados","Procesados","Reactivos"]
["Usuarios",null,null,null,null,null,null,null,null,null,null,null,null,null,null,null,{"$f":"$CA152&CB152&$CC152&CD152&$CE152&CF152&$CG152&CH152&$CI152","v":""},null,null,null,null,null,null,null,null,null,null,null,null,null,null,null,null,null,null,null,null,null,null,null,null,null,null,null,null,null,null,null,null,null,null,null,null,null,null,null,null,null,null,null,null,null,null,null,null,null,null,null,null,null,null,null,null,null,null,null,null,null,{"$f":"IF(C152>=D152,\"\",\"* Los Exámenes Reactivos de Hepatitis B NO DEBEN ser mayor a los Exámenes Procesados. \")","v":""},{"$f":"IF(C152>=E152,\"\",\"* Los Exámenes Confirmados de Hepatitis B NO DEBEN ser mayor a los exámenes Procesados. \")","v":""},{"$f":"IF(F152>=G152,\"\",\"* Los Exámenes Reactivos de Hepatitis C NO DEBEN ser mayor a los Exámenes Procesados. \")","v":""},{"$f":"IF(F152>=H152,\"\",\"* Los Exámenes Confirmados de Hepatitis C NO DEBEN ser mayor a los Exámenes Procesados. \")","v":""},{"$f":"IF(I152>=J152,\"\",\"* Los Exámenes Reactivos de CHAGAS NO DEBEN ser mayor a los Exámenes Procesados. \")","v":""},{"$f":"IF(I152>=K152,\"\",\"* Los Exámenes Confirmados de CHAGAS NO DEBEN ser mayor a los Exámenes Procesados. \")","v":""},{"$f":"IF(L152>=M152,\"\",\"* Los Exámenes Reactivos de HTLV1 NO DEBEN ser mayor a los Exámenes Procesados. \")","v":""},{"$f":"IF(L152>=N152,\"\",\"* Los Exámenes Confirmados de HTLV1 NO DEBEN ser mayor a los Exámenes Procesados. \")","v":""},{"$f":"IF(O152>=P152,\"\",\"* Los exámenes Reactivos de SIFILIS NO DEBEN ser mayor a los exámenes Procesados. \")","v":""},null,null,null,null,null,null,null,null,null,null,null,null,null,null,null,null,null,null,null,null,null,{"$f":"IF(C152>=D152,0,1)","v":0},{"$f":"IF(E152>C152,1,0)","v":0},{"$f":"IF(F152>=G152,0,1)","v":0},{"$f":"IF(F152>=H152,0,1)","v":0},{"$f":"IF(I152>=J152,0,1)","v":0},{"$f":"IF(I152>=K152,0,1)","v":0},{"$f":"IF(L152>=M152,0,1)","v":0},{"$f":"IF(L152>=N152,0,1)","v":0},{"$f":"IF(O152>=P152,0,1)","v":0}]
["Donantes","Altruista nuevo",null,null,null,null,null,null,null,null,null,null,null,null,null,null,{"$f":"$CA153&CB153&$CC153&CD153&$CE153&CF153&$CG153&CH153&$CI153","v":""},null,null,null,null,null,null,null,null,null,null,null,null,null,null,null,null,null,null,null,null,null,null,null,null,null,null,null,null,null,null,null,null,null,null,null,null,null,null,null,null,null,null,null,null,null,null,null,null,null,null,null,null,null,null,null,null,null,null,null,null,null,{"$f":"IF(C153>=D153,\"\",\"* Los Exámenes Reactivos de Hepatitis B NO DEBEN ser mayor a los Exámenes Procesados. \")","v":""},{"$f":"IF(C153>=E153,\"\",\"* Los Exámenes Confirmados de Hepatitis B NO DEBEN ser mayor a los exámenes Procesados. \")","v":""},{"$f":"IF(F153>=G153,\"\",\"* Los Exámenes Reactivos de Hepatitis C NO DEBEN ser mayor a los Exámenes Procesados. \")","v":""},{"$f":"IF(F153>=H153,\"\",\"* Los Exámenes Confirmados de Hepatitis C NO DEBEN ser mayor a los Exámenes Procesados. \")","v":""},{"$f":"IF(I153>=J153,\"\",\"* Los Exámenes Reactivos de CHAGAS NO DEBEN ser mayor a los Exámenes Procesados. \")","v":""},{"$f":"IF(I153>=K153,\"\",\"* Los Exámenes Confirmados de CHAGAS NO DEBEN ser mayor a los Exámenes Procesados. \")","v":""},{"$f":"IF(L153>=M153,\"\",\"* Los Exámenes Reactivos de HTLV1 NO DEBEN ser mayor a los Exámenes Procesados. \")","v":""},{"$f":"IF(L153>=N153,\"\",\"* Los Exámenes Confirmados de HTLV1 NO DEBEN ser mayor a los Exámenes Procesados. \")","v":""},{"$f":"IF(O153>=P153,\"\",\"* Los exámenes Reactivos de SIFILIS NO DEBEN ser mayor a los exámenes Procesados. \")","v":""},null,null,null,null,null,null,null,null,null,null,null,null,null,null,null,null,null,null,null,null,null,{"$f":"IF(C153>=D153,0,1)","v":0},{"$f":"IF(E153>C153,1,0)","v":0},{"$f":"IF(F153>=G153,0,1)","v":0},{"$f":"IF(F153>=H153,0,1)","v":0},{"$f":"IF(I153>=J153,0,1)","v":0},{"$f":"IF(I153>=K153,0,1)","v":0},{"$f":"IF(L153>=M153,0,1)","v":0},{"$f":"IF(L153>=N153,0,1)","v":0},{"$f":"IF(O153>=P153,0,1)","v":0}]
[null,"Altruista repetido",null,null,null,null,null,null,null,null,null,null,null,null,null,null,"",null,null,null,null,null,null,null,null,null,null,null,null,null,null,null,null,null,null,null,null,null,null,null,null,null,null,null,null,null,null,null,null,null,null,null,null,null,null,null,null,null,null,null,null,null,null,null,null,null,null,null,null,null,null,null,null,null,null,null,null,null,"","","","","","","","","",null,null,null,null,null,null,null,null,null,null,null,null,null,null,null,null,null,null,null,null,null,{"$f":"IF(C154>=D154,0,1)","v":0},0,{"$f":"IF(F154>=G154,0,1)","v":0},{"$f":"IF(F154>=H154,0,1)","v":0},{"$f":"IF(I154>=J154,0,1)","v":0},{"$f":"IF(I154>=K154,0,1)","v":0},{"$f":"IF(L154>=M154,0,1)","v":0},{"$f":"IF(L154>=N154,0,1)","v":0},{"$f":"IF(O154>=P154,0,1)","v":0}]
[null,"Familiar o Reposición",null,null,null,null,null,null,null,null,null,null,null,null,null,null,"",null,null,null,null,null,null,null,null,null,null,null,null,null,null,null,null,null,null,null,null,null,null,null,null,null,null,null,null,null,null,null,null,null,null,null,null,null,null,null,null,null,null,null,null,null,null,null,null,null,null,null,null,null,null,null,null,null,null,null,null,null,"","","","","","","","","",null,null,null,null,null,null,null,null,null,null,null,null,null,null,null,null,null,null,null,null,null,{"$f":"IF(C155>=D155,0,1)","v":0},0,{"$f":"IF(F155>=G155,0,1)","v":0},{"$f":"IF(F155>=H155,0,1)","v":0},{"$f":"IF(I155>=J155,0,1)","v":0},{"$f":"IF(I155>=K155,0,1)","v":0},{"$f":"IF(L155>=M155,0,1)","v":0},{"$f":"IF(L155>=N155,0,1)","v":0},{"$f":"IF(O155>=P155,0,1)","v":0}]
["Donantes de organos y/o tejidos",null,null,null,null,null,null,null,null,null,null,null,null,null,null,null,"",null,null,null,null,null,null,null,null,null,null,null,null,null,null,null,null,null,null,null,null,null,null,null,null,null,null,null,null,null,null,null,null,null,null,null,null,null,null,null,null,null,null,null,null,null,null,null,null,null,null,null,null,null,null,null,null,null,null,null,null,null,"","","","","","","","","",null,null,null,null,null,null,null,null,null,null,null,null,null,null,null,null,null,null,null,null,null,{"$f":"IF(C156>=D156,0,1)","v":0},0,{"$f":"IF(F156>=G156,0,1)","v":0},{"$f":"IF(F156>=H156,0,1)","v":0},{"$f":"IF(I156>=J156,0,1)","v":0},{"$f":"IF(I156>=K156,0,1)","v":0},{"$f":"IF(L156>=M156,0,1)","v":0},{"$f":"IF(L156>=N156,0,1)","v":0},{"$f":"IF(O156>=P156,0,1)","v":0}]
["SECCIÓN C.1: EXÁMENES  DE  VIH POR GRUPOS DE USUARIOS (USO EXCLUSIVO DE ESTABLECIMIENTOS CON LABORATORIO QUE PROCESAN)"]
["GRUPO DE USUARIOS",null,"TOTAL",null,"RANGO ETARIO",null,null,null,null,null,null,null,null,null,null,null,null,null,null,null,null,null,null,null,null,null,null,null,null,null,null,null,null,null,null,null,"POR SEXO",null,null,null,"TRANS",null,null,null,"Pueblos originarios",null,"Migrantes",null,"14-18 años"]
[null,null,null,null,"Menos de 12 meses",null,"12-24 meses",null,"3 - 4 años",null,"5 - 9 años",null,"10 - 14 años",null,"15 - 19 años",null,"20 - 24 años",null,"25 - 29 años",null,"30 - 34 años",null,"35 - 39 años",null,"40 - 44 años",null,"45 - 49 años",null,"50 - 54 años",null,"55 - 59 años",null,"60 - 64 años",null," 65 y más años",null,"Hombres",null,"Mujeres",null,"Masculino",null,"Femenino"]
[null,null,"Procesados","Confirmados positivos por ISP","Procesados","Confirmados positivos por ISP","Procesados","Confirmados positivos por ISP","Procesados","Confirmados positivos por ISP","Procesados","Confirmados positivos por ISP","Procesados","Confirmados positivos por ISP","Procesados","Confirmados positivos por ISP","Procesados","Confirmados positivos por ISP","Procesados","Confirmados positivos por ISP","Procesados","Confirmados positivos por ISP","Procesados","Confirmados positivos por ISP","Procesados","Confirmados positivos por ISP","Procesados","Confirmados positivos por ISP","Procesados","Confirmados positivos por ISP","Procesados","Confirmados positivos por ISP","Procesados","Confirmados positivos por ISP","Procesados","Confirmados positivos por ISP","Procesados","Confirmados positivos por ISP","Procesados","Confirmados positivos por ISP","Procesados","Confirmados positivos por ISP","Procesados","Confirmados positivos por ISP","Procesados","Confirmados positivos por ISP","Procesados","Confirmados positivos por ISP","Procesados","Confirmados positivos por ISP"]
["Gestantes primer examen",null,{"$f":"+M161+O161+Q161+S161+U161+W161+Y161+AA161+AC161+AE161","v":0},0,null,null,null,null,null,null,null,null,null,null,null,null,null,null,null,null,null,null,null,null,null,null,null,null,null,null,null,null,null,null,null,null,null,null,null,null,null,null,null,null,null,null,null,null,null,null,{"$f":"$CA161&$CC161&CD161&CE161&CF161&CG161&CH161&CI161&CJ161&CK161&CL161&CM161&CN161&CO161&CP161&CQ161&CR161&CS161&CT161&CU161&CV161&CW161","v":""},null,null,null,null,null,null,null,null,null,null,null,null,null,null,null,null,null,null,null,null,null,null,null,null,null,null,null,{"$f":"IF(D161>C161,\" * El Total de Exámenes Confirmados Positivos por ISP NO DEBE SUPERAR los  Exámenes Procesados. \",\"\")","v":""},null,{"$f":"IF(AN161>AM161,\" * El número de Exámenes por Sexo Mujeres Confirmados positivos por ISP NO PUEDE Superar al número de Procesados. \",\"\")","v":""},null,null,null,null,null,{"$f":"IF(AND(C161>0,AND(AO161=\"\",AQ161=\"\")),\" * No olvide digitar los exámenes procesados Trans (Masculino y femenino) Digite Cero si no tiene.\",IF((AO161+AQ161)>C161,\" * Los exámenes procesados en Trans (Masculino y femenino) no pueden ser mayor que el Total de exámenes procesados.\",\"\"))","v":""},null,{"$f":"IF((AM161+AK161)<>C161,\" * El N° de exámenes Procesados por SEXO (Hombres + Mujeres)no puede ser distinto al Total de exámenes procesados\",\"\")","v":""},{"$f":"IF((AN161+AL161)<>D161,\" * El N° de exámenes Confirmados positivos por ISP por Sexo (Hombres+Mujeres) no puede ser distinto al N° Total de exámenes Confirmados positivos por ISP \",\"\")","v":""},{"$f":"IF(AND(C161>0,AS161=\"\"),\" * No olvide digitar los examanes Procesados de Pueblos Originarios. Digite Cero si no tiene.\",IF(AS161>C161,\" * Los exámenes procesados Pueblos originarios no pueden ser mayor que el Total de exámenes procesados.\",\"\"))","v":""},{"$f":"IF(AND(C161>0,AU161=\"\"),\" * No olvide digitar los exámenes Procesados de Migrantes. Digite Cero si no tiene.\",IF(AU161>C161,\" * Los exámenes procesados de Migrantes no pueden ser mayor que el Total de exámenes procesados.\",\"\"))","v":""},{"$f":"IF(AND(D161>0,AND(AP161=\"\",AR161=\"\")),\" * No olvide digitar los exámenes Confirmados positivos por ISP de Trans (Masculino y femenino) Digite Cero si no tiene.\",IF((AP161+AR161)>D161,\" * Los exámenes confirmados positivos por ISP de Trans (Masculino y femenino) no pueden ser mayor que el Total de exámenes Confirmados positivos por ISP.\",\"\"))","v":""},{"$f":"IF(AND(D161>0,AT161=\"\"),\" * No olvide digitar los exámenes Confirmados positivos por ISP de Pueblos Originarios. Digite Cero si no tiene.\",IF(AT161>D161,\" * Los exámenes Confirmados positivos por ISP de Pueblos originarios no pueden ser mayor que el Total de exámenes Procesados por ISP.\",\"\"))","v":""},{"$f":"IF(AND(D161>0,AV161=\"\"),\" * No olvide digitar los exámenes Confirmados positivos por ISP de Migrantes. Digite Cero si no tiene.\",IF(AV161>D161,\" * Los exámenes Confirmados positivos por ISP de Migrantes no pueden ser mayor que el Total de exámenes Procesados por ISP.\",\"\"))","v":""},null,null,{"$f":"IF(AW161>(M161+O161),\"* El Total de Procesados de 14-18 años NO DEBE ser mayor al Total de Procesados registrados en los grupos de edad 10 a 14 y 15 a 19 años. \",\"\")","v":""},{"$f":"IF(AX161>(N161+P161),\"* El Total de Confirmados de 14-18 años NO DEBE ser mayor al Total de Confirmados registrados en los grupos de edad 10 a 14 y 15 a 19 años. \",\"\")","v":""},{"$f":"IF(AND((M161+O161)>0,AW161=\"\"),\"*No olvide digitar los Exámenes Procesados de 14-18 años. Digite cero si no tiene.\",\"\")","v":""},{"$f":"IF(AND((N161+P161)>0,AX161=\"\"),\"*No olvide digitar los Exámenes Confirmados Positivos por ISP de 14-18 años. Digite cero si no tiene.\",\"\")","v":""},null,null,null,null,null,null,null,{"$f":"IF(D161>C161,1,0)","v":0},null,{"$f":"IF(AN161>AM161,1,0)","v":0},null,null,null,null,null,{"$f":"IF(AND(C161>0,AND(AO161=\"\",AQ161=\"\")),1,IF((AO161+AQ161)>C161,1,0))","v":0},null,{"$f":"IF((AM161+AK161)<>C161,1,0)","v":0},{"$f":"IF((AN161+AL161)<>D161,1,0)","v":0},{"$f":"IF(AND(C161>0,AS161=\"\"),1,IF(AS161>C161,1,0))","v":0},{"$f":"IF(AND(C161>0,AU161=\"\"),1,IF(AU161>C161,1,0))","v":0},{"$f":"IF(AND(D161>0,AND(AP161=\"\",AR161=\"\")),1,IF((AP161+AR161)>D161,1,0))","v":0},{"$f":"IF(AND(D161>0,AT161=\"\"),1,IF(AT161>D161,1,0))","v":0},{"$f":"IF(AND(D161>0,AV161=\"\"),1,IF(AV161>D161,1,0))","v":0},null,null,{"$f":"IF(AW161>(M161+O161),1,0)","v":0},{"$f":"IF(AX161>(N161+P161),1,0)","v":0},{"$f":"IF(AND((M161+O161)>0,AW161=\"\"),1,0)","v":0},{"$f":"IF(AND((N161+P161)>0,AX161=\"\"),1,0)","v":0}]
["Gestantes segundo examen",null,0,0,null,null,null,null,null,null,null,null,null,null,null,null,null,null,null,null,null,null,null,null,null,null,null,null,null,null,null,null,null,null,null,null,null,null,null,null,null,null,null,null,null,null,null,null,null,null,{"$f":"$CA162&$CC162&CD162&CE162&CF162&CG162&CH162&CI162&CJ162&CK162&CL162&CM162&CN162&CO162&CP162&CQ162&CR162&CS162&CT162&CU162&CV162&CW162","v":""},null,null,null,null,null,null,null,null,null,null,null,null,null,null,null,null,null,null,null,null,null,null,null,null,null,null,null,{"$f":"IF(D162>C162,\" * El Total de Exámenes Confirmados Positivos por ISP NO DEBE SUPERAR los  Exámenes Procesados. \",\"\")","v":""},null,{"$f":"IF(AN162>AM162,\" * El número de Exámenes por Sexo Mujeres Confirmados positivos por ISP NO PUEDE Superar al número de Procesados. \",\"\")","v":""},null,null,null,null,null,{"$f":"IF(AND(C162>0,AND(AO162=\"\",AQ162=\"\")),\" * No olvide digitar los exámenes procesados Trans (Masculino y femenino) Digite Cero si no tiene.\",IF((AO162+AQ162)>C162,\" * Los exámenes procesados en Trans (Masculino y femenino) no pueden ser mayor que el Total de exámenes procesados.\",\"\"))","v":""},null,{"$f":"IF((AM162+AK162)<>C162,\" * El N° de exámenes Procesados por SEXO (Hombres + Mujeres)no puede ser distinto al Total de exámenes procesados\",\"\")","v":""},{"$f":"IF((AN162+AL162)<>D162,\" * El N° de exámenes Confirmados positivos por ISP por Sexo (Hombres+Mujeres) no puede ser distinto al N° Total de exámenes Confirmados positivos por ISP \",\"\")","v":""},{"$f":"IF(AND(C162>0,AS162=\"\"),\" * No olvide digitar los examanes Procesados de Pueblos Originarios. Digite Cero si no tiene.\",IF(AS162>C162,\" * Los exámenes procesados Pueblos originarios no pueden ser mayor que el Total de exámenes procesados.\",\"\"))","v":""},{"$f":"IF(AND(C162>0,AU162=\"\"),\" * No olvide digitar los exámenes Procesados de Migrantes. Digite Cero si no tiene.\",IF(AU162>C162,\" * Los exámenes procesados de Migrantes no pueden ser mayor que el Total de exámenes procesados.\",\"\"))","v":""},{"$f":"IF(AND(D162>0,AND(AP162=\"\",AR162=\"\")),\" * No olvide digitar los exámenes Confirmados positivos por ISP de Trans (Masculino y femenino) Digite Cero si no tiene.\",IF((AP162+AR162)>D162,\" * Los exámenes confirmados positivos por ISP de Trans (Masculino y femenino) no pueden ser mayor que el Total de exámenes Confirmados positivos por ISP.\",\"\"))","v":""},{"$f":"IF(AND(D162>0,AT162=\"\"),\" * No olvide digitar los exámenes Confirmados positivos por ISP de Pueblos Originarios. Digite Cero si no tiene.\",IF(AT162>D162,\" * Los exámenes Confirmados positivos por ISP de Pueblos originarios no pueden ser mayor que el Total de exámenes Procesados por ISP.\",\"\"))","v":""},{"$f":"IF(AND(D162>0,AV162=\"\"),\" * No olvide digitar los exámenes Confirmados positivos por ISP de Migrantes. Digite Cero si no tiene.\",IF(AV162>D162,\" * Los exámenes Confirmados positivos por ISP de Migrantes no pueden ser mayor que el Total de exámenes Procesados por ISP.\",\"\"))","v":""},null,null,{"$f":"IF(AW162>(M162+O162),\"* El Total de Procesados de 14-18 años NO DEBE ser mayor al Total de Procesados registrados en los grupos de edad 10 a 14 y 15 a 19 años. \",\"\")","v":""},{"$f":"IF(AX162>(N162+P162),\"* El Total de Confirmados de 14-18 años NO DEBE ser mayor al Total de Confirmados registrados en los grupos de edad 10 a 14 y 15 a 19 años. \",\"\")","v":""},{"$f":"IF(AND((M162+O162)>0,AW162=\"\"),\"*No olvide digitar los Exámenes Procesados de 14-18 años. Digite cero si no tiene.\",\"\")","v":""},{"$f":"IF(AND((N162+P162)>0,AX162=\"\"),\"*No olvide digitar los Exámenes Confirmados Positivos por ISP de 14-18 años. Digite cero si no tiene.\",\"\")","v":""},null,null,null,null,null,null,null,{"$f":"IF(D162>C162,1,0)","v":0},null,{"$f":"IF(AN162>AM162,1,0)","v":0},null,null,null,null,null,{"$f":"IF(AND(C162>0,AND(AO162=\"\",AQ162=\"\")),1,IF((AO162+AQ162)>C162,1,0))","v":0},null,{"$f":"IF((AM162+AK162)<>C162,1,0)","v":0},0,{"$f":"IF(AND(C162>0,AS162=\"\"),1,IF(AS162>C162,1,0))","v":0},{"$f":"IF(AND(C162>0,AU162=\"\"),1,IF(AU162>C162,1,0))","v":0},{"$f":"IF(AND(D162>0,AND(AP162=\"\",AR162=\"\")),1,IF((AP162+AR162)>D162,1,0))","v":0},{"$f":"IF(AND(D162>0,AT162=\"\"),1,IF(AT162>D162,1,0))","v":0},{"$f":"IF(AND(D162>0,AV162=\"\"),1,IF(AV162>D162,1,0))","v":0},null,null,{"$f":"IF(AW162>(M162+O162),1,0)","v":0},{"$f":"IF(AX162>(N162+P162),1,0)","v":0},{"$f":"IF(AND((M162+O162)>0,AW162=\"\"),1,0)","v":0},{"$f":"IF(AND((N162+P162)>0,AX162=\"\"),1,0)","v":0}]
["Mujer en trabajo de pre parto o parto",null,0,0,null,null,null,null,null,null,null,null,null,null,null,null,null,null,null,null,null,null,null,null,null,null,null,null,null,null,null,null,null,null,null,null,null,null,null,null,null,null,null,null,null,null,null,null,null,null,"",null,null,null,null,null,null,null,null,null,null,null,null,null,null,null,null,null,null,null,null,null,null,null,null,null,null,null,"",null,"",null,null,null,null,null,"",null,"","","","","","","",null,null,"","","","",null,null,null,null,null,null,null,0,null,0,null,null,null,null,null,0,null,0,0,0,0,0,0,0,null,null,0,0,0,0]
["Personas en control por comercio sexual",null,{"$f":"+O164+Q164+S164+U164+W164+Y164+AA164+AC164+AE164+AG164+AI164","v":0},{"$f":"+P164+R164+T164+V164+X164+Z164+AB164+AD164+AF164+AH164+AJ164","v":0},null,null,null,null,null,null,null,null,null,null,null,null,null,null,null,null,null,null,null,null,null,null,null,null,null,null,null,null,null,null,null,null,null,null,null,null,null,null,null,null,null,null,null,null,null,null,{"$f":"$CA164&CB164&$CC164&CD164&CE164&CF164&CG164&CH164&CI164&CJ164&CK164&CL164&CM164&CN164&CO164&CP164&CQ164&CR164&CS164&CT164&CU164&CV164&CW164","v":""},null,null,null,null,null,null,null,null,null,null,null,null,null,null,null,null,null,null,null,null,null,null,null,null,null,null,null,"",{"$f":"IF(AL164>AK164,\" * El número de Exámenes por Sexo Hombres Confirmados positivos por ISP NO PUEDE Superar al número de Procesados. \",\"\")","v":""},"",null,null,null,null,null,"",null,"","","","","","","",null,null,"","","","",null,null,null,null,null,null,null,0,{"$f":"IF(AL164>AK164,1,0)","v":0},0,null,null,null,null,null,0,null,0,0,0,0,0,0,0,null,null,0,0,0,0]
["Pacientes en diálisis",null,{"$f":"+E165+G165+I165+K165+M165+O165+Q165+S165+U165+W165+Y165+AA165+AC165+AE165+AG165+AI165","v":0},{"$f":"+F165+H165+J165+L165+N165+P165+R165+T165+V165+X165+Z165+AB165+AD165+AF165+AH165+AJ165","v":0},null,null,null,null,null,null,null,null,null,null,null,null,null,null,null,null,null,null,null,null,null,null,null,null,null,null,null,null,null,null,null,null,null,null,null,null,null,null,null,null,null,null,null,null,null,null,{"$f":"$CA165&CB165&$CC165&CD165&CE165&CF165&CG165&CH165&CI165&CJ165&CK165&CL165&CM165&CN165&CO165&CP165&CQ165&CR165&CS165&CT165&CU165&CV165&CW165","v":""},null,null,null,null,null,null,null,null,null,null,null,null,null,null,null,null,null,null,null,null,null,null,null,null,null,null,null,"",{"$f":"IF(AL165>AK165,\" * El número de Exámenes por Sexo Hombres Confirmados positivos por ISP NO PUEDE Superar al número de Procesados. \",\"\")","v":""},"",null,null,null,null,null,"",null,"","","","","","","",null,null,"","","","",null,null,null,null,null,null,null,0,{"$f":"IF(AL165>AK165,1,0)","v":0},0,null,null,null,null,null,0,null,0,0,0,0,0,0,0,null,null,0,0,0,0]
["Por consulta ITS",null,{"$f":"+E166+G166+I166+K166+M166+O166+Q166+S166+U166+W166+Y166+AA166+AC166+AE166+AG166+AI166","v":0},{"$f":"+F166+H166+J166+L166+N166+P166+R166+T166+V166+X166+Z166+AB166+AD166+AF166+AH166+AJ166","v":0},null,null,null,null,null,null,null,null,null,null,null,null,null,null,null,null,null,null,null,null,null,null,null,null,null,null,null,null,null,null,null,null,null,null,null,null,null,null,null,null,null,null,null,null,null,null,"",null,null,null,null,null,null,null,null,null,null,null,null,null,null,null,null,null,null,null,null,null,null,null,null,null,null,null,"","","",null,null,null,null,null,"",null,"","","","","","","",null,null,"","","","",null,null,null,null,null,null,null,0,0,0,null,null,null,null,null,0,null,0,0,0,0,0,0,0,null,null,0,0,0,0]
["Personas en control de regulación fecundidad, ginecológico, climaterio",null,{"$f":"+O167+Q167+S167+U167+W167+Y167+AA167+AC167+AE167+AG167+AI167","v":0},{"$f":"+P167+R167+T167+V167+X167+Z167+AB167+AD167+AF167+AH167+AJ167","v":0},null,null,null,null,null,null,null,null,null,null,null,null,null,null,null,null,null,null,null,null,null,null,null,null,null,null,null,null,null,null,null,null,null,null,null,null,null,null,null,null,null,null,null,null,null,null,"",null,null,null,null,null,null,null,null,null,null,null,null,null,null,null,null,null,null,null,null,null,null,null,null,null,null,null,"","","",null,null,null,null,null,"",null,"","","","","","","",null,null,"","","","",null,null,null,null,null,null,null,0,0,0,null,null,null,null,null,0,null,0,0,0,0,0,0,0,null,null,0,0,0,0]
["Personas EMP/EMPAM",null,{"$f":"+O168+Q168+S168+U168+W168+Y168+AA168+AC168+AE168+AG168+AI168","v":0},{"$f":"+P168+R168+T168+V168+X168+Z168+AB168+AD168+AF168+AH168+AJ168","v":0},null,null,null,null,null,null,null,null,null,null,null,null,null,null,null,null,null,null,null,null,null,null,null,null,null,null,null,null,null,null,null,null,null,null,null,null,null,null,null,null,null,null,null,null,null,null,"",null,null,null,null,null,null,null,null,null,null,null,null,null,null,null,null,null,null,null,null,null,null,null,null,null,null,null,"","","",null,null,null,null,null,"",null,"","","","","","","",null,null,"","","","",null,null,null,null,null,null,null,0,0,0,null,null,null,null,null,0,null,0,0,0,0,0,0,0,null,null,0,0,0,0]
["Personas en control de salud según ciclo vital",null,{"$f":"+E169+G169+I169+K169+M169+O169+Q169+S169+U169+W169+Y169+AA169+AC169+AE169+AG169+AI169","v":0},{"$f":"+F169+H169+J169+L169+N169+P169+R169+T169+V169+X169+Z169+AB169+AD169+AF169+AH169+AJ169","v":0},null,null,null,null,null,null,null,null,null,null,null,null,null,null,null,null,null,null,null,null,null,null,null,null,null,null,null,null,null,null,null,null,null,null,null,null,null,null,null,null,null,null,null,null,null,null,"",null,null,null,null,null,null,null,null,null,null,null,null,null,null,null,null,null,null,null,null,null,null,null,null,null,null,null,"","","",null,null,null,null,null,"",null,"","","","","","","",null,null,"","","","",null,null,null,null,null,null,null,0,0,0,null,null,null,null,null,0,null,0,0,0,0,0,0,0,null,null,0,0,0,0]
["Donantes","Altruista nuevo",{"$f":"+O170+Q170+S170+U170+W170+Y170+AA170+AC170+AE170+AG170","v":0},0,null,null,null,null,null,null,null,null,null,null,null,null,null,null,null,null,null,null,null,null,null,null,null,null,null,null,null,null,null,null,null,null,null,null,null,null,null,null,null,null,null,null,null,null,null,null,{"$f":"$CA170&CB170&$CC170&CD170&CE170&CF170&CG170&CH170&CI170&CJ170&CK170&CL170&CM170&CN170&CO170&CP170&CQ170&CR170&CS170","v":""},null,null,null,null,null,null,null,null,null,null,null,null,null,null,null,null,null,null,null,null,null,null,null,null,null,null,null,"","","",null,null,null,null,null,"",null,"","","","","","","",null,null,null,null,null,null,null,null,null,null,null,null,null,0,0,0,null,null,null,null,null,0,null,0,0,0,0,0,0,0]
[null,"Altruista repetido",0,0,null,null,null,null,null,null,null,null,null,null,null,null,null,null,null,null,null,null,null,null,null,null,null,null,null,null,null,null,null,null,null,null,null,null,null,null,null,null,null,null,null,null,null,null,null,null,{"$f":"$CA171&CB171&$CC171&CD171&CE171&CF171&CG171&CH171&CI171&CJ171&CK171&CL171&CM171&CN171&CO171&CP171&CQ171&CR171&CS171","v":""},null,null,null,null,null,null,null,null,null,null,null,null,null,null,null,null,null,null,null,null,null,null,null,null,null,null,null,"","","",null,null,null,null,null,"",null,"","","","","","","",null,null,null,null,null,null,null,null,null,null,null,null,null,0,0,0,null,null,null,null,null,0,null,0,0,0,0,0,0,0]
[null,"Familiar o Reposición",0,0,null,null,null,null,null,null,null,null,null,null,null,null,null,null,null,null,null,null,null,null,null,null,null,null,null,null,null,null,null,null,null,null,null,null,null,null,null,null,null,null,null,null,null,null,null,null,{"$f":"$CA172&CB172&$CC172&CD172&CE172&CF172&CG172&CH172&CI172&CJ172&CK172&CL172&CM172&CN172&CO172&CP172&CQ172&CR172&CS172","v":""},null,null,null,null,null,null,null,null,null,null,null,null,null,null,null,null,null,null,null,null,null,null,null,null,null,null,null,"","","",null,null,null,null,null,"",null,"","","","","","","",null,null,null,null,null,null,null,null,null,null,null,null,null,0,0,0,null,null,null,null,null,0,null,0,0,0,0,0,0,0]
["Donantes de órganos y/o tejidos",null,{"$f":"+E173+G173+I173+K173+M173+O173+Q173+S173+U173+W173+Y173+AA173+AC173+AE173+AG173+AI173","v":0},0,null,null,null,null,null,null,null,null,null,null,null,null,null,null,null,null,null,null,null,null,null,null,null,null,null,null,null,null,null,null,null,null,null,null,null,null,null,null,null,null,null,null,null,null,null,null,"",null,null,null,null,null,null,null,null,null,null,null,null,null,null,null,null,null,null,null,null,null,null,null,null,null,null,null,"","","",null,null,null,null,null,"",null,"","","","","","","",null,null,"","",{"$f":"IF(AND((M173+O173)>0,AW173=\"\"),\"*No olvide digitar los Exámenes Procesados de 14-18 años. Digite cero si no tiene.\",\"\")","v":""},{"$f":"IF(AND((N173+P173)>0,AX173=\"\"),\"*No olvide digitar los Exámenes Confirmados Positivos por ISP de 14-18 años. Digite cero si no tiene.\",\"\")","v":""},null,null,null,null,null,null,null,0,0,0,null,null,null,null,null,0,null,0,0,0,0,0,0,0,null,null,0,0,{"$f":"IF(AND((M173+O173)>0,AW173=\"\"),1,0)","v":0},{"$f":"IF(AND((N173+P173)>0,AX173=\"\"),1,0)","v":0}]
["Persona en control por TBC",null,0,0,null,null,null,null,null,null,null,null,null,null,null,null,null,null,null,null,null,null,null,null,null,null,null,null,null,null,null,null,null,null,null,null,null,null,null,null,null,null,null,null,null,null,null,null,null,null,"",null,null,null,null,null,null,null,null,null,null,null,null,null,null,null,null,null,null,null,null,null,null,null,null,null,null,null,"","","",null,null,null,null,null,"",null,"","","","","","","",null,null,"","","","",null,null,null,null,null,null,null,0,0,0,null,null,null,null,null,0,null,0,0,0,0,0,0,0,null,null,0,0,0,0]
["Víctima de violencia sexual",null,0,{"$f":"+F175+H175+J175+L175+N175+P175+R175+T175+V175+X175+Z175+AB175+AD175+AF175+AH175+AJ175","v":0},null,null,null,null,null,null,null,null,null,null,null,null,null,null,null,null,null,null,null,null,null,null,null,null,null,null,null,null,null,null,null,null,null,null,null,null,null,null,null,null,null,null,null,null,null,null,"",null,null,null,null,null,null,null,null,null,null,null,null,null,null,null,null,null,null,null,null,null,null,null,null,null,null,null,"","","",null,null,null,null,null,"",null,"","","","","","","",null,null,"","","","",null,null,null,null,null,null,null,0,0,0,null,null,null,null,null,0,null,0,0,0,0,0,0,0,null,null,0,0,0,0]
["Pareja serodiscordante",null,{"$f":"+O176+Q176+S176+U176+W176+Y176+AA176+AC176+AE176+AG176+AI176","v":0},0,null,null,null,null,null,null,null,null,null,null,null,null,null,null,null,null,null,null,null,null,null,null,null,null,null,null,null,null,null,null,null,null,null,null,null,null,null,null,null,null,null,null,null,null,null,null,"",null,null,null,null,null,null,null,null,null,null,null,null,null,null,null,null,null,null,null,null,null,null,null,null,null,null,null,"","","",null,null,null,null,null,"",null,"","","","","","","",null,null,"","","","",null,null,null,null,null,null,null,0,0,0,null,null,null,null,null,0,null,0,0,0,0,0,0,0,null,null,0,0,0,0]
["Pareja de gestante VIH positivo",null,0,0,null,null,null,null,null,null,null,null,null,null,null,null,null,null,null,null,null,null,null,null,null,null,null,null,null,null,null,null,null,null,null,null,null,null,null,null,null,null,null,null,null,null,null,null,null,null,"",null,null,null,null,null,null,null,null,null,null,null,null,null,null,null,null,null,null,null,null,null,null,null,null,null,null,null,"","","",null,null,null,null,null,"",null,"","","","","","","",null,null,"","","","",null,null,null,null,null,null,null,0,0,0,null,null,null,null,null,0,null,0,0,0,0,0,0,0,null,null,0,0,0,0]
["Personal de salud expuesto a accidente cortopunzante",null,0,0,null,null,null,null,null,null,null,null,null,null,null,null,null,null,null,null,null,null,null,null,null,null,null,null,null,null,null,null,null,null,null,null,null,null,null,null,null,null,null,null,null,null,null,null,null,null,"",null,null,null,null,null,null,null,null,null,null,null,null,null,null,null,null,null,null,null,null,null,null,null,null,null,null,null,"","","",null,null,null,null,null,"",null,"","","","","","","",null,null,"","","","",null,null,null,null,null,null,null,0,0,0,null,null,null,null,null,0,null,0,0,0,0,0,0,0,null,null,0,0,0,0]
["Pacientes fuente de accidente cortopunzante",null,{"$f":"+E179+G179+I179+K179+M179+O179+Q179+S179+U179+W179+Y179+AA179+AC179+AE179+AG179+AI179","v":0},0,null,null,null,null,null,null,null,null,null,null,null,null,null,null,null,null,null,null,null,null,null,null,null,null,null,null,null,null,null,null,null,null,null,null,null,null,null,null,null,null,null,null,null,null,null,null,"",null,null,null,null,null,null,null,null,null,null,null,null,null,null,null,null,null,null,null,null,null,null,null,null,null,null,null,"","","",null,null,null,null,null,"",null,"","","","","","","",null,null,"","","","",null,null,null,null,null,null,null,0,0,0,null,null,null,null,null,0,null,0,0,0,0,0,0,0,null,null,0,0,0,0]
["Persona en control por Hepatitis B",null,0,0,null,null,null,null,null,null,null,null,null,null,null,null,null,null,null,null,null,null,null,null,null,null,null,null,null,null,null,null,null,null,null,null,null,null,null,null,null,null,null,null,null,null,null,null,null,null,"",null,null,null,null,null,null,null,null,null,null,null,null,null,null,null,null,null,null,null,null,null,null,null,null,null,null,null,"","","",null,null,null,null,null,"",null,"","","","","","","",null,null,"","","","",null,null,null,null,null,null,null,0,0,0,null,null,null,null,null,0,null,0,0,0,0,0,0,0,null,null,0,0,0,0]
["Persona en control por Hepatitis C",null,0,0,null,null,null,null,null,null,null,null,null,null,null,null,null,null,null,null,null,null,null,null,null,null,null,null,null,null,null,null,null,null,null,null,null,null,null,null,null,null,null,null,null,null,null,null,null,null,"",null,null,null,null,null,null,null,null,null,null,null,null,null,null,null,null,null,null,null,null,null,null,null,null,null,null,null,"","","",null,null,null,null,null,"",null,"","","","","","","",null,null,"","","","",null,null,null,null,null,null,null,0,0,0,null,null,null,null,null,0,null,0,0,0,0,0,0,0,null,null,0,0,0,0]
["Consultantes por morbilidad",null,0,0,null,null,null,null,null,null,null,null,null,null,null,null,null,null,null,null,null,null,null,null,null,null,null,null,null,null,null,null,null,null,null,null,null,null,null,null,null,null,null,null,null,null,null,null,null,null,"",null,null,null,null,null,null,null,null,null,null,null,null,null,null,null,null,null,null,null,null,null,null,null,null,null,null,null,"","","",null,null,null,null,null,"",null,"","","","","","","",null,null,"","","","",null,null,null,null,null,null,null,0,0,0,null,null,null,null,null,0,null,0,0,0,0,0,0,0,null,null,0,0,0,0]
["Por consulta espontánea",null,0,0,null,null,null,null,null,null,null,null,null,null,null,null,null,null,null,null,null,null,null,null,null,null,null,null,null,null,null,null,null,null,null,null,null,null,null,null,null,null,null,null,null,null,null,null,null,null,{"$f":"$CA183&CB183&$CC183&CD183&CE183&CF183&CG183&CH183&CI183&CJ183&CK183&CL183&CM183&CN183&CO183&CP183&CQ183&CR183&CS183&CT183&CU183&CV183&CW183","v":""},null,null,null,null,null,null,null,null,null,null,null,null,null,null,null,null,null,null,null,null,null,null,null,null,null,null,null,"","","",null,null,null,null,null,"",null,"","","","","","","",null,null,"","","","",null,null,null,null,null,null,null,0,0,0,null,null,null,null,null,0,null,0,0,0,0,0,0,0,null,null,0,0,0,0]
["SECCIÓN C.2: EXÁMENES  DE  VIH POR GRUPOS DE USUARIOS (USO EXCLUSIVO DE ESTABLECIMIENTOS QUE COMPRAN SERVICIO)"]
["GRUPO DE USUARIOS",null,"TOTAL",null,"RANGO ETARIO",null,null,null,null,null,null,null,null,null,null,null,null,null,null,null,null,null,null,null,null,null,null,null,null,null,null,null,null,null,null,null,"POR SEXO",null,null,null,"TRANS",null,null,null,"Pueblos originarios",null,"Migrantes",null,"14-18 años"]
[null,null,null,null,"Menos de 12 meses",null,"12-24 meses",null,"3 - 4 años",null,"5 - 9 años",null,"10 - 14 años",null,"15 - 19 años",null,"20 - 24 años",null,"25 - 29 años",null,"30 - 34 años",null,"35 - 39 años",null,"40 - 44 años",null,"45 - 49 años",null,"50 - 54 años",null,"55 - 59 años",null,"60 - 64 años",null," 65 y más años",null,"Hombres",null,"Mujeres",null,"Femenino",null,"Masculino"]
[null,null,"Procesados","Confirmados positivos por ISP","Procesados","Confirmados positivos por ISP","Procesados","Confirmados positivos por ISP","Procesados","Confirmados positivos por ISP","Procesados","Confirmados positivos por ISP","Procesados","Confirmados positivos por ISP","Procesados","Confirmados positivos por ISP","Procesados","Confirmados positivos por ISP","Procesados","Confirmados positivos por ISP","Procesados","Confirmados positivos por ISP","Procesados","Confirmados positivos por ISP","Procesados","Confirmados positivos por ISP","Procesados","Confirmados positivos por ISP","Procesados","Confirmados positivos por ISP","Procesados","Confirmados positivos por ISP","Procesados","Confirmados positivos por ISP","Procesados","Confirmados positivos por ISP","Procesados","Confirmados positivos por ISP","Procesados","Confirmados positivos por ISP","Procesados","Confirmados positivos por ISP","Procesados","Confirmados positivos por ISP","Procesados","Confirmados positivos por ISP","Procesados","Confirmados positivos por ISP","Procesados","Confirmados positivos por ISP"]
["Gestantes primer examen",null,{"$f":"+M188+O188+Q188+S188+U188+W188+Y188+AA188+AC188+AE188","v":0},0,null,null,null,null,null,null,null,null,null,null,null,null,null,null,null,null,null,null,null,null,null,null,null,null,null,null,null,null,null,null,null,null,null,null,null,null,null,null,null,null,null,null,null,null,null,null,{"$f":"$CA188&$CC188&CD188&CE188&CF188&CG188&CH188&CI188&CJ188&CK188&CL188&CM188&CN188&CO188&CP188&CQ188&CR188&CS188&CT188&CU188","v":""},null,null,null,null,null,null,null,null,null,null,null,null,null,null,null,null,null,null,null,null,null,null,null,null,null,null,null,{"$f":"IF(D188>C188,\" * El Total de Exámenes Confirmados Positivos por ISP NO DEBE SUPERAR los Exámenes Procesados. \",\"\")","v":""},null,{"$f":"IF(AN188>AM188,\" * El número de Exámenes por Sexo Mujeres Confirmados positivos por ISP NO PUEDE Superar al número de Procesados. \",\"\")","v":""},null,null,null,null,null,{"$f":"IF(AND(C188>0,AND(AO188=\"\",AQ188=\"\")),\" * No olvide digitar los exámenes procesados Trans (Masculino y femenino) Digite Cero si no tiene.\",IF((AO188+AQ188)>C188,\" * Los exámenes procesados en Trans (Masculino y femenino) no pueden ser mayor que el Total de exámenes procesados.\",\"\"))","v":""},null,{"$f":"IF((AM188+AK188)<>C188,\" * El N° de exámenes Procesados por SEXO (Hombres + Mujeres)no puede ser distinto al Total de exámenes procesados\",\"\")","v":""},{"$f":"IF((AN188+AL188)<>D188,\" * El N° de exámenes Confirmados positivos por ISP por Sexo (Hombres+Mujeres) no puede ser distinto al N° Total de exámenes Confirmados positivos por ISP \",\"\")","v":""},{"$f":"IF(AND(C188>0,AS188=\"\"),\" * No olvide digitar los examanes Procesados de Pueblos Originarios. Digite Cero si no tiene.\",IF(AS188>C188,\" * Los exámenes procesados Pueblos originarios no pueden ser mayor que el Total de exámenes procesados.\",\"\"))","v":""},{"$f":"IF(AND(C188>0,AU188=\"\"),\" * No olvide digitar los examenes Procesados de Migrantes. Digite Cero si no tiene.\",IF(AU188>C188,\" * Los exámenes procesados de Migrantes no pueden ser mayor que el Total de exámenes procesados.\",\"\"))","v":""},{"$f":"IF(AND(D188>0,OR(AP188=\"\",AR188=\"\")),\" * No olvide digitar los exámenes Confirmados positivos por ISP de Trans (Masculino y femenino) Digite Cero si no tiene.\",IF((AP188+AR188)>D188,\" * Los exámenes confirmados positivos por ISP de Trans (Masculino y femenino) no pueden ser mayor que el Total de exámenes Confirmados positivos por ISP.\",\"\"))","v":""},{"$f":"IF(AND(D188>0,AT188=\"\"),\" * No olvide digitar los exámenes Confirmados positivos por ISP de Pueblos Originarios. Digite Cero si no tiene.\",IF(AT188>D188,\" * Los exámenes Confirmados positivos por ISP de Pueblos originarios no pueden ser mayor que el Total de exámenes Procesados por ISP.\",\"\"))","v":""},{"$f":"IF(AND(D188>0,AV188=\"\"),\" * No olvide digitar los exámenes Confirmados positivos por ISP de Migrantes. Digite Cero si no tiene.\",IF(AV188>D188,\" * Los exámenes Confirmados positivos por ISP de Migrantes no pueden ser mayor que el Total de exámenes Procesados por ISP.\",\"\"))","v":""},null,null,{"$f":"IF(AND((M188+O188)>0,AW188=\"\"),\"* No olvide digitar la variable 14-18 años Procesados. Si no tiene digite Cero.\",IF(AW188>(M188+O188),\"* El Total de Procesados de 14-18 años NO DEBE ser mayor al Total de Procesados registrados en los grupos de edad 10 a 14 y 15 a 19 años. \",\"\"))","v":""},{"$f":"IF(AND((N188+P188)>0,AX188=\"\"),\"* No olvide digitar la variable 14-18 años Confirmados. Si no tiene digite Cero.\",IF(AX188>(N188+P188),\"* El Total de Confirmados de 14-18 años NO DEBE ser mayor al Total de Confirmados registrados en los grupos de edad 10 a 14 y 15 a 19 años. \",\"\"))","v":""},null,null,null,null,null,null,null,null,null,{"$f":"IF(D188>C188,1,0)","v":0},null,{"$f":"IF(AN188>AM188,1,0)","v":0},null,null,null,null,null,{"$f":"IF(AND(C188>0,AND(AO188=\"\",AQ188=\"\")),1,IF((AO188+AQ188)>C188,1,0))","v":0},null,{"$f":"IF((AM188+AK188)<>C188,1,0)","v":0},{"$f":"IF((AN188+AL188)<>D188,1,0)","v":0},{"$f":"IF(AND(C188>0,AS188=\"\"),1,IF(AS188>C188,1,0))","v":0},{"$f":"IF(AND(C188>0,AU188=\"\"),1,IF(AU188>C188,1,0))","v":0},{"$f":"IF(AND(D188>0,OR(AP188=\"\",AR188=\"\")),1,IF((AP188+AR188)>D188,1,0))","v":0},{"$f":"IF(AND(D188>0,AT188=\"\"),1,IF(AT188>D188,1,0))","v":0},{"$f":"IF(AND(D188>0,AV188=\"\"),1,IF(AV188>D188,1,0))","v":0},null,null,{"$f":"IF(AND((M188+O188)>0,AW188=\"\"),1,IF(AW188>(M188+O188),1,0))","v":0},{"$f":"IF(AND((N188+P188)>0,AX188=\"\"),1,IF(AX188>(N188+P188),1,0))","v":0}]
["Gestantes segundo examen",null,0,0,null,null,null,null,null,null,null,null,null,null,null,null,null,null,null,null,null,null,null,null,null,null,null,null,null,null,null,null,null,null,null,null,null,null,null,null,null,null,null,null,null,null,null,null,null,null,{"$f":"$CA189&$CC189&CD189&CE189&CF189&CG189&CH189&CI189&CJ189&CK189&CL189&CM189&CN189&CO189&CP189&CQ189&CR189&CS189&CT189","v":""},null,null,null,null,null,null,null,null,null,null,null,null,null,null,null,null,null,null,null,null,null,null,null,null,null,null,null,{"$f":"IF(D189>C189,\" * El Total de Exámenes Confirmados Positivos por ISP NO DEBE SUPERAR los Exámenes Procesados. \",\"\")","v":""},null,{"$f":"IF(AN189>AM189,\" * El número de Exámenes por Sexo Mujeres Confirmados positivos por ISP NO PUEDE Superar al número de Procesados. \",\"\")","v":""},null,null,null,null,null,{"$f":"IF(AND(C189>0,AND(AO189=\"\",AQ189=\"\")),\" * No olvide digitar los exámenes procesados Trans (Masculino y femenino) Digite Cero si no tiene.\",IF((AO189+AQ189)>C189,\" * Los exámenes procesados en Trans (Masculino y femenino) no pueden ser mayor que el Total de exámenes procesados.\",\"\"))","v":""},null,{"$f":"IF((AM189+AK189)<>C189,\" * El N° de exámenes Procesados por SEXO (Hombres + Mujeres)no puede ser distinto al Total de exámenes procesados\",\"\")","v":""},{"$f":"IF((AN189+AL189)<>D189,\" * El N° de exámenes Confirmados positivos por ISP por Sexo (Hombres+Mujeres) no puede ser distinto al N° Total de exámenes Confirmados positivos por ISP \",\"\")","v":""},{"$f":"IF(AND(C189>0,AS189=\"\"),\" * No olvide digitar los examanes Procesados de Pueblos Originarios. Digite Cero si no tiene.\",IF(AS189>C189,\" * Los exámenes procesados Pueblos originarios no pueden ser mayor que el Total de exámenes procesados.\",\"\"))","v":""},{"$f":"IF(AND(C189>0,AU189=\"\"),\" * No olvide digitar los examenes Procesados de Migrantes. Digite Cero si no tiene.\",IF(AU189>C189,\" * Los exámenes procesados de Migrantes no pueden ser mayor que el Total de exámenes procesados.\",\"\"))","v":""},{"$f":"IF(AND(D189>0,OR(AP189=\"\",AR189=\"\")),\" * No olvide digitar los exámenes Confirmados positivos por ISP de Trans (Masculino y femenino) Digite Cero si no tiene.\",IF((AP189+AR189)>D189,\" * Los exámenes confirmados positivos por ISP de Trans (Masculino y femenino) no pueden ser mayor que el Total de exámenes Confirmados positivos por ISP.\",\"\"))","v":""},{"$f":"IF(AND(D189>0,AT189=\"\"),\" * No olvide digitar los exámenes Confirmados positivos por ISP de Pueblos Originarios. Digite Cero si no tiene.\",IF(AT189>D189,\" * Los exámenes Confirmados positivos por ISP de Pueblos originarios no pueden ser mayor que el Total de exámenes Procesados por ISP.\",\"\"))","v":""},{"$f":"IF(AND(D189>0,AV189=\"\"),\" * No olvide digitar los exámenes Confirmados positivos por ISP de Migrantes. Digite Cero si no tiene.\",IF(AV189>D189,\" * Los exámenes Confirmados positivos por ISP de Migrantes no pueden ser mayor que el Total de exámenes Procesados por ISP.\",\"\"))","v":""},null,null,{"$f":"IF(AND((M189+O189)>0,AW189=\"\"),\"* No olvide digitar la variable 14-18 años Procesados. Si no tiene digite Cero.\",IF(AW189>(M189+O189),\"* El Total de Procesados de 14-18 años NO DEBE ser mayor al Total de Procesados registrados en los grupos de edad 10 a 14 y 15 a 19 años. \",\"\"))","v":""},{"$f":"IF(AND((N189+P189)>0,AX189=\"\"),\"* No olvide digitar la variable 14-18 años Confirmados. Si no tiene digite Cero.\",IF(AX189>(N189+P189),\"* El Total de Confirmados de 14-18 años NO DEBE ser mayor al Total de Confirmados registrados en los grupos de edad 10 a 14 y 15 a 19 años. \",\"\"))","v":""},null,null,null,null,null,null,null,null,null,{"$f":"IF(D189>C189,1,0)","v":0},null,{"$f":"IF(AN189>AM189,1,0)","v":0},null,null,null,null,null,{"$f":"IF(AND(C189>0,AND(AO189=\"\",AQ189=\"\")),1,IF((AO189+AQ189)>C189,1,0))","v":0},null,{"$f":"IF((AM189+AK189)<>C189,1,0)","v":0},{"$f":"IF((AN189+AL189)<>D189,1,0)","v":0},{"$f":"IF(AND(C189>0,AS189=\"\"),1,IF(AS189>C189,1,0))","v":0},{"$f":"IF(AND(C189>0,AU189=\"\"),1,IF(AU189>C189,1,0))","v":0},{"$f":"IF(AND(D189>0,OR(AP189=\"\",AR189=\"\")),1,IF((AP189+AR189)>D189,1,0))","v":0},{"$f":"IF(AND(D189>0,AT189=\"\"),1,IF(AT189>D189,1,0))","v":0},{"$f":"IF(AND(D189>0,AV189=\"\"),1,IF(AV189>D189,1,0))","v":0},null,null,{"$f":"IF(AND((M189+O189)>0,AW189=\"\"),1,IF(AW189>(M189+O189),1,0))","v":0},{"$f":"IF(AND((N189+P189)>0,AX189=\"\"),1,IF(AX189>(N189+P189),1,0))","v":0}]
["Mujer en trabajo de pre parto o parto",null,0,0,null,null,null,null,null,null,null,null,null,null,null,null,null,null,null,null,null,null,null,null,null,null,null,null,null,null,null,null,null,null,null,null,null,null,null,null,null,null,null,null,null,null,null,null,null,null,{"$f":"$CA190&$CC190&CD190&CE190&CF190&CG190&CH190&CI190&CJ190&CK190&CL190&CM190&CN190&CO190&CP190&CQ190&CR190&CS190&CT190","v":""},null,null,null,null,null,null,null,null,null,null,null,null,null,null,null,null,null,null,null,null,null,null,null,null,null,null,null,"",null,"",null,null,null,null,null,"",null,"","","","","","","",null,null,"","",null,null,null,null,null,null,null,null,null,0,null,0,null,null,null,null,null,0,null,0,0,0,0,0,0,0,null,null,0,0]
["Personas en control por comercio sexual",null,{"$f":"+O191+Q191+S191+U191+W191+Y191+AA191+AC191+AE191+AG191+AI191","v":0},{"$f":"+P191+R191+T191+V191+X191+Z191+AB191+AD191+AF191+AH191+AJ191","v":0},null,null,null,null,null,null,null,null,null,null,null,null,null,null,null,null,null,null,null,null,null,null,null,null,null,null,null,null,null,null,null,null,null,null,null,null,null,null,null,null,null,null,null,null,null,null,{"$f":"$CA191&CB191&$CC191&CD191&CE191&CF191&CG191&CH191&CI191&CJ191&CK191&CL191&CM191&CN191&CO191&CP191&CQ191&CR191&CS191&CT191&CU191","v":""},null,null,null,null,null,null,null,null,null,null,null,null,null,null,null,null,null,null,null,null,null,null,null,null,null,null,null,"",{"$f":"IF(AL191>AK191,\" * El número de Exámenes por Sexo Hombres Confirmados positivos por ISP NO PUEDE Superar al número de Procesados. \",\"\")","v":""},"",null,null,null,null,null,"",null,"","","","","","","",null,null,"","",null,null,null,null,null,null,null,null,null,0,{"$f":"IF(AL191>AK191,1,0)","v":0},0,null,null,null,null,null,0,null,0,0,0,0,0,0,0,null,null,0,0]
["Pacientes en diálisis",null,{"$f":"+E192+G192+I192+K192+M192+O192+Q192+S192+U192+W192+Y192+AA192+AC192+AE192+AG192+AI192","v":0},{"$f":"+F192+H192+J192+L192+N192+P192+R192+T192+V192+X192+Z192+AB192+AD192+AF192+AH192+AJ192","v":0},null,null,null,null,null,null,null,null,null,null,null,null,null,null,null,null,null,null,null,null,null,null,null,null,null,null,null,null,null,null,null,null,null,null,null,null,null,null,null,null,null,null,null,null,null,null,{"$f":"$CA192&CB192&$CC192&CD192&CE192&CF192&CG192&CH192&CI192&CJ192&CK192&CL192&CM192&CN192&CO192&CP192&CQ192&CR192&CS192&CT192&CU192","v":""},null,null,null,null,null,null,null,null,null,null,null,null,null,null,null,null,null,null,null,null,null,null,null,null,null,null,null,"",{"$f":"IF(AL192>AK192,\" * El número de Exámenes por Sexo Hombres Confirmados positivos por ISP NO PUEDE Superar al número de Procesados. \",\"\")","v":""},"",null,null,null,null,null,"",null,"","","","","","","",null,null,"","",null,null,null,null,null,null,null,null,null,0,{"$f":"IF(AL192>AK192,1,0)","v":0},0,null,null,null,null,null,0,null,0,0,0,0,0,0,0,null,null,0,0]
["Por consulta ITS",null,{"$f":"+E193+G193+I193+K193+M193+O193+Q193+S193+U193+W193+Y193+AA193+AC193+AE193+AG193+AI193","v":0},{"$f":"+F193+H193+J193+L193+N193+P193+R193+T193+V193+X193+Z193+AB193+AD193+AF193+AH193+AJ193","v":0},null,null,null,null,null,null,null,null,null,null,null,null,null,null,null,null,null,null,null,null,null,null,null,null,null,null,null,null,null,null,null,null,null,null,null,null,null,null,null,null,null,null,null,null,null,null,"",null,null,null,null,null,null,null,null,null,null,null,null,null,null,null,null,null,null,null,null,null,null,null,null,null,null,null,"","","",null,null,null,null,null,"",null,"","","","","","","",null,null,"","",null,null,null,null,null,null,null,null,null,0,0,0,null,null,null,null,null,0,null,0,0,0,0,0,0,0,null,null,0,0]
["Personas en control de regulación fecundidad, ginecológico, climaterio",null,{"$f":"+O194+Q194+S194+U194+W194+Y194+AA194+AC194+AE194+AG194+AI194","v":0},{"$f":"+P194+R194+T194+V194+X194+Z194+AB194+AD194+AF194+AH194+AJ194","v":0},null,null,null,null,null,null,null,null,null,null,null,null,null,null,null,null,null,null,null,null,null,null,null,null,null,null,null,null,null,null,null,null,null,null,null,null,null,null,null,null,null,null,null,null,null,null,"",null,null,null,null,null,null,null,null,null,null,null,null,null,null,null,null,null,null,null,null,null,null,null,null,null,null,null,"","","",null,null,null,null,null,"",null,"","","","","","","",null,null,"","",null,null,null,null,null,null,null,null,null,0,0,0,null,null,null,null,null,0,null,0,0,0,0,0,0,0,null,null,0,0]
["Personas EMP/EMPAM",null,{"$f":"+O195+Q195+S195+U195+W195+Y195+AA195+AC195+AE195+AG195+AI195","v":0},{"$f":"+P195+R195+T195+V195+X195+Z195+AB195+AD195+AF195+AH195+AJ195","v":0},null,null,null,null,null,null,null,null,null,null,null,null,null,null,null,null,null,null,null,null,null,null,null,null,null,null,null,null,null,null,null,null,null,null,null,null,null,null,null,null,null,null,null,null,null,null,"",null,null,null,null,null,null,null,null,null,null,null,null,null,null,null,null,null,null,null,null,null,null,null,null,null,null,null,"","","",null,null,null,null,null,"",null,"","","","","","","",null,null,"","",null,null,null,null,null,null,null,null,null,0,0,0,null,null,null,null,null,0,null,0,0,0,0,0,0,0,null,null,0,0]
["Personas en control de salud según ciclo vital",null,{"$f":"+E196+G196+I196+K196+M196+O196+Q196+S196+U196+W196+Y196+AA196+AC196+AE196+AG196+AI196","v":0},{"$f":"+F196+H196+J196+L196+N196+P196+R196+T196+V196+X196+Z196+AB196+AD196+AF196+AH196+AJ196","v":0},null,null,null,null,null,null,null,null,null,null,null,null,null,null,null,null,null,null,null,null,null,null,null,null,null,null,null,null,null,null,null,null,null,null,null,null,null,null,null,null,null,null,null,null,null,null,"",null,null,null,null,null,null,null,null,null,null,null,null,null,null,null,null,null,null,null,null,null,null,null,null,null,null,null,"","","",null,null,null,null,null,"",null,"","","","","","","",null,null,"","",null,null,null,null,null,null,null,null,null,0,0,0,null,null,null,null,null,0,null,0,0,0,0,0,0,0,null,null,0,0]
["Donantes","Altruista nuevo",{"$f":"+O197+Q197+S197+U197+W197+Y197+AA197+AC197+AE197+AG197","v":0},0,null,null,null,null,null,null,null,null,null,null,null,null,null,null,null,null,null,null,null,null,null,null,null,null,null,null,null,null,null,null,null,null,null,null,null,null,null,null,null,null,null,null,null,null,null,null,{"$f":"$CA197&CB197&$CC197&CD197&CE197&CF197&CG197&CH197&CI197&CJ197&CK197&CL197&CM197&CN197&CO197&CP197&CQ197&CR197&CS197","v":""},null,null,null,null,null,null,null,null,null,null,null,null,null,null,null,null,null,null,null,null,null,null,null,null,null,null,null,"","","",null,null,null,null,null,"",null,"","","","","","","",null,null,null,null,null,null,null,null,null,null,null,null,null,0,0,0,null,null,null,null,null,0,null,0,0,0,0,0,0,0]
[null,"Altruista repetido",0,0,null,null,null,null,null,null,null,null,null,null,null,null,null,null,null,null,null,null,null,null,null,null,null,null,null,null,null,null,null,null,null,null,null,null,null,null,null,null,null,null,null,null,null,null,null,null,{"$f":"$CA198&CB198&$CC198&CD198&CE198&CF198&CG198&CH198&CI198&CJ198&CK198&CL198&CM198&CN198&CO198&CP198&CQ198&CR198&CS198","v":""},null,null,null,null,null,null,null,null,null,null,null,null,null,null,null,null,null,null,null,null,null,null,null,null,null,null,null,"","","",null,null,null,null,null,"",null,"","","","","","","",null,null,null,null,null,null,null,null,null,null,null,null,null,0,0,0,null,null,null,null,null,0,null,0,0,0,0,0,0,0]
[null,"Familiar o Reposición",0,0,null,null,null,null,null,null,null,null,null,null,null,null,null,null,null,null,null,null,null,null,null,null,null,null,null,null,null,null,null,null,null,null,null,null,null,null,null,null,null,null,null,null,null,null,null,null,{"$f":"$CA199&CB199&$CC199&CD199&CE199&CF199&CG199&CH199&CI199&CJ199&CK199&CL199&CM199&CN199&CO199&CP199&CQ199&CR199&CS199","v":""},null,null,null,null,null,null,null,null,null,null,null,null,null,null,null,null,null,null,null,null,null,null,null,null,null,null,null,"","","",null,null,null,null,null,"",null,"","","","","","","",null,null,null,null,null,null,null,null,null,null,null,null,null,0,0,0,null,null,null,null,null,0,null,0,0,0,0,0,0,0]
["Donantes de órganos y/o tejidos",null,{"$f":"+E200+G200+I200+K200+M200+O200+Q200+S200+U200+W200+Y200+AA200+AC200+AE200+AG200+AI200","v":0},0,null,null,null,null,null,null,null,null,null,null,null,null,null,null,null,null,null,null,null,null,null,null,null,null,null,null,null,null,null,null,null,null,null,null,null,null,null,null,null,null,null,null,null,null,null,null,"",null,null,null,null,null,null,null,null,null,null,null,null,null,null,null,null,null,null,null,null,null,null,null,null,null,null,null,"","","",null,null,null,null,null,"",null,"","","","","","","",null,null,{"$f":"IF(AND((M200+O200)>0,AW200=\"\"),\"* No olvide digitar la variable 14-18 años Procesados. Si no tiene digite Cero.\",IF(AW200>(M200+O200),\"* El Total de Procesados de 14-18 años NO DEBE ser mayor al Total de Procesados registrados en los grupos de edad 10 a 14 y 15 a 19 años. \",\"\"))","v":""},{"$f":"IF(AND((N200+P200)>0,AX200=\"\"),\"* No olvide digitar la variable 14-18 años Confirmados. Si no tiene digite Cero.\",IF(AX200>(N200+P200),\"* El Total de Confirmados de 14-18 años NO DEBE ser mayor al Total de Confirmados registrados en los grupos de edad 10 a 14 y 15 a 19 años. \",\"\"))","v":""},null,null,null,null,null,null,null,null,null,0,0,0,null,null,null,null,null,0,null,0,0,0,0,0,0,0,null,null,{"$f":"IF(AND((M200+O200)>0,AW200=\"\"),1,IF(AW200>(M200+O200),1,0))","v":0},0]
["Persona en control por TBC",null,0,0,null,null,null,null,null,null,null,null,null,null,null,null,null,null,null,null,null,null,null,null,null,null,null,null,null,null,null,null,null,null,null,null,null,null,null,null,null,null,null,null,null,null,null,null,null,null,{"$f":"$CA201&CB201&$CC201&CD201&CE201&CF201&CG201&CH201&CI201&CJ201&CK201&CL201&CM201&CN201&CO201&CP201&CQ201&CR201&CS201&CT201&CU201","v":""},null,null,null,null,null,null,null,null,null,null,null,null,null,null,null,null,null,null,null,null,null,null,null,null,null,null,null,"","","",null,null,null,null,null,"",null,"","","","","","","",null,null,"","",null,null,null,null,null,null,null,null,null,0,0,0,null,null,null,null,null,0,null,0,0,0,0,0,0,0,null,null,0,0]
["Víctima de violencia sexual",null,0,{"$f":"+F202+H202+J202+L202+N202+P202+R202+T202+V202+X202+Z202+AB202+AD202+AF202+AH202+AJ202","v":0},null,null,null,null,null,null,null,null,null,null,null,null,null,null,null,null,null,null,null,null,null,null,null,null,null,null,null,null,null,null,null,null,null,null,null,null,null,null,null,null,null,null,null,null,null,null,"",null,null,null,null,null,null,null,null,null,null,null,null,null,null,null,null,null,null,null,null,null,null,null,null,null,null,null,"","","",null,null,null,null,null,"",null,"","","","","","","",null,null,"","",null,null,null,null,null,null,null,null,null,0,0,0,null,null,null,null,null,0,null,0,0,0,0,0,0,0,null,null,0,0]
["Pareja serodiscordante",null,{"$f":"+O203+Q203+S203+U203+W203+Y203+AA203+AC203+AE203+AG203+AI203","v":0},0,null,null,null,null,null,null,null,null,null,null,null,null,null,null,null,null,null,null,null,null,null,null,null,null,null,null,null,null,null,null,null,null,null,null,null,null,null,null,null,null,null,null,null,null,null,null,"",null,null,null,null,null,null,null,null,null,null,null,null,null,null,null,null,null,null,null,null,null,null,null,null,null,null,null,"","","",null,null,null,null,null,"",null,"","","","","","","",null,null,"","",null,null,null,null,null,null,null,null,null,0,0,0,null,null,null,null,null,0,null,0,0,0,0,0,0,0,null,null,0,0]
["Pareja de gestante VIH positivo",null,0,0,null,null,null,null,null,null,null,null,null,null,null,null,null,null,null,null,null,null,null,null,null,null,null,null,null,null,null,null,null,null,null,null,null,null,null,null,null,null,null,null,null,null,null,null,null,null,"",null,null,null,null,null,null,null,null,null,null,null,null,null,null,null,null,null,null,null,null,null,null,null,null,null,null,null,"","","",null,null,null,null,null,"",null,"","","","","","","",null,null,"","",null,null,null,null,null,null,null,null,null,0,0,0,null,null,null,null,null,0,null,0,0,0,0,0,0,0,null,null,0,0]
["Personal de salud expuesto a accidente cortopunzante",null,0,0,null,null,null,null,null,null,null,null,null,null,null,null,null,null,null,null,null,null,null,null,null,null,null,null,null,null,null,null,null,null,null,null,null,null,null,null,null,null,null,null,null,null,null,null,null,null,"",null,null,null,null,null,null,null,null,null,null,null,null,null,null,null,null,null,null,null,null,null,null,null,null,null,null,null,"","","",null,null,null,null,null,"",null,"","","","","","","",null,null,"","",null,null,null,null,null,null,null,null,null,0,0,0,null,null,null,null,null,0,null,0,0,0,0,0,0,0,null,null,0,0]
["Pacientes fuente de accidente cortopunzante",null,{"$f":"+E206+G206+I206+K206+M206+O206+Q206+S206+U206+W206+Y206+AA206+AC206+AE206+AG206+AI206","v":0},0,null,null,null,null,null,null,null,null,null,null,null,null,null,null,null,null,null,null,null,null,null,null,null,null,null,null,null,null,null,null,null,null,null,null,null,null,null,null,null,null,null,null,null,null,null,null,"",null,null,null,null,null,null,null,null,null,null,null,null,null,null,null,null,null,null,null,null,null,null,null,null,null,null,null,"","","",null,null,null,null,null,"",null,"","","","","","","",null,null,"","",null,null,null,null,null,null,null,null,null,0,0,0,null,null,null,null,null,0,null,0,0,0,0,0,0,0,null,null,0,0]
["Persona en control por Hepatitis B",null,0,0,null,null,null,null,null,null,null,null,null,null,null,null,null,null,null,null,null,null,null,null,null,null,null,null,null,null,null,null,null,null,null,null,null,null,null,null,null,null,null,null,null,null,null,null,null,null,"",null,null,null,null,null,null,null,null,null,null,null,null,null,null,null,null,null,null,null,null,null,null,null,null,null,null,null,"","","",null,null,null,null,null,"",null,"","","","","","","",null,null,"","",null,null,null,null,null,null,null,null,null,0,0,0,null,null,null,null,null,0,null,0,0,0,0,0,0,0,null,null,0,0]
["Persona en control por Hepatitis C",null,0,0,null,null,null,null,null,null,null,null,null,null,null,null,null,null,null,null,null,null,null,null,null,null,null,null,null,null,null,null,null,null,null,null,null,null,null,null,null,null,null,null,null,null,null,null,null,null,"",null,null,null,null,null,null,null,null,null,null,null,null,null,null,null,null,null,null,null,null,null,null,null,null,null,null,null,"","","",null,null,null,null,null,"",null,"","","","","","","",null,null,"","",null,null,null,null,null,null,null,null,null,0,0,0,null,null,null,null,null,0,null,0,0,0,0,0,0,0,null,null,0,0]
["Consultantes por morbilidad",null,0,0,null,null,null,null,null,null,null,null,null,null,null,null,null,null,null,null,null,null,null,null,null,null,null,null,null,null,null,null,null,null,null,null,null,null,null,null,null,null,null,null,null,null,null,null,null,null,"",null,null,null,null,null,null,null,null,null,null,null,null,null,null,null,null,null,null,null,null,null,null,null,null,null,null,null,"","","",null,null,null,null,null,"",null,"","","","","","","",null,null,"","",null,null,null,null,null,null,null,null,null,0,0,0,null,null,null,null,null,0,null,0,0,0,0,0,0,0,null,null,0,0]
["Por consulta espontánea",null,0,0,null,null,null,null,null,null,null,null,null,null,null,null,null,null,null,null,null,null,null,null,null,null,null,null,null,null,null,null,null,null,null,null,null,null,null,null,null,null,null,null,null,null,null,null,null,null,"",null,null,null,null,null,null,null,null,null,null,null,null,null,null,null,null,null,null,null,null,null,null,null,null,null,null,null,"","","",null,null,null,null,null,"",null,"","","","","","","",null,null,"","",null,null,null,null,null,null,null,null,null,0,0,0,null,null,null,null,null,0,null,0,0,0,0,0,0,0,null,null,0,0]
["SECCIÓN D: EXÁMENES DE GONORREA POR GRUPOS DE USUARIOS "]
["GRUPO DE USUARIOS","TOTAL",null,"RANGO ETARIO",null,null,null,null,null,null,null,null,null,null,null,null,null,null,null,null,null,null,null,null,null,null,null,null,null,null,null,null,null,null,null,null,null,"POR SEXO\n(Procesados)",null,"TRANS",null,"Pueblos Originarios","Migrantes"]
[null,null,null,"0 - 4 años",null,"5 - 9 años",null,"10 - 14 años",null,"15 - 19 años",null,"20 - 24 años",null,"25 - 29 años",null,"30 - 34 años",null,"35 - 39 años",null,"40 - 44 años",null,"45 - 49 años",null,"50 - 54 años",null,"55 - 59 años",null,"60 - 64 años",null,"65 - 69 años",null,"70 - 74 años",null,"75 - 79 años",null,"80 y más años",null,"Hombres","Mujeres","Masculino","Femenino"]
[null,"Procesados","Reactivos","Procesados","Reactivos","Procesados","Reactivos","Procesados","Reactivos","Procesados","Reactivos","Procesados","Reactivos","Procesados","Reactivos","Procesados","Reactivos","Procesados","Reactivos","Procesados","Reactivos","Procesados","Reactivos","Procesados","Reactivos","Procesados","Reactivos","Procesados","Reactivos","Procesados","Reactivos","Procesados","Reactivos","Procesados","Reactivos","Procesados","Reactivos"]
["Gestantes",{"$f":"SUM(H215+J215+L215+N215+P215+R215+T215+V215+X215)","v":0},{"$f":"SUM(I215+K215+M215+O215+Q215+S215+U215+W215+Y215)","v":0},null,null,null,null,null,null,null,null,null,null,null,null,null,null,null,null,null,null,null,null,null,null,null,null,null,null,null,null,null,null,null,null,null,null,null,null,null,null,null,null,{"$f":"$CA215&CB215&CC215&CD215&CE215&CG215&CF215&CH215&CI215","v":""},null,null,null,null,null,null,null,null,null,null,null,null,null,null,null,null,null,null,null,null,null,null,null,null,null,null,null,null,null,null,null,null,null,null,{"$f":"IF(C215>B215,\" * El Total de Exámenes reactivos NO DEBE SUPERAR los  Exámenes Procesados. \",\"\")","v":""},{"$f":"IF(DF215=1,\" * El número de Exámenes por Sexo (Procesados) No puede ser distinto al Total de Procesados. \",\"\")","v":""},null,null,null,{"$f":"IF(DJ215=1,\" * El número de Migrantes Confirmados positivos por ISP NO PUEDE Superar al número de Migrantes Procesados. \",\"\")","v":""},{"$f":"IF(AND(B215>0,AND(AN215=\"\",AO215=\"\")),\" * No olvide digitar Trans Masculino o Femenino. Digite Cero si no tiene.\",IF((AN215+AO215)>B215,\" * El N° de exámenes a Trans no puede ser mayor al Total de procesados.\",\"\"))","v":""},{"$f":"IF(AND(B215>0,AP215=\"\"),\" * No olvide digitar la variable pueblos originarios. Digite Cero si no tiene.\",IF(AP215>B215,\" * La variable Pueblos originarios no puede ser mayor al Total de procesados.\",\"\"))","v":""},{"$f":"IF(AND(B215>0,AQ215=\"\"),\" * No olvide digitar la variable Migrantes. Digite Cero si no tiene.\",IF(AQ215>B215,\" * La variable Migrantes no puede ser mayor al Total de procesados.\",\"\"))","v":""},null,null,null,null,null,null,null,null,null,null,null,null,null,null,null,null,null,null,null,null,null,{"$f":"IF(C215>B215,1,0)","v":0},{"$f":"IF(AM215<>B215,1,0)","v":0},null,null,null,{"$f":"IF(AV215>AU215,1,0)","v":0},null,{"$f":"IF(AND(B215>0,AND(AN215=\"\",AO215=\"\")),1,IF((AN215+AO215)>B215,1,0))","v":0},{"$f":"IF(AND(B215>0,AP215=\"\"),1,IF(AP215>B215,1,0))","v":0},{"$f":"IF(AND(B215>0,AQ215=\"\"),1,IF(AQ215>B215,1,0))","v":0}]
["Comercio sexual",{"$f":"SUM(J216+L216+N216+P216+R216+T216+V216+X216+Z216+AB216+AD216+AF216+AH216+AJ216)","v":0},{"$f":"SUM(I216+K216+M216+O216+Q216+S216+U216+W216+Y216+AA216+AC216+AE216+AG216+AI216+AK216)","v":0},null,null,null,null,null,null,null,null,null,null,null,null,null,null,null,null,null,null,null,null,null,null,null,null,null,null,null,null,null,null,null,null,null,null,null,null,null,null,null,null,{"$f":"$CA216&CB216&CC216&CD216&CE216&CG216&CF216&CH216&CI216","v":""},null,null,null,null,null,null,null,null,null,null,null,null,null,null,null,null,null,null,null,null,null,null,null,null,null,null,null,null,null,null,null,null,null,null,{"$f":"IF(C216>B216,\" * El Total de Exámenes reactivos NO DEBE SUPERAR los  Exámenes Procesados. \",\"\")","v":""},{"$f":"IF(DF216=1,\" * El número de Exámenes por Sexo (Procesados) No puede ser distinto al Total de Procesados. \",\"\")","v":""},null,null,null,"",{"$f":"IF(AND(B216>0,AND(AN216=\"\",AO216=\"\")),\" * No olvide digitar Trans Masculino o Femenino. Digite Cero si no tiene.\",IF((AN216+AO216)>B216,\" * El N° de exámenes a Trans no puede ser mayor al Total de procesados.\",\"\"))","v":""},{"$f":"IF(AND(B216>0,AP216=\"\"),\" * No olvide digitar la variable pueblos originarios. Digite Cero si no tiene.\",IF(AP216>B216,\" * La variable Pueblos originarios no puede ser mayor al Total de procesados.\",\"\"))","v":""},{"$f":"IF(AND(B216>0,AQ216=\"\"),\" * No olvide digitar la variable Migrantes. Digite Cero si no tiene.\",IF(AQ216>B216,\" * La variable Migrantes no puede ser mayor al Total de procesados.\",\"\"))","v":""},null,null,null,null,null,null,null,null,null,null,null,null,null,null,null,null,null,null,null,null,null,{"$f":"IF(C216>B216,1,0)","v":0},{"$f":"IF((AL216+AM216)<>B216,1,0)","v":0},null,null,null,0,null,{"$f":"IF(AND(B216>0,AND(AN216=\"\",AO216=\"\")),1,IF((AN216+AO216)>B216,1,0))","v":0},{"$f":"IF(AND(B216>0,AP216=\"\"),1,IF(AP216>B216,1,0))","v":0},{"$f":"IF(AND(B216>0,AQ216=\"\"),1,IF(AQ216>B216,1,0))","v":0}]
["Personas VIH (+)",{"$f":"SUM(D217+F217+H217+J217+L217+N217+P217+R217+T217+V217+X217+Z217+AB217+AD217+AF217+AH217+AJ217)","v":0},0,null,null,null,null,null,null,null,null,null,null,null,null,null,null,null,null,null,null,null,null,null,null,null,null,null,null,null,null,null,null,null,null,null,null,null,null,null,null,null,null,"",null,null,null,null,null,null,null,null,null,null,null,null,null,null,null,null,null,null,null,null,null,null,null,null,null,null,null,null,null,null,null,null,null,null,"","",null,null,null,"","","","",null,null,null,null,null,null,null,null,null,null,null,null,null,null,null,null,null,null,null,null,null,0,{"$f":"IF((AL217+AM217)<>B217,1,0)","v":0},null,null,null,0,null,0,0,0]
["Consultante ITS ambulatorio (Nivel 1º y 2º)",0,{"$f":"SUM(E218+G218+I218+K218+M218+O218+Q218+S218+U218+W218+Y218+AA218+AC218+AE218+AG218+AI218+AK218)","v":0},null,null,null,null,null,null,null,null,null,null,null,null,null,null,null,null,null,null,null,null,null,null,null,null,null,null,null,null,null,null,null,null,null,null,null,null,null,null,null,null,"",null,null,null,null,null,null,null,null,null,null,null,null,null,null,null,null,null,null,null,null,null,null,null,null,null,null,null,null,null,null,null,null,null,null,"","",null,null,null,"","","","",null,null,null,null,null,null,null,null,null,null,null,null,null,null,null,null,null,null,null,null,null,0,0,null,null,null,0,null,0,0,0]
["Consultante ITS hospitalario (Nivel 3º y Urgencia)",0,{"$f":"SUM(E219+G219+I219+K219+M219+O219+Q219+S219+U219+W219+Y219+AA219+AC219+AE219+AG219+AI219+AK219)","v":0},null,null,null,null,null,null,null,null,null,null,null,null,null,null,null,null,null,null,null,null,null,null,null,null,null,null,null,null,null,null,null,null,null,null,null,null,null,null,null,null,"",null,null,null,null,null,null,null,null,null,null,null,null,null,null,null,null,null,null,null,null,null,null,null,null,null,null,null,null,null,null,null,null,null,null,"","",null,null,null,"","","","",null,null,null,null,null,null,null,null,null,null,null,null,null,null,null,null,null,null,null,null,null,0,0,null,null,null,0,null,0,0,0]
["Víctima de violencia sexual",{"$f":"SUM(D220+F220+H220+J220+L220+N220+P220+R220+T220+V220+X220+Z220+AB220+AD220+AF220+AH220+AJ220)","v":0},0,null,null,null,null,null,null,null,null,null,null,null,null,null,null,null,null,null,null,null,null,null,null,null,null,null,null,null,null,null,null,null,null,null,null,null,null,null,null,null,null,"",null,null,null,null,null,null,null,null,null,null,null,null,null,null,null,null,null,null,null,null,null,null,null,null,null,null,null,null,null,null,null,null,null,null,"","",null,null,null,"","","","",null,null,null,null,null,null,null,null,null,null,null,null,null,null,null,null,null,null,null,null,null,0,0,null,null,null,0,null,0,0,0]
["Otros",{"$f":"SUM(D221+F221+H221+J221+L221+N221+P221+R221+T221+V221+X221+Z221+AB221+AD221+AF221+AH221+AJ221)","v":0},0,null,null,null,null,null,null,null,null,null,null,null,null,null,null,null,null,null,null,null,null,null,null,null,null,null,null,null,null,null,null,null,null,null,null,null,null,null,null,null,null,"",null,null,null,null,null,null,null,null,null,null,null,null,null,null,null,null,null,null,null,null,null,null,null,null,null,null,null,null,null,null,null,null,null,null,"","",null,null,null,"","","","",null,null,null,null,null,null,null,null,null,null,null,null,null,null,null,null,null,null,null,null,null,0,0,null,null,null,0,null,0,0,0]
["SECCIÓN E: EXÁMENES DE CHLAMYIDIA TRACHOMATIS POR GRUPOS DE USUARIOS "]
["GRUPO DE USUARIOS","TOTAL",null,"RANGO ETARIO",null,null,null,null,null,null,null,null,null,null,null,null,null,null,null,null,null,null,null,null,null,null,null,null,null,null,null,null,null,null,null,null,null,"POR SEXO (Procesados)",null,"TRANS",null,"Pueblos Originarios","Migrantes"]
[null,null,null,"0 - 4 años",null,"5 - 9 años",null,"10 - 14 años",null,"15 - 19 años",null,"20 - 24 años",null,"25 - 29 años",null,"30 - 34 años",null,"35 - 39 años",null,"40 - 44 años",null,"45 - 49 años",null,"50 - 54 años",null,"55 - 59 años",null,"60 - 64 años",null,"65 - 69 años",null,"70 - 74 años",null,"75 - 79 años",null,"80 y más años",null,"Hombres","Mujeres","Masculino","Femenino"]
[null,"Procesados","Reactivos","Procesados","Reactivos","Procesados","Reactivos","Procesados","Reactivos","Procesados","Reactivos","Procesados","Reactivos","Procesados","Reactivos","Procesados","Reactivos","Procesados","Reactivos","Procesados","Reactivos","Procesados","Reactivos","Procesados","Reactivos","Procesados","Reactivos","Procesados","Reactivos","Procesados","Reactivos","Procesados","Reactivos","Procesados","Reactivos","Procesados","Reactivos"]
["Gestantes",{"$f":"SUM(D226+F226+H226+J226+L226+N226+P226+R226+T226+V226+X226+Z226+AB226+AD226+AF226+AH226+AJ226)","v":0},{"$f":"SUM(E226+G226+I226+K226+M226+O226+Q226+S226+U226+W226+Y226+AA226+AC226+AE226+AG226+AI226+AK226)","v":0},null,null,null,null,null,null,null,null,null,null,null,null,null,null,null,null,null,null,null,null,null,null,null,null,null,null,null,null,null,null,null,null,null,null,null,null,null,null,null,null,{"$f":"$CA226&CB226&CC226&CD226&CE226&CG226&CF226","v":""},null,null,null,null,null,null,null,null,null,null,null,null,null,null,null,null,null,null,null,null,null,null,null,null,null,null,null,null,null,null,null,null,null,null,{"$f":"IF(C226>B226,\" * El Total de Exámenes reactivos NO DEBE SUPERAR los  Exámenes Procesados. \",\"\")","v":""},{"$f":"IF(B226<>(AL226+AM226),\" * La suma de las columnas POR SEXO (Procesados) debe ser igual al N° de exámenes procesados de CHLAMYIDIA TRACHOMATIS.\",\"\")","v":""},{"$f":"IF(AND(B226>0,AND(AN226=\"\",AO226=\"\")),\" * No olvide digitar la variable Trans (femenino o masculino). Digite cero si no tiene.\",IF((AN226+AO226)>B226,\" *  La suma de exámenes a Trans no puede ser mayor que el Total de exámenes procesados de CHLAMYIDIA TRACHOMATIS.\",\"\"))","v":""},{"$f":"IF(AND(B226>0,AP226=\"\"),\" * No olvide digitar la variable Pueblos originarios. Digite cero si no tiene.\",IF(AP226>B226,\" * La variable Pueblos originarios no puede ser mayor que el total de procesados.\",\"\"))","v":""},{"$f":"IF(AND(B226>0,AQ226=\"\"),\" * No olvide digitar la variable Migrantes. Digite cero si no tiene.\",IF(AQ226>B226,\" * La variable migrantes no puede ser mayor que el total de procesados.\",\"\"))","v":""},null,null,null,null,null,null,null,null,null,null,null,null,null,null,null,null,null,null,null,null,null,null,null,null,null,{"$f":"IF(C226>B226,1,0)","v":0},{"$f":"IF(B226<>(AL226+AM226),1,0)","v":0},{"$f":"IF(AND(B226>0,AND(AN226=\"\",AO226=\"\")),1,IF((AN226+AO226)>B226,1,0))","v":0},{"$f":"IF(AND(B226>0,AP226=\"\"),1,IF(AP226>B226,1,0))","v":0},{"$f":"IF(AND(B226>0,AQ226=\"\"),1,IF(AQ226>B226,1,0))","v":0}]
["Comercio sexual",{"$f":"SUM(D227+F227+H227+J227+L227+N227+P227+R227+T227+V227+X227+Z227+AB227+AD227+AF227+AH227+AJ227)","v":0},0,null,null,null,null,null,null,null,null,null,null,null,null,null,null,null,null,null,null,null,null,null,null,null,null,null,null,null,null,null,null,null,null,null,null,null,null,null,null,null,null,{"$f":"$CA227&CB227&CC227&CD227&CE227&CG227&CF227","v":""},null,null,null,null,null,null,null,null,null,null,null,null,null,null,null,null,null,null,null,null,null,null,null,null,null,null,null,null,null,null,null,null,null,null,{"$f":"IF(C227>B227,\" * El Total de Exámenes reactivos NO DEBE SUPERAR los  Exámenes Procesados. \",\"\")","v":""},"",{"$f":"IF(AND(B227>0,AND(AN227=\"\",AO227=\"\")),\" * No olvide digitar la variable Trans (femenino o masculino). Digite cero si no tiene.\",IF((AN227+AO227)>B227,\" *  La suma de exámenes a Trans no puede ser mayor que el Total de exámenes procesados de CHLAMYIDIA TRACHOMATIS.\",\"\"))","v":""},{"$f":"IF(AND(B227>0,AP227=\"\"),\" * No olvide digitar la variable Pueblos originarios. Digite cero si no tiene.\",IF(AP227>B227,\" * La variable Pueblos originarios no puede ser mayor que el total de procesados.\",\"\"))","v":""},{"$f":"IF(AND(B227>0,AQ227=\"\"),\" * No olvide digitar la variable Migrantes. Digite cero si no tiene.\",IF(AQ227>B227,\" * La variable migrantes no puede ser mayor que el total de procesados.\",\"\"))","v":""},null,null,null,null,null,null,null,null,null,null,null,null,null,null,null,null,null,null,null,null,null,null,null,null,null,{"$f":"IF(C227>B227,1,0)","v":0},{"$f":"IF(B227<>(AL227+AM227),1,0)","v":0},{"$f":"IF(AND(B227>0,AND(AN227=\"\",AO227=\"\")),1,IF((AN227+AO227)>B227,1,0))","v":0},{"$f":"IF(AND(B227>0,AP227=\"\"),1,IF(AP227>B227,1,0))","v":0},{"$f":"IF(AND(B227>0,AQ227=\"\"),1,IF(AQ227>B227,1,0))","v":0}]
["Personas VIH (+)",0,{"$f":"SUM(E228+G228+I228+K228+M228+O228+Q228+S228+U228+W228+Y228+AA228+AC228+AE228+AG228+AI228+AK228)","v":0},null,null,null,null,null,null,null,null,null,null,null,null,null,null,null,null,null,null,null,null,null,null,null,null,null,null,null,null,null,null,null,null,null,null,null,null,null,null,null,null,"",null,null,null,null,null,null,null,null,null,null,null,null,null,null,null,null,null,null,null,null,null,null,null,null,null,null,null,null,null,null,null,null,null,null,"","","","","",null,null,null,null,null,null,null,null,null,null,null,null,null,null,null,null,null,null,null,null,null,null,null,null,null,0,0,0,0,0]
["Consultante ITS ambulatorio (Nivel 1º y 2º)",0,{"$f":"SUM(E229+G229+I229+K229+M229+O229+Q229+S229+U229+W229+Y229+AA229+AC229+AE229+AG229+AI229+AK229)","v":0},null,null,null,null,null,null,null,null,null,null,null,null,null,null,null,null,null,null,null,null,null,null,null,null,null,null,null,null,null,null,null,null,null,null,null,null,null,null,null,null,"",null,null,null,null,null,null,null,null,null,null,null,null,null,null,null,null,null,null,null,null,null,null,null,null,null,null,null,null,null,null,null,null,null,null,"","","","","",null,null,null,null,null,null,null,null,null,null,null,null,null,null,null,null,null,null,null,null,null,null,null,null,null,0,0,0,0,0]
["Consultante ITS hospitalario (nivel 3º y Urgencia)",0,{"$f":"SUM(E230+G230+I230+K230+M230+O230+Q230+S230+U230+W230+Y230+AA230+AC230+AE230+AG230+AI230+AK230)","v":0},null,null,null,null,null,null,null,null,null,null,null,null,null,null,null,null,null,null,null,null,null,null,null,null,null,null,null,null,null,null,null,null,null,null,null,null,null,null,null,null,"",null,null,null,null,null,null,null,null,null,null,null,null,null,null,null,null,null,null,null,null,null,null,null,null,null,null,null,null,null,null,null,null,null,null,"","","","","",null,null,null,null,null,null,null,null,null,null,null,null,null,null,null,null,null,null,null,null,null,null,null,null,null,0,0,0,0,0]
["Víctima de violencia sexual",0,0,null,null,null,null,null,null,null,null,null,null,null,null,null,null,null,null,null,null,null,null,null,null,null,null,null,null,null,null,null,null,null,null,null,null,null,null,null,null,null,null,"",null,null,null,null,null,null,null,null,null,null,null,null,null,null,null,null,null,null,null,null,null,null,null,null,null,null,null,null,null,null,null,null,null,null,"","","","","",null,null,null,null,null,null,null,null,null,null,null,null,null,null,null,null,null,null,null,null,null,null,null,null,null,0,0,0,0,0]
["Otros",0,0,null,null,null,null,null,null,null,null,null,null,null,null,null,null,null,null,null,null,null,null,null,null,null,null,null,null,null,null,null,null,null,null,null,null,null,null,null,null,null,null,"",null,null,null,null,null,null,null,null,null,null,null,null,null,null,null,null,null,null,null,null,null,null,null,null,null,null,null,null,null,null,null,null,null,null,"","","","","",null,null,null,null,null,null,null,null,null,null,null,null,null,null,null,null,null,null,null,null,null,null,null,null,null,0,0,0,0,0]
["SECCIÓN F: EXÁMENES  DE  VIH POR TECNICA VISUAL/RAPIDA Y GRUPOS DE USUARIOS (USO EXCLUSIVO DE ESTABLECIMIENTOS NO LABORATORIOS)"]
["GRUPOS DE USUARIOS POR INSTANCIA",null,"TOTAL",null,"RANGO ETARIO",null,null,null,null,null,null,null,null,null,null,null,null,null,null,null,null,null,null,null,null,null,null,null,null,null,null,null,null,null,null,null,"POR SEXO",null,null,null,"TRANS",null,null,null,"Pueblos originarios",null,"Migrantes",null,"14-18 años"]
[null,null,null,null,"Menos de 12 meses",null,"12-24 meses",null,"3 - 4 años",null,"5 - 9 años",null,"10 - 14 años",null,"15 - 19 años",null,"20 - 24 años",null,"25 - 29 años",null,"30 - 34 años",null,"35 - 39 años",null,"40 - 44 años",null,"45 - 49 años",null,"50 - 54 años",null,"55 - 59 años",null,"60 - 64 años",null,"65 y Mas años",null,"Hombres",null,"Mujeres",null,"Masculino",null,"Femenino"]
[null,null,"Procesados","Confirmados positivos por ISP","Procesados","Confirmados positivos por ISP","Procesados","Confirmados positivos por ISP","Procesados","Confirmados positivos por ISP","Procesados","Confirmados positivos por ISP","Procesados","Confirmados positivos por ISP","Procesados","Confirmados positivos por ISP","Procesados","Confirmados positivos por ISP","Procesados","Confirmados positivos por ISP","Procesados","Confirmados positivos por ISP","Procesados","Confirmados positivos por ISP","Procesados","Confirmados positivos por ISP","Procesados","Confirmados positivos por ISP","Procesados","Confirmados positivos por ISP","Procesados","Confirmados positivos por ISP","Procesados","Confirmados positivos por ISP","Procesados","Confirmados positivos por ISP","Procesados","Confirmados positivos por ISP","Procesados","Confirmados positivos por ISP","Procesados","Confirmados positivos por ISP","Procesados","Confirmados positivos por ISP","Procesados","Confirmados positivos por ISP","Procesados","Confirmados positivos por ISP","Procesados","Confirmados positivos por ISP"]
["Interior establecimiento salud (intramuro)","Gestantes primer examen",{"$f":"+M237+O237+Q237+S237+U237+W237+Y237+AA237+AC237","v":0},{"$f":"+N237+P237+R237+T237+V237+X237+Z237+AB237+AD237","v":0},null,null,null,null,null,null,null,null,null,null,null,null,null,null,null,null,null,null,null,null,null,null,null,null,null,null,null,null,null,null,null,null,null,null,null,null,null,null,null,null,null,null,null,null,null,null,{"$f":"$CA237&$CC237&CD237&CE237&CF237&CG237&CH237&CI237&CJ237&CK237&CL237&CM237&CN237&CO237&CP237&CQ237&CR237&CS237&CT237&CU237&CV237&CW237","v":""},null,null,null,null,null,null,null,null,null,null,null,null,null,null,null,null,null,null,null,null,null,null,null,null,null,null,null,{"$f":"IF(D237>C237,\" * El Total de Exámenes Confirmados Positivos por ISP NO DEBE SUPERAR los  Exámene Procesados. \",\"\")","v":""},null,{"$f":"IF(AN237>AM237,\" * El número de Exámenes por Sexo Mujeres Confirmados positivos por ISP NO PUEDE Superar al número de Procesados. \",\"\")","v":""},null,null,null,null,null,{"$f":"IF(AND(C237>0,AND(AO237=\"\",AQ237=\"\")),\" * No olvide digitar los exámenes procesados Trans (Masculino y femenino) Digite Cero si no tiene.\",IF((AO237+AQ237)>C237,\" * Los exámenes procesados en Trans (Masculino y femenino) no pueden ser mayor que el total de exámenes procesados.\",\"\"))","v":""},null,{"$f":"IF((AM237+AK237)<>C237,\" * El N° de exámenes Procesados por SEXO (Hombres + Mujeres) no puede ser distinto al Total de exámenes procesados\",\"\")","v":""},{"$f":"IF((AN237+AL237)<>D237,\" * El N° de exámenes Confirmados positivos por ISP por Sexo (Hombres+Mujeres) no puede ser distinto al N° Total de exámenes Confirmados positivos por ISP \",\"\")","v":""},{"$f":"IF(AND(C237>0,AS237=\"\"),\" * No olvide digitar los exámenes Procesados de Pueblos Originarios. Digite Cero si no tiene.\",IF(AS237>C237,\" * Los exámenes procesados Pueblos originarios no pueden ser mayor que el total de exámenes procesados.\",\"\"))","v":""},{"$f":"IF(AND(C237>0,AU237=\"\"),\" * No olvide digitar los examenes Procesados de Migrantes. Digite Cero si no tiene.\",IF(AU237>C237,\" * Los exámenes procesados de Migrantes no pueden ser mayor que el total de exámenes procesados.\",\"\"))","v":""},{"$f":"IF(AND(D237>0,OR(AP237=\"\",AR237=\"\")),\" * No olvide digitar los exámenes Confirmados positivos por ISP de Trans (Masculino y femenino) Digite Cero si no tiene.\",IF((AP237+AR237)>D237,\" * Los exámenes confirmados positivos por ISP de Trans (Masculino y femenino) no pueden ser mayor que el total de exámenes Confirmados positivos por ISP.\",\"\"))","v":""},{"$f":"IF(AND(D237>0,AT237=\"\"),\" * No olvide digitar los exámenes Confirmados positivos por ISP de Pueblos Originarios. Digite Cero si no tiene.\",IF(AT237>D237,\" * Los exámenes Confirmados positivos por ISP de Pueblos originarios no pueden ser mayor que el total de exámenes Procesados por ISP.\",\"\"))","v":""},{"$f":"IF(AND(D237>0,AV237=\"\"),\" * No olvide digitar los exámenes Confirmados positivos por ISP de Migrantes. Digite Cero si no tiene.\",IF(AV237>D237,\" * Los exámenes Confirmados positivos por ISP de Migrantes no pueden ser mayor que el total de exámenes Procesados por ISP.\",\"\"))","v":""},null,null,{"$f":"IF(AW237>(M237+O237),\"* El Total de Procesados de 14-18 años NO DEBE ser mayor al Total de Procesados registrados en los grupos de edad 10 a 14 y 15 a 19 años. \",\"\")","v":""},{"$f":"IF(AX237>(N237+P237),\"* El Total de Confirmados de 14-18 años NO DEBE ser mayor al Total de Confirmados registrados en los grupos de edad 10 a 14 y 15 a 19 años. \",\"\")","v":""},{"$f":"IF(AND((M237+O237)>0,AW237=\"\"),\"*No olvide digitar los Exámenes Procesados de 14-18 años. Digite cero si no tiene.\",\"\")","v":""},{"$f":"IF(AND((N237+P237)>0,AX237=\"\"),\"*No olvide digitar los Exámenes Confirmados Positivos por ISP de 14-18 años. Digite cero si no tiene.\",\"\")","v":""},null,null,null,null,null,null,null,{"$f":"IF(D237>C237,1,0)","v":0},null,{"$f":"IF(AN237>AM237,1,0)","v":0},null,null,null,null,null,{"$f":"IF(AND(C237>0,AND(AO237=\"\",AQ237=\"\")),1,IF((AO237+AQ237)>C237,1,0))","v":0},null,{"$f":"IF((AM237+AK237)<>C237,1,0)","v":0},{"$f":"IF((AN237+AL237)<>D237,1,0)","v":0},{"$f":"IF(AND(C237>0,AS237=\"\"),1,IF(AS237>C237,1,0))","v":0},{"$f":"IF(AND(C237>0,AU237=\"\"),1,IF(AU237>C237,1,0))","v":0},{"$f":"IF(AND(D237>0,OR(AP237=\"\",AR237=\"\")),1,IF((AP237+AR237)>D237,1,0))","v":0},{"$f":"IF(AND(D237>0,AT237=\"\"),1,IF(AT237>D237,1,0))","v":0},{"$f":"IF(AND(D237>0,AV237=\"\"),1,IF(AV237>D237,1,0))","v":0},null,null,{"$f":"IF(AW237>(M237+O237),1,0)","v":0},{"$f":"IF(AX237>(N237+P237),1,0)","v":0},{"$f":"IF(AND((M237+O237)>0,AW237=\"\"),1,0)","v":0},{"$f":"IF(AND((N237+P237)>0,AX237=\"\"),1,0)","v":0}]
[null,"Gestantes segundo examen",{"$f":"+M238+O238+Q238+S238+U238+W238+Y238+AA238+AC238","v":0},0,null,null,null,null,null,null,null,null,null,null,null,null,null,null,null,null,null,null,null,null,null,null,null,null,null,null,null,null,null,null,null,null,null,null,null,null,null,null,null,null,null,null,null,null,null,null,{"$f":"$CA238&$CC238&CD238&CE238&CF238&CG238&CH238&CI238&CJ238&CK238&CL238&CM238&CN238&CO238&CP238&CQ238&CR238&CS238&CT238&CU238&CV238&CW238","v":""},null,null,null,null,null,null,null,null,null,null,null,null,null,null,null,null,null,null,null,null,null,null,null,null,null,null,null,{"$f":"IF(D238>C238,\" * El Total de Exámenes Confirmados Positivos por ISP NO DEBE SUPERAR los  Exámene Procesados. \",\"\")","v":""},null,{"$f":"IF(AN238>AM238,\" * El número de Exámenes por Sexo Mujeres Confirmados positivos por ISP NO PUEDE Superar al número de Procesados. \",\"\")","v":""},null,null,null,null,null,{"$f":"IF(AND(C238>0,AND(AO238=\"\",AQ238=\"\")),\" * No olvide digitar los exámenes procesados Trans (Masculino y femenino) Digite Cero si no tiene.\",IF((AO238+AQ238)>C238,\" * Los exámenes procesados en Trans (Masculino y femenino) no pueden ser mayor que el total de exámenes procesados.\",\"\"))","v":""},null,{"$f":"IF((AM238+AK238)<>C238,\" * El N° de exámenes Procesados por SEXO (Hombres + Mujeres) no puede ser distinto al Total de exámenes procesados\",\"\")","v":""},{"$f":"IF((AN238+AL238)<>D238,\" * El N° de exámenes Confirmados positivos por ISP por Sexo (Hombres+Mujeres) no puede ser distinto al N° Total de exámenes Confirmados positivos por ISP \",\"\")","v":""},{"$f":"IF(AND(C238>0,AS238=\"\"),\" * No olvide digitar los exámenes Procesados de Pueblos Originarios. Digite Cero si no tiene.\",IF(AS238>C238,\" * Los exámenes procesados Pueblos originarios no pueden ser mayor que el total de exámenes procesados.\",\"\"))","v":""},{"$f":"IF(AND(C238>0,AU238=\"\"),\" * No olvide digitar los examenes Procesados de Migrantes. Digite Cero si no tiene.\",IF(AU238>C238,\" * Los exámenes procesados de Migrantes no pueden ser mayor que el total de exámenes procesados.\",\"\"))","v":""},{"$f":"IF(AND(D238>0,OR(AP238=\"\",AR238=\"\")),\" * No olvide digitar los exámenes Confirmados positivos por ISP de Trans (Masculino y femenino) Digite Cero si no tiene.\",IF((AP238+AR238)>D238,\" * Los exámenes confirmados positivos por ISP de Trans (Masculino y femenino) no pueden ser mayor que el total de exámenes Confirmados positivos por ISP.\",\"\"))","v":""},{"$f":"IF(AND(D238>0,AT238=\"\"),\" * No olvide digitar los exámenes Confirmados positivos por ISP de Pueblos Originarios. Digite Cero si no tiene.\",IF(AT238>D238,\" * Los exámenes Confirmados positivos por ISP de Pueblos originarios no pueden ser mayor que el total de exámenes Procesados por ISP.\",\"\"))","v":""},{"$f":"IF(AND(D238>0,AV238=\"\"),\" * No olvide digitar los exámenes Confirmados positivos por ISP de Migrantes. Digite Cero si no tiene.\",IF(AV238>D238,\" * Los exámenes Confirmados positivos por ISP de Migrantes no pueden ser mayor que el total de exámenes Procesados por ISP.\",\"\"))","v":""},null,null,{"$f":"IF(AW238>(M238+O238),\"* El Total de Procesados de 14-18 años NO DEBE ser mayor al Total de Procesados registrados en los grupos de edad 10 a 14 y 15 a 19 años. \",\"\")","v":""},{"$f":"IF(AX238>(N238+P238),\"* El Total de Confirmados de 14-18 años NO DEBE ser mayor al Total de Confirmados registrados en los grupos de edad 10 a 14 y 15 a 19 años. \",\"\")","v":""},{"$f":"IF(AND((M238+O238)>0,AW238=\"\"),\"*No olvide digitar los Exámenes Procesados de 14-18 años. Digite cero si no tiene.\",\"\")","v":""},{"$f":"IF(AND((N238+P238)>0,AX238=\"\"),\"*No olvide digitar los Exámenes Confirmados Positivos por ISP de 14-18 años. Digite cero si no tiene.\",\"\")","v":""},null,null,null,null,null,null,null,{"$f":"IF(D238>C238,1,0)","v":0},null,{"$f":"IF(AN238>AM238,1,0)","v":0},null,null,null,null,null,{"$f":"IF(AND(C238>0,AND(AO238=\"\",AQ238=\"\")),1,IF((AO238+AQ238)>C238,1,0))","v":0},null,{"$f":"IF((AM238+AK238)<>C238,1,0)","v":0},{"$f":"IF((AN238+AL238)<>D238,1,0)","v":0},{"$f":"IF(AND(C238>0,AS238=\"\"),1,IF(AS238>C238,1,0))","v":0},{"$f":"IF(AND(C238>0,AU238=\"\"),1,IF(AU238>C238,1,0))","v":0},{"$f":"IF(AND(D238>0,OR(AP238=\"\",AR238=\"\")),1,IF((AP238+AR238)>D238,1,0))","v":0},{"$f":"IF(AND(D238>0,AT238=\"\"),1,IF(AT238>D238,1,0))","v":0},{"$f":"IF(AND(D238>0,AV238=\"\"),1,IF(AV238>D238,1,0))","v":0},null,null,{"$f":"IF(AW238>(M238+O238),1,0)","v":0},{"$f":"IF(AX238>(N238+P238),1,0)","v":0},{"$f":"IF(AND((M238+O238)>0,AW238=\"\"),1,0)","v":0},{"$f":"IF(AND((N238+P238)>0,AX238=\"\"),1,0)","v":0}]
[null,"Mujer en trabajo de preparto o parto",0,{"$f":"+N239+P239+R239+T239+V239+X239+Z239+AB239+AD239","v":0},null,null,null,null,null,null,null,null,null,null,null,null,null,null,null,null,null,null,null,null,null,null,null,null,null,null,null,null,null,null,null,null,null,null,null,null,null,null,null,null,null,null,null,null,null,null,{"$f":"$CA239&$CC239&CD239&CE239&CF239&CG239&CH239&CI239&CJ239&CK239&CL239&CM239&CN239&CO239&CP239&CQ239&CR239&CS239&CT239&CU239&CV239&CW239","v":""},null,null,null,null,null,null,null,null,null,null,null,null,null,null,null,null,null,null,null,null,null,null,null,null,null,null,null,"",null,"",null,null,null,null,null,"",null,"","","","","","","",null,null,"","","","",null,null,null,null,null,null,null,0,null,0,null,null,null,null,null,0,null,0,0,0,0,0,0,0,null,null,0,0,0,0]
[null,"Personas en control por comercio sexual",{"$f":"+O240+Q240+S240+U240+W240+Y240+AA240+AC240+AE240+AG240+AI240","v":0},{"$f":"+P240+R240+T240+V240+X240+Z240+AB240+AD240+AF240+AH240+AJ240","v":0},null,null,null,null,null,null,null,null,null,null,null,null,null,null,null,null,null,null,null,null,null,null,null,null,null,null,null,null,null,null,null,null,null,null,null,null,null,null,null,null,null,null,null,null,null,null,{"$f":"$CA240&CB240&$CC240&CD240&CE240&CF240&CG240&CH240&CI240&CJ240&CK240&CL240&CM240&CN240&CO240&CP240&CQ240&CR240&CS240&CT240&CU240&CV240&CW240","v":""},null,null,null,null,null,null,null,null,null,null,null,null,null,null,null,null,null,null,null,null,null,null,null,null,null,null,null,"",{"$f":"IF(AL240>AK240,\" * El número de Exámenes por Sexo Hombres Confirmados positivos por ISP NO PUEDE Superar al número de Procesados. \",\"\")","v":""},"",null,null,null,null,null,"",null,"","","","","","","",null,null,"","","","",null,null,null,null,null,null,null,0,{"$f":"IF(AL240>AK240,1,0)","v":0},0,null,null,null,null,null,0,null,0,0,0,0,0,0,0,null,null,0,0,0,0]
[null,"Por consulta ITS",{"$f":"+E241+G241+I241+K241+M241+O241+Q241+S241+U241+W241+Y241+AA241+AC241+AE241+AG241+AI241","v":0},{"$f":"+F241+H241+J241+L241+N241+P241+R241+T241+V241+X241+Z241+AB241+AD241+AF241+AH241+AJ241","v":0},null,null,null,null,null,null,null,null,null,null,null,null,null,null,null,null,null,null,null,null,null,null,null,null,null,null,null,null,null,null,null,null,null,null,null,null,null,null,null,null,null,null,null,null,null,null,{"$f":"$CA241&CB241&$CC241&CD241&CE241&CF241&CG241&CH241&CI241&CJ241&CK241&CL241&CM241&CN241&CO241&CP241&CQ241&CR241&CS241&CT241&CU241&CV241&CW241","v":""},null,null,null,null,null,null,null,null,null,null,null,null,null,null,null,null,null,null,null,null,null,null,null,null,null,null,null,"",{"$f":"IF(AL241>AK241,\" * El número de Exámenes por Sexo Hombres Confirmados positivos por ISP NO PUEDE Superar al número de Procesados. \",\"\")","v":""},"",null,null,null,null,null,"",null,"","","","","","","",null,null,"","","","",null,null,null,null,null,null,null,0,{"$f":"IF(AL241>AK241,1,0)","v":0},0,null,null,null,null,null,0,null,0,0,0,0,0,0,0,null,null,0,0,0,0]
[null,"Personas en control de regulación fecundidad, ginecológico, climaterio",{"$f":"+M242+O242+Q242+S242+U242+W242+Y242+AA242+AC242+AE242+AG242+AI242","v":0},{"$f":"+N242+P242+R242+T242+V242+X242+Z242+AB242+AD242+AF242+AH242+AJ242","v":0},null,null,null,null,null,null,null,null,null,null,null,null,null,null,null,null,null,null,null,null,null,null,null,null,null,null,null,null,null,null,null,null,null,null,null,null,null,null,null,null,null,null,null,null,null,null,"",null,null,null,null,null,null,null,null,null,null,null,null,null,null,null,null,null,null,null,null,null,null,null,null,null,null,null,"","","",null,null,null,null,null,"",null,"","","","","","","",null,null,"","","","",null,null,null,null,null,null,null,0,0,0,null,null,null,null,null,0,null,0,0,0,0,0,0,0,null,null,0,0,0,0]
[null,"Personas EMP/EMPAM ",{"$f":"+O243+Q243+S243+U243+W243+Y243+AA243+AC243+AE243+AG243+AI243","v":0},{"$f":"+P243+R243+T243+V243+X243+Z243+AB243+AD243+AF243+AH243+AJ243","v":0},null,null,null,null,null,null,null,null,null,null,null,null,null,null,null,null,null,null,null,null,null,null,null,null,null,null,null,null,null,null,null,null,null,null,null,null,null,null,null,null,null,null,null,null,null,null,"",null,null,null,null,null,null,null,null,null,null,null,null,null,null,null,null,null,null,null,null,null,null,null,null,null,null,null,"","","",null,null,null,null,null,"",null,"","","","","","","",null,null,"","","","",null,null,null,null,null,null,null,0,0,0,null,null,null,null,null,0,null,0,0,0,0,0,0,0,null,null,0,0,0,0]
[null,"Personas en control de salud según ciclo vital",{"$f":"+E244+G244+I244+K244+M244+O244+Q244+S244+U244+W244+Y244+AA244+AC244+AE244+AG244+AI244","v":0},{"$f":"+F244+H244+J244+L244+N244+P244+R244+T244+V244+X244+Z244+AB244+AD244+AF244+AH244+AJ244","v":0},null,null,null,null,null,null,null,null,null,null,null,null,null,null,null,null,null,null,null,null,null,null,null,null,null,null,null,null,null,null,null,null,null,null,null,null,null,null,null,null,null,null,null,null,null,null,"",null,null,null,null,null,null,null,null,null,null,null,null,null,null,null,null,null,null,null,null,null,null,null,null,null,null,null,"","","",null,null,null,null,null,"",null,"","","","","","","",null,null,"","","","",null,null,null,null,null,null,null,0,0,0,null,null,null,null,null,0,null,0,0,0,0,0,0,0,null,null,0,0,0,0]
[null,"Donantes de órganos y/o tejidos",{"$f":"+M245+O245+Q245+S245+U245+W245+Y245+AA245+AC245+AE245+AG245+AI245","v":0},{"$f":"+N245+P245+R245+T245+V245+X245+Z245+AB245+AD245+AF245+AH245+AJ245","v":0},null,null,null,null,null,null,null,null,null,null,null,null,null,null,null,null,null,null,null,null,null,null,null,null,null,null,null,null,null,null,null,null,null,null,null,null,null,null,null,null,null,null,null,null,null,null,"",null,null,null,null,null,null,null,null,null,null,null,null,null,null,null,null,null,null,null,null,null,null,null,null,null,null,null,"","","",null,null,null,null,null,"",null,"","","","","","","",null,null,"","","","",null,null,null,null,null,null,null,0,0,0,null,null,null,null,null,0,null,0,0,0,0,0,0,0,null,null,0,0,0,0]
[null,"Persona en control por TBC",{"$f":"+M246+O246+Q246+S246+U246+W246+Y246+AA246+AC246+AE246+AG246+AI246","v":0},{"$f":"+N246+P246+R246+T246+V246+X246+Z246+AB246+AD246+AF246+AH246+AJ246","v":0},null,null,null,null,null,null,null,null,null,null,null,null,null,null,null,null,null,null,null,null,null,null,null,null,null,null,null,null,null,null,null,null,null,null,null,null,null,null,null,null,null,null,null,null,null,null,"",null,null,null,null,null,null,null,null,null,null,null,null,null,null,null,null,null,null,null,null,null,null,null,null,null,null,null,{"$f":"IF(D246>C246,\" * El Total de Exámenes Confirmados Positivos por ISP NO DEBE SUPERAR los  Exámene Procesados. \",\"\")","v":""},"","",null,null,null,null,null,"",null,"","","","","","","",null,null,{"$f":"IF(AW246>(M246+O246),\"* El Total de Procesados de 14-18 años NO DEBE ser mayor al Total de Procesados registrados en los grupos de edad 10 a 14 y 15 a 19 años. \",\"\")","v":""},{"$f":"IF(AX246>(N246+P246),\"* El Total de Confirmados de 14-18 años NO DEBE ser mayor al Total de Confirmados registrados en los grupos de edad 10 a 14 y 15 a 19 años. \",\"\")","v":""},"","",null,null,null,null,null,null,null,0,0,0,null,null,null,null,null,0,null,0,0,0,0,0,0,0,null,null,{"$f":"IF(AW246>(M246+O246),1,0)","v":0},{"$f":"IF(AX246>(N246+P246),1,0)","v":0},0,0]
[null,"Víctima de violencia sexual",{"$f":"+E247+G247+I247+K247+M247+O247+Q247+S247+U247+W247+Y247+AA247+AC247+AE247+AG247+AI247","v":0},{"$f":"+F247+H247+J247+L247+N247+P247+R247+T247+V247+X247+Z247+AB247+AD247+AF247+AH247+AJ247","v":0},null,null,null,null,null,null,null,null,null,null,null,null,null,null,null,null,null,null,null,null,null,null,null,null,null,null,null,null,null,null,null,null,null,null,null,null,null,null,null,null,null,null,null,null,null,null,"",null,null,null,null,null,null,null,null,null,null,null,null,null,null,null,null,null,null,null,null,null,null,null,null,null,null,null,{"$f":"IF(D247>C247,\" * El Total de Exámenes Confirmados Positivos por ISP NO DEBE SUPERAR los  Exámene Procesados. \",\"\")","v":""},"","",null,null,null,null,null,"",null,"","","","","","","",null,null,{"$f":"IF(AW247>(M247+O247),\"* El Total de Procesados de 14-18 años NO DEBE ser mayor al Total de Procesados registrados en los grupos de edad 10 a 14 y 15 a 19 años. \",\"\")","v":""},"","","",null,null,null,null,null,null,null,0,0,0,null,null,null,null,null,0,null,0,0,0,0,0,0,0,null,null,0,0,0,0]
[null,"Pareja serodiscordante",{"$f":"+O248+Q248+S248+U248+W248+Y248+AA248+AC248+AE248+AG248+AI248","v":0},{"$f":"+P248+R248+T248+V248+X248+Z248+AB248+AD248+AF248+AH248+AJ248","v":0},null,null,null,null,null,null,null,null,null,null,null,null,null,null,null,null,null,null,null,null,null,null,null,null,null,null,null,null,null,null,null,null,null,null,null,null,null,null,null,null,null,null,null,null,null,null,"",null,null,null,null,null,null,null,null,null,null,null,null,null,null,null,null,null,null,null,null,null,null,null,null,null,null,null,"","","",null,null,null,null,null,"",null,"","","","","","","",null,null,"","","","",null,null,null,null,null,null,null,0,0,0,null,null,null,null,null,0,null,{"$f":"IF((AM248+AK248)<>C248,1,0)","v":0},0,0,0,0,0,0,null,null,0,0,0,0]
[null,"Pareja de gestante VIH positivo",{"$f":"+M249+O249+Q249+S249+U249+W249+Y249+AA249+AC249+AE249+AG249+AI249","v":0},{"$f":"+N249+P249+R249+T249+V249+X249+Z249+AB249+AD249+AF249+AH249+AJ249","v":0},null,null,null,null,null,null,null,null,null,null,null,null,null,null,null,null,null,null,null,null,null,null,null,null,null,null,null,null,null,null,null,null,null,null,null,null,null,null,null,null,null,null,null,null,null,null,"",null,null,null,null,null,null,null,null,null,null,null,null,null,null,null,null,null,null,null,null,null,null,null,null,null,null,null,"","","",null,null,null,null,null,"",null,"","","","","","","",null,null,{"$f":"IF(AW249>(M249+O249),\"* El Total de Procesados de 14-18 años NO DEBE ser mayor al Total de Procesados registrados en los grupos de edad 10 a 14 y 15 a 19 años. \",\"\")","v":""},{"$f":"IF(AX249>(N249+P249),\"* El Total de Confirmados de 14-18 años NO DEBE ser mayor al Total de Confirmados registrados en los grupos de edad 10 a 14 y 15 a 19 años. \",\"\")","v":""},"","",null,null,null,null,null,null,null,0,0,0,null,null,null,null,null,0,null,0,0,0,0,0,0,0,null,null,{"$f":"IF(AW249>(M249+O249),1,0)","v":0},{"$f":"IF(AX249>(N249+P249),1,0)","v":0},0,0]
[null,"Personal de salud expuesto a accidente cortopunzante",{"$f":"+O250+Q250+S250+U250+W250+Y250+AA250+AC250+AE250+AG250+AI250","v":0},{"$f":"+P250+R250+T250+V250+X250+Z250+AB250+AD250+AF250+AH250+AJ250","v":0},null,null,null,null,null,null,null,null,null,null,null,null,null,null,null,null,null,null,null,null,null,null,null,null,null,null,null,null,null,null,null,null,null,null,null,null,null,null,null,null,null,null,null,null,null,null,"",null,null,null,null,null,null,null,null,null,null,null,null,null,null,null,null,null,null,null,null,null,null,null,null,null,null,null,"","","",null,null,null,null,null,"",null,"","","","","","","",null,null,"","","","",null,null,null,null,null,null,null,0,0,0,null,null,null,null,null,0,null,0,0,0,0,0,0,0,null,null,0,0,0,0]
[null,"Pacientes fuente de accidente cortopunzante",{"$f":"+M251+O251+Q251+S251+U251+W251+Y251+AA251+AC251+AE251+AG251+AI251","v":0},{"$f":"+N251+P251+R251+T251+V251+X251+Z251+AB251+AD251+AF251+AH251+AJ251","v":0},null,null,null,null,null,null,null,null,null,null,null,null,null,null,null,null,null,null,null,null,null,null,null,null,null,null,null,null,null,null,null,null,null,null,null,null,null,null,null,null,null,null,null,null,null,null,"",null,null,null,null,null,null,null,null,null,null,null,null,null,null,null,null,null,null,null,null,null,null,null,null,null,null,null,"","","",null,null,null,null,null,"",null,"","","","","","","",null,null,"","","","",null,null,null,null,null,null,null,0,0,0,null,null,null,null,null,0,null,0,0,0,0,0,0,0,null,null,0,0,0,0]
[null,"Persona en control por hepatitis B",0,0,null,null,null,null,null,null,null,null,null,null,null,null,null,null,null,null,null,null,null,null,null,null,null,null,null,null,null,null,null,null,null,null,null,null,null,null,null,null,null,null,null,null,null,null,null,null,"",null,null,null,null,null,null,null,null,null,null,null,null,null,null,null,null,null,null,null,null,null,null,null,null,null,null,null,"","","",null,null,null,null,null,"",null,"","","","","","","",null,null,"","","","",null,null,null,null,null,null,null,0,0,0,null,null,null,null,null,0,null,0,0,0,0,0,0,0,null,null,0,0,0,0]
[null,"Persona en control por hepatitis C",0,0,null,null,null,null,null,null,null,null,null,null,null,null,null,null,null,null,null,null,null,null,null,null,null,null,null,null,null,null,null,null,null,null,null,null,null,null,null,null,null,null,null,null,null,null,null,null,"",null,null,null,null,null,null,null,null,null,null,null,null,null,null,null,null,null,null,null,null,null,null,null,null,null,null,null,"","","",null,null,null,null,null,"",null,"","","","","","","",null,null,"","","","",null,null,null,null,null,null,null,0,0,0,null,null,null,null,null,0,null,0,0,0,0,0,0,0,null,null,0,0,0,0]
[null,"Consultantes por morbilidad",0,0,null,null,null,null,null,null,null,null,null,null,null,null,null,null,null,null,null,null,null,null,null,null,null,null,null,null,null,null,null,null,null,null,null,null,null,null,null,null,null,null,null,null,null,null,null,null,"",null,null,null,null,null,null,null,null,null,null,null,null,null,null,null,null,null,null,null,null,null,null,null,null,null,null,null,"","","",null,null,null,null,null,"",null,"","","","","","","",null,null,"","","","",null,null,null,null,null,null,null,0,0,0,null,null,null,null,null,0,null,0,0,0,0,0,0,0,null,null,0,0,0,0]
[null,"Por consulta espontánea",0,0,null,null,null,null,null,null,null,null,null,null,null,null,null,null,null,null,null,null,null,null,null,null,null,null,null,null,null,null,null,null,null,null,null,null,null,null,null,null,null,null,null,null,null,null,null,null,"",null,null,null,null,null,null,null,null,null,null,null,null,null,null,null,null,null,null,null,null,null,null,null,null,null,null,null,"","","",null,null,null,null,null,"",null,"","","","","","","",null,null,"","","","",null,null,null,null,null,null,null,0,0,0,null,null,null,null,null,0,null,0,0,0,0,0,0,0,null,null,0,0,0,0]
["Exterior establecimiento de salud (extramuro)","Centros penitenciarios",{"$f":"+E256+G256+I256+K256+M256+O256+Q256+S256+U256+W256+Y256+AA256+AC256+AE256+AG256+AI256","v":0},0,null,null,null,null,null,null,null,null,null,null,null,null,null,null,null,null,null,null,null,null,null,null,null,null,null,null,null,null,null,null,null,null,null,null,null,null,null,null,null,null,null,null,null,null,null,null,"",null,null,null,null,null,null,null,null,null,null,null,null,null,null,null,null,null,null,null,null,null,null,null,null,null,null,null,"","","",null,null,null,null,null,"",null,"","","","","","","",null,null,"","","","",null,null,null,null,null,null,null,0,0,0,null,null,null,null,null,0,null,0,0,0,0,0,0,0,null,null,0,0,0,0]
[null,"Centros SENAME",0,0,null,null,null,null,null,null,null,null,null,null,null,null,null,null,null,null,null,null,null,null,null,null,null,null,null,null,null,null,null,null,null,null,null,null,null,null,null,null,null,null,null,null,null,null,null,null,"",null,null,null,null,null,null,null,null,null,null,null,null,null,null,null,null,null,null,null,null,null,null,null,null,null,null,null,"","","",null,null,null,null,null,"",null,"","","","","","","",null,null,"","","","",null,null,null,null,null,null,null,0,0,0,null,null,null,null,null,0,null,0,0,0,0,0,0,0,null,null,0,0,0,0]
[null,"Centros educacionales",0,0,null,null,null,null,null,null,null,null,null,null,null,null,null,null,null,null,null,null,null,null,null,null,null,null,null,null,null,null,null,null,null,null,null,null,null,null,null,null,null,null,null,null,null,null,null,null,"",null,null,null,null,null,null,null,null,null,null,null,null,null,null,null,null,null,null,null,null,null,null,null,null,null,null,null,"","","",null,null,null,null,null,"",null,"","","","","","","",null,null,"","","","",null,null,null,null,null,null,null,0,0,0,null,null,null,null,null,0,null,0,0,0,0,0,0,0,null,null,0,0,0,0]
[null,"Otros ",0,0,null,null,null,null,null,null,null,null,null,null,null,null,null,null,null,null,null,null,null,null,null,null,null,null,null,null,null,null,null,null,null,null,null,null,null,null,null,null,null,null,null,null,null,null,null,null,"",null,null,null,null,null,null,null,null,null,null,null,null,null,null,null,null,null,null,null,null,null,null,null,null,null,null,null,"","","",null,null,null,null,null,"",null,"","","","","","","",null,null,"","","","",null,null,null,null,null,null,null,0,0,0,null,null,null,null,null,0,null,0,0,0,0,0,0,0,null,null,0,0,0,0]
["SECCIÓN G: SCREENING ENFERMEDAD DE CHAGAS PARA EMBARAZADAS, PUERPERAS Y MUJERES EN EDAD FÉRTIL"]
["CONDICIÓN","TOTAL","GRUPO DE EDAD ",null,null,null,null,null,null,null,null,null,"Pueblos Originarios","Migrantes"]
[null,null,"10 - 14 años","15 - 19 años","20 - 24 años","25 - 29 años","30 - 34 años","35 - 39 años","40 - 44 años","45 - 49 años","50 - 54 años","55 y más años"]
["Gestantes con examen de Chagas solicitado",{"$f":"SUM(C263:L263)","v":0},null,null,null,null,null,null,null,null,null,null,null,null,{"$f":"$CA263&CB263","v":""},null,null,null,null,null,null,null,null,null,null,null,null,null,null,null,null,null,null,null,null,null,null,null,null,null,null,null,null,null,null,null,null,null,null,null,null,null,null,null,null,null,null,null,null,null,null,null,null,null,null,null,null,null,null,null,null,null,null,null,null,null,null,null,{"$f":"IF(AND(B263>0,M263=\"\"),\" * No olvide digitar la variable pueblos originarios. Digite Cero si no tiene.\",IF(M263>B263,\" * La variable Pueblos originarios No puede ser mayor al Total.\",\"\"))","v":""},{"$f":"IF(AND(B263>0,N263=\"\"),\" * No olvide digitar la variable Migrantes. Digite Cero si no tiene.\",IF(N263>B263,\" * La variable Migrantes No puede ser mayor al Total.\",\"\"))","v":""},null,null,null,null,null,null,null,null,null,null,null,null,null,null,null,null,null,null,null,null,null,null,null,null,null,null,null,null,{"$f":"IF(AND(B263>0,M263=\"\"),1,IF(M263>B263,1,0))","v":0},{"$f":"IF(AND(B263>0,N263=\"\"),1,IF(N263>B263,1,0))","v":0}]
["Gestantes con examen de Chagas informado",{"$f":"SUM(C264:L264)","v":0},null,null,null,null,null,null,null,null,null,null,null,null,{"$f":"$CA264&CB264","v":""},null,null,null,null,null,null,null,null,null,null,null,null,null,null,null,null,null,null,null,null,null,null,null,null,null,null,null,null,null,null,null,null,null,null,null,null,null,null,null,null,null,null,null,null,null,null,null,null,null,null,null,null,null,null,null,null,null,null,null,null,null,null,null,{"$f":"IF(AND(B264>0,M264=\"\"),\" * No olvide digitar la variable pueblos originarios. Digite Cero si no tiene.\",IF(M264>B264,\" * La variable Pueblos originarios No puede ser mayor al Total.\",\"\"))","v":""},{"$f":"IF(AND(B264>0,N264=\"\"),\" * No olvide digitar la variable Migrantes. Digite Cero si no tiene.\",IF(N264>B264,\" * La variable Migrantes No puede ser mayor al Total.\",\"\"))","v":""},null,null,null,null,null,null,null,null,null,null,null,null,null,null,null,null,null,null,null,null,null,null,null,null,null,null,null,null,{"$f":"IF(AND(B264>0,M264=\"\"),1,IF(M264>B264,1,0))","v":0},{"$f":"IF(AND(B264>0,N264=\"\"),1,IF(N264>B264,1,0))","v":0}]
["Gestantes con examen de Chagas confirmado",{"$f":"SUM(C265:L265)","v":0},null,null,null,null,null,null,null,null,null,null,null,null,"",null,null,null,null,null,null,null,null,null,null,null,null,null,null,null,null,null,null,null,null,null,null,null,null,null,null,null,null,null,null,null,null,null,null,null,null,null,null,null,null,null,null,null,null,null,null,null,null,null,null,null,null,null,null,null,null,null,null,null,null,null,null,null,"","",null,null,null,null,null,null,null,null,null,null,null,null,null,null,null,null,null,null,null,null,null,null,null,null,null,null,null,null,0,0]
["Gestantes que ingresan a maternidad sin examen de enfermedad de Chagas",{"$f":"SUM(C266:L266)","v":0},null,null,null,null,null,null,null,null,null,null,null,null,"",null,null,null,null,null,null,null,null,null,null,null,null,null,null,null,null,null,null,null,null,null,null,null,null,null,null,null,null,null,null,null,null,null,null,null,null,null,null,null,null,null,null,null,null,null,null,null,null,null,null,null,null,null,null,null,null,null,null,null,null,null,null,null,"","",null,null,null,null,null,null,null,null,null,null,null,null,null,null,null,null,null,null,null,null,null,null,null,null,null,null,null,null,0,0]
["Mujeres en Control Preconcepcional",{"$f":"SUM(C267:L267)","v":0},null,null,null,null,null,null,null,null,null,null,null,null,"",null,null,null,null,null,null,null,null,null,null,null,null,null,null,null,null,null,null,null,null,null,null,null,null,null,null,null,null,null,null,null,null,null,null,null,null,null,null,null,null,null,null,null,null,null,null,null,null,null,null,null,null,null,null,null,null,null,null,null,null,null,null,null,"","",null,null,null,null,null,null,null,null,null,null,null,null,null,null,null,null,null,null,null,null,null,null,null,null,null,null,null,null,0,0]
["SECCIÓN H: DIAGNÓSTICO TRANSMISIÓN VERTICAL MADRE HIJO/A CON ENFERMEDAD DE CHAGAS "]
[" CONDICIÓN","TOTAL","RANGO ETARIO",null,null,null,null,null,null,null,null,null,null,null,null,null,null,null,"Pueblos Originarios","Migrantes"]
[null,null,"Menos de 1 mes","1 mes","2 meses","3 meses","4 meses","5 meses","6 meses","7 meses","8 meses","9 meses","10 meses","11 meses","12 meses","13 meses","14 meses","15 meses"]
["Hijos/as de Madre con Enfermedad de Chagas nacidos en el periodo ",{"$f":"SUM(C271:R271)","v":0},null,null,null,null,null,null,null,null,null,null,null,null,null,null,null,null,null,null,{"$f":"$CA271&CB271","v":""},null,null,null,null,null,null,null,null,null,null,null,null,null,null,null,null,null,null,null,null,null,null,null,null,null,null,null,null,null,null,null,null,null,null,null,null,null,null,null,null,null,null,null,null,null,null,null,null,null,null,null,null,null,null,null,null,null,{"$f":"IF(AND(B271>0,S271=\"\"),\" * No olvide digitar la variable pueblos originarios. Digite Cero si no tiene.\",IF(S271>B271,\" * La variable Pueblos originarios No puede ser mayor al Total.\",\"\"))","v":""},{"$f":"IF(AND(B271>0,T271=\"\"),\" * No olvide digitar la variable migrantes. Digite Cero si no tiene.\",IF(T271>B271,\" * La variable Migrantes No puede ser mayor al Total.\",\"\"))","v":""},null,null,null,null,null,null,null,null,null,null,null,null,null,null,null,null,null,null,null,null,null,null,null,null,null,null,null,null,{"$f":"IF(AND(B271>0,S271=\"\"),1,IF(S271>B271,1,0))","v":0},{"$f":"IF(AND(B271>0,T271=\"\"),1,IF(T271>B271,1,0))","v":0}]
["Hijos/as de Madre con Enfermedad de Chagas con diagnóstico directo realizado",{"$f":"SUM(C272:R272)","v":0},null,null,null,null,null,null,null,null,null,null,null,null,null,null,null,null,null,null,{"$f":"$CA272&CB272","v":""},null,null,null,null,null,null,null,null,null,null,null,null,null,null,null,null,null,null,null,null,null,null,null,null,null,null,null,null,null,null,null,null,null,null,null,null,null,null,null,null,null,null,null,null,null,null,null,null,null,null,null,null,null,null,null,null,null,{"$f":"IF(AND(B272>0,S272=\"\"),\" * No olvide digitar la variable pueblos originarios. Digite Cero si no tiene.\",IF(S272>B272,\" * La variable Pueblos originarios No puede ser mayor al Total.\",\"\"))","v":""},{"$f":"IF(AND(B272>0,T272=\"\"),\" * No olvide digitar la variable migrantes. Digite Cero si no tiene.\",IF(T272>B272,\" * La variable Migrantes No puede ser mayor al Total.\",\"\"))","v":""},null,null,null,null,null,null,null,null,null,null,null,null,null,null,null,null,null,null,null,null,null,null,null,null,null,null,null,null,{"$f":"IF(AND(B272>0,S272=\"\"),1,IF(S272>B272,1,0))","v":0},{"$f":"IF(AND(B272>0,T272=\"\"),1,IF(T272>B272,1,0))","v":0}]
["Hijos/as de Madre con Enfermedad de Chagas con diagnóstico finalizado e informado (1° muestra) ",{"$f":"SUM(C273:R273)","v":0},null,null,null,null,null,null,null,null,null,null,null,null,null,null,null,null,null,null,"",null,null,null,null,null,null,null,null,null,null,null,null,null,null,null,null,null,null,null,null,null,null,null,null,null,null,null,null,null,null,null,null,null,null,null,null,null,null,null,null,null,null,null,null,null,null,null,null,null,null,null,null,null,null,null,null,null,"","",null,null,null,null,null,null,null,null,null,null,null,null,null,null,null,null,null,null,null,null,null,null,null,null,null,null,null,null,0,0]
["Hijos/as de Madre con Enfermedad de Chagas con diagnóstico finalizado e informado (2° muestra) ",{"$f":"SUM(C274:R274)","v":0},null,null,null,null,null,null,null,null,null,null,null,null,null,null,null,null,null,null,"",null,null,null,null,null,null,null,null,null,null,null,null,null,null,null,null,null,null,null,null,null,null,null,null,null,null,null,null,null,null,null,null,null,null,null,null,null,null,null,null,null,null,null,null,null,null,null,null,null,null,null,null,null,null,null,null,null,"","",null,null,null,null,null,null,null,null,null,null,null,null,null,null,null,null,null,null,null,null,null,null,null,null,null,null,null,null,0,0]
["Hijos/as de Madre con enfermedad de Chagas con diagnóstico finalizado e informado (3° muestra) ",{"$f":"SUM(C275:R275)","v":0},null,null,null,null,null,null,null,null,null,null,null,null,null,null,null,null,null,null,"",null,null,null,null,null,null,null,null,null,null,null,null,null,null,null,null,null,null,null,null,null,null,null,null,null,null,null,null,null,null,null,null,null,null,null,null,null,null,null,null,null,null,null,null,null,null,null,null,null,null,null,null,null,null,null,null,null,"","",null,null,null,null,null,null,null,null,null,null,null,null,null,null,null,null,null,null,null,null,null,null,null,null,null,null,null,null,0,0]
["SECCION I: TRATAMIENTOS FAMACOLÓGICOS"]
["CONDICIÓN","TOTAL",null,null,"RANGO ETARIO Y SEXO"]
[null,"Ambos sexos","Hombres","Mujeres","Menos de 1 año",null,"1-4 años",null,"5-9 años",null,"10-14 años",null,"15 - 19 años",null,"20 - 24 años",null,"25 - 29 años",null,"30 - 34 años",null,"35 - 39 años",null,"40 - 44 años",null,"45 - 49 años",null,"50 - 54 años",null,"55-59 años",null,"60-64 años",null,"65-69 años",null,"70 y más años"]
[null,null,null,null,"Hombres","Mujeres","Hombres","Mujeres","Hombres","Mujeres","Hombres","Mujeres","Hombres","Mujeres","Hombres","Mujeres","Hombres","Mujeres","Hombres","Mujeres","Hombres","Mujeres","Hombres","Mujeres","Hombres","Mujeres","Hombres","Mujeres","Hombres","Mujeres","Hombres","Mujeres","Hombres","Mujeres","Hombres","Mujeres"]
["Personas con enfermedad de Chagas que ingresan a tratamiento farmacológico en el periodo (nifurtimox)",{"$f":"SUM(C280:D280)","v":0},{"$f":"+E280+G280+I280+K280+M280+O280+Q280+S280+U280+W280+Y280+AA280+AC280+AE280+AG280+AI280","v":0},{"$f":"+F280+H280+J280+L280+N280+P280+R280+T280+V280+X280+Z280+AB280+AD280+AF280+AH280+AJ280","v":0}]
["Personas con enfermedad de Chagas que suspenden o rechazan tratamiento farmacológico en el periodo (nifurtimox)",{"$f":"SUM(C281:D281)","v":0},{"$f":"+E281+G281+I281+K281+M281+O281+Q281+S281+U281+W281+Y281+AA281+AC281+AE281+AG281+AI281","v":0},0]
["Personas con enfermedad de Chagas que finalizan tratamiento farmacológico en el periodo (nifurtimox)",0,0,{"$f":"+F282+H282+J282+L282+N282+P282+R282+T282+V282+X282+Z282+AB282+AD282+AF282+AH282+AJ282","v":0}]
["Personas con enfermedad de Chagas que ingresan a tratamiento farmacológico en el periodo (benznidazol)",0,0,0]
["Personas con enfermedad de Chagas que suspenden o rechazan tratamiento farmacológico en el periodo (benznidazol)",0,0,0]
["Personas con enfermedad de Chagas que finalizan tratamiento farmacológico en el periodo (benznidazol)",0,0,0]
["SECCION J: DONANTES CONFIRMADOS ENFERMERDAD DE CHAGAS"]
["CONDICIÓN","TOTAL",null,null,"RANGO ETARIO Y SEXO",null,null,null,null,null,null,null,null,null,null,null,null,null,null,null,null,null,null,null,null,null,null,null,"Pueblos Originarios","Migrantes"]
[null,null,null,null,"18 - 19 años",null,"20 - 24 años",null,"25 - 29 años",null,"30 - 34 años",null,"35 - 39 años",null,"40 - 44 años",null,"45 - 49 años",null,"50 - 54 años",null,"55-59 años",null,"60-64 años",null,"65-69 años",null,"70 y más años"]
[null,"Ambos sexos","Hombres","Mujeres","Hombres","Mujeres","Hombres","Mujeres","Hombres","Mujeres","Hombres","Mujeres","Hombres","Mujeres","Hombres","Mujeres","Hombres","Mujeres","Hombres","Mujeres","Hombres","Mujeres","Hombres","Mujeres","Hombres","Mujeres","Hombres","Mujeres"]
["Donantes confirmados con enfermedad de Chagas en el periodo",{"$f":"SUM(C290:D290)","v":0},{"$f":"+E290+G290+I290+K290+M290+O290+Q290+S290+U290+W290+Y290+AA290","v":0},{"$f":"+F290+H290+J290+L290+N290+P290+R290+T290+V290+X290+Z290+AB290","v":0},null,null,null,null,null,null,null,null,null,null,null,null,null,null,null,null,null,null,null,null,null,null,null,null,null,null,{"$f":"$CA290&CB290","v":""},null,null,null,null,null,null,null,null,null,null,null,null,null,null,null,null,null,null,null,null,null,null,null,null,null,null,null,null,null,null,null,null,null,null,null,null,null,null,null,null,null,null,null,null,null,null,null,{"$f":"IF(AND(B290>0,AC290=\"\"),\" * No olvide digitar la variable Pueblos originarios. Digite Cero si no tiene.\",IF(AC290>B290,\" * La variable Pueblos originarios No puede ser mayor al Total.\",\"\"))","v":""},{"$f":"IF(AND(B290>0,AD290=\"\"),\" * No olvide digitar la variable Migrantes. Digite Cero si no tiene.\",IF(AD290>B290,\" * La variable Migrantes No puede ser mayor al Total.\",\"\"))","v":""},null,null,null,null,null,null,null,null,null,null,null,null,null,null,null,null,null,null,null,null,null,null,null,null,null,null,null,null,{"$f":"IF(AND(B290>0,AC290=\"\"),1,IF(AC290>B290,1,0))","v":0},{"$f":"IF(AND(B290>0,AD290=\"\"),1,IF(AD290>B290,1,0))","v":0}]
["Donantes confirmados e  informados de su condición serologica para enfermedad de Chagas",{"$f":"SUM(C291:D291)","v":0},{"$f":"+E291+G291+I291+K291+M291+O291+Q291+S291+U291+W291+Y291+AA291","v":0},{"$f":"+F291+H291+J291+L291+N291+P291+R291+T291+V291+X291+Z291+AB291","v":0},null,null,null,null,null,null,null,null,null,null,null,null,null,null,null,null,null,null,null,null,null,null,null,null,null,null,{"$f":"$CA291&CB291","v":""},null,null,null,null,null,null,null,null,null,null,null,null,null,null,null,null,null,null,null,null,null,null,null,null,null,null,null,null,null,null,null,null,null,null,null,null,null,null,null,null,null,null,null,null,null,null,null,{"$f":"IF(AND(B291>0,AC291=\"\"),\" * No olvide digitar la variable Pueblos originarios. Digite Cero si no tiene.\",IF(AC291>B291,\" * La variable Pueblos originarios No puede ser mayor al Total.\",\"\"))","v":""},{"$f":"IF(AND(B291>0,AD291=\"\"),\" * No olvide digitar la variable Migrantes. Digite Cero si no tiene.\",IF(AD291>B291,\" * La variable Migrantes No puede ser mayor al Total.\",\"\"))","v":""},null,null,null,null,null,null,null,null,null,null,null,null,null,null,null,null,null,null,null,null,null,null,null,null,null,null,null,null,{"$f":"IF(AND(B291>0,AC291=\"\"),1,IF(AC291>B291,1,0))","v":0},{"$f":"IF(AND(B291>0,AD291=\"\"),1,IF(AD291>B291,1,0))","v":0}]
["SECCIÓN K: SEGUIMIENTO DE CASOS"]
["CONDICIÓN","TOTAL",null,null,"RANGO ETARIO Y SEXO",null,null,null,null,null,null,null,null,null,null,null,null,null,null,null,null,null,null,null,null,null,null,null,null,null,null,null,null,null,null,null,"Pueblos Originarios","Migrantes"]
[null,null,null,null,"Menos de 1 año",null,"1-4 años",null,"5-9 años",null,"10-14 años",null,"15 - 19 años",null,"20 - 24 años",null,"25 - 29 años",null,"30 - 34 años",null,"35 - 39 años",null,"40 - 44 años",null,"45 - 49 años",null,"50 - 54 años",null,"55-59 años",null,"60-64 años",null,"65-69 años",null,"70 y más años"]
[null,"Ambos sexos","Hombres","Mujeres","Hombres","Mujeres","Hombres","Mujeres","Hombres","Mujeres","Hombres","Mujeres","Hombres","Mujeres","Hombres","Mujeres","Hombres","Mujeres","Hombres","Mujeres","Hombres","Mujeres","Hombres","Mujeres","Hombres","Mujeres","Hombres","Mujeres","Hombres","Mujeres","Hombres","Mujeres","Hombres","Mujeres","Hombres","Mujeres"]
["Control de las personas con Chagas crónico en Atencion Primaria de Salud",{"$f":"SUM(C296:D296)","v":0},{"$f":"+E296+G296+I296+K296+M296+O296+Q296+S296+U296+W296+Y296+AA296+AC296+AE296+AG296+AI296","v":0},{"$f":"+F296+H296+J296+L296+N296+P296+R296+T296+V296+X296+Z296+AB296+AD296+AF296+AH296+AJ296","v":0}]
["Estudio de  contactos familiares de un caso por Infección por T cruzi",{"$f":"SUM(C297:D297)","v":0},0,{"$f":"+F297+H297+J297+L297+N297+P297+R297+T297+V297+X297+Z297+AB297+AD297+AF297+AH297+AJ297","v":0},null,null,null,null,null,null,null,null,null,null,null,null,null,null,null,null,null,null,null,null,null,null,null,null,null,null,null,null,null,null,null,null,null,null,{"$f":"$CA297&$CB297","v":""},null,null,null,null,null,null,null,null,null,null,null,null,null,null,null,null,null,null,null,null,null,null,null,null,null,null,null,null,null,null,null,null,null,null,null,null,null,null,null,{"$f":"IF(AND(B297>0,AK297=\"\"),\" * No olvide digitar la variable pueblos originarios. Digite Cero si no tiene.\",IF(AK297>B297,\" * La variable Pueblos originarios No puede ser mayor al Total.\",\"\"))","v":""},{"$f":"IF(AND(B297>0,AL297=\"\"),\" * No olvide digitar la variable Migrantes. Digite Cero si no tiene.\",IF(AL297>B297,\" * La variable Migrantes No puede ser mayor al Total.\",\"\"))","v":""},null,null,null,null,null,null,null,null,null,null,null,null,null,null,null,null,null,null,null,null,null,null,null,null,null,null,null,null,{"$f":"IF(AND(B297>0,AK297=\"\"),1,IF(AK297>B297,1,0))","v":0},{"$f":"IF(AND(B297>0,AL297=\"\"),1,IF(AL297>B297,1,0))","v":0}]
["Casos contactos familiares confirmados por Infección por T cruzi",{"$f":"SUM(C298:D298)","v":0},0,{"$f":"+F298+H298+J298+L298+N298+P298+R298+T298+V298+X298+Z298+AB298+AD298+AF298+AH298+AJ298","v":0},null,null,null,null,null,null,null,null,null,null,null,null,null,null,null,null,null,null,null,null,null,null,null,null,null,null,null,null,null,null,null,null,null,null,{"$f":"$CA298&$CB298","v":""},null,null,null,null,null,null,null,null,null,null,null,null,null,null,null,null,null,null,null,null,null,null,null,null,null,null,null,null,null,null,null,null,null,null,null,null,null,null,null,{"$f":"IF(AND(B298>0,AK298=\"\"),\" * No olvide digitar la variable pueblos originarios. Digite Cero si no tiene.\",IF(AK298>B298,\" * La variable Pueblos originarios No puede ser mayor al Total.\",\"\"))","v":""},{"$f":"IF(AND(B298>0,AL298=\"\"),\" * No olvide digitar la variable Migrantes. Digite Cero si no tiene.\",IF(AL298>B298,\" * La variable Migrantes No puede ser mayor al Total.\",\"\"))","v":""},null,null,null,null,null,null,null,null,null,null,null,null,null,null,null,null,null,null,null,null,null,null,null,null,null,null,null,null,{"$f":"IF(AND(B298>0,AK298=\"\"),1,IF(AK298>B298,1,0))","v":0},{"$f":"IF(AND(B298>0,AL298=\"\"),1,IF(AL298>B298,1,0))","v":0}]
[]
[]
[]
[]
[]
[]
[]
[]
[]
[]
[]
[]
[]
[]
[]
[]
[]
[]
[]
[]
[]
[]
[]
[]
[]
[]
[]
[]
[]
[]
[]
[]
[]
[]
[]
[]
[]
[]
[]
[]
[]
[]
[]
[]
[]
[]
[]
[]
[]
[]
[]
[{"$f":"SUM(B13:C30,B35:C52,B57:C74,B79:C96,B101:C118,B123:C140,C144:P148,C152:P156,C161:D183,C188:D210,B215:C221,B226:C232,C237:D259,B263:B267,B271:B275,B280:D285,B290:D291,B296:D298)","v":0},{"$f":"SUM(DE13:EB298)","v":0}]

{"sheet":"A11a","index":11,"n_rows":150,"n_cols":86,"rows_kept":150,"cut":false,"hidden":false,"merged":[[88,0,88,10],[92,0,92,3],[60,11,61,11],[60,12,61,12],[73,0,73,10],[74,0,75,0],[74,1,75,1],[74,2,74,10],[74,11,75,11],[74,12,75,12],[47,0,47,10],[53,0,53,3],[59,0,59,10],[60,0,61,0],[60,1,61,1],[60,2,60,10],[24,12,25,12],[32,0,32,3],[36,0,36,10],[37,0,38,0],[37,1,38,1],[37,2,37,10],[37,11,38,11],[37,12,38,12],[24,11,25,11],[19,0,19,3],[23,0,23,10],[24,0,25,0],[24,1,25,1],[24,2,24,10],[5,0,5,12],[7,0,7,10],[8,0,9,0],[8,1,9,1],[8,2,8,10],[8,11,9,11],[8,12,9,12]]}
["SERVICIO DE SALUD"]
[{"$f":"CONCATENATE(\"COMUNA: \",NOMBRE!B2,\" - \",\"( \",NOMBRE!C2,NOMBRE!D2,NOMBRE!E2,NOMBRE!F2,NOMBRE!G2,\" )\")","v":"COMUNA:  - (  )"}]
[{"$f":"CONCATENATE(\"ESTABLECIMIENTO/ESTRATEGIA: \",NOMBRE!B3,\" - \",\"( \",NOMBRE!C3,NOMBRE!D3,NOMBRE!E3,NOMBRE!F3,NOMBRE!G3,NOMBRE!H3,\" )\")","v":"ESTABLECIMIENTO/ESTRATEGIA:  - (  )"}]
[{"$f":"CONCATENATE(\"MES: \",NOMBRE!B6,\" - \",\"( \",NOMBRE!C6,NOMBRE!D6,\" )\")","v":"MES:  - (  )"}]
[{"$f":"CONCATENATE(\"AÑO: \",NOMBRE!B7)","v":"AÑO: 2024"}]
["REM-A11a. TRANSMISIÓN VERTICAL MATERNO INFANTIL"]
[]
["SECCION A: TRATAMIENTO DE SÍFILIS EN GESTANTES"]
[null,"TOTAL","RANGO ETARIO ",null,null,null,null,null,null,null,null,"Pueblos Originarios","Migrantes"]
[null,null,"10 - 14 años","15 - 19 años","20 - 24 años","25 - 29 años","30 - 34 años","35 - 39 años","40 - 44 años","45 - 49 años","50 - 54 años"]
["TRATAMIENTO DE SÍFILIS EN GESTANTES EN ATENCIÓN PRIMARIA"]
["Gestantes con 1° test no treponémico reactivo en este embarazo con  penicilina administrada en Atención Primaria",{"$f":"SUM(C12:K12)","v":0},null,null,null,null,null,null,null,null,null,null,null,{"$f":"$CA12&CB12","v":""},null,null,null,null,null,null,null,null,null,null,null,null,null,null,null,null,null,null,null,null,null,null,null,null,null,null,null,null,null,null,null,null,null,null,null,null,null,null,null,null,null,null,null,null,null,null,null,null,null,null,null,null,null,null,null,null,null,null,null,null,null,null,null,null,{"$f":"IF(AND(B12>0,L12=\"\"),\" * No olvide digitar la variable Pueblos Originarios. Digite cero si no tiene.\",IF(L12>B12, \" * La variable Pueblos Originarios no puede ser mayor al Total.\",\"\"))","v":""},{"$f":"IF(AND(B12>0,M12=\"\"),\" * No olvide digitar la variable Migrantes. Digite cero si no tiene.\",IF(M12>B12, \" * La variable Migrantes no puede ser mayor al Total.\",\"\"))","v":""},null,null,null,null,{"$f":"IF(AND(B12>0,L12=\"\"),1,IF(L12>B12,1,0))","v":0},{"$f":"IF(AND(B12>0,M12=\"\"),1,IF(M12>B12,1,0))","v":0}]
["Gestantes con 1° test no treponémico reactivo ",{"$f":"SUM(C13:K13)","v":0},null,null,null,null,null,null,null,null,null,null,null,{"$f":"$CA13&CB13","v":""},null,null,null,null,null,null,null,null,null,null,null,null,null,null,null,null,null,null,null,null,null,null,null,null,null,null,null,null,null,null,null,null,null,null,null,null,null,null,null,null,null,null,null,null,null,null,null,null,null,null,null,null,null,null,null,null,null,null,null,null,null,null,null,null,{"$f":"IF(AND(B13>0,L13=\"\"),\" * No olvide digitar la variable Pueblos Originarios. Digite cero si no tiene.\",IF(L13>B13, \" * La variable Pueblos Originarios no puede ser mayor al Total.\",\"\"))","v":""},{"$f":"IF(AND(B13>0,M13=\"\"),\" * No olvide digitar la variable Migrantes. Digite cero si no tiene.\",IF(M13>B13, \" * La variable Migrantes no puede ser mayor al Total.\",\"\"))","v":""},null,null,null,null,{"$f":"IF(AND(B13>0,L13=\"\"),1,IF(L13>B13,1,0))","v":0},{"$f":"IF(AND(B13>0,M13=\"\"),1,IF(M13>B13,1,0))","v":0}]
["TRATAMIENTO DE SÍFILIS EN GESTANTES EN ESPECIALIDADES",null,null,null,null,null,null,null,null,null,null,null,null,""]
["Gestantes con 1° test no treponémico reactivo en este embarazo  con penicilina administrada en especialidades",{"$f":"SUM(C15:K15)","v":0},null,null,null,null,null,null,null,null,null,null,null,"",null,null,null,null,null,null,null,null,null,null,null,null,null,null,null,null,null,null,null,null,null,null,null,null,null,null,null,null,null,null,null,null,null,null,null,null,null,null,null,null,null,null,null,null,null,null,null,null,null,null,null,null,null,null,null,null,null,null,null,null,null,null,null,null,{"$f":"IF(AND(B15>0,L15=\"\"),\" * No olvide digitar la variable Pueblos Originarios. Digite cero si no tiene.\",IF(L15>B15, \" * La variable Pueblos Originarios no puede ser mayor al Total.\",\"\"))","v":""},{"$f":"IF(AND(B15>0,M15=\"\"),\" * No olvide digitar la variable Migrantes. Digite cero si no tiene.\",IF(M15>B15, \" * La variable Migrantes no puede ser mayor al Total.\",\"\"))","v":""},null,null,null,null,{"$f":"IF(AND(B15>0,L15=\"\"),1,IF(L15>B15,1,0))","v":0},{"$f":"IF(AND(B15>0,M15=\"\"),1,IF(M15>B15,1,0))","v":0}]
["Gestantes con 1° test no treponémico reactivo en este embarazo",{"$f":"SUM(C16:K16)","v":0},null,null,null,null,null,null,null,null,null,null,null,"",null,null,null,null,null,null,null,null,null,null,null,null,null,null,null,null,null,null,null,null,null,null,null,null,null,null,null,null,null,null,null,null,null,null,null,null,null,null,null,null,null,null,null,null,null,null,null,null,null,null,null,null,null,null,null,null,null,null,null,null,null,null,null,null,{"$f":"IF(AND(B16>0,L16=\"\"),\" * No olvide digitar la variable Pueblos Originarios. Digite cero si no tiene.\",IF(L16>B16, \" * La variable Pueblos Originarios no puede ser mayor al Total.\",\"\"))","v":""},"",null,null,null,null,0,0]
["TRATAMIENTO SÍFILIS EN GESTANTES AL MOMENTO DEL PARTO",null,null,null,null,null,null,null,null,null,null,null,null,""]
["Gestantes con 1° test no treponemico reactivo en este embarazo con  penicilina administrada al parto",{"$f":"SUM(C18:K18)","v":0},null,null,null,null,null,null,null,null,null,null,null,"",null,null,null,null,null,null,null,null,null,null,null,null,null,null,null,null,null,null,null,null,null,null,null,null,null,null,null,null,null,null,null,null,null,null,null,null,null,null,null,null,null,null,null,null,null,null,null,null,null,null,null,null,null,null,null,null,null,null,null,null,null,null,null,null,{"$f":"IF(AND(B18>0,L18=\"\"),\" * No olvide digitar la variable Pueblos Originarios. Digite cero si no tiene.\",IF(L18>B18, \" * La variable Pueblos Originarios no puede ser mayor al Total.\",\"\"))","v":""},{"$f":"IF(AND(B18>0,M18=\"\"),\" * No olvide digitar la variable Migrantes. Digite cero si no tiene.\",IF(M18>B18, \" * La variable Migrantes no puede ser mayor al Total.\",\"\"))","v":""},null,null,null,null,{"$f":"IF(AND(B18>0,L18=\"\"),1,IF(L18>B18,1,0))","v":0},{"$f":"IF(AND(B18>0,M18=\"\"),1,IF(M18>B18,1,0))","v":0}]
["Gestantes con 1° test no treponémico reactivo en este embarazo",{"$f":"SUM(C19:K19)","v":0},null,null,null,null,null,null,null,null,null,null,null,"",null,null,null,null,null,null,null,null,null,null,null,null,null,null,null,null,null,null,null,null,null,null,null,null,null,null,null,null,null,null,null,null,null,null,null,null,null,null,null,null,null,null,null,null,null,null,null,null,null,null,null,null,null,null,null,null,null,null,null,null,null,null,null,null,{"$f":"IF(AND(B19>0,L19=\"\"),\" * No olvide digitar la variable Pueblos Originarios. Digite cero si no tiene.\",IF(L19>B19, \" * La variable Pueblos Originarios no puede ser mayor al Total.\",\"\"))","v":""},"",null,null,null,null,0,0]
["SECCIÓN B: NIÑOS Y NIÑAS EXPUESTOS A LA SÍFILIS TRATADOS AL NACER"]
[null,"TOTAL","Pueblos Originarios","Migrantes"]
["Recién nacidos/as expuestos a sífilis (hijos de mujer con serología reactiva para sífilis al parto no tratada o inadecuadamente tratada), que reciben tratamiento para sífilis congénita al nacer",null,null,null,{"$f":"CA22&CB22","v":""},null,null,null,null,null,null,null,null,null,null,null,null,null,null,null,null,null,null,null,null,null,null,null,null,null,null,null,null,null,null,null,null,null,null,null,null,null,null,null,null,null,null,null,null,null,null,null,null,null,null,null,null,null,null,null,null,null,null,null,null,null,null,null,null,null,null,null,null,null,null,null,null,null,{"$f":"IF(AND(B22>0,C22=\"\"),\" * No olvide digitar la variable Pueblos Originarios. Digite cero si no tiene.\",IF(C22>B22, \" * La variable Pueblos Originarios no puede ser mayor al Total.\",\"\"))","v":""},{"$f":"IF(AND(B22>0,D22=\"\"),\" * No olvide digitar la variable Migrantes. Digite cero si no tiene.\",IF(D22>B22, \" * La variable Migrantes no puede ser mayor al Total.\",\"\"))","v":""},null,null,null,null,{"$f":"IF(AND(B22>0,C22=\"\"),1,IF(C22>B22,1,0))","v":0},{"$f":"IF(AND(B22>0,D22=\"\"),1,IF(D22>B22,1,0))","v":0}]
["Recién nacidos/as expuestos a sífilis (hijos de mujer con serología reactiva para sífilis al parto  no tratada o inadecuadamente tratada)",null,null,null,{"$f":"CA23&CB23","v":""},null,null,null,null,null,null,null,null,null,null,null,null,null,null,null,null,null,null,null,null,null,null,null,null,null,null,null,null,null,null,null,null,null,null,null,null,null,null,null,null,null,null,null,null,null,null,null,null,null,null,null,null,null,null,null,null,null,null,null,null,null,null,null,null,null,null,null,null,null,null,null,null,null,{"$f":"IF(AND(B23>0,C23=\"\"),\" * No olvide digitar la variable Pueblos Originarios. Digite cero si no tiene.\",IF(C23>B23, \" * La variable Pueblos Originarios no puede ser mayor al Total.\",\"\"))","v":""},{"$f":"IF(AND(B23>0,D23=\"\"),\" * No olvide digitar la variable Migrantes. Digite cero si no tiene.\",IF(D23>B23, \" * La variable Migrantes no puede ser mayor al Total.\",\"\"))","v":""},null,null,null,null,{"$f":"IF(AND(B23>0,C23=\"\"),1,IF(C23>B23,1,0))","v":0},{"$f":"IF(AND(B23>0,D23=\"\"),1,IF(D23>B23,1,0))","v":0}]
["SECCIÓN C: ABORTOS Y DEFUNCIONES FETALES ATRIBUIDAS A SÍFILIS SEGÚN EDAD GESTACIONAL"]
[null,"TOTAL","RANGO ETARIO ",null,null,null,null,null,null,null,null,"Pueblos Originarios","Migrantes"]
[null,null,"10 - 14 años","15 - 19 años","20 - 24 años","25 - 29 años","30 - 34 años","35 - 39 años","40 - 44 años","45 - 49 años","50 - 54 años"]
["Mujeres con serología reactiva para sífilis con aborto menor o igual a 19+6 semanas o menor a 500 grs ",{"$f":"SUM(C27:K27)","v":0},null,null,null,null,null,null,null,null,null,null,null,{"$f":"$CA27&CB27","v":""},null,null,null,null,null,null,null,null,null,null,null,null,null,null,null,null,null,null,null,null,null,null,null,null,null,null,null,null,null,null,null,null,null,null,null,null,null,null,null,null,null,null,null,null,null,null,null,null,null,null,null,null,null,null,null,null,null,null,null,null,null,null,null,null,{"$f":"IF(AND(B27>0,L27=\"\"),\" No olvide digitar la variable Pueblos Originarios. Digite cero si no tiene.\",IF(L27>B27,\" * La variable Pueblos Originarios no puede ser mayor al Total.\",\"\"))","v":""},{"$f":"IF(AND(B27>0,M27=\"\"),\" No olvide digitar la variable Migrantes. Digite cero si no tiene.\",IF(M27>B27,\" * La variable Migrantes no puede ser mayor al Total.\",\"\"))","v":""},null,null,null,null,{"$f":"IF(AND(B27>0,L27=\"\"),1,IF(L27>B27,1,0))","v":0},{"$f":"IF(AND(B27>0,M27=\"\"),1,IF(M27>B27,1,0))","v":0}]
["Mujeres con aborto menor o igual a 19+6 semanas o menor a 500 grs ",0,null,null,null,null,null,null,null,null,null,null,null,{"$f":"$CA28&CB28","v":""},null,null,null,null,null,null,null,null,null,null,null,null,null,null,null,null,null,null,null,null,null,null,null,null,null,null,null,null,null,null,null,null,null,null,null,null,null,null,null,null,null,null,null,null,null,null,null,null,null,null,null,null,null,null,null,null,null,null,null,null,null,null,null,null,{"$f":"IF(AND(B28>0,L28=\"\"),\" No olvide digitar la variable Pueblos Originarios. Digite cero si no tiene.\",IF(L28>B28,\" * La variable Pueblos Originarios no puede ser mayor al Total.\",\"\"))","v":""},{"$f":"IF(AND(B28>0,M28=\"\"),\" No olvide digitar la variable Migrantes. Digite cero si no tiene.\",IF(M28>B28,\" * La variable Migrantes no puede ser mayor al Total.\",\"\"))","v":""},null,null,null,null,{"$f":"IF(AND(B28>0,L28=\"\"),1,IF(L28>B28,1,0))","v":0},{"$f":"IF(AND(B28>0,M28=\"\"),1,IF(M28>B28,1,0))","v":0}]
["Mujeres con serología reactiva para sífilis con aborto entre las 20 y las 21+6 semanas o mayor a 500 grs ",0,null,null,null,null,null,null,null,null,null,null,null,"",null,null,null,null,null,null,null,null,null,null,null,null,null,null,null,null,null,null,null,null,null,null,null,null,null,null,null,null,null,null,null,null,null,null,null,null,null,null,null,null,null,null,null,null,null,null,null,null,null,null,null,null,null,null,null,null,null,null,null,null,null,null,null,null,"","",null,null,null,null,0,0]
["Mujeres con aborto entre las 20 y las 21+6 semanas o mayor a 500 grs ",0,null,null,null,null,null,null,null,null,null,null,null,"",null,null,null,null,null,null,null,null,null,null,null,null,null,null,null,null,null,null,null,null,null,null,null,null,null,null,null,null,null,null,null,null,null,null,null,null,null,null,null,null,null,null,null,null,null,null,null,null,null,null,null,null,null,null,null,null,null,null,null,null,null,null,null,null,"","",null,null,null,null,0,0]
["Mujeres con serología reactiva para sífilis con mortinato mayor o igual a 22 semanas ",0,null,null,null,null,null,null,null,null,null,null,null,"",null,null,null,null,null,null,null,null,null,null,null,null,null,null,null,null,null,null,null,null,null,null,null,null,null,null,null,null,null,null,null,null,null,null,null,null,null,null,null,null,null,null,null,null,null,null,null,null,null,null,null,null,null,null,null,null,null,null,null,null,null,null,null,null,"","",null,null,null,null,0,0]
["Mujeres con mortinato mayor o igual a 22 semanas ",0,null,null,null,null,null,null,null,null,null,null,null,"",null,null,null,null,null,null,null,null,null,null,null,null,null,null,null,null,null,null,null,null,null,null,null,null,null,null,null,null,null,null,null,null,null,null,null,null,null,null,null,null,null,null,null,null,null,null,null,null,null,null,null,null,null,null,null,null,null,null,null,null,null,null,null,null,"","",null,null,null,null,0,0]
["SECCION D: APLICACIÓN DE PROFILAXIS OCULAR PARA GONORREA EN RECIÉN NACIDOS"]
[null,"TOTAL","Pueblos Originarios","Migrantes"]
["Recién Nacidos  vivos que reciben profilaxis ocular para gonorrea al nacer",null,null,null,{"$f":"CA35&CB35","v":""},null,null,null,null,null,null,null,null,null,null,null,null,null,null,null,null,null,null,null,null,null,null,null,null,null,null,null,null,null,null,null,null,null,null,null,null,null,null,null,null,null,null,null,null,null,null,null,null,null,null,null,null,null,null,null,null,null,null,null,null,null,null,null,null,null,null,null,null,null,null,null,null,null,{"$f":"IF(AND(B35>0,C35=\"\"),\" No olvide digitar la variable Pueblos Originarios. Digite cero si no tiene.\",IF(C35>B35,\" * La variable Pueblos Originarios no puede ser mayor al Total.\",\"\"))","v":""},{"$f":"IF(AND(B35>0,D35=\"\"),\" No olvide digitar la variable Migrantes. Digite cero si no tiene.\",IF(D35>B35,\" * La variable Migrantes no puede ser mayor al Total.\",\"\"))","v":""},null,null,null,null,{"$f":"IF(AND(B35>0,C35=\"\"),1,IF(C35>B35,1,0))","v":0},{"$f":"IF(AND(B35>0,D35=\"\"),1,IF(D35>B35,1,0))","v":0}]
["Recién nacidos vivos ",null,null,null,{"$f":"CA36&CB36","v":""},null,null,null,null,null,null,null,null,null,null,null,null,null,null,null,null,null,null,null,null,null,null,null,null,null,null,null,null,null,null,null,null,null,null,null,null,null,null,null,null,null,null,null,null,null,null,null,null,null,null,null,null,null,null,null,null,null,null,null,null,null,null,null,null,null,null,null,null,null,null,null,null,null,{"$f":"IF(AND(B36>0,C36=\"\"),\" No olvide digitar la variable Pueblos Originarios. Digite cero si no tiene.\",IF(C36>B36,\" * La variable Pueblos Originarios no puede ser mayor al Total.\",\"\"))","v":""},{"$f":"IF(AND(B36>0,D36=\"\"),\" No olvide digitar la variable Migrantes. Digite cero si no tiene.\",IF(D36>B36,\" * La variable Migrantes no puede ser mayor al Total.\",\"\"))","v":""},null,null,null,null,{"$f":"IF(AND(B36>0,C36=\"\"),1,IF(C36>B36,1,0))","v":0},{"$f":"IF(AND(B36>0,D36=\"\"),1,IF(D36>B36,1,0))","v":0}]
["SECCIÓN E: MUJERES VIH QUE RECIBE PROTOCOLO PREVENCIÓN TRANSMISIÓN VERTICAL AL PARTO (PTV)"]
[null,"TOTAL","RANGO ETARIO ",null,null,null,null,null,null,null,null,"Pueblos Originarios","Migrantes"]
[null,null,"10 - 14 años","15 - 19 años","20 - 24 años","25 - 29 años","30 - 34 años","35 - 39 años","40 - 44 años","45 - 49 años","50 - 54 años"]
["Mujeres VIH (+) confirmada por ISP que recibieron protocolo PTV completo al parto",{"$f":"SUM(C40:K40)","v":0},null,null,null,null,null,null,null,null,null,null,null,{"$f":"$CA40&CB40","v":""},null,null,null,null,null,null,null,null,null,null,null,null,null,null,null,null,null,null,null,null,null,null,null,null,null,null,null,null,null,null,null,null,null,null,null,null,null,null,null,null,null,null,null,null,null,null,null,null,null,null,null,null,null,null,null,null,null,null,null,null,null,null,null,null,{"$f":"IF(AND(B40>0,L40=\"\"),\" No olvide digitar la variable Pueblos Originarios. Digite cero si no tiene.\",IF(L40>B40,\" * La variable Pueblos Originarios no puede ser mayor al Total.\",\"\"))","v":""},{"$f":"IF(AND(B40>0,M40=\"\"),\" No olvide digitar la variable Migrantes. Digite cero si no tiene.\",IF(M40>B40,\" * La variable Migrantes no puede ser mayor al Total.\",\"\"))","v":""},null,null,null,null,{"$f":"IF(AND(B40>0,L40=\"\"),1,IF(L40>B40,1,0))","v":0},{"$f":"IF(AND(B40>0,M40=\"\"),1,IF(M40>B40,1,0))","v":0}]
["Mujeres VIH (+) confirmada por ISP que recibieron protocolo PTV incompleto al parto",{"$f":"SUM(C41:K41)","v":0},null,null,null,null,null,null,null,null,null,null,null,{"$f":"$CA41&CB41","v":""},null,null,null,null,null,null,null,null,null,null,null,null,null,null,null,null,null,null,null,null,null,null,null,null,null,null,null,null,null,null,null,null,null,null,null,null,null,null,null,null,null,null,null,null,null,null,null,null,null,null,null,null,null,null,null,null,null,null,null,null,null,null,null,null,{"$f":"IF(AND(B41>0,L41=\"\"),\" No olvide digitar la variable Pueblos Originarios. Digite cero si no tiene.\",IF(L41>B41,\" * La variable Pueblos Originarios no puede ser mayor al Total.\",\"\"))","v":""},{"$f":"IF(AND(B41>0,M41=\"\"),\" No olvide digitar la variable Migrantes. Digite cero si no tiene.\",IF(M41>B41,\" * La variable Migrantes no puede ser mayor al Total.\",\"\"))","v":""},null,null,null,null,{"$f":"IF(AND(B41>0,L41=\"\"),1,IF(L41>B41,1,0))","v":0},{"$f":"IF(AND(B41>0,M41=\"\"),1,IF(M41>B41,1,0))","v":0}]
["Mujeres VIH (+) confirmada por ISP que no recibieron protocolo PTV al parto",0,null,null,null,null,null,null,null,null,null,null,null,"",null,null,null,null,null,null,null,null,null,null,null,null,null,null,null,null,null,null,null,null,null,null,null,null,null,null,null,null,null,null,null,null,null,null,null,null,null,null,null,null,null,null,null,null,null,null,null,null,null,null,null,null,null,null,null,null,null,null,null,null,null,null,null,null,"","",null,null,null,null,0,0]
["Mujeres VIH (+) confirmada por ISP atendidas por parto ",0,null,null,null,null,null,null,null,null,null,null,null,"",null,null,null,null,null,null,null,null,null,null,null,null,null,null,null,null,null,null,null,null,null,null,null,null,null,null,null,null,null,null,null,null,null,null,null,null,null,null,null,null,null,null,null,null,null,null,null,null,null,null,null,null,null,null,null,null,null,null,null,null,null,null,null,null,"","",null,null,null,null,0,0]
["Mujeres con serología VIH (+) no confirmada por ISP que recibieron protocolo PTV completo al parto",{"$f":"SUM(C44:K44)","v":0},null,null,null,null,null,null,null,null,null,null,null,"",null,null,null,null,null,null,null,null,null,null,null,null,null,null,null,null,null,null,null,null,null,null,null,null,null,null,null,null,null,null,null,null,null,null,null,null,null,null,null,null,null,null,null,null,null,null,null,null,null,null,null,null,null,null,null,null,null,null,null,null,null,null,null,null,"","",null,null,null,null,0,0]
["Mujeres con serología VIH (+) no confirmada por ISP que recibieron protocolo PTV incompleto al parto",0,null,null,null,null,null,null,null,null,null,null,null,"",null,null,null,null,null,null,null,null,null,null,null,null,null,null,null,null,null,null,null,null,null,null,null,null,null,null,null,null,null,null,null,null,null,null,null,null,null,null,null,null,null,null,null,null,null,null,null,null,null,null,null,null,null,null,null,null,null,null,null,null,null,null,null,null,"","",null,null,null,null,0,0]
["Mujeres con serología VIH (+) no confirmada por ISP que No recibieron protocolo PTV al parto",{"$f":"SUM(C46:K46)","v":0},null,null,null,null,null,null,null,null,null,null,null,"",null,null,null,null,null,null,null,null,null,null,null,null,null,null,null,null,null,null,null,null,null,null,null,null,null,null,null,null,null,null,null,null,null,null,null,null,null,null,null,null,null,null,null,null,null,null,null,null,null,null,null,null,null,null,null,null,null,null,null,null,null,null,null,null,"","",null,null,null,null,0,0]
["Mujeres con serología VIH (+) no confirmada por ISP atendidas por parto  ",0,null,null,null,null,null,null,null,null,null,null,null,"",null,null,null,null,null,null,null,null,null,null,null,null,null,null,null,null,null,null,null,null,null,null,null,null,null,null,null,null,null,null,null,null,null,null,null,null,null,null,null,null,null,null,null,null,null,null,null,null,null,null,null,null,null,null,null,null,null,null,null,null,null,null,null,null,"","",null,null,null,null,0,0]
["SECCIÓN F: RECIÉN NACIDOS EXPUESTOS AL VIH QUE RECIBE PROTOCOLO DE TRANSMISIÓN VERTICAL"]
[null,"TOTAL","Pueblos Originarios","Migrantes"]
["Recién nacidos vivos hijos de mujer VIH (+) confirmada por ISP que iniciaron profilaxis para VIH durante las primeras 12 hrs. de vida ",null,null,null,{"$f":"CA50&CB50","v":""},null,null,null,null,null,null,null,null,null,null,null,null,null,null,null,null,null,null,null,null,null,null,null,null,null,null,null,null,null,null,null,null,null,null,null,null,null,null,null,null,null,null,null,null,null,null,null,null,null,null,null,null,null,null,null,null,null,null,null,null,null,null,null,null,null,null,null,null,null,null,null,null,null,{"$f":"IF(AND(B50>0,C50=\"\"),\" No olvide digitar la variable Pueblos Originarios. Digite cero si no tiene.\",IF(C50>B50,\" * La variable Pueblos Originarios no puede ser mayor al Total.\",\"\"))","v":""},{"$f":"IF(AND(B50>0,D50=\"\"),\" No olvide digitar la variable Migrantes. Digite cero si no tiene.\",IF(D50>B50,\" * La variable Migrantes no puede ser mayor al Total.\",\"\"))","v":""},null,null,null,null,{"$f":"IF(AND(B50>0,C50=\"\"),1,IF(C50>B50,1,0))","v":0},{"$f":"IF(AND(B50>0,D50=\"\"),1,IF(D50>B50,1,0))","v":0}]
["Recién nacidos vivos hijos de mujer VIH (+) confirmada por ISP",null,null,null,{"$f":"CA51&CB51","v":""},null,null,null,null,null,null,null,null,null,null,null,null,null,null,null,null,null,null,null,null,null,null,null,null,null,null,null,null,null,null,null,null,null,null,null,null,null,null,null,null,null,null,null,null,null,null,null,null,null,null,null,null,null,null,null,null,null,null,null,null,null,null,null,null,null,null,null,null,null,null,null,null,null,{"$f":"IF(AND(B51>0,C51=\"\"),\" No olvide digitar la variable Pueblos Originarios. Digite cero si no tiene.\",IF(C51>B51,\" * La variable Pueblos Originarios no puede ser mayor al Total.\",\"\"))","v":""},{"$f":"IF(AND(B51>0,D51=\"\"),\" No olvide digitar la variable Migrantes. Digite cero si no tiene.\",IF(D51>B51,\" * La variable Migrantes no puede ser mayor al Total.\",\"\"))","v":""},null,null,null,null,{"$f":"IF(AND(B51>0,C51=\"\"),1,IF(C51>B51,1,0))","v":0},{"$f":"IF(AND(B51>0,D51=\"\"),1,IF(D51>B51,1,0))","v":0}]
["Recién nacidos vivos hijos de mujer con serología VIH (+) no confirmada por ISP que iniciaron profilaxis para VIH durante las primeras 12 hrs. de vida ",null,null,null,"",null,null,null,null,null,null,null,null,null,null,null,null,null,null,null,null,null,null,null,null,null,null,null,null,null,null,null,null,null,null,null,null,null,null,null,null,null,null,null,null,null,null,null,null,null,null,null,null,null,null,null,null,null,null,null,null,null,null,null,null,null,null,null,null,null,null,null,null,null,null,null,null,null,"","",null,null,null,null,0,0]
["Recién nacidos vivos hijos de mujer con serología VIH (+) no confirmada por ISP",null,null,null,"",null,null,null,null,null,null,null,null,null,null,null,null,null,null,null,null,null,null,null,null,null,null,null,null,null,null,null,null,null,null,null,null,null,null,null,null,null,null,null,null,null,null,null,null,null,null,null,null,null,null,null,null,null,null,null,null,null,null,null,null,null,null,null,null,null,null,null,null,null,null,null,null,null,"","",null,null,null,null,0,0]
["SECCIÓN G: RECIÉN NACIDOS EXPUESTOS AL VIH QUE RECIBEN LECHE MATERNIZADA AL ALTA"]
[null,"TOTAL","Pueblos Originarios","Migrantes"]
["Recién nacidos vivos hijos de mujer VIH (+) confirmada por ISP que recibieron leche maternizada al alta (para ser consumida en su casa)",null,null,null,{"$f":"CA56&CB56","v":""},null,null,null,null,null,null,null,null,null,null,null,null,null,null,null,null,null,null,null,null,null,null,null,null,null,null,null,null,null,null,null,null,null,null,null,null,null,null,null,null,null,null,null,null,null,null,null,null,null,null,null,null,null,null,null,null,null,null,null,null,null,null,null,null,null,null,null,null,null,null,null,null,null,{"$f":"IF(AND(B56>0,C56=\"\"),\" No olvide digitar la variable Pueblos Originarios. Digite cero si no tiene.\",IF(C56>B56,\" * La variable Pueblos Originarios no puede ser mayor al Total.\",\"\"))","v":""},{"$f":"IF(AND(B56>0,D56=\"\"),\" No olvide digitar la variable Migrantes. Digite cero si no tiene.\",IF(D56>B56,\" * La variable Migrantes no puede ser mayor al Total.\",\"\"))","v":""},null,null,null,null,{"$f":"IF(AND(B56>0,C56=\"\"),1,IF(C56>B56,1,0))","v":0},{"$f":"IF(AND(B56>0,D56=\"\"),1,IF(D56>B56,1,0))","v":0}]
["Recién nacidos vivos hijos de mujer VIH (+) confirmada por ISP",null,null,null,{"$f":"CA57&CB57","v":""},null,null,null,null,null,null,null,null,null,null,null,null,null,null,null,null,null,null,null,null,null,null,null,null,null,null,null,null,null,null,null,null,null,null,null,null,null,null,null,null,null,null,null,null,null,null,null,null,null,null,null,null,null,null,null,null,null,null,null,null,null,null,null,null,null,null,null,null,null,null,null,null,null,{"$f":"IF(AND(B57>0,C57=\"\"),\" No olvide digitar la variable Pueblos Originarios. Digite cero si no tiene.\",IF(C57>B57,\" * La variable Pueblos Originarios no puede ser mayor al Total.\",\"\"))","v":""},{"$f":"IF(AND(B57>0,D57=\"\"),\" No olvide digitar la variable Migrantes. Digite cero si no tiene.\",IF(D57>B57,\" * La variable Migrantes no puede ser mayor al Total.\",\"\"))","v":""},null,null,null,null,{"$f":"IF(AND(B57>0,C57=\"\"),1,IF(C57>B57,1,0))","v":0},{"$f":"IF(AND(B57>0,D57=\"\"),1,IF(D57>B57,1,0))","v":0}]
["Recien nacidos vivos hijos de mujer con serología VIH (+) no confirmada por el ISP  que recibieron leche maternizada al alta (para ser consumida en su casa)",null,null,null,"",null,null,null,null,null,null,null,null,null,null,null,null,null,null,null,null,null,null,null,null,null,null,null,null,null,null,null,null,null,null,null,null,null,null,null,null,null,null,null,null,null,null,null,null,null,null,null,null,null,null,null,null,null,null,null,null,null,null,null,null,null,null,null,null,null,null,null,null,null,null,null,null,null,"","",null,null,null,null,0,0]
["Recien nacidos vivos hijos de mujer con serología VIH (+) no confirmada por el ISP",null,null,null,"",null,null,null,null,null,null,null,null,null,null,null,null,null,null,null,null,null,null,null,null,null,null,null,null,null,null,null,null,null,null,null,null,null,null,null,null,null,null,null,null,null,null,null,null,null,null,null,null,null,null,null,null,null,null,null,null,null,null,null,null,null,null,null,null,null,null,null,null,null,null,null,null,null,"","",null,null,null,null,0,0]
["SECCIÓN H: GESTANTES ESTUDIADAS PARA ESTREPTOCOCCUS GRUPO B (EGB) "]
[null,"TOTAL","RANGO ETARIO ",null,null,null,null,null,null,null,null,"Pueblos Originarios","Migrantes"]
[null,null,"10 - 14 años","15 - 19 años","20 - 24 años","25 - 29 años","30 - 34 años","35 - 39 años","40 - 44 años","45 - 49 años","50 - 54 años"]
["GESTANTES ESTUDIADAS PARA ESTREPTOCOCCUS GRUPO B (EGB) EN APS"]
["Gestantes estudiadas para EGB en APS",{"$f":"SUM(C64:K64)","v":0},null,null,null,null,null,null,null,null,null,null,null,{"$f":"$CA64&$CB64","v":""},null,null,null,null,null,null,null,null,null,null,null,null,null,null,null,null,null,null,null,null,null,null,null,null,null,null,null,null,null,null,null,null,null,null,null,null,null,null,null,null,null,null,null,null,null,null,null,null,null,null,null,null,null,null,null,null,null,null,null,null,null,null,null,null,{"$f":"IF(AND(B64>0,L64=\"\"),\" No olvide digitar la variable Pueblos Originarios. Digite cero si no tiene.\",IF(L64>B64,\" * La variable Pueblos Originarios no puede ser mayor al Total.\",\"\"))","v":""},{"$f":"IF(AND(B64>0,M64=\"\"),\" No olvide digitar la variable Migrantes. Digite cero si no tiene.\",IF(M64>B64,\" * La variable Migrantes no puede ser mayor al Total.\",\"\"))","v":""},null,null,null,null,{"$f":"IF(AND(B64>0,L64=\"\"),1,IF(L64>B64,1,0))","v":0},{"$f":"IF(AND(B64>0,M64=\"\"),1,IF(M64>B64,1,0))","v":0}]
["Gestantes estudiadas en APS con examen EGB (+) ",{"$f":"SUM(C65:K65)","v":0},null,null,null,null,null,null,null,null,null,null,null,"",null,null,null,null,null,null,null,null,null,null,null,null,null,null,null,null,null,null,null,null,null,null,null,null,null,null,null,null,null,null,null,null,null,null,null,null,null,null,null,null,null,null,null,null,null,null,null,null,null,null,null,null,null,null,null,null,null,null,null,null,null,null,null,null,{"$f":"IF(AND(B65>0,L65=\"\"),\" No olvide digitar la variable Pueblos Originarios. Digite cero si no tiene.\",IF(L65>B65,\" * La variable Pueblos Originarios no puede ser mayor al Total.\",\"\"))","v":""},{"$f":"IF(AND(B65>0,M65=\"\"),\" No olvide digitar la variable Migrantes. Digite cero si no tiene.\",IF(M65>B65,\" * La variable Migrantes no puede ser mayor al Total.\",\"\"))","v":""},null,null,null,null,{"$f":"IF(AND(B65>0,L65=\"\"),1,IF(L65>B65,1,0))","v":0},{"$f":"IF(AND(B65>0,M65=\"\"),1,IF(M65>B65,1,0))","v":0}]
["GESTANTES ESTUDIADAS PARA ESTREPTOCOCCUS GRUPO B (EGB) EN ESPECIALIDADES"]
["Gestantes estudiadas para EGB en Especialidades",{"$f":"SUM(C67:K67)","v":0},null,null,null,null,null,null,null,null,null,null,null,"",null,null,null,null,null,null,null,null,null,null,null,null,null,null,null,null,null,null,null,null,null,null,null,null,null,null,null,null,null,null,null,null,null,null,null,null,null,null,null,null,null,null,null,null,null,null,null,null,null,null,null,null,null,null,null,null,null,null,null,null,null,null,null,null,{"$f":"IF(AND(B67>0,L67=\"\"),\" No olvide digitar la variable Pueblos Originarios. Digite cero si no tiene.\",IF(L67>B67,\" * La variable Pueblos Originarios no puede ser mayor al Total.\",\"\"))","v":""},{"$f":"IF(AND(B67>0,M67=\"\"),\" No olvide digitar la variable Migrantes. Digite cero si no tiene.\",IF(M67>B67,\" * La variable Migrantes no puede ser mayor al Total.\",\"\"))","v":""},null,null,null,null,{"$f":"IF(AND(B67>0,L67=\"\"),1,IF(L67>B67,1,0))","v":0},{"$f":"IF(AND(B67>0,M67=\"\"),1,IF(M67>B67,1,0))","v":0}]
["Gestantes estudiadas en Especialidades con examen EGB (+) ",{"$f":"SUM(C68:K68)","v":0},null,null,null,null,null,null,null,null,null,null,null,"",null,null,null,null,null,null,null,null,null,null,null,null,null,null,null,null,null,null,null,null,null,null,null,null,null,null,null,null,null,null,null,null,null,null,null,null,null,null,null,null,null,null,null,null,null,null,null,null,null,null,null,null,null,null,null,null,null,null,null,null,null,null,null,null,{"$f":"IF(AND(B68>0,L68=\"\"),\" No olvide digitar la variable Pueblos Originarios. Digite cero si no tiene.\",IF(L68>B68,\" * La variable Pueblos Originarios no puede ser mayor al Total.\",\"\"))","v":""},"",null,null,null,null,{"$f":"IF(AND(B68>0,L68=\"\"),1,IF(L68>B68,1,0))","v":0},{"$f":"IF(AND(B68>0,M68=\"\"),1,IF(M68>B68,1,0))","v":0}]
["GESTANTES ESTUDIADAS PARA ESTREPTOCOCCUS GRUPO B (EGB) EN NIVEL HOSPITALARIO"]
["Gestantes estudiadas para EGB en nivel hospitalario",{"$f":"SUM(C70:K70)","v":0},null,null,null,null,null,null,null,null,null,null,null,"",null,null,null,null,null,null,null,null,null,null,null,null,null,null,null,null,null,null,null,null,null,null,null,null,null,null,null,null,null,null,null,null,null,null,null,null,null,null,null,null,null,null,null,null,null,null,null,null,null,null,null,null,null,null,null,null,null,null,null,null,null,null,null,null,{"$f":"IF(AND(B70>0,L70=\"\"),\" No olvide digitar la variable Pueblos Originarios. Digite cero si no tiene.\",IF(L70>B70,\" * La variable Pueblos Originarios no puede ser mayor al Total.\",\"\"))","v":""},{"$f":"IF(AND(B70>0,M70=\"\"),\" No olvide digitar la variable Migrantes. Digite cero si no tiene.\",IF(M70>B70,\" * La variable Migrantes no puede ser mayor al Total.\",\"\"))","v":""},null,null,null,null,{"$f":"IF(AND(B70>0,L70=\"\"),1,IF(L70>B70,1,0))","v":0},{"$f":"IF(AND(B70>0,M70=\"\"),1,IF(M70>B70,1,0))","v":0}]
["Gestantes estudiadas en nivel hospitalario con examen EGB (+) ",{"$f":"SUM(C71:K71)","v":0},null,null,null,null,null,null,null,null,null,null,null,"",null,null,null,null,null,null,null,null,null,null,null,null,null,null,null,null,null,null,null,null,null,null,null,null,null,null,null,null,null,null,null,null,null,null,null,null,null,null,null,null,null,null,null,null,null,null,null,null,null,null,null,null,null,null,null,null,null,null,null,null,null,null,null,null,{"$f":"IF(AND(B71>0,L71=\"\"),\" No olvide digitar la variable Pueblos Originarios. Digite cero si no tiene.\",IF(L71>B71,\" * La variable Pueblos Originarios no puede ser mayor al Total.\",\"\"))","v":""},"",null,null,null,null,0,0]
["GESTANTES CON PROFILAXIS PARA ESTREPTOCOCCUS GRUPO B (EGB) AL PARTO"]
["Gestantes con profilaxis para  EGB (+) al parto",{"$f":"SUM(C73:K73)","v":0},null,null,null,null,null,null,null,null,null,null,null,"",null,null,null,null,null,null,null,null,null,null,null,null,null,null,null,null,null,null,null,null,null,null,null,null,null,null,null,null,null,null,null,null,null,null,null,null,null,null,null,null,null,null,null,null,null,null,null,null,null,null,null,null,null,null,null,null,null,null,null,null,null,null,null,null,{"$f":"IF(AND(B73>0,L73=\"\"),\" No olvide digitar la variable Pueblos Originarios. Digite cero si no tiene.\",IF(L73>B73,\" * La variable Pueblos Originarios no puede ser mayor al Total.\",\"\"))","v":""},{"$f":"IF(AND(B73>0,M73=\"\"),\" No olvide digitar la variable Migrantes. Digite cero si no tiene.\",IF(M73>B73,\" * La variable Migrantes no puede ser mayor al Total.\",\"\"))","v":""},null,null,null,null,{"$f":"IF(AND(B73>0,L73=\"\"),1,IF(L73>B73,1,0))","v":0},{"$f":"IF(AND(B73>0,M73=\"\"),1,IF(M73>B73,1,0))","v":0}]
["SECCIÓN I: GESTANTES EVALUADAS PARA HEPATITIS B"]
[null,"TOTAL","RANGO ETARIO",null,null,null,null,null,null,null,null,"Pueblos Originarios","Migrantes"]
[null,null,"10 - 14 años","15 - 19 años","20 - 24 años","25 - 29 años","30 - 34 años","35 - 39 años","40 - 44 años","45 - 49 años","50 - 54 años"]
["GESTANTES EVALUADAS PARA HEPATITIS B EN ATENCIÓN PRIMARIA"]
["Gestantes con solicitud de estudio serológico para Hepatitis B ",{"$f":"SUM(C78:K78)","v":0},null,null,null,null,null,null,null,null,null,null,null,{"$f":"$CA78&$CB78","v":""},null,null,null,null,null,null,null,null,null,null,null,null,null,null,null,null,null,null,null,null,null,null,null,null,null,null,null,null,null,null,null,null,null,null,null,null,null,null,null,null,null,null,null,null,null,null,null,null,null,null,null,null,null,null,null,null,null,null,null,null,null,null,null,null,{"$f":"IF(AND(B78>0,L78=\"\"),\" No olvide digitar la variable Pueblos Originarios. Digite cero si no tiene.\",IF(L78>B78,\" * La variable Pueblos Originarios no puede ser mayor al Total.\",\"\"))","v":""},{"$f":"IF(AND(B78>0,M78=\"\"),\" No olvide digitar la variable Migrantes. Digite cero si no tiene.\",IF(M78>B78,\" * La variable Migrantes no puede ser mayor al Total.\",\"\"))","v":""},null,null,null,null,{"$f":"IF(AND(B78>0,L78=\"\"),1,IF(L78>B78,1,0))","v":0},{"$f":"IF(AND(B78>0,M78=\"\"),1,IF(M78>B78,1,0))","v":0}]
["Gestantes con estudio serológico positivo confirmado para Hepatitis B ",{"$f":"SUM(C79:K79)","v":0},null,null,null,null,null,null,null,null,null,null,null,"",null,null,null,null,null,null,null,null,null,null,null,null,null,null,null,null,null,null,null,null,null,null,null,null,null,null,null,null,null,null,null,null,null,null,null,null,null,null,null,null,null,null,null,null,null,null,null,null,null,null,null,null,null,null,null,null,null,null,null,null,null,null,null,null,{"$f":"IF(AND(B79>0,L79=\"\"),\" No olvide digitar la variable Pueblos Originarios. Digite cero si no tiene.\",IF(L79>B79,\" * La variable Pueblos Originarios no puede ser mayor al Total.\",\"\"))","v":""},"",null,null,null,null,0,0]
["Gestantes con Hepatitis B positivo derivada con especialista (Gastroenterólogo, hepatólogo u otro) ",{"$f":"SUM(C80:K80)","v":0},null,null,null,null,null,null,null,null,null,null,null,"",null,null,null,null,null,null,null,null,null,null,null,null,null,null,null,null,null,null,null,null,null,null,null,null,null,null,null,null,null,null,null,null,null,null,null,null,null,null,null,null,null,null,null,null,null,null,null,null,null,null,null,null,null,null,null,null,null,null,null,null,null,null,null,null,"","",null,null,null,null,0,0]
["GESTANTES EVALUADAS PARA HEPATITIS B EN ESPECIALIDADES"]
["Gestantes con solicitud de estudio serológico para Hepatitis B ",{"$f":"SUM(C82:K82)","v":0},null,null,null,null,null,null,null,null,null,null,null,"",null,null,null,null,null,null,null,null,null,null,null,null,null,null,null,null,null,null,null,null,null,null,null,null,null,null,null,null,null,null,null,null,null,null,null,null,null,null,null,null,null,null,null,null,null,null,null,null,null,null,null,null,null,null,null,null,null,null,null,null,null,null,null,null,{"$f":"IF(AND(B82>0,L82=\"\"),\" No olvide digitar la variable Pueblos Originarios. Digite cero si no tiene.\",IF(L82>B82,\" * La variable Pueblos Originarios no puede ser mayor al Total.\",\"\"))","v":""},{"$f":"IF(AND(B82>0,M82=\"\"),\" No olvide digitar la variable Migrantes. Digite cero si no tiene.\",IF(M82>B82,\" * La variable Migrantes no puede ser mayor al Total.\",\"\"))","v":""},null,null,null,null,{"$f":"IF(AND(B82>0,L82=\"\"),1,IF(L82>B82,1,0))","v":0},{"$f":"IF(AND(B82>0,M82=\"\"),1,IF(M82>B82,1,0))","v":0}]
["Gestantes con estudio serológico positivo confirmado para Hepatitis B ",{"$f":"SUM(C83:K83)","v":0},null,null,null,null,null,null,null,null,null,null,null,"",null,null,null,null,null,null,null,null,null,null,null,null,null,null,null,null,null,null,null,null,null,null,null,null,null,null,null,null,null,null,null,null,null,null,null,null,null,null,null,null,null,null,null,null,null,null,null,null,null,null,null,null,null,null,null,null,null,null,null,null,null,null,null,null,{"$f":"IF(AND(B83>0,L83=\"\"),\" No olvide digitar la variable Pueblos Originarios. Digite cero si no tiene.\",IF(L83>B83,\" * La variable Pueblos Originarios no puede ser mayor al Total.\",\"\"))","v":""},"",null,null,null,null,0,0]
["Gestantes con Hepatitis B positivo derivada con especialista (Gastroenterólogo, hepatólogo u otro) ",{"$f":"SUM(C84:K84)","v":0},null,null,null,null,null,null,null,null,null,null,null,"",null,null,null,null,null,null,null,null,null,null,null,null,null,null,null,null,null,null,null,null,null,null,null,null,null,null,null,null,null,null,null,null,null,null,null,null,null,null,null,null,null,null,null,null,null,null,null,null,null,null,null,null,null,null,null,null,null,null,null,null,null,null,null,null,"","",null,null,null,null,0,0]
["GESTANTES EVALUADAS PARA HEPATITIS B EN PARTOS"]
["Gestantes con solicitud de estudio serológico para Hepatitis B ",{"$f":"SUM(C86:K86)","v":0},null,null,null,null,null,null,null,null,null,null,null,"",null,null,null,null,null,null,null,null,null,null,null,null,null,null,null,null,null,null,null,null,null,null,null,null,null,null,null,null,null,null,null,null,null,null,null,null,null,null,null,null,null,null,null,null,null,null,null,null,null,null,null,null,null,null,null,null,null,null,null,null,null,null,null,null,{"$f":"IF(AND(B86>0,L86=\"\"),\" No olvide digitar la variable Pueblos Originarios. Digite cero si no tiene.\",IF(L86>B86,\" * La variable Pueblos Originarios no puede ser mayor al Total.\",\"\"))","v":""},{"$f":"IF(AND(B86>0,M86=\"\"),\" No olvide digitar la variable Migrantes. Digite cero si no tiene.\",IF(M86>B86,\" * La variable Migrantes no puede ser mayor al Total.\",\"\"))","v":""},null,null,null,null,{"$f":"IF(AND(B86>0,L86=\"\"),1,IF(L86>B86,1,0))","v":0},{"$f":"IF(AND(B86>0,M86=\"\"),1,IF(M86>B86,1,0))","v":0}]
["Gestantes con estudio serológico positivo confirmado para Hepatitis B ",{"$f":"SUM(C87:K87)","v":0},null,null,null,null,null,null,null,null,null,null,null,"",null,null,null,null,null,null,null,null,null,null,null,null,null,null,null,null,null,null,null,null,null,null,null,null,null,null,null,null,null,null,null,null,null,null,null,null,null,null,null,null,null,null,null,null,null,null,null,null,null,null,null,null,null,null,null,null,null,null,null,null,null,null,null,null,{"$f":"IF(AND(B87>0,L87=\"\"),\" No olvide digitar la variable Pueblos Originarios. Digite cero si no tiene.\",IF(L87>B87,\" * La variable Pueblos Originarios no puede ser mayor al Total.\",\"\"))","v":""},"",null,null,null,null,0,0]
["Gestantes con Hepatitis B positivo derivada con especialista (Gastroenterólogo, hepatólogo u otro)",{"$f":"SUM(C88:K88)","v":0},null,null,null,null,null,null,null,null,null,null,null,"",null,null,null,null,null,null,null,null,null,null,null,null,null,null,null,null,null,null,null,null,null,null,null,null,null,null,null,null,null,null,null,null,null,null,null,null,null,null,null,null,null,null,null,null,null,null,null,null,null,null,null,null,null,null,null,null,null,null,null,null,null,null,null,null,"","",null,null,null,null,0,0]
["SECCION J: PROFILAXIS DE TRANSMISIÓN VERTICAL APLICADA AL RECIEN NACIDO, HIJO DE MADRE HEPATITIS B POSITIVA"]
[null,"TOTAL","Pueblos Originarios","Migrantes"]
["Recién nacidos hijos de madre Hepatitis B positiva, nacidos en el periodo",null,null,null,{"$f":"CA91&CB91","v":""},null,null,null,null,null,null,null,null,null,null,null,null,null,null,null,null,null,null,null,null,null,null,null,null,null,null,null,null,null,null,null,null,null,null,null,null,null,null,null,null,null,null,null,null,null,null,null,null,null,null,null,null,null,null,null,null,null,null,null,null,null,null,null,null,null,null,null,null,null,null,null,null,null,{"$f":"IF(AND(B91>0,C91=\"\"),\" No olvide digitar la variable Pueblos Originarios. Digite cero si no tiene.\",IF(C91>B91,\" * La variable Pueblos Originarios no puede ser mayor al Total.\",\"\"))","v":""},{"$f":"IF(AND(B91>0,D91=\"\"),\" No olvide digitar la variable Migrantes. Digite cero si no tiene.\",IF(D91>B91,\" * La variable Migrantes no puede ser mayor al Total.\",\"\"))","v":""},null,null,null,null,{"$f":"IF(AND(B91>0,C91=\"\"),1,IF(C91>B91,1,0))","v":0},{"$f":"IF(AND(B91>0,D91=\"\"),1,IF(D91>B91,1,0))","v":0}]
["Recién nacidos hijos de madre Hepatitis B positiva que recibieron profilaxis completa, según la normativa vigente",null,null,null,{"$f":"CA92&CB92","v":""},null,null,null,null,null,null,null,null,null,null,null,null,null,null,null,null,null,null,null,null,null,null,null,null,null,null,null,null,null,null,null,null,null,null,null,null,null,null,null,null,null,null,null,null,null,null,null,null,null,null,null,null,null,null,null,null,null,null,null,null,null,null,null,null,null,null,null,null,null,null,null,null,null,{"$f":"IF(AND(B92>0,C92=\"\"),\" No olvide digitar la variable Pueblos Originarios. Digite cero si no tiene.\",IF(C92>B92,\" * La variable Pueblos Originarios no puede ser mayor al Total.\",\"\"))","v":""},{"$f":"IF(AND(B92>0,D92=\"\"),\" No olvide digitar la variable Migrantes. Digite cero si no tiene.\",IF(D92>B92,\" * La variable Migrantes no puede ser mayor al Total.\",\"\"))","v":""},null,null,null,null,{"$f":"IF(AND(B92>0,C92=\"\"),1,IF(C92>B92,1,0))","v":0},{"$f":"IF(AND(B92>0,D92=\"\"),1,IF(D92>B92,1,0))","v":0}]
["SECCION K: SEGUIMIENTO DE NIÑOS Y NIÑAS AL AÑO DE VIDA"]
[null,"TOTAL","Pueblos Originarios","Migrantes"]
["Niños/as hijos de madre Hepatitis B positiva evaluados al año de vida",null,null,null,{"$f":"CA95&CB95","v":""},null,null,null,null,null,null,null,null,null,null,null,null,null,null,null,null,null,null,null,null,null,null,null,null,null,null,null,null,null,null,null,null,null,null,null,null,null,null,null,null,null,null,null,null,null,null,null,null,null,null,null,null,null,null,null,null,null,null,null,null,null,null,null,null,null,null,null,null,null,null,null,null,null,{"$f":"IF(AND(B95>0,C95=\"\"),\" No olvide digitar la variable Pueblos Originarios. Digite cero si no tiene.\",IF(C95>B95,\" * La variable Pueblos Originarios no puede ser mayor al Total.\",\"\"))","v":""},{"$f":"IF(AND(B95>0,D95=\"\"),\" No olvide digitar la variable Migrantes. Digite cero si no tiene.\",IF(D95>B95,\" * La variable Migrantes no puede ser mayor al Total.\",\"\"))","v":""},null,null,null,null,{"$f":"IF(AND(B95>0,C95=\"\"),1,IF(C95>B95,1,0))","v":0},{"$f":"IF(AND(B95>0,D95=\"\"),1,IF(D95>B95,1,0))","v":0}]
["Niños/as hijos de madre Hepatitis B positiva, evaluados al año de vida, confirmado positivo de transmisión vertical para Hepatitis B",null,null,null,{"$f":"CA96&CB96","v":""},null,null,null,null,null,null,null,null,null,null,null,null,null,null,null,null,null,null,null,null,null,null,null,null,null,null,null,null,null,null,null,null,null,null,null,null,null,null,null,null,null,null,null,null,null,null,null,null,null,null,null,null,null,null,null,null,null,null,null,null,null,null,null,null,null,null,null,null,null,null,null,null,null,{"$f":"IF(AND(B96>0,C96=\"\"),\" No olvide digitar la variable Pueblos Originarios. Digite cero si no tiene.\",IF(C96>B96,\" * La variable Pueblos Originarios no puede ser mayor al Total.\",\"\"))","v":""},"",null,null,null,null,0,0]
[]
[]
[]
[]
[]
[]
[]
[]
[]
[]
[]
[]
[]
[]
[]
[]
[]
[]
[]
[]
[]
[]
[]
[]
[]
[]
[]
[]
[]
[]
[]
[]
[]
[]
[]
[]
[]
[]
[]
[]
[]
[]
[]
[]
[]
[]
[]
[]
[]
[]
[]
[]
[]
[{"$f":"SUM(B12:B13,B15:B16,B18:B19,B22:B23,B27:B32,B35:B36,B40:B47,B50:B53,B56:B59,B64:B65,B67:B68,B70:B71,B73,B78:B80,B82:B84,B86:B88,B91:B92,B95:B96)","v":0},{"$f":"SUM(CG12:CI96)","v":0}]

{"sheet":"A19a","index":12,"n_rows":207,"n_cols":95,"rows_kept":207,"cut":false,"hidden":false,"merged":[[168,0,168,3],[150,10,151,10],[150,11,151,11],[152,0,155,0],[156,0,159,0],[160,0,163,0],[164,0,167,0],[136,0,136,7],[149,0,149,9],[150,0,151,0],[150,1,151,1],[150,2,151,2],[150,3,150,9],[112,11,113,11],[114,0,117,0],[118,0,121,0],[122,0,125,0],[126,0,129,0],[130,0,130,7],[111,0,111,9],[112,0,113,0],[112,1,113,1],[112,2,113,2],[112,3,112,9],[112,10,113,10],[107,0,109,0],[110,0,110,9],[105,17,105,18],[105,19,105,20],[105,21,105,22],[105,23,105,24],[105,25,105,26],[105,27,105,28],[104,0,106,1],[104,2,105,4],[104,5,104,36],[104,37,106,37],[105,5,105,6],[105,7,105,8],[105,9,105,10],[105,11,105,12],[105,13,105,14],[105,15,105,16],[78,37,78,38],[80,0,85,0],[86,0,91,0],[92,0,92,3],[93,0,102,0],[103,0,103,36],[78,25,78,26],[78,27,78,28],[78,29,78,30],[78,31,78,32],[78,33,78,34],[78,35,78,36],[105,29,105,30],[105,31,105,32],[105,33,105,34],[105,35,105,36],[77,41,79,41],[77,42,79,42],[77,43,79,43],[77,44,79,44],[78,5,78,6],[78,7,78,8],[78,9,78,10],[78,11,78,12],[78,13,78,14],[78,15,78,16],[76,0,76,38],[77,0,79,0],[77,1,79,1],[77,2,78,4],[77,5,77,38],[77,39,78,40],[78,17,78,18],[78,19,78,20],[78,21,78,22],[78,23,78,24],[9,46,11,46],[10,5,10,6],[10,7,10,8],[10,9,10,10],[10,11,10,12],[10,13,10,14],[10,15,10,16],[10,17,10,18],[10,19,10,20],[10,21,10,22],[9,39,11,39],[9,40,10,41],[9,42,11,42],[9,43,11,43],[9,44,11,44],[9,45,11,45],[10,29,10,30],[10,31,10,32],[10,33,10,34],[68,0,75,0],[5,0,5,19],[7,0,7,38],[8,0,8,38],[9,0,11,0],[9,1,11,1],[9,2,10,4],[9,5,9,38],[10,23,10,24],[10,25,10,26],[10,27,10,28],[10,35,10,36],[10,37,10,38],[23,0,33,0],[34,0,44,0],[45,0,50,0],[51,0,54,0],[55,0,61,0],[62,0,66,0],[12,0,22,0]]}
["SERVICIO DE SALUD"]
[{"$f":"CONCATENATE(\"COMUNA: \",NOMBRE!B2,\" - \",\"( \",NOMBRE!C2,NOMBRE!D2,NOMBRE!E2,NOMBRE!F2,NOMBRE!G2,\" )\")","v":"COMUNA:  - (  )"}]
[{"$f":"CONCATENATE(\"ESTABLECIMIENTO/ESTRATEGIA: \",NOMBRE!B3,\" - \",\"( \",NOMBRE!C3,NOMBRE!D3,NOMBRE!E3,NOMBRE!F3,NOMBRE!G3,NOMBRE!H3,\" )\")","v":"ESTABLECIMIENTO/ESTRATEGIA:  - (  )"}]
[{"$f":"CONCATENATE(\"MES: \",NOMBRE!B6,\" - \",\"( \",NOMBRE!C6,NOMBRE!D6,\" )\")","v":"MES:  - (  )"}]
[{"$f":"CONCATENATE(\"AÑO: \",NOMBRE!B7)","v":"AÑO: 2024"}]
["REM-19a.   ACTIVIDADES DE PROMOCIÓN Y PREVENCIÓN DE LA SALUD"]
[]
["SECCIÓN A: CONSEJERÍAS"]
["SECCIÓN A.1: CONSEJERÍAS INDIVIDUALES"]
["ACTIVIDADES Y ÁREAS TEMÁTICAS","PROFESIONAL","TOTAL              ",null,null,"RANGO ETARIO Y SEXO",null,null,null,null,null,null,null,null,null,null,null,null,null,null,null,null,null,null,null,null,null,null,null,null,null,null,null,null,null,null,null,null,null,"Espacios Amigables/ adolescentes","TRANS",null,"Pueblos Originarios","Migrantes","14-18 años","Niños, Niñas, Adolescentes y Jóvenes SENAME","Niños, Niñas, Adolescentes y Jóvenes Mejor Niñez"]
[null,null,null,null,null,"0 - 4 años",null,"5 - 9 años",null,"10 - 14 años",null,"15-19 años ",null,"20-24 años",null,"25-29 años",null,"30-34 años",null,"35-39 años",null,"40-44 años",null,"45-49 años",null,"50-54 años",null,"55-59 años",null,"60-64 años",null,"65-69 años",null,"70-74 años",null,"75- 79 años",null,"80 y más años"]
[null,null,"Ambos Sexos","Hombres","Mujeres","Hombres","Mujeres","Hombres","Mujeres","Hombres","Mujeres","Hombres","Mujeres","Hombres","Mujeres","Hombres","Mujeres","Hombres","Mujeres","Hombres","Mujeres","Hombres","Mujeres","Hombres","Mujeres","Hombres","Mujeres","Hombres","Mujeres","Hombres","Mujeres","Hombres","Mujeres","Hombres","Mujeres","Hombres","Mujeres","Hombres","Mujeres",null,"Masculino","Femenino"]
["Actividad física y alimentación saludable","Médico/a",{"$f":"SUM(D13+E13)","v":0},{"$f":"+F13+H13+J13+L13+N13+P13+R13+T13+V13+X13+Z13+AB13+AD13+AF13+AH13+AJ13+AL13","v":0},{"$f":"+G13+I13+K13+M13+O13+Q13+S13+U13+W13+Y13+AA13+AC13+AE13+AG13+AI13+AK13+AM13","v":0},null,null,null,null,null,null,null,null,null,null,null,null,null,null,null,null,null,null,null,null,null,null,null,null,null,null,null,null,null,null,null,null,null,null,null,null,null,null,null,null,null,null,{"$f":"$CA13&$CB13&CC13&CD13&CE13&CG13&CH13","v":""},null,null,null,null,null,null,null,null,null,null,null,null,null,null,null,null,null,null,null,null,null,null,null,null,null,null,null,null,null,null,{"$f":"IF(AND($C13<>0,AN13=\"\"),\"* No olvide ingresar la columna Espacios Amigables /adolescentes (Digite CERO si no tiene). \",IF(AN13>$C13,\"* El Número de Espacios Amigables no puede superar el Total. \",\"\"))","v":""},{"$f":"IF(AND(E13>0,OR(AO13=\"\")),\"No olvide digitar los campos *TRANS Masculino (Digite CERO si no tiene).\",IF(AO13>E13,\"* El Número de TRANS Masculino no puede superar el Total Mujeres. \",\"\"))","v":""},{"$f":"IF(AND(D13>0,OR(AP13=\"\")),\"No olvide digitar los campos *TRANS Femenino (Digite CERO si no tiene).\",IF(AP13>$D13,\"* El Número de TRANS Femenino no puede superar el Total Hombres. \",\"\"))","v":""},{"$f":"IF(AND($C13<>0,AQ13=\"\"),\"* No olvide ingresar la columna Pueblos Originarios (Digite CERO si no tiene).  \",IF(AQ13>$C13,\"* El Número de Pueblos Originarios no puede superar el Total. \",\"\"))","v":""},{"$f":"IF(AND($C13<>0,AR13=\"\"),\"* No olvide ingresar la columna Migrantes (Digite CERO si no tiene).  \",IF(AR13>$C13,\"* El Número de Migrantes no puede superar el Total. \",\"\"))","v":""},null,{"$f":"IF(AND($C13<>0,AT13=\"\"),\"* No olvide ingresar la columna Niños, Niñas, Adolescentes y Jóvenes SENAME (Digite CERO si no tiene).  \",IF(AT13>$C13,\"* El Número de Niños, Niñas, Adolescentes y Jóvenes SENAME no puede superar el Total. \",\"\"))","v":""},{"$f":"IF(AND($C13<>0,AU13=\"\"),\"* No olvide ingresar la columna Niños, Niñas, Adolescentes y Jóvenes Mejor Niñez (Digite CERO si no tiene). \",IF(AU13>$C13,\"* El Número de Niños, Niñas, Adolescentes y Jóvenes Mejor Niñez no puede superar el Total. \",\"\"))","v":""},null,{"$f":"IF(AND($C13<>0,AN13=\"\"),1,IF(AN13>$C13,1,0))","v":0},{"$f":"IF(AND(E13>0,OR(AO13=\"\")),1,IF(AO13>E13,1,0))","v":0},{"$f":"IF(AND(D13>0,OR(AP13=\"\")),1,IF(AP13>D13,1,0))","v":0},{"$f":"IF(AND($C13<>0,AQ13=\"\"),1,IF(AQ13>$C13,1,0))","v":0},{"$f":"IF(AND($C13<>0,AR13=\"\"),1,IF(AR13>$C13,1,0))","v":0},null,{"$f":"IF(AND($C13<>0,AT13=\"\"),1,IF(AT13>$C13,1,0))","v":0},{"$f":"IF(AND($C13<>0,AU13=\"\"),1,IF(AU13>$C13,1,0))","v":0}]
[null,"Enfermera /o",0,{"$f":"+F14+H14+J14+L14+N14+P14+R14+T14+V14+X14+Z14+AB14+AD14+AF14+AH14+AJ14+AL14","v":0},{"$f":"+G14+I14+K14+M14+O14+Q14+S14+U14+W14+Y14+AA14+AC14+AE14+AG14+AI14+AK14+AM14","v":0},null,null,null,null,null,null,null,null,null,null,null,null,null,null,null,null,null,null,null,null,null,null,null,null,null,null,null,null,null,null,null,null,null,null,null,null,null,null,null,null,null,null,{"$f":"$CA14&$CB14&CC14&CD14&CE14&CG14&CH14","v":""},null,null,null,null,null,null,null,null,null,null,null,null,null,null,null,null,null,null,null,null,null,null,null,null,null,null,null,null,null,null,{"$f":"IF(AND($C14<>0,AN14=\"\"),\"* No olvide ingresar la columna Espacios Amigables /adolescentes (Digite CERO si no tiene). \",IF(AN14>$C14,\"* El Número de Espacios Amigables no puede superar el Total. \",\"\"))","v":""},{"$f":"IF(AND(E14>0,OR(AO14=\"\")),\"No olvide digitar los campos *TRANS Masculino (Digite CERO si no tiene).\",IF(AO14>E14,\"* El Número de TRANS Masculino no puede superar el Total Mujeres. \",\"\"))","v":""},{"$f":"IF(AND(D14>0,OR(AP14=\"\")),\"No olvide digitar los campos *TRANS Femenino (Digite CERO si no tiene).\",IF(AP14>$D14,\"* El Número de TRANS Femenino no puede superar el Total Hombres. \",\"\"))","v":""},{"$f":"IF(AND($C14<>0,AQ14=\"\"),\"* No olvide ingresar la columna Pueblos Originarios (Digite CERO si no tiene).  \",IF(AQ14>$C14,\"* El Número de Pueblos Originarios no puede superar el Total. \",\"\"))","v":""},{"$f":"IF(AND($C14<>0,AR14=\"\"),\"* No olvide ingresar la columna Migrantes (Digite CERO si no tiene).  \",IF(AR14>$C14,\"* El Número de Migrantes no puede superar el Total. \",\"\"))","v":""},null,{"$f":"IF(AND($C14<>0,AT14=\"\"),\"* No olvide ingresar la columna Niños, Niñas, Adolescentes y Jóvenes SENAME (Digite CERO si no tiene).  \",IF(AT14>$C14,\"* El Número de Niños, Niñas, Adolescentes y Jóvenes SENAME no puede superar el Total. \",\"\"))","v":""},{"$f":"IF(AND($C14<>0,AU14=\"\"),\"* No olvide ingresar la columna Niños, Niñas, Adolescentes y Jóvenes Mejor Niñez (Digite CERO si no tiene). \",IF(AU14>$C14,\"* El Número de Niños, Niñas, Adolescentes y Jóvenes Mejor Niñez no puede superar el Total. \",\"\"))","v":""},null,{"$f":"IF(AND($C14<>0,AN14=\"\"),1,IF(AN14>$C14,1,0))","v":0},{"$f":"IF(AND(E14>0,OR(AO14=\"\")),1,IF(AO14>E14,1,0))","v":0},{"$f":"IF(AND(D14>0,OR(AP14=\"\")),1,IF(AP14>D14,1,0))","v":0},{"$f":"IF(AND($C14<>0,AQ14=\"\"),1,IF(AQ14>$C14,1,0))","v":0},{"$f":"IF(AND($C14<>0,AR14=\"\"),1,IF(AR14>$C14,1,0))","v":0},null,{"$f":"IF(AND($C14<>0,AT14=\"\"),1,IF(AT14>$C14,1,0))","v":0},{"$f":"IF(AND($C14<>0,AU14=\"\"),1,IF(AU14>$C14,1,0))","v":0}]
[null,"Matrona/ón",0,0,0,null,null,null,null,null,null,null,null,null,null,null,null,null,null,null,null,null,null,null,null,null,null,null,null,null,null,null,null,null,null,null,null,null,null,null,null,null,null,null,null,null,null,"",null,null,null,null,null,null,null,null,null,null,null,null,null,null,null,null,null,null,null,null,null,null,null,null,null,null,null,null,null,null,"","","","","",null,"","",null,0,0,0,0,0,null,0,0]
[null,"Nutricionista",0,0,0,null,null,null,null,null,null,null,null,null,null,null,null,null,null,null,null,null,null,null,null,null,null,null,null,null,null,null,null,null,null,null,null,null,null,null,null,null,null,null,null,null,null,"",null,null,null,null,null,null,null,null,null,null,null,null,null,null,null,null,null,null,null,null,null,null,null,null,null,null,null,null,null,null,"","","","","",null,"","",null,0,0,0,0,0,null,0,0]
[null,"Trabajador/a Social",0,0,0,null,null,null,null,null,null,null,null,null,null,null,null,null,null,null,null,null,null,null,null,null,null,null,null,null,null,null,null,null,null,null,null,null,null,null,null,null,null,null,null,null,null,"",null,null,null,null,null,null,null,null,null,null,null,null,null,null,null,null,null,null,null,null,null,null,null,null,null,null,null,null,null,null,"","","","","",null,"","",null,0,0,0,0,0,null,0,0]
[null,"Psicólogo /a",0,0,0,null,null,null,null,null,null,null,null,null,null,null,null,null,null,null,null,null,null,null,null,null,null,null,null,null,null,null,null,null,null,null,null,null,null,null,null,null,null,null,null,null,null,"",null,null,null,null,null,null,null,null,null,null,null,null,null,null,null,null,null,null,null,null,null,null,null,null,null,null,null,null,null,null,"","","","","",null,"","",null,0,0,0,0,0,null,0,0]
[null,"Kinesiólogo/a",0,0,0,null,null,null,null,null,null,null,null,null,null,null,null,null,null,null,null,null,null,null,null,null,null,null,null,null,null,null,null,null,null,null,null,null,null,null,null,null,null,null,null,null,null,"",null,null,null,null,null,null,null,null,null,null,null,null,null,null,null,null,null,null,null,null,null,null,null,null,null,null,null,null,null,null,"","","","","",null,"","",null,0,0,0,0,0,null,0,0]
[null,"Terapeuta ocupacional",0,0,0,null,null,null,null,null,null,null,null,null,null,null,null,null,null,null,null,null,null,null,null,null,null,null,null,null,null,null,null,null,null,null,null,null,null,null,null,null,null,null,null,null,null,"",null,null,null,null,null,null,null,null,null,null,null,null,null,null,null,null,null,null,null,null,null,null,null,null,null,null,null,null,null,null,"","","","","",null,"","",null,0,0,0,0,0,null,0,0]
[null,"Otro profesional",0,0,0,null,null,null,null,null,null,null,null,null,null,null,null,null,null,null,null,null,null,null,null,null,null,null,null,null,null,null,null,null,null,null,null,null,null,null,null,null,null,null,null,null,null,"",null,null,null,null,null,null,null,null,null,null,null,null,null,null,null,null,null,null,null,null,null,null,null,null,null,null,null,null,null,null,"","","","","",null,"","",null,0,0,0,0,0,null,0,0]
[null,"Facilitador/a intercultural",0,0,0,null,null,null,null,null,null,null,null,null,null,null,null,null,null,null,null,null,null,null,null,null,null,null,null,null,null,null,null,null,null,null,null,null,null,null,null,null,null,null,null,null,null,"",null,null,null,null,null,null,null,null,null,null,null,null,null,null,null,null,null,null,null,null,null,null,null,null,null,null,null,null,null,null,"","","","","",null,"","",null,0,0,0,0,0,null,0,0]
[null,"Técnico en Enfermería",0,0,0,null,null,null,null,null,null,null,null,null,null,null,null,null,null,null,null,null,null,null,null,null,null,null,null,null,null,null,null,null,null,null,null,null,null,null,null,null,null,null,null,null,null,"",null,null,null,null,null,null,null,null,null,null,null,null,null,null,null,null,null,null,null,null,null,null,null,null,null,null,null,null,null,null,"","","","","",null,"","",null,0,0,0,0,0,null,0,0]
["Tabaquismo","Médico/a",0,{"$f":"SUM(H24+J24+L24+N24+P24+R24+T24+V24+X24+Z24+AB24+AD24+AF24+AH24+AJ24+AL24)","v":0},{"$f":"SUM(I24+K24+M24+O24+Q24+S24+U24+W24+Y24+AA24+AC24+AE24+AG24+AI24+AK24+AM24)","v":0},null,null,null,null,null,null,null,null,null,null,null,null,null,null,null,null,null,null,null,null,null,null,null,null,null,null,null,null,null,null,null,null,null,null,null,null,null,null,null,null,null,null,"",null,null,null,null,null,null,null,null,null,null,null,null,null,null,null,null,null,null,null,null,null,null,null,null,null,null,null,null,null,null,"","","","","",null,"","",null,0,0,0,0,0,null,0,0]
[null,"Enfermera /o",0,{"$f":"SUM(H25+J25+L25+N25+P25+R25+T25+V25+X25+Z25+AB25+AD25+AF25+AH25+AJ25+AL25)","v":0},0,null,null,null,null,null,null,null,null,null,null,null,null,null,null,null,null,null,null,null,null,null,null,null,null,null,null,null,null,null,null,null,null,null,null,null,null,null,null,null,null,null,null,"",null,null,null,null,null,null,null,null,null,null,null,null,null,null,null,null,null,null,null,null,null,null,null,null,null,null,null,null,null,null,"","","","","",null,"","",null,0,0,0,0,0,null,0,0]
[null,"Matrona/ón",0,0,0,null,null,null,null,null,null,null,null,null,null,null,null,null,null,null,null,null,null,null,null,null,null,null,null,null,null,null,null,null,null,null,null,null,null,null,null,null,null,null,null,null,null,"",null,null,null,null,null,null,null,null,null,null,null,null,null,null,null,null,null,null,null,null,null,null,null,null,null,null,null,null,null,null,"","","","","",null,"","",null,0,0,0,0,0,null,0,0]
[null,"Nutricionista",0,0,0,null,null,null,null,null,null,null,null,null,null,null,null,null,null,null,null,null,null,null,null,null,null,null,null,null,null,null,null,null,null,null,null,null,null,null,null,null,null,null,null,null,null,"",null,null,null,null,null,null,null,null,null,null,null,null,null,null,null,null,null,null,null,null,null,null,null,null,null,null,null,null,null,null,"","","","","",null,"","",null,0,0,0,0,0,null,0,0]
[null,"Trabajador/a social",0,0,0,null,null,null,null,null,null,null,null,null,null,null,null,null,null,null,null,null,null,null,null,null,null,null,null,null,null,null,null,null,null,null,null,null,null,null,null,null,null,null,null,null,null,"",null,null,null,null,null,null,null,null,null,null,null,null,null,null,null,null,null,null,null,null,null,null,null,null,null,null,null,null,null,null,"","","","","",null,"","",null,0,0,0,0,0,null,0,0]
[null,"Psicólogo /a",0,0,0,null,null,null,null,null,null,null,null,null,null,null,null,null,null,null,null,null,null,null,null,null,null,null,null,null,null,null,null,null,null,null,null,null,null,null,null,null,null,null,null,null,null,"",null,null,null,null,null,null,null,null,null,null,null,null,null,null,null,null,null,null,null,null,null,null,null,null,null,null,null,null,null,null,"","","","","",null,"","",null,0,0,0,0,0,null,0,0]
[null,"Kinesiólogo/a",0,0,0,null,null,null,null,null,null,null,null,null,null,null,null,null,null,null,null,null,null,null,null,null,null,null,null,null,null,null,null,null,null,null,null,null,null,null,null,null,null,null,null,null,null,"",null,null,null,null,null,null,null,null,null,null,null,null,null,null,null,null,null,null,null,null,null,null,null,null,null,null,null,null,null,null,"","","","","",null,"","",null,0,0,0,0,0,null,0,0]
[null,"Terapeuta ocupacional",0,0,0,null,null,null,null,null,null,null,null,null,null,null,null,null,null,null,null,null,null,null,null,null,null,null,null,null,null,null,null,null,null,null,null,null,null,null,null,null,null,null,null,null,null,"",null,null,null,null,null,null,null,null,null,null,null,null,null,null,null,null,null,null,null,null,null,null,null,null,null,null,null,null,null,null,"","","","","",null,"","",null,0,0,0,0,0,null,0,0]
[null,"Otro profesional",0,0,0,null,null,null,null,null,null,null,null,null,null,null,null,null,null,null,null,null,null,null,null,null,null,null,null,null,null,null,null,null,null,null,null,null,null,null,null,null,null,null,null,null,null,"",null,null,null,null,null,null,null,null,null,null,null,null,null,null,null,null,null,null,null,null,null,null,null,null,null,null,null,null,null,null,"","","","","",null,"","",null,0,0,0,0,0,null,0,0]
[null,"Facilitador/a intercultural",0,0,0,null,null,null,null,null,null,null,null,null,null,null,null,null,null,null,null,null,null,null,null,null,null,null,null,null,null,null,null,null,null,null,null,null,null,null,null,null,null,null,null,null,null,"",null,null,null,null,null,null,null,null,null,null,null,null,null,null,null,null,null,null,null,null,null,null,null,null,null,null,null,null,null,null,"","","","","",null,"","",null,0,0,0,0,0,null,0,0]
[null,"Técnico en Enfermería",0,0,0,null,null,null,null,null,null,null,null,null,null,null,null,null,null,null,null,null,null,null,null,null,null,null,null,null,null,null,null,null,null,null,null,null,null,null,null,null,null,null,null,null,null,"",null,null,null,null,null,null,null,null,null,null,null,null,null,null,null,null,null,null,null,null,null,null,null,null,null,null,null,null,null,null,"","","","","",null,"","",null,0,0,0,0,0,null,0,0]
["Consumo de drogas","Médico/a",0,0,0,null,null,null,null,null,null,null,null,null,null,null,null,null,null,null,null,null,null,null,null,null,null,null,null,null,null,null,null,null,null,null,null,null,null,null,null,null,null,null,null,null,null,"",null,null,null,null,null,null,null,null,null,null,null,null,null,null,null,null,null,null,null,null,null,null,null,null,null,null,null,null,null,null,"","","","","",null,"","",null,0,0,0,0,0,null,0,0]
[null,"Enfermera /o",0,{"$f":"SUM(H36+J36+L36+N36+P36+R36+T36+V36+X36+Z36+AB36+AD36+AF36+AH36+AJ36+AL36)","v":0},0,null,null,null,null,null,null,null,null,null,null,null,null,null,null,null,null,null,null,null,null,null,null,null,null,null,null,null,null,null,null,null,null,null,null,null,null,null,null,null,null,null,null,"",null,null,null,null,null,null,null,null,null,null,null,null,null,null,null,null,null,null,null,null,null,null,null,null,null,null,null,null,null,null,"","","","","",null,"","",null,0,0,0,0,0,null,0,0]
[null,"Matrona/ón",0,0,0,null,null,null,null,null,null,null,null,null,null,null,null,null,null,null,null,null,null,null,null,null,null,null,null,null,null,null,null,null,null,null,null,null,null,null,null,null,null,null,null,null,null,"",null,null,null,null,null,null,null,null,null,null,null,null,null,null,null,null,null,null,null,null,null,null,null,null,null,null,null,null,null,null,"","","","","",null,"","",null,0,0,0,0,0,null,0,0]
[null,"Nutricionista",0,0,0,null,null,null,null,null,null,null,null,null,null,null,null,null,null,null,null,null,null,null,null,null,null,null,null,null,null,null,null,null,null,null,null,null,null,null,null,null,null,null,null,null,null,"",null,null,null,null,null,null,null,null,null,null,null,null,null,null,null,null,null,null,null,null,null,null,null,null,null,null,null,null,null,null,"","","","","",null,"","",null,0,0,0,0,0,null,0,0]
[null,"Trabajador/a social",0,{"$f":"SUM(H39+J39+L39+N39+P39+R39+T39+V39+X39+Z39+AB39+AD39+AF39+AH39+AJ39+AL39)","v":0},0,null,null,null,null,null,null,null,null,null,null,null,null,null,null,null,null,null,null,null,null,null,null,null,null,null,null,null,null,null,null,null,null,null,null,null,null,null,null,null,null,null,null,"",null,null,null,null,null,null,null,null,null,null,null,null,null,null,null,null,null,null,null,null,null,null,null,null,null,null,null,null,null,null,"","","","","",null,"","",null,0,0,0,0,0,null,0,0]
[null,"Psicólogo /a",0,0,0,null,null,null,null,null,null,null,null,null,null,null,null,null,null,null,null,null,null,null,null,null,null,null,null,null,null,null,null,null,null,null,null,null,null,null,null,null,null,null,null,null,null,"",null,null,null,null,null,null,null,null,null,null,null,null,null,null,null,null,null,null,null,null,null,null,null,null,null,null,null,null,null,null,"","","","","",null,"","",null,0,0,0,0,0,null,0,0]
[null,"Kinesiólogo/a",0,{"$f":"SUM(H41+J41+L41+N41+P41+R41+T41+V41+X41+Z41+AB41+AD41+AF41+AH41+AJ41+AL41)","v":0},0,null,null,null,null,null,null,null,null,null,null,null,null,null,null,null,null,null,null,null,null,null,null,null,null,null,null,null,null,null,null,null,null,null,null,null,null,null,null,null,null,null,null,"",null,null,null,null,null,null,null,null,null,null,null,null,null,null,null,null,null,null,null,null,null,null,null,null,null,null,null,null,null,null,"","","","","",null,"","",null,0,0,0,0,0,null,0,0]
[null,"Terapeuta ocupacional",0,0,0,null,null,null,null,null,null,null,null,null,null,null,null,null,null,null,null,null,null,null,null,null,null,null,null,null,null,null,null,null,null,null,null,null,null,null,null,null,null,null,null,null,null,"",null,null,null,null,null,null,null,null,null,null,null,null,null,null,null,null,null,null,null,null,null,null,null,null,null,null,null,null,null,null,"","","","","",null,"","",null,0,0,0,0,0,null,0,0]
[null,"Otro profesional",0,0,0,null,null,null,null,null,null,null,null,null,null,null,null,null,null,null,null,null,null,null,null,null,null,null,null,null,null,null,null,null,null,null,null,null,null,null,null,null,null,null,null,null,null,"",null,null,null,null,null,null,null,null,null,null,null,null,null,null,null,null,null,null,null,null,null,null,null,null,null,null,null,null,null,null,"","","","","",null,"","",null,0,0,0,0,0,null,0,0]
[null,"Facilitador/a intercultural",0,0,0,null,null,null,null,null,null,null,null,null,null,null,null,null,null,null,null,null,null,null,null,null,null,null,null,null,null,null,null,null,null,null,null,null,null,null,null,null,null,null,null,null,null,"",null,null,null,null,null,null,null,null,null,null,null,null,null,null,null,null,null,null,null,null,null,null,null,null,null,null,null,null,null,null,"","","","","",null,"","",null,0,0,0,0,0,null,0,0]
[null,"Técnico en Enfermería",0,0,0,null,null,null,null,null,null,null,null,null,null,null,null,null,null,null,null,null,null,null,null,null,null,null,null,null,null,null,null,null,null,null,null,null,null,null,null,null,null,null,null,null,null,"",null,null,null,null,null,null,null,null,null,null,null,null,null,null,null,null,null,null,null,null,null,null,null,null,null,null,null,null,null,null,"","","","","",null,"","",null,0,0,0,0,0,null,0,0]
["Salud sexual y reproductiva con o sin entrega de preservativos","Médico/a",0,{"$f":"SUM(J46+L46+N46+P46+R46+T46+V46+X46+Z46+AB46+AD46+AF46+AH46+AJ46+AL46)","v":0},{"$f":"SUM(K46+M46+O46+Q46+S46+U46+W46+Y46+AA46+AC46+AE46+AG46+AI46+AK46+AM46)","v":0},null,null,null,null,null,null,null,null,null,null,null,null,null,null,null,null,null,null,null,null,null,null,null,null,null,null,null,null,null,null,null,null,null,null,null,null,null,null,null,null,null,null,{"$f":"$CA46&$CB46&CC46&CD46&CE46&CF46&CG46&CH46","v":""},null,null,null,null,null,null,null,null,null,null,null,null,null,null,null,null,null,null,null,null,null,null,null,null,null,null,null,null,null,null,"","","","",{"$f":"IF(AND($C46<>0,AR46=\"\"),\"* No olvide ingresar la columna Migrantes (Digite CERO si no tiene).  \",IF(AR46>$C46,\"* El Número de Migrantes no puede superar el Total. \",\"\"))","v":""},{"$f":"IF(AND(SUM(J46:M46)>0,AS46=\"\"),\"* No olvide digitar la variable 14-18 años. Si no tiene digite Cero.\",IF(AS46>SUM(J46:M46),\"* La variable 14-18 años no puede ser mayor al total por grupo edad de 10 a 19 años. \",\"\"))","v":""},"","",null,0,0,0,0,0,{"$f":"IF(AND(SUM(J46:M46)>0,AS46=\"\"),1,IF(AS46>SUM(J46:M46),1,0))","v":0},0,0]
[null,"Enfermera /o",0,{"$f":"SUM(J47+L47+N47+P47+R47+T47+V47+X47+Z47+AB47+AD47+AF47+AH47+AJ47+AL47)","v":0},{"$f":"SUM(K47+M47+O47+Q47+S47+U47+W47+Y47+AA47+AC47+AE47+AG47+AI47+AK47+AM47)","v":0},null,null,null,null,null,null,null,null,null,null,null,null,null,null,null,null,null,null,null,null,null,null,null,null,null,null,null,null,null,null,null,null,null,null,null,null,null,null,null,null,null,null,{"$f":"$CA47&$CB47&CC47&CD47&CE47&CF47&CG47&CH47","v":""},null,null,null,null,null,null,null,null,null,null,null,null,null,null,null,null,null,null,null,null,null,null,null,null,null,null,null,null,null,null,"","","","","",{"$f":"IF(AND(SUM(J47:M47)>0,AS47=\"\"),\"* No olvide digitar la variable 14-18 años. Si no tiene digite Cero.\",IF(AS47>SUM(J47:M47),\"* La variable 14-18 años no puede ser mayor al total por grupo edad de 10 a 19 años. \",\"\"))","v":""},"","",null,0,0,0,0,0,{"$f":"IF(AND(SUM(J47:M47)>0,AS47=\"\"),1,IF(AS47>SUM(J47:M47),1,0))","v":0},0,0]
[null,"Matrona/ón",0,{"$f":"SUM(J48+L48+N48+P48+R48+T48+V48+X48+Z48+AB48+AD48+AF48+AH48+AJ48+AL48)","v":0},{"$f":"SUM(K48+M48+O48+Q48+S48+U48+W48+Y48+AA48+AC48+AE48+AG48+AI48+AK48+AM48)","v":0},null,null,null,null,null,null,null,null,null,null,null,null,null,null,null,null,null,null,null,null,null,null,null,null,null,null,null,null,null,null,null,null,null,null,null,null,null,null,null,null,null,null,"",null,null,null,null,null,null,null,null,null,null,null,null,null,null,null,null,null,null,null,null,null,null,null,null,null,null,null,null,null,null,"","","","","","","","",null,0,0,0,0,0,0,0,0]
[null,"Psicólogo /a",0,0,0,null,null,null,null,null,null,null,null,null,null,null,null,null,null,null,null,null,null,null,null,null,null,null,null,null,null,null,null,null,null,null,null,null,null,null,null,null,null,null,null,null,null,"",null,null,null,null,null,null,null,null,null,null,null,null,null,null,null,null,null,null,null,null,null,null,null,null,null,null,null,null,null,null,"","","","","","","","",null,0,0,0,0,0,0,0,0]
[null,"Facilitador/a intercultural",0,{"$f":"SUM(J50+L50+N50+P50+R50+T50+V50+X50+Z50+AB50+AD50+AF50+AH50+AJ50+AL50)","v":0},{"$f":"SUM(K50+M50+O50+Q50+S50+U50+W50+Y50+AA50+AC50+AE50+AG50+AI50+AK50+AM50)","v":0},null,null,null,null,null,null,null,null,null,null,null,null,null,null,null,null,null,null,null,null,null,null,null,null,null,null,null,null,null,null,null,null,null,null,null,null,null,null,null,null,null,null,"",null,null,null,null,null,null,null,null,null,null,null,null,null,null,null,null,null,null,null,null,null,null,null,null,null,null,null,null,null,null,"","","","","","","","",null,0,0,0,0,0,0,0,0]
[null,"Otro profesional",0,0,0,null,null,null,null,null,null,null,null,null,null,null,null,null,null,null,null,null,null,null,null,null,null,null,null,null,null,null,null,null,null,null,null,null,null,null,null,null,null,null,null,null,null,"",null,null,null,null,null,null,null,null,null,null,null,null,null,null,null,null,null,null,null,null,null,null,null,null,null,null,null,null,null,null,"","","","","","","","",null,0,0,0,0,0,0,0,0]
["Regulación de fertilidad con o sin entrega de preservativos","Médico/a",0,{"$f":"SUM(J52+L52+N52+P52+R52+T52+V52+X52+Z52+AB52)","v":0},0,null,null,null,null,null,null,null,null,null,null,null,null,null,null,null,null,null,null,null,null,null,null,null,null,null,null,null,null,null,null,null,null,null,null,null,null,null,null,null,null,null,null,"",null,null,null,null,null,null,null,null,null,null,null,null,null,null,null,null,null,null,null,null,null,null,null,null,null,null,null,null,null,null,"","","","","","","","",null,0,0,0,0,0,0,0,0]
[null,"Matrona/ón",0,0,0,null,null,null,null,null,null,null,null,null,null,null,null,null,null,null,null,null,null,null,null,null,null,null,null,null,null,null,null,null,null,null,null,null,null,null,null,null,null,null,null,null,null,"",null,null,null,null,null,null,null,null,null,null,null,null,null,null,null,null,null,null,null,null,null,null,null,null,null,null,null,null,null,null,"","","","","","","","",null,0,0,0,0,0,0,0,0]
[null,"Facilitador/a intercultural",0,0,0,null,null,null,null,null,null,null,null,null,null,null,null,null,null,null,null,null,null,null,null,null,null,null,null,null,null,null,null,null,null,null,null,null,null,null,null,null,null,null,null,null,null,"",null,null,null,null,null,null,null,null,null,null,null,null,null,null,null,null,null,null,null,null,null,null,null,null,null,null,null,null,null,null,"","","","","","","","",null,0,0,0,0,0,0,0,0]
[null,"Otro profesional",0,0,0,null,null,null,null,null,null,null,null,null,null,null,null,null,null,null,null,null,null,null,null,null,null,null,null,null,null,null,null,null,null,null,null,null,null,null,null,null,null,null,null,null,null,"",null,null,null,null,null,null,null,null,null,null,null,null,null,null,null,null,null,null,null,null,null,null,null,null,null,null,null,null,null,null,"","","","","","","","",null,0,0,0,0,0,0,0,0]
["Prevención VIH e infección de transmisión sexual (ITS) con o sin entrega de preservativos","Médico/a",0,{"$f":"SUM(J56+L56+N56+P56+R56+T56+V56+X56+Z56+AB56+AD56+AF56+AH56+AJ56+AL56)","v":0},{"$f":"SUM(K56+M56+O56+Q56+S56+U56+W56+Y56+AA56+AC56+AE56+AG56+AI56+AK56+AM56)","v":0},null,null,null,null,null,null,null,null,null,null,null,null,null,null,null,null,null,null,null,null,null,null,null,null,null,null,null,null,null,null,null,null,null,null,null,null,null,null,null,null,null,null,"",null,null,null,null,null,null,null,null,null,null,null,null,null,null,null,null,null,null,null,null,null,null,null,null,null,null,null,null,null,null,"","","","","","","","",null,0,0,0,0,0,0,0,0]
[null,"Enfermera /o",0,{"$f":"SUM(J57+L57+N57+P57+R57+T57+V57+X57+Z57+AB57+AD57+AF57+AH57+AJ57+AL57)","v":0},0,null,null,null,null,null,null,null,null,null,null,null,null,null,null,null,null,null,null,null,null,null,null,null,null,null,null,null,null,null,null,null,null,null,null,null,null,null,null,null,null,null,null,"",null,null,null,null,null,null,null,null,null,null,null,null,null,null,null,null,null,null,null,null,null,null,null,null,null,null,null,null,null,null,"","","","","","","","",null,0,0,0,0,0,0,0,0]
[null,"Matrona/ón",0,0,0,null,null,null,null,null,null,null,null,null,null,null,null,null,null,null,null,null,null,null,null,null,null,null,null,null,null,null,null,null,null,null,null,null,null,null,null,null,null,null,null,null,null,"",null,null,null,null,null,null,null,null,null,null,null,null,null,null,null,null,null,null,null,null,null,null,null,null,null,null,null,null,null,null,"","","","","","","","",null,0,0,0,0,0,0,0,0]
[null,"Trabajador/a social",0,0,0,null,null,null,null,null,null,null,null,null,null,null,null,null,null,null,null,null,null,null,null,null,null,null,null,null,null,null,null,null,null,null,null,null,null,null,null,null,null,null,null,null,null,"",null,null,null,null,null,null,null,null,null,null,null,null,null,null,null,null,null,null,null,null,null,null,null,null,null,null,null,null,null,null,"","","","","","","","",null,0,0,0,0,0,0,0,0]
[null,"Psicóloga /o",0,0,0,null,null,null,null,null,null,null,null,null,null,null,null,null,null,null,null,null,null,null,null,null,null,null,null,null,null,null,null,null,null,null,null,null,null,null,null,null,null,null,null,null,null,"",null,null,null,null,null,null,null,null,null,null,null,null,null,null,null,null,null,null,null,null,null,null,null,null,null,null,null,null,null,null,"","","","","","","","",null,0,0,0,0,0,0,0,0]
[null,"Facilitador/a intercultural",0,0,0,null,null,null,null,null,null,null,null,null,null,null,null,null,null,null,null,null,null,null,null,null,null,null,null,null,null,null,null,null,null,null,null,null,null,null,null,null,null,null,null,null,null,"",null,null,null,null,null,null,null,null,null,null,null,null,null,null,null,null,null,null,null,null,null,null,null,null,null,null,null,null,null,null,"","","","","","","","",null,0,0,0,0,0,0,0,0]
[null,"Otro profesional",0,0,0,null,null,null,null,null,null,null,null,null,null,null,null,null,null,null,null,null,null,null,null,null,null,null,null,null,null,null,null,null,null,null,null,null,null,null,null,null,null,null,null,null,null,"",null,null,null,null,null,null,null,null,null,null,null,null,null,null,null,null,null,null,null,null,null,null,null,null,null,null,null,null,null,null,"","","","","","","","",null,0,0,0,0,0,0,0,0]
["Prevención de la transmisión vertical del VIH (embarazadas) con o sin entrega de preservativos","Médico/a previo examen VIH",{"$f":"SUM(D63+E63)","v":0},null,{"$f":"SUM(K63+M63+O63+Q63+S63+U63+W63+Y63+AA63+AC63)","v":0},null,null,null,null,null,null,null,null,null,null,null,null,null,null,null,null,null,null,null,null,null,null,null,null,null,null,null,null,null,null,null,null,null,null,null,null,null,null,null,null,null,null,"",null,null,null,null,null,null,null,null,null,null,null,null,null,null,null,null,null,null,null,null,null,null,null,null,null,null,null,null,null,null,"","","","","","","","",null,0,0,0,0,0,0,0,0]
[null,"Matrona/ón previo examen VIH",0,null,{"$f":"SUM(K64+M64+O64+Q64+S64+U64+W64+Y64+AA64+AC64)","v":0},null,null,null,null,null,null,null,null,null,null,null,null,null,null,null,null,null,null,null,null,null,null,null,null,null,null,null,null,null,null,null,null,null,null,null,null,null,null,null,null,null,null,"",null,null,null,null,null,null,null,null,null,null,null,null,null,null,null,null,null,null,null,null,null,null,null,null,null,null,null,null,null,null,"","","","","","","","",null,0,0,0,0,0,0,0,0]
[null,"Médico/a post test",{"$f":"SUM(D65+E65)","v":0},null,{"$f":"SUM(K65+M65+O65+Q65+S65+U65+W65+Y65+AA65+AC65)","v":0},null,null,null,null,null,null,null,null,null,null,null,null,null,null,null,null,null,null,null,null,null,null,null,null,null,null,null,null,null,null,null,null,null,null,null,null,null,null,null,null,null,null,"",null,null,null,null,null,null,null,null,null,null,null,null,null,null,null,null,null,null,null,null,null,null,null,null,null,null,null,null,null,null,"","","","","","","","",null,0,0,0,0,0,0,0,0]
[null,"Matrón /na post test",{"$f":"SUM(D66+E66)","v":0},null,{"$f":"SUM(K66+M66+O66+Q66+S66+U66+W66+Y66+AA66+AC66)","v":0},null,null,null,null,null,null,null,null,null,null,null,null,null,null,null,null,null,null,null,null,null,null,null,null,null,null,null,null,null,null,null,null,null,null,null,null,null,null,null,null,null,null,"",null,null,null,null,null,null,null,null,null,null,null,null,null,null,null,null,null,null,null,null,null,null,null,null,null,null,null,null,null,null,"","","","","","","","",null,0,0,0,0,0,0,0,0]
[null,"Facilitador/a intercultural",{"$f":"SUM(D67+E67)","v":0},null,{"$f":"SUM(K67+M67+O67+Q67+S67+U67+W67+Y67+AA67+AC67)","v":0},null,null,null,null,null,null,null,null,null,null,null,null,null,null,null,null,null,null,null,null,null,null,null,null,null,null,null,null,null,null,null,null,null,null,null,null,null,null,null,null,null,null,"",null,null,null,null,null,null,null,null,null,null,null,null,null,null,null,null,null,null,null,null,null,null,null,null,null,null,null,null,null,null,"","","","","","","","",null,0,0,0,0,0,0,0,0]
["Desarrollo infantil integral","Enfermera /o",{"$f":"SUM(D68+E68)","v":0},{"$f":"SUM(F68+H68+J68)","v":0},{"$f":"SUM(G68+I68+K68)","v":0},null,null,null,null,null,null,null,null,null,null,null,null,null,null,null,null,null,null,null,null,null,null,null,null,null,null,null,null,null,null,null,null,null,null,null,null,null,null,null,null,null,null,"",null,null,null,null,null,null,null,null,null,null,null,null,null,null,null,null,null,null,null,null,null,null,null,null,null,null,null,null,null,null,"","","","","","","","",null,0,0,0,0,0,0,0,0]
["Otras Áreas","Médico/a",{"$f":"SUM(D69+E69)","v":0},{"$f":"+F69+H69+J69+L69+N69+P69+R69+T69+V69+X69+Z69+AB69+AD69+AF69+AH69+AJ69+AL69","v":0},{"$f":"+G69+I69+K69+M69+O69+Q69+S69+U69+W69+Y69+AA69+AC69+AE69+AG69+AI69+AK69+AM69","v":0},null,null,null,null,null,null,null,null,null,null,null,null,null,null,null,null,null,null,null,null,null,null,null,null,null,null,null,null,null,null,null,null,null,null,null,null,null,null,null,null,null,null,"",null,null,null,null,null,null,null,null,null,null,null,null,null,null,null,null,null,null,null,null,null,null,null,null,null,null,null,null,null,null,"","","","","","","","",null,0,0,0,0,0,0,0,0]
[null,"Enfermera /o",0,{"$f":"+F70+H70+J70+L70+N70+P70+R70+T70+V70+X70+Z70+AB70+AD70+AF70+AH70+AJ70+AL70","v":0},0,null,null,null,null,null,null,null,null,null,null,null,null,null,null,null,null,null,null,null,null,null,null,null,null,null,null,null,null,null,null,null,null,null,null,null,null,null,null,null,null,null,null,"",null,null,null,null,null,null,null,null,null,null,null,null,null,null,null,null,null,null,null,null,null,null,null,null,null,null,null,null,null,null,"","","","","","","","",null,0,0,0,0,0,0,0,0]
[null,"Matrona/ón",0,0,0,null,null,null,null,null,null,null,null,null,null,null,null,null,null,null,null,null,null,null,null,null,null,null,null,null,null,null,null,null,null,null,null,null,null,null,null,null,null,null,null,null,null,"",null,null,null,null,null,null,null,null,null,null,null,null,null,null,null,null,null,null,null,null,null,null,null,null,null,null,null,null,null,null,"","","","","","","","",null,0,0,0,0,0,0,0,0]
[null,"Trabajador/a social",0,0,0,null,null,null,null,null,null,null,null,null,null,null,null,null,null,null,null,null,null,null,null,null,null,null,null,null,null,null,null,null,null,null,null,null,null,null,null,null,null,null,null,null,null,"",null,null,null,null,null,null,null,null,null,null,null,null,null,null,null,null,null,null,null,null,null,null,null,null,null,null,null,null,null,null,"","","","","","","","",null,0,0,0,0,0,0,0,0]
[null,"Psicóloga /o",0,0,0,null,null,null,null,null,null,null,null,null,null,null,null,null,null,null,null,null,null,null,null,null,null,null,null,null,null,null,null,null,null,null,null,null,null,null,null,null,null,null,null,null,null,"",null,null,null,null,null,null,null,null,null,null,null,null,null,null,null,null,null,null,null,null,null,null,null,null,null,null,null,null,null,null,"","","","","","","","",null,0,0,0,0,0,0,0,0]
[null,"Terapeuta ocupacional",0,0,0,null,null,null,null,null,null,null,null,null,null,null,null,null,null,null,null,null,null,null,null,null,null,null,null,null,null,null,null,null,null,null,null,null,null,null,null,null,null,null,null,null,null,"",null,null,null,null,null,null,null,null,null,null,null,null,null,null,null,null,null,null,null,null,null,null,null,null,null,null,null,null,null,null,"","","","","","","","",null,0,0,0,0,0,0,0,0]
[null,"Facilitador/a intercultural",0,0,0,null,null,null,null,null,null,null,null,null,null,null,null,null,null,null,null,null,null,null,null,null,null,null,null,null,null,null,null,null,null,null,null,null,null,null,null,null,null,null,null,null,null,"",null,null,null,null,null,null,null,null,null,null,null,null,null,null,null,null,null,null,null,null,null,null,null,null,null,null,null,null,null,null,"","","","","","","","",null,0,0,0,0,0,0,0,0]
[null,"Otro profesional",0,0,0,null,null,null,null,null,null,null,null,null,null,null,null,null,null,null,null,null,null,null,null,null,null,null,null,null,null,null,null,null,null,null,null,null,null,null,null,null,null,null,null,null,null,"",null,null,null,null,null,null,null,null,null,null,null,null,null,null,null,null,null,null,null,null,null,null,null,null,null,null,null,null,null,null,"","","","","","","","",null,0,0,0,0,0,0,0,0]
["SECCIÓN A.2: CONSEJERÍAS INDIVIDUALES POR VIH (NO INCLUIDAS EN LA SECCIÓN A.1)"]
["CONSEJERÍAS","ÁREA O NIVEL","TOTAL              ",null,null,"RANGO ETARIO Y SEXO",null,null,null,null,null,null,null,null,null,null,null,null,null,null,null,null,null,null,null,null,null,null,null,null,null,null,null,null,null,null,null,null,null,"TRANS",null,"Pueblos Originarios","Migrantes","Niños, Niñas, Adolescentes y Jóvenes SENAME","Niños, Niñas, Adolescentes y Jóvenes Mejor Niñez"]
[null,null,null,null,null,"0 - 4 años",null,"5 - 9 años",null,"10 - 14 años",null,"15-19 años ",null,"20-24 años",null,"25-29 años",null,"30-34 años",null,"35-39 años",null,"40-44 años",null,"45-49 años",null,"50-54 años",null,"55-59 años",null,"60-64 años",null,"65-69 años",null,"70-74 años",null,"75- 79 años",null,"80 y más años"]
[null,null,"Ambos Sexos","Hombres","Mujeres","Hombres","Mujeres","Hombres","Mujeres","Hombres","Mujeres","Hombres","Mujeres","Hombres","Mujeres","Hombres","Mujeres","Hombres","Mujeres","Hombres","Mujeres","Hombres","Mujeres","Hombres","Mujeres","Hombres","Mujeres","Hombres","Mujeres","Hombres","Mujeres","Hombres","Mujeres","Hombres","Mujeres","Hombres","Mujeres","Hombres","Mujeres","Masculino","Femenino"]
["Orientación e información previa al examen VIH","Atención de donantes de sangre total y aféresis",{"$f":"SUM(D81+E81)","v":0},{"$f":"+L81+N81+P81+R81+T81+V81+X81+Z81+AB81+AD81+AF81+AH81","v":0},{"$f":"+M81+O81+Q81+S81+U81+W81+Y81+AA81+AC81+AE81+AG81+AI81","v":0},null,null,null,null,null,null,null,null,null,null,null,null,null,null,null,null,null,null,null,null,null,null,null,null,null,null,null,null,null,null,null,null,null,null,null,null,null,null,null,null,{"$f":"$CA81&CB81&$CC81&CD81&CE81&CF81","v":""},null,null,null,null,null,null,null,null,null,null,null,null,null,null,null,null,null,null,null,null,null,null,null,null,null,null,null,null,null,null,null,null,{"$f":"IF(AND(E81>0,OR(AN81=\"\")),\"No olvide digitar los campos *TRANS Masculino (Digite CERO si no tiene).\",IF(AN81>$E81,\"* El Número de TRANS Masculino no puede superar el Total Mujeres. \",\"\"))","v":""},{"$f":"IF(AND(D81>0,OR(AO81=\"\")),\"No olvide digitar los campos *TRANS Femenino (Digite CERO si no tiene).\",IF(AO81>D81,\"* El Número de TRANS Femenino no puede superar el Total Hombres. \",\"\"))","v":""},{"$f":"IF(AND($C81<>0,AP81=\"\"),\"* No olvide ingresar la columna Pueblos Originarios (Digite CERO si no tiene).  \",IF(AP81>$C81,\"* El Número de Pueblos Originarios no puede superar el Total. \",\"\"))","v":""},{"$f":"IF(AND($C81<>0,AQ81=\"\"),\"* No olvide ingresar la columna Migrantes (Digite CERO si no tiene).  \",IF(AQ81>$C81,\"* El Número de Migrantes no puede superar el Total. \",\"\"))","v":""},{"$f":"IF(AND($C81<>0,AR81=\"\"),\"* No olvide ingresar la columna Niños, Niñas, Adolescentes y Jóvenes SENAME (Digite CERO si no tiene).  \",IF(AR81>$C81,\"* El Número de Niños, Niñas, Adolescentes y Jóvenes SENAME no puede superar el Total. \",\"\"))","v":""},{"$f":"IF(AND($C81<>0,AS81=\"\"),\"* No olvide ingresar la columna Niños, Niñas, Adolescentes y Jóvenes Mejor Niñez (Digite CERO si no tiene). \",IF(AS81>$C81,\"* El Número de Niños, Niñas, Adolescentes y Jóvenes Mejor Niñez no puede superar el Total. \",\"\"))","v":""},null,null,null,{"$f":"IF(AND($E81<>0,AN81=\"\"),1,IF(AN81>$E81,1,0))","v":0},{"$f":"IF(AND($D81<>0,AO81=\"\"),1,IF(AO81>$D81,1,0))","v":0},{"$f":"IF(AND($C81<>0,AP81=\"\"),1,IF(AP81>$C81,1,0))","v":0},{"$f":"IF(AND($C81<>0,AQ81=\"\"),1,IF(AQ81>$C81,1,0))","v":0},{"$f":"IF(AND($C81<>0,AR81=\"\"),1,IF(AR81>$C81,1,0))","v":0},{"$f":"IF(AND($C81<>0,AS81=\"\"),1,IF(AS81>$C81,1,0))","v":0}]
[null,"Hospitalización",0,{"$f":"SUM(F82+H82+J82+L82+N82+P82+R82+T82+V82+X82+Z82+AB82+AD82+AF82+AH82+AJ82+AL82)","v":0},0,null,null,null,null,null,null,null,null,null,null,null,null,null,null,null,null,null,null,null,null,null,null,null,null,null,null,null,null,null,null,null,null,null,null,null,null,null,null,null,null,{"$f":"$CA82&CB82&$CC82&CD82&CE82&CF82","v":""},null,null,null,null,null,null,null,null,null,null,null,null,null,null,null,null,null,null,null,null,null,null,null,null,null,null,null,null,null,null,null,null,{"$f":"IF(AND(E82>0,OR(AN82=\"\")),\"No olvide digitar los campos *TRANS Masculino (Digite CERO si no tiene).\",IF(AN82>$E82,\"* El Número de TRANS Masculino no puede superar el Total Mujeres. \",\"\"))","v":""},{"$f":"IF(AND(D82>0,OR(AO82=\"\")),\"No olvide digitar los campos *TRANS Femenino (Digite CERO si no tiene).\",IF(AO82>D82,\"* El Número de TRANS Femenino no puede superar el Total Hombres. \",\"\"))","v":""},{"$f":"IF(AND($C82<>0,AP82=\"\"),\"* No olvide ingresar la columna Pueblos Originarios (Digite CERO si no tiene).  \",IF(AP82>$C82,\"* El Número de Pueblos Originarios no puede superar el Total. \",\"\"))","v":""},{"$f":"IF(AND($C82<>0,AQ82=\"\"),\"* No olvide ingresar la columna Migrantes (Digite CERO si no tiene).  \",IF(AQ82>$C82,\"* El Número de Migrantes no puede superar el Total. \",\"\"))","v":""},{"$f":"IF(AND($C82<>0,AR82=\"\"),\"* No olvide ingresar la columna Niños, Niñas, Adolescentes y Jóvenes SENAME (Digite CERO si no tiene).  \",IF(AR82>$C82,\"* El Número de Niños, Niñas, Adolescentes y Jóvenes SENAME no puede superar el Total. \",\"\"))","v":""},{"$f":"IF(AND($C82<>0,AS82=\"\"),\"* No olvide ingresar la columna Niños, Niñas, Adolescentes y Jóvenes Mejor Niñez (Digite CERO si no tiene). \",IF(AS82>$C82,\"* El Número de Niños, Niñas, Adolescentes y Jóvenes Mejor Niñez no puede superar el Total. \",\"\"))","v":""},null,null,null,{"$f":"IF(AND($E82<>0,AN82=\"\"),1,IF(AN82>$E82,1,0))","v":0},{"$f":"IF(AND($D82<>0,AO82=\"\"),1,IF(AO82>$D82,1,0))","v":0},{"$f":"IF(AND($C82<>0,AP82=\"\"),1,IF(AP82>$C82,1,0))","v":0},{"$f":"IF(AND($C82<>0,AQ82=\"\"),1,IF(AQ82>$C82,1,0))","v":0},{"$f":"IF(AND($C82<>0,AR82=\"\"),1,IF(AR82>$C82,1,0))","v":0},{"$f":"IF(AND($C82<>0,AS82=\"\"),1,IF(AS82>$C82,1,0))","v":0}]
[null,"En CDT - CRS",0,0,0,null,null,null,null,null,null,null,null,null,null,null,null,null,null,null,null,null,null,null,null,null,null,null,null,null,null,null,null,null,null,null,null,null,null,null,null,null,null,null,null,"",null,null,null,null,null,null,null,null,null,null,null,null,null,null,null,null,null,null,null,null,null,null,null,null,null,null,null,null,null,null,null,null,"","","","","","",null,null,null,0,0,0,0,0,0]
[null,"En APS",0,0,0,null,null,null,null,null,null,null,null,null,null,null,null,null,null,null,null,null,null,null,null,null,null,null,null,null,null,null,null,null,null,null,null,null,null,null,null,null,null,null,null,"",null,null,null,null,null,null,null,null,null,null,null,null,null,null,null,null,null,null,null,null,null,null,null,null,null,null,null,null,null,null,null,null,"","","","","","",null,null,null,0,0,0,0,0,0]
[null,"En APS - espacios amigables",0,{"$f":"+J85+L85+N85","v":0},{"$f":"+K85+M85+O85","v":0},null,null,null,null,null,null,null,null,null,null,null,null,null,null,null,null,null,null,null,null,null,null,null,null,null,null,null,null,null,null,null,null,null,null,null,null,null,null,null,null,"",null,null,null,null,null,null,null,null,null,null,null,null,null,null,null,null,null,null,null,null,null,null,null,null,null,null,null,null,null,null,null,null,"","","","","","",null,null,null,0,0,0,0,0,0]
[null,"En otras instancias",0,{"$f":"SUM(F86+H86+J86+L86+N86+P86+R86+T86+V86+X86+Z86+AB86+AD86+AF86+AH86+AJ86+AL86)","v":0},{"$f":"SUM(G86+I86+K86+M86+O86+Q86+S86+U86+W86+Y86+AA86+AC86+AE86+AG86+AI86+AK86+AM86)","v":0},null,null,null,null,null,null,null,null,null,null,null,null,null,null,null,null,null,null,null,null,null,null,null,null,null,null,null,null,null,null,null,null,null,null,null,null,null,null,null,null,"",null,null,null,null,null,null,null,null,null,null,null,null,null,null,null,null,null,null,null,null,null,null,null,null,null,null,null,null,null,null,null,null,"","","","","","",null,null,null,0,0,0,0,0,0]
["Consejerías post test VIH","Atención de donantes de sangre total y aféresis",0,{"$f":"+L87+N87+P87+R87+T87+V87+X87+Z87+AB87+AD87+AF87+AH87","v":0},{"$f":"+M87+O87+Q87+S87+U87+W87+Y87+AA87+AC87+AE87+AG87+AI87","v":0},null,null,null,null,null,null,null,null,null,null,null,null,null,null,null,null,null,null,null,null,null,null,null,null,null,null,null,null,null,null,null,null,null,null,null,null,null,null,null,null,"",null,null,null,null,null,null,null,null,null,null,null,null,null,null,null,null,null,null,null,null,null,null,null,null,null,null,null,null,null,null,null,null,"","","","","","",null,null,null,0,0,0,0,0,0]
[null,"Hospitalización",0,{"$f":"SUM(F88+H88+J88+L88+N88+P88+R88+T88+V88+X88+Z88+AB88+AD88+AF88+AH88+AJ88+AL88)","v":0},0,null,null,null,null,null,null,null,null,null,null,null,null,null,null,null,null,null,null,null,null,null,null,null,null,null,null,null,null,null,null,null,null,null,null,null,null,null,null,null,null,"",null,null,null,null,null,null,null,null,null,null,null,null,null,null,null,null,null,null,null,null,null,null,null,null,null,null,null,null,null,null,null,null,"","","","","","",null,null,null,0,0,0,0,0,0]
[null,"En CDT - CRS",0,0,0,null,null,null,null,null,null,null,null,null,null,null,null,null,null,null,null,null,null,null,null,null,null,null,null,null,null,null,null,null,null,null,null,null,null,null,null,null,null,null,null,"",null,null,null,null,null,null,null,null,null,null,null,null,null,null,null,null,null,null,null,null,null,null,null,null,null,null,null,null,null,null,null,null,"","","","","","",null,null,null,0,0,0,0,0,0]
[null,"En APS",0,0,0,null,null,null,null,null,null,null,null,null,null,null,null,null,null,null,null,null,null,null,null,null,null,null,null,null,null,null,null,null,null,null,null,null,null,null,null,null,null,null,null,"",null,null,null,null,null,null,null,null,null,null,null,null,null,null,null,null,null,null,null,null,null,null,null,null,null,null,null,null,null,null,null,null,"","","","","","",null,null,null,0,0,0,0,0,0]
[null,"En APS - espacios amigables",0,{"$f":"+J91+L91+N91","v":0},{"$f":"+K91+M91+O91","v":0},null,null,null,null,null,null,null,null,null,null,null,null,null,null,null,null,null,null,null,null,null,null,null,null,null,null,null,null,null,null,null,null,null,null,null,null,null,null,null,null,"",null,null,null,null,null,null,null,null,null,null,null,null,null,null,null,null,null,null,null,null,null,null,null,null,null,null,null,null,null,null,null,null,"","","","","","",null,null,null,0,0,0,0,0,0]
[null,"En otras instancias",0,{"$f":"SUM(F92+H92+J92+L92+N92+P92+R92+T92+V92+X92+Z92+AB92+AD92+AF92+AH92+AJ92+AL92)","v":0},{"$f":"SUM(G92+I92+K92+M92+O92+Q92+S92+U92+W92+Y92+AA92+AC92+AE92+AG92+AI92+AK92+AM92)","v":0},null,null,null,null,null,null,null,null,null,null,null,null,null,null,null,null,null,null,null,null,null,null,null,null,null,null,null,null,null,null,null,null,null,null,null,null,null,null,null,null,"",null,null,null,null,null,null,null,null,null,null,null,null,null,null,null,null,null,null,null,null,null,null,null,null,null,null,null,null,null,null,null,null,"","","","","","",null,null,null,0,0,0,0,0,0]
["SECCIÓN A.3: CONSEJERÍAS FAMILIARES"]
["Temas prioridad","FAMILIA","Total Actividades","Espacios Amigables"]
[null,"Con riesgo psicosocial",null,null,{"$f":"$CA95","v":""},null,null,null,null,null,null,null,null,null,null,null,null,null,null,null,null,null,null,null,null,null,null,null,null,null,null,null,null,null,null,null,null,null,null,null,null,null,null,null,null,null,null,null,null,null,null,null,null,null,null,null,null,null,null,null,null,null,null,null,null,null,null,null,null,null,null,null,null,null,null,null,null,null,{"$f":"IF(D95<=C95,\"\",\"* Las consejerías realizadas en Espacios Amigables NO DEBEN ser mayor al Total de Actividades. \")","v":""},null,null,null,null,null,null,null,{"$f":"IF(D95<=C95,0,1)","v":0}]
[null,"Con integrante de patología crónica",null,null,{"$f":"$CA96","v":""},null,null,null,null,null,null,null,null,null,null,null,null,null,null,null,null,null,null,null,null,null,null,null,null,null,null,null,null,null,null,null,null,null,null,null,null,null,null,null,null,null,null,null,null,null,null,null,null,null,null,null,null,null,null,null,null,null,null,null,null,null,null,null,null,null,null,null,null,null,null,null,null,null,{"$f":"IF(D96<=C96,\"\",\"* Las consejerías realizadas en Espacios Amigables NO DEBEN ser mayor al Total de Actividades. \")","v":""},null,null,null,null,null,null,null,{"$f":"IF(D96<=C96,0,1)","v":0}]
[null,"Con integrante con problema de salud mental",null,null,"",null,null,null,null,null,null,null,null,null,null,null,null,null,null,null,null,null,null,null,null,null,null,null,null,null,null,null,null,null,null,null,null,null,null,null,null,null,null,null,null,null,null,null,null,null,null,null,null,null,null,null,null,null,null,null,null,null,null,null,null,null,null,null,null,null,null,null,null,null,null,null,null,null,"",null,null,null,null,null,null,null,0]
[null,"Con adulto mayor dependiente"]
[null,"Con adulto mayor con demencia"]
[null,"Con integrante con enfermedad terminal",null,null,{"$f":"$CA100","v":""},null,null,null,null,null,null,null,null,null,null,null,null,null,null,null,null,null,null,null,null,null,null,null,null,null,null,null,null,null,null,null,null,null,null,null,null,null,null,null,null,null,null,null,null,null,null,null,null,null,null,null,null,null,null,null,null,null,null,null,null,null,null,null,null,null,null,null,null,null,null,null,null,null,{"$f":"IF(D100<=C100,\"\",\"* Las consejerías realizadas en Espacios Amigables NO DEBEN ser mayor al Total de Actividades. \")","v":""},null,null,null,null,null,null,null,{"$f":"IF(D100<=C100,0,1)","v":0}]
[null,"Con integrante dependiente severo",null,null,"",null,null,null,null,null,null,null,null,null,null,null,null,null,null,null,null,null,null,null,null,null,null,null,null,null,null,null,null,null,null,null,null,null,null,null,null,null,null,null,null,null,null,null,null,null,null,null,null,null,null,null,null,null,null,null,null,null,null,null,null,null,null,null,null,null,null,null,null,null,null,null,null,null,{"$f":"IF(D101<=C101,\"\",\"* Las consejerías realizadas en Espacios Amigables NO DEBEN ser mayor al Total de Actividades. \")","v":""},null,null,null,null,null,null,null,{"$f":"IF(D101<=C101,0,1)","v":0}]
[null,"Otras áreas de intervención",null,null,"",null,null,null,null,null,null,null,null,null,null,null,null,null,null,null,null,null,null,null,null,null,null,null,null,null,null,null,null,null,null,null,null,null,null,null,null,null,null,null,null,null,null,null,null,null,null,null,null,null,null,null,null,null,null,null,null,null,null,null,null,null,null,null,null,null,null,null,null,null,null,null,null,null,"",null,null,null,null,null,null,null,0]
[null,"Con adolescente VIH (+)",null,null,"",null,null,null,null,null,null,null,null,null,null,null,null,null,null,null,null,null,null,null,null,null,null,null,null,null,null,null,null,null,null,null,null,null,null,null,null,null,null,null,null,null,null,null,null,null,null,null,null,null,null,null,null,null,null,null,null,null,null,null,null,null,null,null,null,null,null,null,null,null,null,null,null,null,"",null,null,null,null,null,null,null,0]
["SECCIÓN A.4: CONSEJERÍAS INDIVIDUALES  CON ENTREGA DE PRESERVATIVOS (INCLUIDAS EN SECCIÓN A.1)"]
["ACTIVIDAD",null,"TOTAL",null,null,"RANGO ETARIO Y SEXO",null,null,null,null,null,null,null,null,null,null,null,null,null,null,null,null,null,null,null,null,null,null,null,null,null,null,null,null,null,null,null,"Espacios Amigables/ Adolescentes"]
[null,null,null,null,null,"10 - 14 años",null,"15-19 años",null,"20-24 años",null,"25-29 años",null,"30-34 años",null,"35-39 años",null,"40-44 años",null,"45-49 años",null,"50-54 años",null,"55-59 años",null,"60-64 años",null,"65-69 años",null,"70-74 años",null,"75- 79 años",null,"80 y más años",null,"14 a 18 años"]
[null,null,"Ambos Sexos","Hombres","Mujeres","Hombres","Mujeres","Hombres","Mujeres","Hombres","Mujeres","Hombres","Mujeres","Hombres","Mujeres","Hombres","Mujeres","Hombres","Mujeres","Hombres","Mujeres","Hombres","Mujeres","Hombres","Mujeres","Hombres","Mujeres","Hombres","Mujeres","Hombres","Mujeres","Hombres","Mujeres","Hombres","Mujeres","Hombres","Mujeres"]
["Consejería con entrega de preservativos ","Condones masculinos",{"$f":"SUM(D108:E108)","v":0},{"$f":"+F108+H108+J108+L108+N108+P108+R108+T108+V108+X108+Z108+AB108+AD108+AF108+AH108","v":0},{"$f":"+G108+I108+K108+M108+O108+Q108+S108+U108+W108+Y108+AA108+AC108+AE108+AG108+AI108","v":0},null,null,null,null,null,null,null,null,null,null,null,null,null,null,null,null,null,null,null,null,null,null,null,null,null,null,null,null,null,null,null,null,null,{"$f":"BZ108&CA108&CB108","v":""},null,null,null,null,null,null,null,null,null,null,null,null,null,null,null,null,null,null,null,null,null,null,null,null,null,null,null,null,null,null,null,null,null,null,null,null,null,null,{"$f":"IF(AND(SUM(F108+H108)>0,(AJ108=\"\")),\" * No olvide digitar la variable 14-18 años Hombres. Si no tiene Digite CERO .\",IF(AJ108>F108+H108,\"* La suma del grupo de 14 a 18 años Hombres no puede superar el Total Hombres Grupo Etario de 10 a 19 años. \",\"\"))","v":""},{"$f":"IF(AND(SUM(G108+I108)>0,(AK108=\"\")),\"* No olvide digitar la variable 14-18 años Mujeres. Si no tiene Digite CERO.\",IF(AK108>(G108+I108),\"* La suma del grupo de 14 a 18 años Mujeres no puede superar el Total Mujeres Grupo Etario de 10 a 19 años. \",\"\"))","v":""},{"$f":"IF(AND($C108<>0,AL108=\"\"),\"* No olvide ingresar la columna Espacios Amigables/Adolescentes (Digite CERO si no tiene).  \",IF(AL108>$C108,\"* El Número de Espacios Amigables/Adolescentes no puede superar el Total. \",\"\"))","v":""},null,null,null,null,null,null,{"$f":"IF(AND(SUM(F108+H108)>0,(AJ108=\"\")),1,IF(AJ108>F108+H108,1,0))","v":0},{"$f":"IF(AND(SUM(G108+I108)>0,(AK108=\"\")),1,IF(AK108>(G108+I108),1,0))","v":0},{"$f":"IF(AND($C108<>0,AL108=\"\"),1,IF(AL108>$C108,1,0))","v":0}]
[null,"Condones femeninos",{"$f":"SUM(D109:E109)","v":0},0,0,null,null,null,null,null,null,null,null,null,null,null,null,null,null,null,null,null,null,null,null,null,null,null,null,null,null,null,null,null,null,null,null,null,{"$f":"BZ109&CA109&CB109","v":""},null,null,null,null,null,null,null,null,null,null,null,null,null,null,null,null,null,null,null,null,null,null,null,null,null,null,null,null,null,null,null,null,null,null,null,null,null,null,{"$f":"IF(AND(SUM(F109+H109)>0,(AJ109=\"\")),\" * No olvide digitar la variable 14-18 años Hombres. Si no tiene Digite CERO .\",IF(AJ109>F109+H109,\"* La suma del grupo de 14 a 18 años Hombres no puede superar el Total Hombres Grupo Etario de 10 a 19 años. \",\"\"))","v":""},{"$f":"IF(AND(SUM(G109+I109)>0,(AK109=\"\")),\"* No olvide digitar la variable 14-18 años Mujeres. Si no tiene Digite CERO.\",IF(AK109>(G109+I109),\"* La suma del grupo de 14 a 18 años Mujeres no puede superar el Total Mujeres Grupo Etario de 10 a 19 años. \",\"\"))","v":""},{"$f":"IF(AND($C109<>0,AL109=\"\"),\"* No olvide ingresar la columna Espacios Amigables/Adolescentes (Digite CERO si no tiene).  \",IF(AL109>$C109,\"* El Número de Espacios Amigables/Adolescentes no puede superar el Total. \",\"\"))","v":""},null,null,null,null,null,null,{"$f":"IF(AND(SUM(F109+H109)>0,(AJ109=\"\")),1,IF(AJ109>F109+H109,1,0))","v":0},{"$f":"IF(AND(SUM(G109+I109)>0,(AK109=\"\")),1,IF(AK109>(G109+I109),1,0))","v":0},{"$f":"IF(AND($C109<>0,AL109=\"\"),1,IF(AL109>$C109,1,0))","v":0}]
[null,"Ambos tipos de condones",{"$f":"SUM(D110:E110)","v":0},0,0,null,null,null,null,null,null,null,null,null,null,null,null,null,null,null,null,null,null,null,null,null,null,null,null,null,null,null,null,null,null,null,null,null,"",null,null,null,null,null,null,null,null,null,null,null,null,null,null,null,null,null,null,null,null,null,null,null,null,null,null,null,null,null,null,null,null,null,null,null,null,null,null,"","","",null,null,null,null,null,null,0,0,0]
["SECCIÓN B: ACTIVIDADES DE PROMOCIÓN"]
["SECCIÓN B.1: ACTIVIDADES DE PROMOCIÓN SEGÚN ESTRATEGIAS Y CONDICIONANTES ABORDADAS Y NÚMERO DE PARTICIPANTES"]
["ACTIVIDADES","ESTRATEGIA, ESPACIOS O LÍNEAS DE ACCIÓN","TOTAL ACTIVIDADES","CONDICIONANTES ABORDADAS",null,null,null,null,null,null," Determinantes Sociales de La Salud Abordadas - Chile Crece Contigo","Total Participantes"]
[null,null,null,"Actividad física","Alimentación ","Ambiente libre de humo de tabaco","Factores protectores psicosociales","Factores protectores ambientales","Derechos humanos","Salud sexual y prevención de VIH/SIDA e ITS"]
["Eventos  masivos ","Comunas, comunidades",{"$f":"SUM(D115:J115)","v":0}]
[null,"Espacios amigables en APS",{"$f":"SUM(D116:J116)","v":0}]
[null,"Lugares de trabajo",0]
[null,"Establecimientos educación",0]
["Reuniones de planificación participativa","Comunas, comunidades",0]
[null,"Espacios amigables en APS",0]
[null,"Lugares de trabajo",0]
[null,"Establecimientos educación",0]
["Jornadas y  seminarios","Comunas, comunidades",0]
[null,"Espacios amigables en APS",0]
[null,"Lugares de trabajo",0]
[null,"Establecimientos educación",0]
["Educación grupal ","Comunas, comunidades",0]
[null,"Espacios amigables en APS",0]
[null,"Lugares de trabajo",0]
[null,"Establecimientos educación",0]
["SECCIÓN B.2: TALLERES GRUPALES DE VIDA SANA SEGÚN TIPO, POR ESPACIOS DE ACCIÓN"]
["ESPACIOS DE ACCIÓN","TOTAL TALLERES","Autoestima y Autocuidado","Mente Sana y Cuerpo Sano","Comunicación","Yo Me Cuido","Control del Tabaco","Otros Tipo de Talleres"]
["Comunas, comunidades"]
["Espacios amigables en APS"]
["Lugares de trabajo"]
["Establecimientos educacionales"]
["SECCIÓN B.3: ACTIVIDADES DE GESTIÓN SEGÚN TIPO, POR ESPACIOS DE ACCIÓN"]
["ESPACIOS DE ACCIÓN","TOTAL ACTIVIDADES","Reuniones de Gestión ","Reuniones Masivas de Gestión","Acciones de Comunicación y Difusión","Preparación Actividades Educativas","Entrevistas","Investigación y Capacitación de RRHH"]
["Comunas, comunidades",{"$f":"SUM(C139:H139)","v":0}]
["Espacios amigables en APS",0]
["Lugares de trabajo",0]
["Establecimientos educacionales",0]
["Oficina intercultural",0]
["Otros",0]
["SECCIÓN B.4: TALLERES GRUPALES SEGÚN TEMÁTICA Y NUMERO DE PARTICIPANTES EN PROGRAMA ESPACIOS AMIGABLES "]
["ESPACIOS DE ACCIÓN","TOTAL TALLERES","Total Participantes","Total Talleres en Actividad Física","Total Talleres en Alimentación ","Total Talleres en Libre de Humo del Tabaco","Total Talleres en Factores Protectores Psicosociales ","Total Talleres en Prevención Consumo de Alcohol y Otras Drogas","Total Talleres en Salud Sexual y Prevención de VIH/SIDA e ITS","Total Talleres en Otros Tipos de Talleres"]
["Espacios Comunitarios"]
["Establecimientos Educacionales"]
["Centros de Salud"]
["SECCIÓN C: TRABAJO CON AGRUPACIONES DE USUARIOS, COMUNIDAD Y DERECHOS HUMANOS (PRAIS) (CONTENIDAS EN SECCIÓN B.1)"]
["ACTIVIDADES","ESTRATEGIA, ESPACIOS  O LÍNEAS DE ACCIÓN ","TOTAL ACTIVIDADES","CONDICIONANTES ABORDADAS",null,null,null,null,null,null," Determinantes Sociales de La Salud Abordadas - Chile Crece Contigo","Total Participantes "]
[null,null,null,"Actividad física","Alimentación ","Ambiente libre de humo de tabaco","Factores protectores psicosociales","Factores protectores ambientales","Derechos humanos","Salud sexual y prevención de VIH/SIDA e ITS"]
["Eventos  masivos ","Comunas, comunidades",{"$f":"SUM(D153:J153)","v":0}]
[null,"Espacios amigables en APS",{"$f":"SUM(D154:J154)","v":0}]
[null,"Lugares de trabajo",0]
[null,"Establecimientos educación",0]
["Reuniones de planificación participativa","Comunas, comunidades",0]
[null,"Espacios amigables en APS",0]
[null,"Lugares de trabajo",0]
[null,"Establecimientos educación",0]
["Jornadas y  seminarios","Comunas, comunidades",0]
[null,"Espacios amigables en APS",0]
[null,"Lugares de trabajo",0]
[null,"Establecimientos educación",0]
["Educación grupal ","Comunas, comunidades",0]
[null,"Espacios amigables en APS",0]
[null,"Lugares de trabajo",0]
[null,"Establecimientos educación",0]
["SECCIÓN D: TRABAJO INTERSECTORIAL PRAIS (CONTENIDAS EN REM A06, SECCIÓN C.1)"]
["ACTIVIDADES","TOTAL DE PARTICIPANTES","Nº Reuniones / Sesiones","Nº Instituciones,  Organizaciones  Participantes"]
["Trabajo intersectorial"]
["Trabajo con organizaciones comunitarias de base"]
["Trabajo con organizaciones de usuarios y familiares"]
["Colaboración con grupo de autoayuda"]
["Reuniones con Instituciones del Sector Salud Programa Acompañamiento Psicosocial"]
["Reuniones con instituciones del intersector acompañamiento psicosocial"]
["Reuniones con organizaciones comunitarias acompañamiento psicosocial"]
[]
[]
[]
[]
[]
[]
[]
[]
[]
[]
[]
[]
[]
[]
[]
[]
[]
[]
[]
[]
[]
[]
[]
[]
[]
[]
[]
[]
[]
[{"$f":"SUM(C13:C68,C81:C92,C95:D103,C108:C110,C115:C130,B133:H136,B139:B144,B147:J149,C153:C168,B171:D177)","v":0},{"$f":"SUM(CI13:CQ110)","v":0}]

{"sheet":"A19b","index":13,"n_rows":90,"n_cols":83,"rows_kept":90,"cut":false,"hidden":false,"merged":[[32,0,32,1],[5,0,5,13],[7,0,7,10],[8,0,9,0],[8,1,8,3],[8,4,8,5],[8,6,9,6],[8,7,8,8],[8,9,8,10],[29,0,29,13],[30,0,31,1],[30,2,30,6],[30,7,30,10],[30,11,30,13],[44,0,44,1],[33,0,33,1],[34,0,34,1],[35,0,35,1],[36,0,36,1],[37,0,37,1],[38,0,38,1],[39,0,39,1],[40,0,40,1],[41,0,41,1],[42,0,42,1],[43,0,43,1]]}
["SERVICIO DE SALUD"]
[{"$f":"CONCATENATE(\"COMUNA: \",NOMBRE!B2,\" - \",\"( \",NOMBRE!C2,NOMBRE!D2,NOMBRE!E2,NOMBRE!F2,NOMBRE!G2,\" )\")","v":"COMUNA:  - (  )"}]
[{"$f":"CONCATENATE(\"ESTABLECIMIENTO/ESTRATEGIA: \",NOMBRE!B3,\" - \",\"( \",NOMBRE!C3,NOMBRE!D3,NOMBRE!E3,NOMBRE!F3,NOMBRE!G3,NOMBRE!H3,\" )\")","v":"ESTABLECIMIENTO/ESTRATEGIA:  - (  )"}]
[{"$f":"CONCATENATE(\"MES: \",NOMBRE!B6,\" - \",\"( \",NOMBRE!C6,NOMBRE!D6,\" )\")","v":"MES:  - (  )"}]
[{"$f":"CONCATENATE(\"AÑO: \",NOMBRE!B7)","v":"AÑO: 2024"}]
["REM-A19b.  ACTIVIDADES DE PARTICIPACIÓN SOCIAL"]
[]
["SECCIÓN A: ATENCIÓN OFICINAS DE INFORMACIONES (SISTEMA INTEGRAL DE ATENCIÓN A USUARIOS)"]
["TIPO DE ATENCION","Nº DE ATENCIONES EN EL MES",null,null,"Respuestas del Mes Dentro de Plazos Legales (15 días Hábiles)",null,"Reclamos Respondidos Fuera de Plazos Legales","Reclamos Pendientes",null,"TRANS"]
[null,"TOTAL","Hombres","Mujeres","Reclamos generados en el mes","Reclamos generados en el mes anterior",null,"Respuestas pendientes dentro del plazo legal","Respuestas pendientes fuera del plazo legal"," Masculino"," Femenino"]
["TOTAL DE RECLAMOS ",{"$f":"SUM(C11:D11)","v":0},{"$f":"SUM(C12:C24)","v":0},{"$f":"SUM(D12:D24)","v":0},0,{"$f":"SUM(F12:F24)","v":0},0,{"$f":"SUM(H12:H24)","v":0},0,{"$f":"SUM(J12:J24)","v":0},{"$f":"SUM(K12:K24)","v":0}]
["Trato",0,null,null,null,null,null,null,null,null,null,{"$f":"CA12&CB12","v":""},null,null,null,null,null,null,null,null,null,null,null,null,null,null,null,null,null,null,null,null,null,null,null,null,null,null,null,null,null,null,null,null,null,null,null,null,null,null,null,null,null,null,null,null,null,null,null,null,null,null,null,null,null,null,null,null,null,null,null,null,null,null,null,null,null,null,{"$f":"IF(AND(D12>0,J12=\"\"),\"*No olvide digitar el campo TRANS Masculino (Digite CERO si no tiene).\", IF(J12>D12,\" * El Número de TRANS Masculino no puede superar el Total Mujeres. \",\"\"))","v":""},{"$f":"IF(AND(C12>0,OR(K12=\"\")),\" *No olvide digitar el campo TRANS Femenino (Digite CERO si no tiene).\",IF(K12>$C12,\" * El Número de TRANS Femenino no puede superar el Total Hombres. \",\"\"))","v":""},null,{"$f":"IF(AND(D12>0,OR(J12=\"\")),1,IF(J12>D12,1,0))","v":0},{"$f":"IF(AND(C12>0,OR(K12=\"\")),1,IF(K12>C12,1,0))","v":0}]
["Competencia técnica",0,null,null,null,null,null,null,null,null,null,{"$f":"CA13&CB13","v":""},null,null,null,null,null,null,null,null,null,null,null,null,null,null,null,null,null,null,null,null,null,null,null,null,null,null,null,null,null,null,null,null,null,null,null,null,null,null,null,null,null,null,null,null,null,null,null,null,null,null,null,null,null,null,null,null,null,null,null,null,null,null,null,null,null,null,{"$f":"IF(AND(D13>0,J13=\"\"),\"*No olvide digitar el campo TRANS Masculino (Digite CERO si no tiene).\", IF(J13>D13,\" * El Número de TRANS Masculino no puede superar el Total Mujeres. \",\"\"))","v":""},{"$f":"IF(AND(C13>0,OR(K13=\"\")),\" *No olvide digitar el campo TRANS Femenino (Digite CERO si no tiene).\",IF(K13>$C13,\" * El Número de TRANS Femenino no puede superar el Total Hombres. \",\"\"))","v":""},null,{"$f":"IF(AND(D13>0,OR(J13=\"\")),1,IF(J13>D13,1,0))","v":0},{"$f":"IF(AND(C13>0,OR(K13=\"\")),1,IF(K13>C13,1,0))","v":0}]
["Infraestructura",0,null,null,null,null,null,null,null,null,null,"",null,null,null,null,null,null,null,null,null,null,null,null,null,null,null,null,null,null,null,null,null,null,null,null,null,null,null,null,null,null,null,null,null,null,null,null,null,null,null,null,null,null,null,null,null,null,null,null,null,null,null,null,null,null,null,null,null,null,null,null,null,null,null,null,null,null,"","",null,0,0]
["Tiempo de espera (En sala de espera)",0,null,null,null,null,null,null,null,null,null,"",null,null,null,null,null,null,null,null,null,null,null,null,null,null,null,null,null,null,null,null,null,null,null,null,null,null,null,null,null,null,null,null,null,null,null,null,null,null,null,null,null,null,null,null,null,null,null,null,null,null,null,null,null,null,null,null,null,null,null,null,null,null,null,null,null,null,"","",null,0,0]
["Tiempo de espera, por consulta especialidad (Por lista de espera)",0,null,null,null,null,null,null,null,null,null,"",null,null,null,null,null,null,null,null,null,null,null,null,null,null,null,null,null,null,null,null,null,null,null,null,null,null,null,null,null,null,null,null,null,null,null,null,null,null,null,null,null,null,null,null,null,null,null,null,null,null,null,null,null,null,null,null,null,null,null,null,null,null,null,null,null,null,"","",null,0,0]
["Tiempo de espera, por procedimiento (Lista de espera)",0,null,null,null,null,null,null,null,null,null,"",null,null,null,null,null,null,null,null,null,null,null,null,null,null,null,null,null,null,null,null,null,null,null,null,null,null,null,null,null,null,null,null,null,null,null,null,null,null,null,null,null,null,null,null,null,null,null,null,null,null,null,null,null,null,null,null,null,null,null,null,null,null,null,null,null,null,"","",null,0,0]
["Tiempo de espera , por cirugía (Lista de espera)",0,null,null,null,null,null,null,null,null,null,"",null,null,null,null,null,null,null,null,null,null,null,null,null,null,null,null,null,null,null,null,null,null,null,null,null,null,null,null,null,null,null,null,null,null,null,null,null,null,null,null,null,null,null,null,null,null,null,null,null,null,null,null,null,null,null,null,null,null,null,null,null,null,null,null,null,null,"","",null,0,0]
["Información",0,null,null,null,null,null,null,null,null,null,"",null,null,null,null,null,null,null,null,null,null,null,null,null,null,null,null,null,null,null,null,null,null,null,null,null,null,null,null,null,null,null,null,null,null,null,null,null,null,null,null,null,null,null,null,null,null,null,null,null,null,null,null,null,null,null,null,null,null,null,null,null,null,null,null,null,null,"","",null,0,0]
["Procedimientos administrativos",0,null,null,null,null,null,null,null,null,null,"",null,null,null,null,null,null,null,null,null,null,null,null,null,null,null,null,null,null,null,null,null,null,null,null,null,null,null,null,null,null,null,null,null,null,null,null,null,null,null,null,null,null,null,null,null,null,null,null,null,null,null,null,null,null,null,null,null,null,null,null,null,null,null,null,null,null,"","",null,0,0]
["Probidad administrativa",0,null,null,null,null,null,null,null,null,null,"",null,null,null,null,null,null,null,null,null,null,null,null,null,null,null,null,null,null,null,null,null,null,null,null,null,null,null,null,null,null,null,null,null,null,null,null,null,null,null,null,null,null,null,null,null,null,null,null,null,null,null,null,null,null,null,null,null,null,null,null,null,null,null,null,null,null,"","",null,0,0]
["Incumplimiento Garantías Explícitas en Salud (GES)",0,null,null,null,null,null,null,null,null,null,"",null,null,null,null,null,null,null,null,null,null,null,null,null,null,null,null,null,null,null,null,null,null,null,null,null,null,null,null,null,null,null,null,null,null,null,null,null,null,null,null,null,null,null,null,null,null,null,null,null,null,null,null,null,null,null,null,null,null,null,null,null,null,null,null,null,null,"","",null,0,0]
["Incumplimiento de garantías Ley Ricarte Soto",0,null,null,null,null,null,null,null,null,null,"",null,null,null,null,null,null,null,null,null,null,null,null,null,null,null,null,null,null,null,null,null,null,null,null,null,null,null,null,null,null,null,null,null,null,null,null,null,null,null,null,null,null,null,null,null,null,null,null,null,null,null,null,null,null,null,null,null,null,null,null,null,null,null,null,null,null,"","",null,0,0]
["Incumplimiento de garantías FOFAR",0,null,null,null,null,null,null,null,null,null,"",null,null,null,null,null,null,null,null,null,null,null,null,null,null,null,null,null,null,null,null,null,null,null,null,null,null,null,null,null,null,null,null,null,null,null,null,null,null,null,null,null,null,null,null,null,null,null,null,null,null,null,null,null,null,null,null,null,null,null,null,null,null,null,null,null,null,"","",null,0,0]
["Consultas",0,null,null,null,null,null,null,null,null,null,"",null,null,null,null,null,null,null,null,null,null,null,null,null,null,null,null,null,null,null,null,null,null,null,null,null,null,null,null,null,null,null,null,null,null,null,null,null,null,null,null,null,null,null,null,null,null,null,null,null,null,null,null,null,null,null,null,null,null,null,null,null,null,null,null,null,null,"","",null,0,0]
["Sugerencias",0,null,null,null,null,null,null,null,null,null,"",null,null,null,null,null,null,null,null,null,null,null,null,null,null,null,null,null,null,null,null,null,null,null,null,null,null,null,null,null,null,null,null,null,null,null,null,null,null,null,null,null,null,null,null,null,null,null,null,null,null,null,null,null,null,null,null,null,null,null,null,null,null,null,null,null,null,"","",null,0,0]
["Felicitaciones",0,null,null,null,null,null,null,null,null,null,"",null,null,null,null,null,null,null,null,null,null,null,null,null,null,null,null,null,null,null,null,null,null,null,null,null,null,null,null,null,null,null,null,null,null,null,null,null,null,null,null,null,null,null,null,null,null,null,null,null,null,null,null,null,null,null,null,null,null,null,null,null,null,null,null,null,null,"","",null,0,0]
["Solicitudes",0,null,null,null,null,null,null,null,null,null,"",null,null,null,null,null,null,null,null,null,null,null,null,null,null,null,null,null,null,null,null,null,null,null,null,null,null,null,null,null,null,null,null,null,null,null,null,null,null,null,null,null,null,null,null,null,null,null,null,null,null,null,null,null,null,null,null,null,null,null,null,null,null,null,null,null,null,"","",null,0,0]
["Solicitudes Ley 20.285 (Ley de Transparencia)",0,null,null,null,null,null,null,null,null,null,"",null,null,null,null,null,null,null,null,null,null,null,null,null,null,null,null,null,null,null,null,null,null,null,null,null,null,null,null,null,null,null,null,null,null,null,null,null,null,null,null,null,null,null,null,null,null,null,null,null,null,null,null,null,null,null,null,null,null,null,null,null,null,null,null,null,null,"","",null,0,0]
["SECCIÓN B: ACTIVIDADES POR ESTRATEGIA/LÍNEA DE ACCIÓN O ESPACIO / INSTANCIA DE PARTICIPACIÓN SOCIAL"]
["TIPO DE ACTIVIDADES",null,"ESPACIOS/INSTANCIAS ",null,null,null,null,"ESTRATEGIAS/LÍNEAS DE ACCIÓN",null,null,null,"PARTICIPANTES"]
[null,null,"Consultas Ciudadanas","Consejo de la Sociedad Civil, Consultivos, de Desarrollo y comités locales"," Consejos consultivos de Adolescentes y Jóvenes","Otras instancias de Participación Juvenil","Mesas: Territoriales, Diálogos ciudadanos, Mesa salud intercultural","Cuentas públicas participativas","Presupuestos participativos","Estrategias de satisfacción usuaria","Planificación local participativa (Diagnósticos, programación y evaluación)","Total Participantes","Total Hombres","Total Mujeres"]
["Administración y gestión",null,null,null,null,null,null,null,null,null,null,{"$f":"SUM(M33+N33)","v":0}]
["Entrevistas",null,null,null,null,null,null,null,null,null,null,{"$f":"SUM(M34+N34)","v":0}]
["Reuniones intrasector",null,null,null,null,null,null,null,null,null,null,{"$f":"SUM(M35+N35)","v":0}]
["Reuniones intersector",null,null,null,null,null,null,null,null,null,null,{"$f":"SUM(M36+N36)","v":0}]
["Actividades de monitoreo"]
["Asesoría técnica"]
["Jornadas de intercambio de experiencias"]
["Actividades de difusión y comunicación"]
["Educación y capacitación comunitaria",null,null,null,null,null,null,null,null,null,null,{"$f":"SUM(M41+N41)","v":0}]
["Eventos masivos (asambleas, cabildos, otros)"]
["Actividades a pueblos indígenas",null,null,null,null,null,null,null,null,null,null,{"$f":"SUM(M43+N43)","v":0}]
["TOTAL DE ACTIVIDADES",null,{"$f":"SUM(C33:C43)","v":0},{"$f":"SUM(D33:D43)","v":0},{"$f":"SUM(E33:E43)","v":0},{"$f":"SUM(F33:F43)","v":0},{"$f":"SUM(G33:G43)","v":0},{"$f":"SUM(H33:H42)","v":0},{"$f":"SUM(I33:I43)","v":0},{"$f":"SUM(J33:J43)","v":0},{"$f":"SUM(K33:K43)","v":0},{"$f":"SUM(L33+L34+L35+L36+L39+L40+L41+L43)","v":0},{"$f":"SUM(M33+M34+M35+M36+M41+M43)","v":0},{"$f":"SUM(N33+N34+N35+N36+N41+N43)","v":0}]
["Actividades de participación social por Técnico en Enfermería",null,null,null,null,null,null,null,null,null,null,{"$f":"SUM(M45+N45)","v":0}]
[]
[]
[]
[]
[]
[]
[]
[]
[]
[]
[]
[]
[]
[]
[]
[]
[]
[]
[]
[]
[]
[]
[]
[]
[]
[]
[]
[]
[]
[]
[]
[]
[]
[]
[]
[]
[]
[]
[]
[]
[]
[]
[]
[]
[{"$f":"SUM(B11:K11,B12:B29,C44:K44,L33:L45,M44:N44)","v":0},{"$f":"SUM(CD12:CF29)","v":0}]

{"sheet":"A21","index":14,"n_rows":201,"n_cols":46,"rows_kept":201,"cut":false,"hidden":false,"merged":[[105,0,106,0],[105,1,106,1],[105,2,105,4],[105,5,105,6],[75,5,75,8],[76,5,76,6],[76,7,76,8],[92,0,92,6],[93,0,94,0],[93,1,93,6],[67,0,67,4],[69,0,69,1],[70,0,71,0],[72,0,73,0],[75,0,77,0],[75,1,76,2],[75,3,76,4],[34,0,35,0],[36,0,36,1],[31,0,31,1],[32,0,32,1],[33,0,33,1],[28,0,29,1],[28,2,29,2],[28,3,28,5],[28,6,28,11],[30,0,30,1],[5,0,5,9],[8,0,11,0],[8,1,11,1],[8,2,11,2],[8,3,11,3],[8,4,11,4],[8,5,11,5],[8,6,8,24],[8,25,8,30],[9,6,10,9],[9,10,10,14],[9,15,10,19],[9,20,10,24],[9,25,10,27],[9,28,10,30]]}
["SERVICIO DE SALUD",null,null,null,"               ",null,null,null,null,null,"                                                                             "]
[{"$f":"CONCATENATE(\"COMUNA: \",NOMBRE!B2,\" - \",\"( \",NOMBRE!C2,NOMBRE!D2,NOMBRE!E2,NOMBRE!F2,NOMBRE!G2,\" )\")","v":"COMUNA:  - (  )"}]
[{"$f":"CONCATENATE(\"ESTABLECIMIENTO/ESTRATEGIA: \",NOMBRE!B3,\" - \",\"( \",NOMBRE!C3,NOMBRE!D3,NOMBRE!E3,NOMBRE!F3,NOMBRE!G3,NOMBRE!H3,\" )\")","v":"ESTABLECIMIENTO/ESTRATEGIA:  - (  )"}]
[{"$f":"CONCATENATE(\"MES: \",NOMBRE!B6,\" - \",\"( \",NOMBRE!C6,NOMBRE!D6,\" )\")","v":"MES:  - (  )"}]
[{"$f":"CONCATENATE(\"AÑO: \",NOMBRE!B7)","v":"AÑO: 2024"}]
["REM-21.   QUIRÓFANOS Y OTROS RECURSOS HOSPITALARIOS"]
[]
["SECCIÓN A:  CAPACIDAD INSTALADA Y UTILIZACIÓN DE LOS QUIRÓFANOS"]
["TIPO DE QUIRÓFANOS","Número de Quirófanos en Dotación","Promedio Mensual de Quirófanos Habilitados","Promedio Mensual de Quirófanos en Trabajo","Total de Horas Mensuales de Quirófanos Habilitados (Horario Hábil)","Total de Horas Mensuales de Quirófanos en Trabajo","QUIRÓFANOS CIRUGIA MAYOR",null,null,null,null,null,null,null,null,null,null,null,null,null,null,null,null,null,null,"CIRUGIAS MENORES Y PROCEDIMIENTOS *"]
[null,null,null,null,null,null,"Horas Mensuales Programadas de Tabla Quirúrgica de Quirófanos en Trabajo, Horario Hábil",null,null,null,"Horas Mensuales Ocupadas de Quirófanos en Trabajo Horario Hábil",null,null,null,null,"Horas Mensuales Ocupadas de Quirófanos en Trabajo Horario Inhábil de Lunes a Viernes",null,null,null,null,"Horas Mensuales Ocupadas de Quirófanos en Trabajo Horario Sábado, Domingo y Festivo",null,null,null,null,"Total Horas Mensuales Ocupadas de Quirófanos en Trabajo, Horario Hábil",null,null,"Total Horas Mensuales Ocupadas de Quirófanos en Trabajo, Horario Inhábil"]
[]
[null,null,null,null,null,null,"Total","Beneficiarios MAI","Beneficiarios MLE","Otros","Total","Beneficiarios MAI","Beneficiarios MLE","Otros","De preparación","Total","Beneficiarios MAI","Beneficiarios MLE","Otros","De preparación","Total","Beneficiarios MAI","Beneficiarios MLE","Otros","De preparación","Total","Cirugía Menor","Otros Procedimientos","Total","Cirugía Menor","Otros Procedimientos"]
["TOTAL QUIRÓFANOS",{"$f":"SUM(B14:B17)","v":0},0,0,0,0,0,0,0,0,0,0,0,0,0,0,0,0,0,0,0,0,0,0,0,0,{"$f":"SUM(AA14:AA17)","v":0},0,0,0,0]
["De Cirugía Electiva",null,null,null,null,null,{"$f":"SUM(H14:J14)","v":0},null,null,null,{"$f":"SUM(L14:O14)","v":0},null,null,null,null,{"$f":"SUM(Q14:T14)","v":0},null,null,null,null,{"$f":"SUM(V14:Y14)","v":0},null,null,null,null,{"$f":"SUM(AA14:AB14)","v":0},null,null,{"$f":"SUM(AD14:AE14)","v":0}]
["De Urgencia",null,null,null,null,null,{"$f":"SUM(H15:J15)","v":0},null,null,null,{"$f":"SUM(L15:O15)","v":0},null,null,null,null,{"$f":"SUM(Q15:T15)","v":0},null,null,null,null,{"$f":"SUM(V15:Y15)","v":0},null,null,null,null,{"$f":"SUM(AA15:AB15)","v":0},null,null,{"$f":"SUM(AD15:AE15)","v":0}]
["Obstétrico",null,null,null,null,null,{"$f":"SUM(H16:J16)","v":0},null,null,null,{"$f":"SUM(L16:O16)","v":0},null,null,null,null,{"$f":"SUM(Q16:T16)","v":0},null,null,null,null,{"$f":"SUM(V16:Y16)","v":0},null,null,null,null,{"$f":"SUM(AA16:AB16)","v":0},null,null,{"$f":"SUM(AD16:AE16)","v":0}]
["Indiferenciado",null,null,null,null,null,{"$f":"SUM(H17:J17)","v":0},null,null,null,{"$f":"SUM(L17:O17)","v":0},null,null,null,null,{"$f":"SUM(Q17:T17)","v":0},null,null,null,null,{"$f":"SUM(V17:Y17)","v":0},null,null,null,null,{"$f":"SUM(AA17:AB17)","v":0},null,null,{"$f":"SUM(AD17:AE17)","v":0}]
["* Las horas informadas en cirugía menores y procedimientos, deben estar contenidas en las horas ocupadas, en quirófanos para cirugía mayor."]
[]
["SECCIÓN B:  PROCEDIMIENTOS COMPLEJOS AMBULATORIOS"]
["COMPONENTES","TOTAL","Quimioterapia","Hemodiálisis","Cirugía Mayor Ambulatoria","Coronariografía","Otras"]
["Recurso Disponible",{"$f":"SUM(C22:G22)","v":0}]
["Ingresos",{"$f":"SUM(C23:G23)","v":0}]
["Personas Atendidas",{"$f":"SUM(C24:G24)","v":0}]
["Días Personas Atendidas",{"$f":"SUM(C25:G25)","v":0}]
["Altas",{"$f":"SUM(C26:G26)","v":0}]
["SECCIÓN C:  HOSPITALIZACIÓN DOMICILIARIA "]
["SECCIÓN C.1:  PERSONAS ATENDIDAS EN EL PROGRAMA"]
["COMPONENTES",null,"TOTAL","RANGO ETARIO",null,null,"Origen de la Derivación"]
[null,null,null,"Menos de 15 años","15 - 19 años","20 y más años","APS","Urgencia","Hospitalización","Ambulatorio","Ley de Urgencia","UGCC"]
["Ingresos",null,{"$f":"SUM(D31:F31)","v":0}]
["Personas Atendidas",null,{"$f":"SUM(D32:F32)","v":0}]
["Días Personas Atendidas",null,0]
["Altas",null,0]
["Fallecidos","Esperados",0]
[null,"No esperados ",0]
["Reingresos a Hospitalización Tradicional\t",null,0]
["SECCIÓN C.2:  VISITAS REALIZADAS "]
["COMPONENTE","Total"]
["Médico"]
["Enfermera"]
["Técnico en Enfermería"]
["Matrona"]
["Kinesiólogo"]
["Psicólogo"]
["Fonoaudiólogo/a"]
["Trabajador/a Social"]
["Terapeuta Ocupacional"]
["SECCIÓN C.3:  CUPOS DISPONIBLES EN UNIDAD DE HOSPITALIZACIÓN DOMICILIARIA"]
["COMPONENTES","TOTAL","N° de Cupos","N° de cupos CAM INV Adicionales","N° de cupos Campaña de Invierno"]
["Número Cupos Programados",{"$f":"SUM(C51:E51)","v":0}]
["Número Cupos Utilizados",{"$f":"SUM(C52:E52)","v":0}]
["Número de Cupos Disponibles",{"$f":"SUM(C53:E53)","v":0}]
["SECCIÓN C.4: ASISTENCIA VENTILATORIA Y OXÍGENO EN DOMICILIO"]
["TIPO DE ESTRATEGIA","TOTAL","0-9 años","10 - 19 años","20 y más años","N° de cupos Campaña de Invierno"]
["Estrategia de Asistencia Ventilatoria Invasiva en Domicilio",{"$f":"SUM(C56:E56)","v":0}]
["Estrategia de Asistencia Ventilatoria no Invasiva en Domicilio",{"$f":"SUM(C57:E57)","v":0}]
["Estrategia Oxígeno Domiciliario para pacientes Crónicos",{"$f":"SUM(C58:E58)","v":0}]
["SECCIÓN C.5: INGRESOS Y EGRESOS AL PROGRAMA"]
["ACTIVIDAD","Número de ingresos ","Número de egresos ","Número de personas activas","Número de controles médicos"]
["Asistencia Ventilatoria Invasiva Infantil (AVI)"]
["Asistencia Ventilatoria Invasiva Del Adulto (AVIA)"]
["Asistencia Ventilatoria no Invasiva Infantil (AVNI)"]
["Asistencia Ventilatoria no Invasiva Adulto (AVNIA)"]
["Oxigenoterapia Ambulatorio Crónico Respiratorio Infantil"]
["Oxigenoterapia Ambulatorio Crónico Respiratorio Adulto"]
["TOTAL",{"$f":"SUM(B61:B66)","v":0},{"$f":"SUM(C61:C66)","v":0},{"$f":"SUM(D61:D66)","v":0},{"$f":"SUM(E61:E66)","v":0}]
["SECCIÓN D: APOYO PSICOSOCIAL EN NIÑOS, NIÑAS Y ADOLESCENTES HOSPITALIZADOS"]
["CONCEPTO","INTERVENCIÓN","TOTAL","Hasta 28 días","29 días hasta menor de 1 año ","1 - 4 años","5 - 9 años","10 - 14 años","15 - 19 años"]
["TOTAL DE EGRESOS (en el período)",null,{"$f":"SUM(D70:I70)","v":0}]
["Egresados con Apoyo Psicosocial (en el período)","Intervención Psicosocial",{"$f":"SUM(D71:I71)","v":0}]
[null,"Estimulación del Desarrollo",{"$f":"SUM(D72:I72)","v":0}]
["Nº de Atenciones (en el mes)","Intervención Psicosocial",{"$f":"SUM(D73:I73)","v":0}]
[null,"Estimulación del Desarrollo",{"$f":"SUM(D74:I74)","v":0}]
["SECCIÓN E: GESTIÓN DE PROCESOS DE PACIENTES QUIRÚRGICOS CON CIRUGÍA ELECTIVA"]
["ESPECIALIDAD","DÍAS DE ESTADA PREQUIRÚRGICOS",null,"PACIENTES INTERVENIDOS",null,"PROGRAMACIÓN DE TABLA QUIRÚRGICA (N° DE PACIENTES)"]
[null,null,null,null,null,"Pacientes Programados",null,"Pacientes Suspendidos"]
[null,"Menos de 15 años","15 y más años","Menos de 15 años","15 y más años","Menos de 15 años","15 y más años","Menos de 15 años","15 y más años"]
["Cirugía General",null,null,null,null,null,null,null,null,{"$f":"AO79","v":""},null,null,null,null,null,null,null,null,null,null,null,null,null,null,null,null,null,null,null,null,null,null,null,null,null,null,null,null,null,null,{"$f":"IF((D79+E79)<((F79+G79)-(H79+I79)),\"* La suma de los pacientes intervenidos debe ser mayor o igual a la Suma de Pacientes Programados menos la suma de Pacientes Suspendidos\",\"\")","v":""},null,null,null,{"$f":"IF((D79+E79)<((F79+G79)-(H79+I79)),1,0)","v":0}]
["Cirugía Cardiovascular",null,null,null,null,null,null,null,null,{"$f":"AO80","v":""},null,null,null,null,null,null,null,null,null,null,null,null,null,null,null,null,null,null,null,null,null,null,null,null,null,null,null,null,null,null,{"$f":"IF((D80+E80)<((F80+G80)-(H80+I80)),\"* La suma de los pacientes intervenidos debe ser mayor o igual a la Suma de Pacientes Programados menos la suma de Pacientes Suspendidos\",\"\")","v":""},null,null,null,{"$f":"IF((D80+E80)<((F80+G80)-(H80+I80)),1,0)","v":0}]
["Cirugía Maxilofacial",null,null,null,null,null,null,null,null,"",null,null,null,null,null,null,null,null,null,null,null,null,null,null,null,null,null,null,null,null,null,null,null,null,null,null,null,null,null,null,"",null,null,null,0]
["Cirugía Tórax",null,null,null,null,null,null,null,null,"",null,null,null,null,null,null,null,null,null,null,null,null,null,null,null,null,null,null,null,null,null,null,null,null,null,null,null,null,null,null,"",null,null,null,0]
["Traumatología",null,null,null,null,null,null,null,null,"",null,null,null,null,null,null,null,null,null,null,null,null,null,null,null,null,null,null,null,null,null,null,null,null,null,null,null,null,null,null,"",null,null,null,0]
["Neurocirugía",null,null,null,null,null,null,null,null,"",null,null,null,null,null,null,null,null,null,null,null,null,null,null,null,null,null,null,null,null,null,null,null,null,null,null,null,null,null,null,"",null,null,null,0]
["Otorrinolaringología",null,null,null,null,null,null,null,null,"",null,null,null,null,null,null,null,null,null,null,null,null,null,null,null,null,null,null,null,null,null,null,null,null,null,null,null,null,null,null,"",null,null,null,0]
["Oftalmología",null,null,null,null,null,null,null,null,"",null,null,null,null,null,null,null,null,null,null,null,null,null,null,null,null,null,null,null,null,null,null,null,null,null,null,null,null,null,null,"",null,null,null,0]
["Obstetricia Y Ginecología",null,null,null,null,null,null,null,null,"",null,null,null,null,null,null,null,null,null,null,null,null,null,null,null,null,null,null,null,null,null,null,null,null,null,null,null,null,null,null,"",null,null,null,0]
["Ginecología",null,null,null,null,null,null,null,null,"",null,null,null,null,null,null,null,null,null,null,null,null,null,null,null,null,null,null,null,null,null,null,null,null,null,null,null,null,null,null,"",null,null,null,0]
["Urología",null,null,null,null,null,null,null,null,"",null,null,null,null,null,null,null,null,null,null,null,null,null,null,null,null,null,null,null,null,null,null,null,null,null,null,null,null,null,null,"",null,null,null,0]
["Resto Especialidades",null,null,null,null,null,null,null,null,"",null,null,null,null,null,null,null,null,null,null,null,null,null,null,null,null,null,null,null,null,null,null,null,null,null,null,null,null,null,null,"",null,null,null,0]
["Odontología",null,null,null,null,null,null,null,null,"",null,null,null,null,null,null,null,null,null,null,null,null,null,null,null,null,null,null,null,null,null,null,null,null,null,null,null,null,null,null,"",null,null,null,0]
["TOTAL",{"$f":"SUM(B79:B91)","v":0},0,0,0,0,0,0,0]
["SECCIÓN F: CAUSAS DE SUSPENSIÓN DE CIRUGÍAS ELECTIVAS"]
["CAUSAS DE SUSPENSIÓN ATRIBUIBLES A:\n","Nº DE PERSONAS"]
[null,"TOTALES","Menos de 15 años","15 y más años","Beneficiarios MAI","Beneficiarios MLE","Otros"]
["Paciente",{"$f":"SUM(C96+D96)","v":0},null,null,null,null,null,{"$f":"AO96","v":""},null,null,null,null,null,null,null,null,null,null,null,null,null,null,null,null,null,null,null,null,null,null,null,null,null,null,null,null,null,null,null,null,{"$f":"IF(SUM(E96:G96)<>B96,\"* La Suma de los Beneficiarios MAI, MLE y Otros debe ser igual al Total.\",\"\")","v":""},null,null,null,{"$f":"IF(SUM(E96:G96)<>B96,1,0)","v":0}]
["Administrativas",0,null,null,null,null,null,{"$f":"AO97","v":""},null,null,null,null,null,null,null,null,null,null,null,null,null,null,null,null,null,null,null,null,null,null,null,null,null,null,null,null,null,null,null,null,{"$f":"IF(SUM(E97:G97)<>B97,\"* La Suma de los Beneficiarios MAI, MLE y Otros debe ser igual al Total.\",\"\")","v":""},null,null,null,{"$f":"IF(SUM(E97:G97)<>B97,1,0)","v":0}]
["Unidad de Apoyo Clínico",0,null,null,null,null,null,"",null,null,null,null,null,null,null,null,null,null,null,null,null,null,null,null,null,null,null,null,null,null,null,null,null,null,null,null,null,null,null,null,"",null,null,null,0]
["Unidad de Apoyo Logístico",0,null,null,null,null,null,"",null,null,null,null,null,null,null,null,null,null,null,null,null,null,null,null,null,null,null,null,null,null,null,null,null,null,null,null,null,null,null,null,"",null,null,null,0]
["Equipo Quirúrgico",0,null,null,null,null,null,"",null,null,null,null,null,null,null,null,null,null,null,null,null,null,null,null,null,null,null,null,null,null,null,null,null,null,null,null,null,null,null,null,"",null,null,null,0]
["Infraestructura",0,null,null,null,null,null,"",null,null,null,null,null,null,null,null,null,null,null,null,null,null,null,null,null,null,null,null,null,null,null,null,null,null,null,null,null,null,null,null,"",null,null,null,0]
["Emergencias",0,null,null,null,null,null,"",null,null,null,null,null,null,null,null,null,null,null,null,null,null,null,null,null,null,null,null,null,null,null,null,null,null,null,null,null,null,null,null,"",null,null,null,0]
["Gremiales",0,null,null,null,null,null,"",null,null,null,null,null,null,null,null,null,null,null,null,null,null,null,null,null,null,null,null,null,null,null,null,null,null,null,null,null,null,null,null,"",null,null,null,0]
["TOTAL",{"$f":"SUM(B96:B103)","v":0},0,0,0,0,0,{"$f":"AO104","v":""},null,null,null,null,null,null,null,null,null,null,null,null,null,null,null,null,null,null,null,null,null,null,null,null,null,null,null,null,null,null,null,null,{"$f":"IF((H92+I92)<>B104,\" * El total de Causas de suspensión debe coincidir con la suma de Pacientes suspendidos de la Sección E\",\"\")","v":""},null,null,null,{"$f":"IF((H92+I92)<>B104,1,0)","v":0}]
["SECCIÓN G: ESTERILIZACIONES QUIRÚRGICAS"]
["SEXO","TOTAL      ","RANGO ETARIO",null,null,"TRANS"]
[null,null,"Menos \nde 20 años","20 - 34 años","35 y más años","Masculino","Femenino"]
["Mujer",{"$f":"SUM(C108:E108)","v":0},null,null,null,null,null,{"$f":"AO108","v":""},null,null,null,null,null,null,null,null,null,null,null,null,null,null,null,null,null,null,null,null,null,null,null,null,null,null,null,null,null,null,null,null,{"$f":"IF(AND(B108>0,F108=\"\"),\"* No olvide digitar la variable Trans Masculino.\",IF(F108>B108,\" * Trans Masculino no puede ser mayor al Total.\",\"\"))","v":""},null,null,null,{"$f":"IF(AND(B108>0,F108=\"\"),1,IF(F108>B108,1,0))","v":0}]
["Hombre",{"$f":"SUM(C109:E109)","v":0},null,null,null,null,null,{"$f":"AP109","v":""},null,null,null,null,null,null,null,null,null,null,null,null,null,null,null,null,null,null,null,null,null,null,null,null,null,null,null,null,null,null,null,null,null,{"$f":"IF(AND(B109>0,G109=\"\"),\"* No olvide digitar la variable Trans Femenino.\",IF(G109>B109,\" * Trans Femeninoo no puede ser mayor al Total.\",\"\"))","v":""},null,null,null,{"$f":"IF(AND(B109>0,G109=\"\"),1,IF(G109>B109,1,0))","v":0}]
[]
[]
[]
[]
[]
[]
[]
[]
[]
[]
[]
[]
[]
[]
[]
[]
[]
[]
[]
[]
[]
[]
[]
[]
[]
[]
[]
[]
[]
[]
[]
[]
[]
[]
[]
[]
[]
[]
[]
[]
[]
[]
[]
[]
[]
[]
[]
[]
[]
[]
[]
[]
[]
[]
[]
[]
[]
[]
[]
[]
[]
[]
[]
[]
[]
[]
[]
[]
[]
[]
[]
[]
[]
[]
[]
[]
[]
[]
[]
[]
[]
[]
[]
[]
[]
[]
[]
[]
[]
[]
[]
[{"$f":"SUM(B13:F13,G13:J13,G14:G17,K13:AE13,K14:K17,P14:P17,U14:U17,Z14:Z17,AC14:AC17,B22:B26,C31:C37,B40:B48,B51:B53,B56:B58,B67:E67,C70:C74,B92:I92,B96:B103,B104:G104,B108:B109)","v":0},{"$f":"SUM(AS79:AV109)","v":0}]

{"sheet":"A23","index":15,"n_rows":215,"n_cols":88,"rows_kept":215,"cut":false,"hidden":false,"merged":[[184,0,185,1],[186,0,187,1],[180,28,180,29],[180,30,180,31],[180,32,180,33],[180,34,180,35],[180,36,180,37],[182,0,183,1],[180,16,180,17],[180,18,180,19],[180,20,180,21],[180,22,180,23],[180,24,180,25],[180,26,180,27],[179,0,181,1],[179,2,181,2],[179,3,180,5],[179,6,179,37],[180,6,180,7],[180,8,180,9],[180,10,180,11],[180,12,180,13],[180,14,180,15],[167,0,169,0],[170,0,170,2],[171,0,173,1],[171,2,172,4],[171,5,171,10],[172,5,172,6],[172,7,172,8],[172,9,172,10],[174,0,177,0],[162,0,162,2],[163,0,163,1],[155,16,155,17],[155,18,155,19],[155,20,155,21],[155,22,155,23],[155,24,155,25],[155,26,155,27],[164,0,166,0],[152,0,152,1],[154,0,156,0],[154,1,155,3],[154,4,154,35],[155,4,155,5],[155,6,155,7],[155,8,155,9],[155,10,155,11],[155,12,155,13],[155,14,155,15],[155,28,155,29],[155,30,155,31],[155,32,155,33],[155,34,155,35],[133,30,133,31],[133,32,133,33],[133,34,133,35],[143,0,143,1],[144,0,147,0],[148,0,151,0],[133,18,133,19],[133,20,133,21],[133,22,133,23],[133,24,133,25],[133,26,133,27],[133,28,133,29],[132,0,134,0],[132,1,133,3],[132,4,132,35],[133,4,133,5],[133,6,133,7],[133,8,133,9],[133,10,133,11],[133,12,133,13],[133,14,133,15],[133,16,133,17],[112,16,112,17],[112,18,112,19],[112,20,112,21],[121,26,121,27],[121,28,121,29],[121,30,121,31],[121,32,121,33],[121,34,121,35],[131,0,131,4],[121,14,121,15],[121,16,121,17],[121,18,121,19],[121,20,121,21],[121,22,121,23],[121,24,121,25],[120,0,122,0],[120,1,121,3],[120,4,120,35],[112,28,112,29],[112,30,112,31],[112,32,112,33],[112,10,112,11],[112,12,112,13],[112,14,112,15],[120,36,122,36],[121,4,121,5],[121,6,121,7],[121,8,121,9],[121,10,121,11],[121,12,121,13],[105,32,105,33],[105,34,105,35],[111,0,113,0],[111,1,112,3],[111,4,111,35],[112,4,112,5],[112,6,112,7],[112,8,112,9],[105,16,105,17],[105,18,105,19],[105,20,105,21],[105,22,105,23],[105,24,105,25],[105,26,105,27],[112,34,112,35],[112,22,112,23],[112,24,112,25],[112,26,112,27],[92,10,92,11],[92,12,92,13],[92,14,92,15],[92,16,92,17],[92,18,92,19],[92,20,92,21],[92,34,92,35],[104,0,106,0],[104,1,105,3],[104,4,104,35],[105,4,105,5],[105,6,105,7],[105,8,105,9],[105,10,105,11],[105,12,105,13],[105,14,105,15],[92,22,92,23],[92,24,92,25],[92,26,92,27],[92,28,92,29],[92,30,92,31],[92,32,92,33],[105,28,105,29],[105,30,105,31],[91,0,93,0],[91,1,92,3],[75,32,75,33],[75,34,75,35],[85,0,85,1],[75,20,75,21],[75,22,75,23],[75,24,75,25],[75,26,75,27],[75,28,75,29],[75,30,75,31],[75,8,75,9],[75,10,75,11],[75,12,75,13],[75,14,75,15],[75,16,75,17],[75,18,75,19],[91,4,91,35],[92,4,92,5],[92,6,92,7],[92,8,92,9],[74,0,76,0],[74,1,75,3],[74,4,74,35],[75,4,75,5],[75,6,75,7],[86,0,86,1],[87,0,87,1],[88,0,88,1],[89,0,89,1],[67,36,69,36],[67,37,69,37],[68,4,68,5],[68,6,68,7],[68,8,68,9],[68,10,68,11],[68,12,68,13],[68,14,68,15],[68,16,68,17],[68,18,68,19],[68,26,68,27],[68,28,68,29],[68,30,68,31],[68,32,68,33],[68,34,68,35],[67,0,69,0],[67,1,68,3],[67,4,67,35],[68,20,68,21],[68,22,68,23],[68,24,68,25],[60,16,60,17],[60,18,60,19],[60,20,60,21],[60,22,60,23],[60,24,60,25],[60,26,60,27],[59,36,61,36],[60,4,60,5],[60,6,60,7],[60,8,60,9],[60,10,60,11],[60,12,60,13],[60,14,60,15],[60,28,60,29],[60,30,60,31],[60,32,60,33],[60,34,60,35],[55,14,55,15],[55,16,55,17],[55,18,55,19],[55,20,55,21],[55,22,55,23],[59,0,61,0],[59,1,60,3],[59,4,59,35],[54,0,56,0],[54,1,55,3],[54,4,54,35],[54,36,56,36],[55,4,55,5],[55,6,55,7],[55,8,55,9],[55,10,55,11],[43,24,43,25],[43,26,43,27],[43,28,43,29],[43,30,43,31],[43,32,43,33],[43,34,43,35],[43,12,43,13],[43,14,43,15],[43,16,43,17],[43,18,43,19],[43,20,43,21],[43,22,43,23],[55,24,55,25],[55,26,55,27],[55,28,55,29],[55,30,55,31],[55,32,55,33],[55,34,55,35],[55,12,55,13],[39,0,39,1],[40,0,40,1],[42,0,44,0],[42,1,43,3],[42,4,42,35],[42,36,43,37],[43,4,43,5],[43,6,43,7],[43,8,43,9],[43,10,43,11],[30,0,32,0],[33,0,34,0],[35,0,35,1],[36,0,36,1],[37,0,37,1],[38,0,38,1],[25,27,25,28],[25,29,25,30],[25,31,25,32],[27,0,29,0],[24,0,26,1],[24,2,25,4],[24,37,26,37],[24,38,26,38],[24,39,26,39],[25,5,25,6],[25,7,25,8],[25,9,25,10],[25,11,25,12],[25,13,25,14],[25,15,25,16],[25,17,25,18],[24,5,24,36],[25,19,25,20],[25,21,25,22],[25,23,25,24],[25,25,25,26],[25,33,25,34],[25,35,25,36],[8,38,10,38],[9,4,9,5],[9,6,9,7],[9,8,9,9],[9,10,9,11],[9,12,9,13],[9,14,9,15],[9,16,9,17],[9,18,9,19],[9,20,9,21],[9,30,9,31],[9,32,9,33],[9,34,9,35],[5,0,5,21],[8,0,10,0],[8,1,9,3],[8,4,8,35],[8,36,10,36],[8,37,10,37],[9,22,9,23],[9,24,9,25],[9,26,9,27],[9,28,9,29]]}
["SERVICIO DE SALUD"]
[{"$f":"CONCATENATE(\"COMUNA: \",NOMBRE!B2,\" - \",\"( \",NOMBRE!C2,NOMBRE!D2,NOMBRE!E2,NOMBRE!F2,NOMBRE!G2,\" )\")","v":"COMUNA:  - (  )"}]
[{"$f":"CONCATENATE(\"ESTABLECIMIENTO/ESTRATEGIA: \",NOMBRE!B3,\" - \",\"( \",NOMBRE!C3,NOMBRE!D3,NOMBRE!E3,NOMBRE!F3,NOMBRE!G3,NOMBRE!H3,\" )\")","v":"ESTABLECIMIENTO/ESTRATEGIA:  - (  )"}]
[{"$f":"CONCATENATE(\"MES: \",NOMBRE!B6,\" - \",\"( \",NOMBRE!C6,NOMBRE!D6,\" )\")","v":"MES:  - (  )"}]
[{"$f":"CONCATENATE(\"AÑO: \",NOMBRE!B7)","v":"AÑO: 2024"}]
["REM-23.   SALAS: IRA, ERA Y MIXTAS EN APS"]
[]
["SECCIÓN A: INGRESOS AGUDOS SEGÚN DIAGNOSTICO DERIVADOS A SALA"]
["DIAGNÓSTICOS","TOTAL",null,null,"RANGO ETARIO Y SEXO",null,null,null,null,null,null,null,null,null,null,null,null,null,null,null,null,null,null,null,null,null,null,null,null,null,null,null,null,null,null,null,"Pueblos Originarios","Migrantes","Por Campaña de Invierno"]
[null,null,null,null,"Menos de 1 año",null,"1 - 4 \naños",null,"5 - 9 \naños",null,"10 - 14 años",null,"15 - 19 años",null,"20 - 24 años",null,"25 - 39 años",null,"40 - 44 años",null,"45 - 49 años",null,"50 - 54 años",null,"55 - 59 años",null,"60 - 64 años",null,"65 - 69 años",null,"70 - 74 años",null,"75 - 79 años",null,"80 y más años"]
[null,"Ambos Sexos","Hombres","Mujeres","Hombres","Mujeres","Hombres","Mujeres","Hombres","Mujeres","Hombres","Mujeres","Hombres","Mujeres","Hombres","Mujeres","Hombres","Mujeres","Hombres","Mujeres","Hombres","Mujeres","Hombres","Mujeres","Hombres","Mujeres","Hombres","Mujeres","Hombres","Mujeres","Hombres","Mujeres","Hombres","Mujeres","Hombres","Mujeres"]
["I.R.A. alta",{"$f":"SUM(C12+D12)","v":0},{"$f":"SUM(E12+G12+I12+K12+M12+O12+Q12+S12+U12+W12+Y12+AA12+AC12+AE12+AG12+AI12)","v":0},{"$f":"SUM(F12+H12+J12+L12+N12+P12+R12+T12+V12+X12+Z12+AB12+AD12+AF12+AH12+AJ12)","v":0},null,null,null,null,null,null,null,null,null,null,null,null,null,null,null,null,null,null,null,null,null,null,null,null,null,null,null,null,null,null,null,null,null,null,null,{"$f":"CB12&CC12&CD12&CE12","v":""},null,null,null,null,null,null,null,null,null,null,null,null,null,null,null,null,null,null,null,null,null,null,null,null,null,null,null,null,null,null,null,null,null,null,null,null,null,null,null,{"$f":"IF(AND(B12>0,AK12=\"\"),\" * No olvide digitar la variable Pueblos originarios. Digite Cero si no tiene.\",IF(AK12>B12,\" * La variable Pueblos originarios no puede ser mayor al Total.\",\"\"))","v":""},{"$f":"IF(AND(B12>0,AL12=\"\"),\" * No olvide digitar la variable Migrantes. Digite Cero si no tiene.\",IF(AL12>B12,\" * La variable Migrantes no puede ser mayor al Total.\",\"\"))","v":""},{"$f":"IF(AND(B12>0,AM12=\"\"),\" * No olvide digitar la variable Por campaña de invierno. Digite Cero si no tiene.\",IF(AM12>B12,\" * La variable Por campaña de invierno no puede ser mayor al Total.\",\"\"))","v":""},null,null,{"$f":"IF(AND(B12>0,AK12=\"\"),1,IF(AK12>B12,1,0))","v":0},{"$f":"IF(AND(B12>0,AL12=\"\"),1,IF(AL12>B12,1,0))","v":0},{"$f":"IF(AND(B12>0,AM12=\"\"),1,IF(AM12>B12,1,0))","v":0}]
["Influenza",{"$f":"SUM(C13+D13)","v":0},{"$f":"SUM(E13+G13+I13+K13+M13+O13+Q13+S13+U13+W13+Y13+AA13+AC13+AE13+AG13+AI13)","v":0},0,null,null,null,null,null,null,null,null,null,null,null,null,null,null,null,null,null,null,null,null,null,null,null,null,null,null,null,null,null,null,null,null,null,null,null,{"$f":"CB13&CC13&CD13&CE13","v":""},null,null,null,null,null,null,null,null,null,null,null,null,null,null,null,null,null,null,null,null,null,null,null,null,null,null,null,null,null,null,null,null,null,null,null,null,null,null,null,{"$f":"IF(AND(B13>0,AK13=\"\"),\" * No olvide digitar la variable Pueblos originarios. Digite Cero si no tiene.\",IF(AK13>B13,\" * La variable Pueblos originarios no puede ser mayor al Total.\",\"\"))","v":""},{"$f":"IF(AND(B13>0,AL13=\"\"),\" * No olvide digitar la variable Migrantes. Digite Cero si no tiene.\",IF(AL13>B13,\" * La variable Migrantes no puede ser mayor al Total.\",\"\"))","v":""},{"$f":"IF(AND(B13>0,AM13=\"\"),\" * No olvide digitar la variable Por campaña de invierno. Digite Cero si no tiene.\",IF(AM13>B13,\" * La variable Por campaña de invierno no puede ser mayor al Total.\",\"\"))","v":""},null,null,{"$f":"IF(AND(B13>0,AK13=\"\"),1,IF(AK13>B13,1,0))","v":0},{"$f":"IF(AND(B13>0,AL13=\"\"),1,IF(AL13>B13,1,0))","v":0},{"$f":"IF(AND(B13>0,AM13=\"\"),1,IF(AM13>B13,1,0))","v":0}]
["Neumonía ",0,0,0,null,null,null,null,null,null,null,null,null,null,null,null,null,null,null,null,null,null,null,null,null,null,null,null,null,null,null,null,null,null,null,null,null,null,null,"",null,null,null,null,null,null,null,null,null,null,null,null,null,null,null,null,null,null,null,null,null,null,null,null,null,null,null,null,null,null,null,null,null,null,null,null,null,null,null,"","","",null,null,0,0,0]
["Coqueluche",0,0,0,null,null,null,null,null,null,null,null,null,null,null,null,null,null,null,null,null,null,null,null,null,null,null,null,null,null,null,null,null,null,null,null,null,null,null,"",null,null,null,null,null,null,null,null,null,null,null,null,null,null,null,null,null,null,null,null,null,null,null,null,null,null,null,null,null,null,null,null,null,null,null,null,null,null,null,"","","",null,null,0,0,0]
["Bronquitis obstructiva aguda",0,0,0,null,null,null,null,null,null,null,null,null,null,null,null,null,null,null,null,null,null,null,null,null,null,null,null,null,null,null,null,null,null,null,null,null,null,null,"",null,null,null,null,null,null,null,null,null,null,null,null,null,null,null,null,null,null,null,null,null,null,null,null,null,null,null,null,null,null,null,null,null,null,null,null,null,null,null,"","","",null,null,0,0,0]
["Otras IRAS bajas",0,0,0,null,null,null,null,null,null,null,null,null,null,null,null,null,null,null,null,null,null,null,null,null,null,null,null,null,null,null,null,null,null,null,null,null,null,null,"",null,null,null,null,null,null,null,null,null,null,null,null,null,null,null,null,null,null,null,null,null,null,null,null,null,null,null,null,null,null,null,null,null,null,null,null,null,null,null,"","","",null,null,0,0,0]
["Exacerbación síndrome bronquial obstructivo recurrente (SBOR)",0,0,0,null,null,null,null,null,null,null,null,null,null,null,null,null,null,null,null,null,null,null,null,null,null,null,null,null,null,null,null,null,null,null,null,null,null,null,"",null,null,null,null,null,null,null,null,null,null,null,null,null,null,null,null,null,null,null,null,null,null,null,null,null,null,null,null,null,null,null,null,null,null,null,null,null,null,null,"","","",null,null,0,0,0]
["Exacerbación Asma",0,0,0,null,null,null,null,null,null,null,null,null,null,null,null,null,null,null,null,null,null,null,null,null,null,null,null,null,null,null,null,null,null,null,null,null,null,null,"",null,null,null,null,null,null,null,null,null,null,null,null,null,null,null,null,null,null,null,null,null,null,null,null,null,null,null,null,null,null,null,null,null,null,null,null,null,null,null,"","","",null,null,0,0,0]
["Exacerbación de enfermedad pulmonar obstructiva crónica (EPOC)",0,0,0,null,null,null,null,null,null,null,null,null,null,null,null,null,null,null,null,null,null,null,null,null,null,null,null,null,null,null,null,null,null,null,null,null,null,null,"",null,null,null,null,null,null,null,null,null,null,null,null,null,null,null,null,null,null,null,null,null,null,null,null,null,null,null,null,null,null,null,null,null,null,null,null,null,null,null,"","","",null,null,0,0,0]
["Exacerbación fibrosis quística",0,0,0,null,null,null,null,null,null,null,null,null,null,null,null,null,null,null,null,null,null,null,null,null,null,null,null,null,null,null,null,null,null,null,null,null,null,null,"",null,null,null,null,null,null,null,null,null,null,null,null,null,null,null,null,null,null,null,null,null,null,null,null,null,null,null,null,null,null,null,null,null,null,null,null,null,null,null,"","","",null,null,0,0,0]
["Exacerbación otras respiratorias crónicas",0,0,0,null,null,null,null,null,null,null,null,null,null,null,null,null,null,null,null,null,null,null,null,null,null,null,null,null,null,null,null,null,null,null,null,null,null,null,"",null,null,null,null,null,null,null,null,null,null,null,null,null,null,null,null,null,null,null,null,null,null,null,null,null,null,null,null,null,null,null,null,null,null,null,null,null,null,null,"","","",null,null,0,0,0]
["TOTAL",{"$f":"SUM(B12:B22)","v":0},0,0,0,0,0,0,0,0,0,0,0,0,0,0,0,0,0,0,0,0,0,0,0,0,0,0,0,0,0,0,0,0,0,0,0,0,0]
["SECCIÓN B: INGRESO CRÓNICO SEGÚN DIAGNÓSTICO (SÓLO MÉDICO)"]
["DIAGNÓSTICO O PROGRAMA",null,"TOTAL",null,null,"RANGO ETARIO Y SEXO",null,null,null,null,null,null,null,null,null,null,null,null,null,null,null,null,null,null,null,null,null,null,null,null,null,null,null,null,null,null,null,"Reingresos","Pueblos Originarios","Migrantes"]
[null,null,null,null,null,"Menos de 1 año",null,"1 - 4 \naños",null,"5 - 9 \naños",null,"10 - 14 años",null,"15 - 19 años",null,"20 - 24 años",null,"25 - 39 años",null,"40 - 44 años",null,"45 - 49 años",null,"50 - 54 años",null,"55 - 59 años",null,"60 - 64 años",null,"65 - 69 años",null,"70 - 74 años",null,"75 - 79 años",null,"80 y más años"]
[null,null,"Ambos Sexos","Hombres","Mujeres","Hombres","Mujeres","Hombres","Mujeres","Hombres","Mujeres","Hombres","Mujeres","Hombres","Mujeres","Hombres","Mujeres","Hombres","Mujeres","Hombres","Mujeres","Hombres","Mujeres","Hombres","Mujeres","Hombres","Mujeres","Hombres","Mujeres","Hombres","Mujeres","Hombres","Mujeres","Hombres","Mujeres","Hombres","Mujeres"]
["Síndrome bronquial obstructivo recurrente (SBOR)","Leve",{"$f":"SUM(D28+E28)","v":0},{"$f":"SUM(F28+H28)","v":0},0,null,null,null,null,null,null,null,null,null,null,null,null,null,null,null,null,null,null,null,null,null,null,null,null,null,null,null,null,null,null,null,null,null,null,null,{"$f":"CB28&CC28&CD28&CE28","v":""},null,null,null,null,null,null,null,null,null,null,null,null,null,null,null,null,null,null,null,null,null,null,null,null,null,null,null,null,null,null,null,null,null,null,null,null,null,null,{"$f":"IF(AND(C28>0,AL28=\"\"),\" * No olvide digitar la variable Reingresos. Digite Cero si no tiene.\",IF(AL28>C28,\" * La variable Reingresos no puede ser mayor al Total.\",\"\"))","v":""},{"$f":"IF(AND(C28>0,AM28=\"\"),\" * No olvide digitar la variable Pueblos originarios.  Digite Cero si no tiene.\",IF(AM28>C28,\" * La variable Pueblos originarios no puede ser mayor al Total.\",\"\"))","v":""},{"$f":"IF(AND(C28>0,AN28=\"\"),\" * No olvide digitar la variable Migrantes. Digite Cero si no tiene.\",IF(AN28>C28,\" * La variable Migrantes no puede ser mayor al Total.\",\"\"))","v":""},null,null,{"$f":"IF(AND(C28>0,AL28=\"\"),1,IF(AL28>C28,1,0))","v":0},{"$f":"IF(AND(C28>0,AM28=\"\"),1,IF(AM28>C28,1,0))","v":0},{"$f":"IF(AND(C28>0,AN28=\"\"),1,IF(AN28>C28,1,0))","v":0}]
[null,"Moderado",0,0,0,null,null,null,null,null,null,null,null,null,null,null,null,null,null,null,null,null,null,null,null,null,null,null,null,null,null,null,null,null,null,null,null,null,null,null,{"$f":"CB29&CC29&CD29&CE29","v":""},null,null,null,null,null,null,null,null,null,null,null,null,null,null,null,null,null,null,null,null,null,null,null,null,null,null,null,null,null,null,null,null,null,null,null,null,null,null,{"$f":"IF(AND(C29>0,AL29=\"\"),\" * No olvide digitar la variable Reingresos. Digite Cero si no tiene.\",IF(AL29>C29,\" * La variable Reingresos no puede ser mayor al Total.\",\"\"))","v":""},{"$f":"IF(AND(C29>0,AM29=\"\"),\" * No olvide digitar la variable Pueblos originarios.  Digite Cero si no tiene.\",IF(AM29>C29,\" * La variable Pueblos originarios no puede ser mayor al Total.\",\"\"))","v":""},"",null,null,{"$f":"IF(AND(C29>0,AL29=\"\"),1,IF(AL29>C29,1,0))","v":0},{"$f":"IF(AND(C29>0,AM29=\"\"),1,IF(AM29>C29,1,0))","v":0},{"$f":"IF(AND(C29>0,AN29=\"\"),1,IF(AN29>C29,1,0))","v":0}]
[null,"Severo",0,0,0,null,null,null,null,null,null,null,null,null,null,null,null,null,null,null,null,null,null,null,null,null,null,null,null,null,null,null,null,null,null,null,null,null,null,null,"",null,null,null,null,null,null,null,null,null,null,null,null,null,null,null,null,null,null,null,null,null,null,null,null,null,null,null,null,null,null,null,null,null,null,null,null,null,null,"","","",null,null,0,0,0]
["Asma bronquial","Leve",0,{"$f":"SUM(H31+J31+L31+N31+P31+R31+T31+V31+X31+Z31+AB31+AD31+AF31+AH31+AJ31)","v":0},0,null,null,null,null,null,null,null,null,null,null,null,null,null,null,null,null,null,null,null,null,null,null,null,null,null,null,null,null,null,null,null,null,null,null,null,"",null,null,null,null,null,null,null,null,null,null,null,null,null,null,null,null,null,null,null,null,null,null,null,null,null,null,null,null,null,null,null,null,null,null,null,null,null,null,"","","",null,null,0,0,0]
[null,"Moderado",0,0,0,null,null,null,null,null,null,null,null,null,null,null,null,null,null,null,null,null,null,null,null,null,null,null,null,null,null,null,null,null,null,null,null,null,null,null,"",null,null,null,null,null,null,null,null,null,null,null,null,null,null,null,null,null,null,null,null,null,null,null,null,null,null,null,null,null,null,null,null,null,null,null,null,null,null,"","",{"$f":"IF(AND(C32>0,AN32=\"\"),\" * No olvide digitar la variable Migrantes. Digite Cero si no tiene.\",IF(AN32>C32,\" * La variable Migrantes no puede ser mayor al Total.\",\"\"))","v":""},null,null,0,0,0]
[null,"Severo",0,0,0,null,null,null,null,null,null,null,null,null,null,null,null,null,null,null,null,null,null,null,null,null,null,null,null,null,null,null,null,null,null,null,null,null,null,null,"",null,null,null,null,null,null,null,null,null,null,null,null,null,null,null,null,null,null,null,null,null,null,null,null,null,null,null,null,null,null,null,null,null,null,null,null,null,null,"","",{"$f":"IF(AND(C33>0,AN33=\"\"),\" * No olvide digitar la variable Migrantes. Digite Cero si no tiene.\",IF(AN33>C33,\" * La variable Migrantes no puede ser mayor al Total.\",\"\"))","v":""},null,null,0,0,0]
["Enfermedad pulmonar obstructiva crónica (EPOC)","Tipo A",0,{"$f":"SUM(T34+V34+X34+Z34+AB34+AD34+AF34+AH34+AJ34)","v":0},{"$f":"SUM(U34+W34+Y34+AA34+AC34+AE34+AG34+AI34+AK34)","v":0},null,null,null,null,null,null,null,null,null,null,null,null,null,null,null,null,null,null,null,null,null,null,null,null,null,null,null,null,null,null,null,null,null,null,null,"",null,null,null,null,null,null,null,null,null,null,null,null,null,null,null,null,null,null,null,null,null,null,null,null,null,null,null,null,null,null,null,null,null,null,null,null,null,null,"","","",null,null,0,0,0]
[null,"Tipo B",0,{"$f":"SUM(F35+H35+J35+L35+N35+P35+R35+T35+V35+X35+Z35+AB35+AD35+AF35+AH35+AJ35)","v":0},0,null,null,null,null,null,null,null,null,null,null,null,null,null,null,null,null,null,null,null,null,null,null,null,null,null,null,null,null,null,null,null,null,null,null,null,"",null,null,null,null,null,null,null,null,null,null,null,null,null,null,null,null,null,null,null,null,null,null,null,null,null,null,null,null,null,null,null,null,null,null,null,null,null,null,"","","",null,null,0,0,0]
["Displasia broncopulmonar",null,0,0,0,null,null,null,null,null,null,null,null,null,null,null,null,null,null,null,null,null,null,null,null,null,null,null,null,null,null,null,null,null,null,null,null,null,null,null,"",null,null,null,null,null,null,null,null,null,null,null,null,null,null,null,null,null,null,null,null,null,null,null,null,null,null,null,null,null,null,null,null,null,null,null,null,null,null,"","","",null,null,0,0,0]
["Fibrosis quística",null,0,0,0,null,null,null,null,null,null,null,null,null,null,null,null,null,null,null,null,null,null,null,null,null,null,null,null,null,null,null,null,null,null,null,null,null,null,null,"",null,null,null,null,null,null,null,null,null,null,null,null,null,null,null,null,null,null,null,null,null,null,null,null,null,null,null,null,null,null,null,null,null,null,null,null,null,null,"","","",null,null,0,0,0]
["Oxígeno dependiente",null,0,0,0,null,null,null,null,null,null,null,null,null,null,null,null,null,null,null,null,null,null,null,null,null,null,null,null,null,null,null,null,null,null,null,null,null,null,null,"",null,null,null,null,null,null,null,null,null,null,null,null,null,null,null,null,null,null,null,null,null,null,null,null,null,null,null,null,null,null,null,null,null,null,null,null,null,null,"","","",null,null,0,0,0]
["Asistencia ventilatoria no invasiva o invasiva ",null,0,0,0,null,null,null,null,null,null,null,null,null,null,null,null,null,null,null,null,null,null,null,null,null,null,null,null,null,null,null,null,null,null,null,null,null,null,null,"",null,null,null,null,null,null,null,null,null,null,null,null,null,null,null,null,null,null,null,null,null,null,null,null,null,null,null,null,null,null,null,null,null,null,null,null,null,null,"","","",null,null,0,0,0]
["Otras respiratorias crónicas",null,0,0,0,null,null,null,null,null,null,null,null,null,null,null,null,null,null,null,null,null,null,null,null,null,null,null,null,null,null,null,null,null,null,null,null,null,null,null,"",null,null,null,null,null,null,null,null,null,null,null,null,null,null,null,null,null,null,null,null,null,null,null,null,null,null,null,null,null,null,null,null,null,null,null,null,null,null,"","","",null,null,0,0,0]
["TOTAL",null,{"$f":"SUM(C28:C40)","v":0},0,0,0,0,0,0,0,0,0,0,0,0,0,0,0,0,0,0,0,0,0,0,0,0,0,0,0,0,0,0,0,0,0,0,0,{"$f":"SUM(AM28:AM40)","v":0},{"$f":"SUM(AN28:AN40)","v":0}]
["SECCION C: EGRESOS"]
["DIAGNÓSTICO O PROGRAMA","TOTAL",null,null,"RANGO ETARIO Y SEXO",null,null,null,null,null,null,null,null,null,null,null,null,null,null,null,null,null,null,null,null,null,null,null,null,null,null,null,null,null,null,null,"CAUSAL"]
[null,null,null,null,"Menos de 1 año",null,"1 - 4 \naños",null,"5 - 9 \naños",null,"10 - 14 años",null,"15 - 19 años",null,"20 - 24 años",null,"25 - 39 años",null,"40 - 44 años",null,"45 - 49 años",null,"50 - 54 años",null,"55 - 59 años",null,"60 - 64 años",null,"65 - 69 años",null,"70 - 74 años",null,"75 - 79 años",null,"80 y más años"]
[null,"Ambos Sexos","Hombres","Mujeres","Hombres","Mujeres","Hombres","Mujeres","Hombres","Mujeres","Hombres","Mujeres","Hombres","Mujeres","Hombres","Mujeres","Hombres","Mujeres","Hombres","Mujeres","Hombres","Mujeres","Hombres","Mujeres","Hombres","Mujeres","Hombres","Mujeres","Hombres","Mujeres","Hombres","Mujeres","Hombres","Mujeres","Hombres","Mujeres","Abandono","Fallecimiento"]
["Síndrome bronquial obstructiva recurrente (SBOR)",{"$f":"SUM(C46+D46)","v":0},{"$f":"SUM(E46+G46)","v":0},{"$f":"SUM(F46+H46)","v":0},null,null,null,null,null,null,null,null,null,null,null,null,null,null,null,null,null,null,null,null,null,null,null,null,null,null,null,null,null,null,null,null,null,null,{"$f":"CB46&CC46&CD46&CE46","v":""},null,null,null,null,null,null,null,null,null,null,null,null,null,null,null,null,null,null,null,null,null,null,null,null,null,null,null,null,null,null,null,null,null,null,null,null,null,null,null,null,{"$f":"IF((AK46+AL46)>B46,\" * Egresos según causal no debe ser mayor que el Total de Egresos\",\"\")","v":""},{"$f":"IF(AND(B46>0,AK46=\"\",AL46=\"\"),\" * No olvide registrar Causal de egresos (Abandono/Fallecimiento).\",\"\")","v":""},null,null,null,{"$f":"IF((AK46+AL46)>B46,1,0)","v":0},{"$f":"IF(AND(B46>0,AK46=\"\",AL46=\"\"),1,0)","v":0}]
["Asma bronquial",0,{"$f":"SUM(G47+I47+K47+M47+O47+Q47+S47+U47+W47+Y47+AA47+AC47+AE47+AG47+AI47)","v":0},{"$f":"SUM(H47+J47+L47+N47+P47+R47+T47+V47+X47+Z47+AB47+AD47+AF47+AH47+AJ47)","v":0},null,null,null,null,null,null,null,null,null,null,null,null,null,null,null,null,null,null,null,null,null,null,null,null,null,null,null,null,null,null,null,null,null,null,{"$f":"CB47&CC47&CD47&CE47","v":""},null,null,null,null,null,null,null,null,null,null,null,null,null,null,null,null,null,null,null,null,null,null,null,null,null,null,null,null,null,null,null,null,null,null,null,null,null,null,null,null,{"$f":"IF((AK47+AL47)>B47,\" * Egresos según causal no debe ser mayor que el Total de Egresos\",\"\")","v":""},{"$f":"IF(AND(B47>0,AK47=\"\",AL47=\"\"),\" * No olvide registrar Causal de egresos (Abandono/Fallecimiento).\",\"\")","v":""},null,null,null,{"$f":"IF((AK47+AL47)>B47,1,0)","v":0},{"$f":"IF(AND(B47>0,AK47=\"\",AL47=\"\"),1,0)","v":0}]
["Enfermedad pulmonar obstructiva crónica (EPOC)",0,{"$f":"SUM(S48+U48+W48+Y48+AA48+AC48+AE48+AG48+AI48)","v":0},{"$f":"SUM(T48+V48+X48+Z48+AB48+AD48+AF48+AH48+AJ48)","v":0},null,null,null,null,null,null,null,null,null,null,null,null,null,null,null,null,null,null,null,null,null,null,null,null,null,null,null,null,null,null,null,null,null,null,"",null,null,null,null,null,null,null,null,null,null,null,null,null,null,null,null,null,null,null,null,null,null,null,null,null,null,null,null,null,null,null,null,null,null,null,null,null,null,null,null,"","",null,null,null,0,0]
["Displasia broncopulmonar",0,{"$f":"SUM(E49+G49+I49+K49+M49+O49+Q49+S49+U49+W49+Y49+AA49+AC49+AE49+AG49+AI49)","v":0},0,null,null,null,null,null,null,null,null,null,null,null,null,null,null,null,null,null,null,null,null,null,null,null,null,null,null,null,null,null,null,null,null,null,null,"",null,null,null,null,null,null,null,null,null,null,null,null,null,null,null,null,null,null,null,null,null,null,null,null,null,null,null,null,null,null,null,null,null,null,null,null,null,null,null,null,"","",null,null,null,0,0]
["Fibrosis quística",0,0,0,null,null,null,null,null,null,null,null,null,null,null,null,null,null,null,null,null,null,null,null,null,null,null,null,null,null,null,null,null,null,null,null,null,null,"",null,null,null,null,null,null,null,null,null,null,null,null,null,null,null,null,null,null,null,null,null,null,null,null,null,null,null,null,null,null,null,null,null,null,null,null,null,null,null,null,"","",null,null,null,0,0]
["Oxígeno dependiente",0,0,0,null,null,null,null,null,null,null,null,null,null,null,null,null,null,null,null,null,null,null,null,null,null,null,null,null,null,null,null,null,null,null,null,null,null,"",null,null,null,null,null,null,null,null,null,null,null,null,null,null,null,null,null,null,null,null,null,null,null,null,null,null,null,null,null,null,null,null,null,null,null,null,null,null,null,null,"","",null,null,null,0,0]
["Asistencia ventilatoria no invasiva o invasiva ",0,0,0,null,null,null,null,null,null,null,null,null,null,null,null,null,null,null,null,null,null,null,null,null,null,null,null,null,null,null,null,null,null,null,null,null,null,"",null,null,null,null,null,null,null,null,null,null,null,null,null,null,null,null,null,null,null,null,null,null,null,null,null,null,null,null,null,null,null,null,null,null,null,null,null,null,null,null,"","",null,null,null,0,0]
["Otras respiratorias crónicas",0,0,0,null,null,null,null,null,null,null,null,null,null,null,null,null,null,null,null,null,null,null,null,null,null,null,null,null,null,null,null,null,null,null,null,null,null,"",null,null,null,null,null,null,null,null,null,null,null,null,null,null,null,null,null,null,null,null,null,null,null,null,null,null,null,null,null,null,null,null,null,null,null,null,null,null,null,null,"","",null,null,null,0,0]
["SECCIÓN D: CONSULTAS DE MORBILIDAD POR ENFERMEDADES RESPIRATORIAS EN SALAS IRA, ERA Y MIXTA"]
["PROFESIONAL","TOTAL",null,null,"RANGO ETARIO Y SEXO",null,null,null,null,null,null,null,null,null,null,null,null,null,null,null,null,null,null,null,null,null,null,null,null,null,null,null,null,null,null,null,"Beneficiarios"]
[null,null,null,null,"Menos de 1 año",null,"1 - 4 \naños",null,"5 - 9 \naños",null,"10 - 14 años",null,"15 - 19 años",null,"20 - 24 años",null,"25 - 39 años",null,"40 - 44 años",null,"45 - 49 años",null,"50 - 54 años",null,"55 - 59 años",null,"60 - 64 años",null,"65 - 69 años",null,"70 - 74 años",null,"75 - 79 años",null,"80 y más años"]
[null,"Ambos Sexos","Hombres","Mujeres","Hombres","Mujeres","Hombres","Mujeres","Hombres","Mujeres","Hombres","Mujeres","Hombres","Mujeres","Hombres","Mujeres","Hombres","Mujeres","Hombres","Mujeres","Hombres","Mujeres","Hombres","Mujeres","Hombres","Mujeres","Hombres","Mujeres","Hombres","Mujeres","Hombres","Mujeres","Hombres","Mujeres","Hombres","Mujeres"]
["Médico/a",{"$f":"SUM(C58+D58)","v":0},{"$f":"SUM(E58+G58+I58+K58+M58+O58+Q58+S58+U58+W58+Y58+AA58+AC58+AE58+AG58+AI58)","v":0},{"$f":"SUM(F58+H58+J58+L58+N58+P58+R58+T58+V58+X58+Z58+AB58+AD58+AF58+AH58+AJ58)","v":0},null,null,null,null,null,null,null,null,null,null,null,null,null,null,null,null,null,null,null,null,null,null,null,null,null,null,null,null,null,null,null,null,null,{"$f":"CB58&CC58&CD58&CE58","v":""},null,null,null,null,null,null,null,null,null,null,null,null,null,null,null,null,null,null,null,null,null,null,null,null,null,null,null,null,null,null,null,null,null,null,null,null,null,null,null,null,null,{"$f":"IF(AND(AK58=\"\",B58>0),\" * No olvide digitar la variable Beneficiarios. Si no tiene digite CERO.\",\"\")","v":""},{"$f":"IF(AK58>B58,\" * El campo Beneficiario No puede ser mayor al Total de consultas\",\"\")","v":""},null,null,null,{"$f":"IF(AND(AK58=\"\",B58>0),1,0)","v":0},{"$f":"IF(AK58>B58,1,0)","v":0}]
["SECCIÓN E: CONTROLES REALIZADOS (CRONICOS)"]
["PROFESIONAL","TOTAL",null,null,"RANGO ETARIO Y SEXO",null,null,null,null,null,null,null,null,null,null,null,null,null,null,null,null,null,null,null,null,null,null,null,null,null,null,null,null,null,null,null,"Beneficiarios"]
[null,null,null,null,"Menos de 1 año",null,"1 - 4 \naños",null,"5 - 9 \naños",null,"10 - 14 años",null,"15 - 19 años",null,"20 - 24 años",null,"25 - 39 años",null,"40 - 44 años",null,"45 - 49 años",null,"50 - 54 años",null,"55 - 59 años",null,"60 - 64 años",null,"65 - 69 años",null,"70 - 74 años",null,"75 - 79 años",null,"80 y más años"]
[null,"Ambos Sexos","Hombres","Mujeres","Hombres","Mujeres","Hombres","Mujeres","Hombres","Mujeres","Hombres","Mujeres","Hombres","Mujeres","Hombres","Mujeres","Hombres","Mujeres","Hombres","Mujeres","Hombres","Mujeres","Hombres","Mujeres","Hombres","Mujeres","Hombres","Mujeres","Hombres","Mujeres","Hombres","Mujeres","Hombres","Mujeres","Hombres","Mujeres"]
["Médico/a",{"$f":"SUM(C63+D63)","v":0},{"$f":"SUM(E63+G63+I63+K63+M63+O63+Q63+S63+U63+W63+Y63+AA63+AC63+AE63+AG63+AI63)","v":0},0,null,null,null,null,null,null,null,null,null,null,null,null,null,null,null,null,null,null,null,null,null,null,null,null,null,null,null,null,null,null,null,null,null,{"$f":"CB63&CC63&CD63&CE63","v":""},null,null,null,null,null,null,null,null,null,null,null,null,null,null,null,null,null,null,null,null,null,null,null,null,null,null,null,null,null,null,null,null,null,null,null,null,null,null,null,null,null,{"$f":"IF(AND(AK63=\"\",B63>0),\" * No olvide digitar la columna Beneficiarios. Si no tiene digite CERO.\",\"\")","v":""},{"$f":"IF(AK63>B63,\" * El campo Beneficiario No puede ser mayor al Total de consultas\",\"\")","v":""},null,null,null,{"$f":"IF(AND(AK63=\"\",B63>0),1,0)","v":0},{"$f":"IF(AK63>B63,1,0)","v":0}]
["Enfermera/o",{"$f":"SUM(C64+D64)","v":0},0,0,null,null,null,null,null,null,null,null,null,null,null,null,null,null,null,null,null,null,null,null,null,null,null,null,null,null,null,null,null,null,null,null,null,"",null,null,null,null,null,null,null,null,null,null,null,null,null,null,null,null,null,null,null,null,null,null,null,null,null,null,null,null,null,null,null,null,null,null,null,null,null,null,null,null,null,{"$f":"IF(AND(AK64=\"\",B64>0),\" * No olvide digitar la columna Beneficiarios. Si no tiene digite CERO.\",\"\")","v":""},{"$f":"IF(AK64>B64,\" * El campo Beneficiario No puede ser mayor al Total de consultas\",\"\")","v":""},null,null,null,{"$f":"IF(AND(AK64=\"\",B64>0),1,0)","v":0},{"$f":"IF(AK64>B64,1,0)","v":0}]
["Kinesiólogo/a",{"$f":"SUM(C65+D65)","v":0},0,0,null,null,null,null,null,null,null,null,null,null,null,null,null,null,null,null,null,null,null,null,null,null,null,null,null,null,null,null,null,null,null,null,null,"",null,null,null,null,null,null,null,null,null,null,null,null,null,null,null,null,null,null,null,null,null,null,null,null,null,null,null,null,null,null,null,null,null,null,null,null,null,null,null,null,null,"","",null,null,null,0,0]
["TOTAL",{"$f":"SUM(B63:B65)","v":0},0,0,0,0,0,0,0,0,0,{"$f":"SUM(L63:L65)","v":0},0,0,0,0,0,0,0,0,0,0,0,0,0,0,0,0,0,0,0,0,0,0,0,0,0]
["SECCIÓN F: SEGUIMIENTO DE ATENCIONES REALIZADAS EN AGUDOS"]
["PROFESIONAL","TOTAL",null,null,"RANGO ETARIO Y SEXO",null,null,null,null,null,null,null,null,null,null,null,null,null,null,null,null,null,null,null,null,null,null,null,null,null,null,null,null,null,null,null,"Beneficiarios","Por Campaña de Invierno"]
[null,null,null,null,"Menos de 1 año",null,"1 - 4 \naños",null,"5 - 9 \naños",null,"10 - 14 años",null,"15 - 19 años",null,"20 - 24 años",null,"25 - 39 años",null,"40 - 44 años",null,"45 - 49 años",null,"50 - 54 años",null,"55 - 59 años",null,"60 - 64 años",null,"65 - 69 años",null,"70 - 74 años",null,"75 - 79 años",null,"80 y más años"]
[null,"Ambos Sexos","Hombres","Mujeres","Hombres","Mujeres","Hombres","Mujeres","Hombres","Mujeres","Hombres","Mujeres","Hombres","Mujeres","Hombres","Mujeres","Hombres","Mujeres","Hombres","Mujeres","Hombres","Mujeres","Hombres","Mujeres","Hombres","Mujeres","Hombres","Mujeres","Hombres","Mujeres","Hombres","Mujeres","Hombres","Mujeres","Hombres","Mujeres"]
["Enfermera/o",{"$f":"SUM(C71+D71)","v":0},{"$f":"SUM(E71+G71+I71+K71+M71+O71+Q71+S71+U71+W71+Y71+AA71+AC71+AE71+AG71+AI71)","v":0},{"$f":"SUM(F71+H71+J71+L71+N71+P71+R71+T71+V71+X71+Z71+AB71+AD71+AF71+AH71+AJ71)","v":0},null,null,null,null,null,null,null,null,null,null,null,null,null,null,null,null,null,null,null,null,null,null,null,null,null,null,null,null,null,null,null,null,null,null,{"$f":"CB71&CC71&CD71","v":""},null,null,null,null,null,null,null,null,null,null,null,null,null,null,null,null,null,null,null,null,null,null,null,null,null,null,null,null,null,null,null,null,null,null,null,null,null,null,null,null,{"$f":"IF(AND(AK71=\"\",B71>0),\" * No olvide digitar la variable Beneficiarios. Si no tiene digite CERO.\",\"\")","v":""},null,{"$f":"IF(AK71>B71,\" * La variable Beneficiarios no puede ser mayor que el Total.\",\"\")","v":""},null,null,{"$f":"IF(AND(AK71=\"\",B71>0),1,0)","v":0},null,{"$f":"IF(AK71>B71,1,0)","v":0}]
["Kinesiólogo/a",{"$f":"SUM(C72+D72)","v":0},{"$f":"SUM(E72+G72+I72+K72+M72+O72+Q72+S72+U72+W72+Y72+AA72+AC72+AE72+AG72+AI72)","v":0},{"$f":"SUM(F72+H72+J72+L72+N72+P72+R72+T72+V72+X72+Z72+AB72+AD72+AF72+AH72+AJ72)","v":0},null,null,null,null,null,null,null,null,null,null,null,null,null,null,null,null,null,null,null,null,null,null,null,null,null,null,null,null,null,null,null,null,null,null,{"$f":"CB72&CC72&CD72&CE72","v":""},null,null,null,null,null,null,null,null,null,null,null,null,null,null,null,null,null,null,null,null,null,null,null,null,null,null,null,null,null,null,null,null,null,null,null,null,null,null,null,null,{"$f":"IF(AND(AK72=\"\",B72>0),\" * No olvide digitar la variable Beneficiarios. Si no tiene digite CERO.\",\"\")","v":""},{"$f":"IF(AND(AL72=\"\",B72>0),\" * No olvide digitar la variable Por campaña de Invierno. Si no tiene digite CERO.\",\"\")","v":""},{"$f":"IF(AL72>B72,\" * La variable 'Por campaña de invierno' no puede ser mayor al Total.\",\"\")","v":""},{"$f":"IF(AK72>B72,\" * La variable Beneficiarios no puede ser mayor que el Total.\",\"\")","v":""},null,{"$f":"IF(AND(AK72=\"\",B72>0),1,0)","v":0},{"$f":"IF(AND(AL72=\"\",B72>0),1,0)","v":0},{"$f":"IF(AK72>B72,1,0)","v":0},{"$f":"IF(AL72>B72,1,0)","v":0}]
["TOTAL",{"$f":"SUM(B71:B72)","v":0},{"$f":"SUM(C71:C72)","v":0},0,{"$f":"SUM(E71:E72)","v":0},0,0,0,0,0,0,0,0,0,0,0,0,0,0,0,0,0,0,0,0,0,0,0,0,0,0,0,0,0,0,0,0,{"$f":"SUM(AL71:AL72)","v":0}]
["SECCIÓN G: INASISTENTES A CONTROL DE CRÓNICOS"]
["DIAGNÓSTICOS","TOTAL",null,null,"RANGO ETARIO Y SEXO"]
[null,null,null,null,"Menos de 1 año",null,"1 - 4 \naños",null,"5 - 9 \naños",null,"10 - 14 años",null,"15 - 19 años",null,"20 - 24 años",null,"25 - 39 años",null,"40 - 44 años",null,"45 - 49 años",null,"50 - 54 años",null,"55 - 59 años",null,"60 - 64 años",null,"65 - 69 años",null,"70 - 74 años",null,"75 - 79 años",null,"80 y más años"]
[null,"Ambos Sexos","Hombres","Mujeres","Hombres","Mujeres","Hombres","Mujeres","Hombres","Mujeres","Hombres","Mujeres","Hombres","Mujeres","Hombres","Mujeres","Hombres","Mujeres","Hombres","Mujeres","Hombres","Mujeres","Hombres","Mujeres","Hombres","Mujeres","Hombres","Mujeres","Hombres","Mujeres","Hombres","Mujeres","Hombres","Mujeres","Hombres","Mujeres"]
["S.B.O. recurrente",{"$f":"SUM(C78+D78)","v":0},{"$f":"SUM(E78+G78)","v":0},{"$f":"SUM(F78+H78)","v":0}]
["Displasia broncopulmonar",0,{"$f":"SUM(E79+G79+I79+K79+M79+O79+Q79+S79+U79+W79+Y79+AA79+AC79+AE79+AG79+AI79)","v":0},{"$f":"SUM(F79+H79+J79+L79+N79+P79+R79+T79+V79+X79+Z79+AB79+AD79+AF79+AH79+AJ79)","v":0}]
["Fibrosis quística",0,{"$f":"SUM(E80+G80+I80+K80+M80+O80+Q80+S80+U80+W80+Y80+AA80+AC80+AE80+AG80+AI80)","v":0},{"$f":"SUM(F80+H80+J80+L80+N80+P80+R80+T80+V80+X80+Z80+AB80+AD80+AF80+AH80+AJ80)","v":0}]
["Asma",0,{"$f":"SUM(G81+I81+K81+M81+O81+Q81+S81+U81+W81+Y81+AA81+AC81+AE81+AG81+AI81)","v":0},{"$f":"SUM(H81+J81+L81+N81+P81+R81+T81+V81+X81+Z81+AB81+AD81+AF81+AH81+AJ81)","v":0}]
["Enfermedad pulmonar obstructiva crónica",0,{"$f":"SUM(S82+U82+W82+Y82+AA82+AC82+AE82+AG82+AI82)","v":0},{"$f":"SUM(T82+V82+X82+Z82+AB82+AD82+AF82+AH82+AJ82)","v":0}]
["Otras respiratorias crónicas",0,{"$f":"SUM(E83+G83+I83+K83+M83+O83+Q83+S83+U83+W83+Y83+AA83+AC83+AE83+AG83+AI83)","v":0},{"$f":"SUM(F83+H83+J83+L83+N83+P83+R83+T83+V83+X83+Z83+AB83+AD83+AF83+AH83+AJ83)","v":0}]
["TOTAL",{"$f":"SUM(B78:B83)","v":0},0,0,{"$f":"SUM(E78:E83)","v":0},0,0,0,0,0,0,0,0,0,0,0,0,0,0,0,0,0,0,0,0,0,0,0,0,0,0,0,0,0,0,0]
["SECCIÓN H: INASISTENTES A CITACIÓN AGENDADA"]
["PROFESIONAL",null,"TOTAL","Menos de 20 años","De 20 años y más"]
["Médico/a",null,{"$f":"SUM(D87+E87)","v":0}]
["Kinesiólogo/a",null,{"$f":"SUM(D88+E88)","v":0}]
["Enfermera/o",null,{"$f":"SUM(D89+E89)","v":0}]
["TOTAL",null,{"$f":"SUM(C87:C89)","v":0},{"$f":"SUM(D87:D89)","v":0},{"$f":"SUM(E87:E89)","v":0}]
["SECCIÓN I: PROCEDIMIENTOS REALIZADOS"]
["PROCEDIMIENTO","TOTAL",null,null,"RANGO ETARIO Y SEXO"]
[null,null,null,null,"Menos de 1 año",null,"1 - 4 \naños",null,"5 - 9 \naños",null,"10 - 14 años",null,"15 - 19 años",null,"20 - 24 años",null,"25 - 39 años",null,"40 - 44 años",null,"45 - 49 años",null,"50 - 54 años",null,"55 - 59 años",null,"60 - 64 años",null,"65 - 69 años",null,"70 - 74 años",null,"75 - 79 años",null,"80 y más años"]
[null,"Ambos Sexos","Hombres","Mujeres","Hombres","Mujeres","Hombres","Mujeres","Hombres","Mujeres","Hombres","Mujeres","Hombres","Mujeres","Hombres","Mujeres","Hombres","Mujeres","Hombres","Mujeres","Hombres","Mujeres","Hombres","Mujeres","Hombres","Mujeres","Hombres","Mujeres","Hombres","Mujeres","Hombres","Mujeres","Hombres","Mujeres","Hombres","Mujeres"]
["Espirometría basal ",{"$f":"SUM(C95+D95)","v":0},{"$f":"SUM(I95+K95+M95+O95+Q95+S95+U95+W95+Y95+AA95+AC95+AE95+AG95+AI95)","v":0},0]
["Espirometría post BD",0,0,0]
["Flujometría basal ",0,0,{"$f":"SUM(J97+L97+N97+P97+R97+T97+V97+X97+Z97+AB97+AD97+AF97+AH97+AJ97)","v":0}]
["Flujometría post BD",0,{"$f":"SUM(I98+K98+M98+O98+Q98+S98+U98+W98+Y98+AA98+AC98+AE98+AG98+AI98)","v":0},0]
["Pimometría",0,{"$f":"SUM(I99+K99+M99+O99+Q99+S99+U99+W99+Y99+AA99+AC99+AE99+AG99+AI99)","v":0},0]
["Test de provocación con ejercicio",0,0,0]
["Test de marcha 6 minutos",0,0,0]
["Sesiones de kinesioterapia respiratoria",0,{"$f":"SUM(E102+G102+I102+K102+M102+O102+Q102+S102+U102+W102+Y102+AA102+AC102+AE102+AG102+AI102)","v":0},{"$f":"SUM(F102+H102+J102+L102+N102+P102+R102+T102+V102+X102+Z102+AB102+AD102+AF102+AH102+AJ102)","v":0}]
["Toma de muestra secreción mucosa/bronquial",0,{"$f":"SUM(E103+G103+I103+K103+M103+O103+Q103+S103+U103+W103+Y103+AA103+AC103+AE103+AG103+AI103)","v":0},{"$f":"SUM(F103+H103+J103+L103+N103+P103+R103+T103+V103+X103+Z103+AB103+AD103+AF103+AH103+AJ103)","v":0}]
["SECCIÓN J: DERIVACIÓN DE PACIENTES SEGÚN DESTINO"]
["DESTINO","TOTAL",null,null,"RANGO ETARIO Y SEXO"]
[null,null,null,null,"Menos de 1 año",null,"1 - 4 \naños",null,"5 - 9 \naños",null,"10 - 14 años",null,"15 - 19 años",null,"20 - 24 años",null,"25 - 39 años",null,"40 - 44 años",null,"45 - 49 años",null,"50 - 54 años",null,"55 - 59 años",null,"60 - 64 años",null,"65 - 69 años",null,"70 - 74 años",null,"75 - 79 años",null,"80 y más años"]
[null,"Ambos Sexos","Hombres","Mujeres","Hombres","Mujeres","Hombres","Mujeres","Hombres","Mujeres","Hombres","Mujeres","Hombres","Mujeres","Hombres","Mujeres","Hombres","Mujeres","Hombres","Mujeres","Hombres","Mujeres","Hombres","Mujeres","Hombres","Mujeres","Hombres","Mujeres","Hombres","Mujeres","Hombres","Mujeres","Hombres","Mujeres","Hombres","Mujeres"]
["Unidad emergencia hospitalaria (UEH)",{"$f":"SUM(C108:D108)","v":0},{"$f":"+E108+G108+I108+K108+M108+O108+Q108+S108+U108+W108+Y108+AA108+AC108+AE108+AG108+AI108","v":0},0]
["SAPU, SUR O SAR",{"$f":"SUM(C109:D109)","v":0},0,0]
["CAE / CDT / CRS",{"$f":"SUM(C110:D110)","v":0},0,0]
["SECCIÓN K: RECEPCIÓN DE PACIENTES SEGÚN ORIGEN"]
["DESTINO","TOTAL",null,null,"RANGO ETARIO Y SEXO"]
[null,null,null,null,"Menos \n1 año",null,"1 - 4 \naños",null,"5 - 9 \naños",null,"10 - 14 años",null,"15 - 19 años",null,"20 - 24 años",null,"25 - 39 años",null,"40 - 44 años",null,"45 - 49 años",null,"50 - 54 años",null,"55 - 59 años",null,"60 - 64 años",null,"65 - 69 años",null,"70 - 74 años",null,"75 - 79 años",null,"80 y más años"]
[null,"Ambos Sexos","Hombres","Mujeres","Hombres","Mujeres","Hombres","Mujeres","Hombres","Mujeres","Hombres","Mujeres","Hombres","Mujeres","Hombres","Mujeres","Hombres","Mujeres","Hombres","Mujeres","Hombres","Mujeres","Hombres","Mujeres","Hombres","Mujeres","Hombres","Mujeres","Hombres","Mujeres","Hombres","Mujeres","Hombres","Mujeres","Hombres","Mujeres"]
["Unidad emergencia hospitalaria (UEH)",{"$f":"SUM(C115+D115)","v":0},{"$f":"+E115+G115+I115+K115+M115+O115+Q115+S115+U115+W115+Y115+AA115+AC115+AE115+AG115+AI115","v":0},{"$f":"+F115+H115+J115+L115+N115+P115+R115+T115+V115+X115+Z115+AB115+AD115+AF115+AH115+AJ115","v":0}]
["SAPU , SUR O SAR",{"$f":"SUM(C116+D116)","v":0},{"$f":"+E116+G116+I116+K116+M116+O116+Q116+S116+U116+W116+Y116+AA116+AC116+AE116+AG116+AI116","v":0},0]
["Consulta de morbilidad",{"$f":"SUM(C117+D117)","v":0},0,0]
["CAE / CDT / CRS",{"$f":"SUM(C118+D118)","v":0},0,0]
["Extrasistema",{"$f":"SUM(C119+D119)","v":0},0,0]
["SECCIÓN L: HOSPITALIZACION ABREVIADA / INTERVENCION EN CRISIS RESPIRATORIA"]
["DIAGNÓSTICOS","TOTAL",null,null,"RANGO ETARIO Y SEXO",null,null,null,null,null,null,null,null,null,null,null,null,null,null,null,null,null,null,null,null,null,null,null,null,null,null,null,null,null,null,null,"Por Campaña de Invierno"]
[null,null,null,null,"Menos de 1 año",null,"1 - 4 \naños",null,"5 - 9 \naños",null,"10 - 14 años",null,"15 - 19 años",null,"20 - 24 años",null,"25 - 39 años",null,"40 - 44 años",null,"45 - 49 años",null,"50 - 54 años",null,"55 - 59 años",null,"60 - 64 años",null,"65 - 69 años",null,"70 - 74 años",null,"75 - 79 años",null,"80 y más años"]
[null,"Ambos Sexos","Hombres","Mujeres","Hombres","Mujeres","Hombres","Mujeres","Hombres","Mujeres","Hombres","Mujeres","Hombres","Mujeres","Hombres","Mujeres","Hombres","Mujeres","Hombres","Mujeres","Hombres","Mujeres","Hombres","Mujeres","Hombres","Mujeres","Hombres","Mujeres","Hombres","Mujeres","Hombres","Mujeres","Hombres","Mujeres","Hombres","Mujeres"]
["Bronquitis obstructiva",{"$f":"SUM(C124+D124)","v":0},{"$f":"SUM(E124+G124+I124+K124+M124+O124+Q124+S124+U124+W124+Y124+AA124+AC124+AE124+AG124+AI124)","v":0},{"$f":"SUM(F124+H124+J124+L124+N124+P124+R124+T124+V124+X124+Z124+AB124+AD124+AF124+AH124+AJ124)","v":0},null,null,null,null,null,null,null,null,null,null,null,null,null,null,null,null,null,null,null,null,null,null,null,null,null,null,null,null,null,null,null,null,null,{"$f":"CB124&CC124","v":""},null,null,null,null,null,null,null,null,null,null,null,null,null,null,null,null,null,null,null,null,null,null,null,null,null,null,null,null,null,null,null,null,null,null,null,null,null,null,null,null,null,{"$f":"IF(AK124>B124,\" * La variable 'Por campaña de invierno' No puede ser mayor al Total\",\"\")","v":""},{"$f":"IF(AND(AK124=\"\",B124>0),\" * No olvide digitar la variable Por campaña de Invierno. Si no tiene digite CERO.\",\"\")","v":""},null,null,null,{"$f":"IF(AK124>B124,1,0)","v":0},{"$f":"IF(AND(AK124=\"\",B124>0),1,0)","v":0}]
["Reagudización de SBOR",0,{"$f":"SUM(E125+G125)","v":0},{"$f":"SUM(F125+H125)","v":0},null,null,null,null,null,null,null,null,null,null,null,null,null,null,null,null,null,null,null,null,null,null,null,null,null,null,null,null,null,null,null,null,null,{"$f":"CB125&CC125","v":""},null,null,null,null,null,null,null,null,null,null,null,null,null,null,null,null,null,null,null,null,null,null,null,null,null,null,null,null,null,null,null,null,null,null,null,null,null,null,null,null,null,{"$f":"IF(AK125>B125,\" * La variable 'Por campaña de invierno' No puede ser mayor al Total\",\"\")","v":""},{"$f":"IF(AND(AK125=\"\",B125>0),\" * No olvide digitar la variable Por campaña de Invierno. Si no tiene digite CERO.\",\"\")","v":""},null,null,null,{"$f":"IF(AK125>B125,1,0)","v":0},{"$f":"IF(AND(AK125=\"\",B125>0),1,0)","v":0}]
["Reagudización de asma",0,{"$f":"SUM(G126+I126+K126+M126+O126+Q126+S126+U126+W126+Y126+AA126+AC126+AE126+AG126+AI126)","v":0},{"$f":"SUM(H126+J126+L126+N126+P126+R126+T126+V126+X126+Z126+AB126+AD126+AF126+AH126+AJ126)","v":0},null,null,null,null,null,null,null,null,null,null,null,null,null,null,null,null,null,null,null,null,null,null,null,null,null,null,null,null,null,null,null,null,null,"",null,null,null,null,null,null,null,null,null,null,null,null,null,null,null,null,null,null,null,null,null,null,null,null,null,null,null,null,null,null,null,null,null,null,null,null,null,null,null,null,null,"","",null,null,null,0,0]
["Neumonía",0,{"$f":"SUM(E127+G127+I127+K127+M127+O127+Q127+S127+U127+W127+Y127+AA127+AC127+AE127+AG127+AI127)","v":0},{"$f":"SUM(F127+H127+J127+L127+N127+P127+R127+T127+V127+X127+Z127+AB127+AD127+AF127+AH127+AJ127)","v":0},null,null,null,null,null,null,null,null,null,null,null,null,null,null,null,null,null,null,null,null,null,null,null,null,null,null,null,null,null,null,null,null,null,"",null,null,null,null,null,null,null,null,null,null,null,null,null,null,null,null,null,null,null,null,null,null,null,null,null,null,null,null,null,null,null,null,null,null,null,null,null,null,null,null,null,"","",null,null,null,0,0]
["Reagudización de EPOC",0,{"$f":"SUM(S128+U128+W128+Y128+AA128+AC128+AE128+AG128+AI128)","v":0},{"$f":"SUM(T128+V128+X128+Z128+AB128+AD128+AF128+AH128+AJ128)","v":0},null,null,null,null,null,null,null,null,null,null,null,null,null,null,null,null,null,null,null,null,null,null,null,null,null,null,null,null,null,null,null,null,null,"",null,null,null,null,null,null,null,null,null,null,null,null,null,null,null,null,null,null,null,null,null,null,null,null,null,null,null,null,null,null,null,null,null,null,null,null,null,null,null,null,null,"","",null,null,null,{"$f":"IF(AK128>B128,1,0)","v":0},0]
["Otras respiratorias",0,{"$f":"SUM(E129+G129+I129+K129+M129+O129+Q129+S129+U129+W129+Y129+AA129+AC129+AE129+AG129+AI129)","v":0},{"$f":"SUM(F129+H129+J129+L129+N129+P129+R129+T129+V129+X129+Z129+AB129+AD129+AF129+AH129+AJ129)","v":0},null,null,null,null,null,null,null,null,null,null,null,null,null,null,null,null,null,null,null,null,null,null,null,null,null,null,null,null,null,null,null,null,null,"",null,null,null,null,null,null,null,null,null,null,null,null,null,null,null,null,null,null,null,null,null,null,null,null,null,null,null,null,null,null,null,null,null,null,null,null,null,null,null,null,null,"","",null,null,null,{"$f":"IF(AK129>B129,1,0)","v":0},0]
["TOTAL",{"$f":"SUM(B124:B129)","v":0},0,0,{"$f":"SUM(E124:E129)","v":0},0,{"$f":"SUM(G124:G129)","v":0},0,0,0,0,0,0,0,0,0,0,0,0,0,0,0,0,0,0,0,0,0,0,0,0,0,0,0,0,0,{"$f":"SUM(AK124:AK129)","v":0}]
["SECCIÓN M: EDUCACIÓN EN SALAS"]
["SECCIÓN M.1: EDUCACION INDIVIDUAL EN SALA"]
["DESTINO","TOTAL",null,null,"RANGO ETARIO Y SEXO"]
[null,null,null,null,"Menos de 1 año",null,"1 - 4 \naños",null,"5 - 9 \naños",null,"10 - 14 años",null,"15 - 19 años",null,"20 - 24 años",null,"25 - 39 años",null,"40 - 44 años",null,"45 - 49 años",null,"50 - 54 años",null,"55 - 59 años",null,"60 - 64 años",null,"65 - 69 años",null,"70 - 74 años",null,"75 - 79 años",null,"80 y más años"]
[null,"Ambos Sexos","Hombres","Mujeres","Hombres","Mujeres","Hombres","Mujeres","Hombres","Mujeres","Hombres","Mujeres","Hombres","Mujeres","Hombres","Mujeres","Hombres","Mujeres","Hombres","Mujeres","Hombres","Mujeres","Hombres","Mujeres","Hombres","Mujeres","Hombres","Mujeres","Hombres","Mujeres","Hombres","Mujeres","Hombres","Mujeres","Hombres","Mujeres"]
["Antitabaco",{"$f":"SUM(C136+D136)","v":0},{"$f":"SUM(E136+G136+I136+K136+M136+O136+Q136+S136+U136+W136+Y136+AA136+AC136+AE136+AG136+AI136)","v":0},0]
["Autocuidado según patología",0,0,0]
["Uso de terapia inhalatoria",0,0,0]
["Educacion integral en salud respiratoria ",0,0,0]
["Estilo de vida saludables",0,0,0]
["Otras",0,0,0]
["TOTAL",{"$f":"SUM(B136:B141)","v":0},{"$f":"SUM(C136:C141)","v":0},{"$f":"SUM(D136:D141)","v":0},{"$f":"SUM(E136:E141)","v":0},{"$f":"SUM(F136:F141)","v":0},0,0,0,0,0,0,0,0,0,0,0,0,0,0,0,0,0,0,0,0,0,0,0,0,0,0,0,0,0,0]
["SECCIÓN M.2: EDUCACIÓN GRUPAL (AGENDADA Y PROGRAMADA)"]
["TEMAS",null,"Nº Sesiones","Nº Participantes"]
["Educación integral en salud respiratoria","Pacientes, padres o cuidadores"]
[null,"Salas cunas y jardines infantiles"]
[null,"Establecimientos educacionales"]
[null,"Intersector"]
["Antitabaco","Pacientes, padres o cuidadores"]
[null,"Salas cunas y jardines infantiles"]
[null,"Establecimientos educacionales"]
[null,"Intersector"]
["TOTAL",null,{"$f":"SUM(C145:C152)","v":0},{"$f":"SUM(D145:D152)","v":0}]
["SECCIÓN N: VISITAS DOMICILIARIAS Y SEGUIMIENTO REALIZADOS POR EQUIPO IRA-ERA "]
["CONCEPTOS","TOTAL",null,null,"RANGO ETARIO Y SEXO"]
[null,null,null,null,"Menos de 1 año",null,"1 - 4 \naños",null,"5 - 9 \naños",null,"10 - 14 años",null,"15 - 19 años",null,"20 - 24 años",null,"25 - 39 años",null,"40 - 44 años",null,"45 - 49 años",null,"50 - 54 años",null,"55 - 59 años",null,"60 - 64 años",null,"65 - 69 años",null,"70 - 74 años",null,"75 - 79 años",null,"80 y más años"]
[null,"Ambos Sexos","Hombres","Mujeres","Hombres","Mujeres","Hombres","Mujeres","Hombres","Mujeres","Hombres","Mujeres","Hombres","Mujeres","Hombres","Mujeres","Hombres","Mujeres","Hombres","Mujeres","Hombres","Mujeres","Hombres","Mujeres","Hombres","Mujeres","Hombres","Mujeres","Hombres","Mujeres","Hombres","Mujeres","Hombres","Mujeres","Hombres","Mujeres"]
["Hogar libre del humo del tabaco",{"$f":"SUM(C158:D158)","v":0},{"$f":"+E158+G158+I158+K158+M158+O158+Q158+S158+U158+W158+Y158+AA158+AC158+AE158+AG158+AI158","v":0},0]
["Por muerte de neumonía en domicilio",{"$f":"SUM(C159:D159)","v":0},0,0]
["Programa oxigenoterapia ambulatoria, AVNI, AVI, AVNIA, AVIA",{"$f":"SUM(C160:D160)","v":0},0,0]
["Seguimiento telefónico realizado por kinesiologo sala",{"$f":"SUM(C161:D161)","v":0},0,0]
["Otras visitas",{"$f":"SUM(C162:D162)","v":0},0,0]
["SECCIÓN O: REHABILITACION PULMONAR Y ACTIVIDAD FÍSICA "]
["ACTIVIDADES",null,"TOTAL DE ACTIVIDADES","EPOC A","EPOC B","Asma","Otros"]
["Rehabilitación pulmonar","Sesiones educativas",{"$f":"SUM(D165:G165)","v":0}]
[null,"Sesiones actividad física",0]
[null,"Articulación continuidad con intersector",0]
["Planes de actividad física","Diseño plan de trabajo",0]
[null,"Seguimiento presencial",0]
[null,"Seguimiento telefónico",0]
["SECCIÓN P: REHABILITACION PULMONAR POST COVID"]
["ACTIVIDADES",null,"TOTAL",null,null,"RANGO ETARIO Y SEXO"]
[null,null,null,null,null,"Menos de 15 años",null,"15 - 64 años",null,"65 y más años"]
[null,null,"Ambos Sexos","Hombres","Mujeres","Hombres","Mujeres","Hombres","Mujeres","Hombres","Mujeres"]
["Rehabilitacion pulmonar post COVID","Diseño plan de trabajo",{"$f":"SUM(D175:E175)","v":0},{"$f":"SUM(F175+H175+J175)","v":0},0]
[null,"Sesiones educativas",{"$f":"SUM(D176:E176)","v":0},0,0]
[null,"Sesiones actividad física",{"$f":"SUM(D177:E177)","v":0},0,0]
[null,"Seguimiento telefonico",{"$f":"SUM(D178:E178)","v":0},0,0]
["SECCIÓN Q: APLICACIÓN DE ENCUESTA CALIDAD DE VIDA"]
["DIAGNÓSTICO",null,"ENCUESTAS REALIZADAS","TOTAL",null,null,"RANGO ETARIO Y SEXO"]
[null,null,null,null,null,null,"Menos de 1 año",null,"1 - 4 \naños",null,"5 - 9 \naños",null,"10 - 14 años",null,"15 - 19 años",null,"20 - 24 años",null,"25 - 39 años",null,"40 - 44 años",null,"45 - 49 años",null,"50 - 54 años",null,"55 - 59 años",null,"60 - 64 años",null,"65 - 69 años",null,"70 - 74 años",null,"75 - 79 años",null,"80 y más años"]
[null,null,null,"Ambos Sexos","Hombres","Mujeres","Hombres","Mujeres","Hombres","Mujeres","Hombres","Mujeres","Hombres","Mujeres","Hombres","Mujeres","Hombres","Mujeres","Hombres","Mujeres","Hombres","Mujeres","Hombres","Mujeres","Hombres","Mujeres","Hombres","Mujeres","Hombres","Mujeres","Hombres","Mujeres","Hombres","Mujeres","Hombres","Mujeres","Hombres","Mujeres"]
["EPOC",null,"Ingreso",{"$f":"SUM(E183:F183)","v":0},{"$f":"SUM(G183+I183+K183+M183+O183+Q183+S183+U183+W183+Y183+AA183+AC183+AE183+AG183+AI183+AK183)","v":0},{"$f":"SUM(H183+J183+L183+N183+P183+R183+T183+V183+X183+Z183+AB183+AD183+AF183+AH183+AJ183+AL183)","v":0}]
[null,null,"Reevaluación anual",0,{"$f":"SUM(G184+I184+K184+M184+O184+Q184+S184+U184+W184+Y184+AA184+AC184+AE184+AG184+AI184+AK184)","v":0},{"$f":"SUM(H184+J184+L184+N184+P184+R184+T184+V184+X184+Z184+AB184+AD184+AF184+AH184+AJ184+AL184)","v":0}]
["Asma",null,"Ingreso",0,{"$f":"SUM(G185+I185+K185+M185+O185+Q185+S185+U185+W185+Y185+AA185+AC185+AE185+AG185+AI185+AK185)","v":0},0]
[null,null,"Reevaluación anual",0,0,0]
["Otras crónicas respiratorias",null,"Ingreso",0,0,0]
[null,null,"Reevaluación anual",0,0,0]
[]
[]
[]
[]
[]
[]
[]
[]
[]
[]
[]
[]
[]
[]
[]
[]
[]
[]
[]
[]
[]
[]
[]
[]
[]
[]
[{"$f":"SUM(B12:D23,C28:E41,B46:D53,B58,B63:B66,B71:B73,B78:B84,C87:C90,B95:B103,B108:B110,B115:B119,B124:B130,B136:B142,C153:D153,B158:B162,C165:C170,C175:C178,D183:D188)","v":0},{"$f":"SUM(CG12:CK188)","v":0}]

{"sheet":"A24","index":16,"n_rows":160,"n_cols":93,"rows_kept":160,"cut":false,"hidden":false,"merged":[[5,0,5,11],[8,0,10,1],[8,2,10,2],[8,3,8,6],[8,7,8,10],[8,11,10,11],[9,17,10,17],[9,18,9,19],[9,20,9,21],[12,0,12,1],[13,0,13,1],[14,0,14,1],[8,26,9,27],[9,3,10,3],[9,4,10,4],[9,5,10,5],[9,6,10,6],[9,7,10,7],[9,8,10,8],[9,9,10,9],[9,10,10,10],[9,12,10,12],[8,12,8,17],[8,18,8,21],[8,22,10,22],[8,23,10,23],[8,24,10,24],[8,25,10,25],[9,13,10,13],[9,14,10,14],[9,15,10,15],[9,16,10,16],[23,0,23,1],[24,0,24,1],[25,0,26,0],[27,0,27,1],[28,0,28,1],[29,0,29,1],[15,0,15,1],[16,0,16,1],[17,0,17,1],[18,0,18,1],[19,0,19,1],[20,0,21,0],[41,0,41,1],[42,0,42,1],[43,0,44,0],[45,0,45,1],[46,0,46,1],[47,0,47,1],[30,0,31,0],[32,0,32,1],[33,0,34,0],[37,0,37,1],[38,0,38,1],[39,0,40,0],[59,0,59,1],[60,0,60,1],[61,0,61,1],[62,0,62,1],[63,0,63,1],[64,0,64,1],[48,0,48,1],[49,0,49,1],[50,0,50,1],[52,0,52,1],[53,0,57,0],[58,0,58,1],[66,17,67,17],[66,18,66,19],[73,0,74,1],[73,2,74,2],[73,3,74,3],[73,4,74,4],[73,5,74,5],[73,6,73,8],[66,1,66,9],[66,10,66,12],[66,13,66,14],[66,15,67,15],[66,16,67,16],[66,0,67,0],[87,0,87,1],[88,0,88,6],[89,0,89,6],[90,0,91,1],[90,2,91,2],[90,3,90,10],[75,0,75,1],[76,0,76,1],[77,0,83,0],[84,0,84,1],[85,0,85,1],[86,0,86,1],[94,12,95,12],[96,0,96,1],[97,0,97,6],[98,0,99,0],[98,1,99,1],[98,2,98,9],[98,10,99,10],[98,11,98,14],[90,11,91,11],[92,0,92,1],[94,0,95,1],[94,2,94,3],[94,4,94,7],[94,8,94,9],[94,10,95,10],[94,11,95,11],[121,2,121,10],[121,11,122,11],[121,12,122,12],[127,0,128,0],[127,1,127,4],[111,0,111,1],[113,0,113,1],[114,0,115,0],[116,0,119,0],[121,0,122,0],[121,1,122,1]]}
["SERVICIO DE SALUD"]
[{"$f":"CONCATENATE(\"COMUNA: \",NOMBRE!B2,\" - \",\"( \",NOMBRE!C2,NOMBRE!D2,NOMBRE!E2,NOMBRE!F2,NOMBRE!G2,\" )\")","v":"COMUNA:  - (  )"}]
[{"$f":"CONCATENATE(\"ESTABLECIMIENTO/ESTRATEGIA: \",NOMBRE!B3,\" - \",\"( \",NOMBRE!C3,NOMBRE!D3,NOMBRE!E3,NOMBRE!F3,NOMBRE!G3,NOMBRE!H3,\" )\")","v":"ESTABLECIMIENTO/ESTRATEGIA:  - (  )"}]
[{"$f":"CONCATENATE(\"MES: \",NOMBRE!B6,\" - \",\"( \",NOMBRE!C6,NOMBRE!D6,\" )\")","v":"MES:  - (  )"}]
[{"$f":"CONCATENATE(\"AÑO: \",NOMBRE!B7)","v":"AÑO: 2024"}]
["REM-A24.   ATENCIÓN OBSTÉTRICA Y DEL RECIÉN NACIDO"]
[]
["SECCIÓN A: INFORMACIÓN GENERAL DE PARTOS"]
["CARACTERISTICAS DEL PARTO",null,"TOTAL","PARTOS SEGÚN EDAD DE LA MADRE",null,null,null,"PARTOS PREMATUROS (CONSIDERAR SOBRE 22 SEMANAS)",null,null,null,"Uso de oxitocina profiláctica","ANESTESIA Y/O ANALGESIA DEL PARTO (MEDIDAS FARMACOLÓGICAS Y NO FARMACOLÓGICAS)",null,null,null,null,null,"CONTACTO INMEDIATO PIEL A PIEL >30 MINUTOS",null,null,null,"Lactancia materna en los primeros  60 minutos de vida  (RN con peso de 2.500 grs. o más)","Atención con pertinencia cultural","Pueblos Originarios","Migrantes","TRANS"]
[null,null,null,"< 15 años","15 - 19 años","20 - 34 años","≥35 años","Partos prematuros menos de 24 semanas","Partos prematuros de 24 a 28 semanas","Partos prematuros de 29 a 32 semanas","Partos prematuros de 33 a 36 semanas",null,"Anestesia Neuroaxial","Óxido nitroso","Analgesia endovenosa","General","Local","Medidas no farmacológicas","Con la Madre",null,"Con el padre o acompañante significativo"]
[null,null,null,null,null,null,null,null,null,null,null,null,null,null,null,null,null,null,"RN peso menor o igual a 2.499 grs. ","RN con peso de 2.500 grs. o más","RN peso menor o igual a 2.499 grs. ","RN con peso de 2.500 grs. o más",null,null,null,null,"Masculino","Femenino"]
["TOTAL PARTOS",null,{"$f":"SUM(C13:C16)","v":0},{"$f":"SUM(D13:D16)","v":0},0,0,0,0,0,0,0,0,0,0,0,0,0,0,0,0,0,0,0,0,0,0,{"$f":"SUM(AA13:AA16)","v":0},{"$f":"SUM(AB13:AB16)","v":0}]
["Vaginal",null,null,null,null,null,null,null,null,null,null,null,null,null,null,null,null,null,null,null,null,null,null,null,null,null,null,null,{"$f":"$CA13&CB13&CC13&CD13&CE13&CF13","v":""},null,null,null,null,null,null,null,null,null,null,null,null,null,null,null,null,null,null,null,null,null,null,null,null,null,null,null,null,null,null,null,null,null,null,null,null,null,null,null,null,null,null,null,null,null,null,null,null,null,{"$f":"IF(AND(C13>0,Y13=\"\"),\" * No olvide digitar la variable Pueblos originarios. Digite Cero si no tiene.\",IF(Y13>C13,\" * La variable Pueblos originarios no puede ser mayor al Total.\",\"\"))","v":""},{"$f":"IF(AND(C13>0,Z13=\"\"),\" * No olvide digitar la variable Migrantes. Digite Cero si no tiene.\",IF(Z13>C13,\" * La variable Migrantes no puede ser mayor al Total.\",\"\"))","v":""},{"$f":"IF(AND(C13>0,OR(AA13=\"\")),\" * No olvide digitar la variable Trans Masculino . Digite Cero si no tiene.\",IF(OR(AA13>C13),\" * La variable Trans Masculino no puede ser mayor al Total.\",\"\"))","v":""},null,null,null,null,null,null,null,null,{"$f":"IF(AND(C13>0,Y13=\"\"),1,IF(Y13>C13,1,0))","v":0},{"$f":"IF(AND(C13>0,Z13=\"\"),1,IF(Z13>C13,1,0))","v":0},{"$f":"IF(AND(C13>0,OR(AA13=\"\")),1,IF(OR(AA13>C13),1,0))","v":0}]
["Instrumental",null,null,null,null,null,null,null,null,null,null,null,null,null,null,null,null,null,null,null,null,null,null,null,null,null,null,null,{"$f":"$CA14&CB14&CC14&CD14&CE14&CF14","v":""},null,null,null,null,null,null,null,null,null,null,null,null,null,null,null,null,null,null,null,null,null,null,null,null,null,null,null,null,null,null,null,null,null,null,null,null,null,null,null,null,null,null,null,null,null,null,null,null,null,{"$f":"IF(AND(C14>0,Y14=\"\"),\" * No olvide digitar la variable Pueblos originarios. Digite Cero si no tiene.\",IF(Y14>C14,\" * La variable Pueblos originarios no puede ser mayor al Total.\",\"\"))","v":""},{"$f":"IF(AND(C14>0,Z14=\"\"),\" * No olvide digitar la variable Migrantes. Digite Cero si no tiene.\",IF(Z14>C14,\" * La variable Migrantes no puede ser mayor al Total.\",\"\"))","v":""},{"$f":"IF(AND(C14>0,OR(AA14=\"\")),\" * No olvide digitar la variable Trans Masculino . Digite Cero si no tiene.\",IF(OR(AA14>C14),\" * La variable Trans Masculino no puede ser mayor al Total.\",\"\"))","v":""},null,null,null,null,null,null,null,null,{"$f":"IF(AND(C14>0,Y14=\"\"),1,IF(Y14>C14,1,0))","v":0},{"$f":"IF(AND(C14>0,Z14=\"\"),1,IF(Z14>C14,1,0))","v":0},{"$f":"IF(AND(C14>0,OR(AA14=\"\")),1,IF(OR(AA14>C14),1,0))","v":0}]
["Cesárea Electiva",null,null,null,null,null,null,null,null,null,null,null,null,null,null,null,null,null,null,null,null,null,null,null,null,null,null,null,"",null,null,null,null,null,null,null,null,null,null,null,null,null,null,null,null,null,null,null,null,null,null,null,null,null,null,null,null,null,null,null,null,null,null,null,null,null,null,null,null,null,null,null,null,null,null,null,null,null,"",{"$f":"IF(AND(C15>0,Z15=\"\"),\" * No olvide digitar la variable Migrantes. Digite Cero si no tiene.\",IF(Z15>C15,\" * La variable Migrantes no puede ser mayor al Total.\",\"\"))","v":""},"",null,null,null,null,null,null,null,null,0,{"$f":"IF(AND(C15>0,Z15=\"\"),1,IF(Z15>C15,1,0))","v":0},0]
["Cesárea Urgencia",null,null,null,null,null,null,null,null,null,null,null,null,null,null,null,null,null,null,null,null,null,null,null,null,null,null,null,"",null,null,null,null,null,null,null,null,null,null,null,null,null,null,null,null,null,null,null,null,null,null,null,null,null,null,null,null,null,null,null,null,null,null,null,null,null,null,null,null,null,null,null,null,null,null,null,null,null,"",{"$f":"IF(AND(C16>0,Z16=\"\"),\" * No olvide digitar la variable Migrantes. Digite Cero si no tiene.\",IF(Z16>C16,\" * La variable Migrantes no puede ser mayor al Total.\",\"\"))","v":""},"",null,null,null,null,null,null,null,null,0,{"$f":"IF(AND(C16>0,Z16=\"\"),1,IF(Z16>C16,1,0))","v":0},0]
["Parto prehospitalario (en establecimientos salud o ambulancias)",null,null,null,null,null,null,null,null,null,null,null,null,null,null,null,null,null,null,null,null,null,null,null,null,null,null,null,"",null,null,null,null,null,null,null,null,null,null,null,null,null,null,null,null,null,null,null,null,null,null,null,null,null,null,null,null,null,null,null,null,null,null,null,null,null,null,null,null,null,null,null,null,null,null,null,null,null,"","","",null,null,null,null,null,null,null,null,0,0,0]
["Partos fuera de la red de salud",null,null,null,null,null,null,null,null,null,null,null,null,null,null,null,null,null,null,null,null,null,null,null,null,null,null,null,"",null,null,null,null,null,null,null,null,null,null,null,null,null,null,null,null,null,null,null,null,null,null,null,null,null,null,null,null,null,null,null,null,null,null,null,null,null,null,null,null,null,null,null,null,null,null,null,null,null,"","","",null,null,null,null,null,null,null,null,0,0,0]
["Entrega de placenta a solicitud ",null,null,null,null,null,null,null,null,null,null,null,null,null,null,null,null,null,null,null,null,null,null,null,null,null,null,null,"",null,null,null,null,null,null,null,null,null,null,null,null,null,null,null,null,null,null,null,null,null,null,null,null,null,null,null,null,null,null,null,null,null,null,null,null,null,null,null,null,null,null,null,null,null,null,null,null,null,"","","",null,null,null,null,null,null,null,null,0,0,0]
["Embarazo no controlado",null,null,null,null,null,null,null,null,null,null,null,null,null,null,null,null,null,null,null,null,null,null,null,null,null,null,null,"",null,null,null,null,null,null,null,null,null,null,null,null,null,null,null,null,null,null,null,null,null,null,null,null,null,null,null,null,null,null,null,null,null,null,null,null,null,null,null,null,null,null,null,null,null,null,null,null,null,"","","",null,null,null,null,null,null,null,null,0,0,0]
["Parto en domicilio","Con atención profesional",null,null,null,null,null,null,null,null,null,null,null,null,null,null,null,null,null,null,null,null,null,null,null,null,null,null,"",null,null,null,null,null,null,null,null,null,null,null,null,null,null,null,null,null,null,null,null,null,null,null,null,null,null,null,null,null,null,null,null,null,null,null,null,null,null,null,null,null,null,null,null,null,null,null,null,null,"","","",null,null,null,null,null,null,null,null,0,0,0]
[null,"Sin atención profesional",null,null,null,null,null,null,null,null,null,null,null,null,null,null,null,null,null,null,null,null,null,null,null,null,null,null,"",null,null,null,null,null,null,null,null,null,null,null,null,null,null,null,null,null,null,null,null,null,null,null,null,null,null,null,null,null,null,null,null,null,null,null,null,null,null,null,null,null,null,null,null,null,null,null,null,null,"","","",null,null,null,null,null,null,null,null,0,0,0]
["SECCION A.1: PARTOS VAGINALES *"]
["CARACTERÍSTICAS DEL MODELO DE ATENCIÓN",null,"TOTAL","<28 semanas","28 - 37 semanas","38 semanas y más"]
["Espontáneo",null,{"$f":"SUM(D25:F25)","v":0}]
["Inducidos","Mecánica",0]
[null,"Farmacológica",0]
["Conducción oxitócica",null,0]
["Libertad de movimiento",null,0]
["Régimen hídrico amplio",null,0]
["Posición al momento del expulsivo","Litotomía",0]
[null,"Otras posiciones",0]
["Episiotomía",null,0]
["Acompañamiento","Durante el trabajo de parto",0]
[null,"Sólo en el expulsivo",0]
["(*) Partos de Término y Pre-Término"]
["SECCION A.2: CESÁREAS (RESPONSABILIDAD DEL MÉDICO JEFE DEL SERVICIO DE OBSTETRICIA)"]
["CLASIFICACIÓN SEGÚN MODELO DE ROBSON",null,"Programada","Urgencia"]
["Grupo 1: Nulíparas, embarazo único, cefálica, ≥37 semanas en trabajo de parto espontáneo"]
["Grupo 2: Nulíparas, embarazo único, cefálica, ≥37 semanas, cesárea programada o con inducción de trabajo de parto. ","Total cesáreas grupo 2 "]
[null,"Por requerimiento materno"]
["Grupo 3: Multípara, sin cesárea previa, embarazo único, cefálica, ≥37 semanas en trabajo de parto espontáneo"]
["Grupo 4: Multípara, sin cesárea previa, embarazo único, cefálica, ≥37 semanas, cesárea programada o con inducción de trabajo de parto. "]
["Grupo 5: multíparas con al menos 1 cesárea previa, embarazo unico, cefálica, ≥37 semanas. ","5.1: con 1 cesárea previa"]
[null,"5.2: 2 o más cesareas previas"]
["Grupo 6: Nulíparas, embarazo único, podálica."]
["Grupo 7: Multíparas, embarazo único, podálica, con 1 o más cesáreas previas. "]
["Grupo 8: Todas las mujeres con embarazo múltiple, incluidas las que tienen 1 o más cesáreas previas. "]
["Grupo 9: Embarazo único, transverso y oblicuo, incluidas las que tienen una o mas cesáreas previas. "]
["Grupo 10: Todas las mujeres con embarazo único, cefálica, <37 semanas, incluidas las que tienen 1 o más cesáreas. "]
["Acompañamiento durante la cesárea"]
["SECCION A.3: COMPLICACIONES"]
["TIPO DE COMPLICACIÓN",null,"Atención institucional","Parto en domicilio"]
["Hemorragia post parto","Inercia"]
[null,"Restos"]
[null,"Trauma"]
[null,"Desgarros III y IV"]
[null,"Alteraciones de la coagulación"]
["Preeclampsia severa"]
["Eclampsia"]
["Sepsis o infección sistémica grave"]
["Otro"]
["Manejo quirúrgico de la inercia uterina"]
["Histerectomía obstétrica"]
["Transfusión"]
["SECCIÓN B: INTERRUPCIÓN VOLUNTARIA DEL EMBARAZO"]
["CAUSALES","RANGO ETARIO",null,null,null,null,null,null,null,null,"ABORTOS",null,null,"PARTOS",null,"Beneficiarias","Pueblos Originarios","Migrantes","TRANS","TRANS"]
[null,"Menor de 14 años","14 - 19 años","20 - 24 años","25 - 29 años","30 - 34 años","35 - 39 años","40 - 44 años","45 - 49 años","50 y más años","Hasta 12 semanas y cero días","12 semanas y un día hasta 14 semanas y cero días","de 14 hasta 21 semanas y 6 días","Partos vaginales inducidos","Cesáreas",null,null,null,"Masculino","Femenino"]
["TOTAL",{"$f":"SUM(B70:B72)","v":0},0,0,0,0,0,0,0,0,0,0,{"$f":"SUM(M70:M71)","v":0},{"$f":"SUM(N70:N71)","v":0},{"$f":"SUM(O70:O71)","v":0},{"$f":"SUM(P70:P72)","v":0},0,0,0,0]
["Causal N° 1: Mujer embarazada con riesgo vital ",null,null,null,null,null,null,null,null,null,null,null,null,null,null,null,null,null,null,null,{"$f":"$CA70&CB70&CC70&CD70&CE70","v":""},null,null,null,null,null,null,null,null,null,null,null,null,null,null,null,null,null,null,null,null,null,null,null,null,null,null,null,null,null,null,null,null,null,null,null,null,null,null,null,null,null,null,null,null,null,null,null,null,null,null,null,null,null,null,null,null,null,{"$f":"IF(AND(SUM(B70:J70)>0,P70=\"\"),\" * No olvide digitar la variable Beneficiarias. Digite cero si tiene.\",IF(P70>SUM(B70:J70),\" * La variable Beneficiarias no puede ser mayor al total.\",\"\"))","v":""},{"$f":"IF(AND(SUM(B70:J70)>0,Q70=\"\"),\" * No olvide digitar la variable Pueblos originarios. Digite cero si tiene.\",IF(Q70>SUM(B70:J70),\" * La variable Pueblos originarios no puede ser mayor al total.\",\"\"))","v":""},{"$f":"IF(AND(SUM(B70:J70)>0,R70=\"\"),\" * No olvide digitar la variable  Migrantes. Digite cero si tiene.\",IF(R70>SUM(B70:J70),\" * La variable Migrantes no puede ser mayor al total.\",\"\"))","v":""},{"$f":"IF(AND(SUM(B70:J70)>0,OR(S70=\"\")),\" * No olvide digitar la variable Trans Masculino . Digite Cero si no tiene.\",IF(S70>SUM(B70:J70),\" * La variable Trans Masculino no puede ser mayor al Total por rango etario.\",\"\"))","v":""},null,null,null,null,null,null,null,{"$f":"IF(AND(SUM(B70:J70)>0,P70=\"\"),1,IF(P70>SUM(B70:J70),1,0))","v":0},{"$f":"IF(AND(SUM(B70:J70)>0,Q70=\"\"),1,IF(Q70>SUM(B70:J70),1,0))","v":0},{"$f":"IF(AND(SUM(B70:J70)>0,R70=\"\"),1,IF(R70>SUM(B70:J70),1,0))","v":0},{"$f":"IF(AND(SUM(B70:J70)>0,OR(S70=\"\")),1,IF(S70>SUM(B70:J70),1,0))","v":0}]
["Causal N° 2: Inviabilidad fetal de carácter letal",null,null,null,null,null,null,null,null,null,null,null,null,null,null,null,null,null,null,null,{"$f":"$CA71&CB71&CC71&CD71&CE71","v":""},null,null,null,null,null,null,null,null,null,null,null,null,null,null,null,null,null,null,null,null,null,null,null,null,null,null,null,null,null,null,null,null,null,null,null,null,null,null,null,null,null,null,null,null,null,null,null,null,null,null,null,null,null,null,null,null,null,{"$f":"IF(AND(SUM(B71:J71)>0,P71=\"\"),\" * No olvide digitar la variable Beneficiarias. Digite cero si tiene.\",IF(P71>SUM(B71:J71),\" * La variable Beneficiarias no puede ser mayor al total.\",\"\"))","v":""},{"$f":"IF(AND(SUM(B71:J71)>0,Q71=\"\"),\" * No olvide digitar la variable Pueblos originarios. Digite cero si tiene.\",IF(Q71>SUM(B71:J71),\" * La variable Pueblos originarios no puede ser mayor al total.\",\"\"))","v":""},{"$f":"IF(AND(SUM(B71:J71)>0,R71=\"\"),\" * No olvide digitar la variable  Migrantes. Digite cero si tiene.\",IF(R71>SUM(B71:J71),\" * La variable Migrantes no puede ser mayor al total.\",\"\"))","v":""},{"$f":"IF(AND(SUM(B71:J71)>0,OR(S71=\"\")),\" * No olvide digitar la variable Trans Masculino . Digite Cero si no tiene.\",IF(S71>SUM(B71:J71),\" * La variable Trans Masculino no puede ser mayor al Total por rango etario.\",\"\"))","v":""},null,null,null,null,null,null,null,{"$f":"IF(AND(SUM(B71:J71)>0,P71=\"\"),1,IF(P71>SUM(B71:J71),1,0))","v":0},{"$f":"IF(AND(SUM(B71:J71)>0,Q71=\"\"),1,IF(Q71>SUM(B71:J71),1,0))","v":0},{"$f":"IF(AND(SUM(B71:J71)>0,R71=\"\"),1,IF(R71>SUM(B71:J71),1,0))","v":0},{"$f":"IF(AND(SUM(B71:J71)>0,OR(S71=\"\")),1,IF(S71>SUM(B71:J71),1,0))","v":0}]
["Causal N° 3: Por violación",null,null,null,null,null,null,null,null,null,null,null,null,null,null,null,null,null,null,null,"",null,null,null,null,null,null,null,null,null,null,null,null,null,null,null,null,null,null,null,null,null,null,null,null,null,null,null,null,null,null,null,null,null,null,null,null,null,null,null,null,null,null,null,null,null,null,null,null,null,null,null,null,null,null,null,null,null,"","","","",null,null,null,null,null,null,null,0,0,0,0]
["SECCIÓN C: MÉTODO ANTICONCEPTIVO AL ALTA"]
["MÉTODO ANTICONCEPTIVO",null,"Post Aborto","Intracesárea","Post Parto","Post IVE","RANGO ETARIO"]
[null,null,null,null,null,null,"< 15 años","15-19 años","20 y más años"]
["DIU con Cobre"]
["DIU con Levonorgestrel"]
["Hormonal","Oral Combinado"]
[null,"Oral Progestágeno"]
[null,"Inyectable Combinado"]
[null,"Inyectable Progestágeno"]
[null,"Implante Etonogestrel (3 años)"]
[null,"Implante Levonorgestrel (5 años)"]
[null,"Anillo de Progestágeno"]
["Métodos de barrera"]
["Esterilización quirúrgica"]
["Alta sin método anticonceptivo"]
["TOTAL ALTAS",null,{"$f":"SUM(C76:C87)","v":0},{"$f":"SUM(D86)","v":0},{"$f":"SUM(E76:E87)","v":0},0,0,0,0]
["SECCIÓN D: INFORMACIÓN DE RECIÉN NACIDOS"]
["SECCIÓN D.1: INFORMACIÓN GENERAL DE RECIÉN NACIDOS VIVOS"]
["TIPO",null,"TOTAL","PESO AL NACER (EN GRAMOS)",null,null,null,null,null,null,null,"Anomalía Congénita"]
[null,null,null,"Menos de 500","500 a 999","1.000 a \n1.499","1.500 a \n1.999","2.000 a \n2.499","2.500 a \n2.999","3.000 a \n3.999","4.000 y \nmás"]
["Nacidos vivos",null,{"$f":"SUM(D93:K93)","v":0},null,null,null,null,null,null,null,null,null,{"$f":"CA93","v":""},null,null,null,null,null,null,null,null,null,null,null,null,null,null,null,null,null,null,null,null,null,null,null,null,null,null,null,null,null,null,null,null,null,null,null,null,null,null,null,null,null,null,null,null,null,null,null,null,null,null,null,null,null,null,null,null,null,null,null,null,null,null,null,null,null,{"$f":"IF(AND($C93<>0,L93=\"\"),\"* No olvide ingresar la variable  \"&L$91&\"\"&\" . Si no tiene digite CERO.  \",IF(L93>$C93,\"* El Número de Anomalía Congenita no puede superar el Total. \",\"\"))","v":""},null,null,null,null,null,null,null,null,null,null,{"$f":"IF(AND($C93<>0,L93=\"\"),1,IF(L93>$C93,1,0))","v":0}]
["SECCIÓN D.2: ATENCION INMEDIATA DEL RECIEN NACIDO"]
["TIPO",null,"PROFILAXIS",null,"TIPO DE PARTO",null,null,null,"APGAR  ",null,"Reanimación Básica ","Reanimación Avanzada ","EHI                Grado II y III"]
[null,null,"Hepatitis B","Ocular","Parto Vaginal","Parto Instrumental","Cesárea","Parto extrahospitalario","Apgar menor o igual a 3 al minuto ","Apgar menor o igual a 6 a los 5 minutos "]
["Nacidos vivos"]
["SECCIÓN D.3: NACIDOS  FALLECIDOS "]
["TIPO","TOTAL","PESO AL NACER (EN GRAMOS)",null,null,null,null,null,null,null,"Anomalía congénita","ACOMPAÑAMIENTO INTEGRAL DUELO PERINATAL"]
[null,null,"Menos de 500","500 a 999","1.000 a \n1.499","1.500 a \n1.999","2.000 a \n2.499","2.500 a \n2.999","3.000 a \n3.999","4.000 y \nmás",null,"Atención en Sala Diferenciada","Entrega de recuerdos de maternidad/\npaternidad","Con acompañamiento psicosocial","Padre o familiar significativo "]
["Abortos",{"$f":"SUM(C101)","v":0}]
["Mortinatos",{"$f":"SUM(D102:J102)","v":0}]
["Mortineonatos",{"$f":"SUM(D103:J103)","v":0}]
["SECCIÓN E: EGRESOS DE MATERNIDAD Y NEONATOLOGÍA, SEGÚN LACTANCIA MATERNA EXCLUSIVA"]
["CRITERIOS DE EGRESO SEGÚN TIPO DE ALIMENTACIÓN","Maternidad","Neonatología","Pueblos originarios","Migrantes"]
["Total de Egresos",null,null,null,null,{"$f":"CA106&CB106&CC106&CD106&CE106","v":""},null,null,null,null,null,null,null,null,null,null,null,null,null,null,null,null,null,null,null,null,null,null,null,null,null,null,null,null,null,null,null,null,null,null,null,null,null,null,null,null,null,null,null,null,null,null,null,null,null,null,null,null,null,null,null,null,null,null,null,null,null,null,null,null,null,null,null,null,null,null,null,null,null,null,{"$f":"IF(AND(OR(B106>0,C106>0),D106=\"\"),\" * No olvide digitar la variable Pueblos originarios. Digite cero si no tiene.\",IF(D106>(B106+C106),\" * La variable pueblos originarios No puede ser mayor a los egresados en Maternidad y Neonatología..\",\"\"))","v":""},{"$f":"IF(AND(OR(B106>0,C106>0),E106=\"\"),\" * No olvide digitar la variable Migrantes. Digite cero si no tiene.\",IF(E106>(B106+C106),\" * La variable Migrantes No puede ser mayor a los egresados en Maternidad y Neonatología.\",\"\"))","v":""},null,null,null,null,null,null,null,null,null,{"$f":"IF(AND(OR(B106>0,C106>0),D106=\"\"),1,IF(D106>(B106+C106),1,0))","v":0},{"$f":"IF(AND(OR(B106>0,C106>0),E106=\"\"),1,IF(E106>(B106+C106),1,0))","v":0}]
["Egresados que mantuvieron lactancia materna exclusiva durante la hospitalización y  al alta *",null,null,null,null,{"$f":"CA107&CB107&CC107&CD107&CE107","v":""},null,null,null,null,null,null,null,null,null,null,null,null,null,null,null,null,null,null,null,null,null,null,null,null,null,null,null,null,null,null,null,null,null,null,null,null,null,null,null,null,null,null,null,null,null,null,null,null,null,null,null,null,null,null,null,null,null,null,null,null,null,null,null,null,null,null,null,null,null,null,null,null,{"$f":"IF(B107>B111,\" * Los \"&A107&\" en Maternidad No pueden ser mayores que los \"&A111&\" en Maternidad.\",\"\")","v":""},{"$f":"IF(C107>C111,\" * Los \"&A107&\" en Neonatología No pueden ser mayores que los \"&A111&\" en Neonatología.\",\"\")","v":""},{"$f":"IF(AND(OR(B107>0,C107>0),D107=\"\"),\" * No olvide digitar la variable Pueblos originarios. Digite cero si no tiene.\",IF(D107>(B107+C107),\" * La variable pueblos originarios No puede ser mayor a los egresados en Maternidad y Neonatología..\",\"\"))","v":""},{"$f":"IF(AND(OR(B107>0,C107>0),E107=\"\"),\" * No olvide digitar la variable Migrantes. Digite cero si no tiene.\",IF(E107>(B107+C107),\" * La variable Migrantes No puede ser mayor a los egresados en Maternidad y Neonatología.\",\"\"))","v":""},null,null,null,null,null,null,null,{"$f":"IF(B107>B111,1,0)","v":0},{"$f":"IF(C107>C111,1,0)","v":0},{"$f":"IF(AND(OR(B107>0,C107>0),D107=\"\"),1,IF(D107>(B107+C107),1,0))","v":0},{"$f":"IF(AND(OR(B107>0,C107>0),E107=\"\"),1,IF(E107>(B107+C107),1,0))","v":0}]
["Egresados con madres serología positiva (VIH) ",null,null,null,null,"",null,null,null,null,null,null,null,null,null,null,null,null,null,null,null,null,null,null,null,null,null,null,null,null,null,null,null,null,null,null,null,null,null,null,null,null,null,null,null,null,null,null,null,null,null,null,null,null,null,null,null,null,null,null,null,null,null,null,null,null,null,null,null,null,null,null,null,null,null,null,null,null,null,null,"","",null,null,null,null,null,null,null,null,null,0,0]
["Egresados con madres serología positiva (HLTV-1)",null,null,null,null,"",null,null,null,null,null,null,null,null,null,null,null,null,null,null,null,null,null,null,null,null,null,null,null,null,null,null,null,null,null,null,null,null,null,null,null,null,null,null,null,null,null,null,null,null,null,null,null,null,null,null,null,null,null,null,null,null,null,null,null,null,null,null,null,null,null,null,null,null,null,null,null,null,null,null,"","",null,null,null,null,null,null,null,null,null,0,0]
["Egresados con madres acogidas a la Ley 21.155 (Derecho a no amamantar)",null,null,null,null,"",null,null,null,null,null,null,null,null,null,null,null,null,null,null,null,null,null,null,null,null,null,null,null,null,null,null,null,null,null,null,null,null,null,null,null,null,null,null,null,null,null,null,null,null,null,null,null,null,null,null,null,null,null,null,null,null,null,null,null,null,null,null,null,null,null,null,null,null,null,null,null,null,null,null,"","",null,null,null,null,null,null,null,null,null,0,0]
["Egresados con lactancia materna exclusiva ",null,null,null,null,"",null,null,null,null,null,null,null,null,null,null,null,null,null,null,null,null,null,null,null,null,null,null,null,null,null,null,null,null,null,null,null,null,null,null,null,null,null,null,null,null,null,null,null,null,null,null,null,null,null,null,null,null,null,null,null,null,null,null,null,null,null,null,null,null,null,null,null,null,null,null,null,null,{"$f":"IF(B111>B106,\" * Los egresados con lactancia materna exclusiva no puede ser mayor que el Total de Egresos en Maternidad.\",\"\")","v":""},{"$f":"IF(C111>C106,\" * Los egresados con lactancia materna exclusiva no puede ser mayor que el Total de Egresos en Neonatología\",\"\")","v":""},"","",null,null,null,null,null,null,null,{"$f":"IF(B111>B106,1,0)","v":0},{"$f":"IF(C111>C106,1,0)","v":0},0,0]
["* Contenidos en egresos con lactancia materna exclusiva"]
["SECCIÓN F: CONSULTA DE LACTANCIA MATERNA EN SERVICIOS GINECO-OBSTÉTRICOS"]
["TIPOS DE CONSULTA",null,"TOTAL"]
["Consulta de lactancia","Consulta de Lactancia Materna durante la hospitalización "]
[null,"Consulta de Lactancia Materna posterior al alta "]
["Consulta de lactancia por profesional","Médico"]
[null,"Matrón/a"]
[null,"Enfermera/o"]
[null,"Nutricionista"]
["SECCIÓN G: TALLERES GRUPALES DE LACTANCIA MATERNA"]
["CONCEPTO","TOTAL","RANGO ETARIO",null,null,null,null,null,null,null,null,"Pueblos Originarios","Migrantes"]
[null,null,"10 - 14 años","15 - 19 años","20 - 24 años","25 - 29 años","30 - 34 años","35 - 39 años","40 - 44 años","45 - 49 años","50 - 54 años"]
["Número de Talleres de Lactancia Materna realizada en Maternidades"]
["Número de Participantes de Talleres de Lactancia Materna realizada en Maternidades",{"$f":"SUM(C125:K125)","v":0},null,null,null,null,null,null,null,null,null,null,null,{"$f":"$CA125&CB125","v":""},null,null,null,null,null,null,null,null,null,null,null,null,null,null,null,null,null,null,null,null,null,null,null,null,null,null,null,null,null,null,null,null,null,null,null,null,null,null,null,null,null,null,null,null,null,null,null,null,null,null,null,null,null,null,null,null,null,null,null,null,null,null,null,null,{"$f":"IF(AND($B125<>0,L125=\"\"),\"* No olvide ingresar la variable Pueblos Originarios. Si no tiene digite CERO.  \",IF(L125>$B125,\"* La variable Pueblos Originarios no puede superar el Total. \",\"\"))","v":""},{"$f":"IF(AND($B125<>0,M125=\"\"),\"* No olvide ingresar la variable Migrantes. Si no tiene digite CERO. \",IF(M125>$B125,\"* La variable Migrantes no puede superar el Total. \",\"\"))","v":""},null,null,null,null,null,null,null,null,null,{"$f":"IF(AND($B125<>0,L125=\"\"),1,IF(L125>$B125,1,0))","v":0},{"$f":"IF(AND($B125<>0,M125=\"\"),1,IF(M125>$B125,1,0))","v":0}]
["SECCIÓN H:  TAMIZAJES DEL RECIÉN NACIDO "]
["SECCION H.1: TAMIZAJE METABOLICO"]
["EXÁMENES","PROGRAMA FENILQUETONURIA (PKU) E HIPOTIROIDISMO CONGÉNITO (HC)",null,null,null,"FIBROSIS QUÍSTICA"]
[null,"Primeras Muestras","Exámenes de 2a punción","2a muestra en <36 semanas","Exámenes alterados","RN tamizados según piloto"]
["Recién nacidos tamizados"]
["SECCIÓN H.2:  TAMIZAJE AUDITIVO"]
["RECIEN NACIDOS VIVOS TAMIZADOS","Tamizaje","Re-tamizaje","Ambulatorio","Pueblos Originarios"]
["Total de recién nacidos tamizados",null,null,null,null,{"$f":"$CA133","v":""},null,null,null,null,null,null,null,null,null,null,null,null,null,null,null,null,null,null,null,null,null,null,null,null,null,null,null,null,null,null,null,null,null,null,null,null,null,null,null,null,null,null,null,null,null,null,null,null,null,null,null,null,null,null,null,null,null,null,null,null,null,null,null,null,null,null,null,null,null,null,null,null,{"$f":"IF(AND($B133<>0,E133=\"\"),\"* No olvide ingresar la variable Pueblos Originarios. Si no tiene digite CERO. \",IF(E133>$B133,\"* La variable Pueblos Originarios no puede superar el Total de Tamizaje. \",\"\"))","v":""},null,null,null,null,null,null,null,null,null,null,{"$f":"IF(AND($B133<>0,E133=\"\"),1,IF(E133>$B133,1,0))","v":0}]
["Recién nacidos vivos que pasan",null,null,null,null,{"$f":"$CO134&CA134","v":""},null,null,null,null,null,null,null,null,null,null,null,null,null,null,null,null,null,null,null,null,null,null,null,null,null,null,null,null,null,null,null,null,null,null,null,null,null,null,null,null,null,null,null,null,null,null,null,null,null,null,null,null,null,null,null,null,null,null,null,null,null,null,null,null,null,null,null,null,null,null,null,null,{"$f":"IF(AND($B134<>0,E134=\"\"),\"* No olvide ingresar la variable Pueblos Originarios. Si no tiene digite CERO. \",IF(E134>$B134,\"* La variable Pueblos Originarios no puede superar el Total de Tamizaje. \",\"\"))","v":""},null,null,null,null,null,null,null,null,null,null,{"$f":"IF(AND($B134<>0,E134=\"\"),1,IF(E134>$B134,1,0))","v":0}]
["Recién nacidos que refieren",null,null,null,null,"",null,null,null,null,null,null,null,null,null,null,null,null,null,null,null,null,null,null,null,null,null,null,null,null,null,null,null,null,null,null,null,null,null,null,null,null,null,null,null,null,null,null,null,null,null,null,null,null,null,null,null,null,null,null,null,null,null,null,null,null,null,null,null,null,null,null,null,null,null,null,null,null,"",null,null,null,null,null,null,null,null,null,null,0]
["EXÁMENES REALIZADOS","EOA","PEATa","Pueblos Originarios"]
["Maternidad",null,null,null,{"$f":"$CA137","v":""},null,null,null,null,null,null,null,null,null,null,null,null,null,null,null,null,null,null,null,null,null,null,null,null,null,null,null,null,null,null,null,null,null,null,null,null,null,null,null,null,null,null,null,null,null,null,null,null,null,null,null,null,null,null,null,null,null,null,null,null,null,null,null,null,null,null,null,null,null,null,null,null,null,{"$f":"IF(AND($B137<>0,D137=\"\"),\"* No olvide ingresar la variable Pueblos Originarios. Si no tiene digite CERO. \",IF(D137>$B137,\"* La variable Pueblos Originarios no puede superar el Total de EOA. \",\"\"))","v":""},null,null,null,null,null,null,null,null,null,null,{"$f":"IF(AND($B137<>0,D137=\"\"),1,IF(D137>$B137,1,0))","v":0}]
["Neonatología",null,null,null,{"$f":"$CA138","v":""},null,null,null,null,null,null,null,null,null,null,null,null,null,null,null,null,null,null,null,null,null,null,null,null,null,null,null,null,null,null,null,null,null,null,null,null,null,null,null,null,null,null,null,null,null,null,null,null,null,null,null,null,null,null,null,null,null,null,null,null,null,null,null,null,null,null,null,null,null,null,null,null,null,{"$f":"IF(AND($B138<>0,D138=\"\"),\"* No olvide ingresar la variable Pueblos Originarios. Si no tiene digite CERO. \",IF(D138>$B138,\"* La variable Pueblos Originarios no puede superar el Total de EOA. \",\"\"))","v":""},null,null,null,null,null,null,null,null,null,null,{"$f":"IF(AND($B138<>0,D138=\"\"),1,IF(D138>$B138,1,0))","v":0}]
["Servicio otorrinolaringología (realizado antes de los 6 meses de vida)",null,null,null,"",null,null,null,null,null,null,null,null,null,null,null,null,null,null,null,null,null,null,null,null,null,null,null,null,null,null,null,null,null,null,null,null,null,null,null,null,null,null,null,null,null,null,null,null,null,null,null,null,null,null,null,null,null,null,null,null,null,null,null,null,null,null,null,null,null,null,null,null,null,null,null,null,null,"",null,null,null,null,null,null,null,null,null,null,0]
["SECCION H.3: TAMIZAJE CARDIOPATÍAS CONGÉNITAS"]
["EXÁMENES REALIZADOS","Recien Nacidos Tamizados","Recién  Nacidos referidos a Cardiología "]
["Maternidad"]
["Neonatología"]
[]
[]
[]
[]
[]
[]
[]
[]
[]
[]
[]
[]
[]
[]
[]
[]
[{"$f":"SUM(C13:X22,C25:C35,C39:D51,C54:D65,B70:O72,C76:I87,C93,C97:J97,B101:B103,B106:C111,C115:C120,B124:B125,B130:F130,B133:D135,B137:C139)","v":0},{"$f":"SUM(CL13:CQ139)","v":0}]

{"sheet":"A25","index":17,"n_rows":320,"n_cols":30,"rows_kept":320,"cut":false,"hidden":false,"merged":[[9,26,9,27],[11,0,12,0],[13,0,13,1],[9,8,9,9],[9,10,9,11],[9,12,9,13],[9,14,9,15],[9,16,9,17],[5,0,5,21],[8,0,10,0],[8,1,10,2],[8,3,9,5],[8,6,8,27],[9,18,9,19],[14,0,14,2],[15,0,15,2],[16,0,16,2],[18,0,20,0],[18,1,20,2],[9,6,9,7],[9,20,9,21],[9,22,9,23],[9,24,9,25],[19,22,19,23],[19,24,19,25],[29,2,29,3],[30,0,40,0],[30,1,32,1],[30,2,30,3],[31,2,31,3],[32,2,32,3],[19,26,19,27],[19,28,19,29],[21,0,24,0],[21,1,22,1],[23,1,24,1],[18,3,19,5],[18,6,18,29],[19,6,19,7],[19,20,19,21],[19,8,19,9],[19,10,19,11],[19,12,19,13],[19,14,19,15],[19,16,19,17],[19,18,19,19],[61,0,61,3],[54,0,59,0],[54,1,54,3],[55,1,55,3],[56,1,56,3],[57,1,57,3],[58,1,58,3],[59,1,59,3],[48,0,51,0],[60,1,60,3],[48,1,48,3],[49,1,49,3],[50,1,50,3],[51,1,51,3],[52,0,53,0],[52,1,52,3],[53,1,53,3],[41,0,47,0],[41,1,47,1],[41,2,41,3],[42,2,43,2],[44,2,44,3],[7,0,7,2],[37,2,37,3],[38,2,38,3],[39,2,39,3],[40,2,40,3],[17,0,17,2],[33,1,34,1],[45,2,45,3],[46,2,46,3],[47,2,47,3],[33,2,33,3],[34,2,34,3],[35,1,36,1],[35,2,35,3],[36,2,36,3],[37,1,40,1],[25,0,26,1],[27,0,27,2],[28,0,28,5],[81,0,81,7],[66,0,66,2],[68,0,71,0],[72,0,76,0],[92,3,93,3],[92,4,92,6],[92,7,93,7],[84,0,84,1],[85,0,85,1],[77,0,79,0],[80,0,80,1],[82,0,83,1],[82,2,83,2],[82,3,83,3],[82,4,82,6],[91,0,91,7],[86,0,86,1],[87,0,87,1],[88,0,88,1],[89,0,89,1],[92,2,93,2],[82,7,83,7],[144,5,144,7],[146,0,146,1],[147,0,149,0],[94,0,94,1],[95,0,95,1],[96,0,96,1],[97,0,97,1],[98,0,98,1],[99,0,99,1],[126,0,126,1],[119,0,119,1],[143,0,143,7],[110,0,110,8],[101,0,101,8],[116,0,116,1],[117,0,117,1],[111,0,111,1],[112,0,112,1],[113,0,115,0],[102,0,102,1],[144,2,144,4],[150,0,150,1],[134,0,134,1],[135,0,135,1],[136,0,138,0],[139,0,139,1],[140,0,140,1],[144,0,145,1],[92,0,93,1],[103,0,103,1],[104,0,106,0],[107,0,107,1],[108,0,108,1],[151,0,151,1],[152,0,152,1],[154,0,154,1],[155,0,156,0],[153,0,153,2],[159,0,169,0],[159,1,166,1],[159,2,159,4],[160,2,160,4],[161,2,161,4],[158,2,158,4],[166,2,166,4],[167,1,169,1],[167,2,167,4],[168,2,168,4],[169,2,169,4],[162,2,162,4],[163,2,163,4],[164,2,164,4],[165,2,165,4],[157,0,157,8],[213,0,217,0],[218,0,219,0],[220,0,222,0],[208,0,211,0],[206,0,206,4],[187,0,187,3],[173,2,173,4],[180,2,180,4],[181,2,181,4],[287,0,287,1],[174,1,183,1],[174,2,174,4],[175,2,175,4],[176,2,176,4],[177,2,177,4],[178,2,178,4],[179,2,179,4],[223,0,224,0],[225,0,226,0],[227,0,228,0],[170,0,183,0],[170,1,173,1],[170,2,170,4],[171,2,171,4],[172,2,172,4],[182,2,182,4],[183,2,183,4],[280,0,280,1],[281,0,281,1],[276,0,276,2],[269,0,269,3],[282,0,282,1],[283,0,283,1],[284,0,284,1],[285,0,285,1],[286,0,286,1],[241,0,254,0],[255,0,258,0],[259,0,263,0],[264,0,267,0],[239,0,239,3],[268,0,268,1],[277,0,277,1],[278,0,278,1],[279,0,279,1],[229,0,230,0],[231,0,231,1],[232,0,232,1],[233,0,233,1],[235,0,235,1],[236,0,236,1],[234,0,234,4],[237,0,237,1],[238,0,238,1]]}
["SERVICIO DE SALUD"]
[{"$f":"CONCATENATE(\"COMUNA: \",NOMBRE!B2,\" - \",\"( \",NOMBRE!C2,NOMBRE!D2,NOMBRE!E2,NOMBRE!F2,NOMBRE!G2,\" )\")","v":"COMUNA:  - (  )"}]
[{"$f":"CONCATENATE(\"ESTABLECIMIENTO/ESTRATEGIA: \",NOMBRE!B3,\" - \",\"( \",NOMBRE!C3,NOMBRE!D3,NOMBRE!E3,NOMBRE!F3,NOMBRE!G3,NOMBRE!H3,\" )\")","v":"ESTABLECIMIENTO/ESTRATEGIA:  - (  )"}]
[{"$f":"CONCATENATE(\"MES: \",NOMBRE!B6,\" - \",\"( \",NOMBRE!C6,NOMBRE!D6,\" )\")","v":"MES:  - (  )"}]
[{"$f":"CONCATENATE(\"AÑO: \",NOMBRE!B7)","v":"AÑO: 2024"}]
["REM-25.  SERVICIOS DE SANGRE"]
[]
["SECCIÓN A.1: POBLACIÓN DONANTE (CS-UMT-BS)"]
["DONANTES","DESCRIPCIÓN",null,"TOTAL",null,null,"RANGO ETARIO Y SEXO"]
[null,null,null,null,null,null,"18-19 años",null,"20-24 años",null,"25-29 años",null,"30-34 años",null,"35-39 años",null,"40-44 años",null,"45-49 años",null,"50-54 años",null,"55-59 años",null,"60-64 años",null,"65 y más años"]
[null,null,null,"Ambos Sexos","Hombres","Mujeres","Hombres","Mujeres","Hombres","Mujeres","Hombres","Mujeres","Hombres","Mujeres","Hombres","Mujeres","Hombres","Mujeres","Hombres","Mujeres","Hombres","Mujeres","Hombres","Mujeres","Hombres","Mujeres","Hombres","Mujeres"]
["Altruistas","Nuevos","Aceptados",{"$f":"SUM(E12+F12)","v":0},{"$f":"SUM(G12+I12+K12+M12+O12+Q12+S12+U12+W12+Y12+AA12)","v":0},0]
[null,"Repetidos","Aceptados",{"$f":"SUM(E13+F13)","v":0},0,0]
["Reposición",null,"Aceptados",{"$f":"SUM(E14+F14)","v":0},0,0]
["TOTAL",null,null,{"$f":"SUM(E15+F15)","v":0},0,0,{"$f":"SUM(G12:G14)","v":0},0,0,0,0,0,0,0,0,0,0,0,0,0,0,0,0,0,0,0,0,0]
["Total días atención otorgados"]
["Total colectas móviles realizadas"]
["SECCIÓN A.2:  TIPO DE DONANTES CON CONTRAINDICACIÓN"]
["DONANTES","DESCRIPCIÓN",null,"TOTAL",null,null,"RANGO ETARIO Y SEXO"]
[null,null,null,null,null,null,"17 años",null,"18-19 años",null,"20-24 años",null,"25-29 años",null,"30-34 años",null,"35-39 años",null,"40-44 años",null,"45-49 años",null,"50-54 años",null,"55-59 años",null,"60-64 años",null,"65 y más años"]
[null,null,null,"Ambos Sexos","Hombres","Mujeres","Hombres","Mujeres","Hombres","Mujeres","Hombres","Mujeres","Hombres","Mujeres","Hombres","Mujeres","Hombres","Mujeres","Hombres","Mujeres","Hombres","Mujeres","Hombres","Mujeres","Hombres","Mujeres","Hombres","Mujeres","Hombres","Mujeres"]
["Altruistas","Nuevos","Contraindicación Transitoria",{"$f":"SUM(E22+F22)","v":0},{"$f":"SUM(G22+I22+K22+M22+O22+Q22+S22+U22+W22+Y22+AA22+AC22)","v":0},0]
[null,null,"Contraindicación Permanente",0,0,0]
[null,"Repetidos","Contraindicación Transitoria",0,0,0]
[null,null,"Contraindicación Permanente",0,0,0]
["Reposición",null,"Contraindicación Transitoria",0,0,0]
[null,null,"Contraindicación Permanente",0,0,0]
["TOTAL",null,null,{"$f":"SUM(D22:D27)","v":0},0,0,0,0,0,0,0,0,0,0,0,0,0,0,0,0,0,0,0,0,0,0,0,0,0,0]
["SECCIÓN A.3: REACCIONES ADVERSAS A LA DONACIÓN (CS - UMT - BS)"]
["CLASIFICACIÓN","TIPO","SUBTIPO",null,"TOTAL","Altruista","Reposición"]
["Complicaciones con síntomas locales","Sangre fuera de los vasos sanguíneos","Hematoma",null,{"$f":"SUM(F31:G31)","v":0}]
[null,null,"Punción arterial",null,0]
[null,null,"Sangramiento posterior",null,0]
[null,"Dolor","Irritación o injuria en un nervio",null,0]
[null,null,"Brazo doloroso",null,0]
[null,"Inflamación o infección localizada","Tromboflebitis",null,0]
[null,null,"Celulitis",null,0]
[null,"Otras injurias mayores en los vasos sanguíneos","Trombosis venosa profunda",null,0]
[null,null,"Fístula arteriovenosa",null,0]
[null,null,"Síndrome compartimental",null,0]
[null,null,"Pseudoaneurisma de la arteria braquial",null,0]
["Complicaciones con síntomas generalizados","Reacción vasovagal (RVV)","Sin pérdida de conciencia",null,0]
[null,null,"Con pérdida de conciencia","<60 segundos, sin complicaciones",0]
[null,null,null,"≥ 60 segundos y/ o convulsiones o incontinencia",0]
[null,null,"Con lesión",null,0]
[null,null,"Sin lesión",null,0]
[null,null,"En el sitio de recolección",null,0]
[null,null,"Fuera del sitio de recolección",null,0]
["Complicaciones relacionadas a la aféresis","Reacción al citrato",null,null,0]
[null,"Hemólisis",null,null,0]
[null,"Embolismo aéreo",null,null,0]
[null,"Infiltración",null,null,0]
["Reacción alérgica","Alergia local",null,null,0]
[null,"Reacción alérgica generalizada (anafilaxia)",null,null,0]
["Otras complicaciones serias a la donación de sangre","Síntomas agudos cardíacos",null,null,0]
[null,"Infarto al miorcardio",null,null,0]
[null,"Paro cardiaco",null,null,0]
[null,"Ataque isquémico transitorio",null,null,0]
[null,"Accidente cerebrovascular",null,null,0]
[null,"Muerte",null,null,0]
["Otras complicaciones","Otras no mencionadas",null,null,0]
["SECCIÓN B: INGRESO UNIDADES DE SANGRE A PRODUCCIÓN  (CS-BS)"]
["UNIDADES DE SANGRE","TOTAL"]
["Aptas"]
["No aptas"]
["TOTAL",{"$f":"SUM(B64+B65)","v":0}]
["SECCIÓN C: PRODUCCIÓN DE COMPONENTES SANGUÍNEOS (CS-BS)"]
["PRODUCCIÓN","DESCRIPCIÓN","TOTAL"]
["Glóbulos rojos","Desplamatizados"]
[null,"Leucoreducidos"]
[null,"Bolsa con filtro"]
[null,"Aféresis"]
["Plaquetas","Estándar"]
[null,"Leucorreducida pool"]
[null,"Leucodepletada pool"]
[null,"Aféresis"]
[null,"Bolsa con filtro"]
["Plasmas","Plasma fresco congelado terapéutico"]
[null,"Plasma uso no terapéutico"]
[null,"Aféresis"]
["Crioprecipitados"]
["SECCIÓN C.1: COMPONENTES SANGUÍNEOS ELIMINADOS (CS-BS )"]
["CAUSA",null,"Globulos Rojos*","Plasmas*","Plaquetas",null,null,"Crioprecipitados"]
[null,null,null,null,"Estándar","Pool*","Aféresis"]
["Calificación microbiológica reactiva"]
["Obsolescencia"]
["Falla por cadena de frío en almacenamiento"]
["Falla por cadena de frío en transporte  "]
["Otros"]
["TOTAL",null,{"$f":"SUM(C85:C89)","v":0},0,0,0,0,0]
["* Cualquier tipo"]
["SECCIÓN C.2 .: COMPONENTES SANGUÍNEOS ELIMINADOS (UMT)"]
["CAUSA",null,"Globulos Rojos*","Plasmas*","Plaquetas",null,null,"Crioprecipitados"]
[null,null,null,null,"Estándar","Pool*","Aféresis"]
["Obsolescencia"]
["Falla por cadena de frío"]
["Devoluciones por producto por no cumplir estándar"]
["Descongelamiento sin uso"]
["Otros"]
["TOTAL",null,{"$f":"SUM(C95:C99)","v":0},0,0,0,0,0]
["* Cualquier tipo"]
["SECCIÓN C.3 : COMPONENTES SANGUÍNEOS TRANSFORMACIONES (CS-BS-UMT)"]
["COMPONENTES",null,"TOTAL","Unidades pediátricas","Irradiación ","Reconstitu-ción para uso pediátrico (recambio) ","Reducción volumen ","Desplasmatización","Filtrados posterior a producción"]
["Glóbulos rojos*",null,{"$f":"SUM(D104:I104)","v":0}]
["Plaquetas","Estándar",{"$f":"SUM(D105:I105)","v":0}]
[null,"Pool*",{"$f":"SUM(D106:I106)","v":0}]
[null,"Aféresis",{"$f":"SUM(D107:I107)","v":0}]
["Plasmas*",null,{"$f":"SUM(D108:H108)","v":0}]
["Crioprecipitados",null,{"$f":"SUM(D109:H109)","v":0}]
["* Cualquier tipo"]
["SECCIÓN C.4: COMPONENTES SANGUÍNEOS DISTRIBUÍBLES (CS)"]
["COMPONENTES",null,"TOTAL","Unidades pediátricas","Irradiación ","Reconstitu-ción para uso pediátrico (recambio) ","Reducción volumen ","Desplasmatización","Filtrados"]
["Glóbulos rojos*",null,{"$f":"SUM(D113:I113)","v":0}]
["Plaquetas","Estándar",0]
[null,"Pool*",0]
[null,"Aféresis",0]
["Plasmas*",null,0]
["Crioprecipitados",null,0]
["* Cualquier tipo"]
["SECCIÓN C.5: INSATISFACCIÓN STOCK ÓPTIMO (7 DÍAS) CS"]
["GR","Número días bajo Stock Óptimo"]
["O +"]
["A +"]
["B +"]
["O ( - )"]
["A ( - )"]
["SECCIÓN C.6: INSATISFACCION STOCK CRÍTICO (3 DÍAS) UMT"]
["GR","Número días bajo Stock Crítico"]
["O +"]
["A +"]
["B +"]
["O ( - )"]
["A ( - )"]
["SECCIÓN D: COMPONENTES SANGUINEOS DISTRIBUIDOS (CS) O TRANSFERIDOS (BS Y UMT)"]
["DESCRIPCIÓN",null,"TOTAL","Público","Privado**","F.F.A.A."]
["Glóbulos rojos*",null,{"$f":"SUM(D136:F136)","v":0}]
["Plaquetas","Estándar",0]
[null,"Pool*",0]
[null,"Aféresis",0]
["Plasmas*",null,0]
["Crioprecipitados",null,0]
["* Cualquier tipo"]
["**Universitarios, Clínicas Privadas, Otros"]
["SECCIÓN D.1: TRANSFUSIONES (UMT - BS )"]
["TRANSFUSIONES\n (Nº DE UNIDADES)",null,"Menores de 15 años",null,null,"De 15 y más años"]
[null,null,"Estándar","Irradiados","Filtrados","Estándar","Irradiados","Filtrados"]
["Glóbulos rojos"]
["Plaquetas","Estándar"]
[null,"Pool"]
[null,"Aféresis"]
["Plasmas"]
["Crioprecipitados"]
["TOTAL",null,{"$f":"SUM(C147:C152)","v":0},{"$f":"SUM(D147:D150)","v":0},{"$f":"SUM(E147:E150)","v":0},{"$f":"SUM(F147:F152)","v":0},{"$f":"SUM(G147:G150)","v":0},{"$f":"SUM(H147:H150)","v":0}]
["SECCIÓN E: DEMANDA GLÓBULOS ROJOS PARA TRANSFUSIÓN (UMT-BS)"]
["TIPO",null,"TOTAL"]
["Unidades","Solicitadas"]
[null,"Despachadas"]
["SECCIÓN F: REACCIONES ADVERSAS POR ACTO* TRANSFUSIONAL  (UMT-BS)"]
["TIPO COMPLICACIÓN","ORIGEN","TIPO",null,null,"TOTAL","Glóbulos rojos","Plasma","Plaquetas"]
["Complicaciones agudas","Inmunológico","Reacción hemolítica aguda",null,null,{"$f":"SUM(G160:I160)","v":0}]
[null,null,"Reacción febril no hemolítica",null,null,0]
[null,null,"Reacción alérgica",null,null,0]
[null,null,"Anafilaxia/Hipersensibilidad ",null,null,0]
[null,null,"Lesión pulmonar aguda relacionada con la transfusión (TRALI)",null,null,0]
[null,null,"Aloinmunización con destrucción plaquetaria inmediata",null,null,0]
[null,null,"Reacción Hemolítica aguda por inmunocompatibilidad ABO",null,null,0]
[null,null,"Reacción Hemolítica aguda por otra causa ",null,null,0]
[null,"No inmunológico","Contaminación bacteriana",null,null,0]
[null,null,"Sobrecarga circulatoria",null,null,0]
[null,null,"Hemólisis no inmune",null,null,0]
["Complicaciones retardadas","Inmunológico","Reacción hemolítica retardada",null,null,0]
[null,null,"Aloinmunización frente a antígenos eritrocitarios",null,null,0]
[null,null,"Púrpura postransfusional",null,null,0]
[null,null,"Enfermedad injerto contra huésped postransfusional (EICHT)",null,null,0]
[null,"No inmunológico","Hemosiderosis transfusional",null,null,0]
[null,null,"Transmisión de priones",null,null,0]
[null,null,"Formación de inhibidores",null,null,0]
[null,null,"Septicemia ",null,null,0]
[null,null,"Transmisión de VIH post transfusional ",null,null,0]
[null,null,"Transmisión de VHC post transfusional ",null,null,0]
[null,null,"Transmisión de VHB post transfusional ",null,null,0]
[null,null,"Transmisión de otros virus post transfusional ",null,null,0]
[null,null,"Malaria/Paludismo ",null,null,0]
[null,null,"Otras Infecciones Parasitarias post transfusional ",null,null,0]
[null,null,"TOTAL",null,null,{"$f":"+SUM(F160:F184)","v":0},{"$f":"+SUM(G160:G184)","v":0},{"$f":"+SUM(H160:H184)","v":0},{"$f":"+SUM(I160:I184)","v":0}]
["* Cada vez que el paciente se transfunde."]
["SECCIÓN G: INMUNOHEMATOLOGIA"]
["SECCIÓN G.1: CLASIFICACIÓN SANGUÍNEA ABO-RhD (CS-BS-UMT)"]
["FENOTIPO","TOTAL","Donantes","Pacientes"]
["O RhD+",{"$f":"SUM(C190:D190)","v":0}]
["O RhD-",0]
["A RhD+",0]
["A RhD-",0]
["B RhD+",0]
["B RhD-",0]
["AB RhD+",0]
["AB RhD-",0]
["Discrepante ABO",0]
["Discrepante RhD",0]
["TOTAL",{"$f":"+SUM(B190:B199)","v":0},{"$f":"+SUM(C190:C199)","v":0},{"$f":"+SUM(D190:D199)","v":0}]
["SECCIÓN:G.2 DETECCIÓN DE ANTICUERPOS IRREGULARES (CS-BS-UMT)"]
["DETECCIÓN","Donantes","Pacientes","Embarazadas"]
["Positivo"]
["Negativo"]
["Indeterminado"]
["TOTAL",{"$f":"+SUM(B203:B205)","v":0},{"$f":"+SUM(C203:C205)","v":0},{"$f":"+SUM(D203:D205)","v":0}]
["SECCIÓN G.3: IDENTIFICACIÓN DE ANTICUERPOS IRREGULARES (CS-BS-UMT)"]
["SISTEMA","ANTICUERPO","Donantes","Pacientes","Embarazadas"]
["MNS","M"]
[null,"N"]
[null,"S"]
[null,"s"]
["P1PK","P1"]
["Rh","D"]
[null,"C"]
[null,"E"]
[null,"c"]
[null,"e"]
["LUTHERAN","Lua"]
[null,"Lub"]
["KELL","K"]
[null,"k"]
[null,"Kpa"]
["LEWIS","Lea"]
[null,"Leb"]
["DUFFY","Fya"]
[null,"Fyb"]
["KIDD","Jka"]
[null,"Jkb"]
["DIEGO","Dia"]
[null,"Dib"]
["No concluyente  "]
["Otros"]
["TOTAL",null,{"$f":"+SUM(C209:C233)","v":0},{"$f":"+SUM(D209:D233)","v":0},{"$f":"+SUM(E209:E233)","v":0}]
["SECCIÓN G.4: PRUEBAS CRUZADAS ERITROCITARIAS (BS - UMT)"]
["PRUEBAS CRUZADAS",null,"TOTAL","Menos de 15 años","15 años y más"]
["Compatible (Negativo)",null,{"$f":"SUM(D237:E237)","v":0}]
["Incompatible (Positivo)",null,{"$f":"SUM(D238:E238)","v":0}]
["TOTAL",null,{"$f":"+SUM(C237:C238)","v":0},{"$f":"+SUM(D237:D238)","v":0},{"$f":"+SUM(E237:E238)","v":0}]
["SECCIÓN G.5: FENOTIPO ERITROCITARIO (CS-BS-UMT)"]
["SISTEMA","FENOTIPO","Donantes","Pacientes"]
["Rh","DCce"]
[null,"DCe"]
[null,"DCcEe"]
[null,"Dce"]
[null,"DcEe"]
[null,"DcE"]
[null,"DCEe"]
[null,"DCcE"]
[null,"DCE"]
[null,"ce"]
[null,"Cce"]
[null,"cEe"]
[null,"CcEe"]
[null,"TOTAL Rh",{"$f":"SUM(C242:C254)","v":0},{"$f":"SUM(D242:D254)","v":0}]
["KELL","K-k+"]
[null,"K+k+"]
[null,"K+k-"]
[null,"TOTAL KELL",{"$f":"SUM(C256:C258)","v":0},{"$f":"SUM(D256:D258)","v":0}]
["DUFFY","Fy(a+b-)"]
[null,"Fy(a+b+)"]
[null,"Fy(a-b+)"]
[null,"Fy(a-b-)"]
[null,"TOTAL DUFFY",{"$f":"SUM(C260:C263)","v":0},{"$f":"SUM(D260:D263)","v":0}]
["KIDD","Jk(a+b-)"]
[null,"Jk(a+b+)"]
[null,"Jk(a-b+)"]
[null,"TOTAL KIDD",{"$f":"SUM(C265:C267)","v":0},{"$f":"SUM(D265:D267)","v":0}]
["TOTAL",null,{"$f":"+C255+C259+C264+C268","v":0},{"$f":"+D255+D259+D264+D268","v":0}]
["SECCIÓN G.6: PRUEBA DE ANTIGLOBULINA DIRECTA EN PACIENTES (BS-UMT)"]
["PRUEBA DE ANTIGLOBULINA DIRECTA","Poliespecífico","Monoespecífico IgG","Monoespecífico C3d"]
["Positivo"]
["Negativo"]
["Indeterminado"]
["TOTAL",{"$f":"+SUM(B272:B274)","v":0},{"$f":"+SUM(C272:C274)","v":0},{"$f":"+SUM(D272:D274)","v":0}]
["SECCIÓN H: AFÉRESIS"]
["SECCIÓN H.1: AFÉRESIS DE DONACIÓN (BS- UMT- CS)"]
["AFÉRESIS DE DONACIÓN",null,"TOTAL DONANTES"]
["Procedimientos para obtención de Glóbulos Rojos"]
["Procedimientos para obtención de Plaquetas"]
["Procedimientos para obtención de Plasma"]
["Procedimientos para obtención de Leucocitos"]
["Procedimientos para obtención de Progenitores Hematopoyéticos Periféricos autólogos"]
["Procedimientos para obtención de Progenitores Hematopoyéticos Periféricos alogénicos"]
["Procedimientos para obtención de Progenitores Hematopoyéticos desde Médula Ósea autólogo"]
["Procedimientos para obtención de Progenitores Hematopoyéticos desde Médula Ósea alogénico"]
["Procedimientos para obtención de Plasma Convalesciente o hiperinmune"]
["TOTAL",null,{"$f":"+SUM(C279:C287)","v":0}]
["SECCIÓN H.2: AFÉRESIS TERAPÉUTICA (UMT - BS)"]
["AFÉRESIS TERAPÉUTICA","TOTAL PACIENTES"]
["Procedimientos de Recambio de Glóbulos Rojos"]
["Procedimientos de Recambio Plasmático"]
["Procedimientos de Depleción de Glóbulos Rojos"]
["Procedimientos de Depleción de Plaquetas"]
["Procedimientos de Depleción de Leucocitos"]
["Procedimientos de Fotoféresis"]
["TOTAL",{"$f":"+SUM(B291:B296)","v":0}]
[]
[]
[]
[]
[]
[]
[]
[]
[]
[]
[]
[]
[]
[]
[]
[]
[]
[]
[]
[]
[]
[]
[{"$f":"SUM(D12:F15,D16:D17,D22:D28,E31:E61,B66,C69:C81,C90:H90,C100:H100,C104:C109,C113:C118,B122:B126,B129:B133,C136:C141,C153:H153,C156:C157,F160:F185,B190:B200,B206:D206,C234:E234,C237:C239,C269:D269,B275:D275,C288,B297)","v":0}]

{"sheet":"A26","index":18,"n_rows":149,"n_cols":79,"rows_kept":149,"cut":false,"hidden":false,"merged":[[99,19,100,20],[100,2,100,18],[84,0,84,1],[85,0,85,1],[99,0,101,0],[99,1,101,1],[99,2,99,18],[91,2,91,6],[86,0,86,1],[87,0,87,1],[88,0,88,1],[91,0,92,0],[91,1,92,1],[78,0,80,1],[78,2,78,6],[78,7,79,8],[79,2,80,2],[79,3,79,5],[79,6,80,6],[81,0,81,1],[82,0,82,1],[83,0,83,1],[65,0,65,1],[50,0,50,1],[51,0,51,1],[52,0,52,1],[53,0,53,1],[54,0,54,1],[55,0,57,0],[58,0,58,1],[59,0,59,1],[60,0,60,1],[63,0,63,1],[64,0,64,1],[66,0,76,0],[37,0,40,0],[42,0,44,0],[42,1,43,3],[42,4,42,37],[43,34,43,35],[43,24,43,25],[43,26,43,27],[43,28,43,29],[42,38,43,40],[43,4,43,5],[43,6,43,7],[43,8,43,9],[43,10,43,11],[43,12,43,13],[43,36,43,37],[43,14,43,15],[43,16,43,17],[43,18,43,19],[43,20,43,21],[43,22,43,23],[43,30,43,31],[43,32,43,33],[36,0,36,1],[25,0,25,1],[26,0,26,1],[27,0,27,1],[28,0,28,1],[29,0,29,1],[30,0,30,1],[31,0,31,1],[32,0,32,1],[33,0,33,1],[34,0,34,1],[35,0,35,13],[24,0,24,1],[13,0,13,1],[14,0,14,1],[15,0,15,1],[16,0,16,1],[17,0,17,1],[18,0,18,1],[19,0,19,1],[20,0,20,1],[21,0,21,1],[22,0,22,1],[23,0,23,1],[12,0,12,1],[5,0,5,15],[8,0,8,1],[9,0,9,1],[10,0,10,1],[11,0,11,1]]}
["SERVICIO DE SALUD"]
[{"$f":"CONCATENATE(\"COMUNA: \",NOMBRE!B2,\" - \",\"( \",NOMBRE!C2,NOMBRE!D2,NOMBRE!E2,NOMBRE!F2,NOMBRE!G2,\" )\")","v":"COMUNA:  - (  )"}]
[{"$f":"CONCATENATE(\"ESTABLECIMIENTO/ESTRATEGIA: \",NOMBRE!B3,\" - \",\"( \",NOMBRE!C3,NOMBRE!D3,NOMBRE!E3,NOMBRE!F3,NOMBRE!G3,NOMBRE!H3,\" )\")","v":"ESTABLECIMIENTO/ESTRATEGIA:  - (  )"}]
[{"$f":"CONCATENATE(\"MES: \",NOMBRE!B6,\" - \",\"( \",NOMBRE!C6,NOMBRE!D6,\" )\")","v":"MES:  - (  )"}]
[{"$f":"CONCATENATE(\"AÑO: \",NOMBRE!B7)","v":"AÑO: 2024"}]
["REM-26.  ACTIVIDADES EN DOMICILIO Y OTROS ESPACIOS"]
[]
["SECCIÓN A: VISITAS DOMICILIARIAS INTEGRALES A FAMILIAS (ESTABLECIMIENTOS APS)"]
["CONCEPTOS",null,"TOTAL","Un Profesional","Dos o Más Profesionales","Un Profesional y Un Técnico En Enfermería ","Técnico En Enfermería ","Facilitador/a Intercultural Pueblos Originarios","Agente Comunitario","Primera Visita","Segunda Visita","Tercera o Más Visitas De Seguimiento","Programa de Acompañamiento Psicosocial en APS","Pueblos Originarios","Migrantes","Espacios Amigables/ Adolescente"]
["Familia con niño prematuro",null,{"$f":"SUM(D10:G10)","v":0},null,null,null,null,null,null,null,null,null,null,null,null,null,{"$f":"BQ10&BS10&BT10&BU10&BV10","v":""},null,null,null,null,null,null,null,null,null,null,null,null,null,null,null,null,null,null,null,null,null,null,null,null,null,null,null,null,null,null,null,null,null,null,null,null,null,null,null,null,null,null,null,null,null,null,null,null,null,null,null,{"$f":"IF((J10+K10+L10)<>C10,\" * La suma del N° de Primera visita, Segunda visita y Tercera o más visitas de seguimiento debe coincidir con el Total.\",\"\")","v":""},null,{"$f":"IF(AND(C10>0,N10=\"\"),\" * No olvide digitar la variable Pueblos Originarios. Digite Cero si no tiene..\",IF(N10>C10,\" * La variable Pueblos Originarios no puede ser mayor al Total.\",\"\"))","v":""},{"$f":"IF(AND(C10>0,O10=\"\"),\" * No olvide digitar la variable Migrantes. Digite Cero si no tiene.\",IF(O10>C10,\" * La variable Migrantes no puede ser mayor al Total.\",\"\"))","v":""},{"$f":"IF(AND(C10>0,P10=\"\"),\" * No olvide digitar la variable Espacio Amigable/Adolescente. Digite Cero si no tiene.\",IF(P10>C10,\" * La variable Espacio Amigable/Adolescente no puede ser mayor al Total.\",\"\"))","v":""},null,{"$f":"IF((J10+K10+L10)<>C10,1,0)","v":0},null,{"$f":"IF(AND(C10>0,N10=\"\"),1,IF(N10>C10,1,0))","v":0},{"$f":"IF(AND(C10>0,O10=\"\"),1,IF(O10>C10,1,0))","v":0},{"$f":"IF(AND(C10>0,P10=\"\"),1,IF(P10>C10,1,0))","v":0}]
["Familia con niño recién nacido",null,{"$f":"SUM(D11:G11)","v":0},null,null,null,null,null,null,null,null,null,null,null,null,null,"",null,null,null,null,null,null,null,null,null,null,null,null,null,null,null,null,null,null,null,null,null,null,null,null,null,null,null,null,null,null,null,null,null,null,null,null,null,null,null,null,null,null,null,null,null,null,null,null,null,null,null,{"$f":"IF((J11+K11+L11)<>C11,\" * La suma del N° de Primera visita, Segunda visita y Tercera o más visitas de seguimiento debe coincidir con el Total.\",\"\")","v":""},null,"","","",null,0,null,0,0,0]
["Familia con niño con déficit del DSM",null,{"$f":"SUM(D12:G12)","v":0},null,null,null,null,null,null,null,null,null,null,null,null,null,"",null,null,null,null,null,null,null,null,null,null,null,null,null,null,null,null,null,null,null,null,null,null,null,null,null,null,null,null,null,null,null,null,null,null,null,null,null,null,null,null,null,null,null,null,null,null,null,null,null,null,null,"",null,"","","",null,0,null,0,0,0]
["Familia con niño en riesgo vincular afectivo",null,{"$f":"SUM(D13:G13)","v":0},null,null,null,null,null,null,null,null,null,null,null,null,null,"",null,null,null,null,null,null,null,null,null,null,null,null,null,null,null,null,null,null,null,null,null,null,null,null,null,null,null,null,null,null,null,null,null,null,null,null,null,null,null,null,null,null,null,null,null,null,null,null,null,null,null,"",null,"","","",null,0,null,0,0,0]
["Familia con niño de 0 a 12 meses con score de riesgo moderado de morir por neumonía",null,0,null,null,null,null,null,null,null,null,null,null,null,null,null,"",null,null,null,null,null,null,null,null,null,null,null,null,null,null,null,null,null,null,null,null,null,null,null,null,null,null,null,null,null,null,null,null,null,null,null,null,null,null,null,null,null,null,null,null,null,null,null,null,null,null,null,"",null,"","","",null,0,null,0,0,0]
["Familia con niño de 0 a 12 meses con score de riesgo grave de morir por neumonía",null,0,null,null,null,null,null,null,null,null,null,null,null,null,null,"",null,null,null,null,null,null,null,null,null,null,null,null,null,null,null,null,null,null,null,null,null,null,null,null,null,null,null,null,null,null,null,null,null,null,null,null,null,null,null,null,null,null,null,null,null,null,null,null,null,null,null,"",null,"","","",null,0,null,0,0,0]
["Familia con niño con problema respiratorio crónico o no controlado",null,0,null,null,null,null,null,null,null,null,null,null,null,null,null,"",null,null,null,null,null,null,null,null,null,null,null,null,null,null,null,null,null,null,null,null,null,null,null,null,null,null,null,null,null,null,null,null,null,null,null,null,null,null,null,null,null,null,null,null,null,null,null,null,null,null,null,"",null,"","","",null,0,null,0,0,0]
["Familia con niño malnutrido",null,0,null,null,null,null,null,null,null,null,null,null,null,null,null,"",null,null,null,null,null,null,null,null,null,null,null,null,null,null,null,null,null,null,null,null,null,null,null,null,null,null,null,null,null,null,null,null,null,null,null,null,null,null,null,null,null,null,null,null,null,null,null,null,null,null,null,"",null,"","","",null,0,null,0,0,0]
["Familia con niño con riesgo psicosocial (excluye vincular afectivo)",null,0,null,null,null,null,null,null,null,null,null,null,null,null,null,{"$f":"BQ18&BR18&BS18&BT18&BU18&BV18","v":""},null,null,null,null,null,null,null,null,null,null,null,null,null,null,null,null,null,null,null,null,null,null,null,null,null,null,null,null,null,null,null,null,null,null,null,null,null,null,null,null,null,null,null,null,null,null,null,null,null,null,null,"",{"$f":"IF(AND(C18>0,M18=\"\"),\" * No olvide digitar la variable Programa de Acompañamiento Psicosocial en APS. Si no tiene digite Cero.\",IF(M18>C18,\" * La variable Programa de Acompañamiento Psicosocial en APS no puede ser mayor al Total.\",\"\"))","v":""},"","","",null,0,{"$f":"IF(AND(C18>0,M18=\"\"),1,IF(M18>C18,1,0))","v":0},0,0,0]
["Familia con adolescente en riesgo o problema psicosocial",null,0,null,null,null,null,null,null,null,null,null,null,null,null,null,{"$f":"BQ19&BR19&BS19&BT19&BU19&BV19","v":""},null,null,null,null,null,null,null,null,null,null,null,null,null,null,null,null,null,null,null,null,null,null,null,null,null,null,null,null,null,null,null,null,null,null,null,null,null,null,null,null,null,null,null,null,null,null,null,null,null,null,null,"",{"$f":"IF(AND(C19>0,M19=\"\"),\" * No olvide digitar la variable Programa de Acompañamiento Psicosocial en APS. Si no tiene digite Cero.\",IF(M19>C19,\" * La variable Programa de Acompañamiento Psicosocial en APS no puede ser mayor al Total.\",\"\"))","v":""},{"$f":"IF(AND(C19>0,N19=\"\"),\" * No olvide digitar la variable Pueblos Originarios. Digite Cero si no tiene..\",IF(N19>C19,\" * La variable Pueblos Originarios no puede ser mayor al Total.\",\"\"))","v":""},{"$f":"IF(AND(C19>0,O19=\"\"),\" * No olvide digitar la variable Migrantes. Digite Cero si no tiene.\",IF(O19>C19,\" * La variable Migrantes no puede ser mayor al Total.\",\"\"))","v":""},{"$f":"IF(AND(C19>0,P19=\"\"),\" * No olvide digitar la variable Espacio Amigable/Adolescente. Digite Cero si no tiene.\",IF(P19>C19,\" * La variable Espacio Amigable/Adolescente no puede ser mayor al Total.\",\"\"))","v":""},null,{"$f":"IF((J19+K19+L19)<>C19,1,0)","v":0},{"$f":"IF(AND(C19>0,M19=\"\"),1,IF(M19>C19,1,0))","v":0},{"$f":"IF(AND(C19>0,N19=\"\"),1,IF(N19>C19,1,0))","v":0},{"$f":"IF(AND(C19>0,O19=\"\"),1,IF(O19>C19,1,0))","v":0},{"$f":"IF(AND(C19>0,P19=\"\"),1,IF(P19>C19,1,0))","v":0}]
["Familia con integrante con patología crónica descompensada",null,0,null,null,null,null,null,null,null,null,null,null,null,null,null,"",null,null,null,null,null,null,null,null,null,null,null,null,null,null,null,null,null,null,null,null,null,null,null,null,null,null,null,null,null,null,null,null,null,null,null,null,null,null,null,null,null,null,null,null,null,null,null,null,null,null,null,"","","","","",null,0,0,0,0,0]
["Familia con adulto mayor dependediente (excluye dependiente severo)",null,0,null,null,null,null,null,null,null,null,null,null,null,null,null,"",null,null,null,null,null,null,null,null,null,null,null,null,null,null,null,null,null,null,null,null,null,null,null,null,null,null,null,null,null,null,null,null,null,null,null,null,null,null,null,null,null,null,null,null,null,null,null,null,null,null,null,"",null,{"$f":"IF(AND(C21>0,N21=\"\"),\" * No olvide digitar la variable Pueblos Originarios. Digite Cero si no tiene..\",IF(N21>C21,\" * La variable Pueblos Originarios no puede ser mayor al Total.\",\"\"))","v":""},{"$f":"IF(AND(C21>0,O21=\"\"),\" * No olvide digitar la variable Migrantes. Digite Cero si no tiene.\",IF(O21>C21,\" * La variable Migrantes no puede ser mayor al Total.\",\"\"))","v":""},{"$f":"IF(AND(C21>0,P21=\"\"),\" * No olvide digitar la variable Espacio Amigable/Adolescente. Digite Cero si no tiene.\",IF(P21>C21,\" * La variable Espacio Amigable/Adolescente no puede ser mayor al Total.\",\"\"))","v":""},null,0,null,0,0,0]
["Familia con adulto mayor en riesgo psicosocial",null,0,null,null,null,null,null,null,null,null,null,null,null,null,null,"",null,null,null,null,null,null,null,null,null,null,null,null,null,null,null,null,null,null,null,null,null,null,null,null,null,null,null,null,null,null,null,null,null,null,null,null,null,null,null,null,null,null,null,null,null,null,null,null,null,null,null,"",null,"","","",null,0,null,0,0,0]
["Familia con gestante adolescente 10 a 14 años",null,{"$f":"SUM(D23:G23)","v":0},null,null,null,null,null,null,null,null,null,null,null,null,null,"",null,null,null,null,null,null,null,null,null,null,null,null,null,null,null,null,null,null,null,null,null,null,null,null,null,null,null,null,null,null,null,null,null,null,null,null,null,null,null,null,null,null,null,null,null,null,null,null,null,null,null,"",{"$f":"IF(AND(C23>0,M23=\"\"),\" * No olvide digitar la variable Programa de Acompañamiento Psicosocial en APS. Si no tiene digite Cero.\",IF(M23>C23,\" * La variable Programa de Acompañamiento Psicosocial en APS no puede ser mayor al Total.\",\"\"))","v":""},"","","",null,0,{"$f":"IF(AND(C23>0,M23=\"\"),1,IF(M23>C23,1,0))","v":0},0,0,0]
["Familia con gestante >20 años en riesgo psicosocial",null,0,null,null,null,null,null,null,null,null,null,null,null,null,null,"",null,null,null,null,null,null,null,null,null,null,null,null,null,null,null,null,null,null,null,null,null,null,null,null,null,null,null,null,null,null,null,null,null,null,null,null,null,null,null,null,null,null,null,null,null,null,null,null,null,null,null,"","","","","",null,0,0,0,0,0]
["Familia con gestante adolescente en riesgo psicosocial 15 a 19 años",null,{"$f":"SUM(D25:G25)","v":0},null,null,null,null,null,null,null,null,null,null,null,null,null,"",null,null,null,null,null,null,null,null,null,null,null,null,null,null,null,null,null,null,null,null,null,null,null,null,null,null,null,null,null,null,null,null,null,null,null,null,null,null,null,null,null,null,null,null,null,null,null,null,null,null,null,"","","","","",null,0,0,0,0,0]
["Familia con adolescente con problema respiratorio crónico o no controlado",null,0,null,null,null,null,null,null,null,null,null,null,null,null,null,"",null,null,null,null,null,null,null,null,null,null,null,null,null,null,null,null,null,null,null,null,null,null,null,null,null,null,null,null,null,null,null,null,null,null,null,null,null,null,null,null,null,null,null,null,null,null,null,null,null,null,null,"",null,"","","",null,0,null,0,0,0]
["Familia con adulto con problema respiratorio crónico o no controlado",null,0,null,null,null,null,null,null,null,null,null,null,null,null,null,"",null,null,null,null,null,null,null,null,null,null,null,null,null,null,null,null,null,null,null,null,null,null,null,null,null,null,null,null,null,null,null,null,null,null,null,null,null,null,null,null,null,null,null,null,null,null,null,null,null,null,null,"",null,"","","",null,0,null,0,0,0]
["Familia con gestante en riesgo biomédico",null,0,null,null,null,null,null,null,null,null,null,null,null,null,null,"",null,null,null,null,null,null,null,null,null,null,null,null,null,null,null,null,null,null,null,null,null,null,null,null,null,null,null,null,null,null,null,null,null,null,null,null,null,null,null,null,null,null,null,null,null,null,null,null,null,null,null,"",null,"","","",null,0,null,0,0,0]
["Familia con otro riesgo psicosocial",null,0,null,null,null,null,null,null,null,null,null,null,null,null,null,"",null,null,null,null,null,null,null,null,null,null,null,null,null,null,null,null,null,null,null,null,null,null,null,null,null,null,null,null,null,null,null,null,null,null,null,null,null,null,null,null,null,null,null,null,null,null,null,null,null,null,null,"",{"$f":"IF(AND(C29>0,M29=\"\"),\" * No olvide digitar la variable Programa de Acompañamiento Psicosocial en APS. Si no tiene digite Cero.\",IF(M29>C29,\" * La variable Programa de Acompañamiento Psicosocial en APS no puede ser mayor al Total.\",\"\"))","v":""},"","","",null,0,{"$f":"IF(AND(C29>0,M29=\"\"),1,IF(M29>C29,1,0))","v":0},0,0,0]
["Familia con integrante con problema de salud mental",null,0,null,null,null,null,null,null,null,null,null,null,null,null,null,"",null,null,null,null,null,null,null,null,null,null,null,null,null,null,null,null,null,null,null,null,null,null,null,null,null,null,null,null,null,null,null,null,null,null,null,null,null,null,null,null,null,null,null,null,null,null,null,null,null,null,null,"","","","","",null,0,0,0,0,0]
["Familia con niños/as de 5 a 9 años con problemas y/o trastornos de salud mental",null,{"$f":"SUM(D31:G31)","v":0},null,null,null,null,null,null,null,null,null,null,null,null,null,"",null,null,null,null,null,null,null,null,null,null,null,null,null,null,null,null,null,null,null,null,null,null,null,null,null,null,null,null,null,null,null,null,null,null,null,null,null,null,null,null,null,null,null,null,null,null,null,null,null,null,null,"","","","","",null,0,0,0,0,0]
["Familia con integrante alta hospitalización precoz",null,{"$f":"SUM(D32:G32)","v":0},null,null,null,null,null,null,null,null,null,null,null,null,null,"",null,null,null,null,null,null,null,null,null,null,null,null,null,null,null,null,null,null,null,null,null,null,null,null,null,null,null,null,null,null,null,null,null,null,null,null,null,null,null,null,null,null,null,null,null,null,null,null,null,null,null,"","","","","",null,0,0,0,0,0]
["Familia con integrante con multimorbilidad cronica (excluye dependencia severa)",null,{"$f":"SUM(D33:G33)","v":0},null,null,null,null,null,null,null,null,null,null,null,null,null,{"$f":"BQ33&BR33&BS33&BT33&BU33","v":""},null,null,null,null,null,null,null,null,null,null,null,null,null,null,null,null,null,null,null,null,null,null,null,null,null,null,null,null,null,null,null,null,null,null,null,null,null,null,null,null,null,null,null,null,null,null,null,null,null,null,null,"","","","","",null,0,0,0,0,0]
["Familia con niños con necesidades especiales (NANEAS)",null,{"$f":"SUM(D34:G34)","v":0},null,null,null,null,null,null,null,null,null,null,null,null,null,"",null,null,null,null,null,null,null,null,null,null,null,null,null,null,null,null,null,null,null,null,null,null,null,null,null,null,null,null,null,null,null,null,null,null,null,null,null,null,null,null,null,null,null,null,null,null,null,null,null,null,null,"","","","","",null,0,0,0,0,0]
["Familia con NNA trans femenino/masculino",null,{"$f":"SUM(D35:G35)","v":0},null,null,null,null,null,null,null,null,null,null,null,null,null,"",null,null,null,null,null,null,null,null,null,null,null,null,null,null,null,null,null,null,null,null,null,null,null,null,null,null,null,null,null,null,null,null,null,null,null,null,null,null,null,null,null,null,null,null,null,null,null,null,null,null,null,"","","","","",null,0,0,0,0,0]
["SECCIÓN A.1: VISITAS DOMICILIARIAS INTEGRALES A PERSONAS CON DEPENDENCIA SEVERA Y SUS CUIDADORES"]
["CONCEPTOS",null,"Primera visita","Segunda visita","Tercera o más visitas de seguimiento ","Elaboración plan de cuidados a personas dependientes ","Evaluación plan de cuidados a personas dependientes ","Elaboración plan de cuidados a cuidador","Evaluación plan de cuidados a cuidador ","Evaluación Zarit cuidador ","Migrantes","Pueblos originarios","Población multimorbilidad crónica ","Población ELEAM o institucionalizada "]
["A personas con dependencia severa en programa","Familia con persona con demencia",null,null,null,null,null,null,null,null,null,null,null,null,{"$f":"BQ38&BR38","v":""},null,null,null,null,null,null,null,null,null,null,null,null,null,null,null,null,null,null,null,null,null,null,null,null,null,null,null,null,null,null,null,null,null,null,null,null,null,null,null,null,null,null,null,null,null,null,null,null,null,null,null,null,null,{"$f":"IF(AND(SUM(C38:J38)>0,K38=\"\"),\" * No olvide digitar la variable Migrantes. Digite Cero si no tiene.\",IF(K38>SUM(C38:J38),\" * La variable Migrantes no puede ser mayor al Total.\",\"\"))","v":""},{"$f":"IF(AND(SUM(C38:J38)>0,L38=\"\"),\" * No olvide digitar la variable Pueblos Originarios. Digite Cero si no tiene.\",IF(L38>SUM(C38:J38),\" * La variable Pueblos Originarios no puede ser mayor al Total.\",\"\"))","v":""},null,null,null,null,{"$f":"IF(AND(SUM(C38:J38)>0,K38=\"\"),1,IF(K38>SUM(C38:J38),1,0))","v":0},{"$f":"IF(AND(SUM(C38:J38)>0,L38=\"\"),1,IF(L38>SUM(C38:J38),1,0))","v":0}]
[null,"Familia con integrante dependiente severo en programa con enfermedad terminal",null,null,null,null,null,null,null,null,null,null,null,null,{"$f":"BQ39&BR39","v":""},null,null,null,null,null,null,null,null,null,null,null,null,null,null,null,null,null,null,null,null,null,null,null,null,null,null,null,null,null,null,null,null,null,null,null,null,null,null,null,null,null,null,null,null,null,null,null,null,null,null,null,null,null,{"$f":"IF(AND(SUM(C39:J39)>0,K39=\"\"),\" * No olvide digitar la variable Migrantes. Digite Cero si no tiene.\",IF(K39>SUM(C39:J39),\" * La variable Migrantes no puede ser mayor al Total.\",\"\"))","v":""},{"$f":"IF(AND(SUM(C39:J39)>0,L39=\"\"),\" * No olvide digitar la variable Pueblos Originarios. Digite Cero si no tiene.\",IF(L39>SUM(C39:J39),\" * La variable Pueblos Originarios no puede ser mayor al Total.\",\"\"))","v":""},null,null,null,null,{"$f":"IF(AND(SUM(C39:J39)>0,K39=\"\"),1,IF(K39>SUM(C39:J39),1,0))","v":0},{"$f":"IF(AND(SUM(C39:J39)>0,L39=\"\"),1,IF(L39>SUM(C39:J39),1,0))","v":0}]
[null,"Familia con integrante con dependencia severa (Excluye adulto mayor)",null,null,null,null,null,null,null,null,null,null,null,null,"",null,null,null,null,null,null,null,null,null,null,null,null,null,null,null,null,null,null,null,null,null,null,null,null,null,null,null,null,null,null,null,null,null,null,null,null,null,null,null,null,null,null,null,null,null,null,null,null,null,null,null,null,null,"","",null,null,null,null,0,0]
[null,"Familia con adulto mayor dependiente severo",null,null,null,null,null,null,null,null,null,null,null,null,"",null,null,null,null,null,null,null,null,null,null,null,null,null,null,null,null,null,null,null,null,null,null,null,null,null,null,null,null,null,null,null,null,null,null,null,null,null,null,null,null,null,null,null,null,null,null,null,null,null,null,null,null,null,"","",null,null,null,null,0,0]
["SECCIÓN A.2: INGRESOS, EGRESOS Y TRASLADOS AL PROGRAMA DE ATENCION DOMICILIARIA PERSONAS CON DEPENDENCIA SEVERA"]
["CONCEPTOS","TOTAL",null,null,"RANGO ETARIO Y SEXO",null,null,null,null,null,null,null,null,null,null,null,null,null,null,null,null,null,null,null,null,null,null,null,null,null,null,null,null,null,null,null,null,null,"CAUSAL"]
[null,null,null,null,"0 - 4 años",null,"5 - 9 \naños",null,"10 - 14 años",null,"15 - 19  años",null,"20 - 24 años",null,"25 - 29 años",null,"30 - 34 años",null,"35 - 39 años",null,"40 - 44 años",null,"45 - 49 años",null,"50 - 54 años",null,"55 - 59 años",null,"60 - 64 años",null,"65 - 69 años",null,"70 - 74 años",null,"75 - 79 años",null,"80 y mas años"]
[null,"Ambos Sexos","Hombres","Mujeres","Hombres","Mujeres","Hombres","Mujeres","Hombres","Mujeres","Hombres","Mujeres","Hombres","Mujeres","Hombres","Mujeres","Hombres","Mujeres","Hombres","Mujeres","Hombres","Mujeres","Hombres","Mujeres","Hombres","Mujeres","Hombres","Mujeres","Hombres","Mujeres","Hombres","Mujeres","Hombres","Mujeres","Hombres","Mujeres","Hombres","Mujeres","Alta","Fallecimiento","Otro"]
["Ingreso",{"$f":"SUM(C46:D46)","v":0},{"$f":"+E46+G46+I46+K46+M46+O46+Q46+S46+U46+W46+Y46+AA46+AC46+AE46+AG46+AI46+AK46","v":0},0]
["Reingreso",{"$f":"SUM(C47:D47)","v":0},0,0]
["Egreso",{"$f":"SUM(C48:D48)","v":0},0,0,null,null,null,null,null,null,null,null,null,null,null,null,null,null,null,null,null,null,null,null,null,null,null,null,null,null,null,null,null,null,null,null,null,null,null,null,null,{"$f":"BQ48&BR48","v":""},null,null,null,null,null,null,null,null,null,null,null,null,null,null,null,null,null,null,null,null,null,null,null,null,null,null,{"$f":"IF((AM48+AN48+AO48)<>B48,\" * Egresos por causal debe ser igual al total de Egresos\",\"\")","v":""},null,null,null,null,null,{"$f":"IF((AM48+AN48+AO48)<>B48,1,0)","v":0}]
["Traslado",{"$f":"SUM(C49:D49)","v":0},0,0]
["SECCIÓN B: OTRAS VISITAS INTEGRALES"]
["CONCEPTOS",null,"TOTAL","Un Profesional","Dos o Más \nProfesionales","Un Profesional y \nun Técnico En Enfermería ","Técnico En Enfermería ","Facilitador/a Intercultural Pueblos Originarios","Agente Comunitario","Pueblos Originarios","Migrantes","Niños, Niñas, Adolescentes Y Jóvenes Población SENAME","Niños, Niñas, Adolescentes Y Jóvenes Mejor Niñez"]
["Visita epidemiológica",null,{"$f":"SUM(D52:F52)","v":0},null,null,null,null,null,null,null,null,null,null,{"$f":"BQ52&BR52&BS52&BT52&BU52","v":""},null,null,null,null,null,null,null,null,null,null,null,null,null,null,null,null,null,null,null,null,null,null,null,null,null,null,null,null,null,null,null,null,null,null,null,null,null,null,null,null,null,null,null,null,null,null,null,null,null,null,null,null,null,null,{"$f":"IF(AND(C52>0,J52=\"\"),\" * No olvide digitar la variable Pueblos Originarios. Digite Cero si no tiene.\",IF(J52>C52,\" * La variable Pueblos Originarios No puede ser mayor al Total.\",\"\"))","v":""},{"$f":"IF(AND(C52>0,K52=\"\"),\" * No olvide digitar la variable Migrantes. Digite Cero si no tiene.\",IF(K52>C52,\" * La variable Migrantes No puede ser mayor al Total.\",\"\"))","v":""},{"$f":"IF(AND(C52>0,L52=\"\"),\" * No olvide digitar la variable Niños, niñas, adolescentes y jóvenes SENAME. Digite Cero si no tiene.\",IF(L52>C52,\" * La variable Niños, niñas, adolescentes y jóvenes SENAME No puede ser mayor al Total.\",\"\"))","v":""},{"$f":"IF(AND(C52>0,M52=\"\"),\" * No olvide digitar la variable Niños, niñas, adolescentes y jóvenes Mejor Niñez. Digite Cero si no tiene.\",IF(M52>C52,\" * La variable Niños, niñas, adolescentes y jóvenes Mejor Niñez No puede ser mayor al Total.\",\"\"))","v":""},null,null,{"$f":"IF(AND(C52>0,J52=\"\"),1,IF(J52>C52,1,0))","v":0},{"$f":"IF(AND(C52>0,K52=\"\"),1,IF(K52>C52,1,0))","v":0},{"$f":"IF(AND(C52>0,L52=\"\"),1,IF(L52>C52,1,0))","v":0},{"$f":"IF(AND(C52>0,M52=\"\"),1,IF(M52>C52,1,0))","v":0}]
["A lugar de trabajo (*)",null,{"$f":"SUM(D53:F53)","v":0},null,null,null,null,null,null,null,null,null,null,{"$f":"BQ53&BR53&BS53&BT53&BU53","v":""},null,null,null,null,null,null,null,null,null,null,null,null,null,null,null,null,null,null,null,null,null,null,null,null,null,null,null,null,null,null,null,null,null,null,null,null,null,null,null,null,null,null,null,null,null,null,null,null,null,null,null,null,null,null,{"$f":"IF(AND(C53>0,J53=\"\"),\" * No olvide digitar la variable Pueblos Originarios. Digite Cero si no tiene.\",IF(J53>C53,\" * La variable Pueblos Originarios No puede ser mayor al Total.\",\"\"))","v":""},{"$f":"IF(AND(C53>0,K53=\"\"),\" * No olvide digitar la variable Migrantes. Digite Cero si no tiene.\",IF(K53>C53,\" * La variable Migrantes No puede ser mayor al Total.\",\"\"))","v":""},{"$f":"IF(AND(C53>0,L53=\"\"),\" * No olvide digitar la variable Niños, niñas, adolescentes y jóvenes SENAME. Digite Cero si no tiene.\",IF(L53>C53,\" * La variable Niños, niñas, adolescentes y jóvenes SENAME No puede ser mayor al Total.\",\"\"))","v":""},{"$f":"IF(AND(C53>0,M53=\"\"),\" * No olvide digitar la variable Niños, niñas, adolescentes y jóvenes Mejor Niñez. Digite Cero si no tiene.\",IF(M53>C53,\" * La variable Niños, niñas, adolescentes y jóvenes Mejor Niñez No puede ser mayor al Total.\",\"\"))","v":""},null,null,{"$f":"IF(AND(C53>0,J53=\"\"),1,IF(J53>C53,1,0))","v":0},{"$f":"IF(AND(C53>0,K53=\"\"),1,IF(K53>C53,1,0))","v":0},{"$f":"IF(AND(C53>0,L53=\"\"),1,IF(L53>C53,1,0))","v":0},{"$f":"IF(AND(C53>0,M53=\"\"),1,IF(M53>C53,1,0))","v":0}]
["A colegio, salas cuna, jardín infantil (*)",null,0,null,null,null,null,null,null,null,null,null,null,"",null,null,null,null,null,null,null,null,null,null,null,null,null,null,null,null,null,null,null,null,null,null,null,null,null,null,null,null,null,null,null,null,null,null,null,null,null,null,null,null,null,null,null,null,null,null,null,null,null,null,null,null,null,null,"","","","",null,null,0,0,0,0]
["A grupo comunitario",null,0,null,null,null,null,null,null,null,null,null,null,"",null,null,null,null,null,null,null,null,null,null,null,null,null,null,null,null,null,null,null,null,null,null,null,null,null,null,null,null,null,null,null,null,null,null,null,null,null,null,null,null,null,null,null,null,null,null,null,null,null,null,null,null,null,null,"","","","",null,null,0,0,0,0]
["Visita integral de salud mental","A domicilio (Nivel secundario)",0,null,null,null,null,null,null,null,null,null,null,"",null,null,null,null,null,null,null,null,null,null,null,null,null,null,null,null,null,null,null,null,null,null,null,null,null,null,null,null,null,null,null,null,null,null,null,null,null,null,null,null,null,null,null,null,null,null,null,null,null,null,null,null,null,null,"","","","",null,null,0,0,0,0]
[null,"A lugar de trabajo",0,null,null,null,null,null,null,null,null,null,null,"",null,null,null,null,null,null,null,null,null,null,null,null,null,null,null,null,null,null,null,null,null,null,null,null,null,null,null,null,null,null,null,null,null,null,null,null,null,null,null,null,null,null,null,null,null,null,null,null,null,null,null,null,null,null,"","","","",null,null,0,0,0,0]
[null,"A establecimientos educacionales",0,null,null,null,null,null,null,null,null,null,null,"",null,null,null,null,null,null,null,null,null,null,null,null,null,null,null,null,null,null,null,null,null,null,null,null,null,null,null,null,null,null,null,null,null,null,null,null,null,null,null,null,null,null,null,null,null,null,null,null,null,null,null,null,null,null,"","","","",null,null,0,0,0,0]
["En sector rural",null,{"$f":"SUM(D59:G59)","v":0},null,null,null,null,null,null,null,null,null,null,"",null,null,null,null,null,null,null,null,null,null,null,null,null,null,null,null,null,null,null,null,null,null,null,null,null,null,null,null,null,null,null,null,null,null,null,null,null,null,null,null,null,null,null,null,null,null,null,null,null,null,null,null,null,null,"","","","",null,null,0,0,0,0]
["Otras",null,{"$f":"SUM(D60:G60)","v":0},null,null,null,null,null,null,null,null,null,null,"",null,null,null,null,null,null,null,null,null,null,null,null,null,null,null,null,null,null,null,null,null,null,null,null,null,null,null,null,null,null,null,null,null,null,null,null,null,null,null,null,null,null,null,null,null,null,null,null,null,null,null,null,null,null,"","","","",null,null,0,0,0,0]
["TOTAL",null,{"$f":"SUM(C52:C60)","v":0},{"$f":"SUM(D52:D60)","v":0},0,0,{"$f":"SUM(G59:G60)","v":0},0,0,0,{"$f":"SUM(K52:K60)","v":0},{"$f":"SUM(L52:L60)","v":0},{"$f":"SUM(M52:M60)","v":0}]
["(*) Excluye visita integral de salud mental."]
["SECCIÓN C:  VISITAS CON FINES DE TRATAMIENTOS Y/O PROCEDIMIENTOS EN DOMICILIO A PERSONAS CON DEPENDENCIA"]
["CONCEPTOS",null,"TOTAL","Profesional","Técnico en Enfermería","Otro","Pueblos Originarios","Migrantes","Multimorbilidad Crónica","Población ELEAM o Institucionalizada"]
["A personas con dependencia leve",null,{"$f":"SUM(D65:F65)","v":0},null,null,null,null,null,null,null,{"$f":"BQ65&BR65","v":""},null,null,null,null,null,null,null,null,null,null,null,null,null,null,null,null,null,null,null,null,null,null,null,null,null,null,null,null,null,null,null,null,null,null,null,null,null,null,null,null,null,null,null,null,null,null,null,null,null,null,null,null,null,null,null,null,null,{"$f":"IF(AND(C65>0,G65=\"\"),\" * No olvide digitar la variable Pueblos originarios. Digite Cero si no tiene.\",IF(G65>C65,\" * La variable Pueblos originarios No puede ser mayor al Total.\",\"\"))","v":""},{"$f":"IF(AND(C65>0,H65=\"\"),\" * No olvide digitar la variable Migrantes. Digite Cero si no tiene.\",IF(H65>C65,\" * La variable Migrantes No puede ser mayor al Total.\",\"\"))","v":""},null,null,null,null,{"$f":"IF(AND(C65>0,G65=\"\"),1,IF(G65>C65,1,0))","v":0},{"$f":"IF(AND(C65>0,H65=\"\"),1,IF(H65>C65,1,0))","v":0}]
["A personas con dependencia moderada",null,{"$f":"SUM(D66:F66)","v":0},null,null,null,null,null,null,null,{"$f":"BQ66&BR66","v":""},null,null,null,null,null,null,null,null,null,null,null,null,null,null,null,null,null,null,null,null,null,null,null,null,null,null,null,null,null,null,null,null,null,null,null,null,null,null,null,null,null,null,null,null,null,null,null,null,null,null,null,null,null,null,null,null,null,{"$f":"IF(AND(C66>0,G66=\"\"),\" * No olvide digitar la variable Pueblos originarios. Digite Cero si no tiene.\",IF(G66>C66,\" * La variable Pueblos originarios No puede ser mayor al Total.\",\"\"))","v":""},{"$f":"IF(AND(C66>0,H66=\"\"),\" * No olvide digitar la variable Migrantes. Digite Cero si no tiene.\",IF(H66>C66,\" * La variable Migrantes No puede ser mayor al Total.\",\"\"))","v":""},null,null,null,null,{"$f":"IF(AND(C66>0,G66=\"\"),1,IF(G66>C66,1,0))","v":0},{"$f":"IF(AND(C66>0,H66=\"\"),1,IF(H66>C66,1,0))","v":0}]
["A personas con dependencia severa","Oncológicos (Excluye cuidados paliativos)",{"$f":"SUM(D67:F67)","v":0},null,null,null,null,null,null,null,"",null,null,null,null,null,null,null,null,null,null,null,null,null,null,null,null,null,null,null,null,null,null,null,null,null,null,null,null,null,null,null,null,null,null,null,null,null,null,null,null,null,null,null,null,null,null,null,null,null,null,null,null,null,null,null,null,null,"","",null,null,null,null,0,0]
[null,"No oncológicos",{"$f":"SUM(D68:F68)","v":0},null,null,null,null,null,null,null,"",null,null,null,null,null,null,null,null,null,null,null,null,null,null,null,null,null,null,null,null,null,null,null,null,null,null,null,null,null,null,null,null,null,null,null,null,null,null,null,null,null,null,null,null,null,null,null,null,null,null,null,null,null,null,null,null,null,"","",null,null,null,null,0,0]
[null,"Atención odontológica",{"$f":"SUM(D69)","v":0},null,null,null,null,null,null,null,"",null,null,null,null,null,null,null,null,null,null,null,null,null,null,null,null,null,null,null,null,null,null,null,null,null,null,null,null,null,null,null,null,null,null,null,null,null,null,null,null,null,null,null,null,null,null,null,null,null,null,null,null,null,null,null,null,null,"","",null,null,null,null,0,0]
[null,"Entrega fármacos/alimentos",{"$f":"SUM(D70:F70)","v":0},null,null,null,null,null,null,null,"",null,null,null,null,null,null,null,null,null,null,null,null,null,null,null,null,null,null,null,null,null,null,null,null,null,null,null,null,null,null,null,null,null,null,null,null,null,null,null,null,null,null,null,null,null,null,null,null,null,null,null,null,null,null,null,null,null,"","",null,null,null,null,0,0]
[null,"Atención farmacéutica",{"$f":"SUM(D71)","v":0},null,null,null,null,null,null,null,"",null,null,null,null,null,null,null,null,null,null,null,null,null,null,null,null,null,null,null,null,null,null,null,null,null,null,null,null,null,null,null,null,null,null,null,null,null,null,null,null,null,null,null,null,null,null,null,null,null,null,null,null,null,null,null,null,null,"","",null,null,null,null,0,0]
[null,"Atención nutricional a personas con indicación de NED",{"$f":"SUM(D72)","v":0},null,null,null,null,null,null,null,"",null,null,null,null,null,null,null,null,null,null,null,null,null,null,null,null,null,null,null,null,null,null,null,null,null,null,null,null,null,null,null,null,null,null,null,null,null,null,null,null,null,null,null,null,null,null,null,null,null,null,null,null,null,null,null,null,null,"","",null,null,null,null,0,0]
[null,"Podólogo",{"$f":"SUM(F73)","v":0},null,null,null,null,null,null,null,"",null,null,null,null,null,null,null,null,null,null,null,null,null,null,null,null,null,null,null,null,null,null,null,null,null,null,null,null,null,null,null,null,null,null,null,null,null,null,null,null,null,null,null,null,null,null,null,null,null,null,null,null,null,null,null,null,null,"","",null,null,null,null,0,0]
[null,"Morbilidad médica",{"$f":"SUM(D74:F74)","v":0},null,null,null,null,null,null,null,"",null,null,null,null,null,null,null,null,null,null,null,null,null,null,null,null,null,null,null,null,null,null,null,null,null,null,null,null,null,null,null,null,null,null,null,null,null,null,null,null,null,null,null,null,null,null,null,null,null,null,null,null,null,null,null,null,null,"","",null,null,null,null,0,0]
[null,"Visitas con otros fines ",{"$f":"SUM(D75:F75)","v":0},null,null,null,null,null,null,null,"",null,null,null,null,null,null,null,null,null,null,null,null,null,null,null,null,null,null,null,null,null,null,null,null,null,null,null,null,null,null,null,null,null,null,null,null,null,null,null,null,null,null,null,null,null,null,null,null,null,null,null,null,null,null,null,null,null,"","",null,null,null,null,0,0]
[null,"Telemedicina/teleasistencia",{"$f":"SUM(D76:F76)","v":0},null,null,null,null,null,null,null,"",null,null,null,null,null,null,null,null,null,null,null,null,null,null,null,null,null,null,null,null,null,null,null,null,null,null,null,null,null,null,null,null,null,null,null,null,null,null,null,null,null,null,null,null,null,null,null,null,null,null,null,null,null,null,null,null,null,"","",null,null,null,null,0,0]
[null,"Seguimiento remoto",{"$f":"SUM(D77:F77)","v":0},null,null,null,null,null,null,null,"",null,null,null,null,null,null,null,null,null,null,null,null,null,null,null,null,null,null,null,null,null,null,null,null,null,null,null,null,null,null,null,null,null,null,null,null,null,null,null,null,null,null,null,null,null,null,null,null,null,null,null,null,null,null,null,null,null,"","",null,null,null,null,0,0]
["SECCIÓN D: RESCATE DE PACIENTES INASISTENTES"]
["RANGO ETARIO",null,"RESCATE EN DOMICILIO",null,null,null,null,"RESCATE TELEFÓNICO"]
[null,null,"TOTAL","Funcionario",null,null,"Compra de servicio (*)"]
[null,null,null,"Técnico en enfermería ","Administrativo","Otro",null,"Desde el establecimiento","Compra de servicio (*)"]
["Menos de 1 año ",null,{"$f":"SUM(D82:F82)+H82","v":0}]
["1 - 4 años",null,0]
["5 - 9 años",null,0]
["10 - 14 años ",null,0]
["15 - 19 años",null,0]
["20 - 24 años",null,0]
["25 - 64 años",null,0]
["65 y más años",null,0]
["(*) No incluidas como producción del establecimiento."]
["SECCIÓN E: OTRAS VISITAS PROGRAMA DE ACOMPAÑAMIENTO PSICOSOCIAL EN ATENCIÓN PRIMARIA"]
["GRUPOS","TOTAL VISITAS","RANGO ETARIO "]
[null,null,"0 - 4 años","5 - 9 años","10 - 14 años","15 - 19 años","20 - 24 años"]
["Establecimiento educacional",{"$f":"SUM(C94:G94)","v":0}]
["A lugar de trabajo",{"$f":"SUM(C95:G95)","v":0}]
["SECCIÓN F: VISITA A ESTABLECIMIENTO EDUCACIONAL PROGRAMA DE APOYO A LA SALUD MENTAL INFANTIL (PASMI) EN ATENCIÓN PRIMARIA"]
["CONCEPTO","Total Visitas 5 a 9 Años","N° de Niños/as Visitados 5 a 9 Años"]
["Establecimiento educacional"]
["SECCIÓN G: CONSULTAS Y CONTROLES  DE ESPECIALIDAD RESUELTAS POR VISITAS DOMICILIARIAS"]
["ACTIVIDADES","TOTAL","CONTROLES DE ESPECIALIDAD RESUELTOS POR VISITAS DOMICILIARIAS",null,null,null,null,null,null,null,null,null,null,null,null,null,null,null,null,"SEXO"]
[null,null,"RANGO ETARIO"]
[null,null,"0 - 4 años","5 - 9 años","10 - 14 años","15 - 19 años","20 - 24 años","25 - 29 años","30 - 34 años","35 - 39 años","40 - 44 años","45 - 49 años","50 - 54 años","55 - 59 años","60 - 64 años","65 - 69 años","70 - 74 años","75 - 79 años","80 y más años","Hombres","Mujeres"]
["Pediatría (incluye totalidad de producción pediatrica de subespecialidades)",{"$f":"SUM(C103:S103)","v":0},null,null,null,null,null,null,null,null,null,null,null,null,null,null,null,null,null,null,null,{"$f":"BQ103&BR103","v":""},null,null,null,null,null,null,null,null,null,null,null,null,null,null,null,null,null,null,null,null,null,null,null,null,null,null,null,null,null,null,null,null,null,null,null,null,null,null,null,null,null,null,null,null,null,null,{"$f":"IF((T103+U103)<>B103,\" * El total de Consultas por Sexo debe ser igual al Total de Consultas por grupo de Edad\",\"\")","v":""},null,null,null,null,null,{"$f":"IF((T103+U103)<>B103,1,0)","v":0}]
["Medicina Interna",{"$f":"SUM(C104:S104)","v":0},null,null,null,null,null,null,null,null,null,null,null,null,null,null,null,null,null,null,null,{"$f":"BQ104&BR104","v":""},null,null,null,null,null,null,null,null,null,null,null,null,null,null,null,null,null,null,null,null,null,null,null,null,null,null,null,null,null,null,null,null,null,null,null,null,null,null,null,null,null,null,null,null,null,null,{"$f":"IF((T104+U104)<>B104,\" * El total de Consultas por Sexo debe ser igual al Total de Consultas por grupo de Edad\",\"\")","v":""},null,null,null,null,null,{"$f":"IF((T104+U104)<>B104,1,0)","v":0}]
["Cirugía",0,null,null,null,null,null,null,null,null,null,null,null,null,null,null,null,null,null,null,null,"",null,null,null,null,null,null,null,null,null,null,null,null,null,null,null,null,null,null,null,null,null,null,null,null,null,null,null,null,null,null,null,null,null,null,null,null,null,null,null,null,null,null,null,null,null,null,"",null,null,null,null,null,0]
["Enfermedad respiratoria de adulto (Broncopulmonar)",0,null,null,null,null,null,null,null,null,null,null,null,null,null,null,null,null,null,null,null,"",null,null,null,null,null,null,null,null,null,null,null,null,null,null,null,null,null,null,null,null,null,null,null,null,null,null,null,null,null,null,null,null,null,null,null,null,null,null,null,null,null,null,null,null,null,null,"",null,null,null,null,null,0]
["Cardiología adulto",0,null,null,null,null,null,null,null,null,null,null,null,null,null,null,null,null,null,null,null,"",null,null,null,null,null,null,null,null,null,null,null,null,null,null,null,null,null,null,null,null,null,null,null,null,null,null,null,null,null,null,null,null,null,null,null,null,null,null,null,null,null,null,null,null,null,null,"",null,null,null,null,null,0]
["Endocrinología adulto",0,null,null,null,null,null,null,null,null,null,null,null,null,null,null,null,null,null,null,null,"",null,null,null,null,null,null,null,null,null,null,null,null,null,null,null,null,null,null,null,null,null,null,null,null,null,null,null,null,null,null,null,null,null,null,null,null,null,null,null,null,null,null,null,null,null,null,"",null,null,null,null,null,0]
["Reumatología adulto",0,null,null,null,null,null,null,null,null,null,null,null,null,null,null,null,null,null,null,null,"",null,null,null,null,null,null,null,null,null,null,null,null,null,null,null,null,null,null,null,null,null,null,null,null,null,null,null,null,null,null,null,null,null,null,null,null,null,null,null,null,null,null,null,null,null,null,"",null,null,null,null,null,0]
["Infectología adulto",0,null,null,null,null,null,null,null,null,null,null,null,null,null,null,null,null,null,null,null,"",null,null,null,null,null,null,null,null,null,null,null,null,null,null,null,null,null,null,null,null,null,null,null,null,null,null,null,null,null,null,null,null,null,null,null,null,null,null,null,null,null,null,null,null,null,null,"",null,null,null,null,null,0]
["Diabetología",0,null,null,null,null,null,null,null,null,null,null,null,null,null,null,null,null,null,null,null,"",null,null,null,null,null,null,null,null,null,null,null,null,null,null,null,null,null,null,null,null,null,null,null,null,null,null,null,null,null,null,null,null,null,null,null,null,null,null,null,null,null,null,null,null,null,null,"",null,null,null,null,null,0]
["Psiquiatría",0,null,null,null,null,null,null,null,null,null,null,null,null,null,null,null,null,null,null,null,"",null,null,null,null,null,null,null,null,null,null,null,null,null,null,null,null,null,null,null,null,null,null,null,null,null,null,null,null,null,null,null,null,null,null,null,null,null,null,null,null,null,null,null,null,null,null,"",null,null,null,null,null,0]
["Oftalmología",0,null,null,null,null,null,null,null,null,null,null,null,null,null,null,null,null,null,null,null,"",null,null,null,null,null,null,null,null,null,null,null,null,null,null,null,null,null,null,null,null,null,null,null,null,null,null,null,null,null,null,null,null,null,null,null,null,null,null,null,null,null,null,null,null,null,null,"",null,null,null,null,null,0]
["Otorrinolaringología",0,null,null,null,null,null,null,null,null,null,null,null,null,null,null,null,null,null,null,null,"",null,null,null,null,null,null,null,null,null,null,null,null,null,null,null,null,null,null,null,null,null,null,null,null,null,null,null,null,null,null,null,null,null,null,null,null,null,null,null,null,null,null,null,null,null,null,"",null,null,null,null,null,0]
["Obstetricia y Ginecología",0,null,null,null,null,null,null,null,null,null,null,null,null,null,null,null,null,null,null,null,"",null,null,null,null,null,null,null,null,null,null,null,null,null,null,null,null,null,null,null,null,null,null,null,null,null,null,null,null,null,null,null,null,null,null,null,null,null,null,null,null,null,null,null,null,null,null,"",null,null,null,null,null,0]
["Traumatología",0,null,null,null,null,null,null,null,null,null,null,null,null,null,null,null,null,null,null,null,"",null,null,null,null,null,null,null,null,null,null,null,null,null,null,null,null,null,null,null,null,null,null,null,null,null,null,null,null,null,null,null,null,null,null,null,null,null,null,null,null,null,null,null,null,null,null,"",null,null,null,null,null,0]
["Otras Especialidades Adulto",0,null,null,null,null,null,null,null,null,null,null,null,null,null,null,null,null,null,null,null,"",null,null,null,null,null,null,null,null,null,null,null,null,null,null,null,null,null,null,null,null,null,null,null,null,null,null,null,null,null,null,null,null,null,null,null,null,null,null,null,null,null,null,null,null,null,null,"",null,null,null,null,null,0]
["TOTAL",{"$f":"SUM(C118:S118)","v":0},{"$f":"SUM(C103:C117)","v":0},{"$f":"SUM(D103:D117)","v":0},0,0,0,0,0,0,0,0,0,0,0,0,0,0,0,0,0]
[]
[]
[]
[]
[]
[]
[]
[]
[]
[]
[]
[]
[]
[]
[]
[]
[]
[]
[]
[]
[]
[]
[]
[]
[]
[]
[]
[]
[]
[]
[{"$f":"SUM(C10:C35,C38:J41,B46:B49,C52:C61,C65:C77,C82:C89,B94:B95,B98:C98,B103:B118)","v":0},{"$f":"SUM(BW10:CA117)","v":0}]

{"sheet":"A27","index":19,"n_rows":229,"n_cols":93,"rows_kept":229,"cut":false,"hidden":false,"merged":[[8,30,9,30],[8,31,8,32],[10,0,45,0],[10,1,10,2],[11,1,14,1],[15,1,15,2],[16,1,16,2],[5,0,5,23],[8,0,9,2],[8,3,9,3],[8,4,8,8],[8,9,8,23],[8,24,8,26],[17,1,17,2],[18,1,18,2],[19,1,20,1],[21,1,21,2],[22,1,22,2],[23,1,23,2],[8,27,9,27],[8,28,9,28],[8,29,9,29],[35,1,35,2],[36,1,36,2],[37,1,37,2],[38,1,42,1],[43,1,43,2],[44,1,44,2],[24,1,24,2],[25,1,27,1],[28,1,30,1],[31,1,31,2],[32,1,33,1],[34,1,34,2],[45,1,45,2],[47,0,47,2],[48,0,82,0],[48,1,48,2],[49,1,52,1],[53,1,53,2],[54,1,54,2],[55,1,55,2],[56,1,56,2],[57,1,57,2],[68,1,68,2],[69,1,70,1],[71,1,71,2],[72,1,72,2],[73,1,73,2],[74,1,74,2],[58,1,58,2],[59,1,59,2],[60,1,60,2],[61,1,61,2],[62,1,64,1],[65,1,67,1],[85,0,85,2],[85,4,85,5],[86,0,86,2],[86,4,86,5],[87,0,87,2],[89,0,89,2],[75,1,79,1],[80,1,80,2],[81,1,81,2],[82,1,82,2],[84,0,84,2],[84,4,84,5],[94,22,95,22],[96,0,96,2],[97,0,97,2],[90,0,90,2],[91,0,91,2],[92,0,92,2],[94,0,95,2],[94,3,95,3],[94,4,95,4],[98,0,98,2],[100,0,101,2],[100,3,101,3],[100,4,100,9],[100,10,100,11],[102,0,104,1],[94,5,94,6],[94,7,94,20],[94,21,95,21],[125,0,126,0],[125,1,126,1],[125,2,125,5],[125,6,126,6],[125,7,126,7],[130,0,131,2],[130,3,131,3],[130,4,130,13],[105,0,107,1],[108,0,110,1],[115,0,116,0],[115,1,115,8],[120,0,121,0],[120,1,121,1],[120,2,120,12],[130,14,130,15],[132,0,139,1],[140,0,147,1],[149,0,149,2],[150,0,182,0],[150,1,150,2],[151,1,154,1],[155,1,155,2],[156,1,156,2],[157,1,157,2],[164,1,166,1],[167,1,169,1],[170,1,170,2],[171,1,172,1],[173,1,173,2],[174,1,174,2],[158,1,158,2],[159,1,159,2],[160,1,160,2],[161,1,161,2],[162,1,162,2],[163,1,163,2],[184,33,186,33],[185,5,185,6],[185,7,185,8],[185,9,185,10],[185,11,185,12],[185,13,185,14],[175,1,175,2],[176,1,176,2],[177,1,179,1],[180,1,180,2],[181,1,181,2],[182,1,182,2],[185,27,185,28],[185,29,185,30],[185,31,185,32],[187,0,192,0],[185,15,185,16],[185,17,185,18],[185,19,185,20],[185,21,185,22],[185,23,185,24],[185,25,185,26],[184,0,186,0],[184,1,186,1],[184,2,185,4],[184,5,184,32]]}
["SERVICIO DE SALUD"]
[{"$f":"CONCATENATE(\"COMUNA: \",NOMBRE!B2,\" - \",\"( \",NOMBRE!C2,NOMBRE!D2,NOMBRE!E2,NOMBRE!F2,NOMBRE!G2,\" )\")","v":"COMUNA:  - (  )"}]
[{"$f":"CONCATENATE(\"ESTABLECIMIENTO/ESTRATEGIA: \",NOMBRE!B3,\" - \",\"( \",NOMBRE!C3,NOMBRE!D3,NOMBRE!E3,NOMBRE!F3,NOMBRE!G3,NOMBRE!H3,\" )\")","v":"ESTABLECIMIENTO/ESTRATEGIA:  - (  )"}]
[{"$f":"CONCATENATE(\"MES: \",NOMBRE!B6,\" - \",\"( \",NOMBRE!C6,NOMBRE!D6,\" )\")","v":"MES:  - (  )"}]
[{"$f":"CONCATENATE(\"AÑO: \",NOMBRE!B7)","v":"AÑO: 2024"}]
["REM-27.  EDUCACIÓN PARA LA SALUD"]
[]
["SECCIÓN A: PERSONAS QUE INGRESAN A EDUCACIÓN GRUPAL SEGÚN ÁREAS TEMÁTICAS Y EDAD"]
["ÁREAS TEMÁTICAS DE PREVENCIÓN",null,null,"TOTAL","Madre, Padre o Cuidador de:",null,null,null,null,"RANGO ETARIO",null,null,null,null,null,null,null,null,null,null,null,null,null,null,"Gestantes",null,null,"Familias en Riesgo","Pueblos Originarios","Migrantes","Espacios Amigables/ Adolescentes","TRANS"]
[null,null,null,null,"Menos de 1 año","Niños 12 - 23 meses","Niños de 2 - 5 años","Niños de 6 - 9 años","Niños de 10 - 14 años","10 - 14 años","15 - 19 años","20 - 24 años","25 - 29 años","30 - 34 años","35 - 39 años","40 - 44 años","45 - 49 años","50 - 54 años","55 - 59 años","60 - 64 años","65 - 69 años","70 - 74 años","75 - 79 años","80 y mas años","APS","Nivel Secundario","Nivel Terciario",null,null,null,null,"Masculino","Femenino"]
["Educación en grupo","Estimulación desarrollo psicomotor ",null,{"$f":"SUM(E11:G11)","v":0},null,null,null,null,null,null,null,null,null,null,null,null,null,null,null,null,null,null,null,null,null,null,null,null,null,null,null,null,null,{"$f":"$CB11&CC11&CD11&CE11","v":""},null,null,null,null,null,null,null,null,null,null,null,null,null,null,null,null,null,null,null,null,null,null,null,null,null,null,null,null,null,null,null,null,null,null,null,null,null,null,null,null,null,null,null,null,null,{"$f":"IF(AND($D11<>0,AC11=\"\"),\"* No olvide ingresar la variable \"&AC$9&\"\"&\" (Digite CERO si no tiene).  \",IF(AC11>$D11,\"* La variable Pueblos Originarios no puede superar el Total. \",\"\"))","v":""},{"$f":"IF(AND($D11<>0,AD11=\"\"),\"* No olvide ingresar la variable \"&AD$9&\"\"&\" (Digite CERO si no tiene).  \",IF(AD11>$D11,\"* La variable Migrantes no puede superar el Total. \",\"\"))","v":""},{"$f":"IF(AND($D11<>0,AE11=\"\"),\"* No olvide ingresar la variable \"&AE$9&\"\"&\" (Digite CERO si no tiene).  \",IF(AE11>$D11,\"* La variable Espacios Amigables/ Adolescentes no puede superar el Total. \",\"\"))","v":""},{"$f":"IF(AND(D11>0,OR(AF11=\"\",AG11=\"\",)),\" * No olvide digitar la variable TRANS Masculino/Femenino (Digite CERO si no tiene). \",IF(AF11+AG11>$D11,\"* La suma de TRANS Masculino + Femenino no puede superar el Total. \",\"\"))","v":""},null,null,null,null,null,null,{"$f":"IF(AND($D11<>0,AC11=\"\"),1,IF(AC11>$D11,1,0))","v":0},{"$f":"IF(AND($D11<>0,AD11=\"\"),1,IF(AD11>$D11,1,0))","v":0},{"$f":"IF(AND($D11<>0,AE11=\"\"),1,IF(AE11>$D11,1,0))","v":0},{"$f":"IF(AND(D11>0,OR(AF11=\"\",AG11=\"\",)),1,IF(AF11+AG11>$D11,1,0))","v":0}]
[null,"Nutrición","Riesgo de malnutrición por exceso",{"$f":"SUM(E12:X12)","v":0},null,null,null,null,null,null,null,null,null,null,null,null,null,null,null,null,null,null,null,null,null,null,null,null,null,null,null,null,null,{"$f":"$CA12&CB12&CC12&CD12&CE12","v":""},null,null,null,null,null,null,null,null,null,null,null,null,null,null,null,null,null,null,null,null,null,null,null,null,null,null,null,null,null,null,null,null,null,null,null,null,null,null,null,null,null,null,null,null,{"$f":"IF(AND($D12<>0,AB12=\"\"),\"* No olvide ingresar la columna \"&AB$9&\"\"&\" (Digite CERO si no tiene).  \",IF(AB12>$D12,\"* El Número de Familias en Riesgo no puede superar el Total. \",\"\"))","v":""},{"$f":"IF(AND($D12<>0,AC12=\"\"),\"* No olvide ingresar la variable \"&AC$9&\"\"&\" (Digite CERO si no tiene).  \",IF(AC12>$D12,\"* La variable Pueblos Originarios no puede superar el Total. \",\"\"))","v":""},{"$f":"IF(AND($D12<>0,AD12=\"\"),\"* No olvide ingresar la variable \"&AD$9&\"\"&\" (Digite CERO si no tiene).  \",IF(AD12>$D12,\"* La variable Migrantes no puede superar el Total. \",\"\"))","v":""},{"$f":"IF(AND($D12<>0,AE12=\"\"),\"* No olvide ingresar la variable \"&AE$9&\"\"&\" (Digite CERO si no tiene).  \",IF(AE12>$D12,\"* La variable Espacios Amigables/ Adolescentes no puede superar el Total. \",\"\"))","v":""},{"$f":"IF(AND(D12>0,OR(AF12=\"\",AG12=\"\",)),\" * No olvide digitar la variable TRANS Masculino/Femenino (Digite CERO si no tiene). \",IF(AF12+AG12>$D12,\"* La suma de TRANS Masculino + Femenino no puede superar el Total. \",\"\"))","v":""},null,null,null,null,null,{"$f":"IF(AND($D12<>0,AB12=\"\"),1,IF(AB12>$D12,1,0))","v":0},{"$f":"IF(AND($D12<>0,AC12=\"\"),1,IF(AC12>$D12,1,0))","v":0},{"$f":"IF(AND($D12<>0,AD12=\"\"),1,IF(AD12>$D12,1,0))","v":0},{"$f":"IF(AND($D12<>0,AE12=\"\"),1,IF(AE12>$D12,1,0))","v":0},{"$f":"IF(AND(D12>0,OR(AF12=\"\",AG12=\"\",)),1,IF(AF12+AG12>$D12,1,0))","v":0}]
[null,null,"Malnutrición por exceso",0,null,null,null,null,null,null,null,null,null,null,null,null,null,null,null,null,null,null,null,null,null,null,null,null,null,null,null,null,null,{"$f":"$CA13&CB13&CC13&CD13&CE13","v":""},null,null,null,null,null,null,null,null,null,null,null,null,null,null,null,null,null,null,null,null,null,null,null,null,null,null,null,null,null,null,null,null,null,null,null,null,null,null,null,null,null,null,null,null,{"$f":"IF(AND($D13<>0,AB13=\"\"),\"* No olvide ingresar la columna \"&AB$9&\"\"&\" (Digite CERO si no tiene).  \",IF(AB13>$D13,\"* El Número de Familias en Riesgo no puede superar el Total. \",\"\"))","v":""},"","","","",null,null,null,null,null,{"$f":"IF(AND($D13<>0,AB13=\"\"),1,IF(AB13>$D13,1,0))","v":0},0,0,0,0]
[null,null,"Malnutrición de déficit",0,null,null,null,null,null,null,null,null,null,null,null,null,null,null,null,null,null,null,null,null,null,null,null,null,null,null,null,null,null,"",null,null,null,null,null,null,null,null,null,null,null,null,null,null,null,null,null,null,null,null,null,null,null,null,null,null,null,null,null,null,null,null,null,null,null,null,null,null,null,null,null,null,null,null,"","","","","",null,null,null,null,null,0,0,0,0,0]
[null,null,"Sin riesgo de malnutrición",0,null,null,null,null,null,null,null,null,null,null,null,null,null,null,null,null,null,null,null,null,null,null,null,null,null,null,null,null,null,"",null,null,null,null,null,null,null,null,null,null,null,null,null,null,null,null,null,null,null,null,null,null,null,null,null,null,null,null,null,null,null,null,null,null,null,null,null,null,null,null,null,null,null,null,"","","","","",null,null,null,null,null,0,0,0,0,0]
[null,"Prevención de IRA - ERA",null,0,null,null,null,null,null,null,null,null,null,null,null,null,null,null,null,null,null,null,null,null,null,null,null,null,null,null,null,null,null,"",null,null,null,null,null,null,null,null,null,null,null,null,null,null,null,null,null,null,null,null,null,null,null,null,null,null,null,null,null,null,null,null,null,null,null,null,null,null,null,null,null,null,null,null,"","","","","",null,null,null,null,null,0,0,0,0,0]
[null,"Prevención de accidentes",null,0,null,null,null,null,null,null,null,null,null,null,null,null,null,null,null,null,null,null,null,null,null,null,null,null,null,null,null,null,null,"",null,null,null,null,null,null,null,null,null,null,null,null,null,null,null,null,null,null,null,null,null,null,null,null,null,null,null,null,null,null,null,null,null,null,null,null,null,null,null,null,null,null,null,null,"","","","","",null,null,null,null,null,0,0,0,0,0]
[null,"Salud buco-dental",null,0,null,null,null,null,null,null,null,null,null,null,null,null,null,null,null,null,null,null,null,null,null,null,null,null,null,null,null,null,null,"",null,null,null,null,null,null,null,null,null,null,null,null,null,null,null,null,null,null,null,null,null,null,null,null,null,null,null,null,null,null,null,null,null,null,null,null,null,null,null,null,null,null,null,null,"","","","","",null,null,null,null,null,0,0,0,0,0]
[null,"Prevención violencia de género",null,0,null,null,null,null,null,null,null,null,null,null,null,null,null,null,null,null,null,null,null,null,null,null,null,null,null,null,null,null,null,"",null,null,null,null,null,null,null,null,null,null,null,null,null,null,null,null,null,null,null,null,null,null,null,null,null,null,null,null,null,null,null,null,null,null,null,null,null,null,null,null,null,null,null,null,"","","","","",null,null,null,null,null,0,0,0,0,0]
[null,"Salud Sexual y reproductiva","Mujeres",0,null,null,null,null,null,null,null,null,null,null,null,null,null,null,null,null,null,null,null,null,null,null,null,null,null,null,null,null,null,"",null,null,null,null,null,null,null,null,null,null,null,null,null,null,null,null,null,null,null,null,null,null,null,null,null,null,null,null,null,null,null,null,null,null,null,null,null,null,null,null,null,null,null,null,"","","","","",null,null,null,null,null,0,0,0,0,0]
[null,null,"Hombres",0,null,null,null,null,null,null,null,null,null,null,null,null,null,null,null,null,null,null,null,null,null,null,null,null,null,null,null,null,null,"",null,null,null,null,null,null,null,null,null,null,null,null,null,null,null,null,null,null,null,null,null,null,null,null,null,null,null,null,null,null,null,null,null,null,null,null,null,null,null,null,null,null,null,null,"","","","","",null,null,null,null,null,0,0,0,0,0]
[null,"Talleres de climaterio",null,{"$f":"+E22+F22+G22+H22+I22+Q22+R22+S22+T22","v":0},null,null,null,null,null,null,null,null,null,null,null,null,null,null,null,null,null,null,null,null,null,null,null,null,null,null,null,null,null,"",null,null,null,null,null,null,null,null,null,null,null,null,null,null,null,null,null,null,null,null,null,null,null,null,null,null,null,null,null,null,null,null,null,null,null,null,null,null,null,null,null,null,null,null,"","","","","",null,null,null,null,null,0,0,0,0,0]
[null,"Educación prenatal (Nutrición-lactancia-crianza-autocuidado-preparación parto y otros)",null,{"$f":"SUM(J23:S23)","v":0},null,null,null,null,null,null,null,null,null,null,null,null,null,null,null,null,null,null,null,null,null,null,null,null,null,null,null,null,null,"",null,null,null,null,null,null,null,null,null,null,null,null,null,null,null,null,null,null,null,null,null,null,null,null,null,null,null,null,null,null,null,null,null,null,null,null,null,null,null,null,null,null,null,null,"","","",null,"",null,null,null,null,null,0,0,0,null,0]
[null,"Visita guiada a la maternidad",null,{"$f":"SUM(J24:S24)","v":0},null,null,null,null,null,null,null,null,null,null,null,null,null,null,null,null,null,null,null,null,null,null,null,null,null,null,null,null,null,"",null,null,null,null,null,null,null,null,null,null,null,null,null,null,null,null,null,null,null,null,null,null,null,null,null,null,null,null,null,null,null,null,null,null,null,null,null,null,null,null,null,null,null,null,"","","",null,"",null,null,null,null,null,0,0,0,null,0]
[null,"Promoción de salud mental",null,{"$f":"SUM(H25:X25)","v":0},null,null,null,null,null,null,null,null,null,null,null,null,null,null,null,null,null,null,null,null,null,null,null,null,null,null,null,null,null,"",null,null,null,null,null,null,null,null,null,null,null,null,null,null,null,null,null,null,null,null,null,null,null,null,null,null,null,null,null,null,null,null,null,null,null,null,null,null,null,null,null,null,null,null,"","","","","",null,null,null,null,null,0,0,0,0,0]
[null,"Promoción del desarrollo infantil temprano","Del lenguaje",{"$f":"SUM(E26:F26)","v":0},null,null,null,null,null,null,null,null,null,null,null,null,null,null,null,null,null,null,null,null,null,null,null,null,null,null,null,null,null,"",null,null,null,null,null,null,null,null,null,null,null,null,null,null,null,null,null,null,null,null,null,null,null,null,null,null,null,null,null,null,null,null,null,null,null,null,null,null,null,null,null,null,null,null,"","","",null,"",null,null,null,null,null,0,0,0,null,0]
[null,null,"Motor",{"$f":"SUM(E27:G27)","v":0},null,null,null,null,null,null,null,null,null,null,null,null,null,null,null,null,null,null,null,null,null,null,null,null,null,null,null,null,null,"",null,null,null,null,null,null,null,null,null,null,null,null,null,null,null,null,null,null,null,null,null,null,null,null,null,null,null,null,null,null,null,null,null,null,null,null,null,null,null,null,null,null,null,null,"","","","","",null,null,null,null,null,0,0,0,0,0]
[null,null,"Otros",{"$f":"SUM(E28:G28)","v":0},null,null,null,null,null,null,null,null,null,null,null,null,null,null,null,null,null,null,null,null,null,null,null,null,null,null,null,null,null,"",null,null,null,null,null,null,null,null,null,null,null,null,null,null,null,null,null,null,null,null,null,null,null,null,null,null,null,null,null,null,null,null,null,null,null,null,null,null,null,null,null,null,null,null,"","","","","",null,null,null,null,null,0,0,0,0,0]
[null,"Habilidades parentales","Nadie es perfecto",{"$f":"SUM(E29:H29)","v":0},null,null,null,null,null,null,null,null,null,null,null,null,null,null,null,null,null,null,null,null,null,null,null,null,null,null,null,null,null,"",null,null,null,null,null,null,null,null,null,null,null,null,null,null,null,null,null,null,null,null,null,null,null,null,null,null,null,null,null,null,null,null,null,null,null,null,null,null,null,null,null,null,null,null,"","","","","",null,null,null,null,null,0,0,0,0,0]
[null,null,"Familias fuertes",{"$f":"SUM(I30+J30)","v":0},null,null,null,null,null,null,null,null,null,null,null,null,null,null,null,null,null,null,null,null,null,null,null,null,null,null,null,null,null,"",null,null,null,null,null,null,null,null,null,null,null,null,null,null,null,null,null,null,null,null,null,null,null,null,null,null,null,null,null,null,null,null,null,null,null,null,null,null,null,null,null,null,null,null,"","","","","",null,null,null,null,null,0,0,0,0,0]
[null,null,"Otros",{"$f":"SUM(E31:I31)","v":0},null,null,null,null,null,null,null,null,null,null,null,null,null,null,null,null,null,null,null,null,null,null,null,null,null,null,null,null,null,"",null,null,null,null,null,null,null,null,null,null,null,null,null,null,null,null,null,null,null,null,null,null,null,null,null,null,null,null,null,null,null,null,null,null,null,null,null,null,null,null,null,null,null,null,"","","","","",null,null,null,null,null,0,0,0,0,0]
[null,"Apoyo madre a madre",null,{"$f":"SUM(E32:X32)","v":0},null,null,null,null,null,null,null,null,null,null,null,null,null,null,null,null,null,null,null,null,null,null,null,null,null,null,null,null,null,"",null,null,null,null,null,null,null,null,null,null,null,null,null,null,null,null,null,null,null,null,null,null,null,null,null,null,null,null,null,null,null,null,null,null,null,null,null,null,null,null,null,null,null,null,"","","","","",null,null,null,null,null,0,0,0,0,0]
[null,"Prevención de salud mental","Prevención suicidio",{"$f":"SUM(E33:X33)","v":0},null,null,null,null,null,null,null,null,null,null,null,null,null,null,null,null,null,null,null,null,null,null,null,null,null,null,null,null,null,"",null,null,null,null,null,null,null,null,null,null,null,null,null,null,null,null,null,null,null,null,null,null,null,null,null,null,null,null,null,null,null,null,null,null,null,null,null,null,null,null,null,null,null,null,"","","","","",null,null,null,null,null,0,0,0,0,0]
[null,null,"Prevención trastorno mental",{"$f":"SUM(E34:X34)","v":0},null,null,null,null,null,null,null,null,null,null,null,null,null,null,null,null,null,null,null,null,null,null,null,null,null,null,null,null,null,"",null,null,null,null,null,null,null,null,null,null,null,null,null,null,null,null,null,null,null,null,null,null,null,null,null,null,null,null,null,null,null,null,null,null,null,null,null,null,null,null,null,null,null,null,"","","","","",null,null,null,null,null,0,0,0,0,0]
[null,"Prevención alcohol y drogas",null,{"$f":"SUM(E35:X35)","v":0},null,null,null,null,null,null,null,null,null,null,null,null,null,null,null,null,null,null,null,null,null,null,null,null,null,null,null,null,null,"",null,null,null,null,null,null,null,null,null,null,null,null,null,null,null,null,null,null,null,null,null,null,null,null,null,null,null,null,null,null,null,null,null,null,null,null,null,null,null,null,null,null,null,null,"","","","","",null,null,null,null,null,0,0,0,0,0]
[null,"Antitabáquica (excluye REM 23)",null,{"$f":"SUM(E36:X36)","v":0},null,null,null,null,null,null,null,null,null,null,null,null,null,null,null,null,null,null,null,null,null,null,null,null,null,null,null,null,null,"",null,null,null,null,null,null,null,null,null,null,null,null,null,null,null,null,null,null,null,null,null,null,null,null,null,null,null,null,null,null,null,null,null,null,null,null,null,null,null,null,null,null,null,null,"","","","","",null,null,null,null,null,0,0,0,0,0]
[null,"Prevención de la transmisión vertical de VIH-Sífilis",null,{"$f":"SUM(J37:S37)","v":0},null,null,null,null,null,null,null,null,null,null,null,null,null,null,null,null,null,null,null,null,null,null,null,null,null,null,null,null,null,"",null,null,null,null,null,null,null,null,null,null,null,null,null,null,null,null,null,null,null,null,null,null,null,null,null,null,null,null,null,null,null,null,null,null,null,null,null,null,null,null,null,null,null,null,"","","","","",null,null,null,null,null,0,0,0,0,0]
[null,"Otras áreas temáticas",null,{"$f":"SUM(E38:X38)","v":0},null,null,null,null,null,null,null,null,null,null,null,null,null,null,null,null,null,null,null,null,null,null,null,null,null,null,null,null,null,"",null,null,null,null,null,null,null,null,null,null,null,null,null,null,null,null,null,null,null,null,null,null,null,null,null,null,null,null,null,null,null,null,null,null,null,null,null,null,null,null,null,null,null,null,"","","","","",null,null,null,null,null,0,0,0,0,0]
[null,"Educación especial en adulto mayor","Estimulación de memoria",{"$f":"SUM(U39:X39)","v":0},null,null,null,null,null,null,null,null,null,null,null,null,null,null,null,null,null,null,null,null,null,null,null,null,null,null,null,null,null,"",null,null,null,null,null,null,null,null,null,null,null,null,null,null,null,null,null,null,null,null,null,null,null,null,null,null,null,null,null,null,null,null,null,null,null,null,null,null,null,null,null,null,null,null,"","","","","",null,null,null,null,null,0,0,0,0,0]
[null,null,"Prevención de caídas",{"$f":"SUM(U40:X40)","v":0},null,null,null,null,null,null,null,null,null,null,null,null,null,null,null,null,null,null,null,null,null,null,null,null,null,null,null,null,null,"",null,null,null,null,null,null,null,null,null,null,null,null,null,null,null,null,null,null,null,null,null,null,null,null,null,null,null,null,null,null,null,null,null,null,null,null,null,null,null,null,null,null,null,null,"","","","","",null,null,null,null,null,0,0,0,0,0]
[null,null,"Estimulación de actividad física",{"$f":"SUM(U41:X41)","v":0},null,null,null,null,null,null,null,null,null,null,null,null,null,null,null,null,null,null,null,null,null,null,null,null,null,null,null,null,null,"",null,null,null,null,null,null,null,null,null,null,null,null,null,null,null,null,null,null,null,null,null,null,null,null,null,null,null,null,null,null,null,null,null,null,null,null,null,null,null,null,null,null,null,null,"","","","","",null,null,null,null,null,0,0,0,0,0]
[null,null,"Auto cuidado",{"$f":"SUM(U42:X42)","v":0},null,null,null,null,null,null,null,null,null,null,null,null,null,null,null,null,null,null,null,null,null,null,null,null,null,null,null,null,null,"",null,null,null,null,null,null,null,null,null,null,null,null,null,null,null,null,null,null,null,null,null,null,null,null,null,null,null,null,null,null,null,null,null,null,null,null,null,null,null,null,null,null,null,null,"","","","","",null,null,null,null,null,0,0,0,0,0]
[null,null,"Otras temáticas",{"$f":"SUM(U43:X43)","v":0},null,null,null,null,null,null,null,null,null,null,null,null,null,null,null,null,null,null,null,null,null,null,null,null,null,null,null,null,null,"",null,null,null,null,null,null,null,null,null,null,null,null,null,null,null,null,null,null,null,null,null,null,null,null,null,null,null,null,null,null,null,null,null,null,null,null,null,null,null,null,null,null,null,null,"","","","","",null,null,null,null,null,0,0,0,0,0]
[null,"Uso racional de medicamentos",null,{"$f":"SUM(E44:X44)","v":0},null,null,null,null,null,null,null,null,null,null,null,null,null,null,null,null,null,null,null,null,null,null,null,null,null,null,null,null,null,"",null,null,null,null,null,null,null,null,null,null,null,null,null,null,null,null,null,null,null,null,null,null,null,null,null,null,null,null,null,null,null,null,null,null,null,null,null,null,null,null,null,null,null,null,"","","","","",null,null,null,null,null,0,0,0,0,0]
[null,"Resistencia antimicrobianos",null,{"$f":"SUM(E45:X45)","v":0},null,null,null,null,null,null,null,null,null,null,null,null,null,null,null,null,null,null,null,null,null,null,null,null,null,null,null,null,null,"",null,null,null,null,null,null,null,null,null,null,null,null,null,null,null,null,null,null,null,null,null,null,null,null,null,null,null,null,null,null,null,null,null,null,null,null,null,null,null,null,null,null,null,null,"","","","","",null,null,null,null,null,0,0,0,0,0]
[null,"TOTAL",null,{"$f":"SUM(E46:X46)","v":0},{"$f":"SUM(E11:E45)","v":0},0,0,0,0,0,0,0,0,0,0,0,0,0,0,0,0,0,0,0,0,0,0,0,0,0,0,0,0]
["SECCIÓN B: ACTIVIDADES DE EDUCACIÓN PARA LA SALUD SEGÚN PERSONAL QUE LAS REALIZA (SESIONES)"]
["ÁREAS TEMÁTICAS DE PREVENCIÓN",null,null,"TOTAL","Un profesional","Dos o más profesionales ","Un profesional y un Técnico en Enfermería ","Técnico en Enfermería ","Facilitador/a Intercultural Pueblos Originarios "]
["Educación en grupo","Estimulación desarrollo psicomotor ",null,{"$f":"SUM(E49:H49)","v":0}]
[null,"Nutrición","Riesgo de malnutrición por exceso",0]
[null,null,"Malnutrición por exceso",0]
[null,null,"Malnutrición de déficit",0]
[null,null,"Sin riesgo de malnutrición",0]
[null,"Prevención de IRA - ERA",null,0]
[null,"Prevención de accidentes",null,0]
[null,"Salud buco-dental",null,0]
[null,"Prevención violencia de género",null,0]
[null,"Salud sexual y reproductiva",null,0]
[null,"Talleres de climaterio",null,0]
[null,"Educación prenatal (Nutrición-lactancia-crianza-autocuidado-preparación parto y otros)",null,0]
[null,"Visita guiada a la maternidad",null,0]
[null,"Promoción de salud mental",null,0]
[null,"Promoción del desarrollo infantil temprano","Del lenguaje",0]
[null,null,"Motor",0]
[null,null,"Otros",0]
[null,"Habilidades parentales","Nadie es perfecto",0]
[null,null,"Familias fuertes",0]
[null,null,"Otros",0]
[null,"Apoyo madre a madre",null,0]
[null,"Prevención de salud mental","Prevención suicidio",0]
[null,null,"Prevención trastorno mental",0]
[null,"Prevención alcohol y drogas",null,0]
[null,"Antitabáquica (excluye REM 23)",null,0]
[null,"Prevención de la transmisión vertical de VIH-Sífilis",null,0]
[null,"Otras áreas temáticas",null,0]
[null,"Educación especial en adulto mayor","Estimulación de memoria",0]
[null,null,"Prevención de caídas",0]
[null,null,"Estimulación de actividad física",0]
[null,null,"Auto cuidado",0]
[null,null,"Otras temáticas",0]
[null,"Uso racional de medicamentos",null,0]
[null,"Resistencia antimicrobianos",null,0]
[null,"TOTAL",null,0,{"$f":"SUM(E49:E82)","v":0},{"$f":"SUM(F49:F82)","v":0},{"$f":"SUM(G49:G82)","v":0},{"$f":"SUM(H49:H82)","v":0},{"$f":"SUM(I49:I82)","v":0}]
["SECCIÓN C: EDUCACIÓN GRUPAL A GESTANTES DE ALTO RIESGO OBSTÉTRICO (Nivel Secundario)"]
["TEMAS",null,null,"Total de sesiones"]
["Autocuidado según patología"]
["Preparación para el parto"]
["Taller de educación prenatal"]
["SECCIÓN D: TALLERES PROGRAMA \"MÁS A.M AUTOVALENTES\""]
["TALLER",null,null,"Nº de sesiones","Nº de Participantes"]
["Estimulación de funciones motoras y prevención de caídas"]
["Estimulación de funciones congnitivas"]
["Autocuidado y estilos de vida saludables"]
["SECCIÓN E: TALLERES PROGRAMA ELIGE VIDA SANA"]
["TALLER",null,null,"Nº de sesiones","Nº de Participantes","Madre, padre o cuidador de:",null,"RANGO ETARIO",null,null,null,null,null,null,null,null,null,null,null,null,null,"Gestantes","Post Parto"]
[null,null,null,null,null,"Menores de 1 año","Niños 12 - 23 meses","Menor de 2 años","2 - 4 años","5 - 9 años","10 - 14 años","15 - 19 años","20 - 24 años","25 - 29 años","30 - 34 años","35 - 39 años","40 - 44 años","45 - 49 años","50 - 54 años","55 - 59 años","60 - 64 años"]
["Círculo de actividad física",null,null,null,{"$f":"+F97+G97+H97+I97+J97+K97+L97+M97+N97+O97+P97+Q97+R97+S97+T97+U97","v":0},null,null,null,null,null,null,null,null,null,null,null,null,null,null,null,null,null,null,{"$f":"CA97&CB97&CC97","v":""},null,null,null,null,null,null,null,null,null,null,null,null,null,null,null,null,null,null,null,null,null,null,null,null,null,null,null,null,null,null,null,null,null,null,null,null,null,null,null,null,null,null,null,null,null,null,null,null,null,null,null,null,null,null,{"$f":"IF(AND(E97>0,V97=\"\"),\" * No olvide digitar la variable Gestantes. Digite CERO si no tiene.\",\"\")","v":""},{"$f":"IF(AND(E97>0,W97=\"\"),\" * No olvide digitar la variable Post Parto. Digite CERO si no tiene.\",\"\")","v":""},{"$f":"IF(CM97=1,\" * La suma de Gestantes y Post Parto debe ser menor o igual al Nº de Participantes.\",\"\")","v":""},null,null,null,null,null,null,null,{"$f":"IF(AND(E97>0,V97=\"\"),1,0)","v":0},{"$f":"IF(AND(E97>0,W97=\"\"),1,0)","v":0},{"$f":"IF((V97+W97)>E97,1,0)","v":0}]
["Círculo de vida sana",null,null,null,{"$f":"+F98+G98+H98+I98+J98+K98+L98+M98+N98+O98+P98+Q98+R98+S98+T98+U98","v":0},null,null,null,null,null,null,null,null,null,null,null,null,null,null,null,null,null,null,{"$f":"CA98&CB98&CC98","v":""},null,null,null,null,null,null,null,null,null,null,null,null,null,null,null,null,null,null,null,null,null,null,null,null,null,null,null,null,null,null,null,null,null,null,null,null,null,null,null,null,null,null,null,null,null,null,null,null,null,null,null,null,null,null,{"$f":"IF(AND(E98>0,V98=\"\"),\" * No olvide digitar la variable Gestantes. Digite CERO si no tiene.\",\"\")","v":""},{"$f":"IF(AND(E98>0,W98=\"\"),\" * No olvide digitar la variable Post Parto. Digite CERO si no tiene.\",\"\")","v":""},{"$f":"IF(CM98=1,\" * La suma de Gestantes y Post Parto debe ser menor o igual al Nº de Participantes.\",\"\")","v":""},null,null,null,null,null,null,null,{"$f":"IF(AND(E98>0,V98=\"\"),1,0)","v":0},{"$f":"IF(AND(E98>0,W98=\"\"),1,0)","v":0},{"$f":"IF((V98+W98)>E98,1,0)","v":0}]
["Actividades masivas",null,null,null,{"$f":"+F99+G99+H99+I99+J99+K99+L99+M99+N99+O99+P99+Q99+R99+S99+T99+U99","v":0},null,null,null,null,null,null,null,null,null,null,null,null,null,null,null,null,null,null,"",null,null,null,null,null,null,null,null,null,null,null,null,null,null,null,null,null,null,null,null,null,null,null,null,null,null,null,null,null,null,null,null,null,null,null,null,null,null,null,null,null,null,null,null,null,null,null,null,null,null,null,null,null,null,"","","",null,null,null,null,null,null,null,0,{"$f":"IF(AND(E99>0,W99=\"\"),1,0)","v":0},0]
["SECCIÓN F: INTERVENCIONES POR PATRÓN DE CONSUMO DE ALCOHOL, TABACO Y OTRAS DROGAS"]
["TIPO DE INTERVENCIÓN",null,null,"Nº de intervenciones","RANGO ETARIO",null,null,null,null,null,"SEXO"]
[null,null,null,null,"10-14 años","15-19 años","20-24 años","25-44 años","45-64 años","65 o más años","Hombres","Mujeres"]
["Intervención Mínima\n(Bajo riesgo)",null,"Alcohol",{"$f":"SUM(E103:J103)","v":0},null,null,null,null,null,null,null,null,{"$f":"CA103&CB103","v":""},null,null,null,null,null,null,null,null,null,null,null,null,null,null,null,null,null,null,null,null,null,null,null,null,null,null,null,null,null,null,null,null,null,null,null,null,null,null,null,null,null,null,null,null,null,null,null,null,null,null,null,null,null,null,null,null,null,null,null,null,null,null,null,null,null,{"$f":"IF((K103+L103)<>D103,\" * La Suma por edad NO DEBE ser distinto al total por Sexo.\",\"\")","v":""},null,null,null,null,null,null,null,null,null,{"$f":"IF((K103+L103)<>D103,1,0)","v":0}]
[null,null,"Tabaco",{"$f":"SUM(E104:J104)","v":0},null,null,null,null,null,null,null,null,{"$f":"CA104&CB104","v":""},null,null,null,null,null,null,null,null,null,null,null,null,null,null,null,null,null,null,null,null,null,null,null,null,null,null,null,null,null,null,null,null,null,null,null,null,null,null,null,null,null,null,null,null,null,null,null,null,null,null,null,null,null,null,null,null,null,null,null,null,null,null,null,null,null,{"$f":"IF((K104+L104)<>D104,\" * La Suma por edad NO DEBE ser distinto al total por Sexo.\",\"\")","v":""},null,null,null,null,null,null,null,null,null,{"$f":"IF((K104+L104)<>D104,1,0)","v":0}]
[null,null,"Drogas",0,null,null,null,null,null,null,null,null,"",null,null,null,null,null,null,null,null,null,null,null,null,null,null,null,null,null,null,null,null,null,null,null,null,null,null,null,null,null,null,null,null,null,null,null,null,null,null,null,null,null,null,null,null,null,null,null,null,null,null,null,null,null,null,null,null,null,null,null,null,null,null,null,null,null,"",null,null,null,null,null,null,null,null,null,0]
["Intervención breve o motivacional\n(Riesgo)",null,"Alcohol",0,null,null,null,null,null,null,null,null,"",null,null,null,null,null,null,null,null,null,null,null,null,null,null,null,null,null,null,null,null,null,null,null,null,null,null,null,null,null,null,null,null,null,null,null,null,null,null,null,null,null,null,null,null,null,null,null,null,null,null,null,null,null,null,null,null,null,null,null,null,null,null,null,null,null,"",null,null,null,null,null,null,null,null,null,0]
[null,null,"Tabaco",0,null,null,null,null,null,null,null,null,"",null,null,null,null,null,null,null,null,null,null,null,null,null,null,null,null,null,null,null,null,null,null,null,null,null,null,null,null,null,null,null,null,null,null,null,null,null,null,null,null,null,null,null,null,null,null,null,null,null,null,null,null,null,null,null,null,null,null,null,null,null,null,null,null,null,"",null,null,null,null,null,null,null,null,null,0]
[null,null,"Drogas",0,null,null,null,null,null,null,null,null,"",null,null,null,null,null,null,null,null,null,null,null,null,null,null,null,null,null,null,null,null,null,null,null,null,null,null,null,null,null,null,null,null,null,null,null,null,null,null,null,null,null,null,null,null,null,null,null,null,null,null,null,null,null,null,null,null,null,null,null,null,null,null,null,null,null,"",null,null,null,null,null,null,null,null,null,0]
["Intervención referida asistida\n(Perjudicial o dependencia)",null,"Alcohol",0,null,null,null,null,null,null,null,null,"",null,null,null,null,null,null,null,null,null,null,null,null,null,null,null,null,null,null,null,null,null,null,null,null,null,null,null,null,null,null,null,null,null,null,null,null,null,null,null,null,null,null,null,null,null,null,null,null,null,null,null,null,null,null,null,null,null,null,null,null,null,null,null,null,null,"",null,null,null,null,null,null,null,null,null,0]
[null,null,"Tabaco",0,null,null,null,null,null,null,null,null,"",null,null,null,null,null,null,null,null,null,null,null,null,null,null,null,null,null,null,null,null,null,null,null,null,null,null,null,null,null,null,null,null,null,null,null,null,null,null,null,null,null,null,null,null,null,null,null,null,null,null,null,null,null,null,null,null,null,null,null,null,null,null,null,null,null,"",null,null,null,null,null,null,null,null,null,0]
[null,null,"Drogas",0,null,null,null,null,null,null,null,null,"",null,null,null,null,null,null,null,null,null,null,null,null,null,null,null,null,null,null,null,null,null,null,null,null,null,null,null,null,null,null,null,null,null,null,null,null,null,null,null,null,null,null,null,null,null,null,null,null,null,null,null,null,null,null,null,null,null,null,null,null,null,null,null,null,null,"",null,null,null,null,null,null,null,null,null,0]
["SECCIÓN G: PERSONAS QUE INGRESAN A TALLERES PARA PADRES DEL PROGRAMA DE APOYO A LA SALUD MENTAL INFANTIL (PASMI)"]
["Concepto","Total de Padres, Madres o Cuidadores de 5 a 9 años","Total de talleres","Total de sesiones"]
["Taller Nadie es Perfecto (PASMI)"]
["SECCIÓN H: ORGANIZACIONES SOCIALES DE LA RED DEL PROGRAMA MÁS ADULTOS MAYORES AUTOVALENTES"]
["CONCEPTO","POR TIPO DE ORGANIZACIÓN"]
[null,"N° Total de Organizaciones","Clubes de Adultos Mayores","Centros de Madres","Clubes Deportivos","Uniones Comunales de Adultos Mayores","Junta de Vecinos","Organizaciones Informales","Otras organizaciones Formales"]
["Organizaciones ingresadas al programa de estimilación funcional del programa más adultos mayores autovalentes",{"$f":"SUM(C118:I118)","v":0}]
["Organizaciones con lideres comunitarios capcitados por el programa más adultos mayores autovalentes",{"$f":"SUM(C119:I119)","v":0}]
["SECCIÓN I: SERVICIOS DE LA RED DEL PROGRAMA MÁS ADULTOS MAYORES AUTOVALENTES"]
["CONCEPTO","N° Total de Servicios","POR TIPO DE SERVICIO"]
[null,null,"Unidad Municipal de Personas Mayores ","Unidad Municipal de Atención Social","Unidad Municipal de Deportes","Unidad Municipal Turismo","Unidad Municipal Educación","Biblioteca Municipal","Unidad Cultural Municipal","Otras Unidades Municipales","Escuelas o Colegios","Universidades","Otras Unidades externas al Municipio"]
["Servicios Locales con oferta programática para personas mayores (total o parcial)",{"$f":"SUM(C123:M123)","v":0}]
["Servicios locales con planes intersectoriales para el fomento del autocuidado y estimulación funcional del desarrollo junto al Programa Más Adultos Mayores Autovalentes",{"$f":"SUM(C124:M124)","v":0}]
["SECCIÓN J: TALLERES GRUPALES  DE LACTANCIA MATERNA EN ATENCIÓN PRIMARIA "]
["CONCEPTO","Nº de talleres","RANGO ETARIO",null,null,null,"Pueblos Originarios","Migrantes"]
[null,null," De 0 a 29 días","De 1 mes a 2 meses 29 días","De 3 meses a 5 meses 29 días","De 6 meses a 11 meses 29 días"]
["Número de Talleres de Lactancia Materna realizada en Atención Primaria a menores de un año",null,null,null,null,null,null,null,{"$f":"CA128&CB128&CC128&CD128","v":""},null,null,null,null,null,null,null,null,null,null,null,null,null,null,null,null,null,null,null,null,null,null,null,null,null,null,null,null,null,null,null,null,null,null,null,null,null,null,null,null,null,null,null,null,null,null,null,null,null,null,null,null,null,null,null,null,null,null,null,null,null,null,null,null,null,null,null,null,null,{"$f":"IF(CK128=1,\"* No olvide ingresar la variable Pueblos Originarios. Si no tiene digite Cero. \",\"\")","v":""},{"$f":"IF(CL128=1,\"* No olvide ingresar la variable Migrantes. Si no tiene digite Cero. \",\"\")","v":""},{"$f":"IF(CM128=1,\"* El total de Pueblos Originarios NO DEBE superar la suma por Rango Etario. \",\"\")","v":""},{"$f":"IF(CN128=1,\"* El total de Migrantes NO DEBE superar la suma por grupo de edad\",\"\")","v":""},null,null,null,null,null,null,{"$f":"IF(AND(G128=\"\",SUM(C128:F128)<>0),1,0)","v":0},{"$f":"IF(AND(H128=\"\",SUM(C128:F128)<>0),1,0)","v":0},{"$f":"IF(SUM(C128:F128)<G128,1,0)","v":0},{"$f":"IF(SUM(C128:F128)<H128,1,0)","v":0}]
["Número de participantes de Talleres de Lactancia Materna en Atención Primaria a Menores de un año",null,null,null,null,null,null,null,{"$f":"CA129&CB129&CC129&CD129","v":""},null,null,null,null,null,null,null,null,null,null,null,null,null,null,null,null,null,null,null,null,null,null,null,null,null,null,null,null,null,null,null,null,null,null,null,null,null,null,null,null,null,null,null,null,null,null,null,null,null,null,null,null,null,null,null,null,null,null,null,null,null,null,null,null,null,null,null,null,null,{"$f":"IF(CK129=1,\"* No olvide ingresar la variable Pueblos Originarios. Si no tiene digite Cero. \",\"\")","v":""},{"$f":"IF(CL129=1,\"* No olvide ingresar la variable Migrantes. Si no tiene digite Cero. \",\"\")","v":""},{"$f":"IF(CM129=1,\"* El total de Pueblos Originarios NO DEBE superar la suma por Rango Etario. \",\"\")","v":""},{"$f":"IF(CN129=1,\"* El total de Migrantes NO DEBE superar la suma por grupo de edad\",\"\")","v":""},null,null,null,null,null,null,{"$f":"IF(AND(G129=\"\",SUM(C129:F129)<>0),1,0)","v":0},{"$f":"IF(AND(H129=\"\",SUM(C129:F129)<>0),1,0)","v":0},{"$f":"IF(SUM(C129:F129)<G129,1,0)","v":0},{"$f":"IF(SUM(C129:F129)<H129,1,0)","v":0}]
["SECCIÓN K: INTERVENCIONES POSTERIOR AL TAMIZAJE DE SALUD MENTAL"]
["TIPO DE INTERVENCIÓN",null,null,"Nº de intervenciones","POR RANGO ETARIO",null,null,null,null,null,null,null,null,null,"SEXO"]
[null,null,null,null,"0-4 años","5-9 años","10-14 años","15-19 años","20-24 años","25-44 años","45-64 años","65-69 años","70-79 años","80 y más años","Hombres","Mujeres"]
["Consejería en contexto de tamizaje",null,"Nº DE M-CHAT-R/F",{"$f":"+E133","v":0},null,null,null,null,null,null,null,null,null,null,null,null,{"$f":"CA133","v":""},null,null,null,null,null,null,null,null,null,null,null,null,null,null,null,null,null,null,null,null,null,null,null,null,null,null,null,null,null,null,null,null,null,null,null,null,null,null,null,null,null,null,null,null,null,null,null,null,null,null,null,null,null,null,null,null,null,null,null,null,null,{"$f":"IF((O133+P133)<>D133,\" * El desglose por Sexo no puede ser distinto al Total.\",\"\")","v":""},null,null,null,null,null,null,null,null,null,{"$f":"IF((O133+P133)<>D133,1,0)","v":0}]
[null,null,"Nº de Cuestionario PSC-17",{"$f":"+F134","v":0},null,null,null,null,null,null,null,null,null,null,null,null,{"$f":"CA134","v":""},null,null,null,null,null,null,null,null,null,null,null,null,null,null,null,null,null,null,null,null,null,null,null,null,null,null,null,null,null,null,null,null,null,null,null,null,null,null,null,null,null,null,null,null,null,null,null,null,null,null,null,null,null,null,null,null,null,null,null,null,null,{"$f":"IF((O134+P134)<>D134,\" * El desglose por Sexo no puede ser distinto al Total.\",\"\")","v":""},null,null,null,null,null,null,null,null,null,{"$f":"IF((O134+P134)<>D134,1,0)","v":0}]
[null,null,"Nº de Cuestionario PSC-Y-17",{"$f":"+G135","v":0},null,null,null,null,null,null,null,null,null,null,null,null,"",null,null,null,null,null,null,null,null,null,null,null,null,null,null,null,null,null,null,null,null,null,null,null,null,null,null,null,null,null,null,null,null,null,null,null,null,null,null,null,null,null,null,null,null,null,null,null,null,null,null,null,null,null,null,null,null,null,null,null,null,null,"",null,null,null,null,null,null,null,null,null,0]
[null,null,"N° de Cuestionario PHQ-9 modificado para Adolescentes",{"$f":"+H136","v":0},null,null,null,null,null,null,null,null,null,null,null,null,"",null,null,null,null,null,null,null,null,null,null,null,null,null,null,null,null,null,null,null,null,null,null,null,null,null,null,null,null,null,null,null,null,null,null,null,null,null,null,null,null,null,null,null,null,null,null,null,null,null,null,null,null,null,null,null,null,null,null,null,null,null,"",null,null,null,null,null,null,null,null,null,0]
[null,null,"N° de Cuestionario PHQ-9 para Adultos ",{"$f":"+I137+J137+K137","v":0},null,null,null,null,null,null,null,null,null,null,null,null,"",null,null,null,null,null,null,null,null,null,null,null,null,null,null,null,null,null,null,null,null,null,null,null,null,null,null,null,null,null,null,null,null,null,null,null,null,null,null,null,null,null,null,null,null,null,null,null,null,null,null,null,null,null,null,null,null,null,null,null,null,null,"",null,null,null,null,null,null,null,null,null,0]
[null,null,"N° de Escala CAPE-P15",{"$f":"+G138+H138+I138","v":0},null,null,null,null,null,null,null,null,null,null,null,null,"",null,null,null,null,null,null,null,null,null,null,null,null,null,null,null,null,null,null,null,null,null,null,null,null,null,null,null,null,null,null,null,null,null,null,null,null,null,null,null,null,null,null,null,null,null,null,null,null,null,null,null,null,null,null,null,null,null,null,null,null,null,"",null,null,null,null,null,null,null,null,null,0]
[null,null,"N° de escala de Columbia ",{"$f":"+G139+H139+I139","v":0},null,null,null,null,null,null,null,null,null,null,null,null,"",null,null,null,null,null,null,null,null,null,null,null,null,null,null,null,null,null,null,null,null,null,null,null,null,null,null,null,null,null,null,null,null,null,null,null,null,null,null,null,null,null,null,null,null,null,null,null,null,null,null,null,null,null,null,null,null,null,null,null,null,null,"",null,null,null,null,null,null,null,null,null,0]
[null,null,"N° de Escala de Depresión Geriatríca de YESAVAGE GDS-15",{"$f":"+L140+M140+N140","v":0},null,null,null,null,null,null,null,null,null,null,null,null,"",null,null,null,null,null,null,null,null,null,null,null,null,null,null,null,null,null,null,null,null,null,null,null,null,null,null,null,null,null,null,null,null,null,null,null,null,null,null,null,null,null,null,null,null,null,null,null,null,null,null,null,null,null,null,null,null,null,null,null,null,null,"",null,null,null,null,null,null,null,null,null,0]
["Referencia asistida en contexto de tamizaje",null,"Nº DE M-CHAT-R/F",{"$f":"+E141","v":0},null,null,null,null,null,null,null,null,null,null,null,null,"",null,null,null,null,null,null,null,null,null,null,null,null,null,null,null,null,null,null,null,null,null,null,null,null,null,null,null,null,null,null,null,null,null,null,null,null,null,null,null,null,null,null,null,null,null,null,null,null,null,null,null,null,null,null,null,null,null,null,null,null,null,"",null,null,null,null,null,null,null,null,null,0]
[null,null,"Nº de Cuestionario PSC-17",{"$f":"+F142","v":0},null,null,null,null,null,null,null,null,null,null,null,null,"",null,null,null,null,null,null,null,null,null,null,null,null,null,null,null,null,null,null,null,null,null,null,null,null,null,null,null,null,null,null,null,null,null,null,null,null,null,null,null,null,null,null,null,null,null,null,null,null,null,null,null,null,null,null,null,null,null,null,null,null,null,"",null,null,null,null,null,null,null,null,null,0]
[null,null,"Nº de Cuestionario PSC-Y-17",{"$f":"+G143","v":0},null,null,null,null,null,null,null,null,null,null,null,null,"",null,null,null,null,null,null,null,null,null,null,null,null,null,null,null,null,null,null,null,null,null,null,null,null,null,null,null,null,null,null,null,null,null,null,null,null,null,null,null,null,null,null,null,null,null,null,null,null,null,null,null,null,null,null,null,null,null,null,null,null,null,"",null,null,null,null,null,null,null,null,null,0]
[null,null,"N° de Cuestionario PHQ-9 modificado para Adolescentes",{"$f":"+H144","v":0},null,null,null,null,null,null,null,null,null,null,null,null,"",null,null,null,null,null,null,null,null,null,null,null,null,null,null,null,null,null,null,null,null,null,null,null,null,null,null,null,null,null,null,null,null,null,null,null,null,null,null,null,null,null,null,null,null,null,null,null,null,null,null,null,null,null,null,null,null,null,null,null,null,null,"",null,null,null,null,null,null,null,null,null,0]
[null,null,"N° de Cuestionario PHQ-9 para Adultos ",{"$f":"+I145+J145+K145","v":0},null,null,null,null,null,null,null,null,null,null,null,null,"",null,null,null,null,null,null,null,null,null,null,null,null,null,null,null,null,null,null,null,null,null,null,null,null,null,null,null,null,null,null,null,null,null,null,null,null,null,null,null,null,null,null,null,null,null,null,null,null,null,null,null,null,null,null,null,null,null,null,null,null,null,"",null,null,null,null,null,null,null,null,null,0]
[null,null,"N° de Escala CAPE-P15",{"$f":"+G146+H146+I146","v":0},null,null,null,null,null,null,null,null,null,null,null,null,"",null,null,null,null,null,null,null,null,null,null,null,null,null,null,null,null,null,null,null,null,null,null,null,null,null,null,null,null,null,null,null,null,null,null,null,null,null,null,null,null,null,null,null,null,null,null,null,null,null,null,null,null,null,null,null,null,null,null,null,null,null,"",null,null,null,null,null,null,null,null,null,0]
[null,null,"N° de escala de Columbia ",{"$f":"+G147+H147+I147","v":0},null,null,null,null,null,null,null,null,null,null,null,null,"",null,null,null,null,null,null,null,null,null,null,null,null,null,null,null,null,null,null,null,null,null,null,null,null,null,null,null,null,null,null,null,null,null,null,null,null,null,null,null,null,null,null,null,null,null,null,null,null,null,null,null,null,null,null,null,null,null,null,null,null,null,"",null,null,null,null,null,null,null,null,null,0]
[null,null,"N° de Escala de Depresión Geriatríca de YESAVAGE GDS-15",{"$f":"+L148+M148+N148","v":0},null,null,null,null,null,null,null,null,null,null,null,null,"",null,null,null,null,null,null,null,null,null,null,null,null,null,null,null,null,null,null,null,null,null,null,null,null,null,null,null,null,null,null,null,null,null,null,null,null,null,null,null,null,null,null,null,null,null,null,null,null,null,null,null,null,null,null,null,null,null,null,null,null,null,"",null,null,null,null,null,null,null,null,null,0]
["SECCIÓN L: ACTIVIDADES DE EDUCACIÓN PARA LA SALUD SEGÚN PERSONAL QUE LAS REALIZA (SESIONES) (PRAIS) (Contenidas en Sección B)"]
["ÁREAS TEMÁTICAS DE PREVENCIÓN",null,null,"TOTAL","Un Profesional","Dos o más profesionales ","Un profesional y un Técnico en Enfermería ","Técnico en Enfermería ","Facilitador/a Intercultural Pueblos Originarios "]
["Educación en grupo","Estimulación desarrollo psicomotor ",null,{"$f":"SUM(E151:H151)","v":0}]
[null,"Nutrición","Riesgo de malnutrición por exceso",0]
[null,null,"Malnutrición por exceso",0]
[null,null,"Malnutrición de déficit",0]
[null,null,"Sin riesgo de malnutrición",0]
[null,"Prevención de IRA - ERA",null,0]
[null,"Prevención de accidentes",null,0]
[null,"Salud buco-dental",null,0]
[null,"Prevención violencia de género",null,0]
[null,"Salud sexual y reproductiva",null,0]
[null,"Talleres de climaterio",null,0]
[null,"Educación prenatal (Nutrición-lactancia-crianza-autocuidado-preparación parto y otros)",null,0]
[null,"Visita guiada a la maternidad",null,0]
[null,"Promoción de salud mental",null,0]
[null,"Promoción del desarrollo infantil temprano","Del lenguaje",0]
[null,null,"Motor",0]
[null,null,"Otros",0]
[null,"Habilidades parentales","Nadie es perfecto",0]
[null,null,"Familias fuertes",0]
[null,null,"Otros",0]
[null,"Apoyo madre a madre",null,0]
[null,"Prevención de salud mental","Prevención suicidio",0]
[null,null,"Prevención trastorno mental",0]
[null,"Prevención alcohol y drogas",null,0]
[null,"Antitabáquica (excluye REM 23)",null,0]
[null,"Prevención de la transmisión vertical de VIH-Sífilis",null,0]
[null,"Otras áreas temáticas",null,0]
[null,"Educación especial en adulto mayor","Estimulación de memoria",0]
[null,null,"Prevención de caídas",0]
[null,null,"Estimulación de actividad física",0]
[null,"Uso racional de medicamentos",null,0]
[null,"Resistencia antimicrobianos",null,0]
[null,"TOTAL",null,0,{"$f":"SUM(E151:E182)","v":0},{"$f":"SUM(F151:F182)","v":0},{"$f":"SUM(G151:G182)","v":0},{"$f":"SUM(H151:H182)","v":0},{"$f":"SUM(I151:I182)","v":0}]
["SECCIÓN M: EDUCACIÓN PARA PROGRAMA DE SALUD CARDIOVASCULAR",null,null,null,null,null," "]
["TIPO DE EDUCACIÓN","PROFESIONAL/OTROS","TOTAL",null,null,"POR RANGO ETARIO Y SEXO",null,null,null,null,null,null,null,null,null,null,null,null,null,null,null,null,null,null,null,null,null,null,null,null,null,null,null,"Beneficiarios"]
[null,null,null,null,null,"15 - 19 años",null,"20 - 24 años",null,"25 - 29 años",null,"30 - 34 años",null,"35 - 39 años",null,"40 - 44 años",null,"45 - 49 años",null,"50 - 54 años",null,"55 - 59 años",null,"60 - 64 años",null,"65 - 69 años",null,"70 - 74 años",null,"75 - 79 años",null,"80 y mas años"]
[null,null,"Ambos Sexos","Hombres","Mujeres","Hombres","Mujeres","Hombres","Mujeres","Hombres","Mujeres","Hombres","Mujeres","Hombres","Mujeres","Hombres","Mujeres","Hombres","Mujeres","Hombres","Mujeres","Hombres","Mujeres","Hombres","Mujeres","Hombres","Mujeres","Hombres","Mujeres","Hombres","Mujeres","Hombres","Mujeres"]
["Individual","Médico/a",{"$f":"SUM(D188:E188)","v":0},{"$f":"+F188+H188+J188+L188+N188+P188+R188+T188+V188+X188+Z188+AB188+AD188+AF188","v":0},{"$f":"+G188+I188+K188+M188+O188+Q188+S188+U188+W188+Y188+AA188+AC188+AE188+AG188","v":0},null,null,null,null,null,null,null,null,null,null,null,null,null,null,null,null,null,null,null,null,null,null,null,null,null,null,null,null,null,{"$f":"$BZ188","v":""},null,null,null,null,null,null,null,null,null,null,null,null,null,null,null,null,null,null,null,null,null,null,null,null,null,null,null,null,null,null,null,null,null,null,null,null,null,null,null,null,null,null,{"$f":"IF(AND($C188<>0,AH188=\"\"),\"* No olvide ingresar la variable \"&AH$185&\"\"&\" (Digite CERO si no tiene).  \",IF(AH188>$C188,\"* La variable Beneficiarios no puede superar el Total Ambos Sexos. \",\"\"))","v":""},null,null,null,null,null,null,null,null,null,null,{"$f":"IF(AND($C188<>0,AH188=\"\"),1,IF(AH188>$C188,1,0))","v":0}]
[null,"Enfermera/o",{"$f":"SUM(D189:E189)","v":0},{"$f":"+F189+H189+J189+L189+N189+P189+R189+T189+V189+X189+Z189+AB189+AD189+AF189","v":0},0,null,null,null,null,null,null,null,null,null,null,null,null,null,null,null,null,null,null,null,null,null,null,null,null,null,null,null,null,null,{"$f":"$BZ189","v":""},null,null,null,null,null,null,null,null,null,null,null,null,null,null,null,null,null,null,null,null,null,null,null,null,null,null,null,null,null,null,null,null,null,null,null,null,null,null,null,null,null,null,{"$f":"IF(AND($C189<>0,AH189=\"\"),\"* No olvide ingresar la variable \"&AH$185&\"\"&\" (Digite CERO si no tiene).  \",IF(AH189>$C189,\"* La variable Beneficiarios no puede superar el Total Ambos Sexos. \",\"\"))","v":""},null,null,null,null,null,null,null,null,null,null,{"$f":"IF(AND($C189<>0,AH189=\"\"),1,IF(AH189>$C189,1,0))","v":0}]
[null,"Nutricionista",0,0,0,null,null,null,null,null,null,null,null,null,null,null,null,null,null,null,null,null,null,null,null,null,null,null,null,null,null,null,null,null,"",null,null,null,null,null,null,null,null,null,null,null,null,null,null,null,null,null,null,null,null,null,null,null,null,null,null,null,null,null,null,null,null,null,null,null,null,null,null,null,null,null,null,"",null,null,null,null,null,null,null,null,null,null,0]
[null,"Podóloga/o Clínico",0,0,0,null,null,null,null,null,null,null,null,null,null,null,null,null,null,null,null,null,null,null,null,null,null,null,null,null,null,null,null,null,"",null,null,null,null,null,null,null,null,null,null,null,null,null,null,null,null,null,null,null,null,null,null,null,null,null,null,null,null,null,null,null,null,null,null,null,null,null,null,null,null,null,null,"",null,null,null,null,null,null,null,null,null,null,0]
[null,"Técnico en Enfermería",0,0,0,null,null,null,null,null,null,null,null,null,null,null,null,null,null,null,null,null,null,null,null,null,null,null,null,null,null,null,null,null,"",null,null,null,null,null,null,null,null,null,null,null,null,null,null,null,null,null,null,null,null,null,null,null,null,null,null,null,null,null,null,null,null,null,null,null,null,null,null,null,null,null,null,"",null,null,null,null,null,null,null,null,null,null,0]
[null,"Otros profesionales",0,0,0,null,null,null,null,null,null,null,null,null,null,null,null,null,null,null,null,null,null,null,null,null,null,null,null,null,null,null,null,null,"",null,null,null,null,null,null,null,null,null,null,null,null,null,null,null,null,null,null,null,null,null,null,null,null,null,null,null,null,null,null,null,null,null,null,null,null,null,null,null,null,null,null,"",null,null,null,null,null,null,null,null,null,null,0]
["Taller grupal","Equipo multidisciplinario",0,0,0,null,null,null,null,null,null,null,null,null,null,null,null,null,null,null,null,null,null,null,null,null,null,null,null,null,null,null,null,null,"",null,null,null,null,null,null,null,null,null,null,null,null,null,null,null,null,null,null,null,null,null,null,null,null,null,null,null,null,null,null,null,null,null,null,null,null,null,null,null,null,null,null,"",null,null,null,null,null,null,null,null,null,null,0]
[]
[]
[]
[]
[]
[]
[]
[]
[]
[]
[]
[]
[]
[]
[]
[]
[]
[]
[]
[]
[]
[]
[]
[]
[]
[]
[]
[]
[]
[]
[]
[]
[]
[]
[{"$f":"SUM(D10:D45,D49:D82,D86:D88,D91:E93,D97:E99,D103:D111,B114:D114,B118:B119,B123:B124,B128:F129,D133:D148,D151:D182,C188:C194)","v":0},{"$f":"SUM(CK11:CO194)","v":0}]

{"sheet":"A28","index":20,"n_rows":349,"n_cols":91,"rows_kept":349,"cut":false,"hidden":false,"merged":[[5,0,5,13],[9,0,11,0],[9,1,10,3],[9,4,9,37],[9,38,9,41],[9,42,11,42],[10,20,10,21],[10,22,10,23],[10,24,10,25],[10,26,10,27],[9,43,11,43],[9,44,11,44],[10,4,10,5],[10,6,10,7],[10,8,10,9],[10,10,10,11],[10,12,10,13],[10,14,10,15],[10,16,10,17],[10,18,10,19],[10,41,11,41],[10,28,10,29],[10,30,10,31],[10,39,11,39],[10,40,11,40],[10,32,10,33],[10,34,10,35],[10,36,10,37],[10,38,11,38],[25,0,27,0],[25,1,27,1],[25,2,26,4],[25,5,25,38],[25,39,25,42],[26,5,26,6],[26,7,26,8],[26,42,27,42],[26,13,26,14],[26,15,26,16],[26,17,26,18],[26,19,26,20],[26,27,26,28],[26,29,26,30],[26,31,26,32],[26,33,26,34],[26,40,27,40],[26,41,27,41],[26,9,26,10],[26,11,26,12],[68,19,68,22],[68,23,68,25],[26,21,26,22],[26,23,26,24],[26,25,26,26],[51,6,51,7],[26,35,26,36],[26,37,26,38],[26,39,27,39],[60,19,60,22],[60,23,60,25],[112,0,113,0],[112,1,113,1],[112,2,112,5],[112,6,112,7],[60,0,61,0],[60,1,61,1],[60,2,60,18],[28,0,28,1],[29,0,47,0],[51,0,52,0],[51,1,52,1],[51,2,51,5],[68,0,69,0],[68,1,69,1],[68,2,68,18],[134,0,139,0],[143,0,145,0],[143,1,144,3],[143,4,143,37],[144,22,144,23],[144,24,144,25],[144,26,144,27],[117,0,118,0],[117,1,118,1],[117,2,117,4],[117,5,118,5],[117,6,118,6],[117,7,117,10],[123,0,124,0],[123,1,124,1],[123,2,123,3],[123,4,123,5],[123,6,123,7],[123,8,123,9],[123,10,123,11],[125,0,128,0],[129,0,133,0],[143,38,143,40],[144,4,144,5],[144,6,144,7],[144,8,144,9],[144,10,144,11],[144,12,144,13],[144,14,144,15],[144,16,144,17],[144,18,144,19],[144,20,144,21],[144,39,144,40],[144,34,144,35],[144,36,144,37],[144,38,145,38],[144,28,144,29],[144,30,144,31],[144,32,144,33],[285,0,286,0],[285,1,286,1],[285,2,285,18],[249,0,250,0],[249,1,250,1],[205,0,207,0],[205,1,207,1],[205,2,206,18],[205,19,205,23],[206,19,206,21],[206,22,206,23],[249,2,249,18],[255,0,256,0],[255,1,256,1],[255,2,255,18],[194,19,194,23],[195,19,195,21],[195,22,195,23],[182,0,184,0],[182,1,184,1],[182,2,183,18],[182,19,182,23],[183,19,183,21],[183,22,183,23],[194,0,196,0],[194,1,196,1],[194,2,195,18]]}
["SERVICIO DE SALUD"]
[{"$f":"CONCATENATE(\"COMUNA: \",NOMBRE!B2,\" - \",\"( \",NOMBRE!C2,NOMBRE!D2,NOMBRE!E2,NOMBRE!F2,NOMBRE!G2,\" )\")","v":"COMUNA:  - (  )"}]
[{"$f":"CONCATENATE(\"ESTABLECIMIENTO/ESTRATEGIA: \",NOMBRE!B3,\" - \",\"( \",NOMBRE!C3,NOMBRE!D3,NOMBRE!E3,NOMBRE!F3,NOMBRE!G3,NOMBRE!H3,\" )\")","v":"ESTABLECIMIENTO/ESTRATEGIA:  - (  )"}]
[{"$f":"CONCATENATE(\"MES: \",NOMBRE!B6,\" - \",\"( \",NOMBRE!C6,NOMBRE!D6,\" )\")","v":"MES:  - (  )"}]
[{"$f":"CONCATENATE(\"AÑO: \",NOMBRE!B7)","v":"AÑO: 2024"}]
["REM-28. REHABILITACIÓN INTEGRAL"]
[]
["SECCIÓN A:  ATENCIONES DE REHABILITACIÓN NIVEL PRIMARIO  "]
["SECCIÓN A.1: INGRESOS Y EGRESOS  A ATENCIONES DE REHABILITACIÓN EN EL NIVEL PRIMARIO "]
["TIPO DE INGRESO","TOTAL",null,null,"RANGO ETARIO Y SEXO",null,null,null,null,null,null,null,null,null,null,null,null,null,null,null,null,null,null,null,null,null,null,null,null,null,null,null,null,null,null,null,null,null,"TIPO DE ESTRATEGIA",null,null,null,"Personas con discapacidad (con RND)","Pueblos Originarios","Migrantes"]
[null,null,null,null,"0 - 4 años",null,"5 - 9 años",null,"10 - 14 años",null,"15 - 19 años",null,"20 - 24 años",null,"25-29 años",null,"30-34 años",null,"35 - 39 años",null,"40 - 44 años",null,"45- 49 años",null,"50 - 54 años",null,"55 - 59 años",null,"60 - 64 años",null,"65 - 69 años",null,"70 - 74 años",null,"75 - 79 años",null,"80 y mas años",null,"Rehabilitación NNA ","Rehabilitación Base Comunitaria (RBC)","Rehabilitación Integral(RI)","Rehabilitación Rural (RR)"]
[null,"Ambos Sexos","Hombres","Mujeres","Hombres","Mujeres","Hombres","Mujeres","Hombres","Mujeres","Hombres","Mujeres","Hombres","Mujeres","Hombres","Mujeres","Hombres","Mujeres","Hombres","Mujeres","Hombres","Mujeres","Hombres","Mujeres","Hombres","Mujeres","Hombres","Mujeres","Hombres","Mujeres","Hombres","Mujeres","Hombres","Mujeres","Hombres","Mujeres","Hombres","Mujeres"]
["Ingresos",{"$f":"SUM(C13:D13)","v":0},{"$f":"SUM(E13,G13,I13,K13,M13,O13,Q13,S13,U13,W13,Y13,AA13,AC13,AE13,AG13,AI13,AK13)","v":0},{"$f":"SUM(F13,H13,J13,L13,N13,P13,R13,T13,V13,X13,Z13,AB13,AD13,AF13,AH13,AJ13,AL13)","v":0},null,null,null,null,null,null,null,null,null,null,null,null,null,null,null,null,null,null,null,null,null,null,null,null,null,null,null,null,null,null,null,null,null,null,null,null,null,null,null,null,null,{"$f":"CA13&CB13&CC13&CD13","v":""},null,null,null,null,null,null,null,null,null,null,null,null,null,null,null,null,null,null,null,null,null,null,null,null,null,null,null,null,null,null,null,null,{"$f":"IF(AM13+AN13+AO13+AP13<>$B13,\"* El número de \"&AM$10&\"\"&\" no puede ser distinto del Total. \",\"\")","v":""},{"$f":"IF(AND($B13<>0,AQ13=\"\"),\"* No olvide ingresar la variable Personas con discapacidad (con RND). Si no tiene digite CERO.  \",IF(AQ13>$B13,\"* La variable Personas con discapacidad (con RND) no puede superar el Total. \",\"\"))","v":""},{"$f":"IF(AND($B13<>0,AR13=\"\"),\"* No olvide ingresar la variable Pueblos Originarios (Digite CERO si no tiene). \",IF(AR13>$B13,\"* La variable Pueblos Originarios no puede superar el Total. \",\"\"))","v":""},{"$f":"IF(AND($B13<>0,AS13=\"\"),\"* No olvide ingresar la variable Migrantes. Si no tiene digite CERO.  \",IF(AS13>$B13,\"* La variable Migrantes no puede superar el Total. \",\"\"))","v":""},null,null,{"$f":"IF(AM13+AN13+AO13+AP13<>$B13,1,0)","v":0},null,null,null,{"$f":"IF(AND($B13<>0,AQ13=\"\"),1,IF(AQ13>$B13,1,0))","v":0},{"$f":"IF(AND($B13<>0,AR13=\"\"),1,IF(AR13>$B13,1,0))","v":0},{"$f":"IF(AND($B13<>0,AS13=\"\"),1,IF(AS13>$B13,1,0))","v":0}]
["Ingresos con Plan de Tratamiento Integral (PTI)",0,0,0,null,null,null,null,null,null,null,null,null,null,null,null,null,null,null,null,null,null,null,null,null,null,null,null,null,null,null,null,null,null,null,null,null,null,null,null,null,null,null,null,null,{"$f":"CA14&CB14&CC14&CD14","v":""},null,null,null,null,null,null,null,null,null,null,null,null,null,null,null,null,null,null,null,null,null,null,null,null,null,null,null,null,null,null,null,null,{"$f":"IF(AM14+AN14+AO14+AP14<>$B14,\"* El número de \"&AM$10&\"\"&\" no puede ser distinto del Total. \",\"\")","v":""},{"$f":"IF(AND($B14<>0,AQ14=\"\"),\"* No olvide ingresar la variable Personas con discapacidad (con RND). Si no tiene digite CERO.  \",IF(AQ14>$B14,\"* La variable Personas con discapacidad (con RND) no puede superar el Total. \",\"\"))","v":""},{"$f":"IF(AND($B14<>0,AR14=\"\"),\"* No olvide ingresar la variable Pueblos Originarios (Digite CERO si no tiene). \",IF(AR14>$B14,\"* La variable Pueblos Originarios no puede superar el Total. \",\"\"))","v":""},{"$f":"IF(AND($B14<>0,AS14=\"\"),\"* No olvide ingresar la variable Migrantes. Si no tiene digite CERO.  \",IF(AS14>$B14,\"* La variable Migrantes no puede superar el Total. \",\"\"))","v":""},null,null,{"$f":"IF(AM14+AN14+AO14+AP14<>$B14,1,0)","v":0},null,null,null,0,0,0]
["Ingresos con Plan de Tratamiento Integral (PTI) con objetivos para el trabajo",0,0,0,null,null,null,null,null,null,null,null,null,null,null,null,null,null,null,null,null,null,null,null,null,null,null,null,null,null,null,null,null,null,null,null,null,null,null,null,null,null,null,null,null,{"$f":"CA15&CB15&CC15&CD15","v":""},null,null,null,null,null,null,null,null,null,null,null,null,null,null,null,null,null,null,null,null,null,null,null,null,null,null,null,null,null,null,null,null,"","","","",null,null,0,null,null,null,0,0,0]
["Ingresos de usuarios con cuidador",0,0,0,null,null,null,null,null,null,null,null,null,null,null,null,null,null,null,null,null,null,null,null,null,null,null,null,null,null,null,null,null,null,null,null,null,null,null,null,null,null,null,null,null,"",null,null,null,null,null,null,null,null,null,null,null,null,null,null,null,null,null,null,null,null,null,null,null,null,null,null,null,null,null,null,null,null,"","","","",null,null,0,null,null,null,0,0,0]
["Reingreso",0,0,0,null,null,null,null,null,null,null,null,null,null,null,null,null,null,null,null,null,null,null,null,null,null,null,null,null,null,null,null,null,null,null,null,null,null,null,null,null,null,null,null,null,"",null,null,null,null,null,null,null,null,null,null,null,null,null,null,null,null,null,null,null,null,null,null,null,null,null,null,null,null,null,null,null,null,{"$f":"IF(AM17+AN17+AO17+AP17<>$B17,\"* El número de \"&AM$10&\"\"&\" no puede ser distinto del Total. \",\"\")","v":""},"","","",null,null,0,null,null,null,0,0,0]
["Ingresos con PTI cuidador",0,0,0,null,null,null,null,null,null,null,null,null,null,null,null,null,null,null,null,null,null,null,null,null,null,null,null,null,null,null,null,null,null,null,null,null,null,null,null,null,null,null,null,null,"",null,null,null,null,null,null,null,null,null,null,null,null,null,null,null,null,null,null,null,null,null,null,null,null,null,null,null,null,null,null,null,null,"","","","",null,null,0,null,null,null,0,0,0]
["Egresos",0,0,0,{"$f":"SUM(E20:E24)","v":0},0,0,0,0,0,0,0,0,0,0,0,0,0,0,0,0,0,0,0,0,0,0,0,0,0,0,0,0,0,0,0,0,0,0,0,0,0,0,0,0]
["Egresos por alta",0,0,0,null,null,null,null,null,null,null,null,null,null,null,null,null,null,null,null,null,null,null,null,null,null,null,null,null,null,null,null,null,null,null,null,null,null,null,null,null,null,null,null,null,{"$f":"CA20&CB20&CC20&CD20","v":""},null,null,null,null,null,null,null,null,null,null,null,null,null,null,null,null,null,null,null,null,null,null,null,null,null,null,null,null,null,null,null,null,{"$f":"IF(AM20+AN20+AO20+AP20<>$B20,\"* El número de \"&AM$10&\"\"&\" no puede ser distinto del Total. \",\"\")","v":""},"","","",null,null,0,null,null,null,{"$f":"IF(AND($B20<>0,AQ20=\"\"),1,IF(AQ20>$B20,1,0))","v":0},0,0]
["Egresos por abandono",0,0,0,null,null,null,null,null,null,null,null,null,null,null,null,null,null,null,null,null,null,null,null,null,null,null,null,null,null,null,null,null,null,null,null,null,null,null,null,null,null,null,null,null,{"$f":"CA21&CB21&CC21&CD21","v":""},null,null,null,null,null,null,null,null,null,null,null,null,null,null,null,null,null,null,null,null,null,null,null,null,null,null,null,null,null,null,null,null,"","","","",null,null,0,null,null,null,0,0,0]
["Egresos por fallecimiento",0,0,0,null,null,null,null,null,null,null,null,null,null,null,null,null,null,null,null,null,null,null,null,null,null,null,null,null,null,null,null,null,null,null,null,null,null,null,null,null,null,null,null,null,{"$f":"CA22&CB22&CC22&CD22","v":""},null,null,null,null,null,null,null,null,null,null,null,null,null,null,null,null,null,null,null,null,null,null,null,null,null,null,null,null,null,null,null,null,"","","","",null,null,0,null,null,null,0,0,0]
["Egresos por otras causas",0,0,0,null,null,null,null,null,null,null,null,null,null,null,null,null,null,null,null,null,null,null,null,null,null,null,null,null,null,null,null,null,null,null,null,null,null,null,null,null,null,null,null,null,{"$f":"CA23&CB23&CC23&CD23","v":""},null,null,null,null,null,null,null,null,null,null,null,null,null,null,null,null,null,null,null,null,null,null,null,null,null,null,null,null,null,null,null,null,"","","","",null,null,0,null,null,null,0,0,0]
["Egresos con PTI cuidador",0,0,0,null,null,null,null,null,null,null,null,null,null,null,null,null,null,null,null,null,null,null,null,null,null,null,null,null,null,null,null,null,null,null,null,null,null,null,null,null,null,null,null,null,{"$f":"CA24&CB24&CC24&CD24","v":""},null,null,null,null,null,null,null,null,null,null,null,null,null,null,null,null,null,null,null,null,null,null,null,null,null,null,null,null,null,null,null,null,"","","","",null,null,0,null,null,null,0,0,0]
["SECCIÓN A.2: INGRESOS POR CONDICIÓN DE SALUD"]
["CONDICIÓN DE SALUD","CONCEPTO","TOTAL",null,null,"RANGO ETARIO Y SEXO",null,null,null,null,null,null,null,null,null,null,null,null,null,null,null,null,null,null,null,null,null,null,null,null,null,null,null,null,null,null,null,null,null,"TIPO DE ESTRATEGIA"]
[null,null,null,null,null,"0 - 4 años",null,"5 - 9 años",null,"10 - 14 años",null,"15 - 19 años",null,"20 - 24 años",null,"25-29 años",null,"30-34 años",null,"35 - 39 años",null,"40 - 44 años",null,"45- 49 años",null,"50 - 54 años",null,"55 - 59 años",null,"60 - 64 años",null,"65 - 69 años",null,"70 - 74 años",null,"75 - 79 años",null,"80 y mas años",null,"Rehabilitación NNA","Rehabilitación Base Comunitaria (RBC)","Rehabilitación Integral(RI)","Rehabilitación Rural (RR)"]
[null,null,"Ambos Sexos","Hombres","Mujeres","Hombres","Mujeres","Hombres","Mujeres","Hombres","Mujeres","Hombres","Mujeres","Hombres","Mujeres","Hombres","Mujeres","Hombres","Mujeres","Hombres","Mujeres","Hombres","Mujeres","Hombres","Mujeres","Hombres","Mujeres","Hombres","Mujeres","Hombres","Mujeres","Hombres","Mujeres","Hombres","Mujeres","Hombres","Mujeres","Hombres","Mujeres",null,null,null,null,null,null,null,null,null,null,null,null,null,null,null,null,null,null,null,null,null,null,null,null,null,null,null,null,null,null,null,null,null,null,null,null,null,null,null,null,null,null,null,null,null,{"$f":"IF(C29<>SUM(C30:C48),1,0)","v":0}]
["Total ingreso (Nº de personas)",null,{"$f":"SUM(D29:E29)","v":0},{"$f":"+F29+H29+J29+L29+N29+P29+R29+T29+V29+X29+Z29+AB29+AD29+AF29+AH29+AJ29+AL29","v":0},{"$f":"+G29+I29+K29+M29+O29+Q29+S29+U29+W29+Y29+AA29+AC29+AE29+AG29+AI29+AK29+AM29","v":0},null,null,null,null,null,null,null,null,null,null,null,null,null,null,null,null,null,null,null,null,null,null,null,null,null,null,null,null,null,null,null,null,null,null,null,null,null,null,{"$f":"CA29&CB29&CC29&CD29&CE29&CF29","v":""},null,null,null,null,null,null,null,null,null,null,null,null,null,null,null,null,null,null,null,null,null,null,null,null,null,null,null,null,null,null,null,null,null,null,{"$f":"IF(CG29=1,\" * El total de Ingresos debe ser igual a la suma de los Tipos de Estrategia. \",\"\")","v":""},{"$f":"IF(CG28=1,\"* Existen patologías que son mayores al Total de Ingresos-Persona. \",\"\")","v":""},null,null,null,null,{"$f":"IF(SUM(AN29:AQ29)=C29,0,1)","v":0}]
["Condición física","Dolor cervical agudo",0,0,0,null,null,null,null,null,null,null,null,null,null,null,null,null,null,null,null,null,null,null,null,null,null,null,null,null,null,null,null,null,null,null,null,null,null,null,null,null,null,{"$f":"CA30&CB30&CC30&CD30&CE30&CF30","v":""},null,null,null,null,null,null,null,null,null,null,null,null,null,null,null,null,null,null,null,null,null,null,null,null,null,null,null,null,null,null,null,null,null,null,{"$f":"IF(CG30=1,\" * El total de Ingresos debe ser igual a la suma de los Tipos de Estrategia. \",\"\")","v":""},{"$f":"IF(CH30=1,\"* EN Rehabilitación Infantil Existen Patologías que son Mayores a los Ingresos-Personas. \",\"\")","v":""},{"$f":"IF(CI30=1,\"* En RBC existen Patologías que son mayores a los Ingresos-Personas. \",\"\")","v":""},{"$f":"IF(CJ30=1,\"* En RI Existen Patologías que son mayores a los Ingresos-Personas. \",\"\")","v":""},{"$f":"IF(CK30=1,\"* En RR existen patologías que son mayores a los Ingresos-Persona. \",\"\")","v":""},null,{"$f":"IF(SUM(AN30:AQ30)=C30,0,1)","v":0},{"$f":"IF(AN29<MAX(AN30:AN48),1,0)","v":0},{"$f":"IF(AO29<MAX(AO30:AO48),1,0)","v":0},{"$f":"IF(AP29<MAX(AP30:AP48),1,0)","v":0},{"$f":"IF(AQ29<MAX(AQ30:AQ48),1,0)","v":0}]
[null,"Dolor lumbar agudo",0,0,0,null,null,null,null,null,null,null,null,null,null,null,null,null,null,null,null,null,null,null,null,null,null,null,null,null,null,null,null,null,null,null,null,null,null,null,null,null,null,{"$f":"CA31&CB31","v":""},null,null,null,null,null,null,null,null,null,null,null,null,null,null,null,null,null,null,null,null,null,null,null,null,null,null,null,null,null,null,null,null,null,null,{"$f":"IF(CG31=1,\" * El total de Ingresos debe ser igual a la suma de los Tipos de Estrategia. \",\"\")","v":""},null,null,null,null,null,{"$f":"IF(SUM(AN31:AQ31)=C31,0,1)","v":0}]
[null,"Hombro doloroso agudo",0,0,0,null,null,null,null,null,null,null,null,null,null,null,null,null,null,null,null,null,null,null,null,null,null,null,null,null,null,null,null,null,null,null,null,null,null,null,null,null,null,"",null,null,null,null,null,null,null,null,null,null,null,null,null,null,null,null,null,null,null,null,null,null,null,null,null,null,null,null,null,null,null,null,null,null,{"$f":"IF(CG32=1,\" * El total de Ingresos debe ser igual a la suma de los Tipos de Estrategia. \",\"\")","v":""},null,null,null,null,null,{"$f":"IF(SUM(AN32:AQ32)=C32,0,1)","v":0}]
[null,"Otro dolor músculo-esquelético agudo",0,0,0,null,null,null,null,null,null,null,null,null,null,null,null,null,null,null,null,null,null,null,null,null,null,null,null,null,null,null,null,null,null,null,null,null,null,null,null,null,null,"",null,null,null,null,null,null,null,null,null,null,null,null,null,null,null,null,null,null,null,null,null,null,null,null,null,null,null,null,null,null,null,null,null,null,"",null,null,null,null,null,0]
[null,"Artrosis de rodilla y cadera",0,0,0,null,null,null,null,null,null,null,null,null,null,null,null,null,null,null,null,null,null,null,null,null,null,null,null,null,null,null,null,null,null,null,null,null,null,null,null,null,null,"",null,null,null,null,null,null,null,null,null,null,null,null,null,null,null,null,null,null,null,null,null,null,null,null,null,null,null,null,null,null,null,null,null,null,"",null,null,null,null,null,0]
[null,"Artritis reumatoidea",0,0,0,null,null,null,null,null,null,null,null,null,null,null,null,null,null,null,null,null,null,null,null,null,null,null,null,null,null,null,null,null,null,null,null,null,null,null,null,null,null,"",null,null,null,null,null,null,null,null,null,null,null,null,null,null,null,null,null,null,null,null,null,null,null,null,null,null,null,null,null,null,null,null,null,null,"",null,null,null,null,null,0]
[null,"Otro dolor músculo-esquelético crónico",0,0,0,null,null,null,null,null,null,null,null,null,null,null,null,null,null,null,null,null,null,null,null,null,null,null,null,null,null,null,null,null,null,null,null,null,null,null,null,null,null,"",null,null,null,null,null,null,null,null,null,null,null,null,null,null,null,null,null,null,null,null,null,null,null,null,null,null,null,null,null,null,null,null,null,null,"",null,null,null,null,null,0]
[null,"Ataque cerebro vascular (ACV)",0,0,0,null,null,null,null,null,null,null,null,null,null,null,null,null,null,null,null,null,null,null,null,null,null,null,null,null,null,null,null,null,null,null,null,null,null,null,null,null,null,"",null,null,null,null,null,null,null,null,null,null,null,null,null,null,null,null,null,null,null,null,null,null,null,null,null,null,null,null,null,null,null,null,null,null,"",null,null,null,null,null,0]
[null,"Traumatismo encéfalo craneano (TEC)",0,0,0,null,null,null,null,null,null,null,null,null,null,null,null,null,null,null,null,null,null,null,null,null,null,null,null,null,null,null,null,null,null,null,null,null,null,null,null,null,null,"",null,null,null,null,null,null,null,null,null,null,null,null,null,null,null,null,null,null,null,null,null,null,null,null,null,null,null,null,null,null,null,null,null,null,"",null,null,null,null,null,0]
[null,"Lesión medular",0,0,0,null,null,null,null,null,null,null,null,null,null,null,null,null,null,null,null,null,null,null,null,null,null,null,null,null,null,null,null,null,null,null,null,null,null,null,null,null,null,"",null,null,null,null,null,null,null,null,null,null,null,null,null,null,null,null,null,null,null,null,null,null,null,null,null,null,null,null,null,null,null,null,null,null,"",null,null,null,null,null,0]
[null,"Enfermedad de Parkinson",0,0,0,null,null,null,null,null,null,null,null,null,null,null,null,null,null,null,null,null,null,null,null,null,null,null,null,null,null,null,null,null,null,null,null,null,null,null,null,null,null,"",null,null,null,null,null,null,null,null,null,null,null,null,null,null,null,null,null,null,null,null,null,null,null,null,null,null,null,null,null,null,null,null,null,null,"",null,null,null,null,null,0]
[null,"Enfermedades Neuromusculares",0,0,0,null,null,null,null,null,null,null,null,null,null,null,null,null,null,null,null,null,null,null,null,null,null,null,null,null,null,null,null,null,null,null,null,null,null,null,null,null,null,"",null,null,null,null,null,null,null,null,null,null,null,null,null,null,null,null,null,null,null,null,null,null,null,null,null,null,null,null,null,null,null,null,null,null,"",null,null,null,null,null,0]
[null,"Alteraciones en el desarrollo psicomotor",0,0,0,null,null,null,null,null,null,null,null,null,null,null,null,null,null,null,null,null,null,null,null,null,null,null,null,null,null,null,null,null,null,null,null,null,null,null,null,null,null,"",null,null,null,null,null,null,null,null,null,null,null,null,null,null,null,null,null,null,null,null,null,null,null,null,null,null,null,null,null,null,null,null,null,null,"",null,null,null,null,null,0]
[null,"Disrafias espinales",0,0,0,null,null,null,null,null,null,null,null,null,null,null,null,null,null,null,null,null,null,null,null,null,null,null,null,null,null,null,null,null,null,null,null,null,null,null,null,null,null,"",null,null,null,null,null,null,null,null,null,null,null,null,null,null,null,null,null,null,null,null,null,null,null,null,null,null,null,null,null,null,null,null,null,null,"",null,null,null,null,null,0]
[null,"Trastorno Espectro Autista",0,0,0,null,null,null,null,null,null,null,null,null,null,null,null,null,null,null,null,null,null,null,null,null,null,null,null,null,null,null,null,null,null,null,null,null,null,null,null,null,null,"",null,null,null,null,null,null,null,null,null,null,null,null,null,null,null,null,null,null,null,null,null,null,null,null,null,null,null,null,null,null,null,null,null,null,"",null,null,null,null,null,0]
[null,"Amputación",0,0,0,null,null,null,null,null,null,null,null,null,null,null,null,null,null,null,null,null,null,null,null,null,null,null,null,null,null,null,null,null,null,null,null,null,null,null,null,null,null,"",null,null,null,null,null,null,null,null,null,null,null,null,null,null,null,null,null,null,null,null,null,null,null,null,null,null,null,null,null,null,null,null,null,null,"",null,null,null,null,null,0]
[null,"Quemados",0,0,0,null,null,null,null,null,null,null,null,null,null,null,null,null,null,null,null,null,null,null,null,null,null,null,null,null,null,null,null,null,null,null,null,null,null,null,null,null,null,"",null,null,null,null,null,null,null,null,null,null,null,null,null,null,null,null,null,null,null,null,null,null,null,null,null,null,null,null,null,null,null,null,null,null,"",null,null,null,null,null,0]
[null,"COVID-19",0,0,0,null,null,null,null,null,null,null,null,null,null,null,null,null,null,null,null,null,null,null,null,null,null,null,null,null,null,null,null,null,null,null,null,null,null,null,null,null,null,"",null,null,null,null,null,null,null,null,null,null,null,null,null,null,null,null,null,null,null,null,null,null,null,null,null,null,null,null,null,null,null,null,null,null,{"$f":"IF(CG47=1,\" * El total de Ingresos debe ser igual a la suma de los Tipos de Estrategia. \",\"\")","v":""},null,null,null,null,null,0]
[null,"Otros",0,0,0,null,null,null,null,null,null,null,null,null,null,null,null,null,null,null,null,null,null,null,null,null,null,null,null,null,null,null,null,null,null,null,null,null,null,null,null,null,null,"",null,null,null,null,null,null,null,null,null,null,null,null,null,null,null,null,null,null,null,null,null,null,null,null,null,null,null,null,null,null,null,null,null,null,"",null,null,null,null,null,0]
["Condición sensorial visual",null,0,0,0,null,null,null,null,null,null,null,null,null,null,null,null,null,null,null,null,null,null,null,null,null,null,null,null,null,null,null,null,null,null,null,null,null,null,null,null,null,null,"",null,null,null,null,null,null,null,null,null,null,null,null,null,null,null,null,null,null,null,null,null,null,null,null,null,null,null,null,null,null,null,null,null,null,"",null,null,null,null,null,{"$f":"IF(SUM(AN49:AQ49)=C49,0,1)","v":0}]
["Condición sensorial auditivo",null,0,0,0,null,null,null,null,null,null,null,null,null,null,null,null,null,null,null,null,null,null,null,null,null,null,null,null,null,null,null,null,null,null,null,null,null,null,null,null,null,null,"",null,null,null,null,null,null,null,null,null,null,null,null,null,null,null,null,null,null,null,null,null,null,null,null,null,null,null,null,null,null,null,null,null,null,"",null,null,null,null,null,{"$f":"IF(SUM(AN50:AQ50)=C50,0,1)","v":0}]
["SECCIÓN A.3: EVALUACIÓN INICIAL"]
["PROFESIONAL","TOTAL      ","Tipo de Estrategia ",null,null,null,"Modalidad de Rehabilitación  "]
[null,null,"Rehabilitación NNA","Rehabilitación Base Comunitaria (RBC)","Rehabilitación Integral(RI)","Rehabilitación Rural (RR)","Presencial (Establecimiento) ","Domiciliaria"]
["Médico/a",{"$f":"SUM(C54:F54)","v":0}]
["Kinesiólogo/a",{"$f":"SUM(C55:F55)","v":0}]
["Terapeuta Ocupacional",{"$f":"SUM(C56:F56)","v":0}]
["Fonoaudiólogo/a",{"$f":"SUM(C57:F57)","v":0}]
["Psicólogo/a",{"$f":"SUM(C58:F58)","v":0}]
["TOTAL",{"$f":"SUM(B54:B58)","v":0},0,0,0,0,0,0]
["SECCIÓN A.4: EVALUACIÓN INTERMEDIA"]
["PROFESIONAL","TOTAL      ","RANGO ETARIO ",null,null,null,null,null,null,null,null,null,null,null,null,null,null,null,null,"TIPO DE ESTRATEGIA",null,null,null,"MODALIDAD DE REHABILITACIÓN"]
[null,null,"0 - 4 años","5 - 9 años","10 - 14 años","15 - 19 años","20 - 24 años","25-29 años","30-34 años","35 - 39 años","40 - 44 años","45- 49 años","50 - 54 años","55 - 59 años","60 - 64 años","65 - 69 años","70 - 74 años","75 - 79 años","80 y mas años","Rehabilitación NNA","Rehabilitación Base Comunitaria (RBC)","Rehabilitación Integral (RI)","Rehabilitación Rural (RR)","Presencial (Establecimiento)","A distancia","Domiciliaria"]
["Kinesiólogo/a",{"$f":"SUM(C63:S63)","v":0},null,null,null,null,null,null,null,null,null,null,null,null,null,null,null,null,null,null,null,null,null,null,null,null,{"$f":"CA63&CB63&CC63&CD63","v":""},null,null,null,null,null,null,null,null,null,null,null,null,null,null,null,null,null,null,null,null,null,null,null,null,null,null,null,null,null,null,null,null,null,null,null,null,null,null,null,null,null,null,null,null,null,null,null,null,null,null,null,null,null,{"$f":"IF(T63+U63+V63+W63<>$B63,\"* El número de \"&T$61&\"\"&\" no debe ser distinto del Total. \",\"\")","v":""},{"$f":"IF(X63+Y63+Z63>$B63,\"* El número de \"&X$61&\"\"&\" no puede superar el Total. \",\"\")","v":""},null,null,{"$f":"IF(T63+U63+V63+W63<>$B63,1,0)","v":0},{"$f":"IF(X63+Y63+Z63>$B63,1,0)","v":0}]
["Terapeuta Ocupacional",{"$f":"SUM(C64:S64)","v":0},null,null,null,null,null,null,null,null,null,null,null,null,null,null,null,null,null,null,null,null,null,null,null,null,{"$f":"CA64&CB64&CC64&CD64","v":""},null,null,null,null,null,null,null,null,null,null,null,null,null,null,null,null,null,null,null,null,null,null,null,null,null,null,null,null,null,null,null,null,null,null,null,null,null,null,null,null,null,null,null,null,null,null,null,null,null,null,null,null,null,{"$f":"IF(T64+U64+V64+W64<>$B64,\"* El número de \"&T$61&\"\"&\" no debe ser distinto del Total. \",\"\")","v":""},{"$f":"IF(X64+Y64+Z64>$B64,\"* El número de \"&X$61&\"\"&\" no puede superar el Total. \",\"\")","v":""},null,null,{"$f":"IF(T64+U64+V64+W64<>$B64,1,0)","v":0},{"$f":"IF(X64+Y64+Z64>$B64,1,0)","v":0}]
["Fonoaudiólogo/a",{"$f":"SUM(C65:S65)","v":0},null,null,null,null,null,null,null,null,null,null,null,null,null,null,null,null,null,null,null,null,null,null,null,null,"",null,null,null,null,null,null,null,null,null,null,null,null,null,null,null,null,null,null,null,null,null,null,null,null,null,null,null,null,null,null,null,null,null,null,null,null,null,null,null,null,null,null,null,null,null,null,null,null,null,null,null,null,null,"","",null,null,0,0]
["Psicólogo/a",{"$f":"SUM(C66:S66)","v":0},null,null,null,null,null,null,null,null,null,null,null,null,null,null,null,null,null,null,null,null,null,null,null,null,"",null,null,null,null,null,null,null,null,null,null,null,null,null,null,null,null,null,null,null,null,null,null,null,null,null,null,null,null,null,null,null,null,null,null,null,null,null,null,null,null,null,null,null,null,null,null,null,null,null,null,null,null,null,"","",null,null,0,0]
["TOTAL",{"$f":"SUM(B63:B66)","v":0},0,0,0,0,0,0,0,0,0,0,0,0,0,0,0,0,0,0,0,0,0,0,0,0]
["SECCIÓN A.5: SESIONES DE REHABILITACIÓN"]
["PROFESIONAL","TOTAL      ","RANGO ETARIO ",null,null,null,null,null,null,null,null,null,null,null,null,null,null,null,null,"TIPO DE ESTRATEGIA",null,null,null,"MODALIDAD DE REHABILITACIÓN"]
[null,null,"0 - 4 años","5 - 9 años","10 - 14 años","15 - 19 años","20 - 24 años","25-29 años","30-34 años","35 - 39 años","40 - 44 años","45- 49 años","50 - 54 años","55 - 59 años","60 - 64 años","65 - 69 años","70 - 74 años","75 - 79 años","80 y mas años","Rehabilitación NNA","Rehabilitación Base Comunitaria (RBC)","Rehabilitación Integral (RI)","Rehabilitación Rural (RR)","Presencial (Establecimiento)","A distancia","Domiciliaria"]
["Kinesiólogo/a",{"$f":"SUM(C71:S71)","v":0},null,null,null,null,null,null,null,null,null,null,null,null,null,null,null,null,null,null,null,null,null,null,null,null,{"$f":"CA71&CB71&CC71&CD71","v":""},null,null,null,null,null,null,null,null,null,null,null,null,null,null,null,null,null,null,null,null,null,null,null,null,null,null,null,null,null,null,null,null,null,null,null,null,null,null,null,null,null,null,null,null,null,null,null,null,null,null,null,null,null,{"$f":"IF(T71+U71+V71+W71<>$B71,\"* El número de \"&T$61&\"\"&\" no debe ser distinto del Total. \",\"\")","v":""},{"$f":"IF(X71+Y71+Z71>$B71,\"* El número de \"&X$61&\"\"&\" no puede superar el Total. \",\"\")","v":""},null,null,{"$f":"IF(T71+U71+V71+W71<>$B71,1,0)","v":0},{"$f":"IF(X71+Y71+Z71>$B71,1,0)","v":0}]
["Terapeuta Ocupacional",{"$f":"SUM(C72:S72)","v":0},null,null,null,null,null,null,null,null,null,null,null,null,null,null,null,null,null,null,null,null,null,null,null,null,{"$f":"CA72&CB72&CC72&CD72","v":""},null,null,null,null,null,null,null,null,null,null,null,null,null,null,null,null,null,null,null,null,null,null,null,null,null,null,null,null,null,null,null,null,null,null,null,null,null,null,null,null,null,null,null,null,null,null,null,null,null,null,null,null,null,"",{"$f":"IF(X72+Y72+Z72>$B72,\"* El número de \"&X$61&\"\"&\" no puede superar el Total. \",\"\")","v":""},null,null,0,0]
["Fonoaudiólogo/a",{"$f":"SUM(C73:S73)","v":0},null,null,null,null,null,null,null,null,null,null,null,null,null,null,null,null,null,null,null,null,null,null,null,null,"",null,null,null,null,null,null,null,null,null,null,null,null,null,null,null,null,null,null,null,null,null,null,null,null,null,null,null,null,null,null,null,null,null,null,null,null,null,null,null,null,null,null,null,null,null,null,null,null,null,null,null,null,null,"","",null,null,0,0]
["Psicólogo/a",{"$f":"SUM(C74:S74)","v":0},null,null,null,null,null,null,null,null,null,null,null,null,null,null,null,null,null,null,null,null,null,null,null,null,"",null,null,null,null,null,null,null,null,null,null,null,null,null,null,null,null,null,null,null,null,null,null,null,null,null,null,null,null,null,null,null,null,null,null,null,null,null,null,null,null,null,null,null,null,null,null,null,null,null,null,null,null,null,"","",null,null,0,0]
["TOTAL",{"$f":"SUM(B71:B74)","v":0},0,0,0,0,0,0,0,0,0,0,0,0,0,0,0,0,0,0,0,0,0,0,0,0]
["SECCIÓN A.6: PROCEDIMIENTOS Y ACTIVIDADES"]
["TIPO ","Rehabilitación NNA","Total Rehabilitacion Base Comunitaria","Total Rehabilitación Integral","Total Rehabilitacion  Rural "]
["Fisioterapia"]
["Actividad física"]
["Ejercicios terapéuticos"]
["Intervención en actividades de la vida diaria, básicas, instrumentales y avanzadas."]
["Habilitación y rehabilitación educacional"]
["Actividades terapéuticas"]
["Integración sensorial"]
["Adaptación del hogar"]
["Confección órtesis y/o adaptaciones"]
["Reparación de órtesis y/o adaptaciones"]
["Habilitación y rehabilitación socio-laboral"]
["Estimulación cognitiva"]
["Rehabilitación de la voz, habla y/o lenguaje"]
["Rehabilitación de la deglución"]
["Rehabilitación vestibular"]
["Educación persona usuario/a, cuidador/a y/o familiares"]
["Atención psicoterapéutica"]
["TOTAL",{"$f":"SUM(B78:B94)","v":0},{"$f":"SUM(C78:C94)","v":0},{"$f":"SUM(D78:D94)","v":0},{"$f":"SUM(E78:E94)","v":0}]
["SECCIÓN A.7: CONSEJERÍA INDIVIDUAL AGENDADA"]
["PROFESIONAL","Rehabilitación NNA","Total Rehabilitacion Base Comunitaria","Total Rehabilitación Integral","Total Rehabilitacion  Rural "]
["Kinesiólogo/a"]
["Terapeuta Ocupacional"]
["Fonoaudiólogo/a"]
["Psicólogo/a"]
["Trabajador/a social"]
["TOTAL",{"$f":"SUM(B98:B102)","v":0},{"$f":"SUM(C98:C102)","v":0},{"$f":"SUM(D98:D102)","v":0},{"$f":"SUM(E98:E102)","v":0}]
["SECCIÓN A.8: CONSEJERÍA FAMILIAR AGENDADA"]
["PROFESIONAL","Rehabilitación NNA","Total Rehabilitacion Base Comunitaria","Total Rehabilitación Integral","Total Rehabilitacion  Rural "]
["Kinesiólogo/a"]
["Terapeuta Ocupacional"]
["Fonoaudiólogo/a"]
["Psicólogo/a"]
["Trabajador/a social"]
["TOTAL",{"$f":"SUM(B106:B110)","v":0},{"$f":"SUM(C106:C110)","v":0},{"$f":"SUM(D106:D110)","v":0},{"$f":"SUM(E106:E110)","v":0}]
["SECCIÓN A.9: INTERVENCIONES TERAPÉUTICAS GRUPALES "]
["ÁREA TEMÁTICA DE PREVENCIÓN Y TRATAMIENTO","TOTAL","Tipo de estrategia ",null,null,null,"Modalidad de rehabilitación"]
[null,null,"Rehabilitación NNA","Rehabilitación Base Comunitaria (RBC)","Rehabilitación Integral(RI)","Rehabilitación Rural (RR)","Presencial (Establecimiento)","A distancia"]
["Número de personas",{"$f":"SUM(C115:F115)","v":0}]
["Número de sesiones",{"$f":"SUM(C116:F116)","v":0}]
["SECCIÓN A.10: PERSONAS QUE LOGRAN PARTICIPACIÓN EN COMUNIDAD "]
["COMPONENTE (Nº PERSONAS)","TOTAL","Laboral",null,null,"Educativa","Comunitario","Tipo de estrategia "]
[null,null,"Trabajo con objetivos de habilitación y rehabilitación","Trabajo sin objetivos de habilitación y rehabilitación","Dueña/o de casa",null,null,"Rehabilitación NNA","Rehabilitación Base Comunitaria (RBC)","Rehabilitación Integral(RI)","Rehabilitación Rural (RR)"]
["Condición física",{"$f":"SUM(C120:G120)","v":0},null,null,null,null,null,null,null,null,null,{"$f":"CA120&CB120&CC120","v":""},null,null,null,null,null,null,null,null,null,null,null,null,null,null,null,null,null,null,null,null,null,null,null,null,null,null,null,null,null,null,null,null,null,null,null,null,null,null,null,null,null,null,null,null,null,null,null,null,null,null,null,null,null,null,null,null,null,null,null,null,null,null,null,null,null,null,null,{"$f":"IF(H120+I120+J120+K120<>$B120,\"* El número de \"&H$118&\"\"&\" no debe ser distinto del Total. \",\"\")","v":""},null,null,null,null,{"$f":"IF(H120+I120+J120+K120<>$B120,1,0)","v":0}]
["Condición sensorial visual",{"$f":"SUM(C121:G121)","v":0},null,null,null,null,null,null,null,null,null,{"$f":"CA121&CB121&CC121","v":""},null,null,null,null,null,null,null,null,null,null,null,null,null,null,null,null,null,null,null,null,null,null,null,null,null,null,null,null,null,null,null,null,null,null,null,null,null,null,null,null,null,null,null,null,null,null,null,null,null,null,null,null,null,null,null,null,null,null,null,null,null,null,null,null,null,null,null,{"$f":"IF(H121+I121+J121+K121<>$B121,\"* El número de \"&H$118&\"\"&\" no debe ser distinto del Total. \",\"\")","v":""},null,null,null,null,{"$f":"IF(H121+I121+J121+K121<>$B121,1,0)","v":0}]
["Condición sensorial auditivo",{"$f":"SUM(C122:G122)","v":0},null,null,null,null,null,null,null,null,null,{"$f":"CA122&CB122&CC122","v":""},null,null,null,null,null,null,null,null,null,null,null,null,null,null,null,null,null,null,null,null,null,null,null,null,null,null,null,null,null,null,null,null,null,null,null,null,null,null,null,null,null,null,null,null,null,null,null,null,null,null,null,null,null,null,null,null,null,null,null,null,null,null,null,null,null,null,null,"",null,null,null,null,0]
["SECCIÓN A.11: ACTIVIDADES Y PARTICIPACIÓN"]
["MODALIDADES DE INTERVENCIÓN","GRUPO OBJETIVO","Totales Rehabilitación Infantil",null,"Totales Rehabilitación Base Comunitaria (RBC)",null,"Totales Rehabilitación Integral  (RI)",null,"Totales Rehabilitación Rural (RR)",null,"Modalidad de Rehabilitación "]
[null,null," Actividades ","Participantes "," Actividades ","Participantes "," Actividades ","Participantes "," Actividades ","Participantes ","Presencial (Establecimiento)","A distancia"]
["Diagnóstico o planificación participativa","Comunas, comunidades"]
[null,"Organizaciones asociadas a discapacidad"]
[null,"Organizaciones comunitarias"]
[null,"Comunidad educativa"]
["Actividades de promoción de la salud","Comunas, comunidades"]
[null,"Empleadores y compañeros de trabajo"]
[null,"Comunidad educativa"]
[null,"Red de apoyo"]
[null,"Cuidadores"]
["Actividades para fortalecer los conocimientos y destrezas personales","Profesionales de la salud"]
[null,"Empleadores y compañeros de trabajo"]
[null,"Comunidad educativa"]
[null,"Monitores"]
[null,"Red de apoyo"]
[null,"Cuidadores"]
["Asesorías a grupos comunitarios","Organizaciones comunitarias"]
["SECCIÓN B: NIVEL HOSPITALARIO"]
["SECCIÓN B.1: INGRESOS Y EGRESOS  A REHABILITACIÓN INTEGRAL"]
["INGRESOS","TOTAL",null,null,"RANGO ETARIO Y SEXO",null,null,null,null,null,null,null,null,null,null,null,null,null,null,null,null,null,null,null,null,null,null,null,null,null,null,null,null,null,null,null,null,null,"TIPO ATENCIÓN"]
[null,null,null,null,"0 - 4 años",null,"5 - 9 años",null,"10 - 14 años",null,"15 - 19 años",null,"20 - 24 años",null,"25-29 años",null,"30-34 años",null,"35 - 39 años",null,"40 - 44 años",null,"45- 49 años",null,"50 - 54 años",null,"55 - 59 años",null,"60 - 64 años",null,"65 - 69 años",null,"70 - 74 años",null,"75 - 79 años",null,"80 y mas años",null,"Abierta","Cerrado"]
[null,"Ambos Sexos","Hombres","Mujeres","Hombres","Mujeres","Hombres","Mujeres","Hombres","Mujeres","Hombres","Mujeres","Hombres","Mujeres","Hombres","Mujeres","Hombres","Mujeres","Hombres","Mujeres","Hombres","Mujeres","Hombres","Mujeres","Hombres","Mujeres","Hombres","Mujeres","Hombres","Mujeres","Hombres","Mujeres","Hombres","Mujeres","Hombres","Mujeres","Hombres","Mujeres",null,"UPC","Cuidados Medios y Básicos"]
["Total ingresos (Nº de personas)",{"$f":"SUM(C147:D147)","v":0},{"$f":"E147+G147+I147+K147+M147+O147+Q147+S147+U147+W147+Y147+AA147+AC147+AE147+AG147+AI147+AK147","v":0},{"$f":"F147+H147+J147+L147+N147+P147+R147+T147+V147+X147+Z147+AB147+AD147+AF147+AH147+AJ147+AL147","v":0},null,null,null,null,null,null,null,null,null,null,null,null,null,null,null,null,null,null,null,null,null,null,null,null,null,null,null,null,null,null,null,null,null,null,null,null,null,{"$f":"$CA147&CB147","v":""},null,null,null,null,null,null,null,null,null,null,null,null,null,null,null,null,null,null,null,null,null,null,null,null,null,null,null,null,null,null,null,null,null,null,null,null,null,{"$f":"IF(AM147+AN147+AO147<>$B147,\"* El número de \"&AM$144&\"\"&\" no debe ser distinto del Total. \",\"\")","v":""},null,null,null,null,{"$f":"IF(AM147+AN147+AO147<>$B147,1,0)","v":0}]
["Ingresos con plan de tratamiento integral (PTI)",0,0,0,null,null,null,null,null,null,null,null,null,null,null,null,null,null,null,null,null,null,null,null,null,null,null,null,null,null,null,null,null,null,null,null,null,null,null,null,null,"",null,null,null,null,null,null,null,null,null,null,null,null,null,null,null,null,null,null,null,null,null,null,null,null,null,null,null,null,null,null,null,null,null,null,null,null,null,{"$f":"IF(AM148+AN148+AO148<>$B148,\"* El número de \"&AM$144&\"\"&\" no debe ser distinto del Total. \",\"\")","v":""},null,null,null,null,{"$f":"IF(AM148+AN148+AO148<>$B148,1,0)","v":0}]
["Ataque cerebro vascular (ACV)",0,0,0,null,null,null,null,null,null,null,null,null,null,null,null,null,null,null,null,null,null,null,null,null,null,null,null,null,null,null,null,null,null,null,null,null,null,null,null,null,"",null,null,null,null,null,null,null,null,null,null,null,null,null,null,null,null,null,null,null,null,null,null,null,null,null,null,null,null,null,null,null,null,null,null,null,null,null,"",null,null,null,null,0]
["Traumatismo encéfalo craneano (TEC)",0,0,0,null,null,null,null,null,null,null,null,null,null,null,null,null,null,null,null,null,null,null,null,null,null,null,null,null,null,null,null,null,null,null,null,null,null,null,null,null,"",null,null,null,null,null,null,null,null,null,null,null,null,null,null,null,null,null,null,null,null,null,null,null,null,null,null,null,null,null,null,null,null,null,null,null,null,null,"",null,null,null,null,0]
["Lesión medular",0,0,0,null,null,null,null,null,null,null,null,null,null,null,null,null,null,null,null,null,null,null,null,null,null,null,null,null,null,null,null,null,null,null,null,null,null,null,null,null,"",null,null,null,null,null,null,null,null,null,null,null,null,null,null,null,null,null,null,null,null,null,null,null,null,null,null,null,null,null,null,null,null,null,null,null,null,null,"",null,null,null,null,0]
["Neuromusculares agudas",0,0,0,null,null,null,null,null,null,null,null,null,null,null,null,null,null,null,null,null,null,null,null,null,null,null,null,null,null,null,null,null,null,null,null,null,null,null,null,null,"",null,null,null,null,null,null,null,null,null,null,null,null,null,null,null,null,null,null,null,null,null,null,null,null,null,null,null,null,null,null,null,null,null,null,null,null,null,"",null,null,null,null,0]
["Neuromusculares crónicas",0,0,0,null,null,null,null,null,null,null,null,null,null,null,null,null,null,null,null,null,null,null,null,null,null,null,null,null,null,null,null,null,null,null,null,null,null,null,null,null,"",null,null,null,null,null,null,null,null,null,null,null,null,null,null,null,null,null,null,null,null,null,null,null,null,null,null,null,null,null,null,null,null,null,null,null,null,null,"",null,null,null,null,0]
["Disrafias espinales",0,0,0,null,null,null,null,null,null,null,null,null,null,null,null,null,null,null,null,null,null,null,null,null,null,null,null,null,null,null,null,null,null,null,null,null,null,null,null,null,"",null,null,null,null,null,null,null,null,null,null,null,null,null,null,null,null,null,null,null,null,null,null,null,null,null,null,null,null,null,null,null,null,null,null,null,null,null,"",null,null,null,null,0]
["Otras neurológicas",0,0,0,null,null,null,null,null,null,null,null,null,null,null,null,null,null,null,null,null,null,null,null,null,null,null,null,null,null,null,null,null,null,null,null,null,null,null,null,null,"",null,null,null,null,null,null,null,null,null,null,null,null,null,null,null,null,null,null,null,null,null,null,null,null,null,null,null,null,null,null,null,null,null,null,null,null,null,"",null,null,null,null,0]
["Trastornos del Neurodesarrollo",0,0,0,null,null,null,null,null,null,null,null,null,null,null,null,null,null,null,null,null,null,null,null,null,null,null,null,null,null,null,null,null,null,null,null,null,null,null,null,null,"",null,null,null,null,null,null,null,null,null,null,null,null,null,null,null,null,null,null,null,null,null,null,null,null,null,null,null,null,null,null,null,null,null,null,null,null,null,"",null,null,null,null,0]
["Parálisis cerebral",0,0,0,null,null,null,null,null,null,null,null,null,null,null,null,null,null,null,null,null,null,null,null,null,null,null,null,null,null,null,null,null,null,null,null,null,null,null,null,null,"",null,null,null,null,null,null,null,null,null,null,null,null,null,null,null,null,null,null,null,null,null,null,null,null,null,null,null,null,null,null,null,null,null,null,null,null,null,"",null,null,null,null,0]
["Recién nacido de alto riesgo",0,0,0,null,null,null,null,null,null,null,null,null,null,null,null,null,null,null,null,null,null,null,null,null,null,null,null,null,null,null,null,null,null,null,null,null,null,null,null,null,"",null,null,null,null,null,null,null,null,null,null,null,null,null,null,null,null,null,null,null,null,null,null,null,null,null,null,null,null,null,null,null,null,null,null,null,null,null,"",null,null,null,null,0]
["Síndrome POST-UCI",0,0,0,null,null,null,null,null,null,null,null,null,null,null,null,null,null,null,null,null,null,null,null,null,null,null,null,null,null,null,null,null,null,null,null,null,null,null,null,null,"",null,null,null,null,null,null,null,null,null,null,null,null,null,null,null,null,null,null,null,null,null,null,null,null,null,null,null,null,null,null,null,null,null,null,null,null,null,"",null,null,null,null,0]
["COVID-19",0,0,0,null,null,null,null,null,null,null,null,null,null,null,null,null,null,null,null,null,null,null,null,null,null,null,null,null,null,null,null,null,null,null,null,null,null,null,null,null,"",null,null,null,null,null,null,null,null,null,null,null,null,null,null,null,null,null,null,null,null,null,null,null,null,null,null,null,null,null,null,null,null,null,null,null,null,null,"",null,null,null,null,0]
["Enfermedades respiratorias",0,0,0,null,null,null,null,null,null,null,null,null,null,null,null,null,null,null,null,null,null,null,null,null,null,null,null,null,null,null,null,null,null,null,null,null,null,null,null,null,"",null,null,null,null,null,null,null,null,null,null,null,null,null,null,null,null,null,null,null,null,null,null,null,null,null,null,null,null,null,null,null,null,null,null,null,null,null,"",null,null,null,null,0]
["Enfermedades cardíacas",0,0,0,null,null,null,null,null,null,null,null,null,null,null,null,null,null,null,null,null,null,null,null,null,null,null,null,null,null,null,null,null,null,null,null,null,null,null,null,null,"",null,null,null,null,null,null,null,null,null,null,null,null,null,null,null,null,null,null,null,null,null,null,null,null,null,null,null,null,null,null,null,null,null,null,null,null,null,"",null,null,null,null,0]
["Dolor musculoesquelético crónico",0,0,0,null,null,null,null,null,null,null,null,null,null,null,null,null,null,null,null,null,null,null,null,null,null,null,null,null,null,null,null,null,null,null,null,null,null,null,null,null,"",null,null,null,null,null,null,null,null,null,null,null,null,null,null,null,null,null,null,null,null,null,null,null,null,null,null,null,null,null,null,null,null,null,null,null,null,null,"",null,null,null,null,0]
["Artritis reumatoidea",0,0,0,null,null,null,null,null,null,null,null,null,null,null,null,null,null,null,null,null,null,null,null,null,null,null,null,null,null,null,null,null,null,null,null,null,null,null,null,null,"",null,null,null,null,null,null,null,null,null,null,null,null,null,null,null,null,null,null,null,null,null,null,null,null,null,null,null,null,null,null,null,null,null,null,null,null,null,"",null,null,null,null,0]
["Otras reumatológicas",0,0,0,null,null,null,null,null,null,null,null,null,null,null,null,null,null,null,null,null,null,null,null,null,null,null,null,null,null,null,null,null,null,null,null,null,null,null,null,null,"",null,null,null,null,null,null,null,null,null,null,null,null,null,null,null,null,null,null,null,null,null,null,null,null,null,null,null,null,null,null,null,null,null,null,null,null,null,"",null,null,null,null,0]
["Traumatológicos",0,0,0,null,null,null,null,null,null,null,null,null,null,null,null,null,null,null,null,null,null,null,null,null,null,null,null,null,null,null,null,null,null,null,null,null,null,null,null,null,"",null,null,null,null,null,null,null,null,null,null,null,null,null,null,null,null,null,null,null,null,null,null,null,null,null,null,null,null,null,null,null,null,null,null,null,null,null,"",null,null,null,null,0]
["Otros pre y post quirúrgicos",0,0,0,null,null,null,null,null,null,null,null,null,null,null,null,null,null,null,null,null,null,null,null,null,null,null,null,null,null,null,null,null,null,null,null,null,null,null,null,null,"",null,null,null,null,null,null,null,null,null,null,null,null,null,null,null,null,null,null,null,null,null,null,null,null,null,null,null,null,null,null,null,null,null,null,null,null,null,"",null,null,null,null,0]
["Oncológicos",0,0,0,null,null,null,null,null,null,null,null,null,null,null,null,null,null,null,null,null,null,null,null,null,null,null,null,null,null,null,null,null,null,null,null,null,null,null,null,null,"",null,null,null,null,null,null,null,null,null,null,null,null,null,null,null,null,null,null,null,null,null,null,null,null,null,null,null,null,null,null,null,null,null,null,null,null,null,"",null,null,null,null,0]
["Genitourinarias",0,0,0,null,null,null,null,null,null,null,null,null,null,null,null,null,null,null,null,null,null,null,null,null,null,null,null,null,null,null,null,null,null,null,null,null,null,null,null,null,"",null,null,null,null,null,null,null,null,null,null,null,null,null,null,null,null,null,null,null,null,null,null,null,null,null,null,null,null,null,null,null,null,null,null,null,null,null,"",null,null,null,null,0]
["Amputación",0,0,0,null,null,null,null,null,null,null,null,null,null,null,null,null,null,null,null,null,null,null,null,null,null,null,null,null,null,null,null,null,null,null,null,null,null,null,null,null,"",null,null,null,null,null,null,null,null,null,null,null,null,null,null,null,null,null,null,null,null,null,null,null,null,null,null,null,null,null,null,null,null,null,null,null,null,null,"",null,null,null,null,0]
["Quemados",0,0,0,null,null,null,null,null,null,null,null,null,null,null,null,null,null,null,null,null,null,null,null,null,null,null,null,null,null,null,null,null,null,null,null,null,null,null,null,null,"",null,null,null,null,null,null,null,null,null,null,null,null,null,null,null,null,null,null,null,null,null,null,null,null,null,null,null,null,null,null,null,null,null,null,null,null,null,"",null,null,null,null,0]
["Sensoriales auditivos",0,0,0,null,null,null,null,null,null,null,null,null,null,null,null,null,null,null,null,null,null,null,null,null,null,null,null,null,null,null,null,null,null,null,null,null,null,null,null,null,"",null,null,null,null,null,null,null,null,null,null,null,null,null,null,null,null,null,null,null,null,null,null,null,null,null,null,null,null,null,null,null,null,null,null,null,null,null,"",null,null,null,null,0]
["Sensoriales visuales",0,0,0,null,null,null,null,null,null,null,null,null,null,null,null,null,null,null,null,null,null,null,null,null,null,null,null,null,null,null,null,null,null,null,null,null,null,null,null,null,"",null,null,null,null,null,null,null,null,null,null,null,null,null,null,null,null,null,null,null,null,null,null,null,null,null,null,null,null,null,null,null,null,null,null,null,null,null,"",null,null,null,null,0]
["Trastorno espectro autista",0,0,0,null,null,null,null,null,null,null,null,null,null,null,null,null,null,null,null,null,null,null,null,null,null,null,null,null,null,null,null,null,null,null,null,null,null,null,null,null,"",null,null,null,null,null,null,null,null,null,null,null,null,null,null,null,null,null,null,null,null,null,null,null,null,null,null,null,null,null,null,null,null,null,null,null,null,null,"",null,null,null,null,0]
["Otros",0,0,0,null,null,null,null,null,null,null,null,null,null,null,null,null,null,null,null,null,null,null,null,null,null,null,null,null,null,null,null,null,null,null,null,null,null,null,null,null,"",null,null,null,null,null,null,null,null,null,null,null,null,null,null,null,null,null,null,null,null,null,null,null,null,null,null,null,null,null,null,null,null,null,null,null,null,null,"",null,null,null,null,0]
["EGRESOS",{"$f":"SUM(B177:B181)","v":0},0,0,0,0,0,0,0,0,0,0,0,0,0,0,0,0,0,0,0,0,0,0,0,0,0,0,0,0,0,0,0,0,0,0,0,0,0,0,0]
["Egresos por alta",{"$f":"SUM(C177:D177)","v":0},{"$f":"E177+G177+I177+K177+M177+O177+Q177+S177+U177+W177+Y177+AA177+AC177+AE177+AG177+AI177+AK177","v":0},0,null,null,null,null,null,null,null,null,null,null,null,null,null,null,null,null,null,null,null,null,null,null,null,null,null,null,null,null,null,null,null,null,null,null,null,null,null,{"$f":"$CA177&CB177","v":""},null,null,null,null,null,null,null,null,null,null,null,null,null,null,null,null,null,null,null,null,null,null,null,null,null,null,null,null,null,null,null,null,null,null,null,null,null,"",null,null,null,null,{"$f":"IF(AM177+AN177+AO177<>$B177,1,0)","v":0}]
["Egresos por abandono",{"$f":"SUM(C178:D178)","v":0},0,0,null,null,null,null,null,null,null,null,null,null,null,null,null,null,null,null,null,null,null,null,null,null,null,null,null,null,null,null,null,null,null,null,null,null,null,null,null,{"$f":"$CA178&CB178","v":""},null,null,null,null,null,null,null,null,null,null,null,null,null,null,null,null,null,null,null,null,null,null,null,null,null,null,null,null,null,null,null,null,null,null,null,null,null,"",null,null,null,null,0]
["Egresos por fallecimiento",{"$f":"SUM(C179:D179)","v":0},0,0,null,null,null,null,null,null,null,null,null,null,null,null,null,null,null,null,null,null,null,null,null,null,null,null,null,null,null,null,null,null,null,null,null,null,null,null,null,{"$f":"$CA179&CB179","v":""},null,null,null,null,null,null,null,null,null,null,null,null,null,null,null,null,null,null,null,null,null,null,null,null,null,null,null,null,null,null,null,null,null,null,null,null,null,"",null,null,null,null,0]
["Egresos ACV referido a APS",{"$f":"SUM(C180:D180)","v":0},0,0,null,null,null,null,null,null,null,null,null,null,null,null,null,null,null,null,null,null,null,null,null,null,null,null,null,null,null,null,null,null,null,null,null,null,null,null,null,{"$f":"$CA180&CB180","v":""},null,null,null,null,null,null,null,null,null,null,null,null,null,null,null,null,null,null,null,null,null,null,null,null,null,null,null,null,null,null,null,null,null,null,null,null,null,"",null,null,null,null,0]
["Otros",{"$f":"SUM(C181:D181)","v":0},0,0,null,null,null,null,null,null,null,null,null,null,null,null,null,null,null,null,null,null,null,null,null,null,null,null,null,null,null,null,null,null,null,null,null,null,null,null,null,{"$f":"$CA181&CB181","v":""},null,null,null,null,null,null,null,null,null,null,null,null,null,null,null,null,null,null,null,null,null,null,null,null,null,null,null,null,null,null,null,null,null,null,null,null,null,"",null,null,null,null,0]
["SECCIÓN B.2: EVALUACIÓN INICIAL"]
["PROFESIONAL","TOTAL","RANGO ETARIO",null,null,null,null,null,null,null,null,null,null,null,null,null,null,null,null,"TIPO ATENCIÓN"]
[null,null,null,null,null,null,null,null,null,null,null,null,null,null,null,null,null,null,null,"Abierta",null,null,"Cerrada"]
[null,null,"0 - 4 años","5 - 9 años","10 - 14 años","15 - 19 años","20 - 24 años","25-29 años","30-34 años","35 - 39 años","40 - 44 años","45- 49 años","50 - 54 años","55 - 59 años","60 - 64 años","65 - 69 años","70 - 74 años","75 - 79 años","80 y mas años","Presencial ","A Distancia","Domiciliaria ","UPC","Cuidados Medios y Básicos"]
["Kinesiólogo/a",{"$f":"SUM(C186:S186)","v":0},null,null,null,null,null,null,null,null,null,null,null,null,null,null,null,null,null,null,null,null,null,null,{"$f":"$CA186&CB186","v":""},null,null,null,null,null,null,null,null,null,null,null,null,null,null,null,null,null,null,null,null,null,null,null,null,null,null,null,null,null,null,null,null,null,null,null,null,null,null,null,null,null,null,null,null,null,null,null,null,null,null,null,null,null,null,{"$f":"IF(T186+U186+V186+W186+X186<>$B186,\"* El número de \"&T$183&\"\"&\" no debe ser distinto del Total. \",\"\")","v":""},null,null,null,null,{"$f":"IF(T186+U186+V186+W186+X186<>$B186,1,0)","v":0}]
["Terapeuta ocupacional",0,null,null,null,null,null,null,null,null,null,null,null,null,null,null,null,null,null,null,null,null,null,null,"",null,null,null,null,null,null,null,null,null,null,null,null,null,null,null,null,null,null,null,null,null,null,null,null,null,null,null,null,null,null,null,null,null,null,null,null,null,null,null,null,null,null,null,null,null,null,null,null,null,null,null,null,null,null,{"$f":"IF(T187+U187+V187+W187+X187<>$B187,\"* El número de \"&T$183&\"\"&\" no debe ser distinto del Total. \",\"\")","v":""},null,null,null,null,{"$f":"IF(T187+U187+V187+W187+X187<>$B187,1,0)","v":0}]
["Fonoadiólogo/a",0,null,null,null,null,null,null,null,null,null,null,null,null,null,null,null,null,null,null,null,null,null,null,"",null,null,null,null,null,null,null,null,null,null,null,null,null,null,null,null,null,null,null,null,null,null,null,null,null,null,null,null,null,null,null,null,null,null,null,null,null,null,null,null,null,null,null,null,null,null,null,null,null,null,null,null,null,null,"",null,null,null,null,0]
["Psicólogo/a",0,null,null,null,null,null,null,null,null,null,null,null,null,null,null,null,null,null,null,null,null,null,null,"",null,null,null,null,null,null,null,null,null,null,null,null,null,null,null,null,null,null,null,null,null,null,null,null,null,null,null,null,null,null,null,null,null,null,null,null,null,null,null,null,null,null,null,null,null,null,null,null,null,null,null,null,null,null,"",null,null,null,null,0]
["Trabajador/a Social",0,null,null,null,null,null,null,null,null,null,null,null,null,null,null,null,null,null,null,null,null,null,null,"",null,null,null,null,null,null,null,null,null,null,null,null,null,null,null,null,null,null,null,null,null,null,null,null,null,null,null,null,null,null,null,null,null,null,null,null,null,null,null,null,null,null,null,null,null,null,null,null,null,null,null,null,null,null,"",null,null,null,null,0]
["Ortoprotesista",0,null,null,null,null,null,null,null,null,null,null,null,null,null,null,null,null,null,null,null,null,null,null,"",null,null,null,null,null,null,null,null,null,null,null,null,null,null,null,null,null,null,null,null,null,null,null,null,null,null,null,null,null,null,null,null,null,null,null,null,null,null,null,null,null,null,null,null,null,null,null,null,null,null,null,null,null,null,"",null,null,null,null,{"$f":"IF(T191+U191+V191+W191+X191<>$B191,1,0)","v":0}]
["Enfermera/o",0,null,null,null,null,null,null,null,null,null,null,null,null,null,null,null,null,null,null,null,null,null,null,"",null,null,null,null,null,null,null,null,null,null,null,null,null,null,null,null,null,null,null,null,null,null,null,null,null,null,null,null,null,null,null,null,null,null,null,null,null,null,null,null,null,null,null,null,null,null,null,null,null,null,null,null,null,null,"",null,null,null,null,0]
["TOTAL",{"$f":"SUM(B186:B192)","v":0},0,0,0,0,0,0,0,0,0,0,0,0,0,0,0,0,0,0,0,0,0,0]
["SECCIÓN B.3: EVALUACIÓN INTERMEDIA"]
["PROFESIONAL","TOTAL","RANGO ETARIO",null,null,null,null,null,null,null,null,null,null,null,null,null,null,null,null,"TIPO ATENCIÓN"]
[null,null,null,null,null,null,null,null,null,null,null,null,null,null,null,null,null,null,null,"Abierta",null,null,"Cerrada"]
[null,null,"0 - 4 años","5 - 9 años","10 - 14 años","15 - 19 años","20 - 24 años","25-29 años","30-34 años","35 - 39 años","40 - 44 años","45- 49 años","50 - 54 años","55 - 59 años","60 - 64 años","65 - 69 años","70 - 74 años","75 - 79 años","80 y mas años","Presencial ","A Distancia","Domiciliaria ","UPC","Cuidados Medios y Básicos"]
["Kinesiólogo/a",{"$f":"SUM(C198:S198)","v":0},null,null,null,null,null,null,null,null,null,null,null,null,null,null,null,null,null,null,null,null,null,null,{"$f":"$CA198&CB198","v":""},null,null,null,null,null,null,null,null,null,null,null,null,null,null,null,null,null,null,null,null,null,null,null,null,null,null,null,null,null,null,null,null,null,null,null,null,null,null,null,null,null,null,null,null,null,null,null,null,null,null,null,null,null,null,{"$f":"IF(T198+U198+V198+W198+X198<>$B198,\"* El número de \"&T$183&\"\"&\" no debe ser distinto del Total. \",\"\")","v":""},null,null,null,null,{"$f":"IF(T198+U198+V198+W198+X198<>$B198,1,0)","v":0}]
["Terapeuta ocupacional",0,null,null,null,null,null,null,null,null,null,null,null,null,null,null,null,null,null,null,null,null,null,null,"",null,null,null,null,null,null,null,null,null,null,null,null,null,null,null,null,null,null,null,null,null,null,null,null,null,null,null,null,null,null,null,null,null,null,null,null,null,null,null,null,null,null,null,null,null,null,null,null,null,null,null,null,null,null,"",null,null,null,null,0]
["Fonoadiólogo/a",0,null,null,null,null,null,null,null,null,null,null,null,null,null,null,null,null,null,null,null,null,null,null,"",null,null,null,null,null,null,null,null,null,null,null,null,null,null,null,null,null,null,null,null,null,null,null,null,null,null,null,null,null,null,null,null,null,null,null,null,null,null,null,null,null,null,null,null,null,null,null,null,null,null,null,null,null,null,"",null,null,null,null,0]
["Psicólogo/a",0,null,null,null,null,null,null,null,null,null,null,null,null,null,null,null,null,null,null,null,null,null,null,"",null,null,null,null,null,null,null,null,null,null,null,null,null,null,null,null,null,null,null,null,null,null,null,null,null,null,null,null,null,null,null,null,null,null,null,null,null,null,null,null,null,null,null,null,null,null,null,null,null,null,null,null,null,null,"",null,null,null,null,0]
["Ortoprotesista",0,null,null,null,null,null,null,null,null,null,null,null,null,null,null,null,null,null,null,null,null,null,null,"",null,null,null,null,null,null,null,null,null,null,null,null,null,null,null,null,null,null,null,null,null,null,null,null,null,null,null,null,null,null,null,null,null,null,null,null,null,null,null,null,null,null,null,null,null,null,null,null,null,null,null,null,null,null,"",null,null,null,null,0]
["Trabajador/a Social",0,null,null,null,null,null,null,null,null,null,null,null,null,null,null,null,null,null,null,null,null,null,null,"",null,null,null,null,null,null,null,null,null,null,null,null,null,null,null,null,null,null,null,null,null,null,null,null,null,null,null,null,null,null,null,null,null,null,null,null,null,null,null,null,null,null,null,null,null,null,null,null,null,null,null,null,null,null,"",null,null,null,null,0]
["TOTAL",{"$f":"SUM(B198:B203)","v":0},0,0,0,0,0,0,0,0,0,0,0,0,0,0,0,0,0,0,0,0,0,0]
["SECCIÓN B.4: SESIONES DE REHABILITACIÓN"]
["PROFESIONAL","TOTAL","RANGO ETARIO",null,null,null,null,null,null,null,null,null,null,null,null,null,null,null,null,"TIPO ATENCIÓN"]
[null,null,null,null,null,null,null,null,null,null,null,null,null,null,null,null,null,null,null,"Abierta",null,null,"Cerrada"]
[null,null,"0 - 4 años","5 - 9 años","10 - 14 años","15 - 19 años","20 - 24 años","25-29 años","30-34 años","35 - 39 años","40 - 44 años","45- 49 años","50 - 54 años","55 - 59 años","60 - 64 años","65 - 69 años","70 - 74 años","75 - 79 años","80 y mas años","Presencial ","A Distancia","Domiciliaria ","UPC","Cuidados Medios y Básicos"]
["Kinesiólogo/a",{"$f":"SUM(C209:S209)","v":0},null,null,null,null,null,null,null,null,null,null,null,null,null,null,null,null,null,null,null,null,null,null,{"$f":"$CA209&CB209","v":""},null,null,null,null,null,null,null,null,null,null,null,null,null,null,null,null,null,null,null,null,null,null,null,null,null,null,null,null,null,null,null,null,null,null,null,null,null,null,null,null,null,null,null,null,null,null,null,null,null,null,null,null,null,null,{"$f":"IF(T209+U209+V209+W209+X209<>$B209,\"* El número de \"&T$183&\"\"&\" no debe ser distinto del Total. \",\"\")","v":""},null,null,null,null,{"$f":"IF(T209+U209+V209+W209+X209<>$B209,1,0)","v":0}]
["Terapeuta ocupacional",{"$f":"SUM(C210:S210)","v":0},null,null,null,null,null,null,null,null,null,null,null,null,null,null,null,null,null,null,null,null,null,null,{"$f":"$CA210&CB210","v":""},null,null,null,null,null,null,null,null,null,null,null,null,null,null,null,null,null,null,null,null,null,null,null,null,null,null,null,null,null,null,null,null,null,null,null,null,null,null,null,null,null,null,null,null,null,null,null,null,null,null,null,null,null,null,"",null,null,null,null,0]
["Fonoadiólogo/a",{"$f":"SUM(C211:S211)","v":0},null,null,null,null,null,null,null,null,null,null,null,null,null,null,null,null,null,null,null,null,null,null,{"$f":"$CA211&CB211","v":""},null,null,null,null,null,null,null,null,null,null,null,null,null,null,null,null,null,null,null,null,null,null,null,null,null,null,null,null,null,null,null,null,null,null,null,null,null,null,null,null,null,null,null,null,null,null,null,null,null,null,null,null,null,null,"",null,null,null,null,0]
["Psicólogo/a",{"$f":"SUM(C212:S212)","v":0},null,null,null,null,null,null,null,null,null,null,null,null,null,null,null,null,null,null,null,null,null,null,{"$f":"$CA212&CB212","v":""},null,null,null,null,null,null,null,null,null,null,null,null,null,null,null,null,null,null,null,null,null,null,null,null,null,null,null,null,null,null,null,null,null,null,null,null,null,null,null,null,null,null,null,null,null,null,null,null,null,null,null,null,null,null,"",null,null,null,null,0]
["TOTAL",{"$f":"SUM(B209:B212)","v":0},0,0,0,0,0,0,0,0,0,0,0,0,0,0,0,0,0,0,0,0,0,0]
["SECCIÓN B.5: DERIVACIONES Y CONTINUIDAD EN LOS CUIDADOS"]
["DERIVACIÓN","TOTAL      "]
["A otro hospital (hospitalizado)"]
["A nivel secundario (ambulatorio)"]
["A nivel primario"]
["Institución con convenio"]
["SECCIÓN B.6: PROCEDIMIENTOS Y ACTIVIDADES"]
["TIPO","TOTAL"]
["Fisioterapia"]
["Actividad física"]
["Ejercicios terapéuticos"]
["Intervención en actividades de la vida diaria, básicas, instrumentales y avanzadas."]
["Habilitación y rehabilitación educacional"]
["Actividades terapéuticas"]
["Integración sensorial"]
["Tratamiento compresivo"]
["Habilitación y rehabilitación socio-laboral"]
["Adaptación del hogar"]
["Confección de órtesis y/o adaptaciones"]
["Reparación de órtesis y/o adaptaciones"]
["Confección de prótesis"]
["Reparación de prótesis"]
["Estimulación cognitiva"]
["Rehabilitación de la voz, habla y/o lenguaje"]
["Rehabilitación de la deglución"]
["Rehabilitación vestibular"]
["Educación a usuario/a, cuidador/a y/o familiar"]
["Atención psicoterapéutica"]
["Orientación y movilidad"]
["Estimulación sensorial"]
["Terapia respiratoria y funcional pulmonar"]
["Rehabilitación auditiva individual"]
["Rehabilitación auditiva grupal"]
["TOTAL",{"$f":"SUM(B222:B246)","v":0}]
["SECCIÓN C: AYUDAS TÉCNICAS DE SALUD, NIVEL APS Y HOSPITALARIO"]
["SECCIÓN C.1: NÚMERO DE PERSONAS QUE RECIBEN AYUDAS TÉCNICAS"]
["AYUDAS TÉCNICAS","TOTAL","RANGO ETARIO"]
[null,null,"0 - 4 años","5 - 9 años","10 - 14 años","15 - 19 años","20 - 24 años","25-29 años","30-34 años","35 - 39 años","40 - 44 años","45- 49 años","50 - 54 años","55 - 59 años","60 - 64 años","65 - 69 años","70 - 74 años","75 - 79 años","80 y mas años"]
["Número de evaluaciones de ayudas técnicas",{"$f":"SUM(C252:S252)","v":0}]
["Número de personas con ayuda técnica entregada",{"$f":"SUM(C253:S253)","v":0}]
["Número de entrenamiento de ayudas técnicas",{"$f":"SUM(C254:S254)","v":0}]
["SECCIÓN C.2: NÚMERO DE  AYUDAS TÉCNICAS ENTREGADAS POR TIPO"]
["TOTAL DE AYUDAS TÉCNICAS ENTREGADAS","TOTAL ","RANGO ETARIO"]
[null,null,"0 - 4 años","5 - 9 años","10 - 14 años","15 - 19 años","20 - 24 años","25-29 años","30-34 años","35 - 39 años","40 - 44 años","45- 49 años","50 - 54 años","55 - 59 años","60 - 64 años","65 - 69 años","70 - 74 años","75 - 79 años","80 y mas años"]
["Sillas de ruedas estándar",{"$f":"SUM(C258:S258)","v":0}]
["Silla de ruedas neurológicas",0]
["Cojín anti escaras",0]
["Colchón anti escaras",0]
["Bastones",0]
["Andadores",0]
["Sitting",0]
["Órtesis de columna vertebral",0]
["Órtesis miembro inferior",0]
["Órtesis miembro superior",0]
["Cojines y respaldos para la estabilización y posicionamiento del cuerpo",0]
["Ayudas técnicas para actividades de alimentación, vestuario e higiene personal",0]
["Sistema compresivo",0]
["Prótesis extremidad inferior transtibial",0]
["Prótesis extremidad inferior transfemoral",0]
["Otras prótesis extremidad inferior",0]
["Prótesis extremidad superior",0]
["Audífonos",0]
["Lentes",0]
["Plantilla ortopédica",0]
["Bota o botín de descarga",0]
["Zapato ortopédico",0]
["Baño portátil",0]
["Tecnologías de la Comunicación Aumentativa y Alternativas",0]
["Equipo ventilador mecánico no invasivo",0]
["Aspirador de secreciones",0]
["Otras",0]
["SECCIÓN C.3: AYUDAS TÉCNICAS POR CONDICIÓN DE SALUD"]
["TOTAL AYUDA TÉCNICA POR CONDICIÓN DE SALUD","TOTAL"," RANGO ETARIO"]
[null,null,"0 - 4 años","5 - 9 años","10 - 14 años","15 - 19 años","20 - 24 años","25-29 años","30-34 años","35 - 39 años","40 - 44 años","45- 49 años","50 - 54 años","55 - 59 años","60 - 64 años","65 - 69 años","70 - 74 años","75 - 79 años","80 y mas años"]
["Traumatismo encéfalo craneano (TEC)",{"$f":"SUM(C288:S288)","v":0}]
["Disrafias espinales",0]
["Lesión medular",0]
["Ataque cerebro vascular (ACV)",0]
["Parálisis cerebral",0]
["Enfermedad de Parkinson",0]
["Esclerosis lateral amiotrófica",0]
["Otras neurológicas",0]
["Dolor musculoesquelético crónico",0]
["Diabetes mellitus",0]
["Amputación",0]
["Oncológicos",0]
["Quemados",0]
["Sensorial auditivo",0]
["Sensorial visual",0]
["COVID-19",0]
["Síndrome POST-UCI",0]
["Persona mayor frágil",0]
["Artritis reumatoidea",0]
["Otras reumatológicas",0]
["Otras condiciones de salud",0]
[]
[]
[]
[]
[]
[]
[]
[]
[]
[]
[]
[]
[]
[]
[]
[]
[]
[]
[]
[]
[]
[]
[]
[]
[]
[]
[]
[]
[]
[]
[]
[]
[]
[]
[]
[]
[]
[]
[]
[]
[{"$f":"SUM(B13:B24,C29:C50,B59,B67,B75,B95:E95,B103:E103,B111:E111,B115:B116,B120:B122,C126:L141,B147:B175,B176:B181,B193,B204,B213,B216:B219,B247,B252:B254,B258:B284,B288:B308)","v":0},{"$f":"SUM(CG13:CM212)","v":0}]

{"sheet":"A29","index":21,"n_rows":198,"n_cols":84,"rows_kept":198,"cut":false,"hidden":false,"merged":[[31,0,38,0],[5,0,5,19],[8,0,9,0],[8,1,8,3],[8,4,8,5],[8,6,8,7],[8,8,8,9],[8,10,8,11],[8,12,8,13],[8,14,8,15],[8,16,8,17],[8,18,9,18],[8,19,9,19],[29,0,30,1],[29,2,30,2],[29,3,29,11],[29,12,29,14],[29,15,30,15],[10,1,10,19],[15,1,15,19],[22,1,22,19],[25,1,25,19],[29,16,30,16],[101,2,101,3],[54,0,57,0],[58,0,61,0],[62,0,63,0],[101,0,102,0],[101,1,102,1],[39,0,41,0],[127,0,128,0],[130,0,131,0],[132,0,133,0],[134,0,135,0],[106,0,106,1],[48,0,53,0],[86,0,99,0],[42,0,44,0],[45,0,47,0],[66,0,85,0],[145,0,146,0],[145,8,145,9],[145,10,145,12],[151,0,153,0],[151,1,153,1],[151,2,152,3],[151,4,151,7],[152,4,153,4],[145,1,146,1],[152,5,153,5],[152,6,152,7],[145,2,145,3],[145,4,145,5],[145,6,145,7]]}
["SERVICIO DE SALUD"]
[{"$f":"CONCATENATE(\"COMUNA: \",NOMBRE!B2,\" - \",\"( \",NOMBRE!C2,NOMBRE!D2,NOMBRE!E2,NOMBRE!F2,NOMBRE!G2,\" )\")","v":"COMUNA:  - (  )"}]
[{"$f":"CONCATENATE(\"ESTABLECIMIENTO/ESTRATEGIA: \",NOMBRE!B3,\" - \",\"( \",NOMBRE!C3,NOMBRE!D3,NOMBRE!E3,NOMBRE!F3,NOMBRE!G3,NOMBRE!H3,\" )\")","v":"ESTABLECIMIENTO/ESTRATEGIA:  - (  )"}]
[{"$f":"CONCATENATE(\"MES: \",NOMBRE!B6,\" - \",\"( \",NOMBRE!C6,NOMBRE!D6,\" )\")","v":"MES:  - (  )"}]
[{"$f":"CONCATENATE(\"AÑO: \",NOMBRE!B7)","v":"AÑO: 2024"}]
["REM-29.  PROGRAMA DE IMÁGENES DIAGNÓSTICAS Y/O RESOLUTIVIDAD EN ATENCIÓN PRIMARIA"]
[]
["SECCIÓN A: PROGRAMA DE RESOLUTIVIDAD ATENCIÓN PRIMARIA DE SALUD"]
["CONSULTAS","TOTAL",null,null,"<15 años",null,"15 - 19 años",null,"20 - 64 años",null,"65 y más años",null,"Total interconsultas generadas en APS para resolución por especialidad oftalmología (UAPO y canasta integral)",null,"Total interconsultas generadas en APS para resolución por especialidad otorrinolaringología (UAPORRINO y canasta integral)",null,"Modalidad",null,"Pueblos Originarios","Migrantes"]
[null,"Ambos Sexos","Hombres","Mujeres","Hombres","Mujeres","Hombres","Mujeres","Hombres","Mujeres","Hombres","Mujeres","Menos 15 años","15 y más años","Menos 15 años","15 y más años","Presencial","Remoto"]
["Consultas médicas de especialidades"]
["Oftalmología/UAPO",{"$f":"SUM(C12+D12)","v":0},{"$f":"SUM(E12+G12+I12+K12)","v":0},0,null,null,null,null,null,null,null,null,null,null,null,null,null,null,null,null,{"$f":"CA12&CB12","v":""},null,null,null,null,null,null,null,null,null,null,null,null,null,null,null,null,null,null,null,null,null,null,null,null,null,null,null,null,null,null,null,null,null,null,null,null,null,null,null,null,null,null,null,null,null,null,null,null,null,null,null,null,null,null,null,null,null,{"$f":"IF(AND($B12<>0,S12=\"\"),\"* No olvide ingresar la columna \"&S$9&\"\"&\" (Digite CERO si no tiene). \",IF(S12>$B12,\"* El Número de Pueblos Originarios no puede superar el Total. \",\"\"))","v":""},{"$f":"IF(AND($B12<>0,T12=\"\"),\"* No olvide ingresar la columna \"&T$9&\"\"&\" (Digite CERO si no tiene). \",IF(T12>$B12,\"* El Número de Migrantes no puede superar el Total. \",\"\"))","v":""},null,null,{"$f":"IF(AND($B12<>0,S12=\"\"),1,IF(S12>$B12,1,0))","v":0},{"$f":"IF(AND($B12<>0,T12=\"\"),1,IF(T12>$B12,1,0))","v":0}]
["Otorrinolaringología/UAPORRINO",{"$f":"SUM(C13+D13)","v":0},{"$f":"SUM(E13+G13+I13+K13)","v":0},0,null,null,null,null,null,null,null,null,null,null,null,null,null,null,null,null,{"$f":"CA13&CB13","v":""},null,null,null,null,null,null,null,null,null,null,null,null,null,null,null,null,null,null,null,null,null,null,null,null,null,null,null,null,null,null,null,null,null,null,null,null,null,null,null,null,null,null,null,null,null,null,null,null,null,null,null,null,null,null,null,null,null,{"$f":"IF(AND($B13<>0,S13=\"\"),\"* No olvide ingresar la columna \"&S$9&\"\"&\" (Digite CERO si no tiene). \",IF(S13>$B13,\"* El Número de Pueblos Originarios no puede superar el Total. \",\"\"))","v":""},{"$f":"IF(AND($B13<>0,T13=\"\"),\"* No olvide ingresar la columna \"&T$9&\"\"&\" (Digite CERO si no tiene). \",IF(T13>$B13,\"* El Número de Migrantes no puede superar el Total. \",\"\"))","v":""},null,null,{"$f":"IF(AND($B13<>0,S13=\"\"),1,IF(S13>$B13,1,0))","v":0},0]
["Canasta integral oftalmológica",{"$f":"SUM(C14+D14)","v":0},0,0,null,null,null,null,null,null,null,null,null,null,null,null,null,null,null,null,"",null,null,null,null,null,null,null,null,null,null,null,null,null,null,null,null,null,null,null,null,null,null,null,null,null,null,null,null,null,null,null,null,null,null,null,null,null,null,null,null,null,null,null,null,null,null,null,null,null,null,null,null,null,null,null,null,null,"","",null,null,0,0]
["Canasta integral de otorrinolaringología",{"$f":"SUM(C15+D15)","v":0},{"$f":"SUM(E15+G15+I15+K15)","v":0},0,null,null,null,null,null,null,null,null,null,null,null,null,null,null,null,null,"",null,null,null,null,null,null,null,null,null,null,null,null,null,null,null,null,null,null,null,null,null,null,null,null,null,null,null,null,null,null,null,null,null,null,null,null,null,null,null,null,null,null,null,null,null,null,null,null,null,null,null,null,null,null,null,null,null,"","",null,null,0,0]
["Consultas otros profesionales"]
["Tecnólogo/a médico/a consulta por vicio de refracción",{"$f":"SUM(C17+D17)","v":0},{"$f":"SUM(E17+G17+I17+K17)","v":0},0,null,null,null,null,null,null,null,null,null,null,null,null,null,null,null,null,{"$f":"CA17&CB17","v":""},null,null,null,null,null,null,null,null,null,null,null,null,null,null,null,null,null,null,null,null,null,null,null,null,null,null,null,null,null,null,null,null,null,null,null,null,null,null,null,null,null,null,null,null,null,null,null,null,null,null,null,null,null,null,null,null,null,{"$f":"IF(AND($B17<>0,S17=\"\"),\"* No olvide ingresar la columna \"&S$9&\"\"&\" (Digite CERO si no tiene). \",IF(S17>$B17,\"* El Número de Pueblos Originarios no puede superar el Total. \",\"\"))","v":""},{"$f":"IF(AND($B17<>0,T17=\"\"),\"* No olvide ingresar la columna \"&T$9&\"\"&\" (Digite CERO si no tiene). \",IF(T17>$B17,\"* El Número de Migrantes no puede superar el Total. \",\"\"))","v":""},null,null,{"$f":"IF(AND($B17<>0,S17=\"\"),1,IF(S17>$B17,1,0))","v":0},0]
["Tecnólogo/a médico/a (oftalmología) otras consultas",0,{"$f":"SUM(E18+G18+I18+K18)","v":0},0,null,null,null,null,null,null,null,null,null,null,null,null,null,null,null,null,"",null,null,null,null,null,null,null,null,null,null,null,null,null,null,null,null,null,null,null,null,null,null,null,null,null,null,null,null,null,null,null,null,null,null,null,null,null,null,null,null,null,null,null,null,null,null,null,null,null,null,null,null,null,null,null,null,null,"","",null,null,0,0]
["Tecnólogo/a médico/a o fonoaudiólogo/a por hipoacusia (UAPORRINO)",0,0,0,null,null,null,null,null,null,null,null,null,null,null,null,null,null,null,null,"",null,null,null,null,null,null,null,null,null,null,null,null,null,null,null,null,null,null,null,null,null,null,null,null,null,null,null,null,null,null,null,null,null,null,null,null,null,null,null,null,null,null,null,null,null,null,null,null,null,null,null,null,null,null,null,null,null,"","",null,null,0,0]
["Tecnólogo/a médico/a o fonoaudiólogo/a consultas (UAPORRINO)",0,0,0,null,null,null,null,null,null,null,null,null,null,null,null,null,null,null,null,"",null,null,null,null,null,null,null,null,null,null,null,null,null,null,null,null,null,null,null,null,null,null,null,null,null,null,null,null,null,null,null,null,null,null,null,null,null,null,null,null,null,null,null,null,null,null,null,null,null,null,null,null,null,null,null,null,null,"","",null,null,0,0]
["Consulta de calificación de urgencia por tecnólogo médico (UAPO)",0,0,0,null,null,null,null,null,null,null,null,null,null,null,null,null,null,null,null,"",null,null,null,null,null,null,null,null,null,null,null,null,null,null,null,null,null,null,null,null,null,null,null,null,null,null,null,null,null,null,null,null,null,null,null,null,null,null,null,null,null,null,null,null,null,null,null,null,null,null,null,null,null,null,null,null,null,"","",null,null,0,0]
["Terapeuta Ocupacional",0,0,0,null,null,null,null,null,null,null,null,null,null,null,null,null,null,null,null,"",null,null,null,null,null,null,null,null,null,null,null,null,null,null,null,null,null,null,null,null,null,null,null,null,null,null,null,null,null,null,null,null,null,null,null,null,null,null,null,null,null,null,null,null,null,null,null,null,null,null,null,null,null,null,null,null,null,"","",null,null,0,0]
["Ingresos y egresos Glaucoma UAPO"]
["Ingresos glaucoma UAPO",{"$f":"SUM(C24+D24)","v":0},{"$f":"SUM(E24+G24+I24+K24)","v":0},{"$f":"SUM(F24+H24+J24+L24)","v":0},null,null,null,null,null,null,null,null,null,null,null,null,null,null,null,null,{"$f":"CA24&CB24","v":""},null,null,null,null,null,null,null,null,null,null,null,null,null,null,null,null,null,null,null,null,null,null,null,null,null,null,null,null,null,null,null,null,null,null,null,null,null,null,null,null,null,null,null,null,null,null,null,null,null,null,null,null,null,null,null,null,null,{"$f":"IF(AND($B24<>0,S24=\"\"),\"* No olvide ingresar la columna \"&S$9&\"\"&\" (Digite CERO si no tiene). \",IF(S24>$B24,\"* El Número de Pueblos Originarios no puede superar el Total. \",\"\"))","v":""},{"$f":"IF(AND($B24<>0,T24=\"\"),\"* No olvide ingresar la columna \"&T$9&\"\"&\" (Digite CERO si no tiene). \",IF(T24>$B24,\"* El Número de Migrantes no puede superar el Total. \",\"\"))","v":""},null,null,{"$f":"IF(AND($B24<>0,S24=\"\"),1,IF(S24>$B24,1,0))","v":0},0]
["Egresos glaucoma UAPO",{"$f":"SUM(C25+D25)","v":0},{"$f":"SUM(E25+G25+I25+K25)","v":0},{"$f":"SUM(F25+H25+J25+L25)","v":0},null,null,null,null,null,null,null,null,null,null,null,null,null,null,null,null,"",null,null,null,null,null,null,null,null,null,null,null,null,null,null,null,null,null,null,null,null,null,null,null,null,null,null,null,null,null,null,null,null,null,null,null,null,null,null,null,null,null,null,null,null,null,null,null,null,null,null,null,null,null,null,null,null,null,"","",null,null,0,0]
["Glaucoma (por médico/a) (incluidas dentro de consultas de oftalmología)"]
["Controles de glaucoma UAPO",{"$f":"SUM(C27+D27)","v":0},{"$f":"SUM(E27+G27+I27+K27)","v":0},{"$f":"SUM(F27+H27+J27+L27)","v":0},null,null,null,null,null,null,null,null,null,null,null,null,null,null,null,null,{"$f":"CA27&CB27","v":""},null,null,null,null,null,null,null,null,null,null,null,null,null,null,null,null,null,null,null,null,null,null,null,null,null,null,null,null,null,null,null,null,null,null,null,null,null,null,null,null,null,null,null,null,null,null,null,null,null,null,null,null,null,null,null,null,null,{"$f":"IF(AND($B27<>0,S27=\"\"),\"* No olvide ingresar la columna \"&S$9&\"\"&\" (Digite CERO si no tiene). \",IF(S27>$B27,\"* El Número de Pueblos Originarios no puede superar el Total. \",\"\"))","v":""},{"$f":"IF(AND($B27<>0,T27=\"\"),\"* No olvide ingresar la columna \"&T$9&\"\"&\" (Digite CERO si no tiene). \",IF(T27>$B27,\"* El Número de Migrantes no puede superar el Total. \",\"\"))","v":""},null,null,{"$f":"IF(AND($B27<>0,S27=\"\"),1,IF(S27>$B27,1,0))","v":0},0]
["Consulta nueva glaucoma UAPO",{"$f":"SUM(C28+D28)","v":0},{"$f":"SUM(E28+G28+I28+K28)","v":0},{"$f":"SUM(F28+H28+J28+L28)","v":0},null,null,null,null,null,null,null,null,null,null,null,null,null,null,null,null,"",null,null,null,null,null,null,null,null,null,null,null,null,null,null,null,null,null,null,null,null,null,null,null,null,null,null,null,null,null,null,null,null,null,null,null,null,null,null,null,null,null,null,null,null,null,null,null,null,null,null,null,null,null,null,null,null,null,"","",null,null,0,0]
["SECCIÓN B: PROCEDIMIENTOS DE IMÁGENES DIAGNOSTICAS Y PROGRAMA DE RESOLUTIVIDAD EN APS  "]
["TIPO DE EXAMEN Y PROCEDIMIENTO DIAGNÓSTICO",null,"TOTAL","POR RANGO ETARIO",null,null,null,null,null,null,null,null,"MODALIDAD",null,null,"Pueblos Originarios","Migrantes"]
[null,null,null,"< 35 años","35 - 49 años","50 - 54 años","55 - 59 años","60 - 64 años","65 - 69 años","70 - 74 años","75 - 79 años","80 y más años","Institucional","Compra al sistema","Compra extrasistema"]
["Mamografía","Solicitadas",{"$f":"SUM(D32:L32)","v":0},null,null,null,null,null,null,null,null,null,null,null,null,null,null,{"$f":"CA32&CB32","v":""},null,null,null,null,null,null,null,null,null,null,null,null,null,null,null,null,null,null,null,null,null,null,null,null,null,null,null,null,null,null,null,null,null,null,null,null,null,null,null,null,null,null,null,null,null,null,null,null,null,null,null,null,null,null,null,null,null,null,null,null,{"$f":"IF(AND($C32<>0,P32=\"\"),\"* No olvide ingresar la columna \"&P$30&\"\"&\" (Digite CERO si no tiene). \",IF(P32>$C32,\"* El Número de Pueblos Originarios no puede superar el Total. \",\"\"))","v":""},{"$f":"IF(AND($C32<>0,Q32=\"\"),\"* No olvide ingresar la columna \"&Q$30&\"\"&\" (Digite CERO si no tiene). \",IF(Q32>$C32,\"* El Número de Migrantes no puede superar el Total. \",\"\"))","v":""},null,null,{"$f":"IF(AND($C32<>0,P32=\"\"),1,IF(P32>$C32,1,0))","v":0},{"$f":"IF(AND($C32<>0,Q32=\"\"),1,IF(Q32>$C32,1,0))","v":0}]
[null,"Informadas",{"$f":"SUM(D33:L33)","v":0},{"$f":"SUM(D34:D38)","v":0},{"$f":"SUM(E34:E38)","v":0},{"$f":"SUM(F34:F38)","v":0},{"$f":"SUM(G34:G38)","v":0},0,0,0,0,0,null,null,null,null,null,{"$f":"CA33&CB33","v":""}]
[null,"Con BIRADS 0",0,null,null,null,null,null,null,null,null,null,null,null,null,null,null,"",null,null,null,null,null,null,null,null,null,null,null,null,null,null,null,null,null,null,null,null,null,null,null,null,null,null,null,null,null,null,null,null,null,null,null,null,null,null,null,null,null,null,null,null,null,null,null,null,null,null,null,null,null,null,null,null,null,null,null,null,{"$f":"IF(AND($C34<>0,P34=\"\"),\"* No olvide ingresar la columna \"&P$30&\"\"&\" (Digite CERO si no tiene). \",IF(P34>$C34,\"* El Número de Pueblos Originarios no puede superar el Total. \",\"\"))","v":""},{"$f":"IF(AND($C34<>0,Q34=\"\"),\"* No olvide ingresar la columna \"&Q$30&\"\"&\" (Digite CERO si no tiene). \",IF(Q34>$C34,\"* El Número de Migrantes no puede superar el Total. \",\"\"))","v":""},null,null,{"$f":"IF(AND($C34<>0,P34=\"\"),1,IF(P34>$C34,1,0))","v":0},0]
[null,"Con BIRADS 1 o 2",0,null,null,null,null,null,null,null,null,null,null,null,null,null,null,"",null,null,null,null,null,null,null,null,null,null,null,null,null,null,null,null,null,null,null,null,null,null,null,null,null,null,null,null,null,null,null,null,null,null,null,null,null,null,null,null,null,null,null,null,null,null,null,null,null,null,null,null,null,null,null,null,null,null,null,null,"","",null,null,0,0]
[null,"Con BIRADS  3",0,null,null,null,null,null,null,null,null,null,null,null,null,null,null,"",null,null,null,null,null,null,null,null,null,null,null,null,null,null,null,null,null,null,null,null,null,null,null,null,null,null,null,null,null,null,null,null,null,null,null,null,null,null,null,null,null,null,null,null,null,null,null,null,null,null,null,null,null,null,null,null,null,null,null,null,"","",null,null,0,0]
[null,"Con BIRADS  4, 5 o 6",0,null,null,null,null,null,null,null,null,null,null,null,null,null,null,"",null,null,null,null,null,null,null,null,null,null,null,null,null,null,null,null,null,null,null,null,null,null,null,null,null,null,null,null,null,null,null,null,null,null,null,null,null,null,null,null,null,null,null,null,null,null,null,null,null,null,null,null,null,null,null,null,null,null,null,null,"","",null,null,0,0]
[null,"Sin informe BIRADS",0,null,null,null,null,null,null,null,null,null,null,null,null,null,null,"",null,null,null,null,null,null,null,null,null,null,null,null,null,null,null,null,null,null,null,null,null,null,null,null,null,null,null,null,null,null,null,null,null,null,null,null,null,null,null,null,null,null,null,null,null,null,null,null,null,null,null,null,null,null,null,null,null,null,null,null,"","",null,null,0,0]
[null,"Proyección complementaria",0,null,null,null,null,null,null,null,null,null,null,null,null,null,null,"",null,null,null,null,null,null,null,null,null,null,null,null,null,null,null,null,null,null,null,null,null,null,null,null,null,null,null,null,null,null,null,null,null,null,null,null,null,null,null,null,null,null,null,null,null,null,null,null,null,null,null,null,null,null,null,null,null,null,null,null,"","",null,null,0,0]
["Ecotomografía mamaria","Solicitadas",0,null,null,null,null,null,null,null,null,null,null,null,null,null,null,"",null,null,null,null,null,null,null,null,null,null,null,null,null,null,null,null,null,null,null,null,null,null,null,null,null,null,null,null,null,null,null,null,null,null,null,null,null,null,null,null,null,null,null,null,null,null,null,null,null,null,null,null,null,null,null,null,null,null,null,null,"","",null,null,0,0]
[null,"Informadas",0,null,null,null,null,null,null,null,null,null,null,null,null,null,null,"",null,null,null,null,null,null,null,null,null,null,null,null,null,null,null,null,null,null,null,null,null,null,null,null,null,null,null,null,null,null,null,null,null,null,null,null,null,null,null,null,null,null,null,null,null,null,null,null,null,null,null,null,null,null,null,null,null,null,null,null,"","",null,null,0,0]
[null,"Con informe de sospecha de malignidad",0,null,null,null,null,null,null,null,null,null,null,null,null,null,null,"",null,null,null,null,null,null,null,null,null,null,null,null,null,null,null,null,null,null,null,null,null,null,null,null,null,null,null,null,null,null,null,null,null,null,null,null,null,null,null,null,null,null,null,null,null,null,null,null,null,null,null,null,null,null,null,null,null,null,null,null,"","",null,null,0,0]
["Ecotomografía abdominal","Solicitadas",0,null,null,null,null,null,null,null,null,null,null,null,null,null,null,"",null,null,null,null,null,null,null,null,null,null,null,null,null,null,null,null,null,null,null,null,null,null,null,null,null,null,null,null,null,null,null,null,null,null,null,null,null,null,null,null,null,null,null,null,null,null,null,null,null,null,null,null,null,null,null,null,null,null,null,null,"","",null,null,0,0]
[null,"Informadas",0,null,null,null,null,null,null,null,null,null,null,null,null,null,null,"",null,null,null,null,null,null,null,null,null,null,null,null,null,null,null,null,null,null,null,null,null,null,null,null,null,null,null,null,null,null,null,null,null,null,null,null,null,null,null,null,null,null,null,null,null,null,null,null,null,null,null,null,null,null,null,null,null,null,null,null,"","",null,null,0,0]
[null,"Con resultado litiasis biliar",0,null,null,null,null,null,null,null,null,null,null,null,null,null,null,"",null,null,null,null,null,null,null,null,null,null,null,null,null,null,null,null,null,null,null,null,null,null,null,null,null,null,null,null,null,null,null,null,null,null,null,null,null,null,null,null,null,null,null,null,null,null,null,null,null,null,null,null,null,null,null,null,null,null,null,null,"","",null,null,0,0]
["Ecografía transvaginal o rectal (excluye climaterio)","Solicitadas",{"$f":"SUM(D46:L46)","v":0},null,null,null,null,null,null,null,null,null,null,null,null,null,null,"",null,null,null,null,null,null,null,null,null,null,null,null,null,null,null,null,null,null,null,null,null,null,null,null,null,null,null,null,null,null,null,null,null,null,null,null,null,null,null,null,null,null,null,null,null,null,null,null,null,null,null,null,null,null,null,null,null,null,null,null,"","",null,null,0,0]
[null,"Informadas",{"$f":"SUM(D47:L47)","v":0},null,null,null,null,null,null,null,null,null,null,null,null,null,null,"",null,null,null,null,null,null,null,null,null,null,null,null,null,null,null,null,null,null,null,null,null,null,null,null,null,null,null,null,null,null,null,null,null,null,null,null,null,null,null,null,null,null,null,null,null,null,null,null,null,null,null,null,null,null,null,null,null,null,null,null,"","",null,null,0,0]
[null,"Con informe de sospecha de patología maligna",{"$f":"SUM(D48:L48)","v":0},null,null,null,null,null,null,null,null,null,null,null,null,null,null,"",null,null,null,null,null,null,null,null,null,null,null,null,null,null,null,null,null,null,null,null,null,null,null,null,null,null,null,null,null,null,null,null,null,null,null,null,null,null,null,null,null,null,null,null,null,null,null,null,null,null,null,null,null,null,null,null,null,null,null,null,"","",null,null,0,0]
["Endoscopia digestiva alta","Solicitadas",0,null,null,null,null,null,null,null,null,null,null,null,null,null,null,"",null,null,null,null,null,null,null,null,null,null,null,null,null,null,null,null,null,null,null,null,null,null,null,null,null,null,null,null,null,null,null,null,null,null,null,null,null,null,null,null,null,null,null,null,null,null,null,null,null,null,null,null,null,null,null,null,null,null,null,null,"","",null,null,0,0]
[null,"Informadas",0,null,null,null,null,null,null,null,null,null,null,null,null,null,null,"",null,null,null,null,null,null,null,null,null,null,null,null,null,null,null,null,null,null,null,null,null,null,null,null,null,null,null,null,null,null,null,null,null,null,null,null,null,null,null,null,null,null,null,null,null,null,null,null,null,null,null,null,null,null,null,null,null,null,null,null,"","",null,null,0,0]
[null,"Toma de biopsia",0,null,null,null,null,null,null,null,null,null,null,null,null,null,null,"",null,null,null,null,null,null,null,null,null,null,null,null,null,null,null,null,null,null,null,null,null,null,null,null,null,null,null,null,null,null,null,null,null,null,null,null,null,null,null,null,null,null,null,null,null,null,null,null,null,null,null,null,null,null,null,null,null,null,null,null,"","",null,null,0,0]
[null,"Con informe de sospecha de malignidad",0,null,null,null,null,null,null,null,null,null,null,null,null,null,null,"",null,null,null,null,null,null,null,null,null,null,null,null,null,null,null,null,null,null,null,null,null,null,null,null,null,null,null,null,null,null,null,null,null,null,null,null,null,null,null,null,null,null,null,null,null,null,null,null,null,null,null,null,null,null,null,null,null,null,null,null,"","",null,null,0,0]
[null,"Test de ureasa solicitadas",0,null,null,null,null,null,null,null,null,null,null,null,null,null,null,"",null,null,null,null,null,null,null,null,null,null,null,null,null,null,null,null,null,null,null,null,null,null,null,null,null,null,null,null,null,null,null,null,null,null,null,null,null,null,null,null,null,null,null,null,null,null,null,null,null,null,null,null,null,null,null,null,null,null,null,null,"","",null,null,0,0]
[null,"Test de ureasa positivas (+) H. Pylori",0,null,null,null,null,null,null,null,null,null,null,null,null,null,null,"",null,null,null,null,null,null,null,null,null,null,null,null,null,null,null,null,null,null,null,null,null,null,null,null,null,null,null,null,null,null,null,null,null,null,null,null,null,null,null,null,null,null,null,null,null,null,null,null,null,null,null,null,null,null,null,null,null,null,null,null,"","",null,null,0,0]
["Procedimientos cutáneos quirúrgicos de baja complejidad","Solicitadas",0,null,null,null,null,null,null,null,null,null,null,null,null,null,null,"",null,null,null,null,null,null,null,null,null,null,null,null,null,null,null,null,null,null,null,null,null,null,null,null,null,null,null,null,null,null,null,null,null,null,null,null,null,null,null,null,null,null,null,null,null,null,null,null,null,null,null,null,null,null,null,null,null,null,null,null,"","",null,null,0,0]
[null,"Realizadas",0,null,null,null,null,null,null,null,null,null,null,null,null,null,null,"",null,null,null,null,null,null,null,null,null,null,null,null,null,null,null,null,null,null,null,null,null,null,null,null,null,null,null,null,null,null,null,null,null,null,null,null,null,null,null,null,null,null,null,null,null,null,null,null,null,null,null,null,null,null,null,null,null,null,null,null,"","",null,null,0,0]
[null,"Biopsias de cirugía menor enviadas a anatomia patológica",0,null,null,null,null,null,null,null,null,null,null,null,null,null,null,"",null,null,null,null,null,null,null,null,null,null,null,null,null,null,null,null,null,null,null,null,null,null,null,null,null,null,null,null,null,null,null,null,null,null,null,null,null,null,null,null,null,null,null,null,null,null,null,null,null,null,null,null,null,null,null,null,null,null,null,null,"","",null,null,0,0]
[null,"Nº biopsias de cirugía menor con informe de sospecha de malignidad",{"$f":"SUM(D58:L58)","v":0},null,null,null,null,null,null,null,null,null,null,null,null,null,null,"",null,null,null,null,null,null,null,null,null,null,null,null,null,null,null,null,null,null,null,null,null,null,null,null,null,null,null,null,null,null,null,null,null,null,null,null,null,null,null,null,null,null,null,null,null,null,null,null,null,null,null,null,null,null,null,null,null,null,null,null,"","",null,null,0,0]
["Radiografía de tórax por sospecha de neumonía y sospecha de otra patología respiratoria crónica","Solicitadas",null,null,null,null,null,null,null,null,null,null,null,null,null,null,null,"",null,null,null,null,null,null,null,null,null,null,null,null,null,null,null,null,null,null,null,null,null,null,null,null,null,null,null,null,null,null,null,null,null,null,null,null,null,null,null,null,null,null,null,null,null,null,null,null,null,null,null,null,null,null,null,null,null,null,null,null,"","",null,null,0,0]
[null,"Realizadas",{"$f":"SUM(D60:L60)","v":0},{"$f":"SUM(D61:D62)","v":0},{"$f":"SUM(E61:E62)","v":0},0,0,0,0,0,0,0,null,null,null,null,null,""]
[null,"Antero posterior (frontal)",{"$f":"SUM(D61:L61)","v":0},null,null,null,null,null,null,null,null,null,null,null,null,null,null,"",null,null,null,null,null,null,null,null,null,null,null,null,null,null,null,null,null,null,null,null,null,null,null,null,null,null,null,null,null,null,null,null,null,null,null,null,null,null,null,null,null,null,null,null,null,null,null,null,null,null,null,null,null,null,null,null,null,null,null,null,"","",null,null,0,0]
[null,"Antero posterior y lateral",{"$f":"SUM(D62:L62)","v":0},null,null,null,null,null,null,null,null,null,null,null,null,null,null,"",null,null,null,null,null,null,null,null,null,null,null,null,null,null,null,null,null,null,null,null,null,null,null,null,null,null,null,null,null,null,null,null,null,null,null,null,null,null,null,null,null,null,null,null,null,null,null,null,null,null,null,null,null,null,null,null,null,null,null,null,"","",null,null,0,0]
["Radiografía de caderas 3-6 meses (Screening)","Solicitadas",null,null,null,null,null,null,null,null,null,null,null,null,null,null,null,"",null,null,null,null,null,null,null,null,null,null,null,null,null,null,null,null,null,null,null,null,null,null,null,null,null,null,null,null,null,null,null,null,null,null,null,null,null,null,null,null,null,null,null,null,null,null,null,null,null,null,null,null,null,null,null,null,null,null,null,null,"","",null,null,0,0]
[null,"Informadas",null,null,null,null,null,null,null,null,null,null,null,null,null,null,null,"",null,null,null,null,null,null,null,null,null,null,null,null,null,null,null,null,null,null,null,null,null,null,null,null,null,null,null,null,null,null,null,null,null,null,null,null,null,null,null,null,null,null,null,null,null,null,null,null,null,null,null,null,null,null,null,null,null,null,null,null,"","",null,null,0,0]
["SECCIÓN C: PROCEDIMIENTOS APOYO CLÍNICO Y TERAPÉUTICO"]
["ESPECIALIDAD ","PROCEDIMIENTO","Médico especialista","Tecnólogo médico, fonoaudiólogo o terapeuta ocupacional"]
["Oftalmología","Cuantificación de lagrimación (Test de Schimer), uno o ambos ojos"]
[null,"Curva de tensión aplanática (por cada día), c/ojo"]
[null,"Disploscopia cuantitativa, ambos ojos"]
[null,"Exploración sensoriomotora: Estabrismo, estudio completo, ambos ojos"]
[null,"Retinografía ambos ojos pacientes sin diabetes mellitus"]
[null,"Tonometría aplánica c/ojo"]
[null,"Tratamiento ortóptico y/o pleóptico (por sesión), ambos ojos"]
[null,"Exploración vitreorretinal, pacientes sin diabetes mellitus"]
[null,"Cuerpo extraño conjuntival y/o corneal"]
[null,"Campimetría computarizada, c/ojo (en UAPO)"]
[null,"Tomografía coherente óptica, c/ojo"]
[null,"Agudeza visual aislada cada ojo"]
[null,"Paquimetría"]
[null,"Autorefractomía"]
[null,"Lensometría"]
[null,"Extracción cuerpo extraño ojo (conjuntival y/o corneal)"]
[null,"Hemoglucotest previo a consulta vicio de refracción en paciente diabético"]
[null,"Autorefracción bajo ciclopejía"]
[null,"Irrigación de la vía lagrimal"]
[null,"Prueba de provocación oscuridad más pronación"]
["Otorrinolaringología","Audimetrías (realizadas)"]
[null,"Impedanciometría"]
[null,"Emisiones otoacústicas"]
[null,"Examen funcional VIII par"]
[null,"Otros procedimientos (Lavados de oídos u otros)"]
[null,"Calibración control prueba de audífonos"]
[null,"Procedimiento V-HIT"]
[null,"PEATC"]
[null,"Maniobras de reposición de partículas"]
[null,"Nasofibroscopia adulto/niño"]
[null,"Prueba de función tubaria"]
[null,"VEMP (Potenciales evocados miogénicos vestibulares)"]
[null,"Toma de impresión de molde auditivo"]
[null,"Rinomanometría"]
["SECCIÓN D: ENTREGA DE AYUDAS TÉCNICAS"]
["CONCEPTO","TOTAL","< 65 Años"]
[null,null,"Hombres","Mujeres"]
["Lentes (Entregados)",{"$f":"SUM(C104:D104)","v":0}]
["Audífonos (Entregados)",{"$f":"SUM(C105:D105)","v":0}]
["SECCIÓN E: INTERVENCIONES QUIRÚRGICAS MENORES QUE SE REALIZAN EN UAPO"]
["INTERVENCIONES QUIRÚRGICAS"]
["Intubación lagrimal"]
["Plastía de puntos lagrimales"]
["Absceso, vaciamiento y/o drenaje de"]
["Absceso, Trat. Quir. Párpado o ceja"]
["Biopsia de párpado y/o anexos (proc.aut)"]
["Blefarorrafia con blefarotomía posterior"]
["Cantoplastía"]
["Chalazión y otro tumores benignos"]
["Xantelasma, Trat. Quir"]
["Herida o dehiscencia de sutura de párpado, reparación"]
["Sutura de herida o dehiscencia de la conjuntiva"]
["Pterigión y/o pseudopterigión o su recidiva, extirpación"]
["Extirpación de tumor benigno de la conjuntiva"]
["Crioterapia y recesión conjuntival"]
["Extracción quir. De cuerpo extraño en córnea y/o esclera"]
["Iridotomía"]
["Trabeculopatía o iridoplastía"]
["TOTAL",{"$f":"SUM(B108:B124)","v":0}]
["SECCION F: FONDOS DE OJO CONTROL DIABETES MELLITUS"]
["PROCEDIMIENTOS","TIPO DE ACTIVIDAD","TOTAL","Informe por médico licitado","Informada por médico HD"]
["Exploración vitreorretinal, ambos ojos (Fondo de ojo)","Sin alteración"]
[null,"Alterados"]
["Retinografía, ambos ojos (Fondo de ojo)","Imágenes capturadas"]
["Subidas a plataforma de tamizaje a Hospital Digital","Informes recibidos sin alteración"]
[null,"Informes recibidos con sospecha de alteración"]
["Subidas a plataforma de teleinforme local (No centralizada)","Informes recibidos sin alteración"]
[null,"Informes recibidos con sospecha de alteración"]
["Entrega resultados Fondo de ojo al usuario","Presencial"]
[null,"Remoto"]
["SECCION G: ACTIVIDADES DE REHABILITACION EN UAPORRINO"]
["ACTIVIDADES"," TOTAL ACTIVIDADES","Número sesiones totales realizadas","Número beneficiarios"]
["Sesiones rehabilitación auditiva individual"]
["Sesiones rehabilitación auditiva grupal"]
["Evaluación adherencia"]
["Seguimiento adherencia"]
["Sesiones rehabilitación vestibular"]
["Sesiones rehabilitación deglución"]
["SECCION H: CANASTA INTEGRAL DERMATOLOGIA"]
["CANASTA INTEGRAL","TOTAL","<15 años",null,"15 - 19 años",null,"20 - 64 años",null,"65 y más años",null,"Medico interconsultor (vía de resolución)"]
[null,null,"Hombres","Mujeres","Hombres","Mujeres","Hombres","Mujeres","Hombres","Mujeres","Institucional","Hospital Digital","Otra"]
["Teleinterconsultas solicitadas"]
["Teleinterconsultas respondidas",{"$f":"SUM(C149:J149)","v":0}]
["Información entregada a usuario",{"$f":"SUM(C150:J150)","v":0}]
["SECCIÓN I : ATENCION INTEGRAL EN CLIMATERIO"]
["CANASTA INTEGRAL","TOTAL","RANGO ETARIO",null,"Modalidad"]
[null,null,null,null,"Presencial","Remota","Compra de servicios"]
[null,null,"45 - 64 años","65 y más años",null,null,"Presencial","Remota"]
["Consulta médica ginecológica en climaterio",{"$f":"SUM(C155:D155)","v":0}]
["Hormona foliculoestimulante en sangre",{"$f":"SUM(C156:D156)","v":0}]
["Ecografía transvaginal o rectal",{"$f":"SUM(C157:D157)","v":0}]
[]
[]
[]
[]
[]
[]
[]
[]
[]
[]
[]
[]
[]
[]
[]
[]
[]
[]
[]
[]
[]
[]
[]
[]
[]
[]
[]
[]
[]
[]
[]
[]
[]
[]
[]
[]
[]
[]
[]
[]
[{"$f":"SUM(B12:B28,C32:C64,C67:D100,B104:B105,B125,C128:E136,B139:D144,B149:B150,B155:B157)","v":0},{"$f":"SUM(CE12:CG64)","v":0}]

{"sheet":"A30","index":22,"n_rows":180,"n_cols":37,"rows_kept":180,"cut":false,"hidden":false,"merged":[[5,0,5,30],[8,0,10,0],[8,1,8,6],[8,7,8,12],[8,13,8,18],[8,19,8,21],[8,22,8,27],[8,28,8,30],[9,19,10,19],[9,20,9,21],[8,31,8,36],[9,1,9,2],[9,3,9,4],[9,5,9,6],[9,7,9,8],[9,9,9,10],[9,11,9,12],[9,13,9,14],[9,15,9,16],[9,17,9,18],[9,33,9,34],[9,35,9,36],[9,24,9,25],[9,26,9,27],[9,28,10,28],[9,29,9,30],[9,31,9,32],[73,0,75,0],[73,1,73,6],[73,7,73,9],[73,10,73,15],[74,1,74,2],[74,3,74,4],[74,5,74,6],[74,8,74,9],[9,22,9,23],[74,10,74,11],[74,12,74,13],[74,14,74,15],[80,0,83,0],[80,1,80,9],[80,10,80,18],[82,1,83,1],[82,2,83,2],[82,3,83,3],[82,4,83,4],[80,19,81,20],[81,1,81,2],[81,3,81,4],[81,5,81,6],[81,7,81,9],[81,10,81,11],[81,12,81,13],[81,14,81,15],[81,16,81,18],[82,19,83,19],[82,20,83,20],[82,12,83,12],[82,13,83,13],[82,14,83,14],[82,15,83,15],[82,16,83,16],[82,17,82,18],[82,5,83,5],[82,6,83,6],[82,7,83,7],[82,8,82,9],[82,10,83,10],[82,11,83,11],[117,5,118,5],[117,6,118,6],[126,10,126,11],[126,12,126,13],[127,0,128,0],[99,22,99,27],[100,1,100,2],[100,3,100,4],[100,5,100,6],[100,7,100,8],[100,9,100,10],[100,11,100,12],[100,13,100,14],[100,15,100,16],[100,17,100,18],[100,22,100,23],[100,24,100,25],[100,26,100,27],[99,0,101,0],[99,1,99,6],[99,7,99,12],[99,13,99,18],[99,19,99,21],[100,20,100,21],[136,0,138,0],[136,1,136,3],[137,2,137,3],[117,8,117,9],[117,10,117,11],[117,12,117,13],[115,0,118,0],[115,1,115,9],[115,10,116,15],[116,1,116,2],[116,3,116,4],[116,5,116,6],[116,7,116,9],[117,14,117,15],[125,0,126,0],[125,1,127,1],[125,2,126,4],[125,5,126,7],[125,8,125,13],[126,8,126,9],[117,1,118,1],[117,2,118,2],[117,3,118,3],[117,4,118,4]]}
["SERVICIO DE SALUD"]
[{"$f":"CONCATENATE(\"COMUNA: \",NOMBRE!B2,\" - \",\"( \",NOMBRE!C2,NOMBRE!D2,NOMBRE!E2,NOMBRE!F2,NOMBRE!G2,\" )\")","v":"COMUNA:  - (  )"}]
[{"$f":"CONCATENATE(\"ESTABLECIMIENTO/ESTRATEGIA: \",NOMBRE!B3,\" - \",\"( \",NOMBRE!C3,NOMBRE!D3,NOMBRE!E3,NOMBRE!F3,NOMBRE!G3,NOMBRE!H3,\" )\")","v":"ESTABLECIMIENTO/ESTRATEGIA:  - (  )"}]
[{"$f":"CONCATENATE(\"MES: \",NOMBRE!B6,\" - \",\"( \",NOMBRE!C6,NOMBRE!D6,\" )\")","v":"MES:  - (  )"}]
[{"$f":"CONCATENATE(\"AÑO: \",NOMBRE!B7)","v":"AÑO: 2024"}]
["REM-30: ATENCIONES POR TELEMEDICINA EN LA RED ASISTENCIAL"]
[]
["SECCIÓN A: TELEINTERCONSULTA DE ESPECIALIDAD (ATENCION REALIZADA DE MEDICO A MEDICO)"]
["Especialidades","Teleinterconsulta médica de especialidad ambulatoria nueva",null,null,null,null,null,"Teleinterconsulta médica de especialidad ambulatoria control",null,null,null,null,null,"TOTAL TELEINTERCONSULTAS  MEDICAS AMBULATORIAS DE ESPECIALIDAD ",null,null,null,null,null,"Modalidad",null,null,"Teleinterconsulta medicina de especialidad realizadas a pacientes hospitalizados",null,null,null,null,null,"Modalidad",null,null,"Teleinterconsultas solicitadas desde APS o Nivel Secundario para ser resueltas por otro establecimiento"]
[null,"0 - 14 años",null,"15 - 19 años",null,"20 y mas años",null,"0 - 14 años",null,"15 - 19 años",null,"20 y mas años",null,"0 - 14 años",null,"15 - 19 años",null,"20 y mas años",null,"Institucional","Compra de Servicio",null,"0 - 14 años",null,"15 - 19 años",null,"20 y mas años",null,"Institucional","Compra de Servicio",null,"0 - 14 años",null,"15 - 19 años",null,"20 y mas años"]
[null,"Hombres","Mujeres","Hombres","Mujeres","Hombres","Mujeres","Hombres","Mujeres","Hombres","Mujeres","Hombres","Mujeres","Hombres","Mujeres","Hombres","Mujeres","Hombres","Mujeres",null,"Sistema","Extrasistema","Hombres","Mujeres","Hombres","Mujeres","Hombres","Mujeres",null,"Sistema","Extrasistema","Hombres","Mujeres","Hombres","Mujeres","Hombres","Mujeres"]
["TOTAL",{"$f":"SUM(B13:B72)","v":0},0,0,0,{"$f":"SUM(F13:F72)","v":0},{"$f":"SUM(G13:G72)","v":0},{"$f":"SUM(H13:H72)","v":0},{"$f":"SUM(I13:I72)","v":0},0,0,0,0,{"$f":"SUM(N13:N72)","v":0},{"$f":"SUM(O13:O72)","v":0},{"$f":"SUM(P13:P72)","v":0},0,0,0,0,0,0,{"$f":"SUM(W13:W72)","v":0},{"$f":"SUM(X13:X72)","v":0},0,0,0,0,0,0,0,{"$f":"SUM(AF13:AF72)","v":0},{"$f":"SUM(AG13:AG72)","v":0},0,0,0,0]
["Pediatría",null,null,null,null,null,null,null,null,null,null,null,null,{"$f":"SUM(B13+H13)","v":0},0,0,0,0,0]
["Medicina interna",null,null,null,null,null,null,null,null,null,null,null,null,0,0,0,0,0,0]
["Neonatología",null,null,null,null,null,null,null,null,null,null,null,null,0,0,0,0,0,0]
["Enfermedad respiratoria pediátrica (Brocopulmonar infantil)",null,null,null,null,null,null,null,null,null,null,null,null,0,0,0,0,0,0]
["Enfermedad respiratoria de adulto (Broncopulmonar)",null,null,null,null,null,null,null,null,null,null,null,null,0,0,0,0,0,0]
["Cardiología pediátrica",null,null,null,null,null,null,null,null,null,null,null,null,0,0,0,0,0,0]
["Cardiología adulto",null,null,null,null,null,null,null,null,null,null,null,null,0,0,0,0,0,0]
["Endocrinología pediátrica",null,null,null,null,null,null,null,null,null,null,null,null,0,0,0,0,0,0]
["Endocrinología adulto",null,null,null,null,null,null,null,null,null,null,null,null,0,0,0,0,0,0]
["Gastroenterología pediátrica",null,null,null,null,null,null,null,null,null,null,null,null,0,0,0,0,0,0]
["Gastroenterología adulto",null,null,null,null,null,null,null,null,null,null,null,null,0,0,0,0,0,0]
["Genética clínica",null,null,null,null,null,null,null,null,null,null,null,null,0,0,0,0,0,0]
["Hemato-oncología infantil",null,null,null,null,null,null,null,null,null,null,null,null,0,0,0,0,0,0]
["Hematología adulto",null,null,null,null,null,null,null,null,null,null,null,null,0,0,0,0,0,0]
["Nefrología pediátrica",null,null,null,null,null,null,null,null,null,null,null,null,0,0,0,0,0,0]
["Nefrología adulto",null,null,null,null,null,null,null,null,null,null,null,null,0,0,0,0,0,0]
["Nutriólogo pediátrico",null,null,null,null,null,null,null,null,null,null,null,null,{"$f":"SUM(B29+H29)","v":0},0,0,0,0,{"$f":"SUM(G29+M29)","v":0}]
["Nutriólogo adulto",null,null,null,null,null,null,null,null,null,null,null,null,0,0,0,0,0,0]
["Reumatología pediátrica",null,null,null,null,null,null,null,null,null,null,null,null,0,0,0,0,0,0]
["Reumatología adulto",null,null,null,null,null,null,null,null,null,null,null,null,0,0,0,0,0,0]
["Dermatología",null,null,null,null,null,null,null,null,null,null,null,null,0,0,0,0,0,0]
["Infectología pediátrica",null,null,null,null,null,null,null,null,null,null,null,null,0,0,0,0,0,0]
["Infectología adulto",null,null,null,null,null,null,null,null,null,null,null,null,0,0,0,0,0,0]
["Inmunología",null,null,null,null,null,null,null,null,null,null,null,null,0,0,0,0,0,0]
["Geriatría",null,null,null,null,null,null,null,null,null,null,null,null,0,0,0,0,0,0]
["Medicina física y rehabilitación pediátrica (fisiatría pediátrica)",null,null,null,null,null,null,null,null,null,null,null,null,0,0,0,0,0,0]
["Medicina física y rehabilitación adulto (fisiatría adulto)",null,null,null,null,null,null,null,null,null,null,null,null,0,0,0,0,0,0]
["Neurología pediátrica",null,null,null,null,null,null,null,null,null,null,null,null,0,0,0,0,0,0]
["Neurología adulto",null,null,null,null,null,null,null,null,null,null,null,null,0,0,0,0,0,0]
["Oncología médica",null,null,null,null,null,null,null,null,null,null,null,null,0,0,0,0,0,0]
["Psiquiatría pediátrica y de la adolescencia",null,null,null,null,null,null,null,null,null,null,null,null,0,0,0,0,0,0]
["Psiquiatría adulto",null,null,null,null,null,null,null,null,null,null,null,null,0,0,0,0,0,0]
["Cirugía pediátrica",null,null,null,null,null,null,null,null,null,null,null,null,0,0,0,0,0,0]
["Cirugía general adulto",null,null,null,null,null,null,null,null,null,null,null,null,0,0,0,0,0,0]
["Cirugía digestiva (alta)",null,null,null,null,null,null,null,null,null,null,null,null,0,0,0,0,0,0]
["Cirugía de cabeza, cuello y maxilofacial",null,null,null,null,null,null,null,null,null,null,null,null,0,0,0,0,0,0]
["Cirugía plástica y reparadora pediátrica",null,null,null,null,null,null,null,null,null,null,null,null,0,0,0,0,0,0]
["Cirugía plástica y reparadora adulto",null,null,null,null,null,null,null,null,null,null,null,null,0,0,0,0,0,0]
["Coloproctología (Cirugía digestiva baja)",null,null,null,null,null,null,null,null,null,null,null,null,0,0,0,0,0,0]
["Cirugía tórax",null,null,null,null,null,null,null,null,null,null,null,null,0,0,0,0,0,0]
["Cirugía vascular periferica",null,null,null,null,null,null,null,null,null,null,null,null,0,0,0,0,0,0]
["Neurocirugía",null,null,null,null,null,null,null,null,null,null,null,null,0,0,0,0,0,0]
["Cirugía cardiovascular",null,null,null,null,null,null,null,null,null,null,null,null,0,0,0,0,0,0]
["Anestesiología",null,null,null,null,null,null,null,null,null,null,null,null,0,0,0,0,0,0]
["Obstetricia",null,null,null,null,null,null,null,null,null,null,null,null,0,0,0,0,0,0]
["Ginecología pediátrica y de la adolescencia",null,null,null,null,null,null,null,null,null,null,null,null,0,0,0,0,0,0]
["Ginecología adulto",null,null,null,null,null,null,null,null,null,null,null,null,0,0,0,0,0,0]
["Oftalmología",null,null,null,null,null,null,null,null,null,null,null,null,0,0,0,0,0,0]
["Otorrinolaringología",null,null,null,null,null,null,null,null,null,null,null,null,0,0,0,0,0,0]
["Traumatología y ortopedia pediátrica",null,null,null,null,null,null,null,null,null,null,null,null,0,0,0,0,0,0]
["Traumatología y ortopedia adulto",null,null,null,null,null,null,null,null,null,null,null,null,0,0,0,0,0,0]
["Urología pediátrica",null,null,null,null,null,null,null,null,null,null,null,null,0,0,0,0,0,0]
["Urología adulto",null,null,null,null,null,null,null,null,null,null,null,null,0,0,0,0,0,0]
["Medicina familiar del niño",null,null,null,null,null,null,null,null,null,null,null,null,0,0,0,0,0,0]
["Medicina familiar",null,null,null,null,null,null,null,null,null,null,null,null,0,0,0,0,0,0]
["Medicina familiar adulto",null,null,null,null,null,null,null,null,null,null,null,null,0,0,0,0,0,0]
["Diabetología",null,null,null,null,null,null,null,null,null,null,null,null,0,0,0,0,0,0]
["Medicina intensiva",null,null,null,null,null,null,null,null,null,null,null,null,0,0,0,0,0,0]
["Imagenología",null,null,null,null,null,null,null,null,null,null,null,null,0,0,0,0,{"$f":"SUM(F71+L71)","v":0},0]
["Radioterapia oncológica",null,null,null,null,null,null,null,null,null,null,null,null,{"$f":"SUM(B72+H72)","v":0},0,0,0,0,0]
["SECCIÓN B : TELEINTERCONSULTA  MÉDICA EN ESTABLECIMIENTOS DE ATENCIÓN SECUNDARIA DE URGENCIA (ATENCIÓN MEDICO A MÉDICO)"]
["Tipo de teleinterconsulta de urgencia","Teleinterconsulta médica de urgencia en hospitales de alta y mediana complejidad",null,null,null,null,null,"Modalidad",null,null,"Teleinterconsultas solicitadas desde APS o Nivel Secundario para ser resueltas por otro establecimiento"]
[null,"0 - 14 años",null,"15 - 19 años",null,"20 y mas años",null,"Institucional ","Compra de Servicio",null,"0 - 14 años",null,"15 - 19 años",null,"20 y mas años"]
[null,"Hombres ","Mujeres","Hombres","Mujeres","Hombres","Mujeres","Establecimiento de la Red","Sistema","Extrasistema","Hombres","Mujeres","Hombres","Mujeres","Hombres","Mujeres"]
["Consulta urgencia otros"]
["Accidente cerebro vascular (ACV)"]
["Quemados"]
["SECCIÓN C : TELEINFORMES  EN ESTABLECIMIENTOS DE ATENCIÓN PRIMARIA, SECUNDARIA Y TERCIARIA"]
["Teleinformes realizados","Establecimientos del Nivel Primario de salud",null,null,null,null,null,null,null,null,"Establecimientos de Nivel Secundario y Terciario",null,null,null,null,null,null,null,null,"Total teleinformes realizados"]
[null,"0 - 14 años",null,"15 - 19 años",null,"20 y mas años",null,"Modalidad",null,null,"0 - 14 años",null,"15 - 19 años",null,"20 y mas años",null,"Modalidad"]
[null,"Hombres","Mujeres","Hombres","Mujeres","Hombres","Mujeres","Institucional","Compra de Servicio",null,"Hombres","Mujeres","Hombres","Mujeres","Hombres","Mujeres","Institucional","Compra de Servicio",null,"Teleinformes realizados por Inteligencia Artificial","Teleinformes realizados por Médico Especialista "]
[null,null,null,null,null,null,null,null,"Sistema","Extrasistema",null,null,null,null,null,null,null,"Sistema","Extrasistema"]
["TOTAL EMISIONES DE INFORMES",{"$f":"SUM(B86:B98)","v":0},{"$f":"SUM(C86:C98)","v":0},0,0,{"$f":"SUM(F86:F98)","v":0},{"$f":"SUM(G86:G98)","v":0},0,0,0,{"$f":"SUM(K86:K98)","v":0},{"$f":"SUM(L86:L98)","v":0},0,0,0,0,0,0,0,{"$f":"SUM(T86:T98)","v":0},{"$f":"SUM(U86:U98)","v":0}]
["Nº de informes Ecografías obstétricas"]
["Nº de informes Electrocardiograma"]
["Nº de informes Electroencefalograma"]
["Nº de informes Espirometrías"]
["Nº de informes Fondo de ojo (excluye resolutividad)"]
["Nº de informes Holter de presión arterial"]
["Nº de informes Test de esfuerzo"]
["Nº de informes radiografías simples"]
["Nº de informes radiografías dentales"]
["Nº de informes de Tomografía axial computarizada"]
["Nº de informes de Resonancia magnética nuclear"]
["Nº de informes Ecografías abdominal"]
["N° de mamografía"]
["SECCIÓN D: TELEINTERCONSULTA ODONTOLÓGICA "]
["Especialidades odontológicas","Teleinterconsulta de especialidad odontológica ambulatoria nueva",null,null,null,null,null,"Teleinterconsulta de especialidad odontológica ambulatoria control",null,null,null,null,null,"TOTAL TELEINTERCONSULTAS AMBULATORIAS DE ESPECIALIDAD ODONTOLÓGICA ",null,null,null,null,null,"Modalidad",null,null,"Solicitud de teleinterconsulta de especialidad odontológica"]
[null,"0 - 14 años",null,"15 - 19 años",null,"20 y mas años",null,"0 - 14 años",null,"15 - 19 años",null,"20 y mas años",null,"0 - 14 años",null,"15 - 19 años",null,"20 y mas años",null,"Institucional","Compra de Servicio",null,"0 - 14 años",null,"15 - 19 años",null,"20 y mas años"]
[null,"Hombres","Mujeres","Hombres","Mujeres","Hombres","Mujeres","Hombres","Mujeres","Hombres","Mujeres","Hombres","Mujeres","Hombres","Mujeres","Hombres","Mujeres","Hombres","Mujeres","Establecimiento de la Red","Sistema","Extrasistema","Hombres","Mujeres","Hombres","Mujeres","Hombres","Mujeres"]
["TOTAL",{"$f":"SUM(B104:B114)","v":0},{"$f":"SUM(C104:C114)","v":0},0,0,0,0,0,0,0,0,0,0,0,0,0,0,0,0,0,0,0,0,0,0,0,{"$f":"SUM(AA104:AA114)","v":0},0]
["Cirugía bucal",null,null,null,null,null,null,null,null,null,null,null,null,{"$f":"+B104+H104","v":0},0,0,0,0,0]
["Cirugía y traumatología maxilofacial",null,null,null,null,null,null,null,null,null,null,null,null,0,0,0,0,0,0]
["Endodoncia",null,null,null,null,null,null,null,null,null,null,null,null,0,0,0,0,0,0]
["Odontopediatría",null,null,null,null,null,null,null,null,null,null,null,null,0,0,0,0,0,0]
["Ortodoncia y ortopedia dento maxilofacial",null,null,null,null,null,null,null,null,null,null,null,null,0,0,0,0,0,0]
["Periodoncia",null,null,null,null,null,null,null,null,null,null,null,null,0,0,0,0,0,0]
["Rehabilitación: Prótesis fija",null,null,null,null,null,null,null,null,null,null,null,null,0,0,0,0,0,0]
["Rehabilitación: Prótesis removible",null,null,null,null,null,null,null,null,null,null,null,null,0,0,0,0,0,0]
["Implantología buco maxilofacial",null,null,null,null,null,null,null,null,null,null,null,null,0,0,0,0,0,0]
["Patología oral",null,null,null,null,null,null,null,null,null,null,null,null,0,0,{"$f":"+D113+J113","v":0},{"$f":"+E113+K113","v":0},0,0]
["Trastornos temporomandibulares y dolor orofacial",null,null,null,null,null,null,null,null,null,null,null,null,0,0,0,0,0,0]
["SECCIÓN E: TELEPROCEDIMIENTOS EN ATENCIÓN SECUNDARIA Y TERCIARIA"]
["Teleprocedimientos","Establecimientos de Nivel Secundario y Terciario",null,null,null,null,null,null,null,null,"Teleprocedimientos solicitados desde Nivel Secundario y Terciario y resueltos por otro establecimiento"]
[null,"0 - 14 años",null,"15 - 19 años",null,"20 y mas años",null,"Modalidad"]
[null,"Hombres","Mujeres","Hombres","Mujeres","Hombres","Mujeres","Institucional","Compra de Servicio",null,"0 - 14 años",null,"15 - 19 años",null,"20 y mas años"]
[null,null,null,null,null,null,null,"Establecimiento de la Red","Sistema","Extrasistema","Hombres","Mujeres","Hombres","Mujeres","Hombres","Mujeres"]
["TOTAL",{"$f":"SUM(B121:B124)","v":0},{"$f":"SUM(C121:C124)","v":0},{"$f":"SUM(D121:D124)","v":0},{"$f":"SUM(E121:E124)","v":0},{"$f":"SUM(F121:F124)","v":0},0,0,0,0,0,0,0,0,0,0]
["Ecocardiograma"]
["Trombolisis de urgencia infarto cerebral (ACV)"]
["Trombolisis intracoronaria (IAM)"]
["Ecografía gineco-obstétrica"]
["SECCIÓN F: TELECOMITÉ DE ESPECIALIDAD "]
["Actividad","TOTAL ","Telecomité realizados",null,null,"Total Nº de casos revisados",null,null,"Telecomité solicitados desde Nivel Secundario y Terciario y resueltos por otro establecimiento"]
[null,null,null,null,null,null,null,null,"0 - 14 años",null,"15 - 19 años",null,"20 y mas años"]
["Telecomité de especialidad",null,"0 - 14 años","15 - 19 años","20 y mas años","Ambos Sexos","Hombres","Mujeres","Hombres","Mujeres","Hombres","Mujeres","Hombres","Mujeres"]
[null,{"$f":"SUM(B130:B135)","v":0},{"$f":"SUM(C130:C135)","v":0},0,0,{"$f":"SUM(F130:F135)","v":0},0,0,0,0,0,0,0,0]
["Oncológico",{"$f":"SUM(C130:E130)","v":0},null,null,null,{"$f":"SUM(G130:H130)","v":0}]
["Cuidados paliativos oncológicos",{"$f":"SUM(C131:E131)","v":0},null,null,null,{"$f":"SUM(G131:H131)","v":0}]
["Cuidados paliativos no oncológicos universales",0,null,null,null,0]
["VIH",0,null,null,null,0]
["Unidad de paciente crítico",0,null,null,null,0]
["Otros",0,null,null,null,0]
["SECCIÓN G: TELEINTERCONSULTA MEDICINA ABREVIADA "]
["Tipo de consulta","Modalidad"]
[null,"Institucional","Compra de Servicio"]
[null,"Establecimiento de la Red","Sistema","Extrasistema"]
["Tratamiento anticoagulante oral"]
[]
[]
[]
[]
[]
[]
[]
[]
[]
[]
[]
[]
[]
[]
[]
[]
[]
[]
[]
[]
[]
[]
[]
[]
[]
[]
[]
[]
[]
[]
[]
[]
[]
[]
[]
[]
[]
[]
[]
[{"$f":"SUM(B12:M12,N12:S72,T12:AK12,B77:P79,B85:U85,B103:M103,N103:S114,T103:AB103,B120:P120,B129:B135,C129:E129,F129:F135,G129:N129,B140:D140)","v":0}]

{"sheet":"A30AR","index":23,"n_rows":150,"n_cols":25,"rows_kept":150,"cut":false,"hidden":false,"merged":[[6,0,6,16],[5,0,5,16],[12,11,12,12],[12,13,12,14],[12,15,12,16],[24,0,24,5],[25,0,27,0],[25,1,25,4],[25,5,25,8],[25,9,25,12],[25,13,25,16],[26,1,26,2],[11,0,13,0],[11,1,11,4],[11,5,11,8],[11,9,11,12],[11,13,11,16],[12,1,12,2],[12,3,12,4],[12,5,12,6],[12,7,12,8],[12,9,12,10],[26,15,26,16],[38,0,40,0],[38,1,38,4],[38,5,38,8],[38,9,38,12],[38,13,38,16],[26,3,26,4],[26,5,26,6],[26,7,26,8],[26,9,26,10],[26,11,26,12],[26,13,26,14],[38,17,38,20],[38,21,38,24],[39,1,39,2],[39,3,39,4],[39,5,39,6],[39,7,39,8],[39,9,39,10],[39,11,39,12],[39,13,39,14],[39,15,39,16],[39,17,39,18],[39,19,39,20],[39,21,39,22],[39,23,39,24],[47,0,49,0],[47,1,47,4],[47,5,47,8],[47,9,47,12],[47,13,47,16],[48,1,48,2],[48,15,48,16],[58,0,60,0],[58,1,58,4],[58,5,58,8],[58,9,58,12],[58,13,58,16],[59,1,59,2],[59,3,59,4],[59,5,59,6],[59,7,59,8],[48,3,48,4],[48,5,48,6],[48,7,48,8],[48,9,48,10],[48,11,48,12],[48,13,48,14],[59,9,59,10],[59,11,59,12],[59,13,59,14],[59,15,59,16],[67,0,69,0],[67,1,67,4],[67,5,67,8],[67,9,67,12],[67,13,67,16],[68,1,68,2],[84,0,86,0],[84,1,86,1],[84,2,84,7],[84,8,85,9],[85,2,85,3],[85,4,85,5],[85,6,85,7],[68,15,68,16],[76,0,78,0],[76,1,76,4],[76,5,76,8],[77,1,77,2],[77,3,77,4],[77,5,77,6],[77,7,77,8],[68,3,68,4],[68,5,68,6],[68,7,68,8],[68,9,68,10],[68,11,68,12],[68,13,68,14],[90,0,92,0],[90,1,92,1],[90,2,90,3],[90,4,91,5],[91,2,91,3],[96,0,98,0],[96,1,98,1],[96,2,96,5],[97,2,97,3],[97,4,97,5],[107,5,107,6],[107,7,107,8],[116,0,118,0],[116,1,118,1],[116,2,116,6],[117,2,117,3],[117,4,117,5],[117,6,118,6],[101,0,103,0],[101,1,103,1],[101,2,101,5],[102,2,102,3],[102,4,102,5],[106,0,108,0],[106,1,106,4],[106,5,106,8],[107,1,107,2],[107,3,107,4]]}
["SERVICIO DE SALUD"]
[{"$f":"CONCATENATE(\"COMUNA: \",NOMBRE!B2,\" - \",\"( \",NOMBRE!C2,NOMBRE!D2,NOMBRE!E2,NOMBRE!F2,NOMBRE!G2,\" )\")","v":"COMUNA:  - (  )"}]
[{"$f":"CONCATENATE(\"ESTABLECIMIENTO/ESTRATEGIA: \",NOMBRE!B3,\" - \",\"( \",NOMBRE!C3,NOMBRE!D3,NOMBRE!E3,NOMBRE!F3,NOMBRE!G3,NOMBRE!H3,\" )\")","v":"ESTABLECIMIENTO/ESTRATEGIA:  - (  )"}]
[{"$f":"CONCATENATE(\"MES: \",NOMBRE!B6,\" - \",\"( \",NOMBRE!C6,NOMBRE!D6,\" )\")","v":"MES:  - (  )"}]
[{"$f":"CONCATENATE(\"AÑO: \",NOMBRE!B7)","v":"AÑO: 2024"}]
["REM-A30 AR: ATENCIÓN Y ORIENTACIÓN DE SALUD A DISTANCIA (HD)"]
["ESTE REM SOLO ES LLENADO POR HOSPITAL DIGITAL, NIVEL CENTRAL"]
[]
[]
["SECCION A: ATENCIONES POR TELEMEDICINA DE ESPECIALIDAD MEDICA "]
["SECCION A1: TELEINTERCONSULTA DE ESPECIALIDAD MEDICA POR HOSPITAL DIGITAL"]
["ESPECIALIDADES  ","TOTAL TELEINTERCONSULTAS MÉDICAS DE ESPECIALIDAD REALIZADAS  POR HOSPITAL DIGITAL",null,null,null,"TELEINTERCONSULTA MEDICA DE ESPECIALIDAD AMBULATORIA NUEVA",null,null,null,"TELEINTERCONSULTA MEDICA  DE ESPECIALIDAD AMBULATORIA CONTROL ",null,null,null,"TELEINTERCONSULTAS  SOLICITADAS DESDE APS O NIVEL SECUNDARIO PARA SER RESUELTAS POR HOSPITAL DIGITAL"]
[null,"Menores de 15 años",null,"15 y más años",null,"Menores de 15 años",null,"15 y más años",null,"Menores de 15 años",null,"15 y más años",null,"Menores de 15 años",null,"15 y más años"]
[null,"Hombres","Mujeres","Hombres","Mujeres","Hombres","Mujeres","Hombres","Mujeres","Hombres","Mujeres","Hombres","Mujeres","Hombres","Mujeres","Hombres","Mujeres"]
["TOTAL",{"$f":"SUM(B16:B24)","v":0},{"$f":"SUM(C16:C24)","v":0},{"$f":"SUM(D16:D24)","v":0},{"$f":"SUM(E16:E24)","v":0},{"$f":"SUM(F16:F24)","v":0},{"$f":"SUM(G16:G24)","v":0},0,0,0,0,0,0,{"$f":"SUM(N16:N24)","v":0},{"$f":"SUM(O16:O24)","v":0},0,0]
["Nefrología Adulto",null,null,{"$f":"SUM(H16+L16)","v":0},0]
["Dermatología",{"$f":"SUM(F17+J17)","v":0},{"$f":"SUM(G17+K17)","v":0},0,0]
["Geriatría",null,null,0,0]
["Diabetología",null,null,0,0]
["Psiquiatría",{"$f":"SUM(F20+J20)","v":0},{"$f":"SUM(G20+K20)","v":0},0,0]
["Reumatología",null,null,0,0]
["Endocrinología",null,null,0,0]
["Genética",{"$f":"SUM(F23+J23)","v":0},{"$f":"SUM(G23+K23)","v":0},0,0]
["Neurología",{"$f":"SUM(F24+J24)","v":0},{"$f":"SUM(G24+K24)","v":0},0,0]
["SECCION A2: TELECONSULTA DE ESPECIALIDAD MEDICA  POR HOSPITAL DIGITAL"]
["ESPECIALIDADES  ","TOTAL TELECONSULTAS DE ESPECIALIDAD REALIZADAS  POR HOSPITAL DIGITAL",null,null,null,"TELECONSULTA DE ESPECIALIDAD CONSULTA NUEVA",null,null,null,"TELECONSULTA DE ESPECIALIDAD CONTROL ",null,null,null,"TELECONSULTAS SOLICITADAS PARA SER RESUELTAS POR HOSPITAL DIGITAL"]
[null,"Menores de 15 años",null,"15 y más años",null,"Menores de 15 años",null,"15 y más años",null,"Menores de 15 años",null,"15 y más años",null,"Menores de 15 años",null,"15 y más años"]
[null,"Hombres","Mujeres","Hombres","Mujeres","Hombres","Mujeres","Hombres","Mujeres","Hombres","Mujeres","Hombres","Mujeres","Hombres","Mujeres","Hombres","Mujeres"]
["TOTAL",{"$f":"SUM(B30+B33+B35+B36+B37)","v":0},{"$f":"SUM(C30+C33+C35+C36+C37)","v":0},{"$f":"SUM(D30:D37)","v":0},{"$f":"SUM(E30:E37)","v":0},{"$f":"SUM(F30+F33+F35+F36+F37)","v":0},{"$f":"SUM(G30+G33+G35+G36+G37)","v":0},{"$f":"SUM(H30:H37)","v":0},{"$f":"SUM(I30:I37)","v":0},{"$f":"SUM(J30+J33+J35+J36+J37)","v":0},{"$f":"SUM(K30+K33+K35+K36+K37)","v":0},{"$f":"SUM(L30:L37)","v":0},{"$f":"SUM(M30:M37)","v":0},{"$f":"SUM(N30+N33+N35+N36+N37)","v":0},{"$f":"SUM(O30+O33+O35+O36+O37)","v":0},{"$f":"SUM(P30:P37)","v":0},{"$f":"SUM(Q30:Q37)","v":0}]
["Dermatología",{"$f":"SUM(F30+J30)","v":0},{"$f":"SUM(G30+K30)","v":0},{"$f":"SUM(H30+L30)","v":0},{"$f":"SUM(I30+M30)","v":0}]
["Urología",null,null,{"$f":"SUM(H31+L31)","v":0},0]
["Psiquiatría",null,null,0,0]
["Otorrinolaringología",{"$f":"SUM(F33+J33)","v":0},{"$f":"SUM(G33+K33)","v":0},0,0]
["Medicina Interna",null,null,0,0]
["Enfermedades Metabólicas",{"$f":"SUM(F35+J35)","v":0},0,0,0]
["Neurología",0,0,0,0]
["Ginecología",0,0,0,0]
["SECCIÓN B : TELEINFORMES EN ESTABLECIMIENTOS DE ATENCIÓN PRIMARIA, SECUNDARIA Y TERCIARIA"]
["TELEINFORMES "," TOTAL TELEINFORMES REALIZADOS ",null,null,null,"ESTABLECIMIENTOS DE NIVEL PRIMARIO DE SALUD ",null,null,null," (ESTABLECIMIENTOS DE NIVEL SECUNDARIO Y TERCIARIO)",null,null,null,"TOTAL TELEINFORMES REALIZADOS POR INTELIGENCIA ARTIFICIAL",null,null,null,"TOTAL TELEINFORMES REALIZADOS POR ESPECIALISTA ",null,null,null,"TELEINFORMES SOLICITADOS DESDE APS, NIVEL SECUNDARIO  O TERCIARIO"]
[null,"Menores de 15 años",null,"15 y más años",null,"Menores de 15 años",null,"15 y más años",null,"Menores de 15 años",null,"15 y más años",null,"Menores de 15 años",null,"15 y más años",null,"Menores de 15 años",null,"15 y más años",null,"Menores de 15 años",null,"15 y más años"]
[null,"Hombres","Mujeres","Hombres","Mujeres","Hombres","Mujeres","Hombres","Mujeres","Hombres","Mujeres","Hombres","Mujeres","Hombres","Mujeres","Hombres","Mujeres","Hombres","Mujeres","Hombres","Mujeres","Hombres","Mujeres","Hombres","Mujeres"]
["TOTAL",{"$f":"SUM(B43:B46)","v":0},{"$f":"SUM(C43:C46)","v":0},{"$f":"SUM(D43:D46)","v":0},{"$f":"SUM(E43:E46)","v":0},{"$f":"SUM(F43:F46)","v":0},{"$f":"SUM(G43:G46)","v":0},0,0,0,0,0,0,{"$f":"SUM(N43)","v":0},{"$f":"SUM(O43)","v":0},{"$f":"SUM(P43)","v":0},{"$f":"SUM(Q43)","v":0},{"$f":"SUM(R43:R46)","v":0},0,0,0,0,0,0,0]
["N° de Teleinformes Fondo de Ojo",{"$f":"SUM(F43+J43)","v":0},{"$f":"SUM(G43+K43)","v":0},{"$f":"SUM(H43+L43)","v":0},{"$f":"SUM(I43+M43)","v":0}]
["N° de Teleinformes de Tomografía Axial Computarizada",{"$f":"SUM(F44+J44)","v":0},0,0,0]
["N° de Teleinformes de Resonancia Magnética",0,0,0,0]
["N° de Teleinformes Mamografías",0,0,0,0]
["SECCION C: TELEINTERCONSULTA DE ESPECIALIDADES ODONTOLOGICAS POR HOSPITAL DIGITAL"]
["ESPECIALIDADES ODONTOLOGICAS","TOTAL TELEINTERCONSULTAS DE ESPECIALIDADES ODONTOLÓGICAS ",null,null,null,"TELEINTERCONSULTA DE ESPECIALIDADES ODONTOLÓGICAS AMBULATORIA NUEVA",null,null,null,"TELEINTERCONSULTA DE ESPECIALIDADES ODONTOLÓGICAS AMBULATORIA CONTROL ",null,null,null,"TELEINTERCONSULTAS  SOLICITADAS PARA SER RESUELTAS POR HOSPITAL DIGITAL"]
[null,"Menores de 15 años",null,"15 y más años",null,"Menores de 15 años",null,"15 y más años",null,"Menores de 15 años",null,"15 y más años",null,"Menores de 15 años",null,"15 y más años"]
[null,"Hombres","Mujeres","Hombres","Mujeres","Hombres","Mujeres","Hombres","Mujeres","Hombres","Mujeres","Hombres","Mujeres","Hombres","Mujeres","Hombres","Mujeres"]
["TOTAL",{"$f":"SUM(B52:B56)","v":0},{"$f":"SUM(C52:C56)","v":0},{"$f":"SUM(D52:D56)","v":0},{"$f":"SUM(E52:E56)","v":0},{"$f":"SUM(F52:F56)","v":0},{"$f":"SUM(G52:G56)","v":0},0,0,0,0,0,0,0,0,0,0]
["Cirugía Bucal",{"$f":"SUM(F52+J52)","v":0},{"$f":"SUM(G52+K52)","v":0},{"$f":"SUM(H52+L52)","v":0},{"$f":"SUM(I52+M52)","v":0}]
["Endodoncia",{"$f":"SUM(F53+J53)","v":0},0,0,0]
["Trastornos Temporomandibulares y Dolor Orofacial",0,0,0,0]
["Ortodoncia",0,0,0,0]
["Patología Oral",0,0,0,0]
["SECCIÓN D: ATENCIONES DE TELEMEDICINA REALIZADAS POR OTROS PROFESIONALES"]
["SECCION D1: TELEINTERCONSULTA OTROS PROFESIONALES DE LA SALUD REALIZADA POR HOSPITAL DIGITAL "]
["TELEINTERCONSULTA ","TOTAL DE TELEINTERCONSULTAS DE OTROS PROFESIONALES DE LA SALUD ",null,null,null,"TELEINTERCONSULTA NUEVA DE OTROS PROFESIONALES DE LA SALUD ",null,null,null,"TELEINTERCONSULTA CONTROL DE OTROS PROFESIONALES DE LA SALUD ",null,null,null,"TELEINTERCONSULTAS SOLICITADAS DESDE APS O NIVEL SECUNDARIO PARA SER RESUELTAS POR HOSPITAL DIGITAL"]
[null,"Menores de 15 años",null,"15 y más años",null,"Menores de 15 años",null,"15 y más años",null,"Menores de 15 años",null,"15 y más años",null,"Menores de 15 años",null,"15 y más años"]
[null,"Hombres","Mujeres","Hombres","Mujeres","Hombres","Mujeres","Hombres","Mujeres","Hombres","Mujeres","Hombres","Mujeres","Hombres","Mujeres","Hombres","Mujeres"]
["TOTAL",{"$f":"SUM(B63:B66)","v":0},{"$f":"SUM(C63:C66)","v":0},0,0,0,0,0,0,0,0,0,0,0,0,0,0]
["Enfermera/o",{"$f":"SUM(F63+J63)","v":0},{"$f":"SUM(G63+K63)","v":0},{"$f":"SUM(H63+L63)","v":0},{"$f":"SUM(I63+M63)","v":0}]
["Químico Farmacéutica/o",{"$f":"SUM(F64+J64)","v":0},0,0,0]
["Psicóloga/o",0,0,0,0]
["Nutricionista/o",0,0,0,0]
["SECCION D2: TELECONSULTA OTROS PROFESIONALES DE LA SALUD  REALIZADA POR HOSPITAL DIGITAL "]
["TELECONSULTA","TOTAL DE TELECONSULTAS DE OTROS PROFESIONALES DE LA SALUD ",null,null,null," TELECONSULTA NUEVA DE OTROS PROFESIONALES DE LA  SALUD ",null,null,null," TELECONSULTA CONTROL DE OTROS PROFESIONALES DE LA  SALUD  ",null,null,null,"TELECONSULTAS SOLICITADAS DESDE APS O NIVEL SECUNDARIO PARA SER RESUELTAS POR HOSPITAL DIGITAL"]
[null,"Menores de 15 años",null,"15 y más años",null,"Menores de 15 años",null,"15 y más años",null,"Menores de 15 años",null,"15 y más años",null,"Menores de 15 años",null,"15 y más años"]
[null,"Hombres","Mujeres","Hombres","Mujeres","Hombres","Mujeres","Hombres","Mujeres","Hombres","Mujeres","Hombres","Mujeres","Hombres","Mujeres","Hombres","Mujeres"]
["TOTAL",{"$f":"SUM(B72:B75)","v":0},{"$f":"SUM(C72:C75)","v":0},{"$f":"SUM(D72:D75)","v":0},{"$f":"SUM(E72:E75)","v":0},{"$f":"SUM(F72:F75)","v":0},0,0,0,0,0,0,0,0,0,0,0]
["Enfermera/o",{"$f":"SUM(F72+J72)","v":0},{"$f":"SUM(G72+K72)","v":0},{"$f":"SUM(H72+L72)","v":0},{"$f":"SUM(I72+M72)","v":0}]
["Químico Farmacéutica/o",{"$f":"SUM(F73+J73)","v":0},0,0,0]
["Psicóloga/o",0,0,0,0]
["Nutricionista/o",0,0,0,0]
["SECCION E: TELEMEDICINA EN ESTRATEGIAS DE MEDICINA GENERAL "]
["TELECONSULTA","TELEMEDICINA POR PROFESIONAL DE SALUD AMBULATORIA  ",null,null,null,"TELEMEDICINA SOLICITADAS PARA SER RESUELTAS POR MEDICOS GENERALES DE HOSPITAL DIGITAL"]
[null,"Menores de 15 años",null,"15 y más años",null,"Menores de 15 años",null,"15 y más años"]
[null,"Hombres","Mujeres","Hombres","Mujeres","Hombres","Mujeres","Hombres","Mujeres"]
["TOTAL",{"$f":"SUM(B81:B82)","v":0},{"$f":"SUM(C81:C82)","v":0},0,0,0,0,0,0]
["Medicina General Hospital Digital Rural"]
["Medicina General en otras Instancias"]
["SECCION F: ESTRATEGIAS SALUD MENTAL "]
["SECCIÓN F1: ESTRATEGIA SALUD MENTAL POBLACION GENERAL "]
["ESTRATEGIAS DE SALUD A POBLACIÓN GENERAL ","TOTAL","ATENCIONES DE SALUD MENTAL A POBLACIÓN GENERAL",null,null,null,null,null,"Atenciones Diferenciadas por Vía de Realización "]
[null,null,"Menores de 15 años",null,"15 y más años",null,"Usuarios sin Antecedentes "]
[null,null,"Hombres","Mujeres","Hombres","Mujeres","Sin información Edad","Sin información Sexo","Atención por llamada telefónica","Atención por Videollamada"]
["Primera Ayuda Psicológica",{"$f":"SUM(C88:H88)","v":0}]
["Ingresos PASMET",{"$f":"SUM(C89:H89)","v":0}]
["SECCION F2: ESTRATEGIA SALUD MENTAL EN FUNCIONARIOS DE LA SALUD "]
["ESTRATEGIAS DE SALUD A FUNCIONARIOS","TOTAL","ATENCIONES DE SALUD MENTAL FUNCIONARIOS",null,"Atenciones Diferenciadas por Vía de Realización  "]
[null,null,"15 y más años"]
[null,null,"Hombres","Mujeres","Atención por llamada telefónica","Atención por Videollamada"]
["Primera Ayuda Psicológica",{"$f":"SUM(C94:D94)","v":0}]
["Ingresos PASMET",{"$f":"SUM(C95:D95)","v":0}]
["SECCION F3: ALTA PROGRAMA DE ACOMPAÑAMIENTO EN SALUD MENTAL POR TELEMEDICINA A POBLACIÓN GENERAL (PASMET) "]
["TIPO DE ALTA PASMET","TOTAL","ATENCIÓN  PSICOLOGICA A POBLACIÓN GENERAL"]
[null,null,"Menores de 15 años",null,"15 y más años"]
[null,null,"Hombres","Mujeres","Hombres","Mujeres"]
["Alta Terapéutica ",{"$f":"SUM(C100:F100)","v":0}]
["SECCION F4: ALTA PROGRAMA DE ACOMPAÑAMIENTO EN SALUD MENTAL POR TELEMEDICINA A FUNCIONARIOS (PASMET)"]
["TIPO DE ALTA PASMET","TOTAL","ATENCIÓN PSICOLÓGICA A FUNCIONARIOS "]
[null,null,"Menores de 15 años",null,"15 y más años"]
[null,null,"Hombres","Mujeres","Hombres","Mujeres"]
["Alta Terapéutica ",{"$f":"SUM(C105:F105)","v":0}]
["SECCION G: TELECOMITÉ"]
["TELECOMITE","USUARIOS EVALUADOS POR TELECOMITÉ ",null,null,null,"TOTAL USUARIOS SOLICITADOS A PRESENTAR EN TELECOMITÉ"]
[null,"Menores de 15 años",null,"15 y más años",null,"Menores de 15 años",null,"15 y más años"]
[null,"Hombres","Mujeres","Hombres","Mujeres","Hombres","Mujeres","Hombres","Mujeres"]
["TOTAL",{"$f":"SUM(B111:B115)","v":0},{"$f":"SUM(C111:C115)","v":0},{"$f":"SUM(D111:D115)","v":0},0,0,0,0,0]
["Telecomité Oncológico Central"]
["Telecomité Oncológico de Apoyo Central"]
["Telecomité de Cuidados Paliativos"]
["Telecomité UPC"]
["Otros"]
["SECCION H: ORIENTACIÓN TELEFÓNICA EN SALUD"]
["ORIENTACIÓN TELEFÓNICA EN SALUD ","TOTAL ","ORIENTACIÓN EN SALUD"]
[null,null,"Menores de 15 años",null,"15 y más años",null,"Sin Información "]
[null,null,"Hombres","Mujeres","Hombres","Mujeres"]
["Orientación Clínica por Profesional no Médico",{"$f":"SUM(C120:G120)","v":0}]
["Orientación Administrativa",{"$f":"SUM(C121:G121)","v":0}]
["Orientación Médica",{"$f":"SUM(C122:G122)","v":0}]
[]
[]
[]
[]
[]
[]
[]
[]
[]
[]
[]
[]
[]
[]
[]
[]
[]
[]
[]
[]
[]
[]
[]
[]
[]
[]
[]
[{"$f":"SUM(B15:E24,N15:Q24,B29:E37,N29:Q37,B42:E46,N42:Y46,B51:E56,N51:Q56,B62:E66,N62:Q66,B71:E75,N71:Q75,B80:I80,B88:B89,B94:B95,B100,B110:I110,B120:B122)","v":0}]

{"sheet":"A31","index":24,"n_rows":130,"n_cols":90,"rows_kept":130,"cut":false,"hidden":false,"merged":[[85,0,85,5],[86,0,87,0],[86,1,87,1],[86,2,86,18],[67,14,69,14],[67,15,69,15],[67,16,69,16],[67,17,69,17],[67,18,69,18],[67,19,69,19],[66,0,66,12],[67,0,69,0],[67,1,69,1],[67,2,68,4],[67,5,67,12],[67,13,69,13],[68,5,68,6],[68,7,68,8],[68,9,68,10],[68,11,68,12],[46,0,46,12],[47,0,48,0],[47,1,48,1],[47,2,48,2],[47,3,48,3],[47,4,48,4],[47,5,47,31],[11,0,13,0],[14,0,26,0],[27,0,27,1],[28,0,28,11],[29,0,30,0],[29,1,30,1],[29,2,30,2],[29,3,30,3],[29,4,30,4],[29,5,29,31],[8,46,10,46],[8,47,10,47],[8,48,10,48],[9,5,9,6],[9,7,9,8],[9,9,9,10],[9,11,9,12],[9,13,9,14],[9,15,9,16],[9,17,9,18],[8,40,10,40],[8,41,10,41],[8,42,10,42],[8,43,10,43],[8,44,10,44],[9,27,9,28],[8,45,10,45],[5,0,5,19],[7,0,7,9],[8,0,10,1],[8,2,9,4],[8,5,8,38],[8,39,10,39],[9,19,9,20],[9,21,9,22],[9,23,9,24],[9,25,9,26],[9,37,9,38],[9,29,9,30],[9,31,9,32],[9,33,9,34],[9,35,9,36]]}
["SERVICIO DE SALUD"]
[{"$f":"CONCATENATE(\"COMUNA: \",NOMBRE!B2,\" - \",\"( \",NOMBRE!C2,NOMBRE!D2,NOMBRE!E2,NOMBRE!F2,NOMBRE!G2,\" )\")","v":"COMUNA:  - (  )"}]
[{"$f":"CONCATENATE(\"ESTABLECIMIENTO/ESTRATEGIA: \",NOMBRE!B3,\" - \",\"( \",NOMBRE!C3,NOMBRE!D3,NOMBRE!E3,NOMBRE!F3,NOMBRE!G3,NOMBRE!H3,\" )\")","v":"ESTABLECIMIENTO/ESTRATEGIA:  - (  )"}]
[{"$f":"CONCATENATE(\"MES: \",NOMBRE!B6,\" - \",\"( \",NOMBRE!C6,NOMBRE!D6,\" )\")","v":"MES:  - (  )"}]
[{"$f":"CONCATENATE(\"AÑO: \",NOMBRE!B7)","v":"AÑO: 2024"}]
["REM-31.  MEDICINA COMPLEMENTARIA Y PRÁCTICAS DE BIENESTAR DE LA SALUD"]
[]
["SECCIÓN A: TIPOS DE MEDICINA COMPLEMENTARIA Y PRÁCTICAS DE BIENESTAR DE LA SALUD ENTREGADAS EN ATENCIÓN INDIVIDUAL"]
["TIPO DE MEDICINA COMPLEMENTARIA O PRÁCTICA DE BIENESTAR DE LA SALUD",null,"TOTAL",null,null,"RANGO ETARIO Y SEXO",null,null,null,null,null,null,null,null,null,null,null,null,null,null,null,null,null,null,null,null,null,null,null,null,null,null,null,null,null,null,null,null,null,"Atenciones realizadas durante otras consultas","Beneficiarios","Pueblos Originarios","Migrantes","Niños, Niñas, Adolescentes Y Jóvenes SENAME","Ingresos A Medicina Complementaria","Controles","Pacientes","Familiares / Cuidadores de los Pacientes","Funcionarios"]
[null,null,null,null,null," 0  -  4 años",null," 5  -  9 años",null," 10 - 14  años",null,"15 - 19 años",null,"20 - 24 años",null,"25 - 29 años",null,"30 - 34 años",null,"35 - 39 años",null,"40 - 44 años",null,"45 - 49 años",null,"50 - 54 años",null,"55 - 59 años",null,"60 - 64 años",null,"65 - 69 años",null,"70 - 74 años",null,"75 - 79 años",null,"80 y mas años"]
[null,null,"Ambos Sexos","Hombres","Mujeres","Hombres","Mujeres","Hombres","Mujeres","Hombres","Mujeres","Hombres","Mujeres","Hombres","Mujeres","Hombres","Mujeres","Hombres","Mujeres","Hombres","Mujeres","Hombres","Mujeres","Hombres","Mujeres","Hombres","Mujeres","Hombres","Mujeres","Hombres","Mujeres","Hombres","Mujeres","Hombres","Mujeres","Hombres","Mujeres","Hombres","Mujeres"]
["Reguladas","Acupuntura",{"$f":"+D12+E12","v":0},{"$f":"+F12+H12+J12+L12+N12+P12+R12+T12+V12+X12+Z12+AB12+AD12+AF12+AH12+AJ12+AL12","v":0},{"$f":"+G12+I12+K12+M12+O12+Q12+S12+U12+W12+Y12+AA12+AC12+AE12+AG12+AI12+AK12+AM12","v":0},null,null,null,null,null,null,null,null,null,null,null,null,null,null,null,null,null,null,null,null,null,null,null,null,null,null,null,null,null,null,null,null,null,null,null,null,null,null,null,null,null,null,null,null,{"$f":"CB12&CC12&CD12&CE12&CF12&CG12","v":""},null,null,null,null,null,null,null,null,null,null,null,null,null,null,null,null,null,null,null,null,null,null,null,null,null,null,null,null,null,{"$f":"IF(AND(C12>0,AO12=\"\"),\" * No olvide digitar la variable Beneficiarios. Digite Cero si no tiene.\",IF(AO12>C12,\"  * La variable Beneficiarios No puede ser mayor al Total.\",\"\"))","v":""},{"$f":"IF(AND(C12>0,AP12=\"\"),\" * No olvide digitar la variable Pueblos originarios. Digite Cero si no tiene.\",IF(AP12>C12,\"  * La variable pueblos originarios No puede ser mayor al Total.\",\"\"))","v":""},{"$f":"IF(AND(C12>0,AQ12=\"\"),\" * No olvide digitar la variable Migrantes. Digite Cero si no tiene.\",IF(AQ12>C12,\"  * La variable Migrantes No puede ser mayor al Total.\",\"\"))","v":""},{"$f":"IF(AND(C12>0,AR12=\"\"),\" * No olvide digitar la variable Niños, niñas, adolescentes y Jóvenes SENAME. Digite Cero si no tiene.\",IF(AR12>C12,\"  * La variable Niños, niñas, adolescentes y Jóvenes SENAME No puede ser mayor al Total.\",\"\"))","v":""},null,null,null,{"$f":"IF(AND(C12>0,AO12=\"\"),1,IF(AO12>C12,1,0))","v":0},{"$f":"IF(AND(C12>0,AP12=\"\"),1,IF(AP12>C12,1,0))","v":0},{"$f":"IF(AND(C12>0,AQ12=\"\"),1,IF(AQ12>C12,1,0))","v":0},{"$f":"IF(AND(C12>0,AR12=\"\"),1,IF(AR12>C12,1,0))","v":0}]
[null,"Homeopatía",{"$f":"+D13+E13","v":0},{"$f":"+F13+H13+J13+L13+N13+P13+R13+T13+V13+X13+Z13+AB13+AD13+AF13+AH13+AJ13+AL13","v":0},0,null,null,null,null,null,null,null,null,null,null,null,null,null,null,null,null,null,null,null,null,null,null,null,null,null,null,null,null,null,null,null,null,null,null,null,null,null,null,null,null,null,null,null,null,{"$f":"CB13&CC13&CD13&CE13&CF13&CG13","v":""},null,null,null,null,null,null,null,null,null,null,null,null,null,null,null,null,null,null,null,null,null,null,null,null,null,null,null,null,null,{"$f":"IF(AND(C13>0,AO13=\"\"),\" * No olvide digitar la variable Beneficiarios. Digite Cero si no tiene.\",IF(AO13>C13,\"  * La variable Beneficiarios No puede ser mayor al Total.\",\"\"))","v":""},{"$f":"IF(AND(C13>0,AP13=\"\"),\" * No olvide digitar la variable Pueblos originarios. Digite Cero si no tiene.\",IF(AP13>C13,\"  * La variable pueblos originarios No puede ser mayor al Total.\",\"\"))","v":""},{"$f":"IF(AND(C13>0,AQ13=\"\"),\" * No olvide digitar la variable Migrantes. Digite Cero si no tiene.\",IF(AQ13>C13,\"  * La variable Migrantes No puede ser mayor al Total.\",\"\"))","v":""},{"$f":"IF(AND(C13>0,AR13=\"\"),\" * No olvide digitar la variable Niños, niñas, adolescentes y Jóvenes SENAME. Digite Cero si no tiene.\",IF(AR13>C13,\"  * La variable Niños, niñas, adolescentes y Jóvenes SENAME No puede ser mayor al Total.\",\"\"))","v":""},null,null,null,{"$f":"IF(AND(C13>0,AO13=\"\"),1,IF(AO13>C13,1,0))","v":0},{"$f":"IF(AND(C13>0,AP13=\"\"),1,IF(AP13>C13,1,0))","v":0},{"$f":"IF(AND(C13>0,AQ13=\"\"),1,IF(AQ13>C13,1,0))","v":0},{"$f":"IF(AND(C13>0,AR13=\"\"),1,IF(AR13>C13,1,0))","v":0}]
[null,"Naturopatía",0,0,0,null,null,null,null,null,null,null,null,null,null,null,null,null,null,null,null,null,null,null,null,null,null,null,null,null,null,null,null,null,null,null,null,null,null,null,null,null,null,null,null,null,null,null,null,"",null,null,null,null,null,null,null,null,null,null,null,null,null,null,null,null,null,null,null,null,null,null,null,null,null,null,null,null,null,"","","","",null,null,null,0,0,0,0]
["No reguladas","Apiterapia",0,0,0,null,null,null,null,null,null,null,null,null,null,null,null,null,null,null,null,null,null,null,null,null,null,null,null,null,null,null,null,null,null,null,null,null,null,null,null,null,null,null,null,null,null,null,null,"",null,null,null,null,null,null,null,null,null,null,null,null,null,null,null,null,null,null,null,null,null,null,null,null,null,null,null,null,null,"","","","",null,null,null,0,0,0,0]
[null,"Aurículoterapia",0,0,0,null,null,null,null,null,null,null,null,null,null,null,null,null,null,null,null,null,null,null,null,null,null,null,null,null,null,null,null,null,null,null,null,null,null,null,null,null,null,null,null,null,null,null,null,"",null,null,null,null,null,null,null,null,null,null,null,null,null,null,null,null,null,null,null,null,null,null,null,null,null,null,null,null,null,"","","","",null,null,null,0,0,0,0]
[null,"Biomagnetismo",0,{"$f":"+F17+H17+J17+L17+N17+P17+R17+T17+V17+X17+Z17+AB17+AD17+AF17+AH17+AJ17+AL17","v":0},0,null,null,null,null,null,null,null,null,null,null,null,null,null,null,null,null,null,null,null,null,null,null,null,null,null,null,null,null,null,null,null,null,null,null,null,null,null,null,null,null,null,null,null,null,"",null,null,null,null,null,null,null,null,null,null,null,null,null,null,null,null,null,null,null,null,null,null,null,null,null,null,null,null,null,"","","","",null,null,null,0,0,0,0]
[null,"Fitoterapia ",0,0,0,null,null,null,null,null,null,null,null,null,null,null,null,null,null,null,null,null,null,null,null,null,null,null,null,null,null,null,null,null,null,null,null,null,null,null,null,null,null,null,null,null,null,null,null,"",null,null,null,null,null,null,null,null,null,null,null,null,null,null,null,null,null,null,null,null,null,null,null,null,null,null,null,null,null,"","","","",null,null,null,0,0,0,0]
[null,"Masoterapia",0,0,0,null,null,null,null,null,null,null,null,null,null,null,null,null,null,null,null,null,null,null,null,null,null,null,null,null,null,null,null,null,null,null,null,null,null,null,null,null,null,null,null,null,null,null,null,"",null,null,null,null,null,null,null,null,null,null,null,null,null,null,null,null,null,null,null,null,null,null,null,null,null,null,null,null,null,"","","","",null,null,null,0,0,0,0]
[null,"Medicina Antroposófica",0,0,0,null,null,null,null,null,null,null,null,null,null,null,null,null,null,null,null,null,null,null,null,null,null,null,null,null,null,null,null,null,null,null,null,null,null,null,null,null,null,null,null,null,null,null,null,"",null,null,null,null,null,null,null,null,null,null,null,null,null,null,null,null,null,null,null,null,null,null,null,null,null,null,null,null,null,"","","","",null,null,null,0,0,0,0]
[null,"Quiropraxia",0,0,0,null,null,null,null,null,null,null,null,null,null,null,null,null,null,null,null,null,null,null,null,null,null,null,null,null,null,null,null,null,null,null,null,null,null,null,null,null,null,null,null,null,null,null,null,"",null,null,null,null,null,null,null,null,null,null,null,null,null,null,null,null,null,null,null,null,null,null,null,null,null,null,null,null,null,"","","","",null,null,null,0,0,0,0]
[null,"Reiki",0,0,0,null,null,null,null,null,null,null,null,null,null,null,null,null,null,null,null,null,null,null,null,null,null,null,null,null,null,null,null,null,null,null,null,null,null,null,null,null,null,null,null,null,null,null,null,"",null,null,null,null,null,null,null,null,null,null,null,null,null,null,null,null,null,null,null,null,null,null,null,null,null,null,null,null,null,"","","","",null,null,null,0,0,0,0]
[null,"Sanación Pránica ",0,0,0,null,null,null,null,null,null,null,null,null,null,null,null,null,null,null,null,null,null,null,null,null,null,null,null,null,null,null,null,null,null,null,null,null,null,null,null,null,null,null,null,null,null,null,null,"",null,null,null,null,null,null,null,null,null,null,null,null,null,null,null,null,null,null,null,null,null,null,null,null,null,null,null,null,null,"","","","",null,null,null,0,0,0,0]
[null,"Sintergética",0,0,0,null,null,null,null,null,null,null,null,null,null,null,null,null,null,null,null,null,null,null,null,null,null,null,null,null,null,null,null,null,null,null,null,null,null,null,null,null,null,null,null,null,null,null,null,"",null,null,null,null,null,null,null,null,null,null,null,null,null,null,null,null,null,null,null,null,null,null,null,null,null,null,null,null,null,"","","","",null,null,null,0,0,0,0]
[null,"Terapia Floral",0,0,0,null,null,null,null,null,null,null,null,null,null,null,null,null,null,null,null,null,null,null,null,null,null,null,null,null,null,null,null,null,null,null,null,null,null,null,null,null,null,null,null,null,null,null,null,"",null,null,null,null,null,null,null,null,null,null,null,null,null,null,null,null,null,null,null,null,null,null,null,null,null,null,null,null,null,"","","","",null,null,null,0,0,0,0]
[null,"Terapia Neural",0,0,0,null,null,null,null,null,null,null,null,null,null,null,null,null,null,null,null,null,null,null,null,null,null,null,null,null,null,null,null,null,null,null,null,null,null,null,null,null,null,null,null,null,null,null,null,"",null,null,null,null,null,null,null,null,null,null,null,null,null,null,null,null,null,null,null,null,null,null,null,null,null,null,null,null,null,"","","","",null,null,null,0,0,0,0]
[null,"Otras",0,0,0,null,null,null,null,null,null,null,null,null,null,null,null,null,null,null,null,null,null,null,null,null,null,null,null,null,null,null,null,null,null,null,null,null,null,null,null,null,null,null,null,null,null,null,null,"",null,null,null,null,null,null,null,null,null,null,null,null,null,null,null,null,null,null,null,null,null,null,null,null,null,null,null,null,null,"","","","",null,null,null,0,0,0,0]
["TOTAL",null,0,{"$f":"+F28+H28+J28+L28+N28+P28+R28+T28+V28+X28+Z28+AB28+AD28+AF28+AH28+AJ28+AL28","v":0},{"$f":"+G28+I28+K28+M28+O28+Q28+S28+U28+W28+Y28+AA28+AC28+AE28+AG28+AI28+AK28+AM28","v":0},{"$f":"SUM(F12:F27)","v":0},{"$f":"SUM(G12:G27)","v":0},{"$f":"SUM(H12:H27)","v":0},0,0,0,0,0,0,0,0,0,0,0,0,0,0,0,0,0,0,0,0,0,0,0,0,0,0,0,0,0,{"$f":"SUM(AL12:AL27)","v":0},0,0,0,0,0,0,0,0,0,{"$f":"SUM(AV12:AV27)","v":0},0]
["SECCIÓN B: MEDICINA COMPLEMENTARIA Y PRÁCTICAS DE BIENESTAR DE LA SALUD EN ATENCIONES INDIVIDUALES O GRUPALES, SEGÚN PROFESIONAL "]
["PERFIL PROFESIONAL ","TOTAL","Acupuntura","Homeopatía","Naturopatía","NO REGULADAS"]
[null,null,null,null,null,"Apiterapia","Arte terapia","Aurículo-terapia","Biodanza","Biomagnetismo","Qi Gong","Fitoterapia","Huertos Medicinales o Alimenticio/ Medicinales","Masoterapia","Medicina Antroposófica","Meditación ","Quiropraxia","Reiki","Sanación Pránica","Sintergética","Sonoterapia","Tai Chi ","Terapia Floral","Terapia Neural","Yoga","Constelaciones Familiares","Circulos de escucha","Musicoterapia","Danzaterapia","Dramaterapia","Otras Individuales","Otras Grupales"]
["Médico",{"$f":"SUM(C32:AF32)","v":0}]
["Odontólogo",{"$f":"SUM(C33:AF33)","v":0}]
["Enfermera(o)",{"$f":"SUM(C34:AF34)","v":0}]
["Matrona(ón)",0]
["Psicólogo",0]
["Fonoaudiólogo",0]
["Kinesiólogo",0]
["Farmacéutico",0]
["Técnico en enfermería",0]
["Nutricionista",0]
["Tecnólogo Médico",0]
["Trabajador/a Social",0]
["Terapeuta Ocupacional",0]
["Terapeuta Complementario",0]
["TOTAL",{"$f":"SUM(B32:B45)","v":0},{"$f":"SUM(C32:C45)","v":0},{"$f":"SUM(D32:D45)","v":0},0,0,0,0,{"$f":"SUM(I32:I45)","v":0},0,0,0,0,0,0,0,0,0,0,0,0,0,0,0,0,0,0,0,0,0,0,{"$f":"SUM(AF32:AF45)","v":0}]
["SECCIÓN C: ORIGEN DE LA ATENCIÓN CON MEDICINA COMPLEMENTARIA Y PRÁCTICAS DE BIENESTAR DE LA SALUD"]
["ORIGEN DE LA ATENCIÓN","TOTAL","Acupuntura","Homeopatía","Naturopatía","NO REGULADAS"]
[null,null,null,null,null,"Apiterapia","Arte terapia","Aurículo-terapia","Biodanza","Biomagnetismo","Qi Gong","Fitoterapia","Huertos Medicinales o Alimenticio / Medicinales","Masoterapia","Medicina Antroposófica","Meditación ","Quiropraxia","Reiki","Sanación Pránica","Sintergética","Sonoterapia","Tai Chi ","Terapia Floral","Terapia Neural","Yoga","Constelaciones Familiares","Circulos de escucha","Musicoterapia","Danzaterapia","Dramaterapia","Otras Individuales","Otras Grupales"]
["Consulta Espontánea",{"$f":"SUM(C50:AF50)","v":0}]
["Derivado desde Morbilidad",{"$f":"SUM(C51:AF51)","v":0}]
["Derivado desde Especialidad",0]
["Paciente Hospitalizado",0]
["Programa Crónicos Cardiovascular",0]
["Otros programas de crónicos",0]
["Programa de Salud Mental",0]
["Programa de Salud Oral",0]
["Programa de Salud sexual y reproductiva ",0]
["Chile Crece Contigo/Programa Infantil",0]
["Programa de Cáncer (QT/RT)",0]
["Programa de Dependencia severa",0]
["Programa de Hospitalización Domiciliaria",0]
["Programa de Rehabilitación física",0]
["Programa de Cuidados Paliativos y Manejo del Dolor",0]
["Otros programas",0]
["TOTAL",{"$f":"SUM(B50:B65)","v":0},{"$f":"SUM(C50:C65)","v":0},{"$f":"SUM(D50:D65)","v":0},{"$f":"SUM(E50:E65)","v":0},0,0,0,0,0,0,0,0,0,0,0,0,0,0,0,0,0,0,0,0,0,0,0,{"$f":"SUM(AC50:AC65)","v":0},0,0,{"$f":"SUM(AF50:AF65)","v":0}]
["SECCIÓN D: TIPOS DE MEDICINA COMPLEMENTARIA Y PRÁCTICAS DE BIENESTAR DE LA SALUD ENTREGADAS EN ATENCION GRUPAL Y COMUNITARIA"]
["TIPO DE  MEDICINA COMPLEMENTARIA O PRÁCTICA DE BIENESTAR DE LA SALUD","\nTOTAL DE SESIONES GRUPALES","N° DE PARTICIPANTES",null,null,"RANGO ETARIO Y SEXO",null,null,null,null,null,null,null,"Pacientes","Familiares / Cuidadores de los pacientes","Funcionarios","Beneficiarios","Pueblos Originarios","Migrantes","Niños, Niñas, Adolescentes y Jóvenes SENAME"]
[null,null,null,null,null,"Menos de 10 años",null,"10-19 años",null,"20-64 años",null,"65 y más años"]
[null,null,"Ambos Sexos","Hombres","Mujeres","Hombres","Mujeres","Hombres","Mujeres","Hombres","Mujeres","Hombres","Mujeres"]
["Arte terapia",null,{"$f":"SUM(D71:E71)","v":0},{"$f":"SUM(F71+H71+J71+L71)","v":0},{"$f":"SUM(G71+I71+K71+M71)","v":0},null,null,null,null,null,null,null,null,null,null,null,null,null,null,null,{"$f":"CB71&CC71&CD71&CE71&CF71&CG71","v":""},null,null,null,null,null,null,null,null,null,null,null,null,null,null,null,null,null,null,null,null,null,null,null,null,null,null,null,null,null,null,null,null,null,null,null,null,null,null,null,null,null,null,null,null,null,null,null,null,null,null,null,null,null,null,null,null,null,null,{"$f":"IF(AND(C71>0,Q71=\"\"),\"  * No olvide digitar la variable Beneficiarios. Digite Cero si no tiene.\",IF(Q71>C71,\" * La variable beneficiarios No puede ser mayor al Total.\",\"\"))","v":""},{"$f":"IF(AND(C71>0,R71=\"\"),\"  * No olvide digitar la variable Pueblos originarios. Digite Cero si no tiene.\",IF(R71>C71,\" * La variable Pueblos originarios No puede ser mayor al Total.\",\"\"))","v":""},{"$f":"IF(AND(C71>0,S71=\"\"),\"  * No olvide digitar la variable Migrantes. Digite Cero si no tiene.\",IF(S71>C71,\" * La variable Migrantes No puede ser mayor al Total.\",\"\"))","v":""},{"$f":"IF(AND(C71>0,T71=\"\"),\"  * No olvide digitar la variable Niños, Niñas, Adolescentes y Jóvenes SENAME. Digite Cero si no tiene.\",IF(T71>C71,\" * La variable Niños, Niñas, Adolescentes y Jóvenes SENAME No puede ser mayor al Total.\",\"\"))","v":""},null,null,null,{"$f":"IF(AND(C71>0,Q71=\"\"),1,IF(Q71>C71,1,0))","v":0},{"$f":"IF(AND(C71>0,R71=\"\"),1,IF(R71>C71,1,0))","v":0},{"$f":"IF(AND(C71>0,S71=\"\"),1,IF(S71>C71,1,0))","v":0},{"$f":"IF(AND(C71>0,T71=\"\"),1,IF(T71>C71,1,0))","v":0}]
["Biodanza",null,{"$f":"SUM(D72:E72)","v":0},{"$f":"SUM(F72+H72+J72+L72)","v":0},0,null,null,null,null,null,null,null,null,null,null,null,null,null,null,null,{"$f":"CB72&CC72&CD72&CE72&CF72&CG72","v":""},null,null,null,null,null,null,null,null,null,null,null,null,null,null,null,null,null,null,null,null,null,null,null,null,null,null,null,null,null,null,null,null,null,null,null,null,null,null,null,null,null,null,null,null,null,null,null,null,null,null,null,null,null,null,null,null,null,null,{"$f":"IF(AND(C72>0,Q72=\"\"),\"  * No olvide digitar la variable Beneficiarios. Digite Cero si no tiene.\",IF(Q72>C72,\" * La variable beneficiarios No puede ser mayor al Total.\",\"\"))","v":""},{"$f":"IF(AND(C72>0,R72=\"\"),\"  * No olvide digitar la variable Pueblos originarios. Digite Cero si no tiene.\",IF(R72>C72,\" * La variable Pueblos originarios No puede ser mayor al Total.\",\"\"))","v":""},{"$f":"IF(AND(C72>0,S72=\"\"),\"  * No olvide digitar la variable Migrantes. Digite Cero si no tiene.\",IF(S72>C72,\" * La variable Migrantes No puede ser mayor al Total.\",\"\"))","v":""},{"$f":"IF(AND(C72>0,T72=\"\"),\"  * No olvide digitar la variable Niños, Niñas, Adolescentes y Jóvenes SENAME. Digite Cero si no tiene.\",IF(T72>C72,\" * La variable Niños, Niñas, Adolescentes y Jóvenes SENAME No puede ser mayor al Total.\",\"\"))","v":""},null,null,null,{"$f":"IF(AND(C72>0,Q72=\"\"),1,IF(Q72>C72,1,0))","v":0},{"$f":"IF(AND(C72>0,R72=\"\"),1,IF(R72>C72,1,0))","v":0},{"$f":"IF(AND(C72>0,S72=\"\"),1,IF(S72>C72,1,0))","v":0},{"$f":"IF(AND(C72>0,T72=\"\"),1,IF(T72>C72,1,0))","v":0}]
["Huertos Medicinales o Alimenticio/Medicinales",null,0,0,0,null,null,null,null,null,null,null,null,null,null,null,null,null,null,null,"",null,null,null,null,null,null,null,null,null,null,null,null,null,null,null,null,null,null,null,null,null,null,null,null,null,null,null,null,null,null,null,null,null,null,null,null,null,null,null,null,null,null,null,null,null,null,null,null,null,null,null,null,null,null,null,null,null,null,"","","","",null,null,null,0,0,0,0]
["Meditación",null,0,0,0,null,null,null,null,null,null,null,null,null,null,null,null,null,null,null,"",null,null,null,null,null,null,null,null,null,null,null,null,null,null,null,null,null,null,null,null,null,null,null,null,null,null,null,null,null,null,null,null,null,null,null,null,null,null,null,null,null,null,null,null,null,null,null,null,null,null,null,null,null,null,null,null,null,null,"","","","",null,null,null,0,0,0,0]
["Sonoterapia",null,{"$f":"SUM(D75:E75)","v":0},0,0,null,null,null,null,null,null,null,null,null,null,null,null,null,null,null,"",null,null,null,null,null,null,null,null,null,null,null,null,null,null,null,null,null,null,null,null,null,null,null,null,null,null,null,null,null,null,null,null,null,null,null,null,null,null,null,null,null,null,null,null,null,null,null,null,null,null,null,null,null,null,null,null,null,null,"","","","",null,null,null,0,0,0,0]
["Tai Chi",null,{"$f":"SUM(D76:E76)","v":0},0,0,null,null,null,null,null,null,null,null,null,null,null,null,null,null,null,"",null,null,null,null,null,null,null,null,null,null,null,null,null,null,null,null,null,null,null,null,null,null,null,null,null,null,null,null,null,null,null,null,null,null,null,null,null,null,null,null,null,null,null,null,null,null,null,null,null,null,null,null,null,null,null,null,null,null,"","","","",null,null,null,0,0,0,0]
["Yoga",null,0,0,0,null,null,null,null,null,null,null,null,null,null,null,null,null,null,null,"",null,null,null,null,null,null,null,null,null,null,null,null,null,null,null,null,null,null,null,null,null,null,null,null,null,null,null,null,null,null,null,null,null,null,null,null,null,null,null,null,null,null,null,null,null,null,null,null,null,null,null,null,null,null,null,null,null,null,"","","","",null,null,null,0,0,0,0]
["Constelaciones familiares",null,0,0,0,null,null,null,null,null,null,null,null,null,null,null,null,null,null,null,"",null,null,null,null,null,null,null,null,null,null,null,null,null,null,null,null,null,null,null,null,null,null,null,null,null,null,null,null,null,null,null,null,null,null,null,null,null,null,null,null,null,null,null,null,null,null,null,null,null,null,null,null,null,null,null,null,null,null,"","","","",null,null,null,0,0,0,0]
["Círculos de Escucha",null,{"$f":"SUM(D79:E79)","v":0},0,0,null,null,null,null,null,null,null,null,null,null,null,null,null,null,null,"",null,null,null,null,null,null,null,null,null,null,null,null,null,null,null,null,null,null,null,null,null,null,null,null,null,null,null,null,null,null,null,null,null,null,null,null,null,null,null,null,null,null,null,null,null,null,null,null,null,null,null,null,null,null,null,null,null,null,"","","","",null,null,null,0,0,0,0]
["Qi Gong",null,{"$f":"SUM(D80:E80)","v":0},0,0,null,null,null,null,null,null,null,null,null,null,null,null,null,null,null,"",null,null,null,null,null,null,null,null,null,null,null,null,null,null,null,null,null,null,null,null,null,null,null,null,null,null,null,null,null,null,null,null,null,null,null,null,null,null,null,null,null,null,null,null,null,null,null,null,null,null,null,null,null,null,null,null,null,null,"","","","",null,null,null,0,0,0,0]
["Danzaterapia",null,0,0,0,null,null,null,null,null,null,null,null,null,null,null,null,null,null,null,"",null,null,null,null,null,null,null,null,null,null,null,null,null,null,null,null,null,null,null,null,null,null,null,null,null,null,null,null,null,null,null,null,null,null,null,null,null,null,null,null,null,null,null,null,null,null,null,null,null,null,null,null,null,null,null,null,null,null,"","","","",null,null,null,0,0,0,0]
["Musicoterapia",null,0,0,0,null,null,null,null,null,null,null,null,null,null,null,null,null,null,null,"",null,null,null,null,null,null,null,null,null,null,null,null,null,null,null,null,null,null,null,null,null,null,null,null,null,null,null,null,null,null,null,null,null,null,null,null,null,null,null,null,null,null,null,null,null,null,null,null,null,null,null,null,null,null,null,null,null,null,"","","","",null,null,null,0,0,0,0]
["Dramaterapia",null,0,0,0,null,null,null,null,null,null,null,null,null,null,null,null,null,null,null,"",null,null,null,null,null,null,null,null,null,null,null,null,null,null,null,null,null,null,null,null,null,null,null,null,null,null,null,null,null,null,null,null,null,null,null,null,null,null,null,null,null,null,null,null,null,null,null,null,null,null,null,null,null,null,null,null,null,null,"","","","",null,null,null,0,0,0,0]
["Otras",null,0,0,0,null,null,null,null,null,null,null,null,null,null,null,null,null,null,null,"",null,null,null,null,null,null,null,null,null,null,null,null,null,null,null,null,null,null,null,null,null,null,null,null,null,null,null,null,null,null,null,null,null,null,null,null,null,null,null,null,null,null,null,null,null,null,null,null,null,null,null,null,null,null,null,null,null,null,"","","","",null,null,null,0,0,0,0]
["TOTAL",{"$f":"SUM(B71:B84)","v":0},{"$f":"SUM(D85:E85)","v":0},{"$f":"SUM(D71:D84)","v":0},0,{"$f":"SUM(F71:F84)","v":0},0,0,0,0,0,0,0,0,0,0,0,0,0,{"$f":"SUM(T71:T84)","v":0}]
["SECCION E: ACCIONES REMOTAS DE MEDICINAS COMPLEMENTARIAS Y PRÁCTICAS DE BIENESTAR EN SALUD "]
["GRUPO OBJETIVO","TOTAL ","RANGO ETARIO"]
[null,null,"0 - 4 años","5 - 9 años","10 - 14 años","15 - 19 años","20 - 24 años","25 - 29 años","30 - 34 años","35 - 39 años","40 - 44 años","45 - 49 años","50 - 54 años","55 - 59 años","60 - 64 años","65 - 69 años","70 - 74 años","75 - 79 años","80 y más años"]
["Pacientes",{"$f":"SUM(C89:S89)","v":0}]
["Familiares/Cuidadores de los pacientes ",{"$f":"SUM(C90:S90)","v":0}]
["Funcionarios",{"$f":"SUM(C91:S91)","v":0}]
[]
[]
[]
[]
[]
[]
[]
[]
[]
[]
[]
[]
[]
[]
[]
[]
[]
[]
[]
[]
[]
[]
[]
[]
[]
[]
[]
[]
[]
[]
[]
[]
[]
[]
[]
[]
[]
[]
[{"$f":"SUM(C12:C28,B32:B46,B50:B66,C71:C85,B89:B91)","v":0},{"$f":"SUM(CI12:CM91)","v":0}]

{"sheet":"A32","index":25,"n_rows":240,"n_cols":96,"rows_kept":240,"cut":false,"hidden":false,"merged":[[212,0,213,0],[212,1,213,1],[212,2,212,6],[216,0,218,0],[216,1,216,3],[217,2,217,3],[201,20,202,20],[206,0,206,2],[207,0,208,0],[207,1,208,1],[207,2,207,3],[207,4,207,9],[207,10,208,10],[207,11,208,11],[201,0,202,0],[201,1,202,1],[201,2,202,2],[201,3,201,4],[201,5,201,18],[201,19,202,19],[196,0,199,0],[183,0,184,0],[183,1,183,3],[183,4,183,6],[188,0,189,0],[188,1,189,1],[188,2,188,4],[188,5,189,5],[188,6,188,11],[176,0,177,0],[176,1,177,1],[176,2,176,3],[176,4,177,4],[176,5,176,19],[168,33,170,33],[193,0,193,2],[194,0,195,1],[194,2,195,2],[194,3,194,9],[194,10,194,13],[168,34,170,34],[169,4,169,5],[169,6,169,7],[169,8,169,9],[169,10,169,11],[169,12,169,13],[169,14,169,15],[169,16,169,17],[169,18,169,19],[169,26,169,27],[169,28,169,29],[169,30,169,31],[159,0,162,0],[163,0,166,0],[168,0,170,0],[168,1,169,3],[168,4,168,31],[168,32,170,32],[169,20,169,21],[169,22,169,23],[169,24,169,25],[133,0,143,0],[144,0,154,0],[156,0,158,0],[156,1,158,1],[156,2,157,4],[156,5,156,32],[156,33,158,33],[156,34,158,34],[157,5,157,6],[157,31,157,32],[157,19,157,20],[157,21,157,22],[157,23,157,24],[157,25,157,26],[157,27,157,28],[157,29,157,30],[157,7,157,8],[157,9,157,10],[157,11,157,12],[157,13,157,14],[157,15,157,16],[157,17,157,18],[130,40,132,40],[130,41,132,41],[130,42,132,42],[130,43,132,43],[131,5,131,6],[131,7,131,8],[131,9,131,10],[131,11,131,12],[131,13,131,14],[131,15,131,16],[131,37,131,38],[131,25,131,26],[131,27,131,28],[131,29,131,30],[131,31,131,32],[131,33,131,34],[131,35,131,36],[129,0,129,1],[130,0,132,0],[130,1,132,1],[130,2,131,4],[130,5,130,38],[130,39,132,39],[131,17,131,18],[131,19,131,20],[131,21,131,22],[131,23,131,24],[124,22,125,22],[124,23,125,23],[124,24,125,24],[124,25,125,25],[124,26,125,26],[122,0,122,1],[123,0,123,1],[124,0,125,0],[124,1,125,1],[124,2,124,18],[124,19,124,20],[117,15,118,15],[117,16,118,16],[117,17,118,17],[117,18,118,18],[117,19,118,19],[110,19,111,19],[110,20,111,20],[110,21,111,21],[124,21,125,21],[110,22,111,22],[116,0,116,3],[117,0,118,0],[117,1,117,3],[117,4,117,11],[117,12,118,12],[117,13,118,13],[96,35,96,36],[96,37,96,38],[107,0,107,1],[109,0,109,3],[110,0,111,0],[110,1,110,3],[110,4,110,15],[110,16,111,16],[110,17,111,17],[110,18,111,18],[96,23,96,24],[96,25,96,26],[96,27,96,28],[96,29,96,30],[96,31,96,32],[96,33,96,34],[117,14,118,14],[95,42,97,42],[95,43,97,43],[95,44,97,44],[95,45,97,45],[95,46,97,46],[96,5,96,6],[96,7,96,8],[96,9,96,10],[96,11,96,12],[96,13,96,14],[94,0,94,4],[95,0,97,1],[95,2,96,4],[95,5,95,38],[95,39,96,40],[95,41,97,41],[96,15,96,16],[96,17,96,18],[96,19,96,20],[96,21,96,22],[30,41,32,41],[30,42,32,42],[31,2,31,18],[31,19,31,20],[31,25,31,29],[31,30,31,34],[30,23,31,24],[30,25,30,34],[30,35,31,37],[30,38,32,38],[30,39,32,39],[30,40,32,40],[25,19,25,20],[25,21,26,21],[25,22,26,22],[28,0,28,11],[29,0,29,11],[30,0,32,0],[30,1,32,1],[30,2,30,20],[30,21,31,22],[17,11,19,11],[18,4,18,5],[18,6,18,7],[24,0,24,11],[25,0,26,0],[25,1,26,1],[25,2,25,18],[17,0,19,0],[17,1,18,3],[17,4,17,7],[17,8,19,8],[17,9,19,9],[17,10,19,10],[8,21,9,21],[8,22,9,22],[8,23,9,23],[8,24,9,24],[8,25,9,25],[16,0,16,11],[5,0,5,18],[7,0,7,2],[8,0,9,0],[8,1,9,1],[8,2,8,18],[8,19,8,20]]}
["SERVICIO DE SALUD"]
[{"$f":"CONCATENATE(\"COMUNA: \",NOMBRE!B2,\" - \",\"( \",NOMBRE!C2,NOMBRE!D2,NOMBRE!E2,NOMBRE!F2,NOMBRE!G2,\" )\")","v":"COMUNA:  - (  )"}]
[{"$f":"CONCATENATE(\"ESTABLECIMIENTO/ESTRATEGIA: \",NOMBRE!B3,\" - \",\"( \",NOMBRE!C3,NOMBRE!D3,NOMBRE!E3,NOMBRE!F3,NOMBRE!G3,NOMBRE!H3,\" )\")","v":"ESTABLECIMIENTO/ESTRATEGIA:  - (  )"}]
[{"$f":"CONCATENATE(\"MES: \",NOMBRE!B6,\" - \",\"( \",NOMBRE!C6,NOMBRE!D6,\" )\")","v":"MES:  - (  )"}]
[{"$f":"CONCATENATE(\"AÑO: \",NOMBRE!B7)","v":"AÑO: 2024"}]
["REM-32. ACTIVIDADES DE ATENCIÓN DE SALUD REMOTA "]
[]
["SECCIÓN A: SEGUIMIENTO EN ATENCIÓN PRIMARIA DE SALUD POR LLAMADA TELEFÓNICA O VIDEOLLAMADAS"]
["PROFESIONAL","TOTAL","RANGO ETARIO",null,null,null,null,null,null,null,null,null,null,null,null,null,null,null,null," SEXO",null,"Niños, Niñas, Adolescentes y Jóvenes SENAME","Niños, Niñas, Adolescentes y Jóvenes Mejor Niñez","Pueblos Originarios","Migrantes","Espacios amigables/ Adolescentes"]
[null,null,"0 - 4 años","5 - 9 años"," 10 - 14 años","15 - 19 años","20 - 24 años","25 - 29 años","30 - 34 años","35 - 39 años","40 - 44 años","45 - 49 años","50 - 54 años","55 - 59 años","60 - 64 años","65 - 69 años","70 - 74 años","75 - 79 años","80 y más años","Hombres","Mujeres"]
["Médico/a",{"$f":"SUM(C11:S11)","v":0},null,null,null,null,null,null,null,null,null,null,null,null,null,null,null,null,null,null,null,null,null,null,null,null,{"$f":"CC11&CD11&CE11&CF11&CG11&CH11&CI11","v":""},null,null,null,null,null,null,null,null,null,null,null,null,null,null,null,null,null,null,null,null,null,null,null,null,null,null,null,null,null,null,null,null,null,null,null,null,null,null,null,null,null,null,null,null,null,null,null,null,null,null,null,null,null,{"$f":"IF((T11+U11)<>B11,\" * El desglose por sexo No pueder distinto al Total.\",\"\")","v":""},{"$f":"IF(AND(B11>0,V11=\"\"),\" * No olvide digitar Niños, niñas, adolescentes y Jóvenes SENAME. Digite cero si no tiene.\",IF(V11>B11,\" * La variable Niños, Niñas, adolescentes y jóvenes SENAME no puede ser mayor al Total.\",\"\"))","v":""},{"$f":"IF(AND(B11>0,W11=\"\"),\" * No olvide digitar Niños, niñas, adolescentes y Jóvenes Mejor niñez. Digite cero si no tiene.\",IF(W11>B11,\" * La variable Niños, Niñas, adolescentes y jóvenes Mejor Niñez no puede ser mayor al Total.\",\"\"))","v":""},{"$f":"IF(AND(B11>0,X11=\"\"),\" * No olvide digitar Pueblos originarios. Digite cero si no tiene.\",IF(X11>B11,\" * La variable pueblos originarios no puede ser mayor al Total.\",\"\"))","v":""},{"$f":"IF(AND(B11>0,Y11=\"\"),\" * No olvide digitar Migrantes. Digite cero si no tiene.\",IF(Y11>B11,\" * La variable Migrantes no puede ser mayor al Total.\",\"\"))","v":""},{"$f":"IF(AND(B11>0,Z11=\"\"),\" * No olvide digitar Espacios amigables/adolescentes. Digite cero si no tiene.\",IF(Z11>B11,\" * La variable Espacios amigables/adolescentes no puede ser mayor al Total.\",\"\"))","v":""},null,null,{"$f":"IF((T11+U11)<>B11,1,0)","v":0},{"$f":"IF(AND(B11>0,V11=\"\"),1,IF(V11>B11,1,0))","v":0},{"$f":"IF(AND(B11>0,W11=\"\"),1,IF(W11>B11,1,0))","v":0},{"$f":"IF(AND(B11>0,X11=\"\"),1,IF(X11>B11,1,0))","v":0},{"$f":"IF(AND(B11>0,Y11=\"\"),1,IF(Y11>B11,1,0))","v":0},{"$f":"IF(AND(B11>0,Z11=\"\"),1,IF(Z11>B11,1,0))","v":0}]
["Enfermera/o",0,null,null,null,null,null,null,null,null,null,null,null,null,null,null,null,null,null,null,null,null,null,null,null,null,{"$f":"CC12&CD12&CE12&CF12&CG12&CH12&CI12","v":""},null,null,null,null,null,null,null,null,null,null,null,null,null,null,null,null,null,null,null,null,null,null,null,null,null,null,null,null,null,null,null,null,null,null,null,null,null,null,null,null,null,null,null,null,null,null,null,null,null,null,null,null,null,{"$f":"IF((T12+U12)<>B12,\" * El desglose por sexo No pueder distinto al Total.\",\"\")","v":""},{"$f":"IF(AND(B12>0,V12=\"\"),\" * No olvide digitar Niños, niñas, adolescentes y Jóvenes SENAME. Digite cero si no tiene.\",IF(V12>B12,\" * La variable Niños, Niñas, adolescentes y jóvenes SENAME no puede ser mayor al Total.\",\"\"))","v":""},{"$f":"IF(AND(B12>0,W12=\"\"),\" * No olvide digitar Niños, niñas, adolescentes y Jóvenes Mejor niñez. Digite cero si no tiene.\",IF(W12>B12,\" * La variable Niños, Niñas, adolescentes y jóvenes Mejor Niñez no puede ser mayor al Total.\",\"\"))","v":""},{"$f":"IF(AND(B12>0,X12=\"\"),\" * No olvide digitar Pueblos originarios. Digite cero si no tiene.\",IF(X12>B12,\" * La variable pueblos originarios no puede ser mayor al Total.\",\"\"))","v":""},{"$f":"IF(AND(B12>0,Y12=\"\"),\" * No olvide digitar Migrantes. Digite cero si no tiene.\",IF(Y12>B12,\" * La variable Migrantes no puede ser mayor al Total.\",\"\"))","v":""},{"$f":"IF(AND(B12>0,Z12=\"\"),\" * No olvide digitar Espacios amigables/adolescentes. Digite cero si no tiene.\",IF(Z12>B12,\" * La variable Espacios amigables/adolescentes no puede ser mayor al Total.\",\"\"))","v":""},null,null,{"$f":"IF((T12+U12)<>B12,1,0)","v":0},{"$f":"IF(AND(B12>0,V12=\"\"),1,IF(V12>B12,1,0))","v":0},{"$f":"IF(AND(B12>0,W12=\"\"),1,IF(W12>B12,1,0))","v":0},{"$f":"IF(AND(B12>0,X12=\"\"),1,IF(X12>B12,1,0))","v":0},{"$f":"IF(AND(B12>0,Y12=\"\"),1,IF(Y12>B12,1,0))","v":0},{"$f":"IF(AND(B12>0,Z12=\"\"),1,IF(Z12>B12,1,0))","v":0}]
["Matrona/on",{"$f":"SUM(E13:S13)","v":0},null,null,null,null,null,null,null,null,null,null,null,null,null,null,null,null,null,null,null,null,null,null,null,null,"",null,null,null,null,null,null,null,null,null,null,null,null,null,null,null,null,null,null,null,null,null,null,null,null,null,null,null,null,null,null,null,null,null,null,null,null,null,null,null,null,null,null,null,null,null,null,null,null,null,null,null,null,null,"","","","","",{"$f":"IF(AND(B13>0,Z13=\"\"),\" * No olvide digitar Espacios amigables/adolescentes. Digite cero si no tiene.\",IF(Z13>B13,\" * La variable Espacios amigables/adolescentes no puede ser mayor al Total.\",\"\"))","v":""},null,null,0,0,0,0,0,{"$f":"IF(AND(B13>0,Z13=\"\"),1,IF(Z13>B13,1,0))","v":0}]
["Nutricionista",0,null,null,null,null,null,null,null,null,null,null,null,null,null,null,null,null,null,null,null,null,null,null,null,null,"",null,null,null,null,null,null,null,null,null,null,null,null,null,null,null,null,null,null,null,null,null,null,null,null,null,null,null,null,null,null,null,null,null,null,null,null,null,null,null,null,null,null,null,null,null,null,null,null,null,null,null,null,null,"","","","","","",null,null,0,0,0,0,0,0]
["Otros Profesionales",0,null,null,null,null,null,null,null,null,null,null,null,null,null,null,null,null,null,null,null,null,null,null,null,null,"",null,null,null,null,null,null,null,null,null,null,null,null,null,null,null,null,null,null,null,null,null,null,null,null,null,null,null,null,null,null,null,null,null,null,null,null,null,null,null,null,null,null,null,null,null,null,null,null,null,null,null,null,null,"","","","","","",null,null,0,0,0,0,0,0]
["TOTAL ",0,{"$f":"SUM(C11:C15)","v":0},0,0,0,0,0,0,0,0,0,0,0,0,0,0,0,0,{"$f":"SUM(T11:T15)","v":0},{"$f":"SUM(U11:U15)","v":0},0,0,0,0,{"$f":"SUM(Z11:Z15)","v":0}]
["SECCIÓN B: CONSULTA  ABREVIADA MEDIANTE TELESALUD"]
["TIPO DE ACTIVIDAD","TOTAL",null,null,"RANGO ETARIO Y SEXO",null,null,null,"Médico/a","Otros profesionales","Pueblos Originarios","Migrantes"]
[null,null,null,null,"Menos de 15 años",null,"15 años y más"]
[null,"Ambos Sexos","Hombres","Mujeres","Hombres","Mujeres","Hombres","Mujeres"]
["Entrega de resultados de exámenes",{"$f":"SUM(C21:D21)","v":0},{"$f":"+E21+G21","v":0},0,null,null,null,null,null,null,null,null,{"$f":"CC21&CD21","v":""},null,null,null,null,null,null,null,null,null,null,null,null,null,null,null,null,null,null,null,null,null,null,null,null,null,null,null,null,null,null,null,null,null,null,null,null,null,null,null,null,null,null,null,null,null,null,null,null,null,null,null,null,null,null,null,null,null,null,null,null,null,null,null,null,null,null,null,{"$f":"IF(AND(B21>0,K21=\"\"),\" * No olvide digitar la variable Pueblos originarios. Digite cero si no tiene.\",IF(K21>B21,\" * La variable Pueblos originarios no puede ser mayor al Total.\",\"\"))","v":""},{"$f":"IF(AND(B21>0,L21=\"\"),\" * No olvide digitar la variable Migrantes. Digite cero si no tiene.\",IF(L21>B21,\" * La variable Migrantes no puede ser mayor al Total.\",\"\"))","v":""},null,null,null,null,null,null,{"$f":"IF(AND(B21>0,K21=\"\"),1,IF(K21>B21,1,0))","v":0},{"$f":"IF(AND(B21>0,L21=\"\"),1,IF(L21>B21,1,0))","v":0}]
["Confección de recetas",{"$f":"SUM(C22:D22)","v":0},0,0,null,null,null,null,null,null,null,null,{"$f":"CC22&CD22","v":""},null,null,null,null,null,null,null,null,null,null,null,null,null,null,null,null,null,null,null,null,null,null,null,null,null,null,null,null,null,null,null,null,null,null,null,null,null,null,null,null,null,null,null,null,null,null,null,null,null,null,null,null,null,null,null,null,null,null,null,null,null,null,null,null,null,null,null,{"$f":"IF(AND(B22>0,K22=\"\"),\" * No olvide digitar la variable Pueblos originarios. Digite cero si no tiene.\",IF(K22>B22,\" * La variable Pueblos originarios no puede ser mayor al Total.\",\"\"))","v":""},{"$f":"IF(AND(B22>0,L22=\"\"),\" * No olvide digitar la variable Migrantes. Digite cero si no tiene.\",IF(L22>B22,\" * La variable Migrantes no puede ser mayor al Total.\",\"\"))","v":""},null,null,null,null,null,null,{"$f":"IF(AND(B22>0,K22=\"\"),1,IF(K22>B22,1,0))","v":0},{"$f":"IF(AND(B22>0,L22=\"\"),1,IF(L22>B22,1,0))","v":0}]
["Renovación de licencias médicas",{"$f":"SUM(C23:D23)","v":0},0,0,null,null,null,null,null,null,null,null,{"$f":"CC23&CD23","v":""},null,null,null,null,null,null,null,null,null,null,null,null,null,null,null,null,null,null,null,null,null,null,null,null,null,null,null,null,null,null,null,null,null,null,null,null,null,null,null,null,null,null,null,null,null,null,null,null,null,null,null,null,null,null,null,null,null,null,null,null,null,null,null,null,null,null,null,"","",null,null,null,null,null,null,0,0]
["TOTAL",{"$f":"SUM(B21:B23)","v":0},{"$f":"SUM(C21:C23)","v":0},{"$f":"SUM(D21:D23)","v":0},{"$f":"SUM(E21:E23)","v":0},{"$f":"SUM(F21:F23)","v":0},0,0,0,0,0,0]
["SECCIÓN C: CONSULTA MÉDICA EN ATENCIÓN PRIMARIA DE SALUD POR LLAMADA TELEFÓNICA O VIDEOLLAMADAS"]
[null,"TOTAL","RANGO ETARIO",null,null,null,null,null,null,null,null,null,null,null,null,null,null,null,null,"SEXO",null,"Pueblos Originarios","Migrantes"]
[null,null,"0 - 4 años","5 - 9 años"," 10 - 14 años","15 - 19 años","20 - 24 años","25 - 29 años","30 - 34 años","35 - 39 años","40 - 44 años","45 - 49 años","50 - 54 años","55 - 59 años","60 - 64 años","65 - 69 años","70 - 74 años","75 - 79 años","80 y más años","Hombres","Mujeres"]
["Medicina General",{"$f":"SUM(C28:S28)","v":0},null,null,null,null,null,null,null,null,null,null,null,null,null,null,null,null,null,null,null,null,null,{"$f":"CC28&CD28&CE28&CF28","v":""},null,null,null,null,null,null,null,null,null,null,null,null,null,null,null,null,null,null,null,null,null,null,null,null,null,null,null,null,null,null,null,null,null,null,null,null,null,null,null,null,null,null,null,null,null,null,null,null,null,null,null,null,null,null,null,null,{"$f":"IF((T28+U28)<>B28,\"  * El desglose por Sexo (Hombres/Mujeres) debe ser igual al Total.\",\"\")","v":""},{"$f":"IF(AND(B28>0,V28=\"\"),\"No olvide digitar pueblos originarios. Digite cero si no tiene.\",IF(V28>B28,\" * La variable Pueblos originarios no puede ser mayor al Total.\",\"\"))","v":""},{"$f":"IF(AND(B28>0,W28=\"\"),\"No olvide digitar Migrantes. Digite cero si no tiene.\",IF(W28>B28,\" * La variable Migrantes no puede ser mayor al Total.\",\"\"))","v":""},null,null,null,null,null,{"$f":"IF((T28+U28)<>B28,1,0)","v":0},{"$f":"IF(AND(B28>0,V28=\"\"),1,IF(V28>B28,1,0))","v":0},{"$f":"IF(AND(B28>0,W28=\"\"),1,IF(W28>B28,1,0))","v":0}]
["SECCIÓN D: ATENCIONES TELEFÓNICAS EN CONSULTAS Y CONTROLES"]
["SECCIÓN D1: ATENCIONES REMOTAS MÉDICAS EN ESPECIALIDAD"]
["ESPECIALIDADES Y \nSUB-ESPECIALIDADES","TOTAL","ATENCIONES REMOTAS DE CONSULTAS DE ESPECIALIDAD",null,null,null,null,null,null,null,null,null,null,null,null,null,null,null,null,null,null,"NO CONTESTA",null,"ALTA DE CONSULTA DE ESPECIALIDAD AMBULATORIA REMOTA",null,"TELECONSULTAS NUEVAS DE ESPECIALIDAD SEGÚN ORIGEN",null,null,null,null,null,null,null,null,null,"ATENCIONES SEGÚN MODALIDAD DE CONTACTO",null,null,"Teleconsulta Abreviada  (Videollamada)/ Consulta Abreviada Telefónica Atención Remota: entrega de los resultados de exámenes o procedimiento (Confección de recetas o lectura de exámenes)","Teleconsultorías","Pueblos Originarios","Migrantes","Teleconsultas de especialidad resueltas por Médicos Generales"]
[null,null,"RANGO ETARIO",null,null,null,null,null,null,null,null,null,null,null,null,null,null,null,null,"SEXO",null,null,null,null,null,"Menos 15 años",null,null,null,null,"De 15 y más años"]
[null,null,"0 - 4 años","5 - 9 años"," 10 - 14 años","15 - 19 años","20 - 24 años","25 - 29 años","30 - 34 años","35 - 39 años","40 - 44 años","45 - 49 años","50 - 54 años","55 - 59 años","60 - 64 años","65 - 69 años","70 - 74 años","75 - 79 años","80 y más años","Hombres","Mujeres","Nuevas","Controles","Menos \n15 años","15 y más \naños","TOTAL","APS","CAE/CDT/CRS","Urgencia","Hospitaliza-ción","Total","APS","CAE/CDT/CRS","Urgencia","Hospitaliza-ción","Teleconsulta Nueva","Teleconsulta Control","Contacto telefónico control"]
["Pediatría",{"$f":"SUM(C34:S34)","v":0},null,null,null,null,null,null,null,null,null,null,null,null,null,null,null,null,null,null,null,null,null,null,null,{"$f":"SUM(AA34+AB34+AC34+AD34)","v":0},null,null,null,null,{"$f":"SUM(AF34+AG34+AH34+AI34)","v":0},null,null,null,null,null,null,null,null,null,null,null,null,{"$f":"CC34&CD34&CE34&CF34&CG34&CH34&CI34","v":""},null,null,null,null,null,null,null,null,null,null,null,null,null,null,null,null,null,null,null,null,null,null,null,null,null,null,null,null,null,null,null,null,null,null,null,null,{"$f":"IF((T34+U34)<>B34,\"* El número de atenciones remotas según sexo debe ser igual al Total de atenciones remotas por rango etario.\",\"\")","v":""},{"$f":"IF((AE34+Z34)>B34,\" * El Total de Teleconsultas nuevas No debe ser mayor que el Total de Atenciones remotas\",\"\")","v":""},{"$f":"IF(AND(B34>0,AO34=\"\"),\" * No olvide digitar la variable Pueblos originarios. Digite cero si no tiene.\",IF(AO34>B34,\" * La variable Pueblos originarios No puede ser mayor al Total.\",\"\"))","v":""},{"$f":"IF(AND(B34>0,AP34=\"\"),\" * No olvide digitar la variable Migrantes. Digite cero si no tiene.\",IF(AP34>B34,\" * La variable Migrantes No puede ser mayor al Total.\",\"\"))","v":""},null,null,null,null,{"$f":"IF((T34+U34)<>B34,1,0)","v":0},{"$f":"IF((AE34+Z34)>B34,1,0)","v":0},{"$f":"IF(AND(B34>0,AO34=\"\"),1,IF(AO34>B34,1,0))","v":0},{"$f":"IF(AND(B34>0,AP34=\"\"),1,IF(AP34>B34,1,0))","v":0}]
["Medicina interna",{"$f":"SUM(C35:S35)","v":0},null,null,null,null,null,null,null,null,null,null,null,null,null,null,null,null,null,null,null,null,null,null,null,{"$f":"SUM(AA35+AB35+AC35+AD35)","v":0},null,null,null,null,{"$f":"SUM(AF35+AG35+AH35+AI35)","v":0},null,null,null,null,null,null,null,null,null,null,null,null,{"$f":"CC35&CD35&CE35&CF35&CG35&CH35&CI35","v":""},null,null,null,null,null,null,null,null,null,null,null,null,null,null,null,null,null,null,null,null,null,null,null,null,null,null,null,null,null,null,null,null,null,null,null,null,{"$f":"IF((T35+U35)<>B35,\"* El número de atenciones remotas según sexo debe ser igual al Total de atenciones remotas por rango etario.\",\"\")","v":""},{"$f":"IF((AE35+Z35)>B35,\" * El Total de Teleconsultas nuevas No debe ser mayor que el Total de Atenciones remotas\",\"\")","v":""},{"$f":"IF(AND(B35>0,AO35=\"\"),\" * No olvide digitar la variable Pueblos originarios. Digite cero si no tiene.\",IF(AO35>B35,\" * La variable Pueblos originarios No puede ser mayor al Total.\",\"\"))","v":""},{"$f":"IF(AND(B35>0,AP35=\"\"),\" * No olvide digitar la variable Migrantes. Digite cero si no tiene.\",IF(AP35>B35,\" * La variable Migrantes No puede ser mayor al Total.\",\"\"))","v":""},null,null,null,null,{"$f":"IF((T35+U35)<>B35,1,0)","v":0},{"$f":"IF((AE35+Z35)>B35,1,0)","v":0},{"$f":"IF(AND(B35>0,AO35=\"\"),1,IF(AO35>B35,1,0))","v":0},{"$f":"IF(AND(B35>0,AP35=\"\"),1,IF(AP35>B35,1,0))","v":0}]
["Neonatología",{"$f":"SUM(C36)","v":0},null,null,null,null,null,null,null,null,null,null,null,null,null,null,null,null,null,null,null,null,null,null,null,0,null,null,null,null,0,null,null,null,null,null,null,null,null,null,null,null,null,"",null,null,null,null,null,null,null,null,null,null,null,null,null,null,null,null,null,null,null,null,null,null,null,null,null,null,null,null,null,null,null,null,null,null,null,null,"","","","",null,null,null,null,0,0,0,0]
["Enfermedad respiratoria pediátrica (broncopulmonar infantil)",0,null,null,null,null,null,null,null,null,null,null,null,null,null,null,null,null,null,null,null,null,null,null,null,0,null,null,null,null,0,null,null,null,null,null,null,null,null,null,null,null,null,"",null,null,null,null,null,null,null,null,null,null,null,null,null,null,null,null,null,null,null,null,null,null,null,null,null,null,null,null,null,null,null,null,null,null,null,null,"","","","",null,null,null,null,0,0,0,0]
["Enfermedad respiratoria de adulto (broncopulmonar)",0,null,null,null,null,null,null,null,null,null,null,null,null,null,null,null,null,null,null,null,null,null,null,null,0,null,null,null,null,0,null,null,null,null,null,null,null,null,null,null,null,null,"",null,null,null,null,null,null,null,null,null,null,null,null,null,null,null,null,null,null,null,null,null,null,null,null,null,null,null,null,null,null,null,null,null,null,null,null,"","","","",null,null,null,null,0,0,0,0]
["Cardiología pediátrica",0,null,null,null,null,null,null,null,null,null,null,null,null,null,null,null,null,null,null,null,null,null,null,null,0,null,null,null,null,0,null,null,null,null,null,null,null,null,null,null,null,null,"",null,null,null,null,null,null,null,null,null,null,null,null,null,null,null,null,null,null,null,null,null,null,null,null,null,null,null,null,null,null,null,null,null,null,null,null,"","","","",null,null,null,null,0,0,0,0]
["Cardiología adulto",0,null,null,null,null,null,null,null,null,null,null,null,null,null,null,null,null,null,null,null,null,null,null,null,0,null,null,null,null,0,null,null,null,null,null,null,null,null,null,null,null,null,"",null,null,null,null,null,null,null,null,null,null,null,null,null,null,null,null,null,null,null,null,null,null,null,null,null,null,null,null,null,null,null,null,null,null,null,null,"","","","",null,null,null,null,0,0,0,0]
["Endocrinología pediátrica",0,null,null,null,null,null,null,null,null,null,null,null,null,null,null,null,null,null,null,null,null,null,null,null,0,null,null,null,null,0,null,null,null,null,null,null,null,null,null,null,null,null,"",null,null,null,null,null,null,null,null,null,null,null,null,null,null,null,null,null,null,null,null,null,null,null,null,null,null,null,null,null,null,null,null,null,null,null,null,"","","","",null,null,null,null,0,0,0,0]
["Endocrinología adulto",0,null,null,null,null,null,null,null,null,null,null,null,null,null,null,null,null,null,null,null,null,null,null,null,0,null,null,null,null,0,null,null,null,null,null,null,null,null,null,null,null,null,"",null,null,null,null,null,null,null,null,null,null,null,null,null,null,null,null,null,null,null,null,null,null,null,null,null,null,null,null,null,null,null,null,null,null,null,null,"","","","",null,null,null,null,0,0,0,0]
["Gastroenterología pediátrica",0,null,null,null,null,null,null,null,null,null,null,null,null,null,null,null,null,null,null,null,null,null,null,null,0,null,null,null,null,0,null,null,null,null,null,null,null,null,null,null,null,null,"",null,null,null,null,null,null,null,null,null,null,null,null,null,null,null,null,null,null,null,null,null,null,null,null,null,null,null,null,null,null,null,null,null,null,null,null,"","","","",null,null,null,null,0,0,0,0]
["Gastroenterología adulto",0,null,null,null,null,null,null,null,null,null,null,null,null,null,null,null,null,null,null,null,null,null,null,null,0,null,null,null,null,0,null,null,null,null,null,null,null,null,null,null,null,null,"",null,null,null,null,null,null,null,null,null,null,null,null,null,null,null,null,null,null,null,null,null,null,null,null,null,null,null,null,null,null,null,null,null,null,null,null,"","","","",null,null,null,null,0,0,0,0]
["Genética clínica",0,null,null,null,null,null,null,null,null,null,null,null,null,null,null,null,null,null,null,null,null,null,null,null,0,null,null,null,null,0,null,null,null,null,null,null,null,null,null,null,null,null,"",null,null,null,null,null,null,null,null,null,null,null,null,null,null,null,null,null,null,null,null,null,null,null,null,null,null,null,null,null,null,null,null,null,null,null,null,"","","","",null,null,null,null,0,0,0,0]
["Hemato-oncología infantil",0,null,null,null,null,null,null,null,null,null,null,null,null,null,null,null,null,null,null,null,null,null,null,null,0,null,null,null,null,0,null,null,null,null,null,null,null,null,null,null,null,null,"",null,null,null,null,null,null,null,null,null,null,null,null,null,null,null,null,null,null,null,null,null,null,null,null,null,null,null,null,null,null,null,null,null,null,null,null,"","","","",null,null,null,null,0,0,0,0]
["Hematología adulto",0,null,null,null,null,null,null,null,null,null,null,null,null,null,null,null,null,null,null,null,null,null,null,null,0,null,null,null,null,0,null,null,null,null,null,null,null,null,null,null,null,null,"",null,null,null,null,null,null,null,null,null,null,null,null,null,null,null,null,null,null,null,null,null,null,null,null,null,null,null,null,null,null,null,null,null,null,null,null,"","","","",null,null,null,null,0,0,0,0]
["Nefrología pediátrica",0,null,null,null,null,null,null,null,null,null,null,null,null,null,null,null,null,null,null,null,null,null,null,null,0,null,null,null,null,0,null,null,null,null,null,null,null,null,null,null,null,null,"",null,null,null,null,null,null,null,null,null,null,null,null,null,null,null,null,null,null,null,null,null,null,null,null,null,null,null,null,null,null,null,null,null,null,null,null,"","","","",null,null,null,null,0,0,0,0]
["Nefrología adulto",0,null,null,null,null,null,null,null,null,null,null,null,null,null,null,null,null,null,null,null,null,null,null,null,0,null,null,null,null,0,null,null,null,null,null,null,null,null,null,null,null,null,"",null,null,null,null,null,null,null,null,null,null,null,null,null,null,null,null,null,null,null,null,null,null,null,null,null,null,null,null,null,null,null,null,null,null,null,null,"","","","",null,null,null,null,0,0,0,0]
["Nutriólogo pediátrico",0,null,null,null,null,null,null,null,null,null,null,null,null,null,null,null,null,null,null,null,null,null,null,null,0,null,null,null,null,0,null,null,null,null,null,null,null,null,null,null,null,null,"",null,null,null,null,null,null,null,null,null,null,null,null,null,null,null,null,null,null,null,null,null,null,null,null,null,null,null,null,null,null,null,null,null,null,null,null,"","","","",null,null,null,null,0,0,0,0]
["Nutriólogo adulto",0,null,null,null,null,null,null,null,null,null,null,null,null,null,null,null,null,null,null,null,null,null,null,null,0,null,null,null,null,0,null,null,null,null,null,null,null,null,null,null,null,null,"",null,null,null,null,null,null,null,null,null,null,null,null,null,null,null,null,null,null,null,null,null,null,null,null,null,null,null,null,null,null,null,null,null,null,null,null,"","","","",null,null,null,null,0,0,0,0]
["Reumatología pediátrica",0,null,null,null,null,null,null,null,null,null,null,null,null,null,null,null,null,null,null,null,null,null,null,null,0,null,null,null,null,0,null,null,null,null,null,null,null,null,null,null,null,null,"",null,null,null,null,null,null,null,null,null,null,null,null,null,null,null,null,null,null,null,null,null,null,null,null,null,null,null,null,null,null,null,null,null,null,null,null,"","","","",null,null,null,null,0,0,0,0]
["Reumatología adulto",0,null,null,null,null,null,null,null,null,null,null,null,null,null,null,null,null,null,null,null,null,null,null,null,0,null,null,null,null,0,null,null,null,null,null,null,null,null,null,null,null,null,"",null,null,null,null,null,null,null,null,null,null,null,null,null,null,null,null,null,null,null,null,null,null,null,null,null,null,null,null,null,null,null,null,null,null,null,null,"","","","",null,null,null,null,0,0,0,0]
["Dermatología",0,null,null,null,null,null,null,null,null,null,null,null,null,null,null,null,null,null,null,null,null,null,null,null,0,null,null,null,null,0,null,null,null,null,null,null,null,null,null,null,null,null,"",null,null,null,null,null,null,null,null,null,null,null,null,null,null,null,null,null,null,null,null,null,null,null,null,null,null,null,null,null,null,null,null,null,null,null,null,"","","","",null,null,null,null,0,0,0,0]
["Infectología pediátrica",0,null,null,null,null,null,null,null,null,null,null,null,null,null,null,null,null,null,null,null,null,null,null,null,0,null,null,null,null,0,null,null,null,null,null,null,null,null,null,null,null,null,"",null,null,null,null,null,null,null,null,null,null,null,null,null,null,null,null,null,null,null,null,null,null,null,null,null,null,null,null,null,null,null,null,null,null,null,null,"","","","",null,null,null,null,0,0,0,0]
["Infectología adulto",0,null,null,null,null,null,null,null,null,null,null,null,null,null,null,null,null,null,null,null,null,null,null,null,0,null,null,null,null,0,null,null,null,null,null,null,null,null,null,null,null,null,"",null,null,null,null,null,null,null,null,null,null,null,null,null,null,null,null,null,null,null,null,null,null,null,null,null,null,null,null,null,null,null,null,null,null,null,null,"","","","",null,null,null,null,0,0,0,0]
["Inmunología",0,null,null,null,null,null,null,null,null,null,null,null,null,null,null,null,null,null,null,null,null,null,null,null,0,null,null,null,null,0,null,null,null,null,null,null,null,null,null,null,null,null,"",null,null,null,null,null,null,null,null,null,null,null,null,null,null,null,null,null,null,null,null,null,null,null,null,null,null,null,null,null,null,null,null,null,null,null,null,"","","","",null,null,null,null,0,0,0,0]
["Geriatría",0,null,null,null,null,null,null,null,null,null,null,null,null,null,null,null,null,null,null,null,null,null,null,null,0,null,null,null,null,0,null,null,null,null,null,null,null,null,null,null,null,null,"",null,null,null,null,null,null,null,null,null,null,null,null,null,null,null,null,null,null,null,null,null,null,null,null,null,null,null,null,null,null,null,null,null,null,null,null,"","","","",null,null,null,null,0,0,0,0]
["Medicina física y rehabilitación pediátrica (fisiatría pediátrica)",0,null,null,null,null,null,null,null,null,null,null,null,null,null,null,null,null,null,null,null,null,null,null,null,0,null,null,null,null,0,null,null,null,null,null,null,null,null,null,null,null,null,"",null,null,null,null,null,null,null,null,null,null,null,null,null,null,null,null,null,null,null,null,null,null,null,null,null,null,null,null,null,null,null,null,null,null,null,null,"","","","",null,null,null,null,0,0,0,0]
["Medicina física y rehabilitación adulto (fisiatría adulto)",0,null,null,null,null,null,null,null,null,null,null,null,null,null,null,null,null,null,null,null,null,null,null,null,0,null,null,null,null,0,null,null,null,null,null,null,null,null,null,null,null,null,"",null,null,null,null,null,null,null,null,null,null,null,null,null,null,null,null,null,null,null,null,null,null,null,null,null,null,null,null,null,null,null,null,null,null,null,null,"","","","",null,null,null,null,0,0,0,0]
["Neurología pediátrica",0,null,null,null,null,null,null,null,null,null,null,null,null,null,null,null,null,null,null,null,null,null,null,null,0,null,null,null,null,0,null,null,null,null,null,null,null,null,null,null,null,null,"",null,null,null,null,null,null,null,null,null,null,null,null,null,null,null,null,null,null,null,null,null,null,null,null,null,null,null,null,null,null,null,null,null,null,null,null,"","","","",null,null,null,null,0,0,0,0]
["Neurología adulto",0,null,null,null,null,null,null,null,null,null,null,null,null,null,null,null,null,null,null,null,null,null,null,null,0,null,null,null,null,0,null,null,null,null,null,null,null,null,null,null,null,null,"",null,null,null,null,null,null,null,null,null,null,null,null,null,null,null,null,null,null,null,null,null,null,null,null,null,null,null,null,null,null,null,null,null,null,null,null,"","","","",null,null,null,null,0,0,0,0]
["Oncología médica",0,null,null,null,null,null,null,null,null,null,null,null,null,null,null,null,null,null,null,null,null,null,null,null,0,null,null,null,null,0,null,null,null,null,null,null,null,null,null,null,null,null,"",null,null,null,null,null,null,null,null,null,null,null,null,null,null,null,null,null,null,null,null,null,null,null,null,null,null,null,null,null,null,null,null,null,null,null,null,"","","","",null,null,null,null,0,0,0,0]
["Psiquiatría pediátrica y de la adolescencia",0,null,null,null,null,null,null,null,null,null,null,null,null,null,null,null,null,null,null,null,null,null,null,null,0,null,null,null,null,0,null,null,null,null,null,null,null,null,null,null,null,null,"",null,null,null,null,null,null,null,null,null,null,null,null,null,null,null,null,null,null,null,null,null,null,null,null,null,null,null,null,null,null,null,null,null,null,null,null,"","","","",null,null,null,null,0,0,0,0]
["Psiquiatría adulto",0,null,null,null,null,null,null,null,null,null,null,null,null,null,null,null,null,null,null,null,null,null,null,null,0,null,null,null,null,0,null,null,null,null,null,null,null,null,null,null,null,null,"",null,null,null,null,null,null,null,null,null,null,null,null,null,null,null,null,null,null,null,null,null,null,null,null,null,null,null,null,null,null,null,null,null,null,null,null,"","","","",null,null,null,null,0,0,0,0]
["Cirugía pediátrica",0,null,null,null,null,null,null,null,null,null,null,null,null,null,null,null,null,null,null,null,null,null,null,null,0,null,null,null,null,0,null,null,null,null,null,null,null,null,null,null,null,null,"",null,null,null,null,null,null,null,null,null,null,null,null,null,null,null,null,null,null,null,null,null,null,null,null,null,null,null,null,null,null,null,null,null,null,null,null,"","","","",null,null,null,null,0,0,0,0]
["Cirugía general adulto",0,null,null,null,null,null,null,null,null,null,null,null,null,null,null,null,null,null,null,null,null,null,null,null,0,null,null,null,null,0,null,null,null,null,null,null,null,null,null,null,null,null,"",null,null,null,null,null,null,null,null,null,null,null,null,null,null,null,null,null,null,null,null,null,null,null,null,null,null,null,null,null,null,null,null,null,null,null,null,"","","","",null,null,null,null,0,0,0,0]
["Cirugía digestiva (alta)",0,null,null,null,null,null,null,null,null,null,null,null,null,null,null,null,null,null,null,null,null,null,null,null,0,null,null,null,null,0,null,null,null,null,null,null,null,null,null,null,null,null,"",null,null,null,null,null,null,null,null,null,null,null,null,null,null,null,null,null,null,null,null,null,null,null,null,null,null,null,null,null,null,null,null,null,null,null,null,"","","","",null,null,null,null,0,0,0,0]
["Cirugía de cabeza, cuello y maxilofacial",0,null,null,null,null,null,null,null,null,null,null,null,null,null,null,null,null,null,null,null,null,null,null,null,0,null,null,null,null,0,null,null,null,null,null,null,null,null,null,null,null,null,"",null,null,null,null,null,null,null,null,null,null,null,null,null,null,null,null,null,null,null,null,null,null,null,null,null,null,null,null,null,null,null,null,null,null,null,null,"","","","",null,null,null,null,0,0,0,0]
["Cirugía plástica y reparadora pediátrica",0,null,null,null,null,null,null,null,null,null,null,null,null,null,null,null,null,null,null,null,null,null,null,null,0,null,null,null,null,0,null,null,null,null,null,null,null,null,null,null,null,null,"",null,null,null,null,null,null,null,null,null,null,null,null,null,null,null,null,null,null,null,null,null,null,null,null,null,null,null,null,null,null,null,null,null,null,null,null,"","","","",null,null,null,null,0,0,0,0]
["Cirugía plástica y reparadora adulto",0,null,null,null,null,null,null,null,null,null,null,null,null,null,null,null,null,null,null,null,null,null,null,null,0,null,null,null,null,0,null,null,null,null,null,null,null,null,null,null,null,null,"",null,null,null,null,null,null,null,null,null,null,null,null,null,null,null,null,null,null,null,null,null,null,null,null,null,null,null,null,null,null,null,null,null,null,null,null,"","","","",null,null,null,null,0,0,0,0]
["Coloproctología (cirugia digestiva baja)",0,null,null,null,null,null,null,null,null,null,null,null,null,null,null,null,null,null,null,null,null,null,null,null,0,null,null,null,null,0,null,null,null,null,null,null,null,null,null,null,null,null,"",null,null,null,null,null,null,null,null,null,null,null,null,null,null,null,null,null,null,null,null,null,null,null,null,null,null,null,null,null,null,null,null,null,null,null,null,"","","","",null,null,null,null,0,0,0,0]
["Cirugía tórax",0,null,null,null,null,null,null,null,null,null,null,null,null,null,null,null,null,null,null,null,null,null,null,null,0,null,null,null,null,0,null,null,null,null,null,null,null,null,null,null,null,null,"",null,null,null,null,null,null,null,null,null,null,null,null,null,null,null,null,null,null,null,null,null,null,null,null,null,null,null,null,null,null,null,null,null,null,null,null,"","","","",null,null,null,null,0,0,0,0]
["Cirugía vascular periférica",0,null,null,null,null,null,null,null,null,null,null,null,null,null,null,null,null,null,null,null,null,null,null,null,0,null,null,null,null,0,null,null,null,null,null,null,null,null,null,null,null,null,"",null,null,null,null,null,null,null,null,null,null,null,null,null,null,null,null,null,null,null,null,null,null,null,null,null,null,null,null,null,null,null,null,null,null,null,null,"","","","",null,null,null,null,0,0,0,0]
["Neurocirugía",0,null,null,null,null,null,null,null,null,null,null,null,null,null,null,null,null,null,null,null,null,null,null,null,0,null,null,null,null,0,null,null,null,null,null,null,null,null,null,null,null,null,"",null,null,null,null,null,null,null,null,null,null,null,null,null,null,null,null,null,null,null,null,null,null,null,null,null,null,null,null,null,null,null,null,null,null,null,null,"","","","",null,null,null,null,0,0,0,0]
["Cirugía cardiovascular",0,null,null,null,null,null,null,null,null,null,null,null,null,null,null,null,null,null,null,null,null,null,null,null,0,null,null,null,null,0,null,null,null,null,null,null,null,null,null,null,null,null,"",null,null,null,null,null,null,null,null,null,null,null,null,null,null,null,null,null,null,null,null,null,null,null,null,null,null,null,null,null,null,null,null,null,null,null,null,"","","","",null,null,null,null,0,0,0,0]
["Anestesiología",0,null,null,null,null,null,null,null,null,null,null,null,null,null,null,null,null,null,null,null,null,null,null,null,0,null,null,null,null,0,null,null,null,null,null,null,null,null,null,null,null,null,"",null,null,null,null,null,null,null,null,null,null,null,null,null,null,null,null,null,null,null,null,null,null,null,null,null,null,null,null,null,null,null,null,null,null,null,null,"","","","",null,null,null,null,0,0,0,0]
["Obstetricia",0,null,null,null,null,null,null,null,null,null,null,null,null,null,null,null,null,null,null,null,null,null,null,null,0,null,null,null,null,0,null,null,null,null,null,null,null,null,null,null,null,null,"",null,null,null,null,null,null,null,null,null,null,null,null,null,null,null,null,null,null,null,null,null,null,null,null,null,null,null,null,null,null,null,null,null,null,null,null,"","","","",null,null,null,null,0,0,0,0]
["Ginecología pediátrica y de la adolescencia",0,null,null,null,null,null,null,null,null,null,null,null,null,null,null,null,null,null,null,null,null,null,null,null,0,null,null,null,null,0,null,null,null,null,null,null,null,null,null,null,null,null,"",null,null,null,null,null,null,null,null,null,null,null,null,null,null,null,null,null,null,null,null,null,null,null,null,null,null,null,null,null,null,null,null,null,null,null,null,"","","","",null,null,null,null,0,0,0,0]
["Ginecología adulto",0,null,null,null,null,null,null,null,null,null,null,null,null,null,null,null,null,null,null,null,null,null,null,null,0,null,null,null,null,0,null,null,null,null,null,null,null,null,null,null,null,null,"",null,null,null,null,null,null,null,null,null,null,null,null,null,null,null,null,null,null,null,null,null,null,null,null,null,null,null,null,null,null,null,null,null,null,null,null,"","","","",null,null,null,null,0,0,0,0]
["Oftalmología",0,null,null,null,null,null,null,null,null,null,null,null,null,null,null,null,null,null,null,null,null,null,null,null,0,null,null,null,null,0,null,null,null,null,null,null,null,null,null,null,null,null,"",null,null,null,null,null,null,null,null,null,null,null,null,null,null,null,null,null,null,null,null,null,null,null,null,null,null,null,null,null,null,null,null,null,null,null,null,"","","","",null,null,null,null,0,0,0,0]
["Otorrinolaringología",0,null,null,null,null,null,null,null,null,null,null,null,null,null,null,null,null,null,null,null,null,null,null,null,0,null,null,null,null,0,null,null,null,null,null,null,null,null,null,null,null,null,"",null,null,null,null,null,null,null,null,null,null,null,null,null,null,null,null,null,null,null,null,null,null,null,null,null,null,null,null,null,null,null,null,null,null,null,null,"","","","",null,null,null,null,0,0,0,0]
["Traumatología y ortopedia pediátrica",0,null,null,null,null,null,null,null,null,null,null,null,null,null,null,null,null,null,null,null,null,null,null,null,0,null,null,null,null,0,null,null,null,null,null,null,null,null,null,null,null,null,"",null,null,null,null,null,null,null,null,null,null,null,null,null,null,null,null,null,null,null,null,null,null,null,null,null,null,null,null,null,null,null,null,null,null,null,null,"","","","",null,null,null,null,0,0,0,0]
["Traumatología y ortopedia adulto",0,null,null,null,null,null,null,null,null,null,null,null,null,null,null,null,null,null,null,null,null,null,null,null,0,null,null,null,null,0,null,null,null,null,null,null,null,null,null,null,null,null,"",null,null,null,null,null,null,null,null,null,null,null,null,null,null,null,null,null,null,null,null,null,null,null,null,null,null,null,null,null,null,null,null,null,null,null,null,"","","","",null,null,null,null,0,0,0,0]
["Urología pediátrica",0,null,null,null,null,null,null,null,null,null,null,null,null,null,null,null,null,null,null,null,null,null,null,null,0,null,null,null,null,0,null,null,null,null,null,null,null,null,null,null,null,null,"",null,null,null,null,null,null,null,null,null,null,null,null,null,null,null,null,null,null,null,null,null,null,null,null,null,null,null,null,null,null,null,null,null,null,null,null,"","","","",null,null,null,null,0,0,0,0]
["Urología adulto",0,null,null,null,null,null,null,null,null,null,null,null,null,null,null,null,null,null,null,null,null,null,null,null,0,null,null,null,null,0,null,null,null,null,null,null,null,null,null,null,null,null,"",null,null,null,null,null,null,null,null,null,null,null,null,null,null,null,null,null,null,null,null,null,null,null,null,null,null,null,null,null,null,null,null,null,null,null,null,"","","","",null,null,null,null,0,0,0,0]
["Medicina familiar del niño",0,null,null,null,null,null,null,null,null,null,null,null,null,null,null,null,null,null,null,null,null,null,null,null,0,null,null,null,null,0,null,null,null,null,null,null,null,null,null,null,null,null,"",null,null,null,null,null,null,null,null,null,null,null,null,null,null,null,null,null,null,null,null,null,null,null,null,null,null,null,null,null,null,null,null,null,null,null,null,"","","","",null,null,null,null,0,0,0,0]
["Medicina familiar",0,null,null,null,null,null,null,null,null,null,null,null,null,null,null,null,null,null,null,null,null,null,null,null,0,null,null,null,null,0,null,null,null,null,null,null,null,null,null,null,null,null,"",null,null,null,null,null,null,null,null,null,null,null,null,null,null,null,null,null,null,null,null,null,null,null,null,null,null,null,null,null,null,null,null,null,null,null,null,"","","","",null,null,null,null,0,0,0,0]
["Medicina familiar adulto",0,null,null,null,null,null,null,null,null,null,null,null,null,null,null,null,null,null,null,null,null,null,null,null,0,null,null,null,null,0,null,null,null,null,null,null,null,null,null,null,null,null,"",null,null,null,null,null,null,null,null,null,null,null,null,null,null,null,null,null,null,null,null,null,null,null,null,null,null,null,null,null,null,null,null,null,null,null,null,"","","","",null,null,null,null,0,0,0,0]
["Diabetología",0,null,null,null,null,null,null,null,null,null,null,null,null,null,null,null,null,null,null,null,null,null,null,null,0,null,null,null,null,0,null,null,null,null,null,null,null,null,null,null,null,null,"",null,null,null,null,null,null,null,null,null,null,null,null,null,null,null,null,null,null,null,null,null,null,null,null,null,null,null,null,null,null,null,null,null,null,null,null,"","","","",null,null,null,null,0,0,0,0]
["Medicina nuclear (excluye informes)",0,null,null,null,null,null,null,null,null,null,null,null,null,null,null,null,null,null,null,null,null,null,null,null,0,null,null,null,null,0,null,null,null,null,null,null,null,null,null,null,null,null,"",null,null,null,null,null,null,null,null,null,null,null,null,null,null,null,null,null,null,null,null,null,null,null,null,null,null,null,null,null,null,null,null,null,null,null,null,"","","","",null,null,null,null,0,0,0,0]
["Imagenología",0,null,null,null,null,null,null,null,null,null,null,null,null,null,null,null,null,null,null,null,null,null,null,null,0,null,null,null,null,0,null,null,null,null,null,null,null,null,null,null,null,null,"",null,null,null,null,null,null,null,null,null,null,null,null,null,null,null,null,null,null,null,null,null,null,null,null,null,null,null,null,null,null,null,null,null,null,null,null,"","","","",null,null,null,null,0,0,0,0]
["Radioterapia oncológica",0,null,null,null,null,null,null,null,null,null,null,null,null,null,null,null,null,null,null,null,null,null,null,null,0,null,null,null,null,0,null,null,null,null,null,null,null,null,null,null,null,null,"",null,null,null,null,null,null,null,null,null,null,null,null,null,null,null,null,null,null,null,null,null,null,null,null,null,null,null,null,null,null,null,null,null,null,null,null,"","","","",null,null,null,null,0,0,0,0]
["TOTAL",{"$f":"SUM(C94:S94)","v":0},{"$f":"SUM(C34:C93)","v":0},{"$f":"SUM(D34:D93)","v":0},{"$f":"SUM(E34:E93)","v":0},0,0,0,0,0,0,0,0,0,0,0,0,0,0,0,0,0,0,0,0,0,0,0,0,0,0,0,0,0,0,{"$f":"SUM(AJ34:AJ93)","v":0},{"$f":"SUM(AK34:AK93)","v":0},{"$f":"SUM(AL34:AL93)","v":0},0,0,0,0,{"$f":"SUM(AQ34:AQ93)","v":0}]
["SECCIÓN D.2: ATENCIONES REMOTAS CONSULTAS Y CONTROLES POR OTROS PROFESIONALES EN ESPECIALIDAD (NIVEL SECUNDARIO)"]
["PROFESIONAL",null,"TOTAL ",null,null,"RANGO ETARIO Y SEXO",null,null,null,null,null,null,null,null,null,null,null,null,null,null,null,null,null,null,null,null,null,null,null,null,null,null,null,null,null,null,null,null,null,"ATENCIONES REMOTAS SEGÚN MODALIDAD",null,"Beneficiarios","Total Controles (incluidos en grupo de edad)","Pueblos Originarios","Migrantes","Atención Remota consulta abreviada PNM : entrega de los resultados de exámenes o procedimiento (Confección de recetas o lectura de exámenes)","Consultorías resueltas vía remota"]
[null,null,null,null,null,"0 - 4 años",null,"5 - 9 años",null,"10 - 14 años",null,"15 - 19 años",null,"20 - 24 años",null,"25 - 29 años",null,"30 - 34 años",null,"35 - 39 años",null,"40 - 44 años",null,"45 - 49 años",null,"50 - 54 años",null,"55 - 59 años",null,"60 - 64 años",null,"65 - 69 años",null,"70 - 74 años",null,"75 - 79 años",null,"80 y más años"]
[null,null,"Ambos Sexos","Hombres","Mujeres","Hombres","Mujeres","Hombres","Mujeres","Hombres","Mujeres","Hombres","Mujeres","Hombres","Mujeres","Hombres","Mujeres","Hombres","Mujeres","Hombres","Mujeres","Hombres","Mujeres","Hombres","Mujeres","Hombres","Mujeres","Hombres","Mujeres","Hombres","Mujeres","Hombres","Mujeres","Hombres","Mujeres","Hombres","Mujeres","Hombres","Mujeres"," Contacto Telefónico Control","Teleconsulta Nueva /Control"]
["Enfermera/o",null,{"$f":"SUM(D99+E99)","v":0},{"$f":"SUM(F99+H99+J99+L99+N99+P99+R99+T99+V99+X99+Z99+AB99+AD99+AF99+AH99+AJ99+AL99)","v":0},{"$f":"SUM(G99+I99+K99+M99+O99+Q99+S99+U99+W99+Y99+AA99+AC99+AE99+AG99+AI99+AK99+AM99)","v":0},null,null,null,null,null,null,null,null,null,null,null,null,null,null,null,null,null,null,null,null,null,null,null,null,null,null,null,null,null,null,null,null,null,null,null,null,null,null,null,null,null,null,{"$f":"CC99&CD99&CE99&CF99&CG99&CH99&CI99","v":""},null,null,null,null,null,null,null,null,null,null,null,null,null,null,null,null,null,null,null,null,null,null,null,null,null,null,null,null,null,null,null,null,{"$f":"IF(AND(AP99=\"\",C99>0),\" * No olvide digitar la columna Beneficiarios\",IF(AP99>C99,\" * La variable Beneficiarios no puede ser mayor al Total.\",\"\"))","v":""},{"$f":"IF(AQ99>C99,\" * El total de Controles No puede ser mayor que el Total.\",\"\")","v":""},{"$f":"IF(AND(C99>0,AR99=\"\"),\" * No olvide digitar la variable Pueblos originarios. Digite cero si no tiene.\",IF(AR99>C99,\" * La variable Pueblos originarios no puede ser mayor al Total.\",\"\"))","v":""},{"$f":"IF(AND(C99>0,AS99=\"\"),\" * No olvide digitar la variable Migrantes. Digite cero si no tiene.\",IF(AS99>C99,\" * La variable Migrantes no puede ser mayor al Total.\",\"\"))","v":""},null,null,null,null,{"$f":"IF(AND(AP99=\"\",C99>0),1,IF(AP99>C99,1,0))","v":0},{"$f":"IF(AQ99>C99,1,0)","v":0},{"$f":"IF(AND(C99>0,AR99=\"\"),1,IF(AR99>C99,1,0))","v":0},{"$f":"IF(AND(C99>0,AS99=\"\"),1,IF(AS99>C99,1,0))","v":0}]
["Matrona/on","ARO",{"$f":"SUM(D100:E100)","v":0},null,{"$f":"SUM(K100+M100+O100+Q100+S100+U100+W100+Y100+AA100+AC100+AE100+AG100+AI100+AK100+AM100)","v":0},null,null,null,null,null,null,null,null,null,null,null,null,null,null,null,null,null,null,null,null,null,null,null,null,null,null,null,null,null,null,null,null,null,null,null,null,null,null,null,null,null,null,{"$f":"CC100&CD100&CE100&CF100&CG100&CH100&CI100","v":""},null,null,null,null,null,null,null,null,null,null,null,null,null,null,null,null,null,null,null,null,null,null,null,null,null,null,null,null,null,null,null,null,{"$f":"IF(AND(AP100=\"\",C100>0),\" * No olvide digitar la columna Beneficiarios\",IF(AP100>C100,\" * La variable Beneficiarios no puede ser mayor al Total.\",\"\"))","v":""},{"$f":"IF(AQ100>C100,\" * El total de Controles No puede ser mayor que el Total.\",\"\")","v":""},{"$f":"IF(AND(C100>0,AR100=\"\"),\" * No olvide digitar la variable Pueblos originarios. Digite cero si no tiene.\",IF(AR100>C100,\" * La variable Pueblos originarios no puede ser mayor al Total.\",\"\"))","v":""},{"$f":"IF(AND(C100>0,AS100=\"\"),\" * No olvide digitar la variable Migrantes. Digite cero si no tiene.\",IF(AS100>C100,\" * La variable Migrantes no puede ser mayor al Total.\",\"\"))","v":""},null,null,null,null,{"$f":"IF(AND(AP100=\"\",C100>0),1,IF(AP100>C100,1,0))","v":0},{"$f":"IF(AQ100>C100,1,0)","v":0},{"$f":"IF(AND(C100>0,AR100=\"\"),1,IF(AR100>C100,1,0))","v":0},{"$f":"IF(AND(C100>0,AS100=\"\"),1,IF(AS100>C100,1,0))","v":0}]
[null,"Ginecología y otros",{"$f":"SUM(D101+E101)","v":0},{"$f":"SUM(F101+H101+J101+L101+N101+P101+R101+T101+V101+X101+Z101+AB101+AD101+AF101+AH101+AJ101+AL101)","v":0},{"$f":"SUM(G101+I101+K101+M101+O101+Q101+S101+U101+W101+Y101+AA101+AC101+AE101+AG101+AI101+AK101+AM101)","v":0},null,null,null,null,null,null,null,null,null,null,null,null,null,null,null,null,null,null,null,null,null,null,null,null,null,null,null,null,null,null,null,null,null,null,null,null,null,null,null,null,null,null,"",null,null,null,null,null,null,null,null,null,null,null,null,null,null,null,null,null,null,null,null,null,null,null,null,null,null,null,null,null,null,null,null,"","","","",null,null,null,null,0,0,0,0]
[null,"Infertilidad",0,{"$f":"SUM(N102+P102+R102+T102+V102+X102+Z102+AB102)","v":0},{"$f":"SUM(O102+Q102+S102+U102+W102+Y102+AA102+AC102)","v":0},null,null,null,null,null,null,null,null,null,null,null,null,null,null,null,null,null,null,null,null,null,null,null,null,null,null,null,null,null,null,null,null,null,null,null,null,null,null,null,null,null,null,"",null,null,null,null,null,null,null,null,null,null,null,null,null,null,null,null,null,null,null,null,null,null,null,null,null,null,null,null,null,null,null,null,"","","","",null,null,null,null,0,0,0,0]
["Nutricionista",null,0,{"$f":"SUM(F103+H103+J103+L103+N103+P103+R103+T103+V103+X103+Z103+AB103+AD103+AF103+AH103+AJ103+AL103)","v":0},0,null,null,null,null,null,null,null,null,null,null,null,null,null,null,null,null,null,null,null,null,null,null,null,null,null,null,null,null,null,null,null,null,null,null,null,null,null,null,null,null,null,null,"",null,null,null,null,null,null,null,null,null,null,null,null,null,null,null,null,null,null,null,null,null,null,null,null,null,null,null,null,null,null,null,null,"","","","",null,null,null,null,0,0,0,0]
["Psicólogo/a (Excluye SM)",null,0,0,0,null,null,null,null,null,null,null,null,null,null,null,null,null,null,null,null,null,null,null,null,null,null,null,null,null,null,null,null,null,null,null,null,null,null,null,null,null,null,null,null,null,null,"",null,null,null,null,null,null,null,null,null,null,null,null,null,null,null,null,null,null,null,null,null,null,null,null,null,null,null,null,null,null,null,null,"","","","",null,null,null,null,0,0,0,0]
["Fonoaudiólogo/a",null,0,0,0,null,null,null,null,null,null,null,null,null,null,null,null,null,null,null,null,null,null,null,null,null,null,null,null,null,null,null,null,null,null,null,null,null,null,null,null,null,null,null,null,null,null,"",null,null,null,null,null,null,null,null,null,null,null,null,null,null,null,null,null,null,null,null,null,null,null,null,null,null,null,null,null,null,null,null,"","","","",null,null,null,null,0,0,0,0]
["Tecnólogo/a médico/a",null,0,0,0,null,null,null,null,null,null,null,null,null,null,null,null,null,null,null,null,null,null,null,null,null,null,null,null,null,null,null,null,null,null,null,null,null,null,null,null,null,null,null,null,null,null,"",null,null,null,null,null,null,null,null,null,null,null,null,null,null,null,null,null,null,null,null,null,null,null,null,null,null,null,null,null,null,null,null,"","","","",null,null,null,null,0,0,0,0]
["Trabajador/a social",null,0,0,0,null,null,null,null,null,null,null,null,null,null,null,null,null,null,null,null,null,null,null,null,null,null,null,null,null,null,null,null,null,null,null,null,null,null,null,null,null,null,null,null,null,null,"",null,null,null,null,null,null,null,null,null,null,null,null,null,null,null,null,null,null,null,null,null,null,null,null,null,null,null,null,null,null,null,null,"","","","",null,null,null,null,0,0,0,0]
["TOTAL",null,{"$f":"SUM(C99:C107)","v":0},0,0,0,0,0,0,0,0,0,0,0,0,0,0,0,0,0,0,0,0,0,0,0,0,0,0,0,0,0,0,0,0,0,0,0,0,{"$f":"SUM(AN99:AN107)","v":0},{"$f":"SUM(AO99:AO107)","v":0},0,0,0,0,0,0]
["SECCIÓN E: ATENCIÓN ODONTOLÓGICA "]
["SECCIÓN E1: ATENCIÓN ODONTOLÓGICA NIVEL PRIMARIO"]
["ACTIVIDADES ","TOTAL",null,null,"RANGO ETARIO",null,null,null,null,null,null,null,null,null,null,null,"Embarazadas","60 años (incluído en grupos de 20-64 años)","Usuarios en situación de discapacidad","Niños, Niñas, Adolescentes y Jóvenes SENAME","Niños, Niñas, Adolescentes y Jóvenes Mejor Niñez","Pueblos Originarios","Migrantes"]
[null,"Total","Hombres","Mujeres","Menos de 1\naño","1 \naño","2 \naños","3 \naños","4 \naños","5 \naños","6 \naños","12 \naños","Resto \n<15 años","15 - 19 \naños","20 - 64 \naños","65 y \nmás años"]
["Seguimiento Clínico Remoto de Pacientes",{"$f":"SUM(E113:P113)","v":0},null,null,null,null,null,null,null,null,null,null,null,null,null,null,null,null,null,null,null,null,null,{"$f":"CB113&CC113&CD113&CE113&CF113&CG113&CH113&CI113","v":""},null,null,null,null,null,null,null,null,null,null,null,null,null,null,null,null,null,null,null,null,null,null,null,null,null,null,null,null,null,null,null,null,null,null,null,null,null,null,null,null,null,null,null,null,null,null,null,null,null,null,null,null,null,null,null,{"$f":"IF((C113+D113)<>B113,\"  * Las atenciones según Sexo (Hombres/Mujeres) deben ser igual al Total de atenciones\",\"\")","v":""},{"$f":"IF(AND(D113>0,Q113=\"\"),\" * No olvide digitar Embarazadas. Digite cero si no tiene.\",IF(Q113>D113,\" * La variable Embarazadas no puede ser mayor al Total.\",\"\"))","v":""},{"$f":"IF(AND(O113>0,R113=\"\"),\" * No olvide digitar la variable 60 años (incluído en grupos de 20-64 años). Digite cero si no tiene.\",IF(R113>O113,\" * La variable 60 años (incluído en grupos de 20-64 años) no puede ser mayor al rango etario 20-64 años.\",\"\"))","v":""},{"$f":"IF(AND(B113>0,S113=\"\"),\" * No olvide digitar Usuarios en situación de discapacidad. Digite cero si no tiene.\",IF(S113>B113,\" * La variable Usuarios en situación de discapacidad no puede ser mayor al Total.\",\"\"))","v":""},{"$f":"IF(AND(B113>0,T113=\"\"),\" * No olvide digitar Niños, niñas, adolescentes y jóvenes SENAME. Digite cero si no tiene.\",IF(T113>B113,\" * La variable Niños, niñas, adolescentes y jóvenes SENAME no puede ser mayor al Total.\",\"\"))","v":""},{"$f":"IF(AND(B113>0,U113=\"\"),\" * No olvide digitar Niños, niñas, adolescentes y jóvenes Mejor niñez. Digite cero si no tiene.\",IF(U113>B113,\" * La variable Niños, niñas, adolescentes y jóvenes Mejor niñez no puede ser mayor al Total.\",\"\"))","v":""},{"$f":"IF(AND(B113>0,V113=\"\"),\" * No olvide digitar Pueblos originarios. Digite cero si no tiene.\",IF(V113>B113,\" * La variable Pueblos originarios no puede ser mayor al Total.\",\"\"))","v":""},{"$f":"IF(AND(B113>0,W113=\"\"),\" * No olvide digitar Migrantes. Digite cero si no tiene.\",IF(W113>B113,\" * La variable Migrantes no puede ser mayor al Total.\",\"\"))","v":""},null,{"$f":"IF(AND(D113>0,Q113=\"\"),1,IF(Q113>D113,1,0))","v":0},{"$f":"IF(AND(O113>0,R113=\"\"),1,IF(R113>O113,1,0))","v":0},{"$f":"IF(AND(B113>0,S113=\"\"),1,IF(S113>B113,1,0))","v":0},{"$f":"IF(AND(B113>0,T113=\"\"),1,IF(T113>B113,1,0))","v":0},{"$f":"IF(AND(B113>0,U113=\"\"),1,IF(U113>B113,1,0))","v":0},{"$f":"IF(AND(B113>0,V113=\"\"),1,IF(V113>B113,1,0))","v":0},{"$f":"IF(AND(B113>0,W113=\"\"),1,IF(W113>B113,1,0))","v":0},{"$f":"IF((C113+D113)<>B113,1,0)","v":0}]
["Educación, Promoción Remota en Salud Bucal",{"$f":"SUM(E114:P114)","v":0},null,null,null,null,null,null,null,null,null,null,null,null,null,null,null,null,null,null,null,null,null,{"$f":"CB114&CC114&CD114&CE114&CF114&CG114&CH114&CI114","v":""},null,null,null,null,null,null,null,null,null,null,null,null,null,null,null,null,null,null,null,null,null,null,null,null,null,null,null,null,null,null,null,null,null,null,null,null,null,null,null,null,null,null,null,null,null,null,null,null,null,null,null,null,null,null,null,{"$f":"IF((C114+D114)<>B114,\"  * Las atenciones según Sexo (Hombres/Mujeres) deben ser igual al Total de atenciones\",\"\")","v":""},{"$f":"IF(AND(D114>0,Q114=\"\"),\" * No olvide digitar Embarazadas. Digite cero si no tiene.\",IF(Q114>D114,\" * La variable Embarazadas no puede ser mayor al Total.\",\"\"))","v":""},{"$f":"IF(AND(O114>0,R114=\"\"),\" * No olvide digitar la variable 60 años (incluído en grupos de 20-64 años). Digite cero si no tiene.\",IF(R114>O114,\" * La variable 60 años (incluído en grupos de 20-64 años) no puede ser mayor al rango etario 20-64 años.\",\"\"))","v":""},{"$f":"IF(AND(B114>0,S114=\"\"),\" * No olvide digitar Usuarios en situación de discapacidad. Digite cero si no tiene.\",IF(S114>B114,\" * La variable Usuarios en situación de discapacidad no puede ser mayor al Total.\",\"\"))","v":""},{"$f":"IF(AND(B114>0,T114=\"\"),\" * No olvide digitar Niños, niñas, adolescentes y jóvenes SENAME. Digite cero si no tiene.\",IF(T114>B114,\" * La variable Niños, niñas, adolescentes y jóvenes SENAME no puede ser mayor al Total.\",\"\"))","v":""},{"$f":"IF(AND(B114>0,U114=\"\"),\" * No olvide digitar Niños, niñas, adolescentes y jóvenes Mejor niñez. Digite cero si no tiene.\",IF(U114>B114,\" * La variable Niños, niñas, adolescentes y jóvenes Mejor niñez no puede ser mayor al Total.\",\"\"))","v":""},{"$f":"IF(AND(B114>0,V114=\"\"),\" * No olvide digitar Pueblos originarios. Digite cero si no tiene.\",IF(V114>B114,\" * La variable Pueblos originarios no puede ser mayor al Total.\",\"\"))","v":""},{"$f":"IF(AND(B114>0,W114=\"\"),\" * No olvide digitar Migrantes. Digite cero si no tiene.\",IF(W114>B114,\" * La variable Migrantes no puede ser mayor al Total.\",\"\"))","v":""},null,{"$f":"IF(AND(D114>0,Q114=\"\"),1,IF(Q114>D114,1,0))","v":0},{"$f":"IF(AND(O114>0,R114=\"\"),1,IF(R114>O114,1,0))","v":0},{"$f":"IF(AND(B114>0,S114=\"\"),1,IF(S114>B114,1,0))","v":0},{"$f":"IF(AND(B114>0,T114=\"\"),1,IF(T114>B114,1,0))","v":0},{"$f":"IF(AND(B114>0,U114=\"\"),1,IF(U114>B114,1,0))","v":0},{"$f":"IF(AND(B114>0,V114=\"\"),1,IF(V114>B114,1,0))","v":0},{"$f":"IF(AND(B114>0,W114=\"\"),1,IF(W114>B114,1,0))","v":0},{"$f":"IF((C114+D114)<>B114,1,0)","v":0}]
["Pauta CERO Remota",{"$f":"SUM(E115:P115)","v":0},null,null,null,null,null,null,null,null,null,null,null,null,null,null,null,null,null,null,null,null,null,"",null,null,null,null,null,null,null,null,null,null,null,null,null,null,null,null,null,null,null,null,null,null,null,null,null,null,null,null,null,null,null,null,null,null,null,null,null,null,null,null,null,null,null,null,null,null,null,null,null,null,null,null,null,null,null,"","","","","","","","",null,0,0,0,0,0,0,0,0]
["TOTAL",{"$f":"SUM(B113:B115)","v":0},0,0,0,0,0,0,0,0,0,0,0,0,0,0,0,0,0,{"$f":"SUM(T113:T115)","v":0},0,0,0]
["SECCIÓN E2: ATENCIÓN ODONTOLÓGICA ESTABLECIMIENTOS HOSPITALARIOS DE BAJA, MEDIANA Y ALTA COMPLEJIDAD"]
["ACTIVIDADES ","TOTAL",null,null,"RANGO ETARIO",null,null,null,null,null,null,null,"No Contesta","Embarazadas","Beneficiarios","Usuarios con Discapacidad ","Niños, niñas, adolescentes y jovenes SENAME","Niños, niñas, adolescentes y jovenes Mejor Niñez","Pueblos Originarios","Migrantes"]
[null,"Total","Hombres","Mujeres","0-5 años","6 años","12 años","Resto < 15 años","15-19 años","20-64 \n años (excluye 60 años)","60 años","65 y \nmás años"]
["Consulta nueva de especialidad odontológica (Teleconsulta)",{"$f":"SUM(E120:L120)","v":0},null,null,null,null,null,null,null,null,null,null,null,null,null,null,null,null,null,null,{"$f":"CC120&CD120&CE120&CF120&CG120&CH120&CI120&CJ120","v":""},null,null,null,null,null,null,null,null,null,null,null,null,null,null,null,null,null,null,null,null,null,null,null,null,null,null,null,null,null,null,null,null,null,null,null,null,null,null,null,null,null,null,null,null,null,null,null,null,null,null,null,null,null,null,null,null,null,null,null,{"$f":"IF((C120+D120)<>B120,\"  * Las atenciones según Sexo (Hombres/Mujeres) deben ser igual al Total de atenciones\",\"\")","v":""},{"$f":"IF(AND(D120>0,N120=\"\"),\" * No olvide digitar Embarazadas. Digite cero si no tiene.\",IF(N120>D120,\" * La variable Embarazadas no puede ser mayor al Total.\",\"\"))","v":""},{"$f":"IF(AND(B120>0,O120=\"\"),\" * No olvide digitar Beneficiarios.\",IF(O120>B120,\" * Beneficiarios No puede ser mayor al Total.\",\"\"))","v":""},{"$f":"IF(AND(B120>0,P120=\"\"),\" * No olvide digitar Usuarios con discapacidad. Digite cero si no tiene.\",IF(P120>B120,\" * Usuarios con discapacidad No puede ser mayor al Total.\",\"\"))","v":""},{"$f":"IF(AND(B120>0,Q120=\"\"),\" * No olvide digitar Niños, niñas, adolescentes y jóvenes SENAME. Digite cero si no tiene.\",IF(Q120>B120,\" * Niños, niñas, adolescentes y jóvenes SENAME No puede ser mayor al Total.\",\"\"))","v":""},{"$f":"IF(AND(B120>0,R120=\"\"),\" * No olvide digitar Niños, niñas, adolescentes y jóvenes Mejor Niñez. Digite cero si no tiene.\",IF(R120>B120,\" * Niños, niñas, adolescentes y jóvenes Mejor niñez No puede ser mayor al Total.\",\"\"))","v":""},{"$f":"IF(AND(B120>0,S120=\"\"),\" * No olvide digitar Pueblos originarios. Digite cero si no tiene.\",IF(S120>B120,\" * Pueblos originarios No puede ser mayor al Total.\",\"\"))","v":""},{"$f":"IF(AND(B120>0,T120=\"\"),\" * No olvide digitar Migrantes. Digite cero si no tiene.\",IF(T120>B120,\" * Migrantes No puede ser mayor al Total.\",\"\"))","v":""},{"$f":"IF((C120+D120)<>B120,1,0)","v":0},{"$f":"IF(AND(D120>0,N120=\"\"),1,IF(N120>B120,1,0))","v":0},{"$f":"IF(AND(B120>0,O120=\"\"),1,IF(O120>B120,1,0))","v":0},{"$f":"IF(AND(B120>0,P120=\"\"),1,IF(P120>B120,1,0))","v":0},{"$f":"IF(AND(B120>0,Q120=\"\"),1,IF(Q120>B120,1,0))","v":0},{"$f":"IF(AND(B120>0,R120=\"\"),1,IF(R120>B120,1,0))","v":0},{"$f":"IF(AND(B120>0,S120=\"\"),1,IF(S120>B120,1,0))","v":0},{"$f":"IF(AND(B120>0,T120=\"\"),1,IF(T120>B120,1,0))","v":0}]
["Control de especialidad odontológica (Teleconsulta)",{"$f":"SUM(E121:L121)","v":0},null,null,null,null,null,null,null,null,null,null,null,null,null,null,null,null,null,null,{"$f":"CC121&CD121&CE121&CF121&CG121&CH121&CI121&CJ121","v":""},null,null,null,null,null,null,null,null,null,null,null,null,null,null,null,null,null,null,null,null,null,null,null,null,null,null,null,null,null,null,null,null,null,null,null,null,null,null,null,null,null,null,null,null,null,null,null,null,null,null,null,null,null,null,null,null,null,null,null,{"$f":"IF((C121+D121)<>B121,\"  * Las atenciones según Sexo (Hombres/Mujeres) deben ser igual al Total de atenciones\",\"\")","v":""},{"$f":"IF(AND(D121>0,N121=\"\"),\" * No olvide digitar Embarazadas. Digite cero si no tiene.\",IF(N121>D121,\" * La variable Embarazadas no puede ser mayor al Total.\",\"\"))","v":""},{"$f":"IF(AND(B121>0,O121=\"\"),\" * No olvide digitar Beneficiarios.\",IF(O121>B121,\" * Beneficiarios No puede ser mayor al Total.\",\"\"))","v":""},{"$f":"IF(AND(B121>0,P121=\"\"),\" * No olvide digitar Usuarios con discapacidad. Digite cero si no tiene.\",IF(P121>B121,\" * Usuarios con discapacidad No puede ser mayor al Total.\",\"\"))","v":""},{"$f":"IF(AND(B121>0,Q121=\"\"),\" * No olvide digitar Niños, niñas, adolescentes y jóvenes SENAME. Digite cero si no tiene.\",IF(Q121>B121,\" * Niños, niñas, adolescentes y jóvenes SENAME No puede ser mayor al Total.\",\"\"))","v":""},{"$f":"IF(AND(B121>0,R121=\"\"),\" * No olvide digitar Niños, niñas, adolescentes y jóvenes Mejor Niñez. Digite cero si no tiene.\",IF(R121>B121,\" * Niños, niñas, adolescentes y jóvenes Mejor niñez No puede ser mayor al Total.\",\"\"))","v":""},{"$f":"IF(AND(B121>0,S121=\"\"),\" * No olvide digitar Pueblos originarios. Digite cero si no tiene.\",IF(S121>B121,\" * Pueblos originarios No puede ser mayor al Total.\",\"\"))","v":""},{"$f":"IF(AND(B121>0,T121=\"\"),\" * No olvide digitar Migrantes. Digite cero si no tiene.\",IF(T121>B121,\" * Migrantes No puede ser mayor al Total.\",\"\"))","v":""},{"$f":"IF((C121+D121)<>B121,1,0)","v":0},{"$f":"IF(AND(D121>0,N121=\"\"),1,IF(N121>B121,1,0))","v":0},{"$f":"IF(AND(B121>0,O121=\"\"),1,IF(O121>B121,1,0))","v":0},{"$f":"IF(AND(B121>0,P121=\"\"),1,IF(P121>B121,1,0))","v":0},{"$f":"IF(AND(B121>0,Q121=\"\"),1,IF(Q121>B121,1,0))","v":0},{"$f":"IF(AND(B121>0,R121=\"\"),1,IF(R121>B121,1,0))","v":0},{"$f":"IF(AND(B121>0,S121=\"\"),1,IF(S121>B121,1,0))","v":0},{"$f":"IF(AND(B121>0,T121=\"\"),1,IF(T121>B121,1,0))","v":0}]
["TOTAL",{"$f":"SUM(B120:B121)","v":0},0,0,0,0,0,0,0,0,0,0,0,0,0,0,0,{"$f":"SUM(R120:R121)","v":0},0,0]
["SECCION F: ACCIONES DE SALUD MENTAL REMOTAS "]
["SECCIÓN F1: ACCIONES REMOTAS DE SALUD MENTAL (APS Y ESPECIALIDAD)"]
["VIDEOLLAMADAS","TOTAL ACCIONES","RANGO ETARIO",null,null,null,null,null,null,null,null,null,null,null,null,null,null,null,null,"SEXO",null,"Niños, Niñas, Adolescentes y Jóvenes Población SENAME","Niños, Niñas, Adolescentes y Jóvenes Población Mejor Niñez","Pueblos Originarios","Migrantes","Demencia","Espacios Amigables/ Adolescentes"]
[null,null,"0 - 4 años","5 - 9 años"," 10 - 14 años","15 - 19 años","20 - 24 años","25 - 29 años","30 - 34 años","35 - 39 años","40 - 44 años","45 - 49 años","50 - 54 años","55 - 59 años","60 - 64 años","65 - 69 años","70 - 74 años","75 - 79 años","80 y más años","Hombres","Mujeres"]
["Llamadas Telefónicas",{"$f":"SUM(C127:S127)","v":0},null,null,null,null,null,null,null,null,null,null,null,null,null,null,null,null,null,null,null,null,null,null,null,null,null,{"$f":"CC127&CD127&CE127&CF127&CG127&CH127&CI127","v":""},null,null,null,null,null,null,null,null,null,null,null,null,null,null,null,null,null,null,null,null,null,null,null,null,null,null,null,null,null,null,null,null,null,null,null,null,null,null,null,null,null,null,null,null,null,null,null,null,null,null,null,null,{"$f":"IF((T127+U127)<>B127,\"  * Las acciones según Sexo (Hombres/Mujeres) deben ser igual al Total de acciones\",\"\")","v":""},{"$f":"IF(AND(B127>0,V127=\"\"),\" * No olvide digitar Niños, Niñas, adolescentes y jóvenes SENAME. Digite cero si no tiene.\",IF(V127>B127,\" * Niños, Niñas, adolescentes y jóvenes SENAME No puede ser mayor que el Total.\",\"\"))","v":""},{"$f":"IF(AND(B127>0,W127=\"\"),\" * No olvide digitar Niños, Niñas, adolescentes y jóvenes Mejor Niñez. Digite cero si no tiene.\",IF(W127>B127,\" * Niños, Niñas, adolescentes y jóvenes Mejor Niñez No puede ser mayor que el Total.\",\"\"))","v":""},{"$f":"IF(AND(B127>0,X127=\"\"),\" * No olvide digitar Pueblos Originarios. Digite cero si no tiene.\",IF(X127>B127,\" * Pueblos originarios No puede ser mayor que el Total.\",\"\"))","v":""},{"$f":"IF(AND(B127>0,Y127=\"\"),\" * No olvide digitar Migrantes. Digite cero si no tiene.\",IF(Y127>B127,\" * Migrantes No puede ser mayor que el Total.\",\"\"))","v":""},{"$f":"IF(AND(B127>0,Z127=\"\"),\" * No olvide digitar el campo  Demencia. Digite cero si no tiene.\",IF(Z127>B127,\" * El campo Demencia No puede ser mayor que el Total.\",\"\"))","v":""},{"$f":"IF(AND(B127>0,AA127=\"\"),\" * No olvide digitar el campo Espacios Amigables/Adolescentes. Digite cero si no tiene.\",IF(AA127>B127,\" * El campo Espacios Amigables/Adolescente No puede ser mayor que el Total.\",\"\"))","v":""},null,{"$f":"IF((T127+U127)<>B127,1,0)","v":0},{"$f":"IF(AND(B127>0,V127=\"\"),1,IF(V127>B127,1,0))","v":0},{"$f":"IF(AND(B127>0,W127=\"\"),1,IF(W127>B127,1,0))","v":0},{"$f":"IF(AND(B127>0,X127=\"\"),1,IF(X127>B127,1,0))","v":0},{"$f":"IF(AND(B127>0,Y127=\"\"),1,IF(Y127>B127,1,0))","v":0},{"$f":"IF(AND(B127>0,Z127=\"\"),1,IF(Z127>B127,1,0))","v":0},{"$f":"IF(AND(B127>0,AA127=\"\"),1,IF(AA127>B127,1,0))","v":0}]
["Videollamadas",{"$f":"SUM(C128:S128)","v":0},null,null,null,null,null,null,null,null,null,null,null,null,null,null,null,null,null,null,null,null,null,null,null,null,null,{"$f":"CC128&CD128&CE128&CF128&CG128&CH128&CI128","v":""},null,null,null,null,null,null,null,null,null,null,null,null,null,null,null,null,null,null,null,null,null,null,null,null,null,null,null,null,null,null,null,null,null,null,null,null,null,null,null,null,null,null,null,null,null,null,null,null,null,null,null,null,{"$f":"IF((T128+U128)<>B128,\"  * Las acciones según Sexo (Hombres/Mujeres) deben ser igual al Total de acciones\",\"\")","v":""},{"$f":"IF(AND(B128>0,V128=\"\"),\" * No olvide digitar Niños, Niñas, adolescentes y jóvenes SENAME. Digite cero si no tiene.\",IF(V128>B128,\" * Niños, Niñas, adolescentes y jóvenes SENAME No puede ser mayor que el Total.\",\"\"))","v":""},{"$f":"IF(AND(B128>0,W128=\"\"),\" * No olvide digitar Niños, Niñas, adolescentes y jóvenes Mejor Niñez. Digite cero si no tiene.\",IF(W128>B128,\" * Niños, Niñas, adolescentes y jóvenes Mejor Niñez No puede ser mayor que el Total.\",\"\"))","v":""},{"$f":"IF(AND(B128>0,X128=\"\"),\" * No olvide digitar Pueblos Originarios. Digite cero si no tiene.\",IF(X128>B128,\" * Pueblos originarios No puede ser mayor que el Total.\",\"\"))","v":""},{"$f":"IF(AND(B128>0,Y128=\"\"),\" * No olvide digitar Migrantes. Digite cero si no tiene.\",IF(Y128>B128,\" * Migrantes No puede ser mayor que el Total.\",\"\"))","v":""},{"$f":"IF(AND(B128>0,Z128=\"\"),\" * No olvide digitar el campo  Demencia. Digite cero si no tiene.\",IF(Z128>B128,\" * El campo Demencia No puede ser mayor que el Total.\",\"\"))","v":""},{"$f":"IF(AND(B128>0,AA128=\"\"),\" * No olvide digitar el campo Espacios Amigables/Adolescentes. Digite cero si no tiene.\",IF(AA128>B128,\" * El campo Espacios Amigables/Adolescente No puede ser mayor que el Total.\",\"\"))","v":""},null,{"$f":"IF((T128+U128)<>B128,1,0)","v":0},{"$f":"IF(AND(B128>0,V128=\"\"),1,IF(V128>B128,1,0))","v":0},{"$f":"IF(AND(B128>0,W128=\"\"),1,IF(W128>B128,1,0))","v":0},{"$f":"IF(AND(B128>0,X128=\"\"),1,IF(X128>B128,1,0))","v":0},{"$f":"IF(AND(B128>0,Y128=\"\"),1,IF(Y128>B128,1,0))","v":0},{"$f":"IF(AND(B128>0,Z128=\"\"),1,IF(Z128>B128,1,0))","v":0},{"$f":"IF(AND(B128>0,AA128=\"\"),1,IF(AA128>B128,1,0))","v":0}]
["Mensajería de Texto",{"$f":"SUM(C129:S129)","v":0},null,null,null,null,null,null,null,null,null,null,null,null,null,null,null,null,null,null,null,null,null,null,null,null,null,"",null,null,null,null,null,null,null,null,null,null,null,null,null,null,null,null,null,null,null,null,null,null,null,null,null,null,null,null,null,null,null,null,null,null,null,null,null,null,null,null,null,null,null,null,null,null,null,null,null,null,null,null,"","","","","","","",null,0,0,0,0,0,0,0]
["SECCIÓN F2: CONTROLES DE SALUD MENTAL REMOTOS (APS Y ESPECIALIDAD)"]
["ACTIVIDADES","PROFESIONAL","TOTAL",null,null,"RANGO ETARIO Y SEXO",null,null,null,null,null,null,null,null,null,null,null,null,null,null,null,null,null,null,null,null,null,null,null,null,null,null,null,null,null,null,null,null,null,"Niños, Niñas, Adolescentes y Jóvenes Mejor Niñez","Pueblos Originarios","Migrantes","Demencia","Espacios Amigables/ Adolescentes"]
[null,null,null,null,null,"0 - 4 años",null,"5 - 9 años",null,"10 - 14 años",null,"15 - 19 años",null,"20 - 24 años",null,"25 - 29 años",null,"30 - 34 años",null,"35 - 39 años",null,"40 - 44 años",null,"45 - 49 años",null,"50 - 54 años",null,"55 - 59 años",null,"60 - 64 años",null,"65 - 69 años",null,"70 - 74 años",null,"75 - 79 años",null,"80 y más años"]
[null,null,"Ambos Sexos","Hombres","Mujeres","Hombres","Mujeres","Hombres","Mujeres","Hombres","Mujeres","Hombres","Mujeres","Hombres","Mujeres","Hombres","Mujeres","Hombres","Mujeres","Hombres","Mujeres","Hombres","Mujeres","Hombres","Mujeres","Hombres","Mujeres","Hombres","Mujeres","Hombres","Mujeres","Hombres","Mujeres","Hombres","Mujeres","Hombres","Mujeres","Hombres","Mujeres"]
["Controles de salud mental por llamadas telefónicas","Médico/a",{"$f":"SUM(D134:E134)","v":0},{"$f":"SUM(F134+H134+J134+L134+N134+P134+R134+T134+V134+X134+Z134+AB134+AD134+AF134+AH134+AJ134+AL134)","v":0},0,null,null,null,null,null,null,null,null,null,null,null,null,null,null,null,null,null,null,null,null,null,null,null,null,null,null,null,null,null,null,null,null,null,null,null,null,null,null,null,{"$f":"CC134&CD134&CE134&CF134&CG134","v":""},null,null,null,null,null,null,null,null,null,null,null,null,null,null,null,null,null,null,null,null,null,null,null,null,null,null,null,null,null,null,null,null,null,null,null,{"$f":"IF(AND(C134>0,AN134=\"\"),\" * No olvide digitar Niños, Niñas, Adolescentes y Jóvenes Mejor Niñez. Digite Cero si no tiene\",IF(AN134>C134,\" * Niños, Niñas, Adolescentes y Jóvenes Mejor Niñez No puede ser mayor al Total.\",\"\"))","v":""},{"$f":"IF(AND(C134>0,AO134=\"\"),\" * No olvide digitar la variable Pueblos originarios. Digite cero si no tiene\",IF(AO134>C134,\" * La variable Pueblos Originarios No puede ser mayor al Total.\",\"\"))","v":""},{"$f":"IF(AND(C134>0,AP134=\"\"),\" * No olvide digitar la variable Migrantes. Digite cero si no tiene.\",IF(AP134>C134,\" * La variable Migrantes No puede ser mayor al Total.\",\"\"))","v":""},{"$f":"IF(AND(C134>0,AQ134=\"\"),\" * No olvide digitar la variable Demencia. Digite cero si no tiene.\",IF(AQ134>C134,\" * La variable Demencia No puede ser mayor al Total.\",\"\"))","v":""},{"$f":"IF(AND(C134>0,AR134=\"\"),\" * No olvide digitar la variable Espacios Amigables/Adolescentes. Digite cero si no tiene.\",IF(AR134>C134,\" * La variable Espacios Amigables/adolescentes No puede ser mayor al Total.\",\"\"))","v":""},null,null,null,{"$f":"IF(AND(C134>0,AN134=\"\"),1,IF(AN134>C134,1,0))","v":0},{"$f":"IF(AND(C134>0,AO134=\"\"),1,IF(AO134>C134,1,0))","v":0},{"$f":"IF(AND(C134>0,AP134=\"\"),1,IF(AP134>C134,1,0))","v":0},{"$f":"IF(AND(C134>0,AQ134=\"\"),1,IF(AQ134>C134,1,0))","v":0},{"$f":"IF(AND(C134>0,AR134=\"\"),1,IF(AR134>C134,1,0))","v":0}]
[null,"Psicólogo/a",0,0,0,null,null,null,null,null,null,null,null,null,null,null,null,null,null,null,null,null,null,null,null,null,null,null,null,null,null,null,null,null,null,null,null,null,null,null,null,null,null,null,{"$f":"CC135&CD135&CE135&CF135&CG135","v":""},null,null,null,null,null,null,null,null,null,null,null,null,null,null,null,null,null,null,null,null,null,null,null,null,null,null,null,null,null,null,null,null,null,null,null,"",{"$f":"IF(AND(C135>0,AO135=\"\"),\" * No olvide digitar la variable Pueblos originarios. Digite cero si no tiene\",IF(AO135>C135,\" * La variable Pueblos Originarios No puede ser mayor al Total.\",\"\"))","v":""},{"$f":"IF(AND(C135>0,AP135=\"\"),\" * No olvide digitar la variable Migrantes. Digite cero si no tiene.\",IF(AP135>C135,\" * La variable Migrantes No puede ser mayor al Total.\",\"\"))","v":""},{"$f":"IF(AND(C135>0,AQ135=\"\"),\" * No olvide digitar la variable Demencia. Digite cero si no tiene.\",IF(AQ135>C135,\" * La variable Demencia No puede ser mayor al Total.\",\"\"))","v":""},{"$f":"IF(AND(C135>0,AR135=\"\"),\" * No olvide digitar la variable Espacios Amigables/Adolescentes. Digite cero si no tiene.\",IF(AR135>C135,\" * La variable Espacios Amigables/adolescentes No puede ser mayor al Total.\",\"\"))","v":""},null,null,null,{"$f":"IF(AND(C135>0,AN135=\"\"),1,IF(AN135>C135,1,0))","v":0},{"$f":"IF(AND(C135>0,AO135=\"\"),1,IF(AO135>C135,1,0))","v":0},{"$f":"IF(AND(C135>0,AP135=\"\"),1,IF(AP135>C135,1,0))","v":0},{"$f":"IF(AND(C135>0,AQ135=\"\"),1,IF(AQ135>C135,1,0))","v":0},{"$f":"IF(AND(C135>0,AR135=\"\"),1,IF(AR135>C135,1,0))","v":0}]
[null,"Enfermera/o",0,0,0,null,null,null,null,null,null,null,null,null,null,null,null,null,null,null,null,null,null,null,null,null,null,null,null,null,null,null,null,null,null,null,null,null,null,null,null,null,null,null,"",null,null,null,null,null,null,null,null,null,null,null,null,null,null,null,null,null,null,null,null,null,null,null,null,null,null,null,null,null,null,null,null,null,null,null,"","","","","",null,null,null,0,0,0,0,0]
[null,"Matrona/on",0,0,0,null,null,null,null,null,null,null,null,null,null,null,null,null,null,null,null,null,null,null,null,null,null,null,null,null,null,null,null,null,null,null,null,null,null,null,null,null,null,null,"",null,null,null,null,null,null,null,null,null,null,null,null,null,null,null,null,null,null,null,null,null,null,null,null,null,null,null,null,null,null,null,null,null,null,null,"","","","","",null,null,null,0,0,0,0,0]
[null,"Trabajador/a Social",0,0,0,null,null,null,null,null,null,null,null,null,null,null,null,null,null,null,null,null,null,null,null,null,null,null,null,null,null,null,null,null,null,null,null,null,null,null,null,null,null,null,"",null,null,null,null,null,null,null,null,null,null,null,null,null,null,null,null,null,null,null,null,null,null,null,null,null,null,null,null,null,null,null,null,null,null,null,"","","","","",null,null,null,0,0,0,0,0]
[null,"Otros Profesionales",0,0,0,null,null,null,null,null,null,null,null,null,null,null,null,null,null,null,null,null,null,null,null,null,null,null,null,null,null,null,null,null,null,null,null,null,null,null,null,null,null,null,"",null,null,null,null,null,null,null,null,null,null,null,null,null,null,null,null,null,null,null,null,null,null,null,null,null,null,null,null,null,null,null,null,null,null,null,"","","","","",null,null,null,0,0,0,0,0]
[null,"Terapeuta Ocupacional",0,0,0,null,null,null,null,null,null,null,null,null,null,null,null,null,null,null,null,null,null,null,null,null,null,null,null,null,null,null,null,null,null,null,null,null,null,null,null,null,null,null,"",null,null,null,null,null,null,null,null,null,null,null,null,null,null,null,null,null,null,null,null,null,null,null,null,null,null,null,null,null,null,null,null,null,null,null,"","","","","",null,null,null,0,0,0,0,0]
[null,"Técnico en Enfermería y en Salud Mental",0,0,0,null,null,null,null,null,null,null,null,null,null,null,null,null,null,null,null,null,null,null,null,null,null,null,null,null,null,null,null,null,null,null,null,null,null,null,null,null,null,null,"",null,null,null,null,null,null,null,null,null,null,null,null,null,null,null,null,null,null,null,null,null,null,null,null,null,null,null,null,null,null,null,null,null,null,null,"","","","","",null,null,null,0,0,0,0,0]
[null,"Gestor Comunitario",0,0,0,null,null,null,null,null,null,null,null,null,null,null,null,null,null,null,null,null,null,null,null,null,null,null,null,null,null,null,null,null,null,null,null,null,null,null,null,null,null,null,"",null,null,null,null,null,null,null,null,null,null,null,null,null,null,null,null,null,null,null,null,null,null,null,null,null,null,null,null,null,null,null,null,null,null,null,"","","","","",null,null,null,0,0,0,0,0]
[null,"Técnico Rehabilitación Alcohol y Drogas",0,0,0,null,null,null,null,null,null,null,null,null,null,null,null,null,null,null,null,null,null,null,null,null,null,null,null,null,null,null,null,null,null,null,null,null,null,null,null,null,null,null,"",null,null,null,null,null,null,null,null,null,null,null,null,null,null,null,null,null,null,null,null,null,null,null,null,null,null,null,null,null,null,null,null,null,null,null,"","","","","",null,null,null,0,0,0,0,0]
[null,"TOTAL",0,{"$f":"SUM(D134:D143)","v":0},0,0,0,0,0,0,0,0,0,0,0,0,0,0,0,0,0,0,0,0,0,0,0,0,0,0,0,0,0,0,0,0,0,0,0,0,0,0,0,{"$f":"SUM(AR134:AR143)","v":0}]
["Controles de salud mental por videollamadas ","Médico/a",0,{"$f":"SUM(F145+H145+J145+L145+N145+P145+R145+T145+V145+X145+Z145+AB145+AD145+AF145+AH145+AJ145+AL145)","v":0},0,null,null,null,null,null,null,null,null,null,null,null,null,null,null,null,null,null,null,null,null,null,null,null,null,null,null,null,null,null,null,null,null,null,null,null,null,null,null,null,"",null,null,null,null,null,null,null,null,null,null,null,null,null,null,null,null,null,null,null,null,null,null,null,null,null,null,null,null,null,null,null,null,null,null,null,{"$f":"IF(AND(C145>0,AN145=\"\"),\" * No olvide digitar Niños, Niñas, Adolescentes y Jóvenes Mejor Niñez. Digite Cero si no tiene\",IF(AN145>C145,\" * Niños, Niñas, Adolescentes y Jóvenes Mejor Niñez No puede ser mayor al Total.\",\"\"))","v":""},{"$f":"IF(AND(C145>0,AO145=\"\"),\" * No olvide digitar la variable Pueblos originarios. Digite cero si no tiene\",IF(AO145>C145,\" * La variable Pueblos Originarios No puede ser mayor al Total.\",\"\"))","v":""},{"$f":"IF(AND(C145>0,AP145=\"\"),\" * No olvide digitar la variable Migrantes. Digite cero si no tiene.\",IF(AP145>C145,\" * La variable Migrantes No puede ser mayor al Total.\",\"\"))","v":""},{"$f":"IF(AND(C145>0,AQ145=\"\"),\" * No olvide digitar la variable Demencia. Digite cero si no tiene.\",IF(AQ145>C145,\" * La variable Demencia No puede ser mayor al Total.\",\"\"))","v":""},{"$f":"IF(AND(C145>0,AR145=\"\"),\" * No olvide digitar la variable Espacios Amigables/Adolescentes. Digite cero si no tiene.\",IF(AR145>C145,\" * La variable Espacios Amigables/adolescentes No puede ser mayor al Total.\",\"\"))","v":""},null,null,null,0,0,0,0,0]
[null,"Psicólogo/a",0,0,0,null,null,null,null,null,null,null,null,null,null,null,null,null,null,null,null,null,null,null,null,null,null,null,null,null,null,null,null,null,null,null,null,null,null,null,null,null,null,null,"",null,null,null,null,null,null,null,null,null,null,null,null,null,null,null,null,null,null,null,null,null,null,null,null,null,null,null,null,null,null,null,null,null,null,null,{"$f":"IF(AND(C146>0,AN146=\"\"),\" * No olvide digitar Niños, Niñas, Adolescentes y Jóvenes Mejor Niñez. Digite Cero si no tiene\",IF(AN146>C146,\" * Niños, Niñas, Adolescentes y Jóvenes Mejor Niñez No puede ser mayor al Total.\",\"\"))","v":""},{"$f":"IF(AND(C146>0,AO146=\"\"),\" * No olvide digitar la variable Pueblos originarios. Digite cero si no tiene\",IF(AO146>C146,\" * La variable Pueblos Originarios No puede ser mayor al Total.\",\"\"))","v":""},{"$f":"IF(AND(C146>0,AP146=\"\"),\" * No olvide digitar la variable Migrantes. Digite cero si no tiene.\",IF(AP146>C146,\" * La variable Migrantes No puede ser mayor al Total.\",\"\"))","v":""},{"$f":"IF(AND(C146>0,AQ146=\"\"),\" * No olvide digitar la variable Demencia. Digite cero si no tiene.\",IF(AQ146>C146,\" * La variable Demencia No puede ser mayor al Total.\",\"\"))","v":""},{"$f":"IF(AND(C146>0,AR146=\"\"),\" * No olvide digitar la variable Espacios Amigables/Adolescentes. Digite cero si no tiene.\",IF(AR146>C146,\" * La variable Espacios Amigables/adolescentes No puede ser mayor al Total.\",\"\"))","v":""},null,null,null,0,0,0,0,0]
[null,"Enfermera/o",0,0,0,null,null,null,null,null,null,null,null,null,null,null,null,null,null,null,null,null,null,null,null,null,null,null,null,null,null,null,null,null,null,null,null,null,null,null,null,null,null,null,"",null,null,null,null,null,null,null,null,null,null,null,null,null,null,null,null,null,null,null,null,null,null,null,null,null,null,null,null,null,null,null,null,null,null,null,"","","","","",null,null,null,0,0,0,0,0]
[null,"Matrona/on",0,{"$f":"SUM(F148+H148+J148+L148+N148+P148+R148+T148+V148+X148+Z148+AB148+AD148+AF148+AH148+AJ148+AL148)","v":0},0,null,null,null,null,null,null,null,null,null,null,null,null,null,null,null,null,null,null,null,null,null,null,null,null,null,null,null,null,null,null,null,null,null,null,null,null,null,null,null,"",null,null,null,null,null,null,null,null,null,null,null,null,null,null,null,null,null,null,null,null,null,null,null,null,null,null,null,null,null,null,null,null,null,null,null,"","","","","",null,null,null,0,0,0,0,0]
[null,"Trabajador/a Social",0,{"$f":"SUM(F149+H149+J149+L149+N149+P149+R149+T149+V149+X149+Z149+AB149+AD149+AF149+AH149+AJ149+AL149)","v":0},0,null,null,null,null,null,null,null,null,null,null,null,null,null,null,null,null,null,null,null,null,null,null,null,null,null,null,null,null,null,null,null,null,null,null,null,null,null,null,null,"",null,null,null,null,null,null,null,null,null,null,null,null,null,null,null,null,null,null,null,null,null,null,null,null,null,null,null,null,null,null,null,null,null,null,null,"","","","","",null,null,null,0,0,0,0,0]
[null,"Otros Profesionales",0,0,0,null,null,null,null,null,null,null,null,null,null,null,null,null,null,null,null,null,null,null,null,null,null,null,null,null,null,null,null,null,null,null,null,null,null,null,null,null,null,null,"",null,null,null,null,null,null,null,null,null,null,null,null,null,null,null,null,null,null,null,null,null,null,null,null,null,null,null,null,null,null,null,null,null,null,null,"","","","","",null,null,null,0,0,0,0,0]
[null,"Terapeuta Ocupacional",0,0,0,null,null,null,null,null,null,null,null,null,null,null,null,null,null,null,null,null,null,null,null,null,null,null,null,null,null,null,null,null,null,null,null,null,null,null,null,null,null,null,"",null,null,null,null,null,null,null,null,null,null,null,null,null,null,null,null,null,null,null,null,null,null,null,null,null,null,null,null,null,null,null,null,null,null,null,"","","","","",null,null,null,0,0,0,0,0]
[null,"Técnico en Enfermería y en Salud Mental",0,0,0,null,null,null,null,null,null,null,null,null,null,null,null,null,null,null,null,null,null,null,null,null,null,null,null,null,null,null,null,null,null,null,null,null,null,null,null,null,null,null,"",null,null,null,null,null,null,null,null,null,null,null,null,null,null,null,null,null,null,null,null,null,null,null,null,null,null,null,null,null,null,null,null,null,null,null,"","","","","",null,null,null,0,0,0,0,0]
[null,"Gestor Comunitario",0,0,0,null,null,null,null,null,null,null,null,null,null,null,null,null,null,null,null,null,null,null,null,null,null,null,null,null,null,null,null,null,null,null,null,null,null,null,null,null,null,null,"",null,null,null,null,null,null,null,null,null,null,null,null,null,null,null,null,null,null,null,null,null,null,null,null,null,null,null,null,null,null,null,null,null,null,null,"","","","","",null,null,null,0,0,0,0,0]
[null,"Técnico Rehabilitación Alcohol y Drogas",0,0,0,null,null,null,null,null,null,null,null,null,null,null,null,null,null,null,null,null,null,null,null,null,null,null,null,null,null,null,null,null,null,null,null,null,null,null,null,null,null,null,"",null,null,null,null,null,null,null,null,null,null,null,null,null,null,null,null,null,null,null,null,null,null,null,null,null,null,null,null,null,null,null,null,null,null,null,"","","","","",null,null,null,0,0,0,0,0]
[null,"TOTAL",0,{"$f":"SUM(D145:D154)","v":0},0,0,0,0,0,0,0,0,0,0,0,0,0,0,0,0,0,0,0,0,0,0,0,0,0,0,0,0,0,0,0,0,0,0,0,0,0,0,0,{"$f":"SUM(AR145:AR154)","v":0}]
["SECCION G: ACCIONES DE SEGUIMIENTO REMOTO EN EL PROGRAMA DE SALUD CARDIOVASCULAR EN APS "]
["TIPO DE CONTROL","PROFESIONAL","TOTAL",null,null,"RANGO ETARIO Y SEXO",null,null,null,null,null,null,null,null,null,null,null,null,null,null,null,null,null,null,null,null,null,null,null,null,null,null,null,"Pueblos Originarios","Migrantes"]
[null,null,null,null,null,"15 - 19 años",null,"20 - 24 años",null,"25 - 29 años",null,"30 - 34 años",null,"35 - 39 años",null,"40 - 44 años",null,"45 - 49 años",null,"50 - 54 años",null,"55 - 59 años",null,"60 - 64 años",null,"65 - 69 años",null,"70 - 74 años",null,"75 - 79 años",null,"80 y más años"]
[null,null,"Ambos Sexos","Hombres","Mujeres","Hombres","Mujeres","Hombres","Mujeres","Hombres","Mujeres","Hombres","Mujeres","Hombres","Mujeres","Hombres","Mujeres","Hombres","Mujeres","Hombres","Mujeres","Hombres","Mujeres","Hombres","Mujeres","Hombres","Mujeres","Hombres","Mujeres","Hombres","Mujeres","Hombres","Mujeres"]
["Llamadas telefónicas o Videollamadas","Médico/a",{"$f":"SUM(D160:E160)","v":0},{"$f":"SUM(F160+H160+J160+L160+N160+P160+R160+T160+V160+X160+Z160+AB160+AD160+AF160)","v":0},0,null,null,null,null,null,null,null,null,null,null,null,null,null,null,null,null,null,null,null,null,null,null,null,null,null,null,null,null,null,null,{"$f":"CC160&CD160&CE160&CF160","v":""},null,null,null,null,null,null,null,null,null,null,null,null,null,null,null,null,null,null,null,null,null,null,null,null,null,null,null,null,null,null,null,null,null,null,null,null,null,null,null,null,null,null,null,null,{"$f":"IF(AND(C160>0,AH160=\"\"),\" * No olvide digitar La variable Pueblos originarios, Digite CERO si no tiene.\",IF(AH160>C160,\" * La variable Pueblos originarios No puede ser mayor al Total.\",\"\"))","v":""},{"$f":"IF(AND(C160>0,AI160=\"\"),\" * No olvide digitar La variable Pueblos Migrantes, Digite CERO si no tiene.\",IF(AI160>C160,\" * La variable Migrantes No puede ser mayor al Total.\",\"\"))","v":""},null,null,null,null,null,null,{"$f":"IF(AND(C160>0,AH160=\"\"),1,IF(AH160>C160,1,0))","v":0},{"$f":"IF(AND(C160>0,AI160=\"\"),1,IF(AI160>C160,1,0))","v":0}]
[null,"Enfermera/o",0,0,0,null,null,null,null,null,null,null,null,null,null,null,null,null,null,null,null,null,null,null,null,null,null,null,null,null,null,null,null,null,null,"",null,null,null,null,null,null,null,null,null,null,null,null,null,null,null,null,null,null,null,null,null,null,null,null,null,null,null,null,null,null,null,null,null,null,null,null,null,null,null,null,null,null,null,null,{"$f":"IF(AND(C161>0,AH161=\"\"),\" * No olvide digitar La variable Pueblos originarios, Digite CERO si no tiene.\",IF(AH161>C161,\" * La variable Pueblos originarios No puede ser mayor al Total.\",\"\"))","v":""},{"$f":"IF(AND(C161>0,AI161=\"\"),\" * No olvide digitar La variable Pueblos Migrantes, Digite CERO si no tiene.\",IF(AI161>C161,\" * La variable Migrantes No puede ser mayor al Total.\",\"\"))","v":""},null,null,null,null,null,null,{"$f":"IF(AND(C161>0,AH161=\"\"),1,IF(AH161>C161,1,0))","v":0},{"$f":"IF(AND(C161>0,AI161=\"\"),1,IF(AI161>C161,1,0))","v":0}]
[null,"Nutricionista",0,0,0,null,null,null,null,null,null,null,null,null,null,null,null,null,null,null,null,null,null,null,null,null,null,null,null,null,null,null,null,null,null,"",null,null,null,null,null,null,null,null,null,null,null,null,null,null,null,null,null,null,null,null,null,null,null,null,null,null,null,null,null,null,null,null,null,null,null,null,null,null,null,null,null,null,null,null,"","",null,null,null,null,null,null,0,0]
[null,"Técnico en Enfermería ",0,0,0,null,null,null,null,null,null,null,null,null,null,null,null,null,null,null,null,null,null,null,null,null,null,null,null,null,null,null,null,null,null,"",null,null,null,null,null,null,null,null,null,null,null,null,null,null,null,null,null,null,null,null,null,null,null,null,null,null,null,null,null,null,null,null,null,null,null,null,null,null,null,null,null,null,null,null,"","",null,null,null,null,null,null,0,0]
["Mensajes de texto","Médico/a",0,0,0,null,null,null,null,null,null,null,null,null,null,null,null,null,null,null,null,null,null,null,null,null,null,null,null,null,null,null,null,null,null,"",null,null,null,null,null,null,null,null,null,null,null,null,null,null,null,null,null,null,null,null,null,null,null,null,null,null,null,null,null,null,null,null,null,null,null,null,null,null,null,null,null,null,null,null,"","",null,null,null,null,null,null,0,0]
[null,"Enfermera/o",0,0,0,null,null,null,null,null,null,null,null,null,null,null,null,null,null,null,null,null,null,null,null,null,null,null,null,null,null,null,null,null,null,"",null,null,null,null,null,null,null,null,null,null,null,null,null,null,null,null,null,null,null,null,null,null,null,null,null,null,null,null,null,null,null,null,null,null,null,null,null,null,null,null,null,null,null,null,"","",null,null,null,null,null,null,0,0]
[null,"Nutricionista",0,0,{"$f":"SUM(G166+I166+K166+M166+O166+Q166+S166+U166+W166+Y166+AA166+AC166+AE166+AG166)","v":0},null,null,null,null,null,null,null,null,null,null,null,null,null,null,null,null,null,null,null,null,null,null,null,null,null,null,null,null,null,null,"",null,null,null,null,null,null,null,null,null,null,null,null,null,null,null,null,null,null,null,null,null,null,null,null,null,null,null,null,null,null,null,null,null,null,null,null,null,null,null,null,null,null,null,null,"","",null,null,null,null,null,null,0,0]
[null,"Técnico en Enfermería ",0,0,{"$f":"SUM(G167+I167+K167+M167+O167+Q167+S167+U167+W167+Y167+AA167+AC167+AE167+AG167)","v":0},null,null,null,null,null,null,null,null,null,null,null,null,null,null,null,null,null,null,null,null,null,null,null,null,null,null,null,null,null,null,"",null,null,null,null,null,null,null,null,null,null,null,null,null,null,null,null,null,null,null,null,null,null,null,null,null,null,null,null,null,null,null,null,null,null,null,null,null,null,null,null,null,null,null,null,"","",null,null,null,null,null,null,0,0]
["SECCIÓN H: ACTIVIDADES DE ACOMPAÑAMIENTO REMOTO A PERSONAS MAYORES Y SUS FAMILIAS POR PARTE DEL PROGRAMA MÁS ADULTOS MAYORES AUTOVALENTES"]
["TIPO DE ACTIVIDAD","TOTAL",null,null,"RANGO ETARIO Y SEXO",null,null,null,null,null,null,null,null,null,null,null,null,null,null,null,null,null,null,null,null,null,null,null,null,null,null,null,"Grupal","Pueblos Originarios","Migrantes"]
[null,null,null,null,"15 - 19 años",null,"20 - 24 años",null,"25 - 29 años",null,"30 - 34 años",null,"35 - 39 años",null,"40 - 44 años",null,"45 - 49 años",null,"50 - 54 años",null,"55 - 59 años",null,"60 - 64 años",null,"65 - 69 años",null,"70 - 74 años",null,"75 - 79 años",null,"80 y más años"]
[null,"Ambos Sexos","Hombres","Mujeres","Hombres","Mujeres","Hombres","Mujeres","Hombres","Mujeres","Hombres","Mujeres","Hombres","Mujeres","Hombres","Mujeres","Hombres","Mujeres","Hombres","Mujeres","Hombres","Mujeres","Hombres","Mujeres","Hombres","Mujeres","Hombres","Mujeres","Hombres","Mujeres","Hombres","Mujeres"]
["Llamadas Telefónicas",{"$f":"SUM(C172:D172)","v":0},{"$f":"+E172+G172+I172+K172+M172+O172+Q172+S172+U172+W172+Y172+AA172+AC172+AE172","v":0},0,null,null,null,null,null,null,null,null,null,null,null,null,null,null,null,null,null,null,null,null,null,null,null,null,null,null,null,null,null,null,null,{"$f":"CC172&CD172&CE172&CF172","v":""},null,null,null,null,null,null,null,null,null,null,null,null,null,null,null,null,null,null,null,null,null,null,null,null,null,null,null,null,null,null,null,null,null,null,null,null,null,null,null,null,null,null,null,null,{"$f":"IF(AND(B172>0,AH172=\"\"),\" * No olvide digitar La variable Pueblos originarios, Digite CERO si no tiene.\",IF(AH172>B172,\" * La variable Pueblos originarios No puede ser mayor al Total.\",\"\"))","v":""},{"$f":"IF(AND(B172>0,AI172=\"\"),\" * No olvide digitar La variable Migrantes, Digite CERO si no tiene.\",IF(AI172>B172,\" * La variable Migrantes No puede ser mayor al Total.\",\"\"))","v":""},null,null,null,null,null,null,{"$f":"IF(AND(B172>0,AH172=\"\"),1,IF(AH172>B172,1,0))","v":0},{"$f":"IF(AND(B172>0,AI172=\"\"),1,IF(AI172>B172,1,0))","v":0}]
["Videollamadas",{"$f":"SUM(C173:D173)","v":0},0,0,null,null,null,null,null,null,null,null,null,null,null,null,null,null,null,null,null,null,null,null,null,null,null,null,null,null,null,null,null,null,null,{"$f":"CC173&CD173&CE173&CF173","v":""},null,null,null,null,null,null,null,null,null,null,null,null,null,null,null,null,null,null,null,null,null,null,null,null,null,null,null,null,null,null,null,null,null,null,null,null,null,null,null,null,null,null,null,null,{"$f":"IF(AND(B173>0,AH173=\"\"),\" * No olvide digitar La variable Pueblos originarios, Digite CERO si no tiene.\",IF(AH173>B173,\" * La variable Pueblos originarios No puede ser mayor al Total.\",\"\"))","v":""},{"$f":"IF(AND(B173>0,AI173=\"\"),\" * No olvide digitar La variable Migrantes, Digite CERO si no tiene.\",IF(AI173>B173,\" * La variable Migrantes No puede ser mayor al Total.\",\"\"))","v":""},null,null,null,null,null,null,{"$f":"IF(AND(B173>0,AH173=\"\"),1,IF(AH173>B173,1,0))","v":0},{"$f":"IF(AND(B173>0,AI173=\"\"),1,IF(AI173>B173,1,0))","v":0}]
["Contacto individual por mensaje electrónico",{"$f":"SUM(C174:D174)","v":0},0,{"$f":"+F174+H174+J174+L174+N174+P174+R174+T174+V174+X174+Z174+AB174+AD174+AF174","v":0},null,null,null,null,null,null,null,null,null,null,null,null,null,null,null,null,null,null,null,null,null,null,null,null,null,null,null,null,null,null,null,{"$f":"CC174&CD174&CE174&CF174","v":""},null,null,null,null,null,null,null,null,null,null,null,null,null,null,null,null,null,null,null,null,null,null,null,null,null,null,null,null,null,null,null,null,null,null,null,null,null,null,null,null,null,null,null,null,"","",null,null,null,null,null,null,0,0]
["Contacto grupal por mensaje electrónico"]
["SECCIÓN I: SEGUIMIENTO DE SALUD INFANTIL REMOTO"]
["PROFESIONALES","TOTAL ACCIONES","ACCIONES",null,"TOTAL USUARIOS","RANGO ETARIO"]
[null,null,"Llamadas Telefónicas","Video Llamadas",null,"1 mes","2 meses","3 meses","4 meses","5 meses","6 meses","7 - 11 meses","12 - 17 meses","18 - 23 meses","24 - 35 meses","36 - 41 meses","42 - 47 meses","48 - 59 meses","60 - 71 meses","6 - 9 años 11 meses"]
["Enfermera/o",{"$f":"SUM(C179:D179)","v":0},null,null,{"$f":"+F179+G179+H179+I179+K179+L179+M179+N179+O179+P179+Q179+R179+S179+T179","v":0}]
["Médico/a",{"$f":"SUM(C180:D180)","v":0},null,null,{"$f":"+F180+G180+H180+I180+K180+L180+M180+N180+O180+P180+Q180+R180+S180+T180","v":0}]
["Nutricionista",{"$f":"SUM(C181:D181)","v":0},null,null,{"$f":"SUM(F181:T181)","v":0}]
["Otro/a",{"$f":"SUM(C182:D182)","v":0},null,null,{"$f":"+F182+G182+H182+I182+K182+L182+M182+N182+O182+P182+Q182+R182+S182+T182","v":0}]
["SECCIÓN J: ATENCIÓN REMOTA ADOLESCENTE"]
[" CONTROL DE SALUD INTEGRAL","10 - 14 AÑOS",null,null,"15 - 19 AÑOS"]
[null,"Ambos Sexos","Hombres","Mujeres","Ambos Sexos","Hombres","Mujeres"]
["Epuipo de espacio Amigable",{"$f":"SUM(C186:D186)","v":0},null,null,{"$f":"SUM(F186:G186)","v":0}]
["Otro Equipo de Salud",{"$f":"SUM(C187:D187)","v":0},null,null,{"$f":"SUM(F187:G187)","v":0}]
["SECCION K: ATENCIONES REMOTAS EN MODALIDADES DE APOYO AL DESARROLLO INFANTIL (MADIS) EN APS"]
["ACTIVIDAD","TOTAL ACCIONES","TIPO DE ACCION PARA GENERAR ATENCIONES",null,null,"TOTAL USUARIOS","RANGO ETARIO"]
[null,null,"Telefónico","Videollamadas","Mensajería",null,"Menos de 7 meses","7-11 meses","12- 17 meses","18-23 meses","24-47 meses","48-59 meses"]
["Intervenciones de seguimiento efectivas",{"$f":"SUM(C191:D191)","v":0},null,null,null,{"$f":"SUM(G191:L191)","v":0}]
["Intervenciones de otro tipo",{"$f":"SUM(C192:E192)","v":0},null,null,null,{"$f":"SUM(G192:L192)","v":0}]
["Última sesión Término de Tratramiento",{"$f":"SUM(C193:D193)","v":0},null,null,null,{"$f":"SUM(G193:L193)","v":0}]
["SECCIÓN L:  EDUCACIÓN GRUPAL REMOTA SEGÚN ÁREAS TEMÁTICAS Y EDAD"]
["ÁREAS TEMÁTICAS DE PROMOCIÓN Y PREVENCIÓN",null,"TOTAL\n ACCIONES","TIPO DE ACCIÓN PARA GENERAR ATENCIONES",null,null,null,null,null,null,"MADRE, PADRE O CUIDADOR DE:"]
[null,null,null,"Telefónico","Videollamada grupal","Seminario-Radio","Plataforma Digital","TOTAL USUARIOS","Gestantes","Acompañante de gestante","Menores de 12 meses","Niños de 12 a 23 meses","Niños de 2 a 5 años","Niños de 5 a 9 años"]
["Habilidades Parentales","Nadie es Perfecto Remoto A",{"$f":"SUM(E197+G197)","v":0},null,null,null,null,{"$f":"+K197+L197+M197","v":0}]
[null,"Nadie es Perfecto Remoto B",{"$f":"SUM(D198+E198+G198)","v":0},null,null,null,null,{"$f":"SUM(I198:M198)","v":0}]
[null,"Nadie es Perfecto Seminario",{"$f":"+F199+G199","v":0},null,null,null,null,{"$f":"SUM(I199:M199)","v":0}]
[null,"Nadie es perfecto PASMI",{"$f":"SUM(D200:G200)","v":0},null,null,null,null,{"$f":"+N200","v":0}]
["SECCIÓN M: ACTIVIDADES PROGRAMA ELIGE VIDA SANA POR LLAMADA TELEFÓNICA "]
["ACTIVIDAD","Nº DE MENSAJES","Nº DE PARTICIPANTES","MADRE, PADRE O CUIDADOR DE:",null,"RANGO ETARIO",null,null,null,null,null,null,null,null,null,null,null,null,null,"Gestantes","Post Parto"]
[null,null,null,"Menores de 1 año","Niños 12 - 23 meses","Menos de 2 años","2 - 4 años","5 - 9 años","10 - 14 años","15 - 19 años","20-24 años","25 - 29 años","30 - 34 años","35 - 39 años","40 - 44 años","45 - 49 años","50 - 54 años","55 - 59 años","60 - 64 años"]
["Información de actividades físicas enviadas por teléfono",null,{"$f":"SUM(D204:S204)","v":0},null,null,null,null,null,null,null,null,null,null,null,null,null,null,null,null,null,null,{"$f":"CC204&CD204&CE204&CF204","v":""},null,null,null,null,null,null,null,null,null,null,null,null,null,null,null,null,null,null,null,null,null,null,null,null,null,null,null,null,null,null,null,null,null,null,null,null,null,null,null,null,null,null,null,null,null,null,null,null,null,null,null,null,null,null,null,null,null,null,{"$f":"IF(AND(T204=\"\",C204>0),\" * No olvide digitar la variable Gestantes . Digite CERO si no tiene\",\"\")","v":""},{"$f":"IF(AND(U204=\"\",C204>0),\" * No olvide digitar la variable Post Parto . Digite CERO si no tiene\",\"\")","v":""},{"$f":"IF((T204+U204)>C204,\" * La suma de las variables Gestantes + Post Parto No pueden ser mayor al Total de participantes.\",\"\")","v":""},null,null,null,null,null,{"$f":"IF(AND(T204=\"\",C204>0),1,0)","v":0},{"$f":"IF(AND(U204=\"\",C204>0),1,0)","v":0},{"$f":"IF((T204+U204)>C204,1,0)","v":0}]
["Información de Nutrición enviada por teléfono",null,{"$f":"SUM(D205:S205)","v":0},null,null,null,null,null,null,null,null,null,null,null,null,null,null,null,null,null,null,{"$f":"CC205&CD205&CE205&CF205","v":""},null,null,null,null,null,null,null,null,null,null,null,null,null,null,null,null,null,null,null,null,null,null,null,null,null,null,null,null,null,null,null,null,null,null,null,null,null,null,null,null,null,null,null,null,null,null,null,null,null,null,null,null,null,null,null,null,null,null,{"$f":"IF(AND(T205=\"\",C205>0),\" * No olvide digitar la variable Gestantes . Digite CERO si no tiene\",\"\")","v":""},{"$f":"IF(AND(U205=\"\",C205>0),\" * No olvide digitar la variable Post Parto . Digite CERO si no tiene\",\"\")","v":""},{"$f":"IF((T205+U205)>C205,\" * La suma de las variables Gestantes + Post Parto No pueden ser mayor al Total de participantes.\",\"\")","v":""},null,null,null,null,null,{"$f":"IF(AND(T205=\"\",C205>0),1,0)","v":0},{"$f":"IF(AND(U205=\"\",C205>0),1,0)","v":0},{"$f":"IF((T205+U205)>C205,1,0)","v":0}]
["Información por Psicólogos enviada por teléfono",null,{"$f":"SUM(D206:S206)","v":0},null,null,null,null,null,null,null,null,null,null,null,null,null,null,null,null,null,null,{"$f":"CC206&CD206&CE206&CF206","v":""},null,null,null,null,null,null,null,null,null,null,null,null,null,null,null,null,null,null,null,null,null,null,null,null,null,null,null,null,null,null,null,null,null,null,null,null,null,null,null,null,null,null,null,null,null,null,null,null,null,null,null,null,null,null,null,null,null,null,"","","",null,null,null,null,null,0,0,0]
["SECCIÓN N: ACTIVIDADES PROGRAMA ELIGE VIDA SANA POR REDES SOCIALES"]
["TALLER","N° DE ARCHIVOS MULTIMEDIA","MADRE, PADRE O CUIDADOR DE:",null,"RANGO ETARIO",null,null,null,null,null,"Gestantes","Post Parto"]
[null,null,"Menores de 1 año","Niños 12 a 23 meses","Menos de 2 años","2 - 4 años","5 - 9 años","10 - 14 años","15 - 19 años","20 - 64 años"]
["Videos de Actividad Física subido a las Redes Sociales",{"$f":"SUM(C210:J210)","v":0},null,null,null,null,null,null,null,null,null,null,{"$f":"CC210&CD210&CE210&CF210","v":""},null,null,null,null,null,null,null,null,null,null,null,null,null,null,null,null,null,null,null,null,null,null,null,null,null,null,null,null,null,null,null,null,null,null,null,null,null,null,null,null,null,null,null,null,null,null,null,null,null,null,null,null,null,null,null,null,null,null,null,null,null,null,null,null,null,null,null,{"$f":"IF(AND(K210=\"\",B210>0),\" * No olvide digitar la variable Gestantes . Digite CERO si no tiene\",\"\")","v":""},{"$f":"IF(AND(L210=\"\",B210>0),\" * No olvide digitar la variable Post Parto . Digite CERO si no tiene\",\"\")","v":""},{"$f":"IF((K210+L210)>C210,\" * La suma de las variables Gestantes + Post Parto No pueden ser mayor al Total de participantes.\",\"\")","v":""},null,null,null,null,null,{"$f":"IF(AND(K210=\"\",B210>0),1,0)","v":0},{"$f":"IF(AND(L210=\"\",B210>0),1,0)","v":0},{"$f":"IF((K210+L210)>C210,1,0)","v":0}]
["Videos de Vida Sana subido a las Redes Sociales",{"$f":"SUM(C211:J211)","v":0},null,null,null,null,null,null,null,null,null,null,{"$f":"CC211&CD211&CE211&CF211","v":""},null,null,null,null,null,null,null,null,null,null,null,null,null,null,null,null,null,null,null,null,null,null,null,null,null,null,null,null,null,null,null,null,null,null,null,null,null,null,null,null,null,null,null,null,null,null,null,null,null,null,null,null,null,null,null,null,null,null,null,null,null,null,null,null,null,null,null,{"$f":"IF(AND(K211=\"\",B211>0),\" * No olvide digitar la variable Gestantes . Digite CERO si no tiene\",\"\")","v":""},{"$f":"IF(AND(L211=\"\",B211>0),\" * No olvide digitar la variable Post Parto . Digite CERO si no tiene\",\"\")","v":""},{"$f":"IF((K211+L211)>C211,\" * La suma de las variables Gestantes + Post Parto No pueden ser mayor al Total de participantes.\",\"\")","v":""},null,null,null,null,null,{"$f":"IF(AND(K211=\"\",B211>0),1,0)","v":0},{"$f":"IF(AND(L211=\"\",B211>0),1,0)","v":0},{"$f":"IF((K211+L211)>C211,1,0)","v":0}]
["SECCIÓN O: APOYO TELEFÓNICO DEL PROGRAMA DE ACOMPAÑAMIENTO PSICOSOCIAL EN APS"]
["GRUPOS","TOTAL ACCIONES","RANGO ETAREO"]
[null,null,"0 - 4 años","5 - 9 años","10 - 14 años","15 - 19 años","20 - 24 años"]
["Acciones telefónicas realizadas (llamadas o mensajería)",{"$f":"SUM(C215:G215)","v":0}]
["SECCIÓN P: TELECONSULTA MEDICINA ABREVIADA "]
["TIPO DE CONSULTA ","MODALIDAD"]
[null,"Institucional","Compra de Servicio"]
[null,"Establecimiento de la Red","Sistema","Extrasistema"]
["Tratamiento anticoagulante oral"]
[]
[]
[]
[]
[]
[]
[]
[]
[]
[]
[]
[]
[]
[]
[]
[]
[]
[]
[]
[{"$f":"SUM(B11:B15,B21:B23,B28,B34:B93,C99:C108,B113:B115,B120:B122,B127:B129,C134:C155,C160:C167,B172:B174,B179:B182,E179:E182,B186:B187,E186:E187,B191:B193,F191:F193,C197:C200,H197:H200,C204:C206,B210:B211,B215,B220:D220)","v":0},{"$f":"SUM(CK11:CR220)","v":0}]

{"sheet":"A33","index":26,"n_rows":150,"n_cols":83,"rows_kept":150,"cut":false,"hidden":false,"merged":[[5,0,5,28],[7,0,7,40],[8,0,8,40],[9,0,11,1],[9,2,10,4],[9,5,9,38],[9,39,11,39],[9,40,11,40],[10,5,10,6],[10,7,10,8],[10,33,10,34],[10,35,10,36],[10,37,10,38],[12,0,34,0],[35,0,38,0],[39,0,39,37],[10,21,10,22],[10,23,10,24],[10,25,10,26],[10,27,10,28],[10,29,10,30],[10,31,10,32],[10,9,10,10],[10,11,10,12],[10,13,10,14],[10,15,10,16],[10,17,10,18],[10,19,10,20],[41,28,41,29],[41,30,41,31],[41,32,41,33],[41,34,41,35],[41,36,41,37],[55,0,55,40],[41,16,41,17],[41,18,41,19],[41,20,41,21],[41,22,41,23],[41,24,41,25],[41,26,41,27],[40,0,42,0],[40,1,41,3],[40,4,40,37],[40,38,41,48],[41,4,41,5],[41,6,41,7],[41,8,41,9],[41,10,41,11],[41,12,41,13],[41,14,41,15],[56,0,56,38],[57,0,59,1],[57,2,58,4],[57,5,57,38],[57,39,59,39],[57,40,59,40],[58,5,58,6],[58,7,58,8],[58,9,58,10],[58,11,58,12],[58,37,58,38],[58,25,58,26],[58,27,58,28],[58,29,58,30],[58,31,58,32],[58,33,58,34],[58,35,58,36],[58,13,58,14],[58,15,58,16],[58,17,58,18],[58,19,58,20],[58,21,58,22],[58,23,58,24],[60,0,82,0],[83,0,86,0],[87,0,87,37],[88,0,90,0],[88,1,89,3],[88,4,88,37],[88,38,89,48],[89,4,89,5],[89,6,89,7],[89,36,89,37],[89,30,89,31],[108,0,108,8],[109,1,109,4],[109,5,109,8],[113,0,113,6],[114,0,115,0],[114,1,114,2],[114,3,114,5],[89,32,89,33],[89,34,89,35],[103,0,103,8],[104,0,105,0],[104,1,104,4],[104,5,104,8],[89,20,89,21],[89,22,89,23],[89,24,89,25],[89,26,89,27],[89,28,89,29],[89,8,89,9],[89,10,89,11],[89,12,89,13],[89,14,89,15],[89,16,89,17],[89,18,89,19]]}
["SERVICIO DE SALUD"]
[{"$f":"CONCATENATE(\"COMUNA: \",NOMBRE!B2,\" - \",\"( \",NOMBRE!C2,NOMBRE!D2,NOMBRE!E2,NOMBRE!F2,NOMBRE!G2,\" )\")","v":"COMUNA:  - (  )"}]
[{"$f":"CONCATENATE(\"ESTABLECIMIENTO/ESTRATEGIA: \",NOMBRE!B3,\" - \",\"( \",NOMBRE!C3,NOMBRE!D3,NOMBRE!E3,NOMBRE!F3,NOMBRE!G3,NOMBRE!H3,\" )\")","v":"ESTABLECIMIENTO/ESTRATEGIA:  - (  )"}]
[{"$f":"CONCATENATE(\"MES: \",NOMBRE!B6,\" - \",\"( \",NOMBRE!C6,NOMBRE!D6,\" )\")","v":"MES:  - (  )"}]
[{"$f":"CONCATENATE(\"AÑO: \",NOMBRE!B7)","v":"AÑO: 2024"}]
["REM - A33. CUIDADOS PALIATIVOS NIVEL APS Y ESPECIALIDADES"]
[]
["SECCIÓN A:  NIVEL PRIMARIO "]
["SECCIÓN A1:  INGRESOS POR DIAGNÓSTICO Y EGRESO POR CAUSALES"]
["INGRESO Y EGRESO SEGÚN DIAGNÓSTICO ",null,"TOTAL",null,null,"RANGO ETARIO Y SEXO",null,null,null,null,null,null,null,null,null,null,null,null,null,null,null,null,null,null,null,null,null,null,null,null,null,null,null,null,null,null,null,null,null,"Pueblos originarios","Migrantes"]
[null,null,null,null,null,"0 - 4 años",null,"5 - 9 años",null,"10 - 14 años",null,"15 - 19 años",null,"20 - 24 años",null,"25-29 años",null,"30-34 años",null,"35 - 39 años",null,"40 - 44 años",null,"45- 49 años",null,"50 - 54 años",null,"55 - 59 años",null,"60 - 64 años",null,"65 - 69 años",null,"70 - 74 años",null,"75 - 79 años",null,"80 y más años"]
[null,null,"Ambos Sexos","Hombres","Mujeres","Hombres","Mujeres","Hombres","Mujeres","Hombres","Mujeres","Hombres","Mujeres","Hombres","Mujeres","Hombres","Mujeres","Hombres","Mujeres","Hombres","Mujeres","Hombres","Mujeres","Hombres","Mujeres","Hombres","Mujeres","Hombres","Mujeres","Hombres","Mujeres","Hombres","Mujeres","Hombres","Mujeres","Hombres","Mujeres","Hombres","Mujeres",null,"Mujeres"]
["Ingresos por diagnóstico con plan de tratamiento","Tumores malignos",{"$f":"SUM(D13:E13)","v":0},{"$f":"+F13+H13+J13+L13+N13+P13+R13+T13+V13++X13+Z13+AB13+AD13+AF13+AH13+AJ13+AL13","v":0},{"$f":"+G13+I13+K13+M13+O13+Q13+S13+U13+W13++Y13+AA13+AC13+AE13+AG13+AI13+AK13+AM13","v":0},null,null,null,null,null,null,null,null,null,null,null,null,null,null,null,null,null,null,null,null,null,null,null,null,null,null,null,null,null,null,null,null,null,null,null,null,{"$f":"CA13&CB13","v":""},null,null,null,null,null,null,null,null,null,null,null,null,null,null,null,null,null,null,null,null,null,null,null,null,null,null,null,null,null,null,null,null,null,null,null,null,{"$f":"IF(AND(C13>0,AN13=\"\"),\" * No olvide digitar la variable Pueblos Originarios. Digite cero si no tiene.\",IF(AN13>C13,\" * La variable pueblos originarios no puede ser mayor al Total Ambos Sexos.\",\"\"))","v":""},{"$f":"IF(AND(C13>0,AO13=\"\"),\" * No olvide digitar la variable Migrantes. Digite cero si no tiene.\",IF(AO13>C13,\" * La variable Migrantes no puede ser mayor al Total Ambos Sexos.\",\"\"))","v":""},null,{"$f":"IF(AND(C13>0,AN13=\"\"),1,IF(AN13>C13,1,0))","v":0},{"$f":"IF(AND(C13>0,AO13=\"\"),1,IF(AO13>C13,1,0))","v":0}]
[null,"Otros cáncer (incluye hematológicos)",{"$f":"SUM(D14:E14)","v":0},{"$f":"+F14+H14+J14+L14+N14+P14+R14+T14+V14++X14+Z14+AB14+AD14+AF14+AH14+AJ14+AL14","v":0},{"$f":"+G14+I14+K14+M14+O14+Q14+S14+U14+W14++Y14+AA14+AC14+AE14+AG14+AI14+AK14+AM14","v":0},null,null,null,null,null,null,null,null,null,null,null,null,null,null,null,null,null,null,null,null,null,null,null,null,null,null,null,null,null,null,null,null,null,null,null,null,{"$f":"CA14&CB14","v":""},null,null,null,null,null,null,null,null,null,null,null,null,null,null,null,null,null,null,null,null,null,null,null,null,null,null,null,null,null,null,null,null,null,null,null,null,"","",null,0,0]
[null,"Infección causada por VIH",0,{"$f":"+F15+H15+J15+L15+N15+P15+R15+T15+V15++X15+Z15+AB15+AD15+AF15+AH15+AJ15+AL15","v":0},0,null,null,null,null,null,null,null,null,null,null,null,null,null,null,null,null,null,null,null,null,null,null,null,null,null,null,null,null,null,null,null,null,null,null,null,null,"",null,null,null,null,null,null,null,null,null,null,null,null,null,null,null,null,null,null,null,null,null,null,null,null,null,null,null,null,null,null,null,null,null,null,null,null,"","",null,0,0]
[null,"Otras enfermedades infecciosas",0,0,0,null,null,null,null,null,null,null,null,null,null,null,null,null,null,null,null,null,null,null,null,null,null,null,null,null,null,null,null,null,null,null,null,null,null,null,null,"",null,null,null,null,null,null,null,null,null,null,null,null,null,null,null,null,null,null,null,null,null,null,null,null,null,null,null,null,null,null,null,null,null,null,null,null,"","",null,0,0]
[null,"Trastornos mentales orgánicos",0,0,0,null,null,null,null,null,null,null,null,null,null,null,null,null,null,null,null,null,null,null,null,null,null,null,null,null,null,null,null,null,null,null,null,null,null,null,null,"",null,null,null,null,null,null,null,null,null,null,null,null,null,null,null,null,null,null,null,null,null,null,null,null,null,null,null,null,null,null,null,null,null,null,null,null,"","",null,0,0]
[null,"Enfermedades extrapiramidales y/o del movimiento",0,0,0,null,null,null,null,null,null,null,null,null,null,null,null,null,null,null,null,null,null,null,null,null,null,null,null,null,null,null,null,null,null,null,null,null,null,null,null,"",null,null,null,null,null,null,null,null,null,null,null,null,null,null,null,null,null,null,null,null,null,null,null,null,null,null,null,null,null,null,null,null,null,null,null,null,"","",null,0,0]
[null,"Desmielinizantes del SNC",0,0,0,null,null,null,null,null,null,null,null,null,null,null,null,null,null,null,null,null,null,null,null,null,null,null,null,null,null,null,null,null,null,null,null,null,null,null,null,"",null,null,null,null,null,null,null,null,null,null,null,null,null,null,null,null,null,null,null,null,null,null,null,null,null,null,null,null,null,null,null,null,null,null,null,null,"","",null,0,0]
[null,"Neurodegenerativas",0,0,0,null,null,null,null,null,null,null,null,null,null,null,null,null,null,null,null,null,null,null,null,null,null,null,null,null,null,null,null,null,null,null,null,null,null,null,null,"",null,null,null,null,null,null,null,null,null,null,null,null,null,null,null,null,null,null,null,null,null,null,null,null,null,null,null,null,null,null,null,null,null,null,null,null,"","",null,0,0]
[null,"Parálisis cerebral severa",0,0,0,null,null,null,null,null,null,null,null,null,null,null,null,null,null,null,null,null,null,null,null,null,null,null,null,null,null,null,null,null,null,null,null,null,null,null,null,"",null,null,null,null,null,null,null,null,null,null,null,null,null,null,null,null,null,null,null,null,null,null,null,null,null,null,null,null,null,null,null,null,null,null,null,null,"","",null,0,0]
[null,"Cardiopatías congénitas o adquiridas",0,0,0,null,null,null,null,null,null,null,null,null,null,null,null,null,null,null,null,null,null,null,null,null,null,null,null,null,null,null,null,null,null,null,null,null,null,null,null,"",null,null,null,null,null,null,null,null,null,null,null,null,null,null,null,null,null,null,null,null,null,null,null,null,null,null,null,null,null,null,null,null,null,null,null,null,"","",null,0,0]
[null,"Insuficiencia cardíaca",0,0,0,null,null,null,null,null,null,null,null,null,null,null,null,null,null,null,null,null,null,null,null,null,null,null,null,null,null,null,null,null,null,null,null,null,null,null,null,"",null,null,null,null,null,null,null,null,null,null,null,null,null,null,null,null,null,null,null,null,null,null,null,null,null,null,null,null,null,null,null,null,null,null,null,null,"","",null,0,0]
[null,"Enfermedades sistema nervioso vascular o traumático (ACV-TEC)",0,0,0,null,null,null,null,null,null,null,null,null,null,null,null,null,null,null,null,null,null,null,null,null,null,null,null,null,null,null,null,null,null,null,null,null,null,null,null,"",null,null,null,null,null,null,null,null,null,null,null,null,null,null,null,null,null,null,null,null,null,null,null,null,null,null,null,null,null,null,null,null,null,null,null,null,"","",null,0,0]
[null,"EPOC",0,0,0,null,null,null,null,null,null,null,null,null,null,null,null,null,null,null,null,null,null,null,null,null,null,null,null,null,null,null,null,null,null,null,null,null,null,null,null,"",null,null,null,null,null,null,null,null,null,null,null,null,null,null,null,null,null,null,null,null,null,null,null,null,null,null,null,null,null,null,null,null,null,null,null,null,"","",null,0,0]
[null,"Otras pulmonares (restrictivas, vasculares)",0,0,0,null,null,null,null,null,null,null,null,null,null,null,null,null,null,null,null,null,null,null,null,null,null,null,null,null,null,null,null,null,null,null,null,null,null,null,null,"",null,null,null,null,null,null,null,null,null,null,null,null,null,null,null,null,null,null,null,null,null,null,null,null,null,null,null,null,null,null,null,null,null,null,null,null,"","",null,0,0]
[null,"Insuficiencia hepática",0,0,0,null,null,null,null,null,null,null,null,null,null,null,null,null,null,null,null,null,null,null,null,null,null,null,null,null,null,null,null,null,null,null,null,null,null,null,null,"",null,null,null,null,null,null,null,null,null,null,null,null,null,null,null,null,null,null,null,null,null,null,null,null,null,null,null,null,null,null,null,null,null,null,null,null,"","",null,0,0]
[null,"Enfermedad renal crónica",0,0,0,null,null,null,null,null,null,null,null,null,null,null,null,null,null,null,null,null,null,null,null,null,null,null,null,null,null,null,null,null,null,null,null,null,null,null,null,"",null,null,null,null,null,null,null,null,null,null,null,null,null,null,null,null,null,null,null,null,null,null,null,null,null,null,null,null,null,null,null,null,null,null,null,null,"","",null,0,0]
[null,"Malformaciones congénitas, deformidades y anomalías cromosómicas",0,0,0,null,null,null,null,null,null,null,null,null,null,null,null,null,null,null,null,null,null,null,null,null,null,null,null,null,null,null,null,null,null,null,null,null,null,null,null,"",null,null,null,null,null,null,null,null,null,null,null,null,null,null,null,null,null,null,null,null,null,null,null,null,null,null,null,null,null,null,null,null,null,null,null,null,"","",null,0,0]
[null,"Enfermedades autoinmunes e inmunodeficiencias severas",0,0,0,null,null,null,null,null,null,null,null,null,null,null,null,null,null,null,null,null,null,null,null,null,null,null,null,null,null,null,null,null,null,null,null,null,null,null,null,"",null,null,null,null,null,null,null,null,null,null,null,null,null,null,null,null,null,null,null,null,null,null,null,null,null,null,null,null,null,null,null,null,null,null,null,null,"","",null,0,0]
[null,"Enfermedades gastrointestinales",0,0,0,null,null,null,null,null,null,null,null,null,null,null,null,null,null,null,null,null,null,null,null,null,null,null,null,null,null,null,null,null,null,null,null,null,null,null,null,"",null,null,null,null,null,null,null,null,null,null,null,null,null,null,null,null,null,null,null,null,null,null,null,null,null,null,null,null,null,null,null,null,null,null,null,null,"","",null,0,0]
[null,"Prematurez",0,0,0,null,null,null,null,null,null,null,null,null,null,null,null,null,null,null,null,null,null,null,null,null,null,null,null,null,null,null,null,null,null,null,null,null,null,null,null,"",null,null,null,null,null,null,null,null,null,null,null,null,null,null,null,null,null,null,null,null,null,null,null,null,null,null,null,null,null,null,null,null,null,null,null,null,"","",null,0,0]
[null,"Enfermedades endocrinas, nutricionales y metabólicas",0,0,0,null,null,null,null,null,null,null,null,null,null,null,null,null,null,null,null,null,null,null,null,null,null,null,null,null,null,null,null,null,null,null,null,null,null,null,null,"",null,null,null,null,null,null,null,null,null,null,null,null,null,null,null,null,null,null,null,null,null,null,null,null,null,null,null,null,null,null,null,null,null,null,null,null,"","",null,0,0]
[null,"Alteraciones del tejido conjuntivo o musculoesquelético severos",0,0,0,null,null,null,null,null,null,null,null,null,null,null,null,null,null,null,null,null,null,null,null,null,null,null,null,null,null,null,null,null,null,null,null,null,null,null,null,"",null,null,null,null,null,null,null,null,null,null,null,null,null,null,null,null,null,null,null,null,null,null,null,null,null,null,null,null,null,null,null,null,null,null,null,null,"","",null,0,0]
[null,"Otras",0,0,0,null,null,null,null,null,null,null,null,null,null,null,null,null,null,null,null,null,null,null,null,null,null,null,null,null,null,null,null,null,null,null,null,null,null,null,null,"",null,null,null,null,null,null,null,null,null,null,null,null,null,null,null,null,null,null,null,null,null,null,null,null,null,null,null,null,null,null,null,null,null,null,null,null,"","",null,0,0]
["Egresos","Fallecimiento menor a 6 meses desde ingreso",0,0,0,null,null,null,null,null,null,null,null,null,null,null,null,null,null,null,null,null,null,null,null,null,null,null,null,null,null,null,null,null,null,null,null,null,null,null,null,"",null,null,null,null,null,null,null,null,null,null,null,null,null,null,null,null,null,null,null,null,null,null,null,null,null,null,null,null,null,null,null,null,null,null,null,null,"","",null,0,0]
[null,"Fallecimiento más de 6 meses y menos de un año del ingreso",{"$f":"SUM(D37:E37)","v":0},{"$f":"+F37+H37+J37+L37+N37+P37+R37+T37+V37++X37+Z37+AB37+AD37+AF37+AH37+AJ37+AL37","v":0},{"$f":"+G37+I37+K37+M37+O37+Q37+S37+U37+W37++Y37+AA37+AC37+AE37+AG37+AI37+AK37+AM37","v":0},null,null,null,null,null,null,null,null,null,null,null,null,null,null,null,null,null,null,null,null,null,null,null,null,null,null,null,null,null,null,null,null,null,null,null,null,"",null,null,null,null,null,null,null,null,null,null,null,null,null,null,null,null,null,null,null,null,null,null,null,null,null,null,null,null,null,null,null,null,null,null,null,null,"","",null,0,0]
[null,"Fallecimiento posterior a 12 meses del ingreso",0,0,0,null,null,null,null,null,null,null,null,null,null,null,null,null,null,null,null,null,null,null,null,null,null,null,null,null,null,null,null,null,null,null,null,null,null,null,null,"",null,null,null,null,null,null,null,null,null,null,null,null,null,null,null,null,null,null,null,null,null,null,null,null,null,null,null,null,null,null,null,null,null,null,null,null,"","",null,0,0]
[null,"Otra causal",0,0,0,null,null,null,null,null,null,null,null,null,null,null,null,null,null,null,null,null,null,null,null,null,null,null,null,null,null,null,null,null,null,null,null,null,null,null,null,"",null,null,null,null,null,null,null,null,null,null,null,null,null,null,null,null,null,null,null,null,null,null,null,null,null,null,null,null,null,null,null,null,null,null,null,null,"","",null,0,0]
["SECCIÓN A.2:  ACTIVIDADES NIVEL PRIMARIO "]
["ACTIVIDADES","TOTAL",null,null,"RANGO ETARIO Y SEXO",null,null,null,null,null,null,null,null,null,null,null,null,null,null,null,null,null,null,null,null,null,null,null,null,null,null,null,null,null,null,null,null,null,"Atenciones por Profesional o Técnico"]
[null,null,null,null,"0 - 4 años",null,"5 - 9 años",null,"10 - 14 años",null,"15 - 19 años",null,"20 - 24 años",null,"25-29 años",null,"30-34 años",null,"35 - 39 años",null,"40 - 44 años",null,"45- 49 años",null,"50 - 54 años",null,"55 - 59 años",null,"60 - 64 años",null,"65 - 69 años",null,"70 - 74 años",null,"75 - 79 años",null,"80 y más años"]
[null,"Ambos Sexos","Hombres","Mujeres","Hombres","Mujeres","Hombres","Mujeres","Hombres","Mujeres","Hombres","Mujeres","Hombres","Mujeres","Hombres","Mujeres","Hombres","Mujeres","Hombres","Mujeres","Hombres","Mujeres","Hombres","Mujeres","Hombres","Mujeres","Hombres","Mujeres","Hombres","Mujeres","Hombres","Mujeres","Hombres","Mujeres","Hombres","Mujeres","Hombres","Mujeres","Médico/a","Enfermera/o","Kinesiólogo/a","Técnico en Enfermería","Psicólogo/a","Quimico Farmacéutico","Nutricionista","Fonoaudiólogo/a","Terapeúta Ocupacional","Trabajador/a Social","Otro"]
["Visita Domiciliaria Integral (Elaboración o Evaluación Plan)",{"$f":"SUM(C44:D44)","v":0},{"$f":"+E44+G44+I44+K44+M44+O44+Q44+S44+U44+W44+Y44+AA44+AC44+AE44+AG44+AI44+AK44","v":0},{"$f":"+F44+H44+J44+L44+N44+P44+R44+T44+V44+X44+Z44+AB44+AD44+AF44+AH44+AJ44+AL44","v":0}]
["Visita Domiciliaria Tratamiento/Rehabilitación/Seguimiento",{"$f":"SUM(C45:D45)","v":0},{"$f":"+E45+G45+I45+K45+M45+O45+Q45+S45+U45+W45+Y45+AA45+AC45+AE45+AG45+AI45+AK45","v":0},0]
["Procedimientos de Enfermería",0,0,0]
["Control Ambulatorio",0,0,0]
["Consulta Telefónica",0,0,0]
["Atención Ambulatoria a Familiares",0,0,{"$f":"+F49+H49+J49+L49+N49+P49+R49+T49+V49+X49+Z49+AB49+AD49+AF49+AH49+AJ49+AL49","v":0}]
["Servicios Farmacéuticos",{"$f":"SUM(C50:D50)","v":0},0,0]
["Apoyo Psicológico al Usuario",0,0,0]
["Apoyo Social al Usuario",0,0,0]
["Apoyo Psicológico a Familia o Cuidadores",0,0,{"$f":"+F53+H53+J53+L53+N53+P53+R53+T53+V53+X53+Z53+AB53+AD53+AF53+AH53+AJ53+AL53","v":0}]
["Educación",0,0,{"$f":"+F54+H54+J54+L54+N54+P54+R54+T54+V54+X54+Z54+AB54+AD54+AF54+AH54+AJ54+AL54","v":0}]
["Apoyo en la Gestión de Manifestación de Voluntades Anticipadas",0,{"$f":"+E55+G55+I55+K55+M55+O55+Q55+S55+U55+W55+Y55+AA55+AC55+AE55+AG55+AI55+AK55","v":0},{"$f":"+F55+H55+J55+L55+N55+P55+R55+T55+V55+X55+Z55+AB55+AD55+AF55+AH55+AJ55+AL55","v":0}]
["SECCIÓN B:  NIVEL ESPECIALIDAD  "]
["SECCIÓN B1:  INGRESOS POR DIAGNÓSTICO Y EGRESO POR CAUSALES"]
["INGRESO Y EGRESO SEGÚN DIAGNÓSTICO ",null,"TOTAL",null,null,"RANGO ETARIO Y SEXO",null,null,null,null,null,null,null,null,null,null,null,null,null,null,null,null,null,null,null,null,null,null,null,null,null,null,null,null,null,null,null,null,null,"Pueblos originarios","Migrantes"]
[null,null,null,null,null,"0 - 4 años",null,"5 - 9 años",null,"10 - 14",null,"15 - 19 ",null,"20 - 24 ",null,"25-29",null,"30-34",null,"35 - 39",null,"40 - 44",null,"45- 49",null,"50 - 54",null,"55 - 59",null,"60 - 64",null,"65 - 69",null,"70 - 74",null,"75 - 79",null,"80 y más"]
[null,null,"Ambos Sexos","Hombres","Mujeres","Hombres","Mujeres","Hombres","Mujeres","Hombres","Mujeres","Hombres","Mujeres","Hombres","Mujeres","Hombres","Mujeres","Hombres","Mujeres","Hombres","Mujeres","Hombres","Mujeres","Hombres","Mujeres","Hombres","Mujeres","Hombres","Mujeres","Hombres","Mujeres","Hombres","Mujeres","Hombres","Mujeres","Hombres","Mujeres","Hombres","Mujeres",null,"Mujeres"]
["Ingresos por diagnóstico con plan de tratamiento","Tumores malignos",{"$f":"SUM(D61:E61)","v":0},{"$f":"+F61+H61+J61+L61+N61+P61+R61+T61+V61+X61+Z61+AB61+AD61+AF61+AH61+AJ61+AL61","v":0},{"$f":"+G61+I61+K61+M61+O61+Q61+S61+U61+W61+Y61+AA61+AC61+AE61+AG61+AI61+AK61+AM61","v":0},null,null,null,null,null,null,null,null,null,null,null,null,null,null,null,null,null,null,null,null,null,null,null,null,null,null,null,null,null,null,null,null,null,null,null,null,{"$f":"CA61&CB61","v":""},null,null,null,null,null,null,null,null,null,null,null,null,null,null,null,null,null,null,null,null,null,null,null,null,null,null,null,null,null,null,null,null,null,null,null,null,{"$f":"IF(AND(C61>0,AN61=\"\"),\" * No olvide digitar la variable Pueblos Originarios. Digite cero si no tiene.\",IF(AN61>C61,\" * La variable pueblos originarios no puede ser mayor al Total Ambos Sexos.\",\"\"))","v":""},{"$f":"IF(AND(C61>0,AO61=\"\"),\" * No olvide digitar la variable Migrantes. Digite cero si no tiene.\",IF(AO61>C61,\" * La variable Migrantes no puede ser mayor al Total Ambos Sexos.\",\"\"))","v":""},null,{"$f":"IF(AND(C61>0,AN61=\"\"),1,IF(AN61>C61,1,0))","v":0},{"$f":"IF(AND(C61>0,AO61=\"\"),1,IF(AO61>C61,1,0))","v":0}]
[null,"Otros cáncer (incluye hematológicos)",{"$f":"SUM(D62:E62)","v":0},{"$f":"+F62+H62+J62+L62+N62+P62+R62+T62+V62+X62+Z62+AB62+AD62+AF62+AH62+AJ62+AL62","v":0},{"$f":"+G62+I62+K62+M62+O62+Q62+S62+U62+W62+Y62+AA62+AC62+AE62+AG62+AI62+AK62+AM62","v":0},null,null,null,null,null,null,null,null,null,null,null,null,null,null,null,null,null,null,null,null,null,null,null,null,null,null,null,null,null,null,null,null,null,null,null,null,{"$f":"CA62&CB62","v":""},null,null,null,null,null,null,null,null,null,null,null,null,null,null,null,null,null,null,null,null,null,null,null,null,null,null,null,null,null,null,null,null,null,null,null,null,"","",null,0,0]
[null,"Infección causada por VIH",0,0,0,null,null,null,null,null,null,null,null,null,null,null,null,null,null,null,null,null,null,null,null,null,null,null,null,null,null,null,null,null,null,null,null,null,null,null,null,"",null,null,null,null,null,null,null,null,null,null,null,null,null,null,null,null,null,null,null,null,null,null,null,null,null,null,null,null,null,null,null,null,null,null,null,null,"","",null,0,0]
[null,"Otras enfermedades infecciosas",0,0,0,null,null,null,null,null,null,null,null,null,null,null,null,null,null,null,null,null,null,null,null,null,null,null,null,null,null,null,null,null,null,null,null,null,null,null,null,"",null,null,null,null,null,null,null,null,null,null,null,null,null,null,null,null,null,null,null,null,null,null,null,null,null,null,null,null,null,null,null,null,null,null,null,null,"","",null,0,0]
[null,"Trastornos mentales orgánicos",0,0,{"$f":"+G65+I65+K65+M65+O65+Q65+S65+U65+W65+Y65+AA65+AC65+AE65+AG65+AI65+AK65+AM65","v":0},null,null,null,null,null,null,null,null,null,null,null,null,null,null,null,null,null,null,null,null,null,null,null,null,null,null,null,null,null,null,null,null,null,null,null,null,"",null,null,null,null,null,null,null,null,null,null,null,null,null,null,null,null,null,null,null,null,null,null,null,null,null,null,null,null,null,null,null,null,null,null,null,null,"","",null,0,0]
[null,"Enfermedades extrapiramidales y/o del movimiento",0,0,0,null,null,null,null,null,null,null,null,null,null,null,null,null,null,null,null,null,null,null,null,null,null,null,null,null,null,null,null,null,null,null,null,null,null,null,null,"",null,null,null,null,null,null,null,null,null,null,null,null,null,null,null,null,null,null,null,null,null,null,null,null,null,null,null,null,null,null,null,null,null,null,null,null,"","",null,0,0]
[null,"Desmielinizantes del SNC",{"$f":"SUM(D67:E67)","v":0},0,0,null,null,null,null,null,null,null,null,null,null,null,null,null,null,null,null,null,null,null,null,null,null,null,null,null,null,null,null,null,null,null,null,null,null,null,null,"",null,null,null,null,null,null,null,null,null,null,null,null,null,null,null,null,null,null,null,null,null,null,null,null,null,null,null,null,null,null,null,null,null,null,null,null,"","",null,0,0]
[null,"Neurodegenerativas",0,0,0,null,null,null,null,null,null,null,null,null,null,null,null,null,null,null,null,null,null,null,null,null,null,null,null,null,null,null,null,null,null,null,null,null,null,null,null,"",null,null,null,null,null,null,null,null,null,null,null,null,null,null,null,null,null,null,null,null,null,null,null,null,null,null,null,null,null,null,null,null,null,null,null,null,"","",null,0,0]
[null,"Parálisis cerebral severa",0,0,0,null,null,null,null,null,null,null,null,null,null,null,null,null,null,null,null,null,null,null,null,null,null,null,null,null,null,null,null,null,null,null,null,null,null,null,null,"",null,null,null,null,null,null,null,null,null,null,null,null,null,null,null,null,null,null,null,null,null,null,null,null,null,null,null,null,null,null,null,null,null,null,null,null,"","",null,0,0]
[null,"Cardiopatías congénitas o adquiridas",0,0,0,null,null,null,null,null,null,null,null,null,null,null,null,null,null,null,null,null,null,null,null,null,null,null,null,null,null,null,null,null,null,null,null,null,null,null,null,"",null,null,null,null,null,null,null,null,null,null,null,null,null,null,null,null,null,null,null,null,null,null,null,null,null,null,null,null,null,null,null,null,null,null,null,null,"","",null,0,0]
[null,"Insuficiencia cardíaca",0,0,{"$f":"+G71+I71+K71+M71+O71+Q71+S71+U71+W71+Y71+AA71+AC71+AE71+AG71+AI71+AK71+AM71","v":0},null,null,null,null,null,null,null,null,null,null,null,null,null,null,null,null,null,null,null,null,null,null,null,null,null,null,null,null,null,null,null,null,null,null,null,null,"",null,null,null,null,null,null,null,null,null,null,null,null,null,null,null,null,null,null,null,null,null,null,null,null,null,null,null,null,null,null,null,null,null,null,null,null,"","",null,0,0]
[null,"Enfermedades sistema nervioso vascular o traumático (ACV-TEC)",{"$f":"SUM(D72:E72)","v":0},0,0,null,null,null,null,null,null,null,null,null,null,null,null,null,null,null,null,null,null,null,null,null,null,null,null,null,null,null,null,null,null,null,null,null,null,null,null,"",null,null,null,null,null,null,null,null,null,null,null,null,null,null,null,null,null,null,null,null,null,null,null,null,null,null,null,null,null,null,null,null,null,null,null,null,"","",null,0,0]
[null,"EPOC",0,0,0,null,null,null,null,null,null,null,null,null,null,null,null,null,null,null,null,null,null,null,null,null,null,null,null,null,null,null,null,null,null,null,null,null,null,null,null,"",null,null,null,null,null,null,null,null,null,null,null,null,null,null,null,null,null,null,null,null,null,null,null,null,null,null,null,null,null,null,null,null,null,null,null,null,"","",null,0,0]
[null,"Otras pulmonares (restrictivas, vasculares)",0,0,0,null,null,null,null,null,null,null,null,null,null,null,null,null,null,null,null,null,null,null,null,null,null,null,null,null,null,null,null,null,null,null,null,null,null,null,null,"",null,null,null,null,null,null,null,null,null,null,null,null,null,null,null,null,null,null,null,null,null,null,null,null,null,null,null,null,null,null,null,null,null,null,null,null,"","",null,0,0]
[null,"Insuficiencia hepática",{"$f":"SUM(D75:E75)","v":0},{"$f":"+F75+H75+J75+L75+N75+P75+R75+T75+V75+X75+Z75+AB75+AD75+AF75+AH75+AJ75+AL75","v":0},0,null,null,null,null,null,null,null,null,null,null,null,null,null,null,null,null,null,null,null,null,null,null,null,null,null,null,null,null,null,null,null,null,null,null,null,null,"",null,null,null,null,null,null,null,null,null,null,null,null,null,null,null,null,null,null,null,null,null,null,null,null,null,null,null,null,null,null,null,null,null,null,null,null,"","",null,0,0]
[null,"Enfermedad renal crónica",0,0,0,null,null,null,null,null,null,null,null,null,null,null,null,null,null,null,null,null,null,null,null,null,null,null,null,null,null,null,null,null,null,null,null,null,null,null,null,"",null,null,null,null,null,null,null,null,null,null,null,null,null,null,null,null,null,null,null,null,null,null,null,null,null,null,null,null,null,null,null,null,null,null,null,null,"","",null,0,0]
[null,"Malformaciones congénitas, deformidades y anomalías cromosómicas",0,0,0,null,null,null,null,null,null,null,null,null,null,null,null,null,null,null,null,null,null,null,null,null,null,null,null,null,null,null,null,null,null,null,null,null,null,null,null,"",null,null,null,null,null,null,null,null,null,null,null,null,null,null,null,null,null,null,null,null,null,null,null,null,null,null,null,null,null,null,null,null,null,null,null,null,"","",null,0,0]
[null,"Enfermedades autoinmunes e inmunodeficiencias severas",{"$f":"SUM(D78:E78)","v":0},0,0,null,null,null,null,null,null,null,null,null,null,null,null,null,null,null,null,null,null,null,null,null,null,null,null,null,null,null,null,null,null,null,null,null,null,null,null,"",null,null,null,null,null,null,null,null,null,null,null,null,null,null,null,null,null,null,null,null,null,null,null,null,null,null,null,null,null,null,null,null,null,null,null,null,"","",null,0,0]
[null,"Enfermedades gastrointestinales",0,0,0,null,null,null,null,null,null,null,null,null,null,null,null,null,null,null,null,null,null,null,null,null,null,null,null,null,null,null,null,null,null,null,null,null,null,null,null,"",null,null,null,null,null,null,null,null,null,null,null,null,null,null,null,null,null,null,null,null,null,null,null,null,null,null,null,null,null,null,null,null,null,null,null,null,"","",null,0,0]
[null,"Prematurez",0,0,0,null,null,null,null,null,null,null,null,null,null,null,null,null,null,null,null,null,null,null,null,null,null,null,null,null,null,null,null,null,null,null,null,null,null,null,null,"",null,null,null,null,null,null,null,null,null,null,null,null,null,null,null,null,null,null,null,null,null,null,null,null,null,null,null,null,null,null,null,null,null,null,null,null,"","",null,0,0]
[null,"Enfermedades endocrinas, nutricionales y metabólicas",0,0,0,null,null,null,null,null,null,null,null,null,null,null,null,null,null,null,null,null,null,null,null,null,null,null,null,null,null,null,null,null,null,null,null,null,null,null,null,"",null,null,null,null,null,null,null,null,null,null,null,null,null,null,null,null,null,null,null,null,null,null,null,null,null,null,null,null,null,null,null,null,null,null,null,null,"","",null,0,0]
[null,"Alteraciones del tejido conjuntivo o musculoesquelético severos",{"$f":"SUM(D82:E82)","v":0},{"$f":"+F82+H82+J82+L82+N82+P82+R82+T82+V82+X82+Z82+AB82+AD82+AF82+AH82+AJ82+AL82","v":0},0,null,null,null,null,null,null,null,null,null,null,null,null,null,null,null,null,null,null,null,null,null,null,null,null,null,null,null,null,null,null,null,null,null,null,null,null,"",null,null,null,null,null,null,null,null,null,null,null,null,null,null,null,null,null,null,null,null,null,null,null,null,null,null,null,null,null,null,null,null,null,null,null,null,"","",null,0,0]
[null,"Otras",0,0,0,null,null,null,null,null,null,null,null,null,null,null,null,null,null,null,null,null,null,null,null,null,null,null,null,null,null,null,null,null,null,null,null,null,null,null,null,"",null,null,null,null,null,null,null,null,null,null,null,null,null,null,null,null,null,null,null,null,null,null,null,null,null,null,null,null,null,null,null,null,null,null,null,null,"","",null,0,0]
["Egresos","Fallecimiento menor a 6 meses desde ingreso",0,0,{"$f":"+G84+I84+K84+M84+O84+Q84+S84+U84+W84+Y84+AA84+AC84+AE84+AG84+AI84+AK84+AM84","v":0},null,null,null,null,null,null,null,null,null,null,null,null,null,null,null,null,null,null,null,null,null,null,null,null,null,null,null,null,null,null,null,null,null,null,null,null,"",null,null,null,null,null,null,null,null,null,null,null,null,null,null,null,null,null,null,null,null,null,null,null,null,null,null,null,null,null,null,null,null,null,null,null,null,"","",null,0,0]
[null,"Fallecimiento más de 6 meses y menos de un año del ingreso",0,0,0,null,null,null,null,null,null,null,null,null,null,null,null,null,null,null,null,null,null,null,null,null,null,null,null,null,null,null,null,null,null,null,null,null,null,null,null,"",null,null,null,null,null,null,null,null,null,null,null,null,null,null,null,null,null,null,null,null,null,null,null,null,null,null,null,null,null,null,null,null,null,null,null,null,"","",null,0,0]
[null,"Fallecimiento posterior a 12 meses del ingreso",0,0,0,null,null,null,null,null,null,null,null,null,null,null,null,null,null,null,null,null,null,null,null,null,null,null,null,null,null,null,null,null,null,null,null,null,null,null,null,"",null,null,null,null,null,null,null,null,null,null,null,null,null,null,null,null,null,null,null,null,null,null,null,null,null,null,null,null,null,null,null,null,null,null,null,null,"","",null,0,0]
[null,"Otras causal",0,0,0,null,null,null,null,null,null,null,null,null,null,null,null,null,null,null,null,null,null,null,null,null,null,null,null,null,null,null,null,null,null,null,null,null,null,null,null,"",null,null,null,null,null,null,null,null,null,null,null,null,null,null,null,null,null,null,null,null,null,null,null,null,null,null,null,null,null,null,null,null,null,null,null,null,"","",null,0,0]
["SECCIÓN B.2:  ACTIVIDADES NIVEL ESPECIALIDAD  "]
["ACTIVIDADES","TOTAL",null,null,"RANGO ETARIO Y SEXO",null,null,null,null,null,null,null,null,null,null,null,null,null,null,null,null,null,null,null,null,null,null,null,null,null,null,null,null,null,null,null,null,null,"Atenciones por Profesional o Técnico"]
[null,null,null,null,"0 - 4 años",null,"5 - 9 años",null,"10 - 14 años",null,"15 - 19 años",null,"20 - 24 años",null,"25-29 años",null,"30-34 años",null,"35 - 39 años",null,"40 - 44 años",null,"45- 49 años",null,"50 - 54 años",null,"55 - 59 años",null,"60 - 64 años",null,"65 - 69 años",null,"70 - 74 años",null,"75 - 79 años",null,"80 y más años"]
[null,"Ambos Sexos","Hombres","Mujeres","Hombres","Mujeres","Hombres","Mujeres","Hombres","Mujeres","Hombres","Mujeres","Hombres","Mujeres","Hombres","Mujeres","Hombres","Mujeres","Hombres","Mujeres","Hombres","Mujeres","Hombres","Mujeres","Hombres","Mujeres","Hombres","Mujeres","Hombres","Mujeres","Hombres","Mujeres","Hombres","Mujeres","Hombres","Mujeres","Hombres","Mujeres","Médico/a del Programa ","Enfermera/a  ","Técnico en Enfermería ","Kinesiólogo/a","Psicologo/a","Quimico Farmacéutico","Nutricionista","Fonoaudiólogo ","Terapauta Ocupacional ","Trabajador/a Social","Otros"]
["Consulta Nueva",{"$f":"SUM(C92:D92)","v":0},{"$f":"SUM(E92,G92,I92,K92,M92,O92,Q92,S92,U92,W92,Y92,AA92,AC92,AE92,AG92,AI92,AK92)","v":0},{"$f":"SUM(F92,H92,J92,L92,N92,P92,R92,T92,V92,X92,Z92,AB92,AD92,AF92,AH92,AJ92,AL92)","v":0}]
["Consulta Control",{"$f":"SUM(C93:D93)","v":0},{"$f":"SUM(E93,G93,I93,K93,M93,O93,Q93,S93,U93,W93,Y93,AA93,AC93,AE93,AG93,AI93,AK93)","v":0},0]
["Visita Domiciliaria",0,{"$f":"SUM(E94,G94,I94,K94,M94,O94,Q94,S94,U94,W94,Y94,AA94,AC94,AE94,AG94,AI94,AK94)","v":0},{"$f":"SUM(F94,H94,J94,L94,N94,P94,R94,T94,V94,X94,Z94,AB94,AD94,AF94,AH94,AJ94,AL94)","v":0}]
["Interconsulta en Sala",0,{"$f":"SUM(E95,G95,I95,K95,M95,O95,Q95,S95,U95,W95,Y95,AA95,AC95,AE95,AG95,AI95,AK95)","v":0},{"$f":"SUM(F95,H95,J95,L95,N95,P95,R95,T95,V95,X95,Z95,AB95,AD95,AF95,AH95,AJ95,AL95)","v":0}]
["Atención Farmacéutica",0,0,0]
["Procedimientos",{"$f":"SUM(C97:D97)","v":0},0,0]
["Educación ",0,0,0]
["Contacto telefónico",0,0,{"$f":"SUM(F99,H99,J99,L99,N99,P99,R99,T99,V99,X99,Z99,AB99,AD99,AF99,AH99,AJ99,AL99)","v":0}]
["Consulta  Salud Mental Usuario ",0,0,0]
["Consulta Salud mental al Cuidador o Familiar ",{"$f":"SUM(C101:D101)","v":0},0,0]
["Apoyo social al Usuario ",0,{"$f":"SUM(E102,G102,I102,K102,M102,O102,Q102,S102,U102,W102,Y102,AA102,AC102,AE102,AG102,AI102,AK102)","v":0},0]
["Apoyo en la Gestión de manifestación de voluntades anticipadas ",0,0,0]
["SECCION C: CAPACITACIONES DE EQUIPOS (INTRA Y ENTRE EQUIPOS)"]
["ACTIVIDADES","Atención Primaria de Salud",null,null,null,"Destino Hospitalario"]
[null,"Nº Sesiones ","Nº Participantes ","Modalidad Remota","Modalidad Presencial","Nº Sesiones ","Nº Participantes","Modalidad Remota","Modalidad Presencial"]
["Desde Especialidad"]
["Desde APS (Atención Primaria de Salud)"]
["SECCION D: TELECOMITÉS"]
[null,"Atención Primaria de Salud",null,null,null,"Destino Hospitalario"]
[null,"Nº Sesiones ","Nº Participantes ","Modalidad Remota","Modalidad Presencial","Nº Sesiones ","Nº Participantes","Modalidad Remota","Modalidad Presencial"]
["Entre Especialistas"]
["Con la RED"]
["SECCIÓN E:  REQUERIMIENTO DERIVACIÓN Y/O ATENCIÓN DE URGENCIA"]
["DERIVACIONES","Atención Primaria de Salud",null,"Nivel Hospitalario",null,null,"Urgencia Hospitalaria"]
[null,"Domicilio","SAPU-SAR","Ambulatorio","Hospitalización Domiciliaria","Atención Cerrada","SUH"]
["Derivación desde Especialidad "]
["Derivación desde APS (Atención Primaria de Salud) "]
["Derivación desde Hospitalización "]
["Derivación desde Urgencia "]
[]
[]
[]
[]
[]
[]
[]
[]
[]
[]
[]
[]
[]
[]
[]
[]
[]
[]
[]
[]
[]
[]
[]
[]
[]
[]
[]
[]
[]
[{"$f":"SUM(C13:C39,B44:B55,C61:C87,B92:B103,B107:I108,B112:I113,B117:G120)","v":0},{"$f":"SUM(CD13:CE103)","v":0}]

{"sheet":"Control","index":27,"n_rows":31,"n_cols":5,"rows_kept":31,"cut":false,"hidden":false,"merged":[[0,2,0,4]]}
[null,null,"NUMERO DE ERRORES Y COMPLETITUD DE REM SERIE A"]
[null,null,{"$f":"CONCATENATE(\"ESTABLECIMIENTO: \",NOMBRE!B3,\" - \",NOMBRE!C3,NOMBRE!D3,NOMBRE!E3,NOMBRE!F3,NOMBRE!G3,NOMBRE!H3,NOMBRE!I3,\" \n  \",\" / MES:  \",NOMBRE!B6,\"  / AÑO:  \",NOMBRE!B7)","v":"ESTABLECIMIENTO:  - Falta Cód. Est. \n   / MES:    / AÑO:  2024"}]
[null,null,"REM","Nº ERRORES","REM\nSIN DATOS"]
[null,null,"HOJA NOMBRE",{"$f":"NOMBRE!A32","v":3}]
[null,null,"REM A01",{"$f":"'A01'!B151","v":0},{"$f":"IF('A01'!A151=0,\"SIN DATOS\",\"\")","v":"SIN DATOS"}]
[null,null,"REM A02",{"$f":"'A02'!B51","v":0},{"$f":"IF('A02'!A51=0,\"SIN DATOS\",\"\")","v":"SIN DATOS"}]
[null,null,"REM A03",{"$f":"'A03'!B346","v":0},{"$f":"IF('A03'!A346=0,\"SIN DATOS\",\"\")","v":"SIN DATOS"}]
[null,null,"REM A04",{"$f":"'A04'!B200","v":0},{"$f":"IF('A04'!A200=0,\"SIN DATOS\",\"\")","v":"SIN DATOS"}]
[null,null,"REM A05",{"$f":"'A05'!B400","v":0},{"$f":"IF('A05'!A400=0,\"SIN DATOS\",\"\")","v":"SIN DATOS"}]
[null,null,"REM A06",{"$f":"'A06'!B197","v":0},{"$f":"IF('A06'!A197=0,\"SIN DATOS\",\"\")","v":"SIN DATOS"}]
[null,null,"REM A07",{"$f":"'A07'!B249","v":0},{"$f":"IF('A07'!A249=0,\"SIN DATOS\",\"\")","v":"SIN DATOS"}]
[null,null,"REM A08",{"$f":"'A08'!B248","v":0},{"$f":"IF('A08'!A248=0,\"SIN DATOS\",\"\")","v":"SIN DATOS"}]
[null,null,"REM A09",{"$f":"'A09'!B350","v":0},{"$f":"IF('A09'!A350=0,\"SIN DATOS\",\"\")","v":"SIN DATOS"}]
[null,null,"REM A11",{"$f":"'A11'!B350","v":0},{"$f":"IF('A11'!A350=0,\"SIN DATOS\",\"\")","v":"SIN DATOS"}]
[null,null,"REM A11a",{"$f":"A11a!B150","v":0},{"$f":"IF(A11a!A150=0,\"SIN DATOS\",\"\")","v":"SIN DATOS"}]
[null,null,"REM A19a",{"$f":"A19a!B207","v":0},{"$f":"IF(A19a!A207=0,\"SIN DATOS\",\"\")","v":"SIN DATOS"}]
[null,null,"REM A19b",{"$f":"A19b!B90","v":0},{"$f":"IF(A19b!A90=0,\"SIN DATOS\",\"\")","v":"SIN DATOS"}]
[null,null,"REM A21",{"$f":"'A21'!B201","v":0},{"$f":"IF('A21'!A201=0,\"SIN DATOS\",\"\")","v":"SIN DATOS"}]
[null,null,"REM A23",{"$f":"'A23'!B215","v":0},{"$f":"IF('A23'!A215=0,\"SIN DATOS\",\"\")","v":"SIN DATOS"}]
[null,null,"REM A24",{"$f":"'A24'!B160","v":0},{"$f":"IF('A24'!A160=0,\"SIN DATOS\",\"\")","v":"SIN DATOS"}]
[null,null,"REM A25",{"$f":"'A25'!B320","v":0},{"$f":"IF('A25'!A320=0,\"SIN DATOS\",\"\")","v":"SIN DATOS"}]
[null,null,"REM A26",{"$f":"'A26'!B149","v":0},{"$f":"IF('A26'!A149=0,\"SIN DATOS\",\"\")","v":"SIN DATOS"}]
[null,null,"REM A27",{"$f":"'A27'!B229","v":0},{"$f":"IF('A27'!A229=0,\"SIN DATOS\",\"\")","v":"SIN DATOS"}]
[null,null,"REM A28",{"$f":"'A28'!B349","v":0},{"$f":"IF('A28'!A349=0,\"SIN DATOS\",\"\")","v":"SIN DATOS"}]
[null,null,"REM A29",{"$f":"'A29'!B198","v":0},{"$f":"IF('A29'!A198=0,\"SIN DATOS\",\"\")","v":"SIN DATOS"}]
[null,null,"REM A30",{"$f":"'A30'!B180","v":0},{"$f":"IF('A30'!A180=0,\"SIN DATOS\",\"\")","v":"SIN DATOS"}]
[null,null,"REM A30AR",{"$f":"A30AR!B150","v":0},{"$f":"IF(A30AR!A150=0,\"SIN DATOS\",\"\")","v":"SIN DATOS"}]
[null,null,"REM A31",{"$f":"'A31'!B130","v":0},{"$f":"IF('A31'!A130=0,\"SIN DATOS\",\"\")","v":"SIN DATOS"}]
[null,null,"REM A32",{"$f":"'A32'!B240","v":0},{"$f":"IF('A32'!A240=0,\"SIN DATOS\",\"\")","v":"SIN DATOS"}]
[null,null,"REM A33",{"$f":"'A33'!B150","v":0},{"$f":"IF('A33'!A150=0,\"SIN DATOS\",\"\")","v":"SIN DATOS"}]
[null,null,"TOTAL",{"$f":"SUM(D4:D30)","v":3}]

{"sheet":"MACROS","index":28,"n_rows":10,"n_cols":2,"rows_kept":10,"cut":false,"hidden":false,"merged":[[0,0,0,5],[6,1,7,4]]}
["Macros"]
[]
[{"$f":"CONCATENATE(\"ESTABLECIMIENTO: \",NOMBRE!B3,\" - \",NOMBRE!C3,NOMBRE!D3,NOMBRE!E3,NOMBRE!F3,NOMBRE!G3,NOMBRE!H3,NOMBRE!I3,\" \n  \",\" / MES:  \",NOMBRE!B6,\"  / AÑO:  \",NOMBRE!B7)","v":"ESTABLECIMIENTO:  - Falta Cód. Est. \n   / MES:    / AÑO:  2024"}]
[]
[null,"CREA UNA COPIA  DEL ARCHIVO  (TRANFORMA HOJAS A VALORES)"]
[]
[null,{"$f":"IF(Control!D31>0,\"ANTES DE EJECUTAR LA MACRO REVISE LA HOJA CONTROL, EXISTEN ERRORES\",\"\")","v":"ANTES DE EJECUTAR LA MACRO REVISE LA HOJA CONTROL, EXISTEN ERRORES"}]
[]
[]
[null,"Contraseña para copia del archivo :DEIS"]